{"text_format":"1","workbook":"xlsx","n_sheets":4,"sheets":["LOG","Database","nuovo","istruzioni"],"not_rendered":{"charts":0,"images":21,"macros":1,"external_links":0,"defined_names":0,"comments":2,"pivot_tables":0},"unopened":[],"bounds":{"document_bytes":16777216,"sheet_cells":100000,"rows_first":2000,"rows_last":500,"rows_between":2000,"halvings":0,"cell_chars":16384,"cell_head_chars":4096},"cells_cut":0,"cells_raw":0,"read":"whole","date_system":"1900"}

{"sheet":"LOG","index":0,"n_rows":6002,"n_cols":30,"rows_kept":2250,"cut":true,"hidden":false,"merged":[[20,12,20,13],[21,12,21,13],[23,12,23,13],[17,12,18,13],[16,12,16,13],[56,12,56,13],[50,12,50,13],[51,12,51,13],[52,12,52,13],[53,12,53,13],[54,12,54,13],[55,12,55,13],[0,2,0,7],[49,12,49,13],[6,12,6,13],[7,12,7,13],[5,12,5,13],[24,12,25,13],[45,12,45,13],[46,12,46,13],[47,12,47,13],[48,12,48,13],[2,1,2,2],[13,12,13,13],[14,12,14,13],[15,12,15,13],[10,12,12,13],[19,12,19,13]],"bounds":{"rows_first":1000,"rows_last":250,"rows_between":1000,"halvings":1}}
["a","a","Coastal Radio Stations",null,null,null,null,null,2022,null,{"$f":"\"pt. parziale  \"&P1","v":"pt. parziale  0"},{"$f":"\"PT.TOTALE \"&P1*Z25","v":"PT.TOTALE 0"},null,null,{"$f":"SUM(J6:J6000)","v":0},{"$f":"IF(ISERROR(O1),\"\",O1)","v":0},"se è SWL",null,"NAVAL",null,null,null,null,{"$f":"nuovo!D9","v":"03 marzo"}]
[null,"a",null,null,null,null,null,null,null,null,{"$f":"\"moltiplicatore = \"&Z24","v":"moltiplicatore = 0"},null,null,null,null,null,null,null,"INDIPENDENT",null,null,null,null,{"$f":"nuovo!D10","v":"27 marzo"}]
[null,"a",null,null,null,null,null,null,null,null,null,null,null,null,null,null,null,null,"SWL"]
[null,"a",null,null,{"$f":"nuovo!E4","v":2},null,null,null,null,null,null,null,null,null,null,null,null,null,null,null,null,null,"cerca B1-E5000"]
["QSO#","DATA","UTC","BANDA","FREQ.","MODE","RST ","CALL","NAVAL ","PUNTI     ","OPERATORE                    (leggi commento)","N O T E ",null,null,null,null,null,"STATION",null,"Punti Stazione",null,"stazione indipendente","fino a riga 6000",null,"    moltiplicatore"]
[{"$f":"IF(B6=\"\",\"\",ROW(A1))","v":""},null,null,null,null,null,null,null,{"$f":"IF(ISERROR(VLOOKUP(H6,Database!$B$1:$C$5000,2,FALSE)),\"\",VLOOKUP(H6,Database!$B$1:$C$5000,2,FALSE))","v":""},{"$f":"IF(V6=1,1,IF(AND(T6=0,F6=\"SSB\",V6<>\"\"),3,IF(AND(T6=0,F6=\"DIGI\",V6<>\"\"),2,IF(AND(T6=0,F6=\"CW\",V6<>\"\"),5,IF(H6=\"-\",\"\",T6)))))","v":""},{"$f":"IF(H6=\"-\",\"\",IF(AND(H6<>\"\",X6=TRUE),\"INDIPENDENT\",IF(W6=0,\"SCRIVI NOME NELLE NOTE\",W6)))","v":{"$error":"#N/A"}},null,null,null,null,null,1,{"$f":"M28","v":"II9ICF"},null,{"$f":"IF(H6=\"\",\"\",IF(H6=$R$6,25,IF(OR(H6=$R$7,H6=$R$8,H6=$R$9,H6=$R$10,H6=$R$11,H6=$R$12,H6=$R$13,H6=$R$14,H6=$R$15,H6=$R$16,H6=$R$17,H6=$R$18,H6=$R$19,H6=$R$20,H6=$R$21,H6=$R$22,H6=$R$23),15,0)))","v":""},{"$f":"ISERROR(I6)","v":false},{"$f":"IF(H6=\"-\",\"\",IF(AND(T6=0,U6=FALSE,I6=\"\"),1,2))","v":2},{"$f":"VLOOKUP(H6,Database!$B$1:$D$5000,3,FALSE)","v":{"$error":"#N/A"}},{"$f":"ISERROR(W6)","v":true},{"$f":"COUNTIF(H$6:H$6000,R6)","v":0},{"$f":"IF(Y6>=1,1,0)","v":0}]
[{"$f":"IF(B7=\"\",\"\",ROW(A2))","v":""},null,null,null,null,null,null,null,{"$f":"IF(ISERROR(VLOOKUP(H7,Database!$B$1:$C$5000,2,FALSE)),\"\",VLOOKUP(H7,Database!$B$1:$C$5000,2,FALSE))","v":""},{"$f":"IF(V7=1,1,IF(AND(T7=0,F7=\"SSB\",V7<>\"\"),3,IF(AND(T7=0,F7=\"DIGI\",V7<>\"\"),2,IF(AND(T7=0,F7=\"CW\",V7<>\"\"),5,IF(H7=\"-\",\"\",T7)))))","v":""},{"$f":"IF(H7=\"-\",\"\",IF(AND(H7<>\"\",X7=TRUE),\"INDIPENDENT\",IF(W7=0,\"SCRIVI NOME NELLE NOTE\",W7)))","v":{"$error":"#N/A"}},null,null,null,null,"SSB",2,{"$f":"M29","v":"II0IDP"},null,{"$f":"IF(H7=\"\",\"\",IF(H7=$R$6,25,IF(OR(H7=$R$7,H7=$R$8,H7=$R$9,H7=$R$10,H7=$R$11,H7=$R$12,H7=$R$13,H7=$R$14,H7=$R$15,H7=$R$16,H7=$R$17,H7=$R$18,H7=$R$19,H7=$R$20,H7=$R$21,H7=$R$22,H7=$R$23),15,0)))","v":""},{"$f":"ISERROR(I7)","v":false},{"$f":"IF(H7=\"-\",\"\",IF(AND(T7=0,U7=FALSE,I7=\"\"),1,2))","v":2},{"$f":"VLOOKUP(H7,Database!$B$1:$D$5000,3,FALSE)","v":{"$error":"#N/A"}},{"$f":"ISERROR(W7)","v":true},0,{"$f":"IF(Y7>=1,1,0)","v":0}]
["",null,null,null,null,null,null,null,{"$f":"IF(ISERROR(VLOOKUP(H8,Database!$B$1:$C$5000,2,FALSE)),\"\",VLOOKUP(H8,Database!$B$1:$C$5000,2,FALSE))","v":""},"",{"$error":"#N/A"},null,null,null,null,"DIGI",3,"II0IDR",null,"",false,2,{"$f":"VLOOKUP(H8,Database!$B$1:$D$5000,3,FALSE)","v":{"$error":"#N/A"}},true,0,0]
["",null,null,null,null,null,null,null,{"$f":"IF(ISERROR(VLOOKUP(H9,Database!$B$1:$C$5000,2,FALSE)),\"\",VLOOKUP(H9,Database!$B$1:$C$5000,2,FALSE))","v":""},"",{"$error":"#N/A"},null,null,null,null,"CW",4,"II0ICZ",null,"",false,2,{"$f":"VLOOKUP(H9,Database!$B$1:$D$5000,3,FALSE)","v":{"$error":"#N/A"}},true,0,0]
["",null,null,null,null,null,null,null,{"$f":"IF(ISERROR(VLOOKUP(H10,Database!$B$1:$C$5000,2,FALSE)),\"\",VLOOKUP(H10,Database!$B$1:$C$5000,2,FALSE))","v":""},"",{"$error":"#N/A"},null,"DB Log aggiornato a:",{"$f":"Database!K11","v":"MI1590"},null,null,5,"II0ICH",null,"",false,2,{"$f":"VLOOKUP(H10,Database!$B$1:$D$5000,3,FALSE)","v":{"$error":"#N/A"}},true,0,0]
["",null,null,null,null,null,null,null,{"$f":"IF(ISERROR(VLOOKUP(H11,Database!$B$1:$C$5000,2,FALSE)),\"\",VLOOKUP(H11,Database!$B$1:$C$5000,2,FALSE))","v":""},"",{"$error":"#N/A"},null,{"$f":"IF(OR(I1=\"\",,M22=\"\",M48=\"\",M57=\"\"),\"Prima di inserire i QSO riempire le celle grigie             con i dati necessari\",\"Eventuali AVVISI !!!\")","v":"Prima di inserire i QSO riempire le celle grigie             con i dati necessari"},null,null,80,6,"II0IGU",null,"",false,2,{"$f":"VLOOKUP(H11,Database!$B$1:$D$5000,3,FALSE)","v":{"$error":"#N/A"}},true,0,0]
["",null,null,null,null,null,null,null,{"$f":"IF(ISERROR(VLOOKUP(H12,Database!$B$1:$C$5000,2,FALSE)),\"\",VLOOKUP(H12,Database!$B$1:$C$5000,2,FALSE))","v":""},"",{"$error":"#N/A"},null,null,null,null,60,7,"II5IDK",null,"",false,2,{"$f":"VLOOKUP(H12,Database!$B$1:$D$5000,3,FALSE)","v":{"$error":"#N/A"}},true,0,0]
["",null,null,null,null,null,null,null,{"$f":"IF(ISERROR(VLOOKUP(H13,Database!$B$1:$C$5000,2,FALSE)),\"\",VLOOKUP(H13,Database!$B$1:$C$5000,2,FALSE))","v":""},"",{"$error":"#N/A"},null,null,null,null,40,8,"II7ICT",null,"",false,2,{"$f":"VLOOKUP(H13,Database!$B$1:$D$5000,3,FALSE)","v":{"$error":"#N/A"}},true,0,0]
["",null,null,null,null,null,null,null,{"$f":"IF(ISERROR(VLOOKUP(H14,Database!$B$1:$C$5000,2,FALSE)),\"\",VLOOKUP(H14,Database!$B$1:$C$5000,2,FALSE))","v":""},"",{"$error":"#N/A"},null,{"$f":"IF(M22=\"\",\"Manca Call Stazione!\",\"\")","v":"Manca Call Stazione!"},null,null,30,9,"II7ICE",null,"",false,2,{"$f":"VLOOKUP(H14,Database!$B$1:$D$5000,3,FALSE)","v":{"$error":"#N/A"}},true,0,0]
["",null,null,null,null,null,null,null,{"$f":"IF(ISERROR(VLOOKUP(H15,Database!$B$1:$C$5000,2,FALSE)),\"\",VLOOKUP(H15,Database!$B$1:$C$5000,2,FALSE))","v":""},"",{"$error":"#N/A"},null,{"$f":"IF(OR(M28=\"\",M29=\"\",M30=\"\",,M31=\"\"),\"Controllare St.Accreditate\",\"\")","v":""},null,null,20,10,"II8ICN",null,"",false,2,{"$f":"VLOOKUP(H15,Database!$B$1:$D$5000,3,FALSE)","v":{"$error":"#N/A"}},true,0,0]
["",null,null,null,null,null,null,null,{"$f":"IF(ISERROR(VLOOKUP(H16,Database!$B$1:$C$5000,2,FALSE)),\"\",VLOOKUP(H16,Database!$B$1:$C$5000,2,FALSE))","v":""},"",{"$error":"#N/A"},null,{"$f":"IF(OR(M48=\"\",M49=\"\"),\"Controllare Dati Operatore!\",\"\")","v":"Controllare Dati Operatore!"},null,null,17,11,"II9IGJ",null,"",false,2,{"$f":"VLOOKUP(H16,Database!$B$1:$D$5000,3,FALSE)","v":{"$error":"#N/A"}},true,0,0]
["",null,null,null,null,null,null,null,{"$f":"IF(ISERROR(VLOOKUP(H17,Database!$B$1:$C$5000,2,FALSE)),\"\",VLOOKUP(H17,Database!$B$1:$C$5000,2,FALSE))","v":""},"",{"$error":"#N/A"},null,{"$f":"IF(M49=\"\",\"Controllare indirizzo e-Mail!\",\"\")","v":"Controllare indirizzo e-Mail!"},null,null,15,12,"II9IGA",null,"",false,2,{"$f":"VLOOKUP(H17,Database!$B$1:$D$5000,3,FALSE)","v":{"$error":"#N/A"}},true,0,0]
["",null,null,null,null,null,null,null,{"$f":"IF(ISERROR(VLOOKUP(H18,Database!$B$1:$C$5000,2,FALSE)),\"\",VLOOKUP(H18,Database!$B$1:$C$5000,2,FALSE))","v":""},"",{"$error":"#N/A"},null,"DATI STAZIONE",null,null,12,13,0,null,"",false,2,{"$f":"VLOOKUP(H18,Database!$B$1:$D$5000,3,FALSE)","v":{"$error":"#N/A"}},true,0,0]
["",null,null,null,null,null,null,null,{"$f":"IF(ISERROR(VLOOKUP(H19,Database!$B$1:$C$5000,2,FALSE)),\"\",VLOOKUP(H19,Database!$B$1:$C$5000,2,FALSE))","v":""},"",{"$error":"#N/A"},null,null,null,null,10,14,0,null,"",false,2,{"$f":"VLOOKUP(H19,Database!$B$1:$D$5000,3,FALSE)","v":{"$error":"#N/A"}},true,0,0]
["",null,null,null,null,null,null,null,{"$f":"IF(ISERROR(VLOOKUP(H20,Database!$B$1:$C$5000,2,FALSE)),\"\",VLOOKUP(H20,Database!$B$1:$C$5000,2,FALSE))","v":""},"",{"$error":"#N/A"},null,null,null,null,null,15,0,null,"",false,2,{"$f":"VLOOKUP(H20,Database!$B$1:$D$5000,3,FALSE)","v":{"$error":"#N/A"}},true,0,0]
["",null,null,null,null,null,null,null,{"$f":"IF(ISERROR(VLOOKUP(H21,Database!$B$1:$C$5000,2,FALSE)),\"\",VLOOKUP(H21,Database!$B$1:$C$5000,2,FALSE))","v":""},"",{"$error":"#N/A"},null,null,null,null,"NAVAL",16,0,null,"",false,2,{"$f":"VLOOKUP(H21,Database!$B$1:$D$5000,3,FALSE)","v":{"$error":"#N/A"}},true,0,0]
["",null,null,null,null,null,null,null,{"$f":"IF(ISERROR(VLOOKUP(H22,Database!$B$1:$C$5000,2,FALSE)),\"\",VLOOKUP(H22,Database!$B$1:$C$5000,2,FALSE))","v":""},"",{"$error":"#N/A"},null,null,null,null,"INDIPENDENTE",17,0,null,"",false,2,{"$f":"VLOOKUP(H22,Database!$B$1:$D$5000,3,FALSE)","v":{"$error":"#N/A"}},true,0,0]
["",null,null,null,null,null,null,null,{"$f":"IF(ISERROR(VLOOKUP(H23,Database!$B$1:$C$5000,2,FALSE)),\"\",VLOOKUP(H23,Database!$B$1:$C$5000,2,FALSE))","v":""},"",{"$error":"#N/A"},null,null,null,null,"SWL",18,0,null,"",false,2,{"$f":"VLOOKUP(H23,Database!$B$1:$D$5000,3,FALSE)","v":{"$error":"#N/A"}},true,0,0]
["",null,null,null,null,null,null,null,{"$f":"IF(ISERROR(VLOOKUP(H24,Database!$B$1:$C$5000,2,FALSE)),\"\",VLOOKUP(H24,Database!$B$1:$C$5000,2,FALSE))","v":""},"",{"$error":"#N/A"},null,null,null,null,null,null,null,null,"",false,2,{"$f":"VLOOKUP(H24,Database!$B$1:$D$5000,3,FALSE)","v":{"$error":"#N/A"}},true,"totale",{"$f":"SUM(Z6:Z23)","v":0}]
["",null,null,null,null,null,null,null,{"$f":"IF(ISERROR(VLOOKUP(H25,Database!$B$1:$C$5000,2,FALSE)),\"\",VLOOKUP(H25,Database!$B$1:$C$5000,2,FALSE))","v":""},"",{"$error":"#N/A"},null,"INSERIMENTO DATI",null,null,null,null,null,null,"",false,2,{"$f":"VLOOKUP(H25,Database!$B$1:$D$5000,3,FALSE)","v":{"$error":"#N/A"}},true,"usata x zero",{"$f":"IF(AND(Z24=0,P1=0),0,Z24)","v":0}]
["",null,null,null,null,null,null,null,{"$f":"IF(ISERROR(VLOOKUP(H26,Database!$B$1:$C$5000,2,FALSE)),\"\",VLOOKUP(H26,Database!$B$1:$C$5000,2,FALSE))","v":""},"",{"$error":"#N/A"},null,null,null,null,null,null,null,null,"",false,2,{"$f":"VLOOKUP(H26,Database!$B$1:$D$5000,3,FALSE)","v":{"$error":"#N/A"}},true]
["",null,null,null,null,null,null,null,{"$f":"IF(ISERROR(VLOOKUP(H27,Database!$B$1:$C$5000,2,FALSE)),\"\",VLOOKUP(H27,Database!$B$1:$C$5000,2,FALSE))","v":""},"",{"$error":"#N/A"},null,"ST. ACCREDITATE","PUNTI",null,null,null,null,null,"",false,2,{"$f":"VLOOKUP(H27,Database!$B$1:$D$5000,3,FALSE)","v":{"$error":"#N/A"}},true]
["",null,null,null,null,null,null,null,{"$f":"IF(ISERROR(VLOOKUP(H28,Database!$B$1:$C$5000,2,FALSE)),\"\",VLOOKUP(H28,Database!$B$1:$C$5000,2,FALSE))","v":""},"",{"$error":"#N/A"},null,"II9ICF",25,null,"PHONE (ssb)",null,null,null,"",false,2,{"$f":"VLOOKUP(H28,Database!$B$1:$D$5000,3,FALSE)","v":{"$error":"#N/A"}},true]
["",null,null,null,null,null,null,null,{"$f":"IF(ISERROR(VLOOKUP(H29,Database!$B$1:$C$5000,2,FALSE)),\"\",VLOOKUP(H29,Database!$B$1:$C$5000,2,FALSE))","v":""},"",{"$error":"#N/A"},null,"II0IDP",15,null,"MORSE (cw)",null,null,null,"",false,2,{"$f":"VLOOKUP(H29,Database!$B$1:$D$5000,3,FALSE)","v":{"$error":"#N/A"}},true]
["",null,null,null,null,null,null,null,{"$f":"IF(ISERROR(VLOOKUP(H30,Database!$B$1:$C$5000,2,FALSE)),\"\",VLOOKUP(H30,Database!$B$1:$C$5000,2,FALSE))","v":""},"",{"$error":"#N/A"},null,"II0IDR",15,null,"DIGI(psk/rtty/ft8)",null,null,null,"",false,2,{"$f":"VLOOKUP(H30,Database!$B$1:$D$5000,3,FALSE)","v":{"$error":"#N/A"}},true]
["",null,null,null,null,null,null,null,{"$f":"IF(ISERROR(VLOOKUP(H31,Database!$B$1:$C$5000,2,FALSE)),\"\",VLOOKUP(H31,Database!$B$1:$C$5000,2,FALSE))","v":""},"",{"$error":"#N/A"},null,"II0ICZ",15,null,"MIXED (ssb/cw)",null,null,null,"",false,2,{"$f":"VLOOKUP(H31,Database!$B$1:$D$5000,3,0)","v":{"$error":"#N/A"}},true]
["",null,null,null,null,null,null,null,{"$f":"IF(ISERROR(VLOOKUP(H32,Database!$B$1:$C$5000,2,FALSE)),\"\",VLOOKUP(H32,Database!$B$1:$C$5000,2,FALSE))","v":""},"",{"$error":"#N/A"},null,"II0ICH",15,null,null,null,null,null,"",false,2,{"$f":"VLOOKUP(H32,Database!$B$1:$D$5000,3,0)","v":{"$error":"#N/A"}},true]
["",null,null,null,null,null,null,null,{"$f":"IF(ISERROR(VLOOKUP(H33,Database!$B$1:$C$5000,2,FALSE)),\"\",VLOOKUP(H33,Database!$B$1:$C$5000,2,FALSE))","v":""},"",{"$error":"#N/A"},null,"II0IGU",15,null,null,null,null,null,"",false,2,{"$f":"VLOOKUP(H33,Database!$B$1:$D$5000,3,0)","v":{"$error":"#N/A"}},true]
["",null,null,null,null,null,null,null,{"$f":"IF(ISERROR(VLOOKUP(H34,Database!$B$1:$C$5000,2,FALSE)),\"\",VLOOKUP(H34,Database!$B$1:$C$5000,2,FALSE))","v":""},"",{"$error":"#N/A"},null,"II5IDK",15,null,0,null,null,null,"",false,2,{"$f":"VLOOKUP(H34,Database!$B$1:$D$5000,3,0)","v":{"$error":"#N/A"}},true]
["",null,null,null,null,null,null,null,{"$f":"IF(ISERROR(VLOOKUP(H35,Database!$B$1:$C$5000,2,FALSE)),\"\",VLOOKUP(H35,Database!$B$1:$C$5000,2,FALSE))","v":""},"",{"$error":"#N/A"},null,"II7ICT",15,null,0,null,null,null,"",false,2,{"$f":"VLOOKUP(H35,Database!$B$1:$D$5000,3,0)","v":{"$error":"#N/A"}},true]
["",null,null,null,null,null,null,null,{"$f":"IF(ISERROR(VLOOKUP(H36,Database!$B$1:$C$5000,2,FALSE)),\"\",VLOOKUP(H36,Database!$B$1:$C$5000,2,FALSE))","v":""},"",{"$error":"#N/A"},null,"II7ICE",15,null,0,null,null,null,"",false,2,{"$f":"VLOOKUP(H36,Database!$B$1:$D$5000,3,0)","v":{"$error":"#N/A"}},true]
["",null,null,null,null,null,null,null,{"$f":"IF(ISERROR(VLOOKUP(H37,Database!$B$1:$C$5000,2,FALSE)),\"\",VLOOKUP(H37,Database!$B$1:$C$5000,2,FALSE))","v":""},"",{"$error":"#N/A"},null,"II8ICN",15,null,null,null,null,null,"",false,2,{"$f":"VLOOKUP(H37,Database!$B$1:$D$5000,3,0)","v":{"$error":"#N/A"}},true]
["",null,null,null,null,null,null,null,{"$f":"IF(ISERROR(VLOOKUP(H38,Database!$B$1:$C$5000,2,FALSE)),\"\",VLOOKUP(H38,Database!$B$1:$C$5000,2,FALSE))","v":""},"",{"$error":"#N/A"},null,"II9IGJ",15,null,0,null,null,null,"",false,2,{"$f":"VLOOKUP(H38,Database!$B$1:$D$5000,3,0)","v":{"$error":"#N/A"}},true]
["",null,null,null,null,null,null,null,{"$f":"IF(ISERROR(VLOOKUP(H39,Database!$B$1:$C$5000,2,FALSE)),\"\",VLOOKUP(H39,Database!$B$1:$C$5000,2,FALSE))","v":""},"",{"$error":"#N/A"},null,"II9IGA",15,null,0,null,null,null,"",false,2,{"$f":"VLOOKUP(H39,Database!$B$1:$D$5000,3,0)","v":{"$error":"#N/A"}},true]
["",null,null,null,null,null,null,null,{"$f":"IF(ISERROR(VLOOKUP(H40,Database!$B$1:$C$5000,2,FALSE)),\"\",VLOOKUP(H40,Database!$B$1:$C$5000,2,FALSE))","v":""},"",{"$error":"#N/A"},null,null,null,null,0,null,null,null,"",false,2,{"$f":"VLOOKUP(H40,Database!$B$1:$D$5000,3,0)","v":{"$error":"#N/A"}},true]
["",null,null,null,null,null,null,null,{"$f":"IF(ISERROR(VLOOKUP(H41,Database!$B$1:$C$5000,2,FALSE)),\"\",VLOOKUP(H41,Database!$B$1:$C$5000,2,FALSE))","v":""},"",{"$error":"#N/A"},null,null,null,null,0,null,null,null,"",false,2,{"$f":"VLOOKUP(H41,Database!$B$1:$D$5000,3,0)","v":{"$error":"#N/A"}},true]
["",null,null,null,null,null,null,null,{"$f":"IF(ISERROR(VLOOKUP(H42,Database!$B$1:$C$5000,2,FALSE)),\"\",VLOOKUP(H42,Database!$B$1:$C$5000,2,FALSE))","v":""},"",{"$error":"#N/A"},null,null,null,null,0,null,null,null,"",false,2,{"$f":"VLOOKUP(H42,Database!$B$1:$D$5000,3,0)","v":{"$error":"#N/A"}},true]
["",null,null,null,null,null,null,null,{"$f":"IF(ISERROR(VLOOKUP(H43,Database!$B$1:$C$5000,2,FALSE)),\"\",VLOOKUP(H43,Database!$B$1:$C$5000,2,FALSE))","v":""},"",{"$error":"#N/A"},null,null,null,null,0,null,null,null,"",false,2,{"$f":"VLOOKUP(H43,Database!$B$1:$D$5000,3,0)","v":{"$error":"#N/A"}},true]
["",null,null,null,null,null,null,null,{"$f":"IF(ISERROR(VLOOKUP(H44,Database!$B$1:$C$5000,2,FALSE)),\"\",VLOOKUP(H44,Database!$B$1:$C$5000,2,FALSE))","v":""},"",{"$error":"#N/A"},null,null,null,null,0,null,null,null,"",false,2,{"$f":"VLOOKUP(H44,Database!$B$1:$D$5000,3,0)","v":{"$error":"#N/A"}},true]
["",null,null,null,null,null,null,null,{"$f":"IF(ISERROR(VLOOKUP(H45,Database!$B$1:$C$5000,2,FALSE)),\"\",VLOOKUP(H45,Database!$B$1:$C$5000,2,FALSE))","v":""},"",{"$error":"#N/A"},null,null,null,null,0,null,null,null,"",false,2,{"$f":"VLOOKUP(H45,Database!$B$1:$D$5000,3,0)","v":{"$error":"#N/A"}},true]
["",null,null,null,null,null,null,null,{"$f":"IF(ISERROR(VLOOKUP(H46,Database!$B$1:$C$5000,2,FALSE)),\"\",VLOOKUP(H46,Database!$B$1:$C$5000,2,FALSE))","v":""},"",{"$error":"#N/A"},null,"DATI OPERATORE",null,null,0,null,null,null,"",false,2,{"$f":"VLOOKUP(H46,Database!$B$1:$D$5000,3,0)","v":{"$error":"#N/A"}},true]
["",null,null,null,null,null,null,null,{"$f":"IF(ISERROR(VLOOKUP(H47,Database!$B$1:$C$5000,2,FALSE)),\"\",VLOOKUP(H47,Database!$B$1:$C$5000,2,FALSE))","v":""},"",{"$error":"#N/A"},null,"Per invio diploma cartaceo ",null,null,{"$f":"SUM(H6:H58)","v":0},null,null,null,"",false,2,{"$f":"VLOOKUP(H47,Database!$B$1:$D$5000,3,0)","v":{"$error":"#N/A"}},true]
["",null,null,null,null,null,null,null,{"$f":"IF(ISERROR(VLOOKUP(H48,Database!$B$1:$C$5000,2,FALSE)),\"\",VLOOKUP(H48,Database!$B$1:$C$5000,2,FALSE))","v":""},"",{"$error":"#N/A"},null,null,null,null,null,null,null,null,"",false,2,{"$f":"VLOOKUP(H48,Database!$B$1:$D$5000,3,0)","v":{"$error":"#N/A"}},true,null,null,null,null,null,"benincasa"]
["",null,null,null,null,null,null,null,{"$f":"IF(ISERROR(VLOOKUP(H49,Database!$B$1:$C$5000,2,FALSE)),\"\",VLOOKUP(H49,Database!$B$1:$C$5000,2,FALSE))","v":""},"",{"$error":"#N/A"},null,null,null,null,null,null,null,null,"",false,2,{"$f":"VLOOKUP(H49,Database!$B$1:$D$5000,3,0)","v":{"$error":"#N/A"}},true]
["",null,null,null,null,null,null,null,{"$f":"IF(ISERROR(VLOOKUP(H50,Database!$B$1:$C$5000,2,FALSE)),\"\",VLOOKUP(H50,Database!$B$1:$C$5000,2,FALSE))","v":""},"",{"$error":"#N/A"},null,null,null,null,null,null,null,null,"",false,2,{"$f":"VLOOKUP(H50,Database!$B$1:$D$5000,3,0)","v":{"$error":"#N/A"}},true]
["",null,null,null,null,null,null,null,{"$f":"IF(ISERROR(VLOOKUP(H51,Database!$B$1:$C$5000,2,FALSE)),\"\",VLOOKUP(H51,Database!$B$1:$C$5000,2,FALSE))","v":""},"",{"$error":"#N/A"},null,null,null,null,null,null,null,null,"",false,2,{"$f":"VLOOKUP(H51,Database!$B$1:$D$5000,3,0)","v":{"$error":"#N/A"}},true]
["",null,null,null,null,null,null,null,{"$f":"IF(ISERROR(VLOOKUP(H52,Database!$B$1:$C$5000,2,FALSE)),\"\",VLOOKUP(H52,Database!$B$1:$C$5000,2,FALSE))","v":""},"",{"$error":"#N/A"},null,null,null,null,null,null,null,null,"",false,2,{"$f":"VLOOKUP(H52,Database!$B$1:$D$5000,3,0)","v":{"$error":"#N/A"}},true]
["",null,null,null,null,null,null,null,{"$f":"IF(ISERROR(VLOOKUP(H53,Database!$B$1:$C$5000,2,FALSE)),\"\",VLOOKUP(H53,Database!$B$1:$C$5000,2,FALSE))","v":""},"",{"$error":"#N/A"},null,null,null,null,{"$f":"VLOOKUP(L2,Database!$B$1:$C$5006,2,0)","v":{"$error":"#N/A"}},null,null,null,"",false,2,{"$f":"VLOOKUP(H53,Database!$B$1:$D$5000,3,0)","v":{"$error":"#N/A"}},true]
["",null,null,null,null,null,null,null,{"$f":"IF(ISERROR(VLOOKUP(H54,Database!$B$1:$C$5000,2,FALSE)),\"\",VLOOKUP(H54,Database!$B$1:$C$5000,2,FALSE))","v":""},"",{"$error":"#N/A"},null,null,null,null,{"$f":"ISERROR(P53)","v":true},null,null,null,"",false,2,{"$f":"VLOOKUP(H54,Database!$B$1:$D$5000,3,0)","v":{"$error":"#N/A"}},true]
["",null,null,null,null,null,null,null,{"$f":"IF(ISERROR(VLOOKUP(H55,Database!$B$1:$C$5000,2,FALSE)),\"\",VLOOKUP(H55,Database!$B$1:$C$5000,2,FALSE))","v":""},"",{"$error":"#N/A"},null,null,null,null,null,null,null,null,"",false,2,{"$f":"VLOOKUP(H55,Database!$B$1:$D$5000,3,0)","v":{"$error":"#N/A"}},true]
["",null,null,null,null,null,null,null,{"$f":"IF(ISERROR(VLOOKUP(H56,Database!$B$1:$C$5000,2,FALSE)),\"\",VLOOKUP(H56,Database!$B$1:$C$5000,2,FALSE))","v":""},"",{"$error":"#N/A"},null,"Indirizzo e-mail",null,null,null,null,null,null,"",false,2,{"$f":"VLOOKUP(H56,Database!$B$1:$D$5000,3,0)","v":{"$error":"#N/A"}},true]
["",null,null,null,null,null,null,null,{"$f":"IF(ISERROR(VLOOKUP(H57,Database!$B$1:$C$5000,2,FALSE)),\"\",VLOOKUP(H57,Database!$B$1:$C$5000,2,FALSE))","v":""},"",{"$error":"#N/A"},null,null,null,null,null,null,null,null,"",false,2,{"$f":"VLOOKUP(H57,Database!$B$1:$D$5000,3,0)","v":{"$error":"#N/A"}},true]
["",null,null,null,null,null,null,null,{"$f":"IF(ISERROR(VLOOKUP(H58,Database!$B$1:$C$5000,2,FALSE)),\"\",VLOOKUP(H58,Database!$B$1:$C$5000,2,FALSE))","v":""},"",{"$error":"#N/A"},null,null,null,null,null,null,null,null,"",false,2,{"$f":"VLOOKUP(H58,Database!$B$1:$D$5000,3,0)","v":{"$error":"#N/A"}},true]
["",null,null,null,null,null,null,null,{"$f":"IF(ISERROR(VLOOKUP(H59,Database!$B$1:$C$5000,2,FALSE)),\"\",VLOOKUP(H59,Database!$B$1:$C$5000,2,FALSE))","v":""},"",{"$error":"#N/A"},null,null,null,null,null,null,null,null,"",false,2,{"$f":"VLOOKUP(H59,Database!$B$1:$D$5000,3,0)","v":{"$error":"#N/A"}},true]
["",null,null,null,null,null,null,null,{"$f":"IF(ISERROR(VLOOKUP(H60,Database!$B$1:$C$5000,2,FALSE)),\"\",VLOOKUP(H60,Database!$B$1:$C$5000,2,FALSE))","v":""},"",{"$error":"#N/A"},null,null,null,null,null,null,null,null,"",false,2,{"$f":"VLOOKUP(H60,Database!$B$1:$D$5000,3,0)","v":{"$error":"#N/A"}},true]
["",null,null,null,null,null,null,null,{"$f":"IF(ISERROR(VLOOKUP(H61,Database!$B$1:$C$5000,2,FALSE)),\"\",VLOOKUP(H61,Database!$B$1:$C$5000,2,FALSE))","v":""},"",{"$error":"#N/A"},null,null,null,null,null,null,null,null,"",false,2,{"$f":"VLOOKUP(H61,Database!$B$1:$D$5000,3,0)","v":{"$error":"#N/A"}},true]
["",null,null,null,null,null,null,null,{"$f":"IF(ISERROR(VLOOKUP(H62,Database!$B$1:$C$5000,2,FALSE)),\"\",VLOOKUP(H62,Database!$B$1:$C$5000,2,FALSE))","v":""},"",{"$error":"#N/A"},null,null,null,null,null,null,null,null,"",false,2,{"$f":"VLOOKUP(H62,Database!$B$1:$D$5000,3,0)","v":{"$error":"#N/A"}},true]
["",null,null,null,null,null,null,null,{"$f":"IF(ISERROR(VLOOKUP(H63,Database!$B$1:$C$5000,2,FALSE)),\"\",VLOOKUP(H63,Database!$B$1:$C$5000,2,FALSE))","v":""},"",{"$error":"#N/A"},null,null,null,null,{"$f":"VLOOKUP(L2,Database!$B$1:$D$5000,4,)","v":{"$error":"#N/A"}},null,null,null,"",false,2,{"$f":"VLOOKUP(H63,Database!$B$1:$D$5000,3,0)","v":{"$error":"#N/A"}},true]
["",null,null,null,null,null,null,null,{"$f":"IF(ISERROR(VLOOKUP(H64,Database!$B$1:$C$5000,2,FALSE)),\"\",VLOOKUP(H64,Database!$B$1:$C$5000,2,FALSE))","v":""},"",{"$error":"#N/A"},null,null,null,null,{"$f":"ISERROR(P63)","v":true},null,null,null,"",false,2,{"$f":"VLOOKUP(H64,Database!$B$1:$D$5000,3,0)","v":{"$error":"#N/A"}},true]
["",null,null,null,null,null,null,null,{"$f":"IF(ISERROR(VLOOKUP(H65,Database!$B$1:$C$5000,2,FALSE)),\"\",VLOOKUP(H65,Database!$B$1:$C$5000,2,FALSE))","v":""},"",{"$error":"#N/A"},null,null,null,null,null,null,null,null,"",false,2,{"$f":"VLOOKUP(H65,Database!$B$1:$D$5000,3,0)","v":{"$error":"#N/A"}},true]
["",null,null,null,null,null,null,null,{"$f":"IF(ISERROR(VLOOKUP(H66,Database!$B$1:$C$5000,2,FALSE)),\"\",VLOOKUP(H66,Database!$B$1:$C$5000,2,FALSE))","v":""},"",{"$error":"#N/A"},null,null,null,null,null,null,null,null,"",false,2,{"$f":"VLOOKUP(H66,Database!$B$1:$D$5000,3,0)","v":{"$error":"#N/A"}},true]
["",null,null,null,null,null,null,null,{"$f":"IF(ISERROR(VLOOKUP(H67,Database!$B$1:$C$5000,2,FALSE)),\"\",VLOOKUP(H67,Database!$B$1:$C$5000,2,FALSE))","v":""},"",{"$error":"#N/A"},null,null,null,null,null,null,null,null,"",false,2,{"$f":"VLOOKUP(H67,Database!$B$1:$D$5000,3,0)","v":{"$error":"#N/A"}},true]
["",null,null,null,null,null,null,null,{"$f":"IF(ISERROR(VLOOKUP(H68,Database!$B$1:$C$5000,2,FALSE)),\"\",VLOOKUP(H68,Database!$B$1:$C$5000,2,FALSE))","v":""},"",{"$error":"#N/A"},null,null,null,null,null,null,null,null,"",false,2,{"$f":"VLOOKUP(H68,Database!$B$1:$D$5000,3,0)","v":{"$error":"#N/A"}},true]
["",null,null,null,null,null,null,null,{"$f":"IF(ISERROR(VLOOKUP(H69,Database!$B$1:$C$5000,2,FALSE)),\"\",VLOOKUP(H69,Database!$B$1:$C$5000,2,FALSE))","v":""},"",{"$error":"#N/A"},null,null,null,null,null,null,null,null,"",false,2,{"$f":"VLOOKUP(H69,Database!$B$1:$D$5000,3,0)","v":{"$error":"#N/A"}},true]
["",null,null,null,null,null,null,null,{"$f":"IF(ISERROR(VLOOKUP(H70,Database!$B$1:$C$5000,2,FALSE)),\"\",VLOOKUP(H70,Database!$B$1:$C$5000,2,FALSE))","v":""},"",{"$error":"#N/A"},null,null,null,null,null,null,null,null,"",false,2,{"$f":"VLOOKUP(H70,Database!$B$1:$D$5000,3,0)","v":{"$error":"#N/A"}},true]
[{"$f":"IF(B71=\"\",\"\",ROW(A66))","v":""},null,null,null,null,null,null,null,{"$f":"IF(ISERROR(VLOOKUP(H71,Database!$B$1:$C$5000,2,FALSE)),\"\",VLOOKUP(H71,Database!$B$1:$C$5000,2,FALSE))","v":""},{"$f":"IF(V71=1,1,IF(AND(T71=0,F71=\"SSB\",V71<>\"\"),3,IF(AND(T71=0,F71=\"DIGI\",V71<>\"\"),2,IF(AND(T71=0,F71=\"CW\",V71<>\"\"),5,IF(H71=\"-\",\"\",T71)))))","v":""},{"$f":"IF(H71=\"-\",\"\",IF(AND(H71<>\"\",X71=TRUE),\"INDIPENDENT\",IF(W71=0,\"SCRIVI NOME NELLE NOTE\",W71)))","v":{"$error":"#N/A"}},null,null,null,null,null,null,null,null,{"$f":"IF(H71=\"\",\"\",IF(H71=$R$6,25,IF(OR(H71=$R$7,H71=$R$8,H71=$R$9,H71=$R$10,H71=$R$11,H71=$R$12,H71=$R$13,H71=$R$14,H71=$R$15,H71=$R$16,H71=$R$17,H71=$R$18,H71=$R$19,H71=$R$20,H71=$R$21,H71=$R$22,H71=$R$23),15,0)))","v":""},{"$f":"ISERROR(I71)","v":false},{"$f":"IF(H71=\"-\",\"\",IF(AND(T71=0,U71=FALSE,I71=\"\"),1,2))","v":2},{"$f":"VLOOKUP(H71,Database!$B$1:$D$5000,3,0)","v":{"$error":"#N/A"}},{"$f":"ISERROR(W71)","v":true}]
["",null,null,null,null,null,null,null,{"$f":"IF(ISERROR(VLOOKUP(H72,Database!$B$1:$C$5000,2,FALSE)),\"\",VLOOKUP(H72,Database!$B$1:$C$5000,2,FALSE))","v":""},"",{"$error":"#N/A"},null,null,null,null,null,null,null,null,"",false,2,{"$f":"VLOOKUP(H72,Database!$B$1:$D$5000,3,0)","v":{"$error":"#N/A"}},true]
["",null,null,null,null,null,null,null,{"$f":"IF(ISERROR(VLOOKUP(H73,Database!$B$1:$C$5000,2,FALSE)),\"\",VLOOKUP(H73,Database!$B$1:$C$5000,2,FALSE))","v":""},"",{"$error":"#N/A"},null,null,null,null,null,null,null,null,"",false,2,{"$f":"VLOOKUP(H73,Database!$B$1:$D$5000,3,0)","v":{"$error":"#N/A"}},true]
["",null,null,null,null,null,null,null,{"$f":"IF(ISERROR(VLOOKUP(H74,Database!$B$1:$C$5000,2,FALSE)),\"\",VLOOKUP(H74,Database!$B$1:$C$5000,2,FALSE))","v":""},"",{"$error":"#N/A"},null,null,null,null,null,null,null,null,"",false,2,{"$f":"VLOOKUP(H74,Database!$B$1:$D$5000,3,0)","v":{"$error":"#N/A"}},true]
["",null,null,null,null,null,null,null,{"$f":"IF(ISERROR(VLOOKUP(H75,Database!$B$1:$C$5000,2,FALSE)),\"\",VLOOKUP(H75,Database!$B$1:$C$5000,2,FALSE))","v":""},"",{"$error":"#N/A"},null,null,null,null,null,null,null,null,"",false,2,{"$f":"VLOOKUP(H75,Database!$B$1:$D$5000,3,0)","v":{"$error":"#N/A"}},true]
["",null,null,null,null,null,null,null,{"$f":"IF(ISERROR(VLOOKUP(H76,Database!$B$1:$C$5000,2,FALSE)),\"\",VLOOKUP(H76,Database!$B$1:$C$5000,2,FALSE))","v":""},"",{"$error":"#N/A"},null,null,null,null,null,null,null,null,"",false,2,{"$f":"VLOOKUP(H76,Database!$B$1:$D$5000,3,0)","v":{"$error":"#N/A"}},true]
["",null,null,null,null,null,null,null,{"$f":"IF(ISERROR(VLOOKUP(H77,Database!$B$1:$C$5000,2,FALSE)),\"\",VLOOKUP(H77,Database!$B$1:$C$5000,2,FALSE))","v":""},"",{"$error":"#N/A"},null,null,null,null,null,null,null,null,"",false,2,{"$f":"VLOOKUP(H77,Database!$B$1:$D$5000,3,0)","v":{"$error":"#N/A"}},true]
["",null,null,null,null,null,null,null,{"$f":"IF(ISERROR(VLOOKUP(H78,Database!$B$1:$C$5000,2,FALSE)),\"\",VLOOKUP(H78,Database!$B$1:$C$5000,2,FALSE))","v":""},"",{"$error":"#N/A"},null,null,null,null,null,null,null,null,"",false,2,{"$f":"VLOOKUP(H78,Database!$B$1:$D$5000,3,0)","v":{"$error":"#N/A"}},true]
["",null,null,null,null,null,null,null,{"$f":"IF(ISERROR(VLOOKUP(H79,Database!$B$1:$C$5000,2,FALSE)),\"\",VLOOKUP(H79,Database!$B$1:$C$5000,2,FALSE))","v":""},"",{"$error":"#N/A"},null,null,null,null,null,null,null,null,"",false,2,{"$f":"VLOOKUP(H79,Database!$B$1:$D$5000,3,0)","v":{"$error":"#N/A"}},true]
["",null,null,null,null,null,null,null,{"$f":"IF(ISERROR(VLOOKUP(H80,Database!$B$1:$C$5000,2,FALSE)),\"\",VLOOKUP(H80,Database!$B$1:$C$5000,2,FALSE))","v":""},"",{"$error":"#N/A"},null,null,null,null,null,null,null,null,"",false,2,{"$f":"VLOOKUP(H80,Database!$B$1:$D$5000,3,0)","v":{"$error":"#N/A"}},true]
["",null,null,null,null,null,null,null,{"$f":"IF(ISERROR(VLOOKUP(H81,Database!$B$1:$C$5000,2,FALSE)),\"\",VLOOKUP(H81,Database!$B$1:$C$5000,2,FALSE))","v":""},"",{"$error":"#N/A"},null,null,null,null,null,null,null,null,"",false,2,{"$f":"VLOOKUP(H81,Database!$B$1:$D$5000,3,0)","v":{"$error":"#N/A"}},true]
["",null,null,null,null,null,null,null,{"$f":"IF(ISERROR(VLOOKUP(H82,Database!$B$1:$C$5000,2,FALSE)),\"\",VLOOKUP(H82,Database!$B$1:$C$5000,2,FALSE))","v":""},"",{"$error":"#N/A"},null,null,null,null,null,null,null,null,"",false,2,{"$f":"VLOOKUP(H82,Database!$B$1:$D$5000,3,0)","v":{"$error":"#N/A"}},true]
["",null,null,null,null,null,null,null,{"$f":"IF(ISERROR(VLOOKUP(H83,Database!$B$1:$C$5000,2,FALSE)),\"\",VLOOKUP(H83,Database!$B$1:$C$5000,2,FALSE))","v":""},"",{"$error":"#N/A"},null,null,null,null,null,null,null,null,"",false,2,{"$f":"VLOOKUP(H83,Database!$B$1:$D$5000,3,0)","v":{"$error":"#N/A"}},true]
["",null,null,null,null,null,null,null,{"$f":"IF(ISERROR(VLOOKUP(H84,Database!$B$1:$C$5000,2,FALSE)),\"\",VLOOKUP(H84,Database!$B$1:$C$5000,2,FALSE))","v":""},"",{"$error":"#N/A"},null,null,null,null,null,null,null,null,"",false,2,{"$f":"VLOOKUP(H84,Database!$B$1:$D$5000,3,0)","v":{"$error":"#N/A"}},true]
["",null,null,null,null,null,null,null,{"$f":"IF(ISERROR(VLOOKUP(H85,Database!$B$1:$C$5000,2,FALSE)),\"\",VLOOKUP(H85,Database!$B$1:$C$5000,2,FALSE))","v":""},"",{"$error":"#N/A"},null,null,null,null,null,null,null,null,"",false,2,{"$f":"VLOOKUP(H85,Database!$B$1:$D$5000,3,0)","v":{"$error":"#N/A"}},true]
["",null,null,null,null,null,null,null,{"$f":"IF(ISERROR(VLOOKUP(H86,Database!$B$1:$C$5000,2,FALSE)),\"\",VLOOKUP(H86,Database!$B$1:$C$5000,2,FALSE))","v":""},"",{"$error":"#N/A"},null,null,null,null,null,null,null,null,"",false,2,{"$f":"VLOOKUP(H86,Database!$B$1:$D$5000,3,0)","v":{"$error":"#N/A"}},true]
["",null,null,null,null,null,null,null,{"$f":"IF(ISERROR(VLOOKUP(H87,Database!$B$1:$C$5000,2,FALSE)),\"\",VLOOKUP(H87,Database!$B$1:$C$5000,2,FALSE))","v":""},"",{"$error":"#N/A"},null,null,null,null,null,null,null,null,"",false,2,{"$f":"VLOOKUP(H87,Database!$B$1:$D$5000,3,0)","v":{"$error":"#N/A"}},true]
["",null,null,null,null,null,null,null,{"$f":"IF(ISERROR(VLOOKUP(H88,Database!$B$1:$C$5000,2,FALSE)),\"\",VLOOKUP(H88,Database!$B$1:$C$5000,2,FALSE))","v":""},"",{"$error":"#N/A"},null,null,null,null,null,null,null,null,"",false,2,{"$f":"VLOOKUP(H88,Database!$B$1:$D$5000,3,0)","v":{"$error":"#N/A"}},true]
["",null,null,null,null,null,null,null,{"$f":"IF(ISERROR(VLOOKUP(H89,Database!$B$1:$C$5000,2,FALSE)),\"\",VLOOKUP(H89,Database!$B$1:$C$5000,2,FALSE))","v":""},"",{"$error":"#N/A"},null,null,null,null,null,null,null,null,"",false,2,{"$f":"VLOOKUP(H89,Database!$B$1:$D$5000,3,0)","v":{"$error":"#N/A"}},true]
["",null,null,null,null,null,null,null,{"$f":"IF(ISERROR(VLOOKUP(H90,Database!$B$1:$C$5000,2,FALSE)),\"\",VLOOKUP(H90,Database!$B$1:$C$5000,2,FALSE))","v":""},"",{"$error":"#N/A"},null,null,null,null,null,null,null,null,"",false,2,{"$f":"VLOOKUP(H90,Database!$B$1:$D$5000,3,0)","v":{"$error":"#N/A"}},true]
["",null,null,null,null,null,null,null,{"$f":"IF(ISERROR(VLOOKUP(H91,Database!$B$1:$C$5000,2,FALSE)),\"\",VLOOKUP(H91,Database!$B$1:$C$5000,2,FALSE))","v":""},"",{"$error":"#N/A"},null,null,null,null,null,null,null,null,"",false,2,{"$f":"VLOOKUP(H91,Database!$B$1:$D$5000,3,0)","v":{"$error":"#N/A"}},true]
["",null,null,null,null,null,null,null,{"$f":"IF(ISERROR(VLOOKUP(H92,Database!$B$1:$C$5000,2,FALSE)),\"\",VLOOKUP(H92,Database!$B$1:$C$5000,2,FALSE))","v":""},"",{"$error":"#N/A"},null,null,null,null,null,null,null,null,"",false,2,{"$f":"VLOOKUP(H92,Database!$B$1:$D$5000,3,0)","v":{"$error":"#N/A"}},true]
["",null,null,null,null,null,null,null,{"$f":"IF(ISERROR(VLOOKUP(H93,Database!$B$1:$C$5000,2,FALSE)),\"\",VLOOKUP(H93,Database!$B$1:$C$5000,2,FALSE))","v":""},"",{"$error":"#N/A"},null,null,null,null,null,null,null,null,"",false,2,{"$f":"VLOOKUP(H93,Database!$B$1:$D$5000,3,0)","v":{"$error":"#N/A"}},true]
["",null,null,null,null,null,null,null,{"$f":"IF(ISERROR(VLOOKUP(H94,Database!$B$1:$C$5000,2,FALSE)),\"\",VLOOKUP(H94,Database!$B$1:$C$5000,2,FALSE))","v":""},"",{"$error":"#N/A"},null,null,null,null,null,null,null,null,"",false,2,{"$f":"VLOOKUP(H94,Database!$B$1:$D$5000,3,0)","v":{"$error":"#N/A"}},true]
["",null,null,null,null,null,null,null,{"$f":"IF(ISERROR(VLOOKUP(H95,Database!$B$1:$C$5000,2,FALSE)),\"\",VLOOKUP(H95,Database!$B$1:$C$5000,2,FALSE))","v":""},"",{"$error":"#N/A"},null,null,null,null,null,null,null,null,"",false,2,{"$f":"VLOOKUP(H95,Database!$B$1:$D$5000,3,0)","v":{"$error":"#N/A"}},true]
["",null,null,null,null,null,null,null,{"$f":"IF(ISERROR(VLOOKUP(H96,Database!$B$1:$C$5000,2,FALSE)),\"\",VLOOKUP(H96,Database!$B$1:$C$5000,2,FALSE))","v":""},"",{"$error":"#N/A"},null,null,null,null,null,null,null,null,"",false,2,{"$f":"VLOOKUP(H96,Database!$B$1:$D$5000,3,0)","v":{"$error":"#N/A"}},true]
["",null,null,null,null,null,null,null,{"$f":"IF(ISERROR(VLOOKUP(H97,Database!$B$1:$C$5000,2,FALSE)),\"\",VLOOKUP(H97,Database!$B$1:$C$5000,2,FALSE))","v":""},"",{"$error":"#N/A"},null,null,null,null,null,null,null,null,"",false,2,{"$f":"VLOOKUP(H97,Database!$B$1:$D$5000,3,0)","v":{"$error":"#N/A"}},true]
["",null,null,null,null,null,null,null,{"$f":"IF(ISERROR(VLOOKUP(H98,Database!$B$1:$C$5000,2,FALSE)),\"\",VLOOKUP(H98,Database!$B$1:$C$5000,2,FALSE))","v":""},"",{"$error":"#N/A"},null,null,null,null,null,null,null,null,"",false,2,{"$f":"VLOOKUP(H98,Database!$B$1:$D$5000,3,0)","v":{"$error":"#N/A"}},true]
["",null,null,null,null,null,null,null,{"$f":"IF(ISERROR(VLOOKUP(H99,Database!$B$1:$C$5000,2,FALSE)),\"\",VLOOKUP(H99,Database!$B$1:$C$5000,2,FALSE))","v":""},"",{"$error":"#N/A"},null,null,null,null,null,null,null,null,"",false,2,{"$f":"VLOOKUP(H99,Database!$B$1:$D$5000,3,0)","v":{"$error":"#N/A"}},true]
["",null,null,null,null,null,null,null,{"$f":"IF(ISERROR(VLOOKUP(H100,Database!$B$1:$C$5000,2,FALSE)),\"\",VLOOKUP(H100,Database!$B$1:$C$5000,2,FALSE))","v":""},"",{"$error":"#N/A"},null,null,null,null,null,null,null,null,"",false,2,{"$f":"VLOOKUP(H100,Database!$B$1:$D$5000,3,0)","v":{"$error":"#N/A"}},true]
["",null,null,null,null,null,null,null,{"$f":"IF(ISERROR(VLOOKUP(H101,Database!$B$1:$C$5000,2,FALSE)),\"\",VLOOKUP(H101,Database!$B$1:$C$5000,2,FALSE))","v":""},"",{"$error":"#N/A"},null,null,null,null,null,null,null,null,"",false,2,{"$f":"VLOOKUP(H101,Database!$B$1:$D$5000,3,0)","v":{"$error":"#N/A"}},true]
["",null,null,null,null,null,null,null,{"$f":"IF(ISERROR(VLOOKUP(H102,Database!$B$1:$C$5000,2,FALSE)),\"\",VLOOKUP(H102,Database!$B$1:$C$5000,2,FALSE))","v":""},"",{"$error":"#N/A"},null,null,null,null,null,null,null,null,"",false,2,{"$f":"VLOOKUP(H102,Database!$B$1:$D$5000,3,0)","v":{"$error":"#N/A"}},true]
["",null,null,null,null,null,null,null,{"$f":"IF(ISERROR(VLOOKUP(H103,Database!$B$1:$C$5000,2,FALSE)),\"\",VLOOKUP(H103,Database!$B$1:$C$5000,2,FALSE))","v":""},"",{"$error":"#N/A"},null,null,null,null,null,null,null,null,"",false,2,{"$f":"VLOOKUP(H103,Database!$B$1:$D$5000,3,0)","v":{"$error":"#N/A"}},true]
["",null,null,null,null,null,null,null,{"$f":"IF(ISERROR(VLOOKUP(H104,Database!$B$1:$C$5000,2,FALSE)),\"\",VLOOKUP(H104,Database!$B$1:$C$5000,2,FALSE))","v":""},"",{"$error":"#N/A"},null,null,null,null,null,null,null,null,"",false,2,{"$f":"VLOOKUP(H104,Database!$B$1:$D$5000,3,0)","v":{"$error":"#N/A"}},true]
["",null,null,null,null,null,null,null,{"$f":"IF(ISERROR(VLOOKUP(H105,Database!$B$1:$C$5000,2,FALSE)),\"\",VLOOKUP(H105,Database!$B$1:$C$5000,2,FALSE))","v":""},"",{"$error":"#N/A"},null,null,null,null,null,null,null,null,"",false,2,{"$f":"VLOOKUP(H105,Database!$B$1:$D$5000,3,0)","v":{"$error":"#N/A"}},true]
["",null,null,null,null,null,null,null,{"$f":"IF(ISERROR(VLOOKUP(H106,Database!$B$1:$C$5000,2,FALSE)),\"\",VLOOKUP(H106,Database!$B$1:$C$5000,2,FALSE))","v":""},"",{"$error":"#N/A"},null,null,null,null,null,null,null,null,"",false,2,{"$f":"VLOOKUP(H106,Database!$B$1:$D$5000,3,0)","v":{"$error":"#N/A"}},true]
["",null,null,null,null,null,null,null,{"$f":"IF(ISERROR(VLOOKUP(H107,Database!$B$1:$C$5000,2,FALSE)),\"\",VLOOKUP(H107,Database!$B$1:$C$5000,2,FALSE))","v":""},"",{"$error":"#N/A"},null,null,null,null,null,null,null,null,"",false,2,{"$f":"VLOOKUP(H107,Database!$B$1:$D$5000,3,0)","v":{"$error":"#N/A"}},true]
["",null,null,null,null,null,null,null,{"$f":"IF(ISERROR(VLOOKUP(H108,Database!$B$1:$C$5000,2,FALSE)),\"\",VLOOKUP(H108,Database!$B$1:$C$5000,2,FALSE))","v":""},"",{"$error":"#N/A"},null,null,null,null,null,null,null,null,"",false,2,{"$f":"VLOOKUP(H108,Database!$B$1:$D$5000,3,0)","v":{"$error":"#N/A"}},true]
["",null,null,null,null,null,null,null,{"$f":"IF(ISERROR(VLOOKUP(H109,Database!$B$1:$C$5000,2,FALSE)),\"\",VLOOKUP(H109,Database!$B$1:$C$5000,2,FALSE))","v":""},"",{"$error":"#N/A"},null,null,null,null,null,null,null,null,"",false,2,{"$f":"VLOOKUP(H109,Database!$B$1:$D$5000,3,0)","v":{"$error":"#N/A"}},true]
["",null,null,null,null,null,null,null,{"$f":"IF(ISERROR(VLOOKUP(H110,Database!$B$1:$C$5000,2,FALSE)),\"\",VLOOKUP(H110,Database!$B$1:$C$5000,2,FALSE))","v":""},"",{"$error":"#N/A"},null,null,null,null,null,null,null,null,"",false,2,{"$f":"VLOOKUP(H110,Database!$B$1:$D$5000,3,0)","v":{"$error":"#N/A"}},true]
["",null,null,null,null,null,null,null,{"$f":"IF(ISERROR(VLOOKUP(H111,Database!$B$1:$C$5000,2,FALSE)),\"\",VLOOKUP(H111,Database!$B$1:$C$5000,2,FALSE))","v":""},"",{"$error":"#N/A"},null,null,null,null,null,null,null,null,"",false,2,{"$f":"VLOOKUP(H111,Database!$B$1:$D$5000,3,0)","v":{"$error":"#N/A"}},true]
["",null,null,null,null,null,null,null,{"$f":"IF(ISERROR(VLOOKUP(H112,Database!$B$1:$C$5000,2,FALSE)),\"\",VLOOKUP(H112,Database!$B$1:$C$5000,2,FALSE))","v":""},"",{"$error":"#N/A"},null,null,null,null,null,null,null,null,"",false,2,{"$f":"VLOOKUP(H112,Database!$B$1:$D$5000,3,0)","v":{"$error":"#N/A"}},true]
["",null,null,null,null,null,null,null,{"$f":"IF(ISERROR(VLOOKUP(H113,Database!$B$1:$C$5000,2,FALSE)),\"\",VLOOKUP(H113,Database!$B$1:$C$5000,2,FALSE))","v":""},"",{"$error":"#N/A"},null,null,null,null,null,null,null,null,"",false,2,{"$f":"VLOOKUP(H113,Database!$B$1:$D$5000,3,0)","v":{"$error":"#N/A"}},true]
["",null,null,null,null,null,null,null,{"$f":"IF(ISERROR(VLOOKUP(H114,Database!$B$1:$C$5000,2,FALSE)),\"\",VLOOKUP(H114,Database!$B$1:$C$5000,2,FALSE))","v":""},"",{"$error":"#N/A"},null,null,null,null,null,null,null,null,"",false,2,{"$f":"VLOOKUP(H114,Database!$B$1:$D$5000,3,0)","v":{"$error":"#N/A"}},true]
["",null,null,null,null,null,null,null,{"$f":"IF(ISERROR(VLOOKUP(H115,Database!$B$1:$C$5000,2,FALSE)),\"\",VLOOKUP(H115,Database!$B$1:$C$5000,2,FALSE))","v":""},"",{"$error":"#N/A"},null,null,null,null,null,null,null,null,"",false,2,{"$f":"VLOOKUP(H115,Database!$B$1:$D$5000,3,0)","v":{"$error":"#N/A"}},true]
["",null,null,null,null,null,null,null,{"$f":"IF(ISERROR(VLOOKUP(H116,Database!$B$1:$C$5000,2,FALSE)),\"\",VLOOKUP(H116,Database!$B$1:$C$5000,2,FALSE))","v":""},"",{"$error":"#N/A"},null,null,null,null,null,null,null,null,"",false,2,{"$f":"VLOOKUP(H116,Database!$B$1:$D$5000,3,0)","v":{"$error":"#N/A"}},true]
["",null,null,null,null,null,null,null,{"$f":"IF(ISERROR(VLOOKUP(H117,Database!$B$1:$C$5000,2,FALSE)),\"\",VLOOKUP(H117,Database!$B$1:$C$5000,2,FALSE))","v":""},"",{"$error":"#N/A"},null,null,null,null,null,null,null,null,"",false,2,{"$f":"VLOOKUP(H117,Database!$B$1:$D$5000,3,0)","v":{"$error":"#N/A"}},true]
["",null,null,null,null,null,null,null,{"$f":"IF(ISERROR(VLOOKUP(H118,Database!$B$1:$C$5000,2,FALSE)),\"\",VLOOKUP(H118,Database!$B$1:$C$5000,2,FALSE))","v":""},"",{"$error":"#N/A"},null,null,null,null,null,null,null,null,"",false,2,{"$f":"VLOOKUP(H118,Database!$B$1:$D$5000,3,0)","v":{"$error":"#N/A"}},true]
["",null,null,null,null,null,null,null,{"$f":"IF(ISERROR(VLOOKUP(H119,Database!$B$1:$C$5000,2,FALSE)),\"\",VLOOKUP(H119,Database!$B$1:$C$5000,2,FALSE))","v":""},"",{"$error":"#N/A"},null,null,null,null,null,null,null,null,"",false,2,{"$f":"VLOOKUP(H119,Database!$B$1:$D$5000,3,0)","v":{"$error":"#N/A"}},true]
["",null,null,null,null,null,null,null,{"$f":"IF(ISERROR(VLOOKUP(H120,Database!$B$1:$C$5000,2,FALSE)),\"\",VLOOKUP(H120,Database!$B$1:$C$5000,2,FALSE))","v":""},"",{"$error":"#N/A"},null,null,null,null,null,null,null,null,"",false,2,{"$f":"VLOOKUP(H120,Database!$B$1:$D$5000,3,0)","v":{"$error":"#N/A"}},true]
["",null,null,null,null,null,null,null,{"$f":"IF(ISERROR(VLOOKUP(H121,Database!$B$1:$C$5000,2,FALSE)),\"\",VLOOKUP(H121,Database!$B$1:$C$5000,2,FALSE))","v":""},"",{"$error":"#N/A"},null,null,null,null,null,null,null,null,"",false,2,{"$f":"VLOOKUP(H121,Database!$B$1:$D$5000,3,0)","v":{"$error":"#N/A"}},true]
["",null,null,null,null,null,null,null,{"$f":"IF(ISERROR(VLOOKUP(H122,Database!$B$1:$C$5000,2,FALSE)),\"\",VLOOKUP(H122,Database!$B$1:$C$5000,2,FALSE))","v":""},"",{"$error":"#N/A"},null,null,null,null,null,null,null,null,"",false,2,{"$f":"VLOOKUP(H122,Database!$B$1:$D$5000,3,0)","v":{"$error":"#N/A"}},true]
["",null,null,null,null,null,null,null,{"$f":"IF(ISERROR(VLOOKUP(H123,Database!$B$1:$C$5000,2,FALSE)),\"\",VLOOKUP(H123,Database!$B$1:$C$5000,2,FALSE))","v":""},"",{"$error":"#N/A"},null,null,null,null,null,null,null,null,"",false,2,{"$f":"VLOOKUP(H123,Database!$B$1:$D$5000,3,0)","v":{"$error":"#N/A"}},true]
["",null,null,null,null,null,null,null,{"$f":"IF(ISERROR(VLOOKUP(H124,Database!$B$1:$C$5000,2,FALSE)),\"\",VLOOKUP(H124,Database!$B$1:$C$5000,2,FALSE))","v":""},"",{"$error":"#N/A"},null,null,null,null,null,null,null,null,"",false,2,{"$f":"VLOOKUP(H124,Database!$B$1:$D$5000,3,0)","v":{"$error":"#N/A"}},true]
["",null,null,null,null,null,null,null,{"$f":"IF(ISERROR(VLOOKUP(H125,Database!$B$1:$C$5000,2,FALSE)),\"\",VLOOKUP(H125,Database!$B$1:$C$5000,2,FALSE))","v":""},"",{"$error":"#N/A"},null,null,null,null,null,null,null,null,"",false,2,{"$f":"VLOOKUP(H125,Database!$B$1:$D$5000,3,0)","v":{"$error":"#N/A"}},true]
["",null,null,null,null,null,null,null,{"$f":"IF(ISERROR(VLOOKUP(H126,Database!$B$1:$C$5000,2,FALSE)),\"\",VLOOKUP(H126,Database!$B$1:$C$5000,2,FALSE))","v":""},"",{"$error":"#N/A"},null,null,null,null,null,null,null,null,"",false,2,{"$f":"VLOOKUP(H126,Database!$B$1:$D$5000,3,0)","v":{"$error":"#N/A"}},true]
["",null,null,null,null,null,null,null,{"$f":"IF(ISERROR(VLOOKUP(H127,Database!$B$1:$C$5000,2,FALSE)),\"\",VLOOKUP(H127,Database!$B$1:$C$5000,2,FALSE))","v":""},"",{"$error":"#N/A"},null,null,null,null,null,null,null,null,"",false,2,{"$f":"VLOOKUP(H127,Database!$B$1:$D$5000,3,0)","v":{"$error":"#N/A"}},true]
["",null,null,null,null,null,null,null,{"$f":"IF(ISERROR(VLOOKUP(H128,Database!$B$1:$C$5000,2,FALSE)),\"\",VLOOKUP(H128,Database!$B$1:$C$5000,2,FALSE))","v":""},"",{"$error":"#N/A"},null,null,null,null,null,null,null,null,"",false,2,{"$f":"VLOOKUP(H128,Database!$B$1:$D$5000,3,0)","v":{"$error":"#N/A"}},true]
["",null,null,null,null,null,null,null,{"$f":"IF(ISERROR(VLOOKUP(H129,Database!$B$1:$C$5000,2,FALSE)),\"\",VLOOKUP(H129,Database!$B$1:$C$5000,2,FALSE))","v":""},"",{"$error":"#N/A"},null,null,null,null,null,null,null,null,"",false,2,{"$f":"VLOOKUP(H129,Database!$B$1:$D$5000,3,0)","v":{"$error":"#N/A"}},true]
["",null,null,null,null,null,null,null,{"$f":"IF(ISERROR(VLOOKUP(H130,Database!$B$1:$C$5000,2,FALSE)),\"\",VLOOKUP(H130,Database!$B$1:$C$5000,2,FALSE))","v":""},"",{"$error":"#N/A"},null,null,null,null,null,null,null,null,"",false,2,{"$f":"VLOOKUP(H130,Database!$B$1:$D$5000,3,0)","v":{"$error":"#N/A"}},true]
["",null,null,null,null,null,null,null,{"$f":"IF(ISERROR(VLOOKUP(H131,Database!$B$1:$C$5000,2,FALSE)),\"\",VLOOKUP(H131,Database!$B$1:$C$5000,2,FALSE))","v":""},"",{"$error":"#N/A"},null,null,null,null,null,null,null,null,"",false,2,{"$f":"VLOOKUP(H131,Database!$B$1:$D$5000,3,0)","v":{"$error":"#N/A"}},true]
["",null,null,null,null,null,null,null,{"$f":"IF(ISERROR(VLOOKUP(H132,Database!$B$1:$C$5000,2,FALSE)),\"\",VLOOKUP(H132,Database!$B$1:$C$5000,2,FALSE))","v":""},"",{"$error":"#N/A"},null,null,null,null,null,null,null,null,"",false,2,{"$f":"VLOOKUP(H132,Database!$B$1:$D$5000,3,0)","v":{"$error":"#N/A"}},true]
["",null,null,null,null,null,null,null,{"$f":"IF(ISERROR(VLOOKUP(H133,Database!$B$1:$C$5000,2,FALSE)),\"\",VLOOKUP(H133,Database!$B$1:$C$5000,2,FALSE))","v":""},"",{"$error":"#N/A"},null,null,null,null,null,null,null,null,"",false,2,{"$f":"VLOOKUP(H133,Database!$B$1:$D$5000,3,0)","v":{"$error":"#N/A"}},true]
["",null,null,null,null,null,null,null,{"$f":"IF(ISERROR(VLOOKUP(H134,Database!$B$1:$C$5000,2,FALSE)),\"\",VLOOKUP(H134,Database!$B$1:$C$5000,2,FALSE))","v":""},"",{"$error":"#N/A"},null,null,null,null,null,null,null,null,"",false,2,{"$f":"VLOOKUP(H134,Database!$B$1:$D$5000,3,0)","v":{"$error":"#N/A"}},true]
[{"$f":"IF(B135=\"\",\"\",ROW(A130))","v":""},null,null,null,null,null,null,null,{"$f":"IF(ISERROR(VLOOKUP(H135,Database!$B$1:$C$5000,2,FALSE)),\"\",VLOOKUP(H135,Database!$B$1:$C$5000,2,FALSE))","v":""},{"$f":"IF(V135=1,1,IF(AND(T135=0,F135=\"SSB\",V135<>\"\"),3,IF(AND(T135=0,F135=\"DIGI\",V135<>\"\"),2,IF(AND(T135=0,F135=\"CW\",V135<>\"\"),5,IF(H135=\"-\",\"\",T135)))))","v":""},{"$f":"IF(H135=\"-\",\"\",IF(AND(H135<>\"\",X135=TRUE),\"INDIPENDENT\",IF(W135=0,\"SCRIVI NOME NELLE NOTE\",W135)))","v":{"$error":"#N/A"}},null,null,null,null,null,null,null,null,{"$f":"IF(H135=\"\",\"\",IF(H135=$R$6,25,IF(OR(H135=$R$7,H135=$R$8,H135=$R$9,H135=$R$10,H135=$R$11,H135=$R$12,H135=$R$13,H135=$R$14,H135=$R$15,H135=$R$16,H135=$R$17,H135=$R$18,H135=$R$19,H135=$R$20,H135=$R$21,H135=$R$22,H135=$R$23),15,0)))","v":""},{"$f":"ISERROR(I135)","v":false},{"$f":"IF(H135=\"-\",\"\",IF(AND(T135=0,U135=FALSE,I135=\"\"),1,2))","v":2},{"$f":"VLOOKUP(H135,Database!$B$1:$D$5000,3,0)","v":{"$error":"#N/A"}},{"$f":"ISERROR(W135)","v":true}]
["",null,null,null,null,null,null,null,{"$f":"IF(ISERROR(VLOOKUP(H136,Database!$B$1:$C$5000,2,FALSE)),\"\",VLOOKUP(H136,Database!$B$1:$C$5000,2,FALSE))","v":""},"",{"$error":"#N/A"},null,null,null,null,null,null,null,null,"",false,2,{"$f":"VLOOKUP(H136,Database!$B$1:$D$5000,3,0)","v":{"$error":"#N/A"}},true]
["",null,null,null,null,null,null,null,{"$f":"IF(ISERROR(VLOOKUP(H137,Database!$B$1:$C$5000,2,FALSE)),\"\",VLOOKUP(H137,Database!$B$1:$C$5000,2,FALSE))","v":""},"",{"$error":"#N/A"},null,null,null,null,null,null,null,null,"",false,2,{"$f":"VLOOKUP(H137,Database!$B$1:$D$5000,3,0)","v":{"$error":"#N/A"}},true]
["",null,null,null,null,null,null,null,{"$f":"IF(ISERROR(VLOOKUP(H138,Database!$B$1:$C$5000,2,FALSE)),\"\",VLOOKUP(H138,Database!$B$1:$C$5000,2,FALSE))","v":""},"",{"$error":"#N/A"},null,null,null,null,null,null,null,null,"",false,2,{"$f":"VLOOKUP(H138,Database!$B$1:$D$5000,3,0)","v":{"$error":"#N/A"}},true]
["",null,null,null,null,null,null,null,{"$f":"IF(ISERROR(VLOOKUP(H139,Database!$B$1:$C$5000,2,FALSE)),\"\",VLOOKUP(H139,Database!$B$1:$C$5000,2,FALSE))","v":""},"",{"$error":"#N/A"},null,null,null,null,null,null,null,null,"",false,2,{"$f":"VLOOKUP(H139,Database!$B$1:$D$5000,3,0)","v":{"$error":"#N/A"}},true]
["",null,null,null,null,null,null,null,{"$f":"IF(ISERROR(VLOOKUP(H140,Database!$B$1:$C$5000,2,FALSE)),\"\",VLOOKUP(H140,Database!$B$1:$C$5000,2,FALSE))","v":""},"",{"$error":"#N/A"},null,null,null,null,null,null,null,null,"",false,2,{"$f":"VLOOKUP(H140,Database!$B$1:$D$5000,3,0)","v":{"$error":"#N/A"}},true]
["",null,null,null,null,null,null,null,{"$f":"IF(ISERROR(VLOOKUP(H141,Database!$B$1:$C$5000,2,FALSE)),\"\",VLOOKUP(H141,Database!$B$1:$C$5000,2,FALSE))","v":""},"",{"$error":"#N/A"},null,null,null,null,null,null,null,null,"",false,2,{"$f":"VLOOKUP(H141,Database!$B$1:$D$5000,3,0)","v":{"$error":"#N/A"}},true]
["",null,null,null,null,null,null,null,{"$f":"IF(ISERROR(VLOOKUP(H142,Database!$B$1:$C$5000,2,FALSE)),\"\",VLOOKUP(H142,Database!$B$1:$C$5000,2,FALSE))","v":""},"",{"$error":"#N/A"},null,null,null,null,null,null,null,null,"",false,2,{"$f":"VLOOKUP(H142,Database!$B$1:$D$5000,3,0)","v":{"$error":"#N/A"}},true]
["",null,null,null,null,null,null,null,{"$f":"IF(ISERROR(VLOOKUP(H143,Database!$B$1:$C$5000,2,FALSE)),\"\",VLOOKUP(H143,Database!$B$1:$C$5000,2,FALSE))","v":""},"",{"$error":"#N/A"},null,null,null,null,null,null,null,null,"",false,2,{"$f":"VLOOKUP(H143,Database!$B$1:$D$5000,3,0)","v":{"$error":"#N/A"}},true]
["",null,null,null,null,null,null,null,{"$f":"IF(ISERROR(VLOOKUP(H144,Database!$B$1:$C$5000,2,FALSE)),\"\",VLOOKUP(H144,Database!$B$1:$C$5000,2,FALSE))","v":""},"",{"$error":"#N/A"},null,null,null,null,null,null,null,null,"",{"$f":"ISERROR(I144)","v":false},2,{"$f":"VLOOKUP(H144,Database!$B$1:$D$5000,3,0)","v":{"$error":"#N/A"}},true]
["",null,null,null,null,null,null,null,{"$f":"IF(ISERROR(VLOOKUP(H145,Database!$B$1:$C$5000,2,FALSE)),\"\",VLOOKUP(H145,Database!$B$1:$C$5000,2,FALSE))","v":""},"",{"$error":"#N/A"},null,null,null,null,null,null,null,null,"",{"$f":"ISERROR(I145)","v":false},2,{"$f":"VLOOKUP(H145,Database!$B$1:$D$5000,3,0)","v":{"$error":"#N/A"}},true]
["",null,null,null,null,null,null,null,{"$f":"IF(ISERROR(VLOOKUP(H146,Database!$B$1:$C$5000,2,FALSE)),\"\",VLOOKUP(H146,Database!$B$1:$C$5000,2,FALSE))","v":""},"",{"$error":"#N/A"},null,null,null,null,null,null,null,null,"",false,2,{"$f":"VLOOKUP(H146,Database!$B$1:$D$5000,3,0)","v":{"$error":"#N/A"}},true]
["",null,null,null,null,null,null,null,{"$f":"IF(ISERROR(VLOOKUP(H147,Database!$B$1:$C$5000,2,FALSE)),\"\",VLOOKUP(H147,Database!$B$1:$C$5000,2,FALSE))","v":""},"",{"$error":"#N/A"},null,null,null,null,null,null,null,null,"",false,2,{"$f":"VLOOKUP(H147,Database!$B$1:$D$5000,3,0)","v":{"$error":"#N/A"}},true]
["",null,null,null,null,null,null,null,{"$f":"IF(ISERROR(VLOOKUP(H148,Database!$B$1:$C$5000,2,FALSE)),\"\",VLOOKUP(H148,Database!$B$1:$C$5000,2,FALSE))","v":""},"",{"$error":"#N/A"},null,null,null,null,null,null,null,null,"",false,2,{"$f":"VLOOKUP(H148,Database!$B$1:$D$5000,3,0)","v":{"$error":"#N/A"}},true]
["",null,null,null,null,null,null,null,{"$f":"IF(ISERROR(VLOOKUP(H149,Database!$B$1:$C$5000,2,FALSE)),\"\",VLOOKUP(H149,Database!$B$1:$C$5000,2,FALSE))","v":""},"",{"$error":"#N/A"},null,null,null,null,null,null,null,null,"",false,2,{"$f":"VLOOKUP(H149,Database!$B$1:$D$5000,3,0)","v":{"$error":"#N/A"}},true]
["",null,null,null,null,null,null,null,{"$f":"IF(ISERROR(VLOOKUP(H150,Database!$B$1:$C$5000,2,FALSE)),\"\",VLOOKUP(H150,Database!$B$1:$C$5000,2,FALSE))","v":""},"",{"$error":"#N/A"},null,null,null,null,null,null,null,null,"",false,2,{"$f":"VLOOKUP(H150,Database!$B$1:$D$5000,3,0)","v":{"$error":"#N/A"}},true]
["",null,null,null,null,null,null,null,{"$f":"IF(ISERROR(VLOOKUP(H151,Database!$B$1:$C$5000,2,FALSE)),\"\",VLOOKUP(H151,Database!$B$1:$C$5000,2,FALSE))","v":""},"",{"$error":"#N/A"},null,null,null,null,null,null,null,null,"",false,2,{"$f":"VLOOKUP(H151,Database!$B$1:$D$5000,3,0)","v":{"$error":"#N/A"}},true]
["",null,null,null,null,null,null,null,{"$f":"IF(ISERROR(VLOOKUP(H152,Database!$B$1:$C$5000,2,FALSE)),\"\",VLOOKUP(H152,Database!$B$1:$C$5000,2,FALSE))","v":""},"",{"$error":"#N/A"},null,null,null,null,null,null,null,null,"",false,2,{"$f":"VLOOKUP(H152,Database!$B$1:$D$5000,3,0)","v":{"$error":"#N/A"}},true]
["",null,null,null,null,null,null,null,{"$f":"IF(ISERROR(VLOOKUP(H153,Database!$B$1:$C$5000,2,FALSE)),\"\",VLOOKUP(H153,Database!$B$1:$C$5000,2,FALSE))","v":""},"",{"$error":"#N/A"},null,null,null,null,null,null,null,null,"",false,2,{"$f":"VLOOKUP(H153,Database!$B$1:$D$5000,3,0)","v":{"$error":"#N/A"}},true]
["",null,null,null,null,null,null,null,{"$f":"IF(ISERROR(VLOOKUP(H154,Database!$B$1:$C$5000,2,FALSE)),\"\",VLOOKUP(H154,Database!$B$1:$C$5000,2,FALSE))","v":""},"",{"$error":"#N/A"},null,null,null,null,null,null,null,null,"",false,2,{"$f":"VLOOKUP(H154,Database!$B$1:$D$5000,3,0)","v":{"$error":"#N/A"}},true]
["",null,null,null,null,null,null,null,{"$f":"IF(ISERROR(VLOOKUP(H155,Database!$B$1:$C$5000,2,FALSE)),\"\",VLOOKUP(H155,Database!$B$1:$C$5000,2,FALSE))","v":""},"",{"$error":"#N/A"},null,null,null,null,null,null,null,null,"",false,2,{"$f":"VLOOKUP(H155,Database!$B$1:$D$5000,3,0)","v":{"$error":"#N/A"}},true]
["",null,null,null,null,null,null,null,{"$f":"IF(ISERROR(VLOOKUP(H156,Database!$B$1:$C$5000,2,FALSE)),\"\",VLOOKUP(H156,Database!$B$1:$C$5000,2,FALSE))","v":""},"",{"$error":"#N/A"},null,null,null,null,null,null,null,null,"",false,2,{"$f":"VLOOKUP(H156,Database!$B$1:$D$5000,3,0)","v":{"$error":"#N/A"}},true]
["",null,null,null,null,null,null,null,{"$f":"IF(ISERROR(VLOOKUP(H157,Database!$B$1:$C$5000,2,FALSE)),\"\",VLOOKUP(H157,Database!$B$1:$C$5000,2,FALSE))","v":""},"",{"$error":"#N/A"},null,null,null,null,null,null,null,null,"",false,2,{"$f":"VLOOKUP(H157,Database!$B$1:$D$5000,3,0)","v":{"$error":"#N/A"}},true]
["",null,null,null,null,null,null,null,{"$f":"IF(ISERROR(VLOOKUP(H158,Database!$B$1:$C$5000,2,FALSE)),\"\",VLOOKUP(H158,Database!$B$1:$C$5000,2,FALSE))","v":""},"",{"$error":"#N/A"},null,null,null,null,null,null,null,null,"",false,2,{"$f":"VLOOKUP(H158,Database!$B$1:$D$5000,3,0)","v":{"$error":"#N/A"}},true]
["",null,null,null,null,null,null,null,{"$f":"IF(ISERROR(VLOOKUP(H159,Database!$B$1:$C$5000,2,FALSE)),\"\",VLOOKUP(H159,Database!$B$1:$C$5000,2,FALSE))","v":""},"",{"$error":"#N/A"},null,null,null,null,null,null,null,null,"",false,2,{"$f":"VLOOKUP(H159,Database!$B$1:$D$5000,3,0)","v":{"$error":"#N/A"}},true]
["",null,null,null,null,null,null,null,{"$f":"IF(ISERROR(VLOOKUP(H160,Database!$B$1:$C$5000,2,FALSE)),\"\",VLOOKUP(H160,Database!$B$1:$C$5000,2,FALSE))","v":""},"",{"$error":"#N/A"},null,null,null,null,null,null,null,null,"",false,2,{"$f":"VLOOKUP(H160,Database!$B$1:$D$5000,3,0)","v":{"$error":"#N/A"}},true]
["",null,null,null,null,null,null,null,{"$f":"IF(ISERROR(VLOOKUP(H161,Database!$B$1:$C$5000,2,FALSE)),\"\",VLOOKUP(H161,Database!$B$1:$C$5000,2,FALSE))","v":""},"",{"$error":"#N/A"},null,null,null,null,null,null,null,null,"",false,2,{"$f":"VLOOKUP(H161,Database!$B$1:$D$5000,3,0)","v":{"$error":"#N/A"}},true]
["",null,null,null,null,null,null,null,{"$f":"IF(ISERROR(VLOOKUP(H162,Database!$B$1:$C$5000,2,FALSE)),\"\",VLOOKUP(H162,Database!$B$1:$C$5000,2,FALSE))","v":""},"",{"$error":"#N/A"},null,null,null,null,null,null,null,null,"",false,2,{"$f":"VLOOKUP(H162,Database!$B$1:$D$5000,3,0)","v":{"$error":"#N/A"}},true]
["",null,null,null,null,null,null,null,{"$f":"IF(ISERROR(VLOOKUP(H163,Database!$B$1:$C$5000,2,FALSE)),\"\",VLOOKUP(H163,Database!$B$1:$C$5000,2,FALSE))","v":""},"",{"$error":"#N/A"},null,null,null,null,null,null,null,null,"",false,2,{"$f":"VLOOKUP(H163,Database!$B$1:$D$5000,3,0)","v":{"$error":"#N/A"}},true]
["",null,null,null,null,null,null,null,{"$f":"IF(ISERROR(VLOOKUP(H164,Database!$B$1:$C$5000,2,FALSE)),\"\",VLOOKUP(H164,Database!$B$1:$C$5000,2,FALSE))","v":""},"",{"$error":"#N/A"},null,null,null,null,null,null,null,null,"",false,2,{"$f":"VLOOKUP(H164,Database!$B$1:$D$5000,3,0)","v":{"$error":"#N/A"}},true]
["",null,null,null,null,null,null,null,{"$f":"IF(ISERROR(VLOOKUP(H165,Database!$B$1:$C$5000,2,FALSE)),\"\",VLOOKUP(H165,Database!$B$1:$C$5000,2,FALSE))","v":""},"",{"$error":"#N/A"},null,null,null,null,null,null,null,null,"",false,2,{"$f":"VLOOKUP(H165,Database!$B$1:$D$5000,3,0)","v":{"$error":"#N/A"}},true]
["",null,null,null,null,null,null,null,{"$f":"IF(ISERROR(VLOOKUP(H166,Database!$B$1:$C$5000,2,FALSE)),\"\",VLOOKUP(H166,Database!$B$1:$C$5000,2,FALSE))","v":""},"",{"$error":"#N/A"},null,null,null,null,null,null,null,null,"",false,2,{"$f":"VLOOKUP(H166,Database!$B$1:$D$5000,3,0)","v":{"$error":"#N/A"}},true]
["",null,null,null,null,null,null,null,{"$f":"IF(ISERROR(VLOOKUP(H167,Database!$B$1:$C$5000,2,FALSE)),\"\",VLOOKUP(H167,Database!$B$1:$C$5000,2,FALSE))","v":""},"",{"$error":"#N/A"},null,null,null,null,null,null,null,null,"",false,2,{"$f":"VLOOKUP(H167,Database!$B$1:$D$5000,3,0)","v":{"$error":"#N/A"}},true]
["",null,null,null,null,null,null,null,{"$f":"IF(ISERROR(VLOOKUP(H168,Database!$B$1:$C$5000,2,FALSE)),\"\",VLOOKUP(H168,Database!$B$1:$C$5000,2,FALSE))","v":""},"",{"$error":"#N/A"},null,null,null,null,null,null,null,null,"",false,2,{"$f":"VLOOKUP(H168,Database!$B$1:$D$5000,3,0)","v":{"$error":"#N/A"}},true]
["",null,null,null,null,null,null,null,{"$f":"IF(ISERROR(VLOOKUP(H169,Database!$B$1:$C$5000,2,FALSE)),\"\",VLOOKUP(H169,Database!$B$1:$C$5000,2,FALSE))","v":""},"",{"$error":"#N/A"},null,null,null,null,null,null,null,null,"",false,2,{"$f":"VLOOKUP(H169,Database!$B$1:$D$5000,3,0)","v":{"$error":"#N/A"}},true]
["",null,null,null,null,null,null,null,{"$f":"IF(ISERROR(VLOOKUP(H170,Database!$B$1:$C$5000,2,FALSE)),\"\",VLOOKUP(H170,Database!$B$1:$C$5000,2,FALSE))","v":""},"",{"$error":"#N/A"},null,null,null,null,null,null,null,null,"",false,2,{"$f":"VLOOKUP(H170,Database!$B$1:$D$5000,3,0)","v":{"$error":"#N/A"}},true]
["",null,null,null,null,null,null,null,{"$f":"IF(ISERROR(VLOOKUP(H171,Database!$B$1:$C$5000,2,FALSE)),\"\",VLOOKUP(H171,Database!$B$1:$C$5000,2,FALSE))","v":""},"",{"$error":"#N/A"},null,null,null,null,null,null,null,null,"",false,2,{"$f":"VLOOKUP(H171,Database!$B$1:$D$5000,3,0)","v":{"$error":"#N/A"}},true]
["",null,null,null,null,null,null,null,{"$f":"IF(ISERROR(VLOOKUP(H172,Database!$B$1:$C$5000,2,FALSE)),\"\",VLOOKUP(H172,Database!$B$1:$C$5000,2,FALSE))","v":""},"",{"$error":"#N/A"},null,null,null,null,null,null,null,null,"",false,2,{"$f":"VLOOKUP(H172,Database!$B$1:$D$5000,3,0)","v":{"$error":"#N/A"}},true]
["",null,null,null,null,null,null,null,{"$f":"IF(ISERROR(VLOOKUP(H173,Database!$B$1:$C$5000,2,FALSE)),\"\",VLOOKUP(H173,Database!$B$1:$C$5000,2,FALSE))","v":""},"",{"$error":"#N/A"},null,null,null,null,null,null,null,null,"",false,2,{"$f":"VLOOKUP(H173,Database!$B$1:$D$5000,3,0)","v":{"$error":"#N/A"}},true]
["",null,null,null,null,null,null,null,{"$f":"IF(ISERROR(VLOOKUP(H174,Database!$B$1:$C$5000,2,FALSE)),\"\",VLOOKUP(H174,Database!$B$1:$C$5000,2,FALSE))","v":""},"",{"$error":"#N/A"},null,null,null,null,null,null,null,null,"",false,2,{"$f":"VLOOKUP(H174,Database!$B$1:$D$5000,3,0)","v":{"$error":"#N/A"}},true]
["",null,null,null,null,null,null,null,{"$f":"IF(ISERROR(VLOOKUP(H175,Database!$B$1:$C$5000,2,FALSE)),\"\",VLOOKUP(H175,Database!$B$1:$C$5000,2,FALSE))","v":""},"",{"$error":"#N/A"},null,null,null,null,null,null,null,null,"",false,2,{"$f":"VLOOKUP(H175,Database!$B$1:$D$5000,3,0)","v":{"$error":"#N/A"}},true]
["",null,null,null,null,null,null,null,{"$f":"IF(ISERROR(VLOOKUP(H176,Database!$B$1:$C$5000,2,FALSE)),\"\",VLOOKUP(H176,Database!$B$1:$C$5000,2,FALSE))","v":""},"",{"$error":"#N/A"},null,null,null,null,null,null,null,null,"",false,2,{"$f":"VLOOKUP(H176,Database!$B$1:$D$5000,3,0)","v":{"$error":"#N/A"}},true]
["",null,null,null,null,null,null,null,{"$f":"IF(ISERROR(VLOOKUP(H177,Database!$B$1:$C$5000,2,FALSE)),\"\",VLOOKUP(H177,Database!$B$1:$C$5000,2,FALSE))","v":""},"",{"$error":"#N/A"},null,null,null,null,null,null,null,null,"",false,2,{"$f":"VLOOKUP(H177,Database!$B$1:$D$5000,3,0)","v":{"$error":"#N/A"}},true]
["",null,null,null,null,null,null,null,{"$f":"IF(ISERROR(VLOOKUP(H178,Database!$B$1:$C$5000,2,FALSE)),\"\",VLOOKUP(H178,Database!$B$1:$C$5000,2,FALSE))","v":""},"",{"$error":"#N/A"},null,null,null,null,null,null,null,null,"",false,2,{"$f":"VLOOKUP(H178,Database!$B$1:$D$5000,3,0)","v":{"$error":"#N/A"}},true]
["",null,null,null,null,null,null,null,{"$f":"IF(ISERROR(VLOOKUP(H179,Database!$B$1:$C$5000,2,FALSE)),\"\",VLOOKUP(H179,Database!$B$1:$C$5000,2,FALSE))","v":""},"",{"$error":"#N/A"},null,null,null,null,null,null,null,null,"",false,2,{"$f":"VLOOKUP(H179,Database!$B$1:$D$5000,3,0)","v":{"$error":"#N/A"}},true]
["",null,null,null,null,null,null,null,{"$f":"IF(ISERROR(VLOOKUP(H180,Database!$B$1:$C$5000,2,FALSE)),\"\",VLOOKUP(H180,Database!$B$1:$C$5000,2,FALSE))","v":""},"",{"$error":"#N/A"},null,null,null,null,null,null,null,null,"",false,2,{"$f":"VLOOKUP(H180,Database!$B$1:$D$5000,3,0)","v":{"$error":"#N/A"}},true]
["",null,null,null,null,null,null,null,{"$f":"IF(ISERROR(VLOOKUP(H181,Database!$B$1:$C$5000,2,FALSE)),\"\",VLOOKUP(H181,Database!$B$1:$C$5000,2,FALSE))","v":""},"",{"$error":"#N/A"},null,null,null,null,null,null,null,null,"",false,2,{"$f":"VLOOKUP(H181,Database!$B$1:$D$5000,3,0)","v":{"$error":"#N/A"}},true]
["",null,null,null,null,null,null,null,{"$f":"IF(ISERROR(VLOOKUP(H182,Database!$B$1:$C$5000,2,FALSE)),\"\",VLOOKUP(H182,Database!$B$1:$C$5000,2,FALSE))","v":""},"",{"$error":"#N/A"},null,null,null,null,null,null,null,null,"",false,2,{"$f":"VLOOKUP(H182,Database!$B$1:$D$5000,3,0)","v":{"$error":"#N/A"}},true]
["",null,null,null,null,null,null,null,{"$f":"IF(ISERROR(VLOOKUP(H183,Database!$B$1:$C$5000,2,FALSE)),\"\",VLOOKUP(H183,Database!$B$1:$C$5000,2,FALSE))","v":""},"",{"$error":"#N/A"},null,null,null,null,null,null,null,null,"",false,2,{"$f":"VLOOKUP(H183,Database!$B$1:$D$5000,3,0)","v":{"$error":"#N/A"}},true]
["",null,null,null,null,null,null,null,{"$f":"IF(ISERROR(VLOOKUP(H184,Database!$B$1:$C$5000,2,FALSE)),\"\",VLOOKUP(H184,Database!$B$1:$C$5000,2,FALSE))","v":""},"",{"$error":"#N/A"},null,null,null,null,null,null,null,null,"",false,2,{"$f":"VLOOKUP(H184,Database!$B$1:$D$5000,3,0)","v":{"$error":"#N/A"}},true]
["",null,null,null,null,null,null,null,{"$f":"IF(ISERROR(VLOOKUP(H185,Database!$B$1:$C$5000,2,FALSE)),\"\",VLOOKUP(H185,Database!$B$1:$C$5000,2,FALSE))","v":""},"",{"$error":"#N/A"},null,null,null,null,null,null,null,null,"",false,2,{"$f":"VLOOKUP(H185,Database!$B$1:$D$5000,3,0)","v":{"$error":"#N/A"}},true]
["",null,null,null,null,null,null,null,{"$f":"IF(ISERROR(VLOOKUP(H186,Database!$B$1:$C$5000,2,FALSE)),\"\",VLOOKUP(H186,Database!$B$1:$C$5000,2,FALSE))","v":""},"",{"$error":"#N/A"},null,null,null,null,null,null,null,null,"",false,2,{"$f":"VLOOKUP(H186,Database!$B$1:$D$5000,3,0)","v":{"$error":"#N/A"}},true]
["",null,null,null,null,null,null,null,{"$f":"IF(ISERROR(VLOOKUP(H187,Database!$B$1:$C$5000,2,FALSE)),\"\",VLOOKUP(H187,Database!$B$1:$C$5000,2,FALSE))","v":""},"",{"$error":"#N/A"},null,null,null,null,null,null,null,null,"",false,2,{"$f":"VLOOKUP(H187,Database!$B$1:$D$5000,3,0)","v":{"$error":"#N/A"}},true]
["",null,null,null,null,null,null,null,{"$f":"IF(ISERROR(VLOOKUP(H188,Database!$B$1:$C$5000,2,FALSE)),\"\",VLOOKUP(H188,Database!$B$1:$C$5000,2,FALSE))","v":""},"",{"$error":"#N/A"},null,null,null,null,null,null,null,null,"",false,2,{"$f":"VLOOKUP(H188,Database!$B$1:$D$5000,3,0)","v":{"$error":"#N/A"}},true]
["",null,null,null,null,null,null,null,{"$f":"IF(ISERROR(VLOOKUP(H189,Database!$B$1:$C$5000,2,FALSE)),\"\",VLOOKUP(H189,Database!$B$1:$C$5000,2,FALSE))","v":""},"",{"$error":"#N/A"},null,null,null,null,null,null,null,null,"",false,2,{"$f":"VLOOKUP(H189,Database!$B$1:$D$5000,3,0)","v":{"$error":"#N/A"}},true]
["",null,null,null,null,null,null,null,{"$f":"IF(ISERROR(VLOOKUP(H190,Database!$B$1:$C$5000,2,FALSE)),\"\",VLOOKUP(H190,Database!$B$1:$C$5000,2,FALSE))","v":""},"",{"$error":"#N/A"},null,null,null,null,null,null,null,null,"",false,2,{"$f":"VLOOKUP(H190,Database!$B$1:$D$5000,3,0)","v":{"$error":"#N/A"}},true]
["",null,null,null,null,null,null,null,{"$f":"IF(ISERROR(VLOOKUP(H191,Database!$B$1:$C$5000,2,FALSE)),\"\",VLOOKUP(H191,Database!$B$1:$C$5000,2,FALSE))","v":""},"",{"$error":"#N/A"},null,null,null,null,null,null,null,null,"",false,2,{"$f":"VLOOKUP(H191,Database!$B$1:$D$5000,3,0)","v":{"$error":"#N/A"}},true]
["",null,null,null,null,null,null,null,{"$f":"IF(ISERROR(VLOOKUP(H192,Database!$B$1:$C$5000,2,FALSE)),\"\",VLOOKUP(H192,Database!$B$1:$C$5000,2,FALSE))","v":""},"",{"$error":"#N/A"},null,null,null,null,null,null,null,null,"",false,2,{"$f":"VLOOKUP(H192,Database!$B$1:$D$5000,3,0)","v":{"$error":"#N/A"}},true]
["",null,null,null,null,null,null,null,{"$f":"IF(ISERROR(VLOOKUP(H193,Database!$B$1:$C$5000,2,FALSE)),\"\",VLOOKUP(H193,Database!$B$1:$C$5000,2,FALSE))","v":""},"",{"$error":"#N/A"},null,null,null,null,null,null,null,null,"",false,2,{"$f":"VLOOKUP(H193,Database!$B$1:$D$5000,3,0)","v":{"$error":"#N/A"}},true]
["",null,null,null,null,null,null,null,{"$f":"IF(ISERROR(VLOOKUP(H194,Database!$B$1:$C$5000,2,FALSE)),\"\",VLOOKUP(H194,Database!$B$1:$C$5000,2,FALSE))","v":""},"",{"$error":"#N/A"},null,null,null,null,null,null,null,null,"",false,2,{"$f":"VLOOKUP(H194,Database!$B$1:$D$5000,3,0)","v":{"$error":"#N/A"}},true]
["",null,null,null,null,null,null,null,{"$f":"IF(ISERROR(VLOOKUP(H195,Database!$B$1:$C$5000,2,FALSE)),\"\",VLOOKUP(H195,Database!$B$1:$C$5000,2,FALSE))","v":""},"",{"$error":"#N/A"},null,null,null,null,null,null,null,null,"",false,2,{"$f":"VLOOKUP(H195,Database!$B$1:$D$5000,3,0)","v":{"$error":"#N/A"}},true]
["",null,null,null,null,null,null,null,{"$f":"IF(ISERROR(VLOOKUP(H196,Database!$B$1:$C$5000,2,FALSE)),\"\",VLOOKUP(H196,Database!$B$1:$C$5000,2,FALSE))","v":""},"",{"$error":"#N/A"},null,null,null,null,null,null,null,null,"",false,2,{"$f":"VLOOKUP(H196,Database!$B$1:$D$5000,3,0)","v":{"$error":"#N/A"}},true]
["",null,null,null,null,null,null,null,{"$f":"IF(ISERROR(VLOOKUP(H197,Database!$B$1:$C$5000,2,FALSE)),\"\",VLOOKUP(H197,Database!$B$1:$C$5000,2,FALSE))","v":""},"",{"$error":"#N/A"},null,null,null,null,null,null,null,null,"",false,2,{"$f":"VLOOKUP(H197,Database!$B$1:$D$5000,3,0)","v":{"$error":"#N/A"}},true]
["",null,null,null,null,null,null,null,{"$f":"IF(ISERROR(VLOOKUP(H198,Database!$B$1:$C$5000,2,FALSE)),\"\",VLOOKUP(H198,Database!$B$1:$C$5000,2,FALSE))","v":""},"",{"$error":"#N/A"},null,null,null,null,null,null,null,null,"",false,2,{"$f":"VLOOKUP(H198,Database!$B$1:$D$5000,3,0)","v":{"$error":"#N/A"}},true]
[{"$f":"IF(B199=\"\",\"\",ROW(A194))","v":""},null,null,null,null,null,null,null,{"$f":"IF(ISERROR(VLOOKUP(H199,Database!$B$1:$C$5000,2,FALSE)),\"\",VLOOKUP(H199,Database!$B$1:$C$5000,2,FALSE))","v":""},{"$f":"IF(V199=1,1,IF(AND(T199=0,F199=\"SSB\",V199<>\"\"),3,IF(AND(T199=0,F199=\"DIGI\",V199<>\"\"),2,IF(AND(T199=0,F199=\"CW\",V199<>\"\"),5,IF(H199=\"-\",\"\",T199)))))","v":""},{"$f":"IF(H199=\"-\",\"\",IF(AND(H199<>\"\",X199=TRUE),\"INDIPENDENT\",IF(W199=0,\"SCRIVI NOME NELLE NOTE\",W199)))","v":{"$error":"#N/A"}},null,null,null,null,null,null,null,null,{"$f":"IF(H199=\"\",\"\",IF(H199=$R$6,25,IF(OR(H199=$R$7,H199=$R$8,H199=$R$9,H199=$R$10,H199=$R$11,H199=$R$12,H199=$R$13,H199=$R$14,H199=$R$15,H199=$R$16,H199=$R$17,H199=$R$18,H199=$R$19,H199=$R$20,H199=$R$21,H199=$R$22,H199=$R$23),15,0)))","v":""},{"$f":"ISERROR(I199)","v":false},{"$f":"IF(H199=\"-\",\"\",IF(AND(T199=0,U199=FALSE,I199=\"\"),1,2))","v":2},{"$f":"VLOOKUP(H199,Database!$B$1:$D$5000,3,0)","v":{"$error":"#N/A"}},{"$f":"ISERROR(W199)","v":true}]
["",null,null,null,null,null,null,null,{"$f":"IF(ISERROR(VLOOKUP(H200,Database!$B$1:$C$5000,2,FALSE)),\"\",VLOOKUP(H200,Database!$B$1:$C$5000,2,FALSE))","v":""},"",{"$error":"#N/A"},null,null,null,null,null,null,null,null,"",false,2,{"$f":"VLOOKUP(H200,Database!$B$1:$D$5000,3,0)","v":{"$error":"#N/A"}},true]
["",null,null,null,null,null,null,null,{"$f":"IF(ISERROR(VLOOKUP(H201,Database!$B$1:$C$5000,2,FALSE)),\"\",VLOOKUP(H201,Database!$B$1:$C$5000,2,FALSE))","v":""},"",{"$error":"#N/A"},null,null,null,null,null,null,null,null,"",false,2,{"$f":"VLOOKUP(H201,Database!$B$1:$D$5000,3,0)","v":{"$error":"#N/A"}},true]
["",null,null,null,null,null,null,null,{"$f":"IF(ISERROR(VLOOKUP(H202,Database!$B$1:$C$5000,2,FALSE)),\"\",VLOOKUP(H202,Database!$B$1:$C$5000,2,FALSE))","v":""},"",{"$error":"#N/A"},null,null,null,null,null,null,null,null,"",false,2,{"$f":"VLOOKUP(H202,Database!$B$1:$D$5000,3,0)","v":{"$error":"#N/A"}},true]
["",null,null,null,null,null,null,null,{"$f":"IF(ISERROR(VLOOKUP(H203,Database!$B$1:$C$5000,2,FALSE)),\"\",VLOOKUP(H203,Database!$B$1:$C$5000,2,FALSE))","v":""},"",{"$error":"#N/A"},null,null,null,null,null,null,null,null,"",false,2,{"$f":"VLOOKUP(H203,Database!$B$1:$D$5000,3,0)","v":{"$error":"#N/A"}},true]
["",null,null,null,null,null,null,null,{"$f":"IF(ISERROR(VLOOKUP(H204,Database!$B$1:$C$5000,2,FALSE)),\"\",VLOOKUP(H204,Database!$B$1:$C$5000,2,FALSE))","v":""},"",{"$error":"#N/A"},null,null,null,null,null,null,null,null,"",false,2,{"$f":"VLOOKUP(H204,Database!$B$1:$D$5000,3,0)","v":{"$error":"#N/A"}},true]
["",null,null,null,null,null,null,null,{"$f":"IF(ISERROR(VLOOKUP(H205,Database!$B$1:$C$5000,2,FALSE)),\"\",VLOOKUP(H205,Database!$B$1:$C$5000,2,FALSE))","v":""},"",{"$error":"#N/A"},null,null,null,null,null,null,null,null,"",false,2,{"$f":"VLOOKUP(H205,Database!$B$1:$D$5000,3,0)","v":{"$error":"#N/A"}},true]
["",null,null,null,null,null,null,null,{"$f":"IF(ISERROR(VLOOKUP(H206,Database!$B$1:$C$5000,2,FALSE)),\"\",VLOOKUP(H206,Database!$B$1:$C$5000,2,FALSE))","v":""},"",{"$error":"#N/A"},null,null,null,null,null,null,null,null,"",false,2,{"$f":"VLOOKUP(H206,Database!$B$1:$D$5000,3,0)","v":{"$error":"#N/A"}},true]
["",null,null,null,null,null,null,null,{"$f":"IF(ISERROR(VLOOKUP(H207,Database!$B$1:$C$5000,2,FALSE)),\"\",VLOOKUP(H207,Database!$B$1:$C$5000,2,FALSE))","v":""},"",{"$error":"#N/A"},null,null,null,null,null,null,null,null,"",false,2,{"$f":"VLOOKUP(H207,Database!$B$1:$D$5000,3,0)","v":{"$error":"#N/A"}},true]
["",null,null,null,null,null,null,null,{"$f":"IF(ISERROR(VLOOKUP(H208,Database!$B$1:$C$5000,2,FALSE)),\"\",VLOOKUP(H208,Database!$B$1:$C$5000,2,FALSE))","v":""},"",{"$error":"#N/A"},null,null,null,null,null,null,null,null,"",false,2,{"$f":"VLOOKUP(H208,Database!$B$1:$D$5000,3,0)","v":{"$error":"#N/A"}},true]
["",null,null,null,null,null,null,null,{"$f":"IF(ISERROR(VLOOKUP(H209,Database!$B$1:$C$5000,2,FALSE)),\"\",VLOOKUP(H209,Database!$B$1:$C$5000,2,FALSE))","v":""},"",{"$error":"#N/A"},null,null,null,null,null,null,null,null,"",false,2,{"$f":"VLOOKUP(H209,Database!$B$1:$D$5000,3,0)","v":{"$error":"#N/A"}},true]
["",null,null,null,null,null,null,null,{"$f":"IF(ISERROR(VLOOKUP(H210,Database!$B$1:$C$5000,2,FALSE)),\"\",VLOOKUP(H210,Database!$B$1:$C$5000,2,FALSE))","v":""},"",{"$error":"#N/A"},null,null,null,null,null,null,null,null,"",false,2,{"$f":"VLOOKUP(H210,Database!$B$1:$D$5000,3,0)","v":{"$error":"#N/A"}},true]
["",null,null,null,null,null,null,null,{"$f":"IF(ISERROR(VLOOKUP(H211,Database!$B$1:$C$5000,2,FALSE)),\"\",VLOOKUP(H211,Database!$B$1:$C$5000,2,FALSE))","v":""},"",{"$error":"#N/A"},null,null,null,null,null,null,null,null,"",false,2,{"$f":"VLOOKUP(H211,Database!$B$1:$D$5000,3,0)","v":{"$error":"#N/A"}},true]
["",null,null,null,null,null,null,null,{"$f":"IF(ISERROR(VLOOKUP(H212,Database!$B$1:$C$5000,2,FALSE)),\"\",VLOOKUP(H212,Database!$B$1:$C$5000,2,FALSE))","v":""},"",{"$error":"#N/A"},null,null,null,null,null,null,null,null,"",false,2,{"$f":"VLOOKUP(H212,Database!$B$1:$D$5000,3,0)","v":{"$error":"#N/A"}},true]
["",null,null,null,null,null,null,null,{"$f":"IF(ISERROR(VLOOKUP(H213,Database!$B$1:$C$5000,2,FALSE)),\"\",VLOOKUP(H213,Database!$B$1:$C$5000,2,FALSE))","v":""},"",{"$error":"#N/A"},null,null,null,null,null,null,null,null,"",false,2,{"$f":"VLOOKUP(H213,Database!$B$1:$D$5000,3,0)","v":{"$error":"#N/A"}},true]
["",null,null,null,null,null,null,null,{"$f":"IF(ISERROR(VLOOKUP(H214,Database!$B$1:$C$5000,2,FALSE)),\"\",VLOOKUP(H214,Database!$B$1:$C$5000,2,FALSE))","v":""},"",{"$error":"#N/A"},null,null,null,null,null,null,null,null,"",false,2,{"$f":"VLOOKUP(H214,Database!$B$1:$D$5000,3,0)","v":{"$error":"#N/A"}},true]
["",null,null,null,null,null,null,null,{"$f":"IF(ISERROR(VLOOKUP(H215,Database!$B$1:$C$5000,2,FALSE)),\"\",VLOOKUP(H215,Database!$B$1:$C$5000,2,FALSE))","v":""},"",{"$error":"#N/A"},null,null,null,null,null,null,null,null,"",false,2,{"$f":"VLOOKUP(H215,Database!$B$1:$D$5000,3,0)","v":{"$error":"#N/A"}},true]
["",null,null,null,null,null,null,null,{"$f":"IF(ISERROR(VLOOKUP(H216,Database!$B$1:$C$5000,2,FALSE)),\"\",VLOOKUP(H216,Database!$B$1:$C$5000,2,FALSE))","v":""},"",{"$error":"#N/A"},null,null,null,null,null,null,null,null,"",false,2,{"$f":"VLOOKUP(H216,Database!$B$1:$D$5000,3,0)","v":{"$error":"#N/A"}},true]
["",null,null,null,null,null,null,null,{"$f":"IF(ISERROR(VLOOKUP(H217,Database!$B$1:$C$5000,2,FALSE)),\"\",VLOOKUP(H217,Database!$B$1:$C$5000,2,FALSE))","v":""},"",{"$error":"#N/A"},null,null,null,null,null,null,null,null,"",false,2,{"$f":"VLOOKUP(H217,Database!$B$1:$D$5000,3,0)","v":{"$error":"#N/A"}},true]
["",null,null,null,null,null,null,null,{"$f":"IF(ISERROR(VLOOKUP(H218,Database!$B$1:$C$5000,2,FALSE)),\"\",VLOOKUP(H218,Database!$B$1:$C$5000,2,FALSE))","v":""},"",{"$error":"#N/A"},null,null,null,null,null,null,null,null,"",false,2,{"$f":"VLOOKUP(H218,Database!$B$1:$D$5000,3,0)","v":{"$error":"#N/A"}},true]
["",null,null,null,null,null,null,null,{"$f":"IF(ISERROR(VLOOKUP(H219,Database!$B$1:$C$5000,2,FALSE)),\"\",VLOOKUP(H219,Database!$B$1:$C$5000,2,FALSE))","v":""},"",{"$error":"#N/A"},null,null,null,null,null,null,null,null,"",false,2,{"$f":"VLOOKUP(H219,Database!$B$1:$D$5000,3,0)","v":{"$error":"#N/A"}},true]
["",null,null,null,null,null,null,null,{"$f":"IF(ISERROR(VLOOKUP(H220,Database!$B$1:$C$5000,2,FALSE)),\"\",VLOOKUP(H220,Database!$B$1:$C$5000,2,FALSE))","v":""},"",{"$error":"#N/A"},null,null,null,null,null,null,null,null,"",false,2,{"$f":"VLOOKUP(H220,Database!$B$1:$D$5000,3,0)","v":{"$error":"#N/A"}},true]
["",null,null,null,null,null,null,null,{"$f":"IF(ISERROR(VLOOKUP(H221,Database!$B$1:$C$5000,2,FALSE)),\"\",VLOOKUP(H221,Database!$B$1:$C$5000,2,FALSE))","v":""},"",{"$error":"#N/A"},null,null,null,null,null,null,null,null,"",false,2,{"$f":"VLOOKUP(H221,Database!$B$1:$D$5000,3,0)","v":{"$error":"#N/A"}},true]
["",null,null,null,null,null,null,null,{"$f":"IF(ISERROR(VLOOKUP(H222,Database!$B$1:$C$5000,2,FALSE)),\"\",VLOOKUP(H222,Database!$B$1:$C$5000,2,FALSE))","v":""},"",{"$error":"#N/A"},null,null,null,null,null,null,null,null,"",false,2,{"$f":"VLOOKUP(H222,Database!$B$1:$D$5000,3,0)","v":{"$error":"#N/A"}},true]
["",null,null,null,null,null,null,null,{"$f":"IF(ISERROR(VLOOKUP(H223,Database!$B$1:$C$5000,2,FALSE)),\"\",VLOOKUP(H223,Database!$B$1:$C$5000,2,FALSE))","v":""},"",{"$error":"#N/A"},null,null,null,null,null,null,null,null,"",false,2,{"$f":"VLOOKUP(H223,Database!$B$1:$D$5000,3,0)","v":{"$error":"#N/A"}},true]
["",null,null,null,null,null,null,null,{"$f":"IF(ISERROR(VLOOKUP(H224,Database!$B$1:$C$5000,2,FALSE)),\"\",VLOOKUP(H224,Database!$B$1:$C$5000,2,FALSE))","v":""},"",{"$error":"#N/A"},null,null,null,null,null,null,null,null,"",false,2,{"$f":"VLOOKUP(H224,Database!$B$1:$D$5000,3,0)","v":{"$error":"#N/A"}},true]
["",null,null,null,null,null,null,null,{"$f":"IF(ISERROR(VLOOKUP(H225,Database!$B$1:$C$5000,2,FALSE)),\"\",VLOOKUP(H225,Database!$B$1:$C$5000,2,FALSE))","v":""},"",{"$error":"#N/A"},null,null,null,null,null,null,null,null,"",false,2,{"$f":"VLOOKUP(H225,Database!$B$1:$D$5000,3,0)","v":{"$error":"#N/A"}},true]
["",null,null,null,null,null,null,null,{"$f":"IF(ISERROR(VLOOKUP(H226,Database!$B$1:$C$5000,2,FALSE)),\"\",VLOOKUP(H226,Database!$B$1:$C$5000,2,FALSE))","v":""},"",{"$error":"#N/A"},null,null,null,null,null,null,null,null,"",false,2,{"$f":"VLOOKUP(H226,Database!$B$1:$D$5000,3,0)","v":{"$error":"#N/A"}},true]
["",null,null,null,null,null,null,null,{"$f":"IF(ISERROR(VLOOKUP(H227,Database!$B$1:$C$5000,2,FALSE)),\"\",VLOOKUP(H227,Database!$B$1:$C$5000,2,FALSE))","v":""},"",{"$error":"#N/A"},null,null,null,null,null,null,null,null,"",false,2,{"$f":"VLOOKUP(H227,Database!$B$1:$D$5000,3,0)","v":{"$error":"#N/A"}},true]
["",null,null,null,null,null,null,null,{"$f":"IF(ISERROR(VLOOKUP(H228,Database!$B$1:$C$5000,2,FALSE)),\"\",VLOOKUP(H228,Database!$B$1:$C$5000,2,FALSE))","v":""},"",{"$error":"#N/A"},null,null,null,null,null,null,null,null,"",false,2,{"$f":"VLOOKUP(H228,Database!$B$1:$D$5000,3,0)","v":{"$error":"#N/A"}},true]
["",null,null,null,null,null,null,null,{"$f":"IF(ISERROR(VLOOKUP(H229,Database!$B$1:$C$5000,2,FALSE)),\"\",VLOOKUP(H229,Database!$B$1:$C$5000,2,FALSE))","v":""},"",{"$error":"#N/A"},null,null,null,null,null,null,null,null,"",false,2,{"$f":"VLOOKUP(H229,Database!$B$1:$D$5000,3,0)","v":{"$error":"#N/A"}},true]
["",null,null,null,null,null,null,null,{"$f":"IF(ISERROR(VLOOKUP(H230,Database!$B$1:$C$5000,2,FALSE)),\"\",VLOOKUP(H230,Database!$B$1:$C$5000,2,FALSE))","v":""},"",{"$error":"#N/A"},null,null,null,null,null,null,null,null,"",false,2,{"$f":"VLOOKUP(H230,Database!$B$1:$D$5000,3,0)","v":{"$error":"#N/A"}},true]
["",null,null,null,null,null,null,null,{"$f":"IF(ISERROR(VLOOKUP(H231,Database!$B$1:$C$5000,2,FALSE)),\"\",VLOOKUP(H231,Database!$B$1:$C$5000,2,FALSE))","v":""},"",{"$error":"#N/A"},null,null,null,null,null,null,null,null,"",false,2,{"$f":"VLOOKUP(H231,Database!$B$1:$D$5000,3,0)","v":{"$error":"#N/A"}},true]
["",null,null,null,null,null,null,null,{"$f":"IF(ISERROR(VLOOKUP(H232,Database!$B$1:$C$5000,2,FALSE)),\"\",VLOOKUP(H232,Database!$B$1:$C$5000,2,FALSE))","v":""},"",{"$error":"#N/A"},null,null,null,null,null,null,null,null,"",false,2,{"$f":"VLOOKUP(H232,Database!$B$1:$D$5000,3,0)","v":{"$error":"#N/A"}},true]
["",null,null,null,null,null,null,null,{"$f":"IF(ISERROR(VLOOKUP(H233,Database!$B$1:$C$5000,2,FALSE)),\"\",VLOOKUP(H233,Database!$B$1:$C$5000,2,FALSE))","v":""},"",{"$error":"#N/A"},null,null,null,null,null,null,null,null,"",false,2,{"$f":"VLOOKUP(H233,Database!$B$1:$D$5000,3,0)","v":{"$error":"#N/A"}},true]
["",null,null,null,null,null,null,null,{"$f":"IF(ISERROR(VLOOKUP(H234,Database!$B$1:$C$5000,2,FALSE)),\"\",VLOOKUP(H234,Database!$B$1:$C$5000,2,FALSE))","v":""},"",{"$error":"#N/A"},null,null,null,null,null,null,null,null,"",false,2,{"$f":"VLOOKUP(H234,Database!$B$1:$D$5000,3,0)","v":{"$error":"#N/A"}},true]
["",null,null,null,null,null,null,null,{"$f":"IF(ISERROR(VLOOKUP(H235,Database!$B$1:$C$5000,2,FALSE)),\"\",VLOOKUP(H235,Database!$B$1:$C$5000,2,FALSE))","v":""},"",{"$error":"#N/A"},null,null,null,null,null,null,null,null,"",false,2,{"$f":"VLOOKUP(H235,Database!$B$1:$D$5000,3,0)","v":{"$error":"#N/A"}},true]
["",null,null,null,null,null,null,null,{"$f":"IF(ISERROR(VLOOKUP(H236,Database!$B$1:$C$5000,2,FALSE)),\"\",VLOOKUP(H236,Database!$B$1:$C$5000,2,FALSE))","v":""},"",{"$error":"#N/A"},null,null,null,null,null,null,null,null,"",false,2,{"$f":"VLOOKUP(H236,Database!$B$1:$D$5000,3,0)","v":{"$error":"#N/A"}},true]
["",null,null,null,null,null,null,null,{"$f":"IF(ISERROR(VLOOKUP(H237,Database!$B$1:$C$5000,2,FALSE)),\"\",VLOOKUP(H237,Database!$B$1:$C$5000,2,FALSE))","v":""},"",{"$error":"#N/A"},null,null,null,null,null,null,null,null,"",false,2,{"$f":"VLOOKUP(H237,Database!$B$1:$D$5000,3,0)","v":{"$error":"#N/A"}},true]
["",null,null,null,null,null,null,null,{"$f":"IF(ISERROR(VLOOKUP(H238,Database!$B$1:$C$5000,2,FALSE)),\"\",VLOOKUP(H238,Database!$B$1:$C$5000,2,FALSE))","v":""},"",{"$error":"#N/A"},null,null,null,null,null,null,null,null,"",false,2,{"$f":"VLOOKUP(H238,Database!$B$1:$D$5000,3,0)","v":{"$error":"#N/A"}},true]
["",null,null,null,null,null,null,null,{"$f":"IF(ISERROR(VLOOKUP(H239,Database!$B$1:$C$5000,2,FALSE)),\"\",VLOOKUP(H239,Database!$B$1:$C$5000,2,FALSE))","v":""},"",{"$error":"#N/A"},null,null,null,null,null,null,null,null,"",false,2,{"$f":"VLOOKUP(H239,Database!$B$1:$D$5000,3,0)","v":{"$error":"#N/A"}},true]
["",null,null,null,null,null,null,null,{"$f":"IF(ISERROR(VLOOKUP(H240,Database!$B$1:$C$5000,2,FALSE)),\"\",VLOOKUP(H240,Database!$B$1:$C$5000,2,FALSE))","v":""},"",{"$error":"#N/A"},null,null,null,null,null,null,null,null,"",false,2,{"$f":"VLOOKUP(H240,Database!$B$1:$D$5000,3,0)","v":{"$error":"#N/A"}},true]
["",null,null,null,null,null,null,null,{"$f":"IF(ISERROR(VLOOKUP(H241,Database!$B$1:$C$5000,2,FALSE)),\"\",VLOOKUP(H241,Database!$B$1:$C$5000,2,FALSE))","v":""},"",{"$error":"#N/A"},null,null,null,null,null,null,null,null,"",false,2,{"$f":"VLOOKUP(H241,Database!$B$1:$D$5000,3,0)","v":{"$error":"#N/A"}},true]
["",null,null,null,null,null,null,null,{"$f":"IF(ISERROR(VLOOKUP(H242,Database!$B$1:$C$5000,2,FALSE)),\"\",VLOOKUP(H242,Database!$B$1:$C$5000,2,FALSE))","v":""},"",{"$error":"#N/A"},null,null,null,null,null,null,null,null,"",false,2,{"$f":"VLOOKUP(H242,Database!$B$1:$D$5000,3,0)","v":{"$error":"#N/A"}},true]
["",null,null,null,null,null,null,null,{"$f":"IF(ISERROR(VLOOKUP(H243,Database!$B$1:$C$5000,2,FALSE)),\"\",VLOOKUP(H243,Database!$B$1:$C$5000,2,FALSE))","v":""},"",{"$error":"#N/A"},null,null,null,null,null,null,null,null,"",false,2,{"$f":"VLOOKUP(H243,Database!$B$1:$D$5000,3,0)","v":{"$error":"#N/A"}},true]
["",null,null,null,null,null,null,null,{"$f":"IF(ISERROR(VLOOKUP(H244,Database!$B$1:$C$5000,2,FALSE)),\"\",VLOOKUP(H244,Database!$B$1:$C$5000,2,FALSE))","v":""},"",{"$error":"#N/A"},null,null,null,null,null,null,null,null,"",false,2,{"$f":"VLOOKUP(H244,Database!$B$1:$D$5000,3,0)","v":{"$error":"#N/A"}},true]
["",null,null,null,null,null,null,null,{"$f":"IF(ISERROR(VLOOKUP(H245,Database!$B$1:$C$5000,2,FALSE)),\"\",VLOOKUP(H245,Database!$B$1:$C$5000,2,FALSE))","v":""},"",{"$error":"#N/A"},null,null,null,null,null,null,null,null,"",false,2,{"$f":"VLOOKUP(H245,Database!$B$1:$D$5000,3,0)","v":{"$error":"#N/A"}},true]
["",null,null,null,null,null,null,null,{"$f":"IF(ISERROR(VLOOKUP(H246,Database!$B$1:$C$5000,2,FALSE)),\"\",VLOOKUP(H246,Database!$B$1:$C$5000,2,FALSE))","v":""},"",{"$error":"#N/A"},null,null,null,null,null,null,null,null,"",false,2,{"$f":"VLOOKUP(H246,Database!$B$1:$D$5000,3,0)","v":{"$error":"#N/A"}},true]
["",null,null,null,null,null,null,null,{"$f":"IF(ISERROR(VLOOKUP(H247,Database!$B$1:$C$5000,2,FALSE)),\"\",VLOOKUP(H247,Database!$B$1:$C$5000,2,FALSE))","v":""},"",{"$error":"#N/A"},null,null,null,null,null,null,null,null,"",false,2,{"$f":"VLOOKUP(H247,Database!$B$1:$D$5000,3,0)","v":{"$error":"#N/A"}},true]
["",null,null,null,null,null,null,null,{"$f":"IF(ISERROR(VLOOKUP(H248,Database!$B$1:$C$5000,2,FALSE)),\"\",VLOOKUP(H248,Database!$B$1:$C$5000,2,FALSE))","v":""},"",{"$error":"#N/A"},null,null,null,null,null,null,null,null,"",false,2,{"$f":"VLOOKUP(H248,Database!$B$1:$D$5000,3,0)","v":{"$error":"#N/A"}},true]
["",null,null,null,null,null,null,null,{"$f":"IF(ISERROR(VLOOKUP(H249,Database!$B$1:$C$5000,2,FALSE)),\"\",VLOOKUP(H249,Database!$B$1:$C$5000,2,FALSE))","v":""},"",{"$error":"#N/A"},null,null,null,null,null,null,null,null,"",false,2,{"$f":"VLOOKUP(H249,Database!$B$1:$D$5000,3,0)","v":{"$error":"#N/A"}},true]
["",null,null,null,null,null,null,null,{"$f":"IF(ISERROR(VLOOKUP(H250,Database!$B$1:$C$5000,2,FALSE)),\"\",VLOOKUP(H250,Database!$B$1:$C$5000,2,FALSE))","v":""},"",{"$error":"#N/A"},null,null,null,null,null,null,null,null,"",false,2,{"$f":"VLOOKUP(H250,Database!$B$1:$D$5000,3,0)","v":{"$error":"#N/A"}},true]
["",null,null,null,null,null,null,null,{"$f":"IF(ISERROR(VLOOKUP(H251,Database!$B$1:$C$5000,2,FALSE)),\"\",VLOOKUP(H251,Database!$B$1:$C$5000,2,FALSE))","v":""},"",{"$error":"#N/A"},null,null,null,null,null,null,null,null,"",false,2,{"$f":"VLOOKUP(H251,Database!$B$1:$D$5000,3,0)","v":{"$error":"#N/A"}},true]
["",null,null,null,null,null,null,null,{"$f":"IF(ISERROR(VLOOKUP(H252,Database!$B$1:$C$5000,2,FALSE)),\"\",VLOOKUP(H252,Database!$B$1:$C$5000,2,FALSE))","v":""},"",{"$error":"#N/A"},null,null,null,null,null,null,null,null,"",false,2,{"$f":"VLOOKUP(H252,Database!$B$1:$D$5000,3,0)","v":{"$error":"#N/A"}},true]
["",null,null,null,null,null,null,null,{"$f":"IF(ISERROR(VLOOKUP(H253,Database!$B$1:$C$5000,2,FALSE)),\"\",VLOOKUP(H253,Database!$B$1:$C$5000,2,FALSE))","v":""},"",{"$error":"#N/A"},null,null,null,null,null,null,null,null,"",false,2,{"$f":"VLOOKUP(H253,Database!$B$1:$D$5000,3,0)","v":{"$error":"#N/A"}},true]
["",null,null,null,null,null,null,null,{"$f":"IF(ISERROR(VLOOKUP(H254,Database!$B$1:$C$5000,2,FALSE)),\"\",VLOOKUP(H254,Database!$B$1:$C$5000,2,FALSE))","v":""},"",{"$error":"#N/A"},null,null,null,null,null,null,null,null,"",false,2,{"$f":"VLOOKUP(H254,Database!$B$1:$D$5000,3,0)","v":{"$error":"#N/A"}},true]
["",null,null,null,null,null,null,null,{"$f":"IF(ISERROR(VLOOKUP(H255,Database!$B$1:$C$5000,2,FALSE)),\"\",VLOOKUP(H255,Database!$B$1:$C$5000,2,FALSE))","v":""},"",{"$error":"#N/A"},null,null,null,null,null,null,null,null,"",false,2,{"$f":"VLOOKUP(H255,Database!$B$1:$D$5000,3,0)","v":{"$error":"#N/A"}},true]
["",null,null,null,null,null,null,null,{"$f":"IF(ISERROR(VLOOKUP(H256,Database!$B$1:$C$5000,2,FALSE)),\"\",VLOOKUP(H256,Database!$B$1:$C$5000,2,FALSE))","v":""},"",{"$error":"#N/A"},null,null,null,null,null,null,null,null,"",false,2,{"$f":"VLOOKUP(H256,Database!$B$1:$D$5000,3,0)","v":{"$error":"#N/A"}},true]
["",null,null,null,null,null,null,null,{"$f":"IF(ISERROR(VLOOKUP(H257,Database!$B$1:$C$5000,2,FALSE)),\"\",VLOOKUP(H257,Database!$B$1:$C$5000,2,FALSE))","v":""},"",{"$error":"#N/A"},null,null,null,null,null,null,null,null,"",false,2,{"$f":"VLOOKUP(H257,Database!$B$1:$D$5000,3,0)","v":{"$error":"#N/A"}},true]
["",null,null,null,null,null,null,null,{"$f":"IF(ISERROR(VLOOKUP(H258,Database!$B$1:$C$5000,2,FALSE)),\"\",VLOOKUP(H258,Database!$B$1:$C$5000,2,FALSE))","v":""},"",{"$error":"#N/A"},null,null,null,null,null,null,null,null,"",false,2,{"$f":"VLOOKUP(H258,Database!$B$1:$D$5000,3,0)","v":{"$error":"#N/A"}},true]
["",null,null,null,null,null,null,null,{"$f":"IF(ISERROR(VLOOKUP(H259,Database!$B$1:$C$5000,2,FALSE)),\"\",VLOOKUP(H259,Database!$B$1:$C$5000,2,FALSE))","v":""},"",{"$error":"#N/A"},null,null,null,null,null,null,null,null,"",false,2,{"$f":"VLOOKUP(H259,Database!$B$1:$D$5000,3,0)","v":{"$error":"#N/A"}},true]
["",null,null,null,null,null,null,null,{"$f":"IF(ISERROR(VLOOKUP(H260,Database!$B$1:$C$5000,2,FALSE)),\"\",VLOOKUP(H260,Database!$B$1:$C$5000,2,FALSE))","v":""},"",{"$error":"#N/A"},null,null,null,null,null,null,null,null,"",false,2,{"$f":"VLOOKUP(H260,Database!$B$1:$D$5000,3,0)","v":{"$error":"#N/A"}},true]
["",null,null,null,null,null,null,null,{"$f":"IF(ISERROR(VLOOKUP(H261,Database!$B$1:$C$5000,2,FALSE)),\"\",VLOOKUP(H261,Database!$B$1:$C$5000,2,FALSE))","v":""},"",{"$error":"#N/A"},null,null,null,null,null,null,null,null,"",false,2,{"$f":"VLOOKUP(H261,Database!$B$1:$D$5000,3,0)","v":{"$error":"#N/A"}},true]
["",null,null,null,null,null,null,null,{"$f":"IF(ISERROR(VLOOKUP(H262,Database!$B$1:$C$5000,2,FALSE)),\"\",VLOOKUP(H262,Database!$B$1:$C$5000,2,FALSE))","v":""},"",{"$error":"#N/A"},null,null,null,null,null,null,null,null,"",false,2,{"$f":"VLOOKUP(H262,Database!$B$1:$D$5000,3,0)","v":{"$error":"#N/A"}},true]
[{"$f":"IF(B263=\"\",\"\",ROW(A258))","v":""},null,null,null,null,null,null,null,{"$f":"IF(ISERROR(VLOOKUP(H263,Database!$B$1:$C$5000,2,FALSE)),\"\",VLOOKUP(H263,Database!$B$1:$C$5000,2,FALSE))","v":""},{"$f":"IF(V263=1,1,IF(AND(T263=0,F263=\"SSB\",V263<>\"\"),3,IF(AND(T263=0,F263=\"DIGI\",V263<>\"\"),2,IF(AND(T263=0,F263=\"CW\",V263<>\"\"),5,IF(H263=\"-\",\"\",T263)))))","v":""},{"$f":"IF(H263=\"-\",\"\",IF(AND(H263<>\"\",X263=TRUE),\"INDIPENDENT\",IF(W263=0,\"SCRIVI NOME NELLE NOTE\",W263)))","v":{"$error":"#N/A"}},null,null,null,null,null,null,null,null,{"$f":"IF(H263=\"\",\"\",IF(H263=$R$6,25,IF(OR(H263=$R$7,H263=$R$8,H263=$R$9,H263=$R$10,H263=$R$11,H263=$R$12,H263=$R$13,H263=$R$14,H263=$R$15,H263=$R$16,H263=$R$17,H263=$R$18,H263=$R$19,H263=$R$20,H263=$R$21,H263=$R$22,H263=$R$23),15,0)))","v":""},{"$f":"ISERROR(I263)","v":false},{"$f":"IF(H263=\"-\",\"\",IF(AND(T263=0,U263=FALSE,I263=\"\"),1,2))","v":2},{"$f":"VLOOKUP(H263,Database!$B$1:$D$5000,3,0)","v":{"$error":"#N/A"}},{"$f":"ISERROR(W263)","v":true}]
["",null,null,null,null,null,null,null,{"$f":"IF(ISERROR(VLOOKUP(H264,Database!$B$1:$C$5000,2,FALSE)),\"\",VLOOKUP(H264,Database!$B$1:$C$5000,2,FALSE))","v":""},"",{"$error":"#N/A"},null,null,null,null,null,null,null,null,"",false,2,{"$f":"VLOOKUP(H264,Database!$B$1:$D$5000,3,0)","v":{"$error":"#N/A"}},true]
["",null,null,null,null,null,null,null,{"$f":"IF(ISERROR(VLOOKUP(H265,Database!$B$1:$C$5000,2,FALSE)),\"\",VLOOKUP(H265,Database!$B$1:$C$5000,2,FALSE))","v":""},"",{"$error":"#N/A"},null,null,null,null,null,null,null,null,"",false,2,{"$f":"VLOOKUP(H265,Database!$B$1:$D$5000,3,0)","v":{"$error":"#N/A"}},true]
["",null,null,null,null,null,null,null,{"$f":"IF(ISERROR(VLOOKUP(H266,Database!$B$1:$C$5000,2,FALSE)),\"\",VLOOKUP(H266,Database!$B$1:$C$5000,2,FALSE))","v":""},"",{"$error":"#N/A"},null,null,null,null,null,null,null,null,"",false,2,{"$f":"VLOOKUP(H266,Database!$B$1:$D$5000,3,0)","v":{"$error":"#N/A"}},true]
["",null,null,null,null,null,null,null,{"$f":"IF(ISERROR(VLOOKUP(H267,Database!$B$1:$C$5000,2,FALSE)),\"\",VLOOKUP(H267,Database!$B$1:$C$5000,2,FALSE))","v":""},"",{"$error":"#N/A"},null,null,null,null,null,null,null,null,"",false,2,{"$f":"VLOOKUP(H267,Database!$B$1:$D$5000,3,0)","v":{"$error":"#N/A"}},true]
["",null,null,null,null,null,null,null,{"$f":"IF(ISERROR(VLOOKUP(H268,Database!$B$1:$C$5000,2,FALSE)),\"\",VLOOKUP(H268,Database!$B$1:$C$5000,2,FALSE))","v":""},"",{"$error":"#N/A"},null,null,null,null,null,null,null,null,"",false,2,{"$f":"VLOOKUP(H268,Database!$B$1:$D$5000,3,0)","v":{"$error":"#N/A"}},true]
["",null,null,null,null,null,null,null,{"$f":"IF(ISERROR(VLOOKUP(H269,Database!$B$1:$C$5000,2,FALSE)),\"\",VLOOKUP(H269,Database!$B$1:$C$5000,2,FALSE))","v":""},"",{"$error":"#N/A"},null,null,null,null,null,null,null,null,"",false,2,{"$f":"VLOOKUP(H269,Database!$B$1:$D$5000,3,0)","v":{"$error":"#N/A"}},true]
["",null,null,null,null,null,null,null,{"$f":"IF(ISERROR(VLOOKUP(H270,Database!$B$1:$C$5000,2,FALSE)),\"\",VLOOKUP(H270,Database!$B$1:$C$5000,2,FALSE))","v":""},"",{"$error":"#N/A"},null,null,null,null,null,null,null,null,"",false,2,{"$f":"VLOOKUP(H270,Database!$B$1:$D$5000,3,0)","v":{"$error":"#N/A"}},true]
["",null,null,null,null,null,null,null,{"$f":"IF(ISERROR(VLOOKUP(H271,Database!$B$1:$C$5000,2,FALSE)),\"\",VLOOKUP(H271,Database!$B$1:$C$5000,2,FALSE))","v":""},"",{"$error":"#N/A"},null,null,null,null,null,null,null,null,"",false,2,{"$f":"VLOOKUP(H271,Database!$B$1:$D$5000,3,0)","v":{"$error":"#N/A"}},true]
["",null,null,null,null,null,null,null,{"$f":"IF(ISERROR(VLOOKUP(H272,Database!$B$1:$C$5000,2,FALSE)),\"\",VLOOKUP(H272,Database!$B$1:$C$5000,2,FALSE))","v":""},"",{"$error":"#N/A"},null,null,null,null,null,null,null,null,"",false,2,{"$f":"VLOOKUP(H272,Database!$B$1:$D$5000,3,0)","v":{"$error":"#N/A"}},true]
["",null,null,null,null,null,null,null,{"$f":"IF(ISERROR(VLOOKUP(H273,Database!$B$1:$C$5000,2,FALSE)),\"\",VLOOKUP(H273,Database!$B$1:$C$5000,2,FALSE))","v":""},"",{"$error":"#N/A"},null,null,null,null,null,null,null,null,"",false,2,{"$f":"VLOOKUP(H273,Database!$B$1:$D$5000,3,0)","v":{"$error":"#N/A"}},true]
["",null,null,null,null,null,null,null,{"$f":"IF(ISERROR(VLOOKUP(H274,Database!$B$1:$C$5000,2,FALSE)),\"\",VLOOKUP(H274,Database!$B$1:$C$5000,2,FALSE))","v":""},"",{"$error":"#N/A"},null,null,null,null,null,null,null,null,"",false,2,{"$f":"VLOOKUP(H274,Database!$B$1:$D$5000,3,0)","v":{"$error":"#N/A"}},true]
["",null,null,null,null,null,null,null,{"$f":"IF(ISERROR(VLOOKUP(H275,Database!$B$1:$C$5000,2,FALSE)),\"\",VLOOKUP(H275,Database!$B$1:$C$5000,2,FALSE))","v":""},"",{"$error":"#N/A"},null,null,null,null,null,null,null,null,"",false,2,{"$f":"VLOOKUP(H275,Database!$B$1:$D$5000,3,0)","v":{"$error":"#N/A"}},true]
["",null,null,null,null,null,null,null,{"$f":"IF(ISERROR(VLOOKUP(H276,Database!$B$1:$C$5000,2,FALSE)),\"\",VLOOKUP(H276,Database!$B$1:$C$5000,2,FALSE))","v":""},"",{"$error":"#N/A"},null,null,null,null,null,null,null,null,"",false,2,{"$f":"VLOOKUP(H276,Database!$B$1:$D$5000,3,0)","v":{"$error":"#N/A"}},true]
["",null,null,null,null,null,null,null,{"$f":"IF(ISERROR(VLOOKUP(H277,Database!$B$1:$C$5000,2,FALSE)),\"\",VLOOKUP(H277,Database!$B$1:$C$5000,2,FALSE))","v":""},"",{"$error":"#N/A"},null,null,null,null,null,null,null,null,"",false,2,{"$f":"VLOOKUP(H277,Database!$B$1:$D$5000,3,0)","v":{"$error":"#N/A"}},true]
["",null,null,null,null,null,null,null,{"$f":"IF(ISERROR(VLOOKUP(H278,Database!$B$1:$C$5000,2,FALSE)),\"\",VLOOKUP(H278,Database!$B$1:$C$5000,2,FALSE))","v":""},"",{"$error":"#N/A"},null,null,null,null,null,null,null,null,"",false,2,{"$f":"VLOOKUP(H278,Database!$B$1:$D$5000,3,0)","v":{"$error":"#N/A"}},true]
["",null,null,null,null,null,null,null,{"$f":"IF(ISERROR(VLOOKUP(H279,Database!$B$1:$C$5000,2,FALSE)),\"\",VLOOKUP(H279,Database!$B$1:$C$5000,2,FALSE))","v":""},"",{"$error":"#N/A"},null,null,null,null,null,null,null,null,"",false,2,{"$f":"VLOOKUP(H279,Database!$B$1:$D$5000,3,0)","v":{"$error":"#N/A"}},true]
["",null,null,null,null,null,null,null,{"$f":"IF(ISERROR(VLOOKUP(H280,Database!$B$1:$C$5000,2,FALSE)),\"\",VLOOKUP(H280,Database!$B$1:$C$5000,2,FALSE))","v":""},"",{"$error":"#N/A"},null,null,null,null,null,null,null,null,"",false,2,{"$f":"VLOOKUP(H280,Database!$B$1:$D$5000,3,0)","v":{"$error":"#N/A"}},true]
["",null,null,null,null,null,null,null,{"$f":"IF(ISERROR(VLOOKUP(H281,Database!$B$1:$C$5000,2,FALSE)),\"\",VLOOKUP(H281,Database!$B$1:$C$5000,2,FALSE))","v":""},"",{"$error":"#N/A"},null,null,null,null,null,null,null,null,"",false,2,{"$f":"VLOOKUP(H281,Database!$B$1:$D$5000,3,0)","v":{"$error":"#N/A"}},true]
["",null,null,null,null,null,null,null,{"$f":"IF(ISERROR(VLOOKUP(H282,Database!$B$1:$C$5000,2,FALSE)),\"\",VLOOKUP(H282,Database!$B$1:$C$5000,2,FALSE))","v":""},"",{"$error":"#N/A"},null,null,null,null,null,null,null,null,"",false,2,{"$f":"VLOOKUP(H282,Database!$B$1:$D$5000,3,0)","v":{"$error":"#N/A"}},true]
["",null,null,null,null,null,null,null,{"$f":"IF(ISERROR(VLOOKUP(H283,Database!$B$1:$C$5000,2,FALSE)),\"\",VLOOKUP(H283,Database!$B$1:$C$5000,2,FALSE))","v":""},"",{"$error":"#N/A"},null,null,null,null,null,null,null,null,"",false,2,{"$f":"VLOOKUP(H283,Database!$B$1:$D$5000,3,0)","v":{"$error":"#N/A"}},true]
["",null,null,null,null,null,null,null,{"$f":"IF(ISERROR(VLOOKUP(H284,Database!$B$1:$C$5000,2,FALSE)),\"\",VLOOKUP(H284,Database!$B$1:$C$5000,2,FALSE))","v":""},"",{"$error":"#N/A"},null,null,null,null,null,null,null,null,"",false,2,{"$f":"VLOOKUP(H284,Database!$B$1:$D$5000,3,0)","v":{"$error":"#N/A"}},true]
["",null,null,null,null,null,null,null,{"$f":"IF(ISERROR(VLOOKUP(H285,Database!$B$1:$C$5000,2,FALSE)),\"\",VLOOKUP(H285,Database!$B$1:$C$5000,2,FALSE))","v":""},"",{"$error":"#N/A"},null,null,null,null,null,null,null,null,"",false,2,{"$f":"VLOOKUP(H285,Database!$B$1:$D$5000,3,0)","v":{"$error":"#N/A"}},true]
["",null,null,null,null,null,null,null,{"$f":"IF(ISERROR(VLOOKUP(H286,Database!$B$1:$C$5000,2,FALSE)),\"\",VLOOKUP(H286,Database!$B$1:$C$5000,2,FALSE))","v":""},"",{"$error":"#N/A"},null,null,null,null,null,null,null,null,"",false,2,{"$f":"VLOOKUP(H286,Database!$B$1:$D$5000,3,0)","v":{"$error":"#N/A"}},true]
["",null,null,null,null,null,null,null,{"$f":"IF(ISERROR(VLOOKUP(H287,Database!$B$1:$C$5000,2,FALSE)),\"\",VLOOKUP(H287,Database!$B$1:$C$5000,2,FALSE))","v":""},"",{"$error":"#N/A"},null,null,null,null,null,null,null,null,"",false,2,{"$f":"VLOOKUP(H287,Database!$B$1:$D$5000,3,0)","v":{"$error":"#N/A"}},true]
["",null,null,null,null,null,null,null,{"$f":"IF(ISERROR(VLOOKUP(H288,Database!$B$1:$C$5000,2,FALSE)),\"\",VLOOKUP(H288,Database!$B$1:$C$5000,2,FALSE))","v":""},"",{"$error":"#N/A"},null,null,null,null,null,null,null,null,"",false,2,{"$f":"VLOOKUP(H288,Database!$B$1:$D$5000,3,0)","v":{"$error":"#N/A"}},true]
["",null,null,null,null,null,null,null,{"$f":"IF(ISERROR(VLOOKUP(H289,Database!$B$1:$C$5000,2,FALSE)),\"\",VLOOKUP(H289,Database!$B$1:$C$5000,2,FALSE))","v":""},"",{"$error":"#N/A"},null,null,null,null,null,null,null,null,"",false,2,{"$f":"VLOOKUP(H289,Database!$B$1:$D$5000,3,0)","v":{"$error":"#N/A"}},true]
["",null,null,null,null,null,null,null,{"$f":"IF(ISERROR(VLOOKUP(H290,Database!$B$1:$C$5000,2,FALSE)),\"\",VLOOKUP(H290,Database!$B$1:$C$5000,2,FALSE))","v":""},"",{"$error":"#N/A"},null,null,null,null,null,null,null,null,"",false,2,{"$f":"VLOOKUP(H290,Database!$B$1:$D$5000,3,0)","v":{"$error":"#N/A"}},true]
["",null,null,null,null,null,null,null,{"$f":"IF(ISERROR(VLOOKUP(H291,Database!$B$1:$C$5000,2,FALSE)),\"\",VLOOKUP(H291,Database!$B$1:$C$5000,2,FALSE))","v":""},"",{"$error":"#N/A"},null,null,null,null,null,null,null,null,"",false,2,{"$f":"VLOOKUP(H291,Database!$B$1:$D$5000,3,0)","v":{"$error":"#N/A"}},true]
["",null,null,null,null,null,null,null,{"$f":"IF(ISERROR(VLOOKUP(H292,Database!$B$1:$C$5000,2,FALSE)),\"\",VLOOKUP(H292,Database!$B$1:$C$5000,2,FALSE))","v":""},"",{"$error":"#N/A"},null,null,null,null,null,null,null,null,"",false,2,{"$f":"VLOOKUP(H292,Database!$B$1:$D$5000,3,0)","v":{"$error":"#N/A"}},true]
["",null,null,null,null,null,null,null,{"$f":"IF(ISERROR(VLOOKUP(H293,Database!$B$1:$C$5000,2,FALSE)),\"\",VLOOKUP(H293,Database!$B$1:$C$5000,2,FALSE))","v":""},"",{"$error":"#N/A"},null,null,null,null,null,null,null,null,"",false,2,{"$f":"VLOOKUP(H293,Database!$B$1:$D$5000,3,0)","v":{"$error":"#N/A"}},true]
["",null,null,null,null,null,null,null,{"$f":"IF(ISERROR(VLOOKUP(H294,Database!$B$1:$C$5000,2,FALSE)),\"\",VLOOKUP(H294,Database!$B$1:$C$5000,2,FALSE))","v":""},"",{"$error":"#N/A"},null,null,null,null,null,null,null,null,"",false,2,{"$f":"VLOOKUP(H294,Database!$B$1:$D$5000,3,0)","v":{"$error":"#N/A"}},true]
["",null,null,null,null,null,null,null,{"$f":"IF(ISERROR(VLOOKUP(H295,Database!$B$1:$C$5000,2,FALSE)),\"\",VLOOKUP(H295,Database!$B$1:$C$5000,2,FALSE))","v":""},"",{"$error":"#N/A"},null,null,null,null,null,null,null,null,"",false,2,{"$f":"VLOOKUP(H295,Database!$B$1:$D$5000,3,0)","v":{"$error":"#N/A"}},true]
["",null,null,null,null,null,null,null,{"$f":"IF(ISERROR(VLOOKUP(H296,Database!$B$1:$C$5000,2,FALSE)),\"\",VLOOKUP(H296,Database!$B$1:$C$5000,2,FALSE))","v":""},"",{"$error":"#N/A"},null,null,null,null,null,null,null,null,"",false,2,{"$f":"VLOOKUP(H296,Database!$B$1:$D$5000,3,0)","v":{"$error":"#N/A"}},true]
["",null,null,null,null,null,null,null,{"$f":"IF(ISERROR(VLOOKUP(H297,Database!$B$1:$C$5000,2,FALSE)),\"\",VLOOKUP(H297,Database!$B$1:$C$5000,2,FALSE))","v":""},"",{"$error":"#N/A"},null,null,null,null,null,null,null,null,"",false,2,{"$f":"VLOOKUP(H297,Database!$B$1:$D$5000,3,0)","v":{"$error":"#N/A"}},true]
["",null,null,null,null,null,null,null,{"$f":"IF(ISERROR(VLOOKUP(H298,Database!$B$1:$C$5000,2,FALSE)),\"\",VLOOKUP(H298,Database!$B$1:$C$5000,2,FALSE))","v":""},"",{"$error":"#N/A"},null,null,null,null,null,null,null,null,"",false,2,{"$f":"VLOOKUP(H298,Database!$B$1:$D$5000,3,0)","v":{"$error":"#N/A"}},true]
["",null,null,null,null,null,null,null,{"$f":"IF(ISERROR(VLOOKUP(H299,Database!$B$1:$C$5000,2,FALSE)),\"\",VLOOKUP(H299,Database!$B$1:$C$5000,2,FALSE))","v":""},"",{"$error":"#N/A"},null,null,null,null,null,null,null,null,"",false,2,{"$f":"VLOOKUP(H299,Database!$B$1:$D$5000,3,0)","v":{"$error":"#N/A"}},true]
["",null,null,null,null,null,null,null,{"$f":"IF(ISERROR(VLOOKUP(H300,Database!$B$1:$C$5000,2,FALSE)),\"\",VLOOKUP(H300,Database!$B$1:$C$5000,2,FALSE))","v":""},"",{"$error":"#N/A"},null,null,null,null,null,null,null,null,"",false,2,{"$f":"VLOOKUP(H300,Database!$B$1:$D$5000,3,0)","v":{"$error":"#N/A"}},true]
["",null,null,null,null,null,null,null,{"$f":"IF(ISERROR(VLOOKUP(H301,Database!$B$1:$C$5000,2,FALSE)),\"\",VLOOKUP(H301,Database!$B$1:$C$5000,2,FALSE))","v":""},"",{"$error":"#N/A"},null,null,null,null,null,null,null,null,"",false,2,{"$f":"VLOOKUP(H301,Database!$B$1:$D$5000,3,0)","v":{"$error":"#N/A"}},true]
["",null,null,null,null,null,null,null,{"$f":"IF(ISERROR(VLOOKUP(H302,Database!$B$1:$C$5000,2,FALSE)),\"\",VLOOKUP(H302,Database!$B$1:$C$5000,2,FALSE))","v":""},"",{"$error":"#N/A"},null,null,null,null,null,null,null,null,"",false,2,{"$f":"VLOOKUP(H302,Database!$B$1:$D$5000,3,0)","v":{"$error":"#N/A"}},true]
["",null,null,null,null,null,null,null,{"$f":"IF(ISERROR(VLOOKUP(H303,Database!$B$1:$C$5000,2,FALSE)),\"\",VLOOKUP(H303,Database!$B$1:$C$5000,2,FALSE))","v":""},"",{"$error":"#N/A"},null,null,null,null,null,null,null,null,"",false,2,{"$f":"VLOOKUP(H303,Database!$B$1:$D$5000,3,0)","v":{"$error":"#N/A"}},true]
["",null,null,null,null,null,null,null,{"$f":"IF(ISERROR(VLOOKUP(H304,Database!$B$1:$C$5000,2,FALSE)),\"\",VLOOKUP(H304,Database!$B$1:$C$5000,2,FALSE))","v":""},"",{"$error":"#N/A"},null,null,null,null,null,null,null,null,"",false,2,{"$f":"VLOOKUP(H304,Database!$B$1:$D$5000,3,0)","v":{"$error":"#N/A"}},true]
["",null,null,null,null,null,null,null,{"$f":"IF(ISERROR(VLOOKUP(H305,Database!$B$1:$C$5000,2,FALSE)),\"\",VLOOKUP(H305,Database!$B$1:$C$5000,2,FALSE))","v":""},"",{"$error":"#N/A"},null,null,null,null,null,null,null,null,"",false,2,{"$f":"VLOOKUP(H305,Database!$B$1:$D$5000,3,0)","v":{"$error":"#N/A"}},true]
["",null,null,null,null,null,null,null,{"$f":"IF(ISERROR(VLOOKUP(H306,Database!$B$1:$C$5000,2,FALSE)),\"\",VLOOKUP(H306,Database!$B$1:$C$5000,2,FALSE))","v":""},"",{"$error":"#N/A"},null,null,null,null,null,null,null,null,"",false,2,{"$f":"VLOOKUP(H306,Database!$B$1:$D$5000,3,0)","v":{"$error":"#N/A"}},true]
["",null,null,null,null,null,null,null,{"$f":"IF(ISERROR(VLOOKUP(H307,Database!$B$1:$C$5000,2,FALSE)),\"\",VLOOKUP(H307,Database!$B$1:$C$5000,2,FALSE))","v":""},"",{"$error":"#N/A"},null,null,null,null,null,null,null,null,"",false,2,{"$f":"VLOOKUP(H307,Database!$B$1:$D$5000,3,0)","v":{"$error":"#N/A"}},true]
["",null,null,null,null,null,null,null,{"$f":"IF(ISERROR(VLOOKUP(H308,Database!$B$1:$C$5000,2,FALSE)),\"\",VLOOKUP(H308,Database!$B$1:$C$5000,2,FALSE))","v":""},"",{"$error":"#N/A"},null,null,null,null,null,null,null,null,"",false,2,{"$f":"VLOOKUP(H308,Database!$B$1:$D$5000,3,0)","v":{"$error":"#N/A"}},true]
["",null,null,null,null,null,null,null,{"$f":"IF(ISERROR(VLOOKUP(H309,Database!$B$1:$C$5000,2,FALSE)),\"\",VLOOKUP(H309,Database!$B$1:$C$5000,2,FALSE))","v":""},"",{"$error":"#N/A"},null,null,null,null,null,null,null,null,"",false,2,{"$f":"VLOOKUP(H309,Database!$B$1:$D$5000,3,0)","v":{"$error":"#N/A"}},true]
["",null,null,null,null,null,null,null,{"$f":"IF(ISERROR(VLOOKUP(H310,Database!$B$1:$C$5000,2,FALSE)),\"\",VLOOKUP(H310,Database!$B$1:$C$5000,2,FALSE))","v":""},"",{"$error":"#N/A"},null,null,null,null,null,null,null,null,"",false,2,{"$f":"VLOOKUP(H310,Database!$B$1:$D$5000,3,0)","v":{"$error":"#N/A"}},true]
["",null,null,null,null,null,null,null,{"$f":"IF(ISERROR(VLOOKUP(H311,Database!$B$1:$C$5000,2,FALSE)),\"\",VLOOKUP(H311,Database!$B$1:$C$5000,2,FALSE))","v":""},"",{"$error":"#N/A"},null,null,null,null,null,null,null,null,"",false,2,{"$f":"VLOOKUP(H311,Database!$B$1:$D$5000,3,0)","v":{"$error":"#N/A"}},true]
["",null,null,null,null,null,null,null,{"$f":"IF(ISERROR(VLOOKUP(H312,Database!$B$1:$C$5000,2,FALSE)),\"\",VLOOKUP(H312,Database!$B$1:$C$5000,2,FALSE))","v":""},"",{"$error":"#N/A"},null,null,null,null,null,null,null,null,"",false,2,{"$f":"VLOOKUP(H312,Database!$B$1:$D$5000,3,0)","v":{"$error":"#N/A"}},true]
["",null,null,null,null,null,null,null,{"$f":"IF(ISERROR(VLOOKUP(H313,Database!$B$1:$C$5000,2,FALSE)),\"\",VLOOKUP(H313,Database!$B$1:$C$5000,2,FALSE))","v":""},"",{"$error":"#N/A"},null,null,null,null,null,null,null,null,"",false,2,{"$f":"VLOOKUP(H313,Database!$B$1:$D$5000,3,0)","v":{"$error":"#N/A"}},true]
["",null,null,null,null,null,null,null,{"$f":"IF(ISERROR(VLOOKUP(H314,Database!$B$1:$C$5000,2,FALSE)),\"\",VLOOKUP(H314,Database!$B$1:$C$5000,2,FALSE))","v":""},"",{"$error":"#N/A"},null,null,null,null,null,null,null,null,"",false,2,{"$f":"VLOOKUP(H314,Database!$B$1:$D$5000,3,0)","v":{"$error":"#N/A"}},true]
["",null,null,null,null,null,null,null,{"$f":"IF(ISERROR(VLOOKUP(H315,Database!$B$1:$C$5000,2,FALSE)),\"\",VLOOKUP(H315,Database!$B$1:$C$5000,2,FALSE))","v":""},"",{"$error":"#N/A"},null,null,null,null,null,null,null,null,"",false,2,{"$f":"VLOOKUP(H315,Database!$B$1:$D$5000,3,0)","v":{"$error":"#N/A"}},true]
["",null,null,null,null,null,null,null,{"$f":"IF(ISERROR(VLOOKUP(H316,Database!$B$1:$C$5000,2,FALSE)),\"\",VLOOKUP(H316,Database!$B$1:$C$5000,2,FALSE))","v":""},"",{"$error":"#N/A"},null,null,null,null,null,null,null,null,"",false,2,{"$f":"VLOOKUP(H316,Database!$B$1:$D$5000,3,0)","v":{"$error":"#N/A"}},true]
["",null,null,null,null,null,null,null,{"$f":"IF(ISERROR(VLOOKUP(H317,Database!$B$1:$C$5000,2,FALSE)),\"\",VLOOKUP(H317,Database!$B$1:$C$5000,2,FALSE))","v":""},"",{"$error":"#N/A"},null,null,null,null,null,null,null,null,"",false,2,{"$f":"VLOOKUP(H317,Database!$B$1:$D$5000,3,0)","v":{"$error":"#N/A"}},true]
["",null,null,null,null,null,null,null,{"$f":"IF(ISERROR(VLOOKUP(H318,Database!$B$1:$C$5000,2,FALSE)),\"\",VLOOKUP(H318,Database!$B$1:$C$5000,2,FALSE))","v":""},"",{"$error":"#N/A"},null,null,null,null,null,null,null,null,"",false,2,{"$f":"VLOOKUP(H318,Database!$B$1:$D$5000,3,0)","v":{"$error":"#N/A"}},true]
["",null,null,null,null,null,null,null,{"$f":"IF(ISERROR(VLOOKUP(H319,Database!$B$1:$C$5000,2,FALSE)),\"\",VLOOKUP(H319,Database!$B$1:$C$5000,2,FALSE))","v":""},"",{"$error":"#N/A"},null,null,null,null,null,null,null,null,"",false,2,{"$f":"VLOOKUP(H319,Database!$B$1:$D$5000,3,0)","v":{"$error":"#N/A"}},true]
["",null,null,null,null,null,null,null,{"$f":"IF(ISERROR(VLOOKUP(H320,Database!$B$1:$C$5000,2,FALSE)),\"\",VLOOKUP(H320,Database!$B$1:$C$5000,2,FALSE))","v":""},"",{"$error":"#N/A"},null,null,null,null,null,null,null,null,"",false,2,{"$f":"VLOOKUP(H320,Database!$B$1:$D$5000,3,0)","v":{"$error":"#N/A"}},true]
["",null,null,null,null,null,null,null,{"$f":"IF(ISERROR(VLOOKUP(H321,Database!$B$1:$C$5000,2,FALSE)),\"\",VLOOKUP(H321,Database!$B$1:$C$5000,2,FALSE))","v":""},"",{"$error":"#N/A"},null,null,null,null,null,null,null,null,"",false,2,{"$f":"VLOOKUP(H321,Database!$B$1:$D$5000,3,0)","v":{"$error":"#N/A"}},true]
["",null,null,null,null,null,null,null,{"$f":"IF(ISERROR(VLOOKUP(H322,Database!$B$1:$C$5000,2,FALSE)),\"\",VLOOKUP(H322,Database!$B$1:$C$5000,2,FALSE))","v":""},"",{"$error":"#N/A"},null,null,null,null,null,null,null,null,"",false,2,{"$f":"VLOOKUP(H322,Database!$B$1:$D$5000,3,0)","v":{"$error":"#N/A"}},true]
["",null,null,null,null,null,null,null,{"$f":"IF(ISERROR(VLOOKUP(H323,Database!$B$1:$C$5000,2,FALSE)),\"\",VLOOKUP(H323,Database!$B$1:$C$5000,2,FALSE))","v":""},"",{"$error":"#N/A"},null,null,null,null,null,null,null,null,"",false,2,{"$f":"VLOOKUP(H323,Database!$B$1:$D$5000,3,0)","v":{"$error":"#N/A"}},true]
["",null,null,null,null,null,null,null,{"$f":"IF(ISERROR(VLOOKUP(H324,Database!$B$1:$C$5000,2,FALSE)),\"\",VLOOKUP(H324,Database!$B$1:$C$5000,2,FALSE))","v":""},"",{"$error":"#N/A"},null,null,null,null,null,null,null,null,"",false,2,{"$f":"VLOOKUP(H324,Database!$B$1:$D$5000,3,0)","v":{"$error":"#N/A"}},true]
["",null,null,null,null,null,null,null,{"$f":"IF(ISERROR(VLOOKUP(H325,Database!$B$1:$C$5000,2,FALSE)),\"\",VLOOKUP(H325,Database!$B$1:$C$5000,2,FALSE))","v":""},"",{"$error":"#N/A"},null,null,null,null,null,null,null,null,"",false,2,{"$f":"VLOOKUP(H325,Database!$B$1:$D$5000,3,0)","v":{"$error":"#N/A"}},true]
["",null,null,null,null,null,null,null,{"$f":"IF(ISERROR(VLOOKUP(H326,Database!$B$1:$C$5000,2,FALSE)),\"\",VLOOKUP(H326,Database!$B$1:$C$5000,2,FALSE))","v":""},"",{"$error":"#N/A"},null,null,null,null,null,null,null,null,"",false,2,{"$f":"VLOOKUP(H326,Database!$B$1:$D$5000,3,0)","v":{"$error":"#N/A"}},true]
[{"$f":"IF(B327=\"\",\"\",ROW(A322))","v":""},null,null,null,null,null,null,null,{"$f":"IF(ISERROR(VLOOKUP(H327,Database!$B$1:$C$5000,2,FALSE)),\"\",VLOOKUP(H327,Database!$B$1:$C$5000,2,FALSE))","v":""},{"$f":"IF(V327=1,1,IF(AND(T327=0,F327=\"SSB\",V327<>\"\"),3,IF(AND(T327=0,F327=\"DIGI\",V327<>\"\"),2,IF(AND(T327=0,F327=\"CW\",V327<>\"\"),5,IF(H327=\"-\",\"\",T327)))))","v":""},{"$f":"IF(H327=\"-\",\"\",IF(AND(H327<>\"\",X327=TRUE),\"INDIPENDENT\",IF(W327=0,\"SCRIVI NOME NELLE NOTE\",W327)))","v":{"$error":"#N/A"}},null,null,null,null,null,null,null,null,{"$f":"IF(H327=\"\",\"\",IF(H327=$R$6,25,IF(OR(H327=$R$7,H327=$R$8,H327=$R$9,H327=$R$10,H327=$R$11,H327=$R$12,H327=$R$13,H327=$R$14,H327=$R$15,H327=$R$16,H327=$R$17,H327=$R$18,H327=$R$19,H327=$R$20,H327=$R$21,H327=$R$22,H327=$R$23),15,0)))","v":""},{"$f":"ISERROR(I327)","v":false},{"$f":"IF(H327=\"-\",\"\",IF(AND(T327=0,U327=FALSE,I327=\"\"),1,2))","v":2},{"$f":"VLOOKUP(H327,Database!$B$1:$D$5000,3,0)","v":{"$error":"#N/A"}},{"$f":"ISERROR(W327)","v":true}]
["",null,null,null,null,null,null,null,{"$f":"IF(ISERROR(VLOOKUP(H328,Database!$B$1:$C$5000,2,FALSE)),\"\",VLOOKUP(H328,Database!$B$1:$C$5000,2,FALSE))","v":""},"",{"$error":"#N/A"},null,null,null,null,null,null,null,null,"",false,2,{"$f":"VLOOKUP(H328,Database!$B$1:$D$5000,3,0)","v":{"$error":"#N/A"}},true]
["",null,null,null,null,null,null,null,{"$f":"IF(ISERROR(VLOOKUP(H329,Database!$B$1:$C$5000,2,FALSE)),\"\",VLOOKUP(H329,Database!$B$1:$C$5000,2,FALSE))","v":""},"",{"$error":"#N/A"},null,null,null,null,null,null,null,null,"",false,2,{"$f":"VLOOKUP(H329,Database!$B$1:$D$5000,3,0)","v":{"$error":"#N/A"}},true]
["",null,null,null,null,null,null,null,{"$f":"IF(ISERROR(VLOOKUP(H330,Database!$B$1:$C$5000,2,FALSE)),\"\",VLOOKUP(H330,Database!$B$1:$C$5000,2,FALSE))","v":""},"",{"$error":"#N/A"},null,null,null,null,null,null,null,null,"",false,2,{"$f":"VLOOKUP(H330,Database!$B$1:$D$5000,3,0)","v":{"$error":"#N/A"}},true]
["",null,null,null,null,null,null,null,{"$f":"IF(ISERROR(VLOOKUP(H331,Database!$B$1:$C$5000,2,FALSE)),\"\",VLOOKUP(H331,Database!$B$1:$C$5000,2,FALSE))","v":""},"",{"$error":"#N/A"},null,null,null,null,null,null,null,null,"",false,2,{"$f":"VLOOKUP(H331,Database!$B$1:$D$5000,3,0)","v":{"$error":"#N/A"}},true]
["",null,null,null,null,null,null,null,{"$f":"IF(ISERROR(VLOOKUP(H332,Database!$B$1:$C$5000,2,FALSE)),\"\",VLOOKUP(H332,Database!$B$1:$C$5000,2,FALSE))","v":""},"",{"$error":"#N/A"},null,null,null,null,null,null,null,null,"",false,2,{"$f":"VLOOKUP(H332,Database!$B$1:$D$5000,3,0)","v":{"$error":"#N/A"}},true]
["",null,null,null,null,null,null,null,{"$f":"IF(ISERROR(VLOOKUP(H333,Database!$B$1:$C$5000,2,FALSE)),\"\",VLOOKUP(H333,Database!$B$1:$C$5000,2,FALSE))","v":""},"",{"$error":"#N/A"},null,null,null,null,null,null,null,null,"",false,2,{"$f":"VLOOKUP(H333,Database!$B$1:$D$5000,3,0)","v":{"$error":"#N/A"}},true]
["",null,null,null,null,null,null,null,{"$f":"IF(ISERROR(VLOOKUP(H334,Database!$B$1:$C$5000,2,FALSE)),\"\",VLOOKUP(H334,Database!$B$1:$C$5000,2,FALSE))","v":""},"",{"$error":"#N/A"},null,null,null,null,null,null,null,null,"",false,2,{"$f":"VLOOKUP(H334,Database!$B$1:$D$5000,3,0)","v":{"$error":"#N/A"}},true]
["",null,null,null,null,null,null,null,{"$f":"IF(ISERROR(VLOOKUP(H335,Database!$B$1:$C$5000,2,FALSE)),\"\",VLOOKUP(H335,Database!$B$1:$C$5000,2,FALSE))","v":""},"",{"$error":"#N/A"},null,null,null,null,null,null,null,null,"",false,2,{"$f":"VLOOKUP(H335,Database!$B$1:$D$5000,3,0)","v":{"$error":"#N/A"}},true]
["",null,null,null,null,null,null,null,{"$f":"IF(ISERROR(VLOOKUP(H336,Database!$B$1:$C$5000,2,FALSE)),\"\",VLOOKUP(H336,Database!$B$1:$C$5000,2,FALSE))","v":""},"",{"$error":"#N/A"},null,null,null,null,null,null,null,null,"",false,2,{"$f":"VLOOKUP(H336,Database!$B$1:$D$5000,3,0)","v":{"$error":"#N/A"}},true]
["",null,null,null,null,null,null,null,{"$f":"IF(ISERROR(VLOOKUP(H337,Database!$B$1:$C$5000,2,FALSE)),\"\",VLOOKUP(H337,Database!$B$1:$C$5000,2,FALSE))","v":""},"",{"$error":"#N/A"},null,null,null,null,null,null,null,null,"",false,2,{"$f":"VLOOKUP(H337,Database!$B$1:$D$5000,3,0)","v":{"$error":"#N/A"}},true]
["",null,null,null,null,null,null,null,{"$f":"IF(ISERROR(VLOOKUP(H338,Database!$B$1:$C$5000,2,FALSE)),\"\",VLOOKUP(H338,Database!$B$1:$C$5000,2,FALSE))","v":""},"",{"$error":"#N/A"},null,null,null,null,null,null,null,null,"",false,2,{"$f":"VLOOKUP(H338,Database!$B$1:$D$5000,3,0)","v":{"$error":"#N/A"}},true]
["",null,null,null,null,null,null,null,{"$f":"IF(ISERROR(VLOOKUP(H339,Database!$B$1:$C$5000,2,FALSE)),\"\",VLOOKUP(H339,Database!$B$1:$C$5000,2,FALSE))","v":""},"",{"$error":"#N/A"},null,null,null,null,null,null,null,null,"",false,2,{"$f":"VLOOKUP(H339,Database!$B$1:$D$5000,3,0)","v":{"$error":"#N/A"}},true]
["",null,null,null,null,null,null,null,{"$f":"IF(ISERROR(VLOOKUP(H340,Database!$B$1:$C$5000,2,FALSE)),\"\",VLOOKUP(H340,Database!$B$1:$C$5000,2,FALSE))","v":""},"",{"$error":"#N/A"},null,null,null,null,null,null,null,null,"",false,2,{"$f":"VLOOKUP(H340,Database!$B$1:$D$5000,3,0)","v":{"$error":"#N/A"}},true]
["",null,null,null,null,null,null,null,{"$f":"IF(ISERROR(VLOOKUP(H341,Database!$B$1:$C$5000,2,FALSE)),\"\",VLOOKUP(H341,Database!$B$1:$C$5000,2,FALSE))","v":""},"",{"$error":"#N/A"},null,null,null,null,null,null,null,null,"",false,2,{"$f":"VLOOKUP(H341,Database!$B$1:$D$5000,3,0)","v":{"$error":"#N/A"}},true]
["",null,null,null,null,null,null,null,{"$f":"IF(ISERROR(VLOOKUP(H342,Database!$B$1:$C$5000,2,FALSE)),\"\",VLOOKUP(H342,Database!$B$1:$C$5000,2,FALSE))","v":""},"",{"$error":"#N/A"},null,null,null,null,null,null,null,null,"",false,2,{"$f":"VLOOKUP(H342,Database!$B$1:$D$5000,3,0)","v":{"$error":"#N/A"}},true]
["",null,null,null,null,null,null,null,{"$f":"IF(ISERROR(VLOOKUP(H343,Database!$B$1:$C$5000,2,FALSE)),\"\",VLOOKUP(H343,Database!$B$1:$C$5000,2,FALSE))","v":""},"",{"$error":"#N/A"},null,null,null,null,null,null,null,null,"",false,2,{"$f":"VLOOKUP(H343,Database!$B$1:$D$5000,3,0)","v":{"$error":"#N/A"}},true]
["",null,null,null,null,null,null,null,{"$f":"IF(ISERROR(VLOOKUP(H344,Database!$B$1:$C$5000,2,FALSE)),\"\",VLOOKUP(H344,Database!$B$1:$C$5000,2,FALSE))","v":""},"",{"$error":"#N/A"},null,null,null,null,null,null,null,null,"",false,2,{"$f":"VLOOKUP(H344,Database!$B$1:$D$5000,3,0)","v":{"$error":"#N/A"}},true]
["",null,null,null,null,null,null,null,{"$f":"IF(ISERROR(VLOOKUP(H345,Database!$B$1:$C$5000,2,FALSE)),\"\",VLOOKUP(H345,Database!$B$1:$C$5000,2,FALSE))","v":""},"",{"$error":"#N/A"},null,null,null,null,null,null,null,null,"",false,2,{"$f":"VLOOKUP(H345,Database!$B$1:$D$5000,3,0)","v":{"$error":"#N/A"}},true]
["",null,null,null,null,null,null,null,{"$f":"IF(ISERROR(VLOOKUP(H346,Database!$B$1:$C$5000,2,FALSE)),\"\",VLOOKUP(H346,Database!$B$1:$C$5000,2,FALSE))","v":""},"",{"$error":"#N/A"},null,null,null,null,null,null,null,null,"",false,2,{"$f":"VLOOKUP(H346,Database!$B$1:$D$5000,3,0)","v":{"$error":"#N/A"}},true]
["",null,null,null,null,null,null,null,{"$f":"IF(ISERROR(VLOOKUP(H347,Database!$B$1:$C$5000,2,FALSE)),\"\",VLOOKUP(H347,Database!$B$1:$C$5000,2,FALSE))","v":""},"",{"$error":"#N/A"},null,null,null,null,null,null,null,null,"",false,2,{"$f":"VLOOKUP(H347,Database!$B$1:$D$5000,3,0)","v":{"$error":"#N/A"}},true]
["",null,null,null,null,null,null,null,{"$f":"IF(ISERROR(VLOOKUP(H348,Database!$B$1:$C$5000,2,FALSE)),\"\",VLOOKUP(H348,Database!$B$1:$C$5000,2,FALSE))","v":""},"",{"$error":"#N/A"},null,null,null,null,null,null,null,null,"",false,2,{"$f":"VLOOKUP(H348,Database!$B$1:$D$5000,3,0)","v":{"$error":"#N/A"}},true]
["",null,null,null,null,null,null,null,{"$f":"IF(ISERROR(VLOOKUP(H349,Database!$B$1:$C$5000,2,FALSE)),\"\",VLOOKUP(H349,Database!$B$1:$C$5000,2,FALSE))","v":""},"",{"$error":"#N/A"},null,null,null,null,null,null,null,null,"",false,2,{"$f":"VLOOKUP(H349,Database!$B$1:$D$5000,3,0)","v":{"$error":"#N/A"}},true]
["",null,null,null,null,null,null,null,{"$f":"IF(ISERROR(VLOOKUP(H350,Database!$B$1:$C$5000,2,FALSE)),\"\",VLOOKUP(H350,Database!$B$1:$C$5000,2,FALSE))","v":""},"",{"$error":"#N/A"},null,null,null,null,null,null,null,null,"",false,2,{"$f":"VLOOKUP(H350,Database!$B$1:$D$5000,3,0)","v":{"$error":"#N/A"}},true]
["",null,null,null,null,null,null,null,{"$f":"IF(ISERROR(VLOOKUP(H351,Database!$B$1:$C$5000,2,FALSE)),\"\",VLOOKUP(H351,Database!$B$1:$C$5000,2,FALSE))","v":""},"",{"$error":"#N/A"},null,null,null,null,null,null,null,null,"",false,2,{"$f":"VLOOKUP(H351,Database!$B$1:$D$5000,3,0)","v":{"$error":"#N/A"}},true]
["",null,null,null,null,null,null,null,{"$f":"IF(ISERROR(VLOOKUP(H352,Database!$B$1:$C$5000,2,FALSE)),\"\",VLOOKUP(H352,Database!$B$1:$C$5000,2,FALSE))","v":""},"",{"$error":"#N/A"},null,null,null,null,null,null,null,null,"",false,2,{"$f":"VLOOKUP(H352,Database!$B$1:$D$5000,3,0)","v":{"$error":"#N/A"}},true]
["",null,null,null,null,null,null,null,{"$f":"IF(ISERROR(VLOOKUP(H353,Database!$B$1:$C$5000,2,FALSE)),\"\",VLOOKUP(H353,Database!$B$1:$C$5000,2,FALSE))","v":""},"",{"$error":"#N/A"},null,null,null,null,null,null,null,null,"",false,2,{"$f":"VLOOKUP(H353,Database!$B$1:$D$5000,3,0)","v":{"$error":"#N/A"}},true]
["",null,null,null,null,null,null,null,{"$f":"IF(ISERROR(VLOOKUP(H354,Database!$B$1:$C$5000,2,FALSE)),\"\",VLOOKUP(H354,Database!$B$1:$C$5000,2,FALSE))","v":""},"",{"$error":"#N/A"},null,null,null,null,null,null,null,null,"",false,2,{"$f":"VLOOKUP(H354,Database!$B$1:$D$5000,3,0)","v":{"$error":"#N/A"}},true]
["",null,null,null,null,null,null,null,{"$f":"IF(ISERROR(VLOOKUP(H355,Database!$B$1:$C$5000,2,FALSE)),\"\",VLOOKUP(H355,Database!$B$1:$C$5000,2,FALSE))","v":""},"",{"$error":"#N/A"},null,null,null,null,null,null,null,null,"",false,2,{"$f":"VLOOKUP(H355,Database!$B$1:$D$5000,3,0)","v":{"$error":"#N/A"}},true]
["",null,null,null,null,null,null,null,{"$f":"IF(ISERROR(VLOOKUP(H356,Database!$B$1:$C$5000,2,FALSE)),\"\",VLOOKUP(H356,Database!$B$1:$C$5000,2,FALSE))","v":""},"",{"$error":"#N/A"},null,null,null,null,null,null,null,null,"",false,2,{"$f":"VLOOKUP(H356,Database!$B$1:$D$5000,3,0)","v":{"$error":"#N/A"}},true]
["",null,null,null,null,null,null,null,{"$f":"IF(ISERROR(VLOOKUP(H357,Database!$B$1:$C$5000,2,FALSE)),\"\",VLOOKUP(H357,Database!$B$1:$C$5000,2,FALSE))","v":""},"",{"$error":"#N/A"},null,null,null,null,null,null,null,null,"",false,2,{"$f":"VLOOKUP(H357,Database!$B$1:$D$5000,3,0)","v":{"$error":"#N/A"}},true]
["",null,null,null,null,null,null,null,{"$f":"IF(ISERROR(VLOOKUP(H358,Database!$B$1:$C$5000,2,FALSE)),\"\",VLOOKUP(H358,Database!$B$1:$C$5000,2,FALSE))","v":""},"",{"$error":"#N/A"},null,null,null,null,null,null,null,null,"",false,2,{"$f":"VLOOKUP(H358,Database!$B$1:$D$5000,3,0)","v":{"$error":"#N/A"}},true]
["",null,null,null,null,null,null,null,{"$f":"IF(ISERROR(VLOOKUP(H359,Database!$B$1:$C$5000,2,FALSE)),\"\",VLOOKUP(H359,Database!$B$1:$C$5000,2,FALSE))","v":""},"",{"$error":"#N/A"},null,null,null,null,null,null,null,null,"",false,2,{"$f":"VLOOKUP(H359,Database!$B$1:$D$5000,3,0)","v":{"$error":"#N/A"}},true]
["",null,null,null,null,null,null,null,{"$f":"IF(ISERROR(VLOOKUP(H360,Database!$B$1:$C$5000,2,FALSE)),\"\",VLOOKUP(H360,Database!$B$1:$C$5000,2,FALSE))","v":""},"",{"$error":"#N/A"},null,null,null,null,null,null,null,null,"",false,2,{"$f":"VLOOKUP(H360,Database!$B$1:$D$5000,3,0)","v":{"$error":"#N/A"}},true]
["",null,null,null,null,null,null,null,{"$f":"IF(ISERROR(VLOOKUP(H361,Database!$B$1:$C$5000,2,FALSE)),\"\",VLOOKUP(H361,Database!$B$1:$C$5000,2,FALSE))","v":""},"",{"$error":"#N/A"},null,null,null,null,null,null,null,null,"",false,2,{"$f":"VLOOKUP(H361,Database!$B$1:$D$5000,3,0)","v":{"$error":"#N/A"}},true]
["",null,null,null,null,null,null,null,{"$f":"IF(ISERROR(VLOOKUP(H362,Database!$B$1:$C$5000,2,FALSE)),\"\",VLOOKUP(H362,Database!$B$1:$C$5000,2,FALSE))","v":""},"",{"$error":"#N/A"},null,null,null,null,null,null,null,null,"",false,2,{"$f":"VLOOKUP(H362,Database!$B$1:$D$5000,3,0)","v":{"$error":"#N/A"}},true]
["",null,null,null,null,null,null,null,{"$f":"IF(ISERROR(VLOOKUP(H363,Database!$B$1:$C$5000,2,FALSE)),\"\",VLOOKUP(H363,Database!$B$1:$C$5000,2,FALSE))","v":""},"",{"$error":"#N/A"},null,null,null,null,null,null,null,null,"",false,2,{"$f":"VLOOKUP(H363,Database!$B$1:$D$5000,3,0)","v":{"$error":"#N/A"}},true]
["",null,null,null,null,null,null,null,{"$f":"IF(ISERROR(VLOOKUP(H364,Database!$B$1:$C$5000,2,FALSE)),\"\",VLOOKUP(H364,Database!$B$1:$C$5000,2,FALSE))","v":""},"",{"$error":"#N/A"},null,null,null,null,null,null,null,null,"",false,2,{"$f":"VLOOKUP(H364,Database!$B$1:$D$5000,3,0)","v":{"$error":"#N/A"}},true]
["",null,null,null,null,null,null,null,{"$f":"IF(ISERROR(VLOOKUP(H365,Database!$B$1:$C$5000,2,FALSE)),\"\",VLOOKUP(H365,Database!$B$1:$C$5000,2,FALSE))","v":""},"",{"$error":"#N/A"},null,null,null,null,null,null,null,null,"",false,2,{"$f":"VLOOKUP(H365,Database!$B$1:$D$5000,3,0)","v":{"$error":"#N/A"}},true]
["",null,null,null,null,null,null,null,{"$f":"IF(ISERROR(VLOOKUP(H366,Database!$B$1:$C$5000,2,FALSE)),\"\",VLOOKUP(H366,Database!$B$1:$C$5000,2,FALSE))","v":""},"",{"$error":"#N/A"},null,null,null,null,null,null,null,null,"",false,2,{"$f":"VLOOKUP(H366,Database!$B$1:$D$5000,3,0)","v":{"$error":"#N/A"}},true]
["",null,null,null,null,null,null,null,{"$f":"IF(ISERROR(VLOOKUP(H367,Database!$B$1:$C$5000,2,FALSE)),\"\",VLOOKUP(H367,Database!$B$1:$C$5000,2,FALSE))","v":""},"",{"$error":"#N/A"},null,null,null,null,null,null,null,null,"",false,2,{"$f":"VLOOKUP(H367,Database!$B$1:$D$5000,3,0)","v":{"$error":"#N/A"}},true]
["",null,null,null,null,null,null,null,{"$f":"IF(ISERROR(VLOOKUP(H368,Database!$B$1:$C$5000,2,FALSE)),\"\",VLOOKUP(H368,Database!$B$1:$C$5000,2,FALSE))","v":""},"",{"$error":"#N/A"},null,null,null,null,null,null,null,null,"",false,2,{"$f":"VLOOKUP(H368,Database!$B$1:$D$5000,3,0)","v":{"$error":"#N/A"}},true]
["",null,null,null,null,null,null,null,{"$f":"IF(ISERROR(VLOOKUP(H369,Database!$B$1:$C$5000,2,FALSE)),\"\",VLOOKUP(H369,Database!$B$1:$C$5000,2,FALSE))","v":""},"",{"$error":"#N/A"},null,null,null,null,null,null,null,null,"",false,2,{"$f":"VLOOKUP(H369,Database!$B$1:$D$5000,3,0)","v":{"$error":"#N/A"}},true]
["",null,null,null,null,null,null,null,{"$f":"IF(ISERROR(VLOOKUP(H370,Database!$B$1:$C$5000,2,FALSE)),\"\",VLOOKUP(H370,Database!$B$1:$C$5000,2,FALSE))","v":""},"",{"$error":"#N/A"},null,null,null,null,null,null,null,null,"",false,2,{"$f":"VLOOKUP(H370,Database!$B$1:$D$5000,3,0)","v":{"$error":"#N/A"}},true]
["",null,null,null,null,null,null,null,{"$f":"IF(ISERROR(VLOOKUP(H371,Database!$B$1:$C$5000,2,FALSE)),\"\",VLOOKUP(H371,Database!$B$1:$C$5000,2,FALSE))","v":""},"",{"$error":"#N/A"},null,null,null,null,null,null,null,null,"",false,2,{"$f":"VLOOKUP(H371,Database!$B$1:$D$5000,3,0)","v":{"$error":"#N/A"}},true]
["",null,null,null,null,null,null,null,{"$f":"IF(ISERROR(VLOOKUP(H372,Database!$B$1:$C$5000,2,FALSE)),\"\",VLOOKUP(H372,Database!$B$1:$C$5000,2,FALSE))","v":""},"",{"$error":"#N/A"},null,null,null,null,null,null,null,null,"",false,2,{"$f":"VLOOKUP(H372,Database!$B$1:$D$5000,3,0)","v":{"$error":"#N/A"}},true]
["",null,null,null,null,null,null,null,{"$f":"IF(ISERROR(VLOOKUP(H373,Database!$B$1:$C$5000,2,FALSE)),\"\",VLOOKUP(H373,Database!$B$1:$C$5000,2,FALSE))","v":""},"",{"$error":"#N/A"},null,null,null,null,null,null,null,null,"",false,2,{"$f":"VLOOKUP(H373,Database!$B$1:$D$5000,3,0)","v":{"$error":"#N/A"}},true]
["",null,null,null,null,null,null,null,{"$f":"IF(ISERROR(VLOOKUP(H374,Database!$B$1:$C$5000,2,FALSE)),\"\",VLOOKUP(H374,Database!$B$1:$C$5000,2,FALSE))","v":""},"",{"$error":"#N/A"},null,null,null,null,null,null,null,null,"",false,2,{"$f":"VLOOKUP(H374,Database!$B$1:$D$5000,3,0)","v":{"$error":"#N/A"}},true]
["",null,null,null,null,null,null,null,{"$f":"IF(ISERROR(VLOOKUP(H375,Database!$B$1:$C$5000,2,FALSE)),\"\",VLOOKUP(H375,Database!$B$1:$C$5000,2,FALSE))","v":""},"",{"$error":"#N/A"},null,null,null,null,null,null,null,null,"",false,2,{"$f":"VLOOKUP(H375,Database!$B$1:$D$5000,3,0)","v":{"$error":"#N/A"}},true]
["",null,null,null,null,null,null,null,{"$f":"IF(ISERROR(VLOOKUP(H376,Database!$B$1:$C$5000,2,FALSE)),\"\",VLOOKUP(H376,Database!$B$1:$C$5000,2,FALSE))","v":""},"",{"$error":"#N/A"},null,null,null,null,null,null,null,null,"",false,2,{"$f":"VLOOKUP(H376,Database!$B$1:$D$5000,3,0)","v":{"$error":"#N/A"}},true]
["",null,null,null,null,null,null,null,{"$f":"IF(ISERROR(VLOOKUP(H377,Database!$B$1:$C$5000,2,FALSE)),\"\",VLOOKUP(H377,Database!$B$1:$C$5000,2,FALSE))","v":""},"",{"$error":"#N/A"},null,null,null,null,null,null,null,null,"",false,2,{"$f":"VLOOKUP(H377,Database!$B$1:$D$5000,3,0)","v":{"$error":"#N/A"}},true]
["",null,null,null,null,null,null,null,{"$f":"IF(ISERROR(VLOOKUP(H378,Database!$B$1:$C$5000,2,FALSE)),\"\",VLOOKUP(H378,Database!$B$1:$C$5000,2,FALSE))","v":""},"",{"$error":"#N/A"},null,null,null,null,null,null,null,null,"",false,2,{"$f":"VLOOKUP(H378,Database!$B$1:$D$5000,3,0)","v":{"$error":"#N/A"}},true]
["",null,null,null,null,null,null,null,{"$f":"IF(ISERROR(VLOOKUP(H379,Database!$B$1:$C$5000,2,FALSE)),\"\",VLOOKUP(H379,Database!$B$1:$C$5000,2,FALSE))","v":""},"",{"$error":"#N/A"},null,null,null,null,null,null,null,null,"",false,2,{"$f":"VLOOKUP(H379,Database!$B$1:$D$5000,3,0)","v":{"$error":"#N/A"}},true]
["",null,null,null,null,null,null,null,{"$f":"IF(ISERROR(VLOOKUP(H380,Database!$B$1:$C$5000,2,FALSE)),\"\",VLOOKUP(H380,Database!$B$1:$C$5000,2,FALSE))","v":""},"",{"$error":"#N/A"},null,null,null,null,null,null,null,null,"",false,2,{"$f":"VLOOKUP(H380,Database!$B$1:$D$5000,3,0)","v":{"$error":"#N/A"}},true]
["",null,null,null,null,null,null,null,{"$f":"IF(ISERROR(VLOOKUP(H381,Database!$B$1:$C$5000,2,FALSE)),\"\",VLOOKUP(H381,Database!$B$1:$C$5000,2,FALSE))","v":""},"",{"$error":"#N/A"},null,null,null,null,null,null,null,null,"",false,2,{"$f":"VLOOKUP(H381,Database!$B$1:$D$5000,3,0)","v":{"$error":"#N/A"}},true]
["",null,null,null,null,null,null,null,{"$f":"IF(ISERROR(VLOOKUP(H382,Database!$B$1:$C$5000,2,FALSE)),\"\",VLOOKUP(H382,Database!$B$1:$C$5000,2,FALSE))","v":""},"",{"$error":"#N/A"},null,null,null,null,null,null,null,null,"",false,2,{"$f":"VLOOKUP(H382,Database!$B$1:$D$5000,3,0)","v":{"$error":"#N/A"}},true]
["",null,null,null,null,null,null,null,{"$f":"IF(ISERROR(VLOOKUP(H383,Database!$B$1:$C$5000,2,FALSE)),\"\",VLOOKUP(H383,Database!$B$1:$C$5000,2,FALSE))","v":""},"",{"$error":"#N/A"},null,null,null,null,null,null,null,null,"",false,2,{"$f":"VLOOKUP(H383,Database!$B$1:$D$5000,3,0)","v":{"$error":"#N/A"}},true]
["",null,null,null,null,null,null,null,{"$f":"IF(ISERROR(VLOOKUP(H384,Database!$B$1:$C$5000,2,FALSE)),\"\",VLOOKUP(H384,Database!$B$1:$C$5000,2,FALSE))","v":""},"",{"$error":"#N/A"},null,null,null,null,null,null,null,null,"",false,2,{"$f":"VLOOKUP(H384,Database!$B$1:$D$5000,3,0)","v":{"$error":"#N/A"}},true]
["",null,null,null,null,null,null,null,{"$f":"IF(ISERROR(VLOOKUP(H385,Database!$B$1:$C$5000,2,FALSE)),\"\",VLOOKUP(H385,Database!$B$1:$C$5000,2,FALSE))","v":""},"",{"$error":"#N/A"},null,null,null,null,null,null,null,null,"",false,2,{"$f":"VLOOKUP(H385,Database!$B$1:$D$5000,3,0)","v":{"$error":"#N/A"}},true]
["",null,null,null,null,null,null,null,{"$f":"IF(ISERROR(VLOOKUP(H386,Database!$B$1:$C$5000,2,FALSE)),\"\",VLOOKUP(H386,Database!$B$1:$C$5000,2,FALSE))","v":""},"",{"$error":"#N/A"},null,null,null,null,null,null,null,null,"",false,2,{"$f":"VLOOKUP(H386,Database!$B$1:$D$5000,3,0)","v":{"$error":"#N/A"}},true]
["",null,null,null,null,null,null,null,{"$f":"IF(ISERROR(VLOOKUP(H387,Database!$B$1:$C$5000,2,FALSE)),\"\",VLOOKUP(H387,Database!$B$1:$C$5000,2,FALSE))","v":""},"",{"$error":"#N/A"},null,null,null,null,null,null,null,null,"",false,2,{"$f":"VLOOKUP(H387,Database!$B$1:$D$5000,3,0)","v":{"$error":"#N/A"}},true]
["",null,null,null,null,null,null,null,{"$f":"IF(ISERROR(VLOOKUP(H388,Database!$B$1:$C$5000,2,FALSE)),\"\",VLOOKUP(H388,Database!$B$1:$C$5000,2,FALSE))","v":""},"",{"$error":"#N/A"},null,null,null,null,null,null,null,null,"",false,2,{"$f":"VLOOKUP(H388,Database!$B$1:$D$5000,3,0)","v":{"$error":"#N/A"}},true]
["",null,null,null,null,null,null,null,{"$f":"IF(ISERROR(VLOOKUP(H389,Database!$B$1:$C$5000,2,FALSE)),\"\",VLOOKUP(H389,Database!$B$1:$C$5000,2,FALSE))","v":""},"",{"$error":"#N/A"},null,null,null,null,null,null,null,null,"",false,2,{"$f":"VLOOKUP(H389,Database!$B$1:$D$5000,3,0)","v":{"$error":"#N/A"}},true]
["",null,null,null,null,null,null,null,{"$f":"IF(ISERROR(VLOOKUP(H390,Database!$B$1:$C$5000,2,FALSE)),\"\",VLOOKUP(H390,Database!$B$1:$C$5000,2,FALSE))","v":""},"",{"$error":"#N/A"},null,null,null,null,null,null,null,null,"",false,2,{"$f":"VLOOKUP(H390,Database!$B$1:$D$5000,3,0)","v":{"$error":"#N/A"}},true]
[{"$f":"IF(B391=\"\",\"\",ROW(A386))","v":""},null,null,null,null,null,null,null,{"$f":"IF(ISERROR(VLOOKUP(H391,Database!$B$1:$C$5000,2,FALSE)),\"\",VLOOKUP(H391,Database!$B$1:$C$5000,2,FALSE))","v":""},{"$f":"IF(V391=1,1,IF(AND(T391=0,F391=\"SSB\",V391<>\"\"),3,IF(AND(T391=0,F391=\"DIGI\",V391<>\"\"),2,IF(AND(T391=0,F391=\"CW\",V391<>\"\"),5,IF(H391=\"-\",\"\",T391)))))","v":""},{"$f":"IF(H391=\"-\",\"\",IF(AND(H391<>\"\",X391=TRUE),\"INDIPENDENT\",IF(W391=0,\"SCRIVI NOME NELLE NOTE\",W391)))","v":{"$error":"#N/A"}},null,null,null,null,null,null,null,null,{"$f":"IF(H391=\"\",\"\",IF(H391=$R$6,25,IF(OR(H391=$R$7,H391=$R$8,H391=$R$9,H391=$R$10,H391=$R$11,H391=$R$12,H391=$R$13,H391=$R$14,H391=$R$15,H391=$R$16,H391=$R$17,H391=$R$18,H391=$R$19,H391=$R$20,H391=$R$21,H391=$R$22,H391=$R$23),15,0)))","v":""},{"$f":"ISERROR(I391)","v":false},{"$f":"IF(H391=\"-\",\"\",IF(AND(T391=0,U391=FALSE,I391=\"\"),1,2))","v":2},{"$f":"VLOOKUP(H391,Database!$B$1:$D$5000,3,0)","v":{"$error":"#N/A"}},{"$f":"ISERROR(W391)","v":true}]
["",null,null,null,null,null,null,null,{"$f":"IF(ISERROR(VLOOKUP(H392,Database!$B$1:$C$5000,2,FALSE)),\"\",VLOOKUP(H392,Database!$B$1:$C$5000,2,FALSE))","v":""},"",{"$error":"#N/A"},null,null,null,null,null,null,null,null,"",false,2,{"$f":"VLOOKUP(H392,Database!$B$1:$D$5000,3,0)","v":{"$error":"#N/A"}},true]
["",null,null,null,null,null,null,null,{"$f":"IF(ISERROR(VLOOKUP(H393,Database!$B$1:$C$5000,2,FALSE)),\"\",VLOOKUP(H393,Database!$B$1:$C$5000,2,FALSE))","v":""},"",{"$error":"#N/A"},null,null,null,null,null,null,null,null,"",false,2,{"$f":"VLOOKUP(H393,Database!$B$1:$D$5000,3,0)","v":{"$error":"#N/A"}},true]
["",null,null,null,null,null,null,null,{"$f":"IF(ISERROR(VLOOKUP(H394,Database!$B$1:$C$5000,2,FALSE)),\"\",VLOOKUP(H394,Database!$B$1:$C$5000,2,FALSE))","v":""},"",{"$error":"#N/A"},null,null,null,null,null,null,null,null,"",false,2,{"$f":"VLOOKUP(H394,Database!$B$1:$D$5000,3,0)","v":{"$error":"#N/A"}},true]
["",null,null,null,null,null,null,null,{"$f":"IF(ISERROR(VLOOKUP(H395,Database!$B$1:$C$5000,2,FALSE)),\"\",VLOOKUP(H395,Database!$B$1:$C$5000,2,FALSE))","v":""},"",{"$error":"#N/A"},null,null,null,null,null,null,null,null,"",false,2,{"$f":"VLOOKUP(H395,Database!$B$1:$D$5000,3,0)","v":{"$error":"#N/A"}},true]
["",null,null,null,null,null,null,null,{"$f":"IF(ISERROR(VLOOKUP(H396,Database!$B$1:$C$5000,2,FALSE)),\"\",VLOOKUP(H396,Database!$B$1:$C$5000,2,FALSE))","v":""},"",{"$error":"#N/A"},null,null,null,null,null,null,null,null,"",false,2,{"$f":"VLOOKUP(H396,Database!$B$1:$D$5000,3,0)","v":{"$error":"#N/A"}},true]
["",null,null,null,null,null,null,null,{"$f":"IF(ISERROR(VLOOKUP(H397,Database!$B$1:$C$5000,2,FALSE)),\"\",VLOOKUP(H397,Database!$B$1:$C$5000,2,FALSE))","v":""},"",{"$error":"#N/A"},null,null,null,null,null,null,null,null,"",false,2,{"$f":"VLOOKUP(H397,Database!$B$1:$D$5000,3,0)","v":{"$error":"#N/A"}},true]
["",null,null,null,null,null,null,null,{"$f":"IF(ISERROR(VLOOKUP(H398,Database!$B$1:$C$5000,2,FALSE)),\"\",VLOOKUP(H398,Database!$B$1:$C$5000,2,FALSE))","v":""},"",{"$error":"#N/A"},null,null,null,null,null,null,null,null,"",false,2,{"$f":"VLOOKUP(H398,Database!$B$1:$D$5000,3,0)","v":{"$error":"#N/A"}},true]
["",null,null,null,null,null,null,null,{"$f":"IF(ISERROR(VLOOKUP(H399,Database!$B$1:$C$5000,2,FALSE)),\"\",VLOOKUP(H399,Database!$B$1:$C$5000,2,FALSE))","v":""},"",{"$error":"#N/A"},null,null,null,null,null,null,null,null,"",false,2,{"$f":"VLOOKUP(H399,Database!$B$1:$D$5000,3,0)","v":{"$error":"#N/A"}},true]
["",null,null,null,null,null,null,null,{"$f":"IF(ISERROR(VLOOKUP(H400,Database!$B$1:$C$5000,2,FALSE)),\"\",VLOOKUP(H400,Database!$B$1:$C$5000,2,FALSE))","v":""},"",{"$error":"#N/A"},null,null,null,null,null,null,null,null,"",false,2,{"$f":"VLOOKUP(H400,Database!$B$1:$D$5000,3,0)","v":{"$error":"#N/A"}},true]
["",null,null,null,null,null,null,null,{"$f":"IF(ISERROR(VLOOKUP(H401,Database!$B$1:$C$5000,2,FALSE)),\"\",VLOOKUP(H401,Database!$B$1:$C$5000,2,FALSE))","v":""},"",{"$error":"#N/A"},null,null,null,null,null,null,null,null,"",false,2,{"$f":"VLOOKUP(H401,Database!$B$1:$D$5000,3,0)","v":{"$error":"#N/A"}},true]
["",null,null,null,null,null,null,null,{"$f":"IF(ISERROR(VLOOKUP(H402,Database!$B$1:$C$5000,2,FALSE)),\"\",VLOOKUP(H402,Database!$B$1:$C$5000,2,FALSE))","v":""},"",{"$error":"#N/A"},null,null,null,null,null,null,null,null,"",false,2,{"$f":"VLOOKUP(H402,Database!$B$1:$D$5000,3,0)","v":{"$error":"#N/A"}},true]
["",null,null,null,null,null,null,null,{"$f":"IF(ISERROR(VLOOKUP(H403,Database!$B$1:$C$5000,2,FALSE)),\"\",VLOOKUP(H403,Database!$B$1:$C$5000,2,FALSE))","v":""},"",{"$error":"#N/A"},null,null,null,null,null,null,null,null,"",false,2,{"$f":"VLOOKUP(H403,Database!$B$1:$D$5000,3,0)","v":{"$error":"#N/A"}},true]
["",null,null,null,null,null,null,null,{"$f":"IF(ISERROR(VLOOKUP(H404,Database!$B$1:$C$5000,2,FALSE)),\"\",VLOOKUP(H404,Database!$B$1:$C$5000,2,FALSE))","v":""},"",{"$error":"#N/A"},null,null,null,null,null,null,null,null,"",false,2,{"$f":"VLOOKUP(H404,Database!$B$1:$D$5000,3,0)","v":{"$error":"#N/A"}},true]
["",null,null,null,null,null,null,null,{"$f":"IF(ISERROR(VLOOKUP(H405,Database!$B$1:$C$5000,2,FALSE)),\"\",VLOOKUP(H405,Database!$B$1:$C$5000,2,FALSE))","v":""},"",{"$error":"#N/A"},null,null,null,null,null,null,null,null,"",false,2,{"$f":"VLOOKUP(H405,Database!$B$1:$D$5000,3,0)","v":{"$error":"#N/A"}},true]
["",null,null,null,null,null,null,null,{"$f":"IF(ISERROR(VLOOKUP(H406,Database!$B$1:$C$5000,2,FALSE)),\"\",VLOOKUP(H406,Database!$B$1:$C$5000,2,FALSE))","v":""},"",{"$error":"#N/A"},null,null,null,null,null,null,null,null,"",false,2,{"$f":"VLOOKUP(H406,Database!$B$1:$D$5000,3,0)","v":{"$error":"#N/A"}},true]
["",null,null,null,null,null,null,null,{"$f":"IF(ISERROR(VLOOKUP(H407,Database!$B$1:$C$5000,2,FALSE)),\"\",VLOOKUP(H407,Database!$B$1:$C$5000,2,FALSE))","v":""},"",{"$error":"#N/A"},null,null,null,null,null,null,null,null,"",false,2,{"$f":"VLOOKUP(H407,Database!$B$1:$D$5000,3,0)","v":{"$error":"#N/A"}},true]
["",null,null,null,null,null,null,null,{"$f":"IF(ISERROR(VLOOKUP(H408,Database!$B$1:$C$5000,2,FALSE)),\"\",VLOOKUP(H408,Database!$B$1:$C$5000,2,FALSE))","v":""},"",{"$error":"#N/A"},null,null,null,null,null,null,null,null,"",false,2,{"$f":"VLOOKUP(H408,Database!$B$1:$D$5000,3,0)","v":{"$error":"#N/A"}},true]
["",null,null,null,null,null,null,null,{"$f":"IF(ISERROR(VLOOKUP(H409,Database!$B$1:$C$5000,2,FALSE)),\"\",VLOOKUP(H409,Database!$B$1:$C$5000,2,FALSE))","v":""},"",{"$error":"#N/A"},null,null,null,null,null,null,null,null,"",false,2,{"$f":"VLOOKUP(H409,Database!$B$1:$D$5000,3,0)","v":{"$error":"#N/A"}},true]
["",null,null,null,null,null,null,null,{"$f":"IF(ISERROR(VLOOKUP(H410,Database!$B$1:$C$5000,2,FALSE)),\"\",VLOOKUP(H410,Database!$B$1:$C$5000,2,FALSE))","v":""},"",{"$error":"#N/A"},null,null,null,null,null,null,null,null,"",false,2,{"$f":"VLOOKUP(H410,Database!$B$1:$D$5000,3,0)","v":{"$error":"#N/A"}},true]
["",null,null,null,null,null,null,null,{"$f":"IF(ISERROR(VLOOKUP(H411,Database!$B$1:$C$5000,2,FALSE)),\"\",VLOOKUP(H411,Database!$B$1:$C$5000,2,FALSE))","v":""},"",{"$error":"#N/A"},null,null,null,null,null,null,null,null,"",false,2,{"$f":"VLOOKUP(H411,Database!$B$1:$D$5000,3,0)","v":{"$error":"#N/A"}},true]
["",null,null,null,null,null,null,null,{"$f":"IF(ISERROR(VLOOKUP(H412,Database!$B$1:$C$5000,2,FALSE)),\"\",VLOOKUP(H412,Database!$B$1:$C$5000,2,FALSE))","v":""},"",{"$error":"#N/A"},null,null,null,null,null,null,null,null,"",false,2,{"$f":"VLOOKUP(H412,Database!$B$1:$D$5000,3,0)","v":{"$error":"#N/A"}},true]
["",null,null,null,null,null,null,null,{"$f":"IF(ISERROR(VLOOKUP(H413,Database!$B$1:$C$5000,2,FALSE)),\"\",VLOOKUP(H413,Database!$B$1:$C$5000,2,FALSE))","v":""},"",{"$error":"#N/A"},null,null,null,null,null,null,null,null,"",false,2,{"$f":"VLOOKUP(H413,Database!$B$1:$D$5000,3,0)","v":{"$error":"#N/A"}},true]
["",null,null,null,null,null,null,null,{"$f":"IF(ISERROR(VLOOKUP(H414,Database!$B$1:$C$5000,2,FALSE)),\"\",VLOOKUP(H414,Database!$B$1:$C$5000,2,FALSE))","v":""},"",{"$error":"#N/A"},null,null,null,null,null,null,null,null,"",false,2,{"$f":"VLOOKUP(H414,Database!$B$1:$D$5000,3,0)","v":{"$error":"#N/A"}},true]
["",null,null,null,null,null,null,null,{"$f":"IF(ISERROR(VLOOKUP(H415,Database!$B$1:$C$5000,2,FALSE)),\"\",VLOOKUP(H415,Database!$B$1:$C$5000,2,FALSE))","v":""},"",{"$error":"#N/A"},null,null,null,null,null,null,null,null,"",false,2,{"$f":"VLOOKUP(H415,Database!$B$1:$D$5000,3,0)","v":{"$error":"#N/A"}},true]
["",null,null,null,null,null,null,null,{"$f":"IF(ISERROR(VLOOKUP(H416,Database!$B$1:$C$5000,2,FALSE)),\"\",VLOOKUP(H416,Database!$B$1:$C$5000,2,FALSE))","v":""},"",{"$error":"#N/A"},null,null,null,null,null,null,null,null,"",false,2,{"$f":"VLOOKUP(H416,Database!$B$1:$D$5000,3,0)","v":{"$error":"#N/A"}},true]
["",null,null,null,null,null,null,null,{"$f":"IF(ISERROR(VLOOKUP(H417,Database!$B$1:$C$5000,2,FALSE)),\"\",VLOOKUP(H417,Database!$B$1:$C$5000,2,FALSE))","v":""},"",{"$error":"#N/A"},null,null,null,null,null,null,null,null,"",false,2,{"$f":"VLOOKUP(H417,Database!$B$1:$D$5000,3,0)","v":{"$error":"#N/A"}},true]
["",null,null,null,null,null,null,null,{"$f":"IF(ISERROR(VLOOKUP(H418,Database!$B$1:$C$5000,2,FALSE)),\"\",VLOOKUP(H418,Database!$B$1:$C$5000,2,FALSE))","v":""},"",{"$error":"#N/A"},null,null,null,null,null,null,null,null,"",false,2,{"$f":"VLOOKUP(H418,Database!$B$1:$D$5000,3,0)","v":{"$error":"#N/A"}},true]
["",null,null,null,null,null,null,null,{"$f":"IF(ISERROR(VLOOKUP(H419,Database!$B$1:$C$5000,2,FALSE)),\"\",VLOOKUP(H419,Database!$B$1:$C$5000,2,FALSE))","v":""},"",{"$error":"#N/A"},null,null,null,null,null,null,null,null,"",false,2,{"$f":"VLOOKUP(H419,Database!$B$1:$D$5000,3,0)","v":{"$error":"#N/A"}},true]
["",null,null,null,null,null,null,null,{"$f":"IF(ISERROR(VLOOKUP(H420,Database!$B$1:$C$5000,2,FALSE)),\"\",VLOOKUP(H420,Database!$B$1:$C$5000,2,FALSE))","v":""},"",{"$error":"#N/A"},null,null,null,null,null,null,null,null,"",false,2,{"$f":"VLOOKUP(H420,Database!$B$1:$D$5000,3,0)","v":{"$error":"#N/A"}},true]
["",null,null,null,null,null,null,null,{"$f":"IF(ISERROR(VLOOKUP(H421,Database!$B$1:$C$5000,2,FALSE)),\"\",VLOOKUP(H421,Database!$B$1:$C$5000,2,FALSE))","v":""},"",{"$error":"#N/A"},null,null,null,null,null,null,null,null,"",false,2,{"$f":"VLOOKUP(H421,Database!$B$1:$D$5000,3,0)","v":{"$error":"#N/A"}},true]
["",null,null,null,null,null,null,null,{"$f":"IF(ISERROR(VLOOKUP(H422,Database!$B$1:$C$5000,2,FALSE)),\"\",VLOOKUP(H422,Database!$B$1:$C$5000,2,FALSE))","v":""},"",{"$error":"#N/A"},null,null,null,null,null,null,null,null,"",false,2,{"$f":"VLOOKUP(H422,Database!$B$1:$D$5000,3,0)","v":{"$error":"#N/A"}},true]
["",null,null,null,null,null,null,null,{"$f":"IF(ISERROR(VLOOKUP(H423,Database!$B$1:$C$5000,2,FALSE)),\"\",VLOOKUP(H423,Database!$B$1:$C$5000,2,FALSE))","v":""},"",{"$error":"#N/A"},null,null,null,null,null,null,null,null,"",false,2,{"$f":"VLOOKUP(H423,Database!$B$1:$D$5000,3,0)","v":{"$error":"#N/A"}},true]
["",null,null,null,null,null,null,null,{"$f":"IF(ISERROR(VLOOKUP(H424,Database!$B$1:$C$5000,2,FALSE)),\"\",VLOOKUP(H424,Database!$B$1:$C$5000,2,FALSE))","v":""},"",{"$error":"#N/A"},null,null,null,null,null,null,null,null,"",false,2,{"$f":"VLOOKUP(H424,Database!$B$1:$D$5000,3,0)","v":{"$error":"#N/A"}},true]
["",null,null,null,null,null,null,null,{"$f":"IF(ISERROR(VLOOKUP(H425,Database!$B$1:$C$5000,2,FALSE)),\"\",VLOOKUP(H425,Database!$B$1:$C$5000,2,FALSE))","v":""},"",{"$error":"#N/A"},null,null,null,null,null,null,null,null,"",false,2,{"$f":"VLOOKUP(H425,Database!$B$1:$D$5000,3,0)","v":{"$error":"#N/A"}},true]
["",null,null,null,null,null,null,null,{"$f":"IF(ISERROR(VLOOKUP(H426,Database!$B$1:$C$5000,2,FALSE)),\"\",VLOOKUP(H426,Database!$B$1:$C$5000,2,FALSE))","v":""},"",{"$error":"#N/A"},null,null,null,null,null,null,null,null,"",false,2,{"$f":"VLOOKUP(H426,Database!$B$1:$D$5000,3,0)","v":{"$error":"#N/A"}},true]
["",null,null,null,null,null,null,null,{"$f":"IF(ISERROR(VLOOKUP(H427,Database!$B$1:$C$5000,2,FALSE)),\"\",VLOOKUP(H427,Database!$B$1:$C$5000,2,FALSE))","v":""},"",{"$error":"#N/A"},null,null,null,null,null,null,null,null,"",false,2,{"$f":"VLOOKUP(H427,Database!$B$1:$D$5000,3,0)","v":{"$error":"#N/A"}},true]
["",null,null,null,null,null,null,null,{"$f":"IF(ISERROR(VLOOKUP(H428,Database!$B$1:$C$5000,2,FALSE)),\"\",VLOOKUP(H428,Database!$B$1:$C$5000,2,FALSE))","v":""},"",{"$error":"#N/A"},null,null,null,null,null,null,null,null,"",false,2,{"$f":"VLOOKUP(H428,Database!$B$1:$D$5000,3,0)","v":{"$error":"#N/A"}},true]
["",null,null,null,null,null,null,null,{"$f":"IF(ISERROR(VLOOKUP(H429,Database!$B$1:$C$5000,2,FALSE)),\"\",VLOOKUP(H429,Database!$B$1:$C$5000,2,FALSE))","v":""},"",{"$error":"#N/A"},null,null,null,null,null,null,null,null,"",false,2,{"$f":"VLOOKUP(H429,Database!$B$1:$D$5000,3,0)","v":{"$error":"#N/A"}},true]
["",null,null,null,null,null,null,null,{"$f":"IF(ISERROR(VLOOKUP(H430,Database!$B$1:$C$5000,2,FALSE)),\"\",VLOOKUP(H430,Database!$B$1:$C$5000,2,FALSE))","v":""},"",{"$error":"#N/A"},null,null,null,null,null,null,null,null,"",false,2,{"$f":"VLOOKUP(H430,Database!$B$1:$D$5000,3,0)","v":{"$error":"#N/A"}},true]
["",null,null,null,null,null,null,null,{"$f":"IF(ISERROR(VLOOKUP(H431,Database!$B$1:$C$5000,2,FALSE)),\"\",VLOOKUP(H431,Database!$B$1:$C$5000,2,FALSE))","v":""},"",{"$error":"#N/A"},null,null,null,null,null,null,null,null,"",false,2,{"$f":"VLOOKUP(H431,Database!$B$1:$D$5000,3,0)","v":{"$error":"#N/A"}},true]
["",null,null,null,null,null,null,null,{"$f":"IF(ISERROR(VLOOKUP(H432,Database!$B$1:$C$5000,2,FALSE)),\"\",VLOOKUP(H432,Database!$B$1:$C$5000,2,FALSE))","v":""},"",{"$error":"#N/A"},null,null,null,null,null,null,null,null,"",false,2,{"$f":"VLOOKUP(H432,Database!$B$1:$D$5000,3,0)","v":{"$error":"#N/A"}},true]
["",null,null,null,null,null,null,null,{"$f":"IF(ISERROR(VLOOKUP(H433,Database!$B$1:$C$5000,2,FALSE)),\"\",VLOOKUP(H433,Database!$B$1:$C$5000,2,FALSE))","v":""},"",{"$error":"#N/A"},null,null,null,null,null,null,null,null,"",false,2,{"$f":"VLOOKUP(H433,Database!$B$1:$D$5000,3,0)","v":{"$error":"#N/A"}},true]
["",null,null,null,null,null,null,null,{"$f":"IF(ISERROR(VLOOKUP(H434,Database!$B$1:$C$5000,2,FALSE)),\"\",VLOOKUP(H434,Database!$B$1:$C$5000,2,FALSE))","v":""},"",{"$error":"#N/A"},null,null,null,null,null,null,null,null,"",false,2,{"$f":"VLOOKUP(H434,Database!$B$1:$D$5000,3,0)","v":{"$error":"#N/A"}},true]
["",null,null,null,null,null,null,null,{"$f":"IF(ISERROR(VLOOKUP(H435,Database!$B$1:$C$5000,2,FALSE)),\"\",VLOOKUP(H435,Database!$B$1:$C$5000,2,FALSE))","v":""},"",{"$error":"#N/A"},null,null,null,null,null,null,null,null,"",false,2,{"$f":"VLOOKUP(H435,Database!$B$1:$D$5000,3,0)","v":{"$error":"#N/A"}},true]
["",null,null,null,null,null,null,null,{"$f":"IF(ISERROR(VLOOKUP(H436,Database!$B$1:$C$5000,2,FALSE)),\"\",VLOOKUP(H436,Database!$B$1:$C$5000,2,FALSE))","v":""},"",{"$error":"#N/A"},null,null,null,null,null,null,null,null,"",false,2,{"$f":"VLOOKUP(H436,Database!$B$1:$D$5000,3,0)","v":{"$error":"#N/A"}},true]
["",null,null,null,null,null,null,null,{"$f":"IF(ISERROR(VLOOKUP(H437,Database!$B$1:$C$5000,2,FALSE)),\"\",VLOOKUP(H437,Database!$B$1:$C$5000,2,FALSE))","v":""},"",{"$error":"#N/A"},null,null,null,null,null,null,null,null,"",false,2,{"$f":"VLOOKUP(H437,Database!$B$1:$D$5000,3,0)","v":{"$error":"#N/A"}},true]
["",null,null,null,null,null,null,null,{"$f":"IF(ISERROR(VLOOKUP(H438,Database!$B$1:$C$5000,2,FALSE)),\"\",VLOOKUP(H438,Database!$B$1:$C$5000,2,FALSE))","v":""},"",{"$error":"#N/A"},null,null,null,null,null,null,null,null,"",false,2,{"$f":"VLOOKUP(H438,Database!$B$1:$D$5000,3,0)","v":{"$error":"#N/A"}},true]
["",null,null,null,null,null,null,null,{"$f":"IF(ISERROR(VLOOKUP(H439,Database!$B$1:$C$5000,2,FALSE)),\"\",VLOOKUP(H439,Database!$B$1:$C$5000,2,FALSE))","v":""},"",{"$error":"#N/A"},null,null,null,null,null,null,null,null,"",false,2,{"$f":"VLOOKUP(H439,Database!$B$1:$D$5000,3,0)","v":{"$error":"#N/A"}},true]
["",null,null,null,null,null,null,null,{"$f":"IF(ISERROR(VLOOKUP(H440,Database!$B$1:$C$5000,2,FALSE)),\"\",VLOOKUP(H440,Database!$B$1:$C$5000,2,FALSE))","v":""},"",{"$error":"#N/A"},null,null,null,null,null,null,null,null,"",false,2,{"$f":"VLOOKUP(H440,Database!$B$1:$D$5000,3,0)","v":{"$error":"#N/A"}},true]
["",null,null,null,null,null,null,null,{"$f":"IF(ISERROR(VLOOKUP(H441,Database!$B$1:$C$5000,2,FALSE)),\"\",VLOOKUP(H441,Database!$B$1:$C$5000,2,FALSE))","v":""},"",{"$error":"#N/A"},null,null,null,null,null,null,null,null,"",false,2,{"$f":"VLOOKUP(H441,Database!$B$1:$D$5000,3,0)","v":{"$error":"#N/A"}},true]
["",null,null,null,null,null,null,null,{"$f":"IF(ISERROR(VLOOKUP(H442,Database!$B$1:$C$5000,2,FALSE)),\"\",VLOOKUP(H442,Database!$B$1:$C$5000,2,FALSE))","v":""},"",{"$error":"#N/A"},null,null,null,null,null,null,null,null,"",false,2,{"$f":"VLOOKUP(H442,Database!$B$1:$D$5000,3,0)","v":{"$error":"#N/A"}},true]
["",null,null,null,null,null,null,null,{"$f":"IF(ISERROR(VLOOKUP(H443,Database!$B$1:$C$5000,2,FALSE)),\"\",VLOOKUP(H443,Database!$B$1:$C$5000,2,FALSE))","v":""},"",{"$error":"#N/A"},null,null,null,null,null,null,null,null,"",false,2,{"$f":"VLOOKUP(H443,Database!$B$1:$D$5000,3,0)","v":{"$error":"#N/A"}},true]
["",null,null,null,null,null,null,null,{"$f":"IF(ISERROR(VLOOKUP(H444,Database!$B$1:$C$5000,2,FALSE)),\"\",VLOOKUP(H444,Database!$B$1:$C$5000,2,FALSE))","v":""},"",{"$error":"#N/A"},null,null,null,null,null,null,null,null,"",false,2,{"$f":"VLOOKUP(H444,Database!$B$1:$D$5000,3,0)","v":{"$error":"#N/A"}},true]
["",null,null,null,null,null,null,null,{"$f":"IF(ISERROR(VLOOKUP(H445,Database!$B$1:$C$5000,2,FALSE)),\"\",VLOOKUP(H445,Database!$B$1:$C$5000,2,FALSE))","v":""},"",{"$error":"#N/A"},null,null,null,null,null,null,null,null,"",false,2,{"$f":"VLOOKUP(H445,Database!$B$1:$D$5000,3,0)","v":{"$error":"#N/A"}},true]
["",null,null,null,null,null,null,null,{"$f":"IF(ISERROR(VLOOKUP(H446,Database!$B$1:$C$5000,2,FALSE)),\"\",VLOOKUP(H446,Database!$B$1:$C$5000,2,FALSE))","v":""},"",{"$error":"#N/A"},null,null,null,null,null,null,null,null,"",false,2,{"$f":"VLOOKUP(H446,Database!$B$1:$D$5000,3,0)","v":{"$error":"#N/A"}},true]
["",null,null,null,null,null,null,null,{"$f":"IF(ISERROR(VLOOKUP(H447,Database!$B$1:$C$5000,2,FALSE)),\"\",VLOOKUP(H447,Database!$B$1:$C$5000,2,FALSE))","v":""},"",{"$error":"#N/A"},null,null,null,null,null,null,null,null,"",false,2,{"$f":"VLOOKUP(H447,Database!$B$1:$D$5000,3,0)","v":{"$error":"#N/A"}},true]
["",null,null,null,null,null,null,null,{"$f":"IF(ISERROR(VLOOKUP(H448,Database!$B$1:$C$5000,2,FALSE)),\"\",VLOOKUP(H448,Database!$B$1:$C$5000,2,FALSE))","v":""},"",{"$error":"#N/A"},null,null,null,null,null,null,null,null,"",false,2,{"$f":"VLOOKUP(H448,Database!$B$1:$D$5000,3,0)","v":{"$error":"#N/A"}},true]
["",null,null,null,null,null,null,null,{"$f":"IF(ISERROR(VLOOKUP(H449,Database!$B$1:$C$5000,2,FALSE)),\"\",VLOOKUP(H449,Database!$B$1:$C$5000,2,FALSE))","v":""},"",{"$error":"#N/A"},null,null,null,null,null,null,null,null,"",false,2,{"$f":"VLOOKUP(H449,Database!$B$1:$D$5000,3,0)","v":{"$error":"#N/A"}},true]
["",null,null,null,null,null,null,null,{"$f":"IF(ISERROR(VLOOKUP(H450,Database!$B$1:$C$5000,2,FALSE)),\"\",VLOOKUP(H450,Database!$B$1:$C$5000,2,FALSE))","v":""},"",{"$error":"#N/A"},null,null,null,null,null,null,null,null,"",false,2,{"$f":"VLOOKUP(H450,Database!$B$1:$D$5000,3,0)","v":{"$error":"#N/A"}},true]
["",null,null,null,null,null,null,null,{"$f":"IF(ISERROR(VLOOKUP(H451,Database!$B$1:$C$5000,2,FALSE)),\"\",VLOOKUP(H451,Database!$B$1:$C$5000,2,FALSE))","v":""},"",{"$error":"#N/A"},null,null,null,null,null,null,null,null,"",false,2,{"$f":"VLOOKUP(H451,Database!$B$1:$D$5000,3,0)","v":{"$error":"#N/A"}},true]
["",null,null,null,null,null,null,null,{"$f":"IF(ISERROR(VLOOKUP(H452,Database!$B$1:$C$5000,2,FALSE)),\"\",VLOOKUP(H452,Database!$B$1:$C$5000,2,FALSE))","v":""},"",{"$error":"#N/A"},null,null,null,null,null,null,null,null,"",false,2,{"$f":"VLOOKUP(H452,Database!$B$1:$D$5000,3,0)","v":{"$error":"#N/A"}},true]
["",null,null,null,null,null,null,null,{"$f":"IF(ISERROR(VLOOKUP(H453,Database!$B$1:$C$5000,2,FALSE)),\"\",VLOOKUP(H453,Database!$B$1:$C$5000,2,FALSE))","v":""},"",{"$error":"#N/A"},null,null,null,null,null,null,null,null,"",false,2,{"$f":"VLOOKUP(H453,Database!$B$1:$D$5000,3,0)","v":{"$error":"#N/A"}},true]
["",null,null,null,null,null,null,null,{"$f":"IF(ISERROR(VLOOKUP(H454,Database!$B$1:$C$5000,2,FALSE)),\"\",VLOOKUP(H454,Database!$B$1:$C$5000,2,FALSE))","v":""},"",{"$error":"#N/A"},null,null,null,null,null,null,null,null,"",false,2,{"$f":"VLOOKUP(H454,Database!$B$1:$D$5000,3,0)","v":{"$error":"#N/A"}},true]
[{"$f":"IF(B455=\"\",\"\",ROW(A450))","v":""},null,null,null,null,null,null,null,{"$f":"IF(ISERROR(VLOOKUP(H455,Database!$B$1:$C$5000,2,FALSE)),\"\",VLOOKUP(H455,Database!$B$1:$C$5000,2,FALSE))","v":""},{"$f":"IF(V455=1,1,IF(AND(T455=0,F455=\"SSB\",V455<>\"\"),3,IF(AND(T455=0,F455=\"DIGI\",V455<>\"\"),2,IF(AND(T455=0,F455=\"CW\",V455<>\"\"),5,IF(H455=\"-\",\"\",T455)))))","v":""},{"$f":"IF(H455=\"-\",\"\",IF(AND(H455<>\"\",X455=TRUE),\"INDIPENDENT\",IF(W455=0,\"SCRIVI NOME NELLE NOTE\",W455)))","v":{"$error":"#N/A"}},null,null,null,null,null,null,null,null,{"$f":"IF(H455=\"\",\"\",IF(H455=$R$6,25,IF(OR(H455=$R$7,H455=$R$8,H455=$R$9,H455=$R$10,H455=$R$11,H455=$R$12,H455=$R$13,H455=$R$14,H455=$R$15,H455=$R$16,H455=$R$17,H455=$R$18,H455=$R$19,H455=$R$20,H455=$R$21,H455=$R$22,H455=$R$23),15,0)))","v":""},{"$f":"ISERROR(I455)","v":false},{"$f":"IF(H455=\"-\",\"\",IF(AND(T455=0,U455=FALSE,I455=\"\"),1,2))","v":2},{"$f":"VLOOKUP(H455,Database!$B$1:$D$5000,3,0)","v":{"$error":"#N/A"}},{"$f":"ISERROR(W455)","v":true}]
["",null,null,null,null,null,null,null,{"$f":"IF(ISERROR(VLOOKUP(H456,Database!$B$1:$C$5000,2,FALSE)),\"\",VLOOKUP(H456,Database!$B$1:$C$5000,2,FALSE))","v":""},"",{"$error":"#N/A"},null,null,null,null,null,null,null,null,"",false,2,{"$f":"VLOOKUP(H456,Database!$B$1:$D$5000,3,0)","v":{"$error":"#N/A"}},true]
["",null,null,null,null,null,null,null,{"$f":"IF(ISERROR(VLOOKUP(H457,Database!$B$1:$C$5000,2,FALSE)),\"\",VLOOKUP(H457,Database!$B$1:$C$5000,2,FALSE))","v":""},"",{"$error":"#N/A"},null,null,null,null,null,null,null,null,"",false,2,{"$f":"VLOOKUP(H457,Database!$B$1:$D$5000,3,0)","v":{"$error":"#N/A"}},true]
["",null,null,null,null,null,null,null,{"$f":"IF(ISERROR(VLOOKUP(H458,Database!$B$1:$C$5000,2,FALSE)),\"\",VLOOKUP(H458,Database!$B$1:$C$5000,2,FALSE))","v":""},"",{"$error":"#N/A"},null,null,null,null,null,null,null,null,"",false,2,{"$f":"VLOOKUP(H458,Database!$B$1:$D$5000,3,0)","v":{"$error":"#N/A"}},true]
["",null,null,null,null,null,null,null,{"$f":"IF(ISERROR(VLOOKUP(H459,Database!$B$1:$C$5000,2,FALSE)),\"\",VLOOKUP(H459,Database!$B$1:$C$5000,2,FALSE))","v":""},"",{"$error":"#N/A"},null,null,null,null,null,null,null,null,"",false,2,{"$f":"VLOOKUP(H459,Database!$B$1:$D$5000,3,0)","v":{"$error":"#N/A"}},true]
["",null,null,null,null,null,null,null,{"$f":"IF(ISERROR(VLOOKUP(H460,Database!$B$1:$C$5000,2,FALSE)),\"\",VLOOKUP(H460,Database!$B$1:$C$5000,2,FALSE))","v":""},"",{"$error":"#N/A"},null,null,null,null,null,null,null,null,"",false,2,{"$f":"VLOOKUP(H460,Database!$B$1:$D$5000,3,0)","v":{"$error":"#N/A"}},true]
["",null,null,null,null,null,null,null,{"$f":"IF(ISERROR(VLOOKUP(H461,Database!$B$1:$C$5000,2,FALSE)),\"\",VLOOKUP(H461,Database!$B$1:$C$5000,2,FALSE))","v":""},"",{"$error":"#N/A"},null,null,null,null,null,null,null,null,"",false,2,{"$f":"VLOOKUP(H461,Database!$B$1:$D$5000,3,0)","v":{"$error":"#N/A"}},true]
["",null,null,null,null,null,null,null,{"$f":"IF(ISERROR(VLOOKUP(H462,Database!$B$1:$C$5000,2,FALSE)),\"\",VLOOKUP(H462,Database!$B$1:$C$5000,2,FALSE))","v":""},"",{"$error":"#N/A"},null,null,null,null,null,null,null,null,"",false,2,{"$f":"VLOOKUP(H462,Database!$B$1:$D$5000,3,0)","v":{"$error":"#N/A"}},true]
["",null,null,null,null,null,null,null,{"$f":"IF(ISERROR(VLOOKUP(H463,Database!$B$1:$C$5000,2,FALSE)),\"\",VLOOKUP(H463,Database!$B$1:$C$5000,2,FALSE))","v":""},"",{"$error":"#N/A"},null,null,null,null,null,null,null,null,"",false,2,{"$f":"VLOOKUP(H463,Database!$B$1:$D$5000,3,0)","v":{"$error":"#N/A"}},true]
["",null,null,null,null,null,null,null,{"$f":"IF(ISERROR(VLOOKUP(H464,Database!$B$1:$C$5000,2,FALSE)),\"\",VLOOKUP(H464,Database!$B$1:$C$5000,2,FALSE))","v":""},"",{"$error":"#N/A"},null,null,null,null,null,null,null,null,"",false,2,{"$f":"VLOOKUP(H464,Database!$B$1:$D$5000,3,0)","v":{"$error":"#N/A"}},true]
["",null,null,null,null,null,null,null,{"$f":"IF(ISERROR(VLOOKUP(H465,Database!$B$1:$C$5000,2,FALSE)),\"\",VLOOKUP(H465,Database!$B$1:$C$5000,2,FALSE))","v":""},"",{"$error":"#N/A"},null,null,null,null,null,null,null,null,"",false,2,{"$f":"VLOOKUP(H465,Database!$B$1:$D$5000,3,0)","v":{"$error":"#N/A"}},true]
["",null,null,null,null,null,null,null,{"$f":"IF(ISERROR(VLOOKUP(H466,Database!$B$1:$C$5000,2,FALSE)),\"\",VLOOKUP(H466,Database!$B$1:$C$5000,2,FALSE))","v":""},"",{"$error":"#N/A"},null,null,null,null,null,null,null,null,"",false,2,{"$f":"VLOOKUP(H466,Database!$B$1:$D$5000,3,0)","v":{"$error":"#N/A"}},true]
["",null,null,null,null,null,null,null,{"$f":"IF(ISERROR(VLOOKUP(H467,Database!$B$1:$C$5000,2,FALSE)),\"\",VLOOKUP(H467,Database!$B$1:$C$5000,2,FALSE))","v":""},"",{"$error":"#N/A"},null,null,null,null,null,null,null,null,"",false,2,{"$f":"VLOOKUP(H467,Database!$B$1:$D$5000,3,0)","v":{"$error":"#N/A"}},true]
["",null,null,null,null,null,null,null,{"$f":"IF(ISERROR(VLOOKUP(H468,Database!$B$1:$C$5000,2,FALSE)),\"\",VLOOKUP(H468,Database!$B$1:$C$5000,2,FALSE))","v":""},"",{"$error":"#N/A"},null,null,null,null,null,null,null,null,"",false,2,{"$f":"VLOOKUP(H468,Database!$B$1:$D$5000,3,0)","v":{"$error":"#N/A"}},true]
["",null,null,null,null,null,null,null,{"$f":"IF(ISERROR(VLOOKUP(H469,Database!$B$1:$C$5000,2,FALSE)),\"\",VLOOKUP(H469,Database!$B$1:$C$5000,2,FALSE))","v":""},"",{"$error":"#N/A"},null,null,null,null,null,null,null,null,"",false,2,{"$f":"VLOOKUP(H469,Database!$B$1:$D$5000,3,0)","v":{"$error":"#N/A"}},true]
["",null,null,null,null,null,null,null,{"$f":"IF(ISERROR(VLOOKUP(H470,Database!$B$1:$C$5000,2,FALSE)),\"\",VLOOKUP(H470,Database!$B$1:$C$5000,2,FALSE))","v":""},"",{"$error":"#N/A"},null,null,null,null,null,null,null,null,"",false,2,{"$f":"VLOOKUP(H470,Database!$B$1:$D$5000,3,0)","v":{"$error":"#N/A"}},true]
["",null,null,null,null,null,null,null,{"$f":"IF(ISERROR(VLOOKUP(H471,Database!$B$1:$C$5000,2,FALSE)),\"\",VLOOKUP(H471,Database!$B$1:$C$5000,2,FALSE))","v":""},"",{"$error":"#N/A"},null,null,null,null,null,null,null,null,"",false,2,{"$f":"VLOOKUP(H471,Database!$B$1:$D$5000,3,0)","v":{"$error":"#N/A"}},true]
["",null,null,null,null,null,null,null,{"$f":"IF(ISERROR(VLOOKUP(H472,Database!$B$1:$C$5000,2,FALSE)),\"\",VLOOKUP(H472,Database!$B$1:$C$5000,2,FALSE))","v":""},"",{"$error":"#N/A"},null,null,null,null,null,null,null,null,"",false,2,{"$f":"VLOOKUP(H472,Database!$B$1:$D$5000,3,0)","v":{"$error":"#N/A"}},true]
["",null,null,null,null,null,null,null,{"$f":"IF(ISERROR(VLOOKUP(H473,Database!$B$1:$C$5000,2,FALSE)),\"\",VLOOKUP(H473,Database!$B$1:$C$5000,2,FALSE))","v":""},"",{"$error":"#N/A"},null,null,null,null,null,null,null,null,"",false,2,{"$f":"VLOOKUP(H473,Database!$B$1:$D$5000,3,0)","v":{"$error":"#N/A"}},true]
["",null,null,null,null,null,null,null,{"$f":"IF(ISERROR(VLOOKUP(H474,Database!$B$1:$C$5000,2,FALSE)),\"\",VLOOKUP(H474,Database!$B$1:$C$5000,2,FALSE))","v":""},"",{"$error":"#N/A"},null,null,null,null,null,null,null,null,"",false,2,{"$f":"VLOOKUP(H474,Database!$B$1:$D$5000,3,0)","v":{"$error":"#N/A"}},true]
["",null,null,null,null,null,null,null,{"$f":"IF(ISERROR(VLOOKUP(H475,Database!$B$1:$C$5000,2,FALSE)),\"\",VLOOKUP(H475,Database!$B$1:$C$5000,2,FALSE))","v":""},"",{"$error":"#N/A"},null,null,null,null,null,null,null,null,"",false,2,{"$f":"VLOOKUP(H475,Database!$B$1:$D$5000,3,0)","v":{"$error":"#N/A"}},true]
["",null,null,null,null,null,null,null,{"$f":"IF(ISERROR(VLOOKUP(H476,Database!$B$1:$C$5000,2,FALSE)),\"\",VLOOKUP(H476,Database!$B$1:$C$5000,2,FALSE))","v":""},"",{"$error":"#N/A"},null,null,null,null,null,null,null,null,"",false,2,{"$f":"VLOOKUP(H476,Database!$B$1:$D$5000,3,0)","v":{"$error":"#N/A"}},true]
["",null,null,null,null,null,null,null,{"$f":"IF(ISERROR(VLOOKUP(H477,Database!$B$1:$C$5000,2,FALSE)),\"\",VLOOKUP(H477,Database!$B$1:$C$5000,2,FALSE))","v":""},"",{"$error":"#N/A"},null,null,null,null,null,null,null,null,"",false,2,{"$f":"VLOOKUP(H477,Database!$B$1:$D$5000,3,0)","v":{"$error":"#N/A"}},true]
["",null,null,null,null,null,null,null,{"$f":"IF(ISERROR(VLOOKUP(H478,Database!$B$1:$C$5000,2,FALSE)),\"\",VLOOKUP(H478,Database!$B$1:$C$5000,2,FALSE))","v":""},"",{"$error":"#N/A"},null,null,null,null,null,null,null,null,"",false,2,{"$f":"VLOOKUP(H478,Database!$B$1:$D$5000,3,0)","v":{"$error":"#N/A"}},true]
["",null,null,null,null,null,null,null,{"$f":"IF(ISERROR(VLOOKUP(H479,Database!$B$1:$C$5000,2,FALSE)),\"\",VLOOKUP(H479,Database!$B$1:$C$5000,2,FALSE))","v":""},"",{"$error":"#N/A"},null,null,null,null,null,null,null,null,"",false,2,{"$f":"VLOOKUP(H479,Database!$B$1:$D$5000,3,0)","v":{"$error":"#N/A"}},true]
["",null,null,null,null,null,null,null,{"$f":"IF(ISERROR(VLOOKUP(H480,Database!$B$1:$C$5000,2,FALSE)),\"\",VLOOKUP(H480,Database!$B$1:$C$5000,2,FALSE))","v":""},"",{"$error":"#N/A"},null,null,null,null,null,null,null,null,"",false,2,{"$f":"VLOOKUP(H480,Database!$B$1:$D$5000,3,0)","v":{"$error":"#N/A"}},true]
["",null,null,null,null,null,null,null,{"$f":"IF(ISERROR(VLOOKUP(H481,Database!$B$1:$C$5000,2,FALSE)),\"\",VLOOKUP(H481,Database!$B$1:$C$5000,2,FALSE))","v":""},"",{"$error":"#N/A"},null,null,null,null,null,null,null,null,"",false,2,{"$f":"VLOOKUP(H481,Database!$B$1:$D$5000,3,0)","v":{"$error":"#N/A"}},true]
["",null,null,null,null,null,null,null,{"$f":"IF(ISERROR(VLOOKUP(H482,Database!$B$1:$C$5000,2,FALSE)),\"\",VLOOKUP(H482,Database!$B$1:$C$5000,2,FALSE))","v":""},"",{"$error":"#N/A"},null,null,null,null,null,null,null,null,"",false,2,{"$f":"VLOOKUP(H482,Database!$B$1:$D$5000,3,0)","v":{"$error":"#N/A"}},true]
["",null,null,null,null,null,null,null,{"$f":"IF(ISERROR(VLOOKUP(H483,Database!$B$1:$C$5000,2,FALSE)),\"\",VLOOKUP(H483,Database!$B$1:$C$5000,2,FALSE))","v":""},"",{"$error":"#N/A"},null,null,null,null,null,null,null,null,"",false,2,{"$f":"VLOOKUP(H483,Database!$B$1:$D$5000,3,0)","v":{"$error":"#N/A"}},true]
["",null,null,null,null,null,null,null,{"$f":"IF(ISERROR(VLOOKUP(H484,Database!$B$1:$C$5000,2,FALSE)),\"\",VLOOKUP(H484,Database!$B$1:$C$5000,2,FALSE))","v":""},"",{"$error":"#N/A"},null,null,null,null,null,null,null,null,"",false,2,{"$f":"VLOOKUP(H484,Database!$B$1:$D$5000,3,0)","v":{"$error":"#N/A"}},true]
["",null,null,null,null,null,null,null,{"$f":"IF(ISERROR(VLOOKUP(H485,Database!$B$1:$C$5000,2,FALSE)),\"\",VLOOKUP(H485,Database!$B$1:$C$5000,2,FALSE))","v":""},"",{"$error":"#N/A"},null,null,null,null,null,null,null,null,"",false,2,{"$f":"VLOOKUP(H485,Database!$B$1:$D$5000,3,0)","v":{"$error":"#N/A"}},true]
["",null,null,null,null,null,null,null,{"$f":"IF(ISERROR(VLOOKUP(H486,Database!$B$1:$C$5000,2,FALSE)),\"\",VLOOKUP(H486,Database!$B$1:$C$5000,2,FALSE))","v":""},"",{"$error":"#N/A"},null,null,null,null,null,null,null,null,"",false,2,{"$f":"VLOOKUP(H486,Database!$B$1:$D$5000,3,0)","v":{"$error":"#N/A"}},true]
["",null,null,null,null,null,null,null,{"$f":"IF(ISERROR(VLOOKUP(H487,Database!$B$1:$C$5000,2,FALSE)),\"\",VLOOKUP(H487,Database!$B$1:$C$5000,2,FALSE))","v":""},"",{"$error":"#N/A"},null,null,null,null,null,null,null,null,"",false,2,{"$f":"VLOOKUP(H487,Database!$B$1:$D$5000,3,0)","v":{"$error":"#N/A"}},true]
["",null,null,null,null,null,null,null,{"$f":"IF(ISERROR(VLOOKUP(H488,Database!$B$1:$C$5000,2,FALSE)),\"\",VLOOKUP(H488,Database!$B$1:$C$5000,2,FALSE))","v":""},"",{"$error":"#N/A"},null,null,null,null,null,null,null,null,"",false,2,{"$f":"VLOOKUP(H488,Database!$B$1:$D$5000,3,0)","v":{"$error":"#N/A"}},true]
["",null,null,null,null,null,null,null,{"$f":"IF(ISERROR(VLOOKUP(H489,Database!$B$1:$C$5000,2,FALSE)),\"\",VLOOKUP(H489,Database!$B$1:$C$5000,2,FALSE))","v":""},"",{"$error":"#N/A"},null,null,null,null,null,null,null,null,"",false,2,{"$f":"VLOOKUP(H489,Database!$B$1:$D$5000,3,0)","v":{"$error":"#N/A"}},true]
["",null,null,null,null,null,null,null,{"$f":"IF(ISERROR(VLOOKUP(H490,Database!$B$1:$C$5000,2,FALSE)),\"\",VLOOKUP(H490,Database!$B$1:$C$5000,2,FALSE))","v":""},"",{"$error":"#N/A"},null,null,null,null,null,null,null,null,"",false,2,{"$f":"VLOOKUP(H490,Database!$B$1:$D$5000,3,0)","v":{"$error":"#N/A"}},true]
["",null,null,null,null,null,null,null,{"$f":"IF(ISERROR(VLOOKUP(H491,Database!$B$1:$C$5000,2,FALSE)),\"\",VLOOKUP(H491,Database!$B$1:$C$5000,2,FALSE))","v":""},"",{"$error":"#N/A"},null,null,null,null,null,null,null,null,"",false,2,{"$f":"VLOOKUP(H491,Database!$B$1:$D$5000,3,0)","v":{"$error":"#N/A"}},true]
["",null,null,null,null,null,null,null,{"$f":"IF(ISERROR(VLOOKUP(H492,Database!$B$1:$C$5000,2,FALSE)),\"\",VLOOKUP(H492,Database!$B$1:$C$5000,2,FALSE))","v":""},"",{"$error":"#N/A"},null,null,null,null,null,null,null,null,"",false,2,{"$f":"VLOOKUP(H492,Database!$B$1:$D$5000,3,0)","v":{"$error":"#N/A"}},true]
["",null,null,null,null,null,null,null,{"$f":"IF(ISERROR(VLOOKUP(H493,Database!$B$1:$C$5000,2,FALSE)),\"\",VLOOKUP(H493,Database!$B$1:$C$5000,2,FALSE))","v":""},"",{"$error":"#N/A"},null,null,null,null,null,null,null,null,"",false,2,{"$f":"VLOOKUP(H493,Database!$B$1:$D$5000,3,0)","v":{"$error":"#N/A"}},true]
["",null,null,null,null,null,null,null,{"$f":"IF(ISERROR(VLOOKUP(H494,Database!$B$1:$C$5000,2,FALSE)),\"\",VLOOKUP(H494,Database!$B$1:$C$5000,2,FALSE))","v":""},"",{"$error":"#N/A"},null,null,null,null,null,null,null,null,"",false,2,{"$f":"VLOOKUP(H494,Database!$B$1:$D$5000,3,0)","v":{"$error":"#N/A"}},true]
["",null,null,null,null,null,null,null,{"$f":"IF(ISERROR(VLOOKUP(H495,Database!$B$1:$C$5000,2,FALSE)),\"\",VLOOKUP(H495,Database!$B$1:$C$5000,2,FALSE))","v":""},"",{"$error":"#N/A"},null,null,null,null,null,null,null,null,"",false,2,{"$f":"VLOOKUP(H495,Database!$B$1:$D$5000,3,0)","v":{"$error":"#N/A"}},true]
["",null,null,null,null,null,null,null,{"$f":"IF(ISERROR(VLOOKUP(H496,Database!$B$1:$C$5000,2,FALSE)),\"\",VLOOKUP(H496,Database!$B$1:$C$5000,2,FALSE))","v":""},"",{"$error":"#N/A"},null,null,null,null,null,null,null,null,"",false,2,{"$f":"VLOOKUP(H496,Database!$B$1:$D$5000,3,0)","v":{"$error":"#N/A"}},true]
["",null,null,null,null,null,null,null,{"$f":"IF(ISERROR(VLOOKUP(H497,Database!$B$1:$C$5000,2,FALSE)),\"\",VLOOKUP(H497,Database!$B$1:$C$5000,2,FALSE))","v":""},"",{"$error":"#N/A"},null,null,null,null,null,null,null,null,"",false,2,{"$f":"VLOOKUP(H497,Database!$B$1:$D$5000,3,0)","v":{"$error":"#N/A"}},true]
["",null,null,null,null,null,null,null,{"$f":"IF(ISERROR(VLOOKUP(H498,Database!$B$1:$C$5000,2,FALSE)),\"\",VLOOKUP(H498,Database!$B$1:$C$5000,2,FALSE))","v":""},"",{"$error":"#N/A"},null,null,null,null,null,null,null,null,"",false,2,{"$f":"VLOOKUP(H498,Database!$B$1:$D$5000,3,0)","v":{"$error":"#N/A"}},true]
["",null,null,null,null,null,null,null,{"$f":"IF(ISERROR(VLOOKUP(H499,Database!$B$1:$C$5000,2,FALSE)),\"\",VLOOKUP(H499,Database!$B$1:$C$5000,2,FALSE))","v":""},"",{"$error":"#N/A"},null,null,null,null,null,null,null,null,"",false,2,{"$f":"VLOOKUP(H499,Database!$B$1:$D$5000,3,0)","v":{"$error":"#N/A"}},true]
["",null,null,null,null,null,null,null,{"$f":"IF(ISERROR(VLOOKUP(H500,Database!$B$1:$C$5000,2,FALSE)),\"\",VLOOKUP(H500,Database!$B$1:$C$5000,2,FALSE))","v":""},"",{"$error":"#N/A"},null,null,null,null,null,null,null,null,"",false,2,{"$f":"VLOOKUP(H500,Database!$B$1:$D$5000,3,0)","v":{"$error":"#N/A"}},true]
["",null,null,null,null,null,null,null,{"$f":"IF(ISERROR(VLOOKUP(H501,Database!$B$1:$C$5000,2,FALSE)),\"\",VLOOKUP(H501,Database!$B$1:$C$5000,2,FALSE))","v":""},"",{"$error":"#N/A"},null,null,null,null,null,null,null,null,"",false,2,{"$f":"VLOOKUP(H501,Database!$B$1:$D$5000,3,0)","v":{"$error":"#N/A"}},true]
["",null,null,null,null,null,null,null,{"$f":"IF(ISERROR(VLOOKUP(H502,Database!$B$1:$C$5000,2,FALSE)),\"\",VLOOKUP(H502,Database!$B$1:$C$5000,2,FALSE))","v":""},"",{"$error":"#N/A"},null,null,null,null,null,null,null,null,"",false,2,{"$f":"VLOOKUP(H502,Database!$B$1:$D$5000,3,0)","v":{"$error":"#N/A"}},true]
["",null,null,null,null,null,null,null,{"$f":"IF(ISERROR(VLOOKUP(H503,Database!$B$1:$C$5000,2,FALSE)),\"\",VLOOKUP(H503,Database!$B$1:$C$5000,2,FALSE))","v":""},"",{"$error":"#N/A"},null,null,null,null,null,null,null,null,"",false,2,{"$f":"VLOOKUP(H503,Database!$B$1:$D$5000,3,0)","v":{"$error":"#N/A"}},true]
["",null,null,null,null,null,null,null,{"$f":"IF(ISERROR(VLOOKUP(H504,Database!$B$1:$C$5000,2,FALSE)),\"\",VLOOKUP(H504,Database!$B$1:$C$5000,2,FALSE))","v":""},"",{"$error":"#N/A"},null,null,null,null,null,null,null,null,"",false,2,{"$f":"VLOOKUP(H504,Database!$B$1:$D$5000,3,0)","v":{"$error":"#N/A"}},true]
["",null,null,null,null,null,null,null,{"$f":"IF(ISERROR(VLOOKUP(H505,Database!$B$1:$C$5000,2,FALSE)),\"\",VLOOKUP(H505,Database!$B$1:$C$5000,2,FALSE))","v":""},"",{"$error":"#N/A"},null,null,null,null,null,null,null,null,"",false,2,{"$f":"VLOOKUP(H505,Database!$B$1:$D$5000,3,0)","v":{"$error":"#N/A"}},true]
["",null,null,null,null,null,null,null,{"$f":"IF(ISERROR(VLOOKUP(H506,Database!$B$1:$C$5000,2,FALSE)),\"\",VLOOKUP(H506,Database!$B$1:$C$5000,2,FALSE))","v":""},"",{"$error":"#N/A"},null,null,null,null,null,null,null,null,"",false,2,{"$f":"VLOOKUP(H506,Database!$B$1:$D$5000,3,0)","v":{"$error":"#N/A"}},true]
["",null,null,null,null,null,null,null,{"$f":"IF(ISERROR(VLOOKUP(H507,Database!$B$1:$C$5000,2,FALSE)),\"\",VLOOKUP(H507,Database!$B$1:$C$5000,2,FALSE))","v":""},"",{"$error":"#N/A"},null,null,null,null,null,null,null,null,"",false,2,{"$f":"VLOOKUP(H507,Database!$B$1:$D$5000,3,0)","v":{"$error":"#N/A"}},true]
["",null,null,null,null,null,null,null,{"$f":"IF(ISERROR(VLOOKUP(H508,Database!$B$1:$C$5000,2,FALSE)),\"\",VLOOKUP(H508,Database!$B$1:$C$5000,2,FALSE))","v":""},"",{"$error":"#N/A"},null,null,null,null,null,null,null,null,"",false,2,{"$f":"VLOOKUP(H508,Database!$B$1:$D$5000,3,0)","v":{"$error":"#N/A"}},true]
["",null,null,null,null,null,null,null,{"$f":"IF(ISERROR(VLOOKUP(H509,Database!$B$1:$C$5000,2,FALSE)),\"\",VLOOKUP(H509,Database!$B$1:$C$5000,2,FALSE))","v":""},"",{"$error":"#N/A"},null,null,null,null,null,null,null,null,"",false,2,{"$f":"VLOOKUP(H509,Database!$B$1:$D$5000,3,0)","v":{"$error":"#N/A"}},true]
["",null,null,null,null,null,null,null,{"$f":"IF(ISERROR(VLOOKUP(H510,Database!$B$1:$C$5000,2,FALSE)),\"\",VLOOKUP(H510,Database!$B$1:$C$5000,2,FALSE))","v":""},"",{"$error":"#N/A"},null,null,null,null,null,null,null,null,"",false,2,{"$f":"VLOOKUP(H510,Database!$B$1:$D$5000,3,0)","v":{"$error":"#N/A"}},true]
["",null,null,null,null,null,null,null,{"$f":"IF(ISERROR(VLOOKUP(H511,Database!$B$1:$C$5000,2,FALSE)),\"\",VLOOKUP(H511,Database!$B$1:$C$5000,2,FALSE))","v":""},"",{"$error":"#N/A"},null,null,null,null,null,null,null,null,"",false,2,{"$f":"VLOOKUP(H511,Database!$B$1:$D$5000,3,0)","v":{"$error":"#N/A"}},true]
["",null,null,null,null,null,null,null,{"$f":"IF(ISERROR(VLOOKUP(H512,Database!$B$1:$C$5000,2,FALSE)),\"\",VLOOKUP(H512,Database!$B$1:$C$5000,2,FALSE))","v":""},"",{"$error":"#N/A"},null,null,null,null,null,null,null,null,"",false,2,{"$f":"VLOOKUP(H512,Database!$B$1:$D$5000,3,0)","v":{"$error":"#N/A"}},true]
["",null,null,null,null,null,null,null,{"$f":"IF(ISERROR(VLOOKUP(H513,Database!$B$1:$C$5000,2,FALSE)),\"\",VLOOKUP(H513,Database!$B$1:$C$5000,2,FALSE))","v":""},"",{"$error":"#N/A"},null,null,null,null,null,null,null,null,"",false,2,{"$f":"VLOOKUP(H513,Database!$B$1:$D$5000,3,0)","v":{"$error":"#N/A"}},true]
["",null,null,null,null,null,null,null,{"$f":"IF(ISERROR(VLOOKUP(H514,Database!$B$1:$C$5000,2,FALSE)),\"\",VLOOKUP(H514,Database!$B$1:$C$5000,2,FALSE))","v":""},"",{"$error":"#N/A"},null,null,null,null,null,null,null,null,"",false,2,{"$f":"VLOOKUP(H514,Database!$B$1:$D$5000,3,0)","v":{"$error":"#N/A"}},true]
["",null,null,null,null,null,null,null,{"$f":"IF(ISERROR(VLOOKUP(H515,Database!$B$1:$C$5000,2,FALSE)),\"\",VLOOKUP(H515,Database!$B$1:$C$5000,2,FALSE))","v":""},"",{"$error":"#N/A"},null,null,null,null,null,null,null,null,"",false,2,{"$f":"VLOOKUP(H515,Database!$B$1:$D$5000,3,0)","v":{"$error":"#N/A"}},true]
["",null,null,null,null,null,null,null,{"$f":"IF(ISERROR(VLOOKUP(H516,Database!$B$1:$C$5000,2,FALSE)),\"\",VLOOKUP(H516,Database!$B$1:$C$5000,2,FALSE))","v":""},"",{"$error":"#N/A"},null,null,null,null,null,null,null,null,"",false,2,{"$f":"VLOOKUP(H516,Database!$B$1:$D$5000,3,0)","v":{"$error":"#N/A"}},true]
["",null,null,null,null,null,null,null,{"$f":"IF(ISERROR(VLOOKUP(H517,Database!$B$1:$C$5000,2,FALSE)),\"\",VLOOKUP(H517,Database!$B$1:$C$5000,2,FALSE))","v":""},"",{"$error":"#N/A"},null,null,null,null,null,null,null,null,"",false,2,{"$f":"VLOOKUP(H517,Database!$B$1:$D$5000,3,0)","v":{"$error":"#N/A"}},true]
["",null,null,null,null,null,null,null,{"$f":"IF(ISERROR(VLOOKUP(H518,Database!$B$1:$C$5000,2,FALSE)),\"\",VLOOKUP(H518,Database!$B$1:$C$5000,2,FALSE))","v":""},"",{"$error":"#N/A"},null,null,null,null,null,null,null,null,"",false,2,{"$f":"VLOOKUP(H518,Database!$B$1:$D$5000,3,0)","v":{"$error":"#N/A"}},true]
[{"$f":"IF(B519=\"\",\"\",ROW(A514))","v":""},null,null,null,null,null,null,null,{"$f":"IF(ISERROR(VLOOKUP(H519,Database!$B$1:$C$5000,2,FALSE)),\"\",VLOOKUP(H519,Database!$B$1:$C$5000,2,FALSE))","v":""},{"$f":"IF(V519=1,1,IF(AND(T519=0,F519=\"SSB\",V519<>\"\"),3,IF(AND(T519=0,F519=\"DIGI\",V519<>\"\"),2,IF(AND(T519=0,F519=\"CW\",V519<>\"\"),5,IF(H519=\"-\",\"\",T519)))))","v":""},{"$f":"IF(H519=\"-\",\"\",IF(AND(H519<>\"\",X519=TRUE),\"INDIPENDENT\",IF(W519=0,\"SCRIVI NOME NELLE NOTE\",W519)))","v":{"$error":"#N/A"}},null,null,null,null,null,null,null,null,{"$f":"IF(H519=\"\",\"\",IF(H519=$R$6,25,IF(OR(H519=$R$7,H519=$R$8,H519=$R$9,H519=$R$10,H519=$R$11,H519=$R$12,H519=$R$13,H519=$R$14,H519=$R$15,H519=$R$16,H519=$R$17,H519=$R$18,H519=$R$19,H519=$R$20,H519=$R$21,H519=$R$22,H519=$R$23),15,0)))","v":""},{"$f":"ISERROR(I519)","v":false},{"$f":"IF(H519=\"-\",\"\",IF(AND(T519=0,U519=FALSE,I519=\"\"),1,2))","v":2},{"$f":"VLOOKUP(H519,Database!$B$1:$D$5000,3,0)","v":{"$error":"#N/A"}},{"$f":"ISERROR(W519)","v":true}]
["",null,null,null,null,null,null,null,{"$f":"IF(ISERROR(VLOOKUP(H520,Database!$B$1:$C$5000,2,FALSE)),\"\",VLOOKUP(H520,Database!$B$1:$C$5000,2,FALSE))","v":""},"",{"$error":"#N/A"},null,null,null,null,null,null,null,null,"",false,2,{"$f":"VLOOKUP(H520,Database!$B$1:$D$5000,3,0)","v":{"$error":"#N/A"}},true]
["",null,null,null,null,null,null,null,{"$f":"IF(ISERROR(VLOOKUP(H521,Database!$B$1:$C$5000,2,FALSE)),\"\",VLOOKUP(H521,Database!$B$1:$C$5000,2,FALSE))","v":""},"",{"$error":"#N/A"},null,null,null,null,null,null,null,null,"",false,2,{"$f":"VLOOKUP(H521,Database!$B$1:$D$5000,3,0)","v":{"$error":"#N/A"}},true]
["",null,null,null,null,null,null,null,{"$f":"IF(ISERROR(VLOOKUP(H522,Database!$B$1:$C$5000,2,FALSE)),\"\",VLOOKUP(H522,Database!$B$1:$C$5000,2,FALSE))","v":""},"",{"$error":"#N/A"},null,null,null,null,null,null,null,null,"",false,2,{"$f":"VLOOKUP(H522,Database!$B$1:$D$5000,3,0)","v":{"$error":"#N/A"}},true]
["",null,null,null,null,null,null,null,{"$f":"IF(ISERROR(VLOOKUP(H523,Database!$B$1:$C$5000,2,FALSE)),\"\",VLOOKUP(H523,Database!$B$1:$C$5000,2,FALSE))","v":""},"",{"$error":"#N/A"},null,null,null,null,null,null,null,null,"",false,2,{"$f":"VLOOKUP(H523,Database!$B$1:$D$5000,3,0)","v":{"$error":"#N/A"}},true]
["",null,null,null,null,null,null,null,{"$f":"IF(ISERROR(VLOOKUP(H524,Database!$B$1:$C$5000,2,FALSE)),\"\",VLOOKUP(H524,Database!$B$1:$C$5000,2,FALSE))","v":""},"",{"$error":"#N/A"},null,null,null,null,null,null,null,null,"",false,2,{"$f":"VLOOKUP(H524,Database!$B$1:$D$5000,3,0)","v":{"$error":"#N/A"}},true]
["",null,null,null,null,null,null,null,{"$f":"IF(ISERROR(VLOOKUP(H525,Database!$B$1:$C$5000,2,FALSE)),\"\",VLOOKUP(H525,Database!$B$1:$C$5000,2,FALSE))","v":""},"",{"$error":"#N/A"},null,null,null,null,null,null,null,null,"",false,2,{"$f":"VLOOKUP(H525,Database!$B$1:$D$5000,3,0)","v":{"$error":"#N/A"}},true]
["",null,null,null,null,null,null,null,{"$f":"IF(ISERROR(VLOOKUP(H526,Database!$B$1:$C$5000,2,FALSE)),\"\",VLOOKUP(H526,Database!$B$1:$C$5000,2,FALSE))","v":""},"",{"$error":"#N/A"},null,null,null,null,null,null,null,null,"",false,2,{"$f":"VLOOKUP(H526,Database!$B$1:$D$5000,3,0)","v":{"$error":"#N/A"}},true]
["",null,null,null,null,null,null,null,{"$f":"IF(ISERROR(VLOOKUP(H527,Database!$B$1:$C$5000,2,FALSE)),\"\",VLOOKUP(H527,Database!$B$1:$C$5000,2,FALSE))","v":""},"",{"$error":"#N/A"},null,null,null,null,null,null,null,null,"",false,2,{"$f":"VLOOKUP(H527,Database!$B$1:$D$5000,3,0)","v":{"$error":"#N/A"}},true]
["",null,null,null,null,null,null,null,{"$f":"IF(ISERROR(VLOOKUP(H528,Database!$B$1:$C$5000,2,FALSE)),\"\",VLOOKUP(H528,Database!$B$1:$C$5000,2,FALSE))","v":""},"",{"$error":"#N/A"},null,null,null,null,null,null,null,null,"",false,2,{"$f":"VLOOKUP(H528,Database!$B$1:$D$5000,3,0)","v":{"$error":"#N/A"}},true]
["",null,null,null,null,null,null,null,{"$f":"IF(ISERROR(VLOOKUP(H529,Database!$B$1:$C$5000,2,FALSE)),\"\",VLOOKUP(H529,Database!$B$1:$C$5000,2,FALSE))","v":""},"",{"$error":"#N/A"},null,null,null,null,null,null,null,null,"",false,2,{"$f":"VLOOKUP(H529,Database!$B$1:$D$5000,3,0)","v":{"$error":"#N/A"}},true]
["",null,null,null,null,null,null,null,{"$f":"IF(ISERROR(VLOOKUP(H530,Database!$B$1:$C$5000,2,FALSE)),\"\",VLOOKUP(H530,Database!$B$1:$C$5000,2,FALSE))","v":""},"",{"$error":"#N/A"},null,null,null,null,null,null,null,null,"",false,2,{"$f":"VLOOKUP(H530,Database!$B$1:$D$5000,3,0)","v":{"$error":"#N/A"}},true]
["",null,null,null,null,null,null,null,{"$f":"IF(ISERROR(VLOOKUP(H531,Database!$B$1:$C$5000,2,FALSE)),\"\",VLOOKUP(H531,Database!$B$1:$C$5000,2,FALSE))","v":""},"",{"$error":"#N/A"},null,null,null,null,null,null,null,null,"",false,2,{"$f":"VLOOKUP(H531,Database!$B$1:$D$5000,3,0)","v":{"$error":"#N/A"}},true]
["",null,null,null,null,null,null,null,{"$f":"IF(ISERROR(VLOOKUP(H532,Database!$B$1:$C$5000,2,FALSE)),\"\",VLOOKUP(H532,Database!$B$1:$C$5000,2,FALSE))","v":""},"",{"$error":"#N/A"},null,null,null,null,null,null,null,null,"",false,2,{"$f":"VLOOKUP(H532,Database!$B$1:$D$5000,3,0)","v":{"$error":"#N/A"}},true]
["",null,null,null,null,null,null,null,{"$f":"IF(ISERROR(VLOOKUP(H533,Database!$B$1:$C$5000,2,FALSE)),\"\",VLOOKUP(H533,Database!$B$1:$C$5000,2,FALSE))","v":""},"",{"$error":"#N/A"},null,null,null,null,null,null,null,null,"",false,2,{"$f":"VLOOKUP(H533,Database!$B$1:$D$5000,3,0)","v":{"$error":"#N/A"}},true]
["",null,null,null,null,null,null,null,{"$f":"IF(ISERROR(VLOOKUP(H534,Database!$B$1:$C$5000,2,FALSE)),\"\",VLOOKUP(H534,Database!$B$1:$C$5000,2,FALSE))","v":""},"",{"$error":"#N/A"},null,null,null,null,null,null,null,null,"",false,2,{"$f":"VLOOKUP(H534,Database!$B$1:$D$5000,3,0)","v":{"$error":"#N/A"}},true]
["",null,null,null,null,null,null,null,{"$f":"IF(ISERROR(VLOOKUP(H535,Database!$B$1:$C$5000,2,FALSE)),\"\",VLOOKUP(H535,Database!$B$1:$C$5000,2,FALSE))","v":""},"",{"$error":"#N/A"},null,null,null,null,null,null,null,null,"",false,2,{"$f":"VLOOKUP(H535,Database!$B$1:$D$5000,3,0)","v":{"$error":"#N/A"}},true]
["",null,null,null,null,null,null,null,{"$f":"IF(ISERROR(VLOOKUP(H536,Database!$B$1:$C$5000,2,FALSE)),\"\",VLOOKUP(H536,Database!$B$1:$C$5000,2,FALSE))","v":""},"",{"$error":"#N/A"},null,null,null,null,null,null,null,null,"",false,2,{"$f":"VLOOKUP(H536,Database!$B$1:$D$5000,3,0)","v":{"$error":"#N/A"}},true]
["",null,null,null,null,null,null,null,{"$f":"IF(ISERROR(VLOOKUP(H537,Database!$B$1:$C$5000,2,FALSE)),\"\",VLOOKUP(H537,Database!$B$1:$C$5000,2,FALSE))","v":""},"",{"$error":"#N/A"},null,null,null,null,null,null,null,null,"",false,2,{"$f":"VLOOKUP(H537,Database!$B$1:$D$5000,3,0)","v":{"$error":"#N/A"}},true]
["",null,null,null,null,null,null,null,{"$f":"IF(ISERROR(VLOOKUP(H538,Database!$B$1:$C$5000,2,FALSE)),\"\",VLOOKUP(H538,Database!$B$1:$C$5000,2,FALSE))","v":""},"",{"$error":"#N/A"},null,null,null,null,null,null,null,null,"",false,2,{"$f":"VLOOKUP(H538,Database!$B$1:$D$5000,3,0)","v":{"$error":"#N/A"}},true]
["",null,null,null,null,null,null,null,{"$f":"IF(ISERROR(VLOOKUP(H539,Database!$B$1:$C$5000,2,FALSE)),\"\",VLOOKUP(H539,Database!$B$1:$C$5000,2,FALSE))","v":""},"",{"$error":"#N/A"},null,null,null,null,null,null,null,null,"",false,2,{"$f":"VLOOKUP(H539,Database!$B$1:$D$5000,3,0)","v":{"$error":"#N/A"}},true]
["",null,null,null,null,null,null,null,{"$f":"IF(ISERROR(VLOOKUP(H540,Database!$B$1:$C$5000,2,FALSE)),\"\",VLOOKUP(H540,Database!$B$1:$C$5000,2,FALSE))","v":""},"",{"$error":"#N/A"},null,null,null,null,null,null,null,null,"",false,2,{"$f":"VLOOKUP(H540,Database!$B$1:$D$5000,3,0)","v":{"$error":"#N/A"}},true]
["",null,null,null,null,null,null,null,{"$f":"IF(ISERROR(VLOOKUP(H541,Database!$B$1:$C$5000,2,FALSE)),\"\",VLOOKUP(H541,Database!$B$1:$C$5000,2,FALSE))","v":""},"",{"$error":"#N/A"},null,null,null,null,null,null,null,null,"",false,2,{"$f":"VLOOKUP(H541,Database!$B$1:$D$5000,3,0)","v":{"$error":"#N/A"}},true]
["",null,null,null,null,null,null,null,{"$f":"IF(ISERROR(VLOOKUP(H542,Database!$B$1:$C$5000,2,FALSE)),\"\",VLOOKUP(H542,Database!$B$1:$C$5000,2,FALSE))","v":""},"",{"$error":"#N/A"},null,null,null,null,null,null,null,null,"",false,2,{"$f":"VLOOKUP(H542,Database!$B$1:$D$5000,3,0)","v":{"$error":"#N/A"}},true]
["",null,null,null,null,null,null,null,{"$f":"IF(ISERROR(VLOOKUP(H543,Database!$B$1:$C$5000,2,FALSE)),\"\",VLOOKUP(H543,Database!$B$1:$C$5000,2,FALSE))","v":""},"",{"$error":"#N/A"},null,null,null,null,null,null,null,null,"",false,2,{"$f":"VLOOKUP(H543,Database!$B$1:$D$5000,3,0)","v":{"$error":"#N/A"}},true]
["",null,null,null,null,null,null,null,{"$f":"IF(ISERROR(VLOOKUP(H544,Database!$B$1:$C$5000,2,FALSE)),\"\",VLOOKUP(H544,Database!$B$1:$C$5000,2,FALSE))","v":""},"",{"$error":"#N/A"},null,null,null,null,null,null,null,null,"",false,2,{"$f":"VLOOKUP(H544,Database!$B$1:$D$5000,3,0)","v":{"$error":"#N/A"}},true]
["",null,null,null,null,null,null,null,{"$f":"IF(ISERROR(VLOOKUP(H545,Database!$B$1:$C$5000,2,FALSE)),\"\",VLOOKUP(H545,Database!$B$1:$C$5000,2,FALSE))","v":""},"",{"$error":"#N/A"},null,null,null,null,null,null,null,null,"",false,2,{"$f":"VLOOKUP(H545,Database!$B$1:$D$5000,3,0)","v":{"$error":"#N/A"}},true]
["",null,null,null,null,null,null,null,{"$f":"IF(ISERROR(VLOOKUP(H546,Database!$B$1:$C$5000,2,FALSE)),\"\",VLOOKUP(H546,Database!$B$1:$C$5000,2,FALSE))","v":""},"",{"$error":"#N/A"},null,null,null,null,null,null,null,null,"",false,2,{"$f":"VLOOKUP(H546,Database!$B$1:$D$5000,3,0)","v":{"$error":"#N/A"}},true]
["",null,null,null,null,null,null,null,{"$f":"IF(ISERROR(VLOOKUP(H547,Database!$B$1:$C$5000,2,FALSE)),\"\",VLOOKUP(H547,Database!$B$1:$C$5000,2,FALSE))","v":""},"",{"$error":"#N/A"},null,null,null,null,null,null,null,null,"",false,2,{"$f":"VLOOKUP(H547,Database!$B$1:$D$5000,3,0)","v":{"$error":"#N/A"}},true]
["",null,null,null,null,null,null,null,{"$f":"IF(ISERROR(VLOOKUP(H548,Database!$B$1:$C$5000,2,FALSE)),\"\",VLOOKUP(H548,Database!$B$1:$C$5000,2,FALSE))","v":""},"",{"$error":"#N/A"},null,null,null,null,null,null,null,null,"",false,2,{"$f":"VLOOKUP(H548,Database!$B$1:$D$5000,3,0)","v":{"$error":"#N/A"}},true]
["",null,null,null,null,null,null,null,{"$f":"IF(ISERROR(VLOOKUP(H549,Database!$B$1:$C$5000,2,FALSE)),\"\",VLOOKUP(H549,Database!$B$1:$C$5000,2,FALSE))","v":""},"",{"$error":"#N/A"},null,null,null,null,null,null,null,null,"",false,2,{"$f":"VLOOKUP(H549,Database!$B$1:$D$5000,3,0)","v":{"$error":"#N/A"}},true]
["",null,null,null,null,null,null,null,{"$f":"IF(ISERROR(VLOOKUP(H550,Database!$B$1:$C$5000,2,FALSE)),\"\",VLOOKUP(H550,Database!$B$1:$C$5000,2,FALSE))","v":""},"",{"$error":"#N/A"},null,null,null,null,null,null,null,null,"",false,2,{"$f":"VLOOKUP(H550,Database!$B$1:$D$5000,3,0)","v":{"$error":"#N/A"}},true]
["",null,null,null,null,null,null,null,{"$f":"IF(ISERROR(VLOOKUP(H551,Database!$B$1:$C$5000,2,FALSE)),\"\",VLOOKUP(H551,Database!$B$1:$C$5000,2,FALSE))","v":""},"",{"$error":"#N/A"},null,null,null,null,null,null,null,null,"",false,2,{"$f":"VLOOKUP(H551,Database!$B$1:$D$5000,3,0)","v":{"$error":"#N/A"}},true]
["",null,null,null,null,null,null,null,{"$f":"IF(ISERROR(VLOOKUP(H552,Database!$B$1:$C$5000,2,FALSE)),\"\",VLOOKUP(H552,Database!$B$1:$C$5000,2,FALSE))","v":""},"",{"$error":"#N/A"},null,null,null,null,null,null,null,null,"",false,2,{"$f":"VLOOKUP(H552,Database!$B$1:$D$5000,3,0)","v":{"$error":"#N/A"}},true]
["",null,null,null,null,null,null,null,{"$f":"IF(ISERROR(VLOOKUP(H553,Database!$B$1:$C$5000,2,FALSE)),\"\",VLOOKUP(H553,Database!$B$1:$C$5000,2,FALSE))","v":""},"",{"$error":"#N/A"},null,null,null,null,null,null,null,null,"",false,2,{"$f":"VLOOKUP(H553,Database!$B$1:$D$5000,3,0)","v":{"$error":"#N/A"}},true]
["",null,null,null,null,null,null,null,{"$f":"IF(ISERROR(VLOOKUP(H554,Database!$B$1:$C$5000,2,FALSE)),\"\",VLOOKUP(H554,Database!$B$1:$C$5000,2,FALSE))","v":""},"",{"$error":"#N/A"},null,null,null,null,null,null,null,null,"",false,2,{"$f":"VLOOKUP(H554,Database!$B$1:$D$5000,3,0)","v":{"$error":"#N/A"}},true]
["",null,null,null,null,null,null,null,{"$f":"IF(ISERROR(VLOOKUP(H555,Database!$B$1:$C$5000,2,FALSE)),\"\",VLOOKUP(H555,Database!$B$1:$C$5000,2,FALSE))","v":""},"",{"$error":"#N/A"},null,null,null,null,null,null,null,null,"",false,2,{"$f":"VLOOKUP(H555,Database!$B$1:$D$5000,3,0)","v":{"$error":"#N/A"}},true]
["",null,null,null,null,null,null,null,{"$f":"IF(ISERROR(VLOOKUP(H556,Database!$B$1:$C$5000,2,FALSE)),\"\",VLOOKUP(H556,Database!$B$1:$C$5000,2,FALSE))","v":""},"",{"$error":"#N/A"},null,null,null,null,null,null,null,null,"",false,2,{"$f":"VLOOKUP(H556,Database!$B$1:$D$5000,3,0)","v":{"$error":"#N/A"}},true]
["",null,null,null,null,null,null,null,{"$f":"IF(ISERROR(VLOOKUP(H557,Database!$B$1:$C$5000,2,FALSE)),\"\",VLOOKUP(H557,Database!$B$1:$C$5000,2,FALSE))","v":""},"",{"$error":"#N/A"},null,null,null,null,null,null,null,null,"",false,2,{"$f":"VLOOKUP(H557,Database!$B$1:$D$5000,3,0)","v":{"$error":"#N/A"}},true]
["",null,null,null,null,null,null,null,{"$f":"IF(ISERROR(VLOOKUP(H558,Database!$B$1:$C$5000,2,FALSE)),\"\",VLOOKUP(H558,Database!$B$1:$C$5000,2,FALSE))","v":""},"",{"$error":"#N/A"},null,null,null,null,null,null,null,null,"",false,2,{"$f":"VLOOKUP(H558,Database!$B$1:$D$5000,3,0)","v":{"$error":"#N/A"}},true]
["",null,null,null,null,null,null,null,{"$f":"IF(ISERROR(VLOOKUP(H559,Database!$B$1:$C$5000,2,FALSE)),\"\",VLOOKUP(H559,Database!$B$1:$C$5000,2,FALSE))","v":""},"",{"$error":"#N/A"},null,null,null,null,null,null,null,null,"",false,2,{"$f":"VLOOKUP(H559,Database!$B$1:$D$5000,3,0)","v":{"$error":"#N/A"}},true]
["",null,null,null,null,null,null,null,{"$f":"IF(ISERROR(VLOOKUP(H560,Database!$B$1:$C$5000,2,FALSE)),\"\",VLOOKUP(H560,Database!$B$1:$C$5000,2,FALSE))","v":""},"",{"$error":"#N/A"},null,null,null,null,null,null,null,null,"",false,2,{"$f":"VLOOKUP(H560,Database!$B$1:$D$5000,3,0)","v":{"$error":"#N/A"}},true]
["",null,null,null,null,null,null,null,{"$f":"IF(ISERROR(VLOOKUP(H561,Database!$B$1:$C$5000,2,FALSE)),\"\",VLOOKUP(H561,Database!$B$1:$C$5000,2,FALSE))","v":""},"",{"$error":"#N/A"},null,null,null,null,null,null,null,null,"",false,2,{"$f":"VLOOKUP(H561,Database!$B$1:$D$5000,3,0)","v":{"$error":"#N/A"}},true]
["",null,null,null,null,null,null,null,{"$f":"IF(ISERROR(VLOOKUP(H562,Database!$B$1:$C$5000,2,FALSE)),\"\",VLOOKUP(H562,Database!$B$1:$C$5000,2,FALSE))","v":""},"",{"$error":"#N/A"},null,null,null,null,null,null,null,null,"",false,2,{"$f":"VLOOKUP(H562,Database!$B$1:$D$5000,3,0)","v":{"$error":"#N/A"}},true]
["",null,null,null,null,null,null,null,{"$f":"IF(ISERROR(VLOOKUP(H563,Database!$B$1:$C$5000,2,FALSE)),\"\",VLOOKUP(H563,Database!$B$1:$C$5000,2,FALSE))","v":""},"",{"$error":"#N/A"},null,null,null,null,null,null,null,null,"",false,2,{"$f":"VLOOKUP(H563,Database!$B$1:$D$5000,3,0)","v":{"$error":"#N/A"}},true]
["",null,null,null,null,null,null,null,{"$f":"IF(ISERROR(VLOOKUP(H564,Database!$B$1:$C$5000,2,FALSE)),\"\",VLOOKUP(H564,Database!$B$1:$C$5000,2,FALSE))","v":""},"",{"$error":"#N/A"},null,null,null,null,null,null,null,null,"",false,2,{"$f":"VLOOKUP(H564,Database!$B$1:$D$5000,3,0)","v":{"$error":"#N/A"}},true]
["",null,null,null,null,null,null,null,{"$f":"IF(ISERROR(VLOOKUP(H565,Database!$B$1:$C$5000,2,FALSE)),\"\",VLOOKUP(H565,Database!$B$1:$C$5000,2,FALSE))","v":""},"",{"$error":"#N/A"},null,null,null,null,null,null,null,null,"",false,2,{"$f":"VLOOKUP(H565,Database!$B$1:$D$5000,3,0)","v":{"$error":"#N/A"}},true]
["",null,null,null,null,null,null,null,{"$f":"IF(ISERROR(VLOOKUP(H566,Database!$B$1:$C$5000,2,FALSE)),\"\",VLOOKUP(H566,Database!$B$1:$C$5000,2,FALSE))","v":""},"",{"$error":"#N/A"},null,null,null,null,null,null,null,null,"",false,2,{"$f":"VLOOKUP(H566,Database!$B$1:$D$5000,3,0)","v":{"$error":"#N/A"}},true]
["",null,null,null,null,null,null,null,{"$f":"IF(ISERROR(VLOOKUP(H567,Database!$B$1:$C$5000,2,FALSE)),\"\",VLOOKUP(H567,Database!$B$1:$C$5000,2,FALSE))","v":""},"",{"$error":"#N/A"},null,null,null,null,null,null,null,null,"",false,2,{"$f":"VLOOKUP(H567,Database!$B$1:$D$5000,3,0)","v":{"$error":"#N/A"}},true]
["",null,null,null,null,null,null,null,{"$f":"IF(ISERROR(VLOOKUP(H568,Database!$B$1:$C$5000,2,FALSE)),\"\",VLOOKUP(H568,Database!$B$1:$C$5000,2,FALSE))","v":""},"",{"$error":"#N/A"},null,null,null,null,null,null,null,null,"",false,2,{"$f":"VLOOKUP(H568,Database!$B$1:$D$5000,3,0)","v":{"$error":"#N/A"}},true]
["",null,null,null,null,null,null,null,{"$f":"IF(ISERROR(VLOOKUP(H569,Database!$B$1:$C$5000,2,FALSE)),\"\",VLOOKUP(H569,Database!$B$1:$C$5000,2,FALSE))","v":""},"",{"$error":"#N/A"},null,null,null,null,null,null,null,null,"",false,2,{"$f":"VLOOKUP(H569,Database!$B$1:$D$5000,3,0)","v":{"$error":"#N/A"}},true]
["",null,null,null,null,null,null,null,{"$f":"IF(ISERROR(VLOOKUP(H570,Database!$B$1:$C$5000,2,FALSE)),\"\",VLOOKUP(H570,Database!$B$1:$C$5000,2,FALSE))","v":""},"",{"$error":"#N/A"},null,null,null,null,null,null,null,null,"",false,2,{"$f":"VLOOKUP(H570,Database!$B$1:$D$5000,3,0)","v":{"$error":"#N/A"}},true]
["",null,null,null,null,null,null,null,{"$f":"IF(ISERROR(VLOOKUP(H571,Database!$B$1:$C$5000,2,FALSE)),\"\",VLOOKUP(H571,Database!$B$1:$C$5000,2,FALSE))","v":""},"",{"$error":"#N/A"},null,null,null,null,null,null,null,null,"",false,2,{"$f":"VLOOKUP(H571,Database!$B$1:$D$5000,3,0)","v":{"$error":"#N/A"}},true]
["",null,null,null,null,null,null,null,{"$f":"IF(ISERROR(VLOOKUP(H572,Database!$B$1:$C$5000,2,FALSE)),\"\",VLOOKUP(H572,Database!$B$1:$C$5000,2,FALSE))","v":""},"",{"$error":"#N/A"},null,null,null,null,null,null,null,null,"",false,2,{"$f":"VLOOKUP(H572,Database!$B$1:$D$5000,3,0)","v":{"$error":"#N/A"}},true]
["",null,null,null,null,null,null,null,{"$f":"IF(ISERROR(VLOOKUP(H573,Database!$B$1:$C$5000,2,FALSE)),\"\",VLOOKUP(H573,Database!$B$1:$C$5000,2,FALSE))","v":""},"",{"$error":"#N/A"},null,null,null,null,null,null,null,null,"",false,2,{"$f":"VLOOKUP(H573,Database!$B$1:$D$5000,3,0)","v":{"$error":"#N/A"}},true]
["",null,null,null,null,null,null,null,{"$f":"IF(ISERROR(VLOOKUP(H574,Database!$B$1:$C$5000,2,FALSE)),\"\",VLOOKUP(H574,Database!$B$1:$C$5000,2,FALSE))","v":""},"",{"$error":"#N/A"},null,null,null,null,null,null,null,null,"",false,2,{"$f":"VLOOKUP(H574,Database!$B$1:$D$5000,3,0)","v":{"$error":"#N/A"}},true]
["",null,null,null,null,null,null,null,{"$f":"IF(ISERROR(VLOOKUP(H575,Database!$B$1:$C$5000,2,FALSE)),\"\",VLOOKUP(H575,Database!$B$1:$C$5000,2,FALSE))","v":""},"",{"$error":"#N/A"},null,null,null,null,null,null,null,null,"",false,2,{"$f":"VLOOKUP(H575,Database!$B$1:$D$5000,3,0)","v":{"$error":"#N/A"}},true]
["",null,null,null,null,null,null,null,{"$f":"IF(ISERROR(VLOOKUP(H576,Database!$B$1:$C$5000,2,FALSE)),\"\",VLOOKUP(H576,Database!$B$1:$C$5000,2,FALSE))","v":""},"",{"$error":"#N/A"},null,null,null,null,null,null,null,null,"",false,2,{"$f":"VLOOKUP(H576,Database!$B$1:$D$5000,3,0)","v":{"$error":"#N/A"}},true]
["",null,null,null,null,null,null,null,{"$f":"IF(ISERROR(VLOOKUP(H577,Database!$B$1:$C$5000,2,FALSE)),\"\",VLOOKUP(H577,Database!$B$1:$C$5000,2,FALSE))","v":""},"",{"$error":"#N/A"},null,null,null,null,null,null,null,null,"",false,2,{"$f":"VLOOKUP(H577,Database!$B$1:$D$5000,3,0)","v":{"$error":"#N/A"}},true]
["",null,null,null,null,null,null,null,{"$f":"IF(ISERROR(VLOOKUP(H578,Database!$B$1:$C$5000,2,FALSE)),\"\",VLOOKUP(H578,Database!$B$1:$C$5000,2,FALSE))","v":""},"",{"$error":"#N/A"},null,null,null,null,null,null,null,null,"",false,2,{"$f":"VLOOKUP(H578,Database!$B$1:$D$5000,3,0)","v":{"$error":"#N/A"}},true]
["",null,null,null,null,null,null,null,{"$f":"IF(ISERROR(VLOOKUP(H579,Database!$B$1:$C$5000,2,FALSE)),\"\",VLOOKUP(H579,Database!$B$1:$C$5000,2,FALSE))","v":""},"",{"$error":"#N/A"},null,null,null,null,null,null,null,null,"",false,2,{"$f":"VLOOKUP(H579,Database!$B$1:$D$5000,3,0)","v":{"$error":"#N/A"}},true]
["",null,null,null,null,null,null,null,{"$f":"IF(ISERROR(VLOOKUP(H580,Database!$B$1:$C$5000,2,FALSE)),\"\",VLOOKUP(H580,Database!$B$1:$C$5000,2,FALSE))","v":""},"",{"$error":"#N/A"},null,null,null,null,null,null,null,null,"",false,2,{"$f":"VLOOKUP(H580,Database!$B$1:$D$5000,3,0)","v":{"$error":"#N/A"}},true]
["",null,null,null,null,null,null,null,{"$f":"IF(ISERROR(VLOOKUP(H581,Database!$B$1:$C$5000,2,FALSE)),\"\",VLOOKUP(H581,Database!$B$1:$C$5000,2,FALSE))","v":""},"",{"$error":"#N/A"},null,null,null,null,null,null,null,null,"",false,2,{"$f":"VLOOKUP(H581,Database!$B$1:$D$5000,3,0)","v":{"$error":"#N/A"}},true]
["",null,null,null,null,null,null,null,{"$f":"IF(ISERROR(VLOOKUP(H582,Database!$B$1:$C$5000,2,FALSE)),\"\",VLOOKUP(H582,Database!$B$1:$C$5000,2,FALSE))","v":""},"",{"$error":"#N/A"},null,null,null,null,null,null,null,null,"",false,2,{"$f":"VLOOKUP(H582,Database!$B$1:$D$5000,3,0)","v":{"$error":"#N/A"}},true]
[{"$f":"IF(B583=\"\",\"\",ROW(A578))","v":""},null,null,null,null,null,null,null,{"$f":"IF(ISERROR(VLOOKUP(H583,Database!$B$1:$C$5000,2,FALSE)),\"\",VLOOKUP(H583,Database!$B$1:$C$5000,2,FALSE))","v":""},{"$f":"IF(V583=1,1,IF(AND(T583=0,F583=\"SSB\",V583<>\"\"),3,IF(AND(T583=0,F583=\"DIGI\",V583<>\"\"),2,IF(AND(T583=0,F583=\"CW\",V583<>\"\"),5,IF(H583=\"-\",\"\",T583)))))","v":""},{"$f":"IF(H583=\"-\",\"\",IF(AND(H583<>\"\",X583=TRUE),\"INDIPENDENT\",IF(W583=0,\"SCRIVI NOME NELLE NOTE\",W583)))","v":{"$error":"#N/A"}},null,null,null,null,null,null,null,null,{"$f":"IF(H583=\"\",\"\",IF(H583=$R$6,25,IF(OR(H583=$R$7,H583=$R$8,H583=$R$9,H583=$R$10,H583=$R$11,H583=$R$12,H583=$R$13,H583=$R$14,H583=$R$15,H583=$R$16,H583=$R$17,H583=$R$18,H583=$R$19,H583=$R$20,H583=$R$21,H583=$R$22,H583=$R$23),15,0)))","v":""},{"$f":"ISERROR(I583)","v":false},{"$f":"IF(H583=\"-\",\"\",IF(AND(T583=0,U583=FALSE,I583=\"\"),1,2))","v":2},{"$f":"VLOOKUP(H583,Database!$B$1:$D$5000,3,0)","v":{"$error":"#N/A"}},{"$f":"ISERROR(W583)","v":true}]
["",null,null,null,null,null,null,null,{"$f":"IF(ISERROR(VLOOKUP(H584,Database!$B$1:$C$5000,2,FALSE)),\"\",VLOOKUP(H584,Database!$B$1:$C$5000,2,FALSE))","v":""},"",{"$error":"#N/A"},null,null,null,null,null,null,null,null,"",false,2,{"$f":"VLOOKUP(H584,Database!$B$1:$D$5000,3,0)","v":{"$error":"#N/A"}},true]
["",null,null,null,null,null,null,null,{"$f":"IF(ISERROR(VLOOKUP(H585,Database!$B$1:$C$5000,2,FALSE)),\"\",VLOOKUP(H585,Database!$B$1:$C$5000,2,FALSE))","v":""},"",{"$error":"#N/A"},null,null,null,null,null,null,null,null,"",false,2,{"$f":"VLOOKUP(H585,Database!$B$1:$D$5000,3,0)","v":{"$error":"#N/A"}},true]
["",null,null,null,null,null,null,null,{"$f":"IF(ISERROR(VLOOKUP(H586,Database!$B$1:$C$5000,2,FALSE)),\"\",VLOOKUP(H586,Database!$B$1:$C$5000,2,FALSE))","v":""},"",{"$error":"#N/A"},null,null,null,null,null,null,null,null,"",false,2,{"$f":"VLOOKUP(H586,Database!$B$1:$D$5000,3,0)","v":{"$error":"#N/A"}},true]
["",null,null,null,null,null,null,null,{"$f":"IF(ISERROR(VLOOKUP(H587,Database!$B$1:$C$5000,2,FALSE)),\"\",VLOOKUP(H587,Database!$B$1:$C$5000,2,FALSE))","v":""},"",{"$error":"#N/A"},null,null,null,null,null,null,null,null,"",false,2,{"$f":"VLOOKUP(H587,Database!$B$1:$D$5000,3,0)","v":{"$error":"#N/A"}},true]
["",null,null,null,null,null,null,null,{"$f":"IF(ISERROR(VLOOKUP(H588,Database!$B$1:$C$5000,2,FALSE)),\"\",VLOOKUP(H588,Database!$B$1:$C$5000,2,FALSE))","v":""},"",{"$error":"#N/A"},null,null,null,null,null,null,null,null,"",false,2,{"$f":"VLOOKUP(H588,Database!$B$1:$D$5000,3,0)","v":{"$error":"#N/A"}},true]
["",null,null,null,null,null,null,null,{"$f":"IF(ISERROR(VLOOKUP(H589,Database!$B$1:$C$5000,2,FALSE)),\"\",VLOOKUP(H589,Database!$B$1:$C$5000,2,FALSE))","v":""},"",{"$error":"#N/A"},null,null,null,null,null,null,null,null,"",false,2,{"$f":"VLOOKUP(H589,Database!$B$1:$D$5000,3,0)","v":{"$error":"#N/A"}},true]
["",null,null,null,null,null,null,null,{"$f":"IF(ISERROR(VLOOKUP(H590,Database!$B$1:$C$5000,2,FALSE)),\"\",VLOOKUP(H590,Database!$B$1:$C$5000,2,FALSE))","v":""},"",{"$error":"#N/A"},null,null,null,null,null,null,null,null,"",false,2,{"$f":"VLOOKUP(H590,Database!$B$1:$D$5000,3,0)","v":{"$error":"#N/A"}},true]
["",null,null,null,null,null,null,null,{"$f":"IF(ISERROR(VLOOKUP(H591,Database!$B$1:$C$5000,2,FALSE)),\"\",VLOOKUP(H591,Database!$B$1:$C$5000,2,FALSE))","v":""},"",{"$error":"#N/A"},null,null,null,null,null,null,null,null,"",false,2,{"$f":"VLOOKUP(H591,Database!$B$1:$D$5000,3,0)","v":{"$error":"#N/A"}},true]
["",null,null,null,null,null,null,null,{"$f":"IF(ISERROR(VLOOKUP(H592,Database!$B$1:$C$5000,2,FALSE)),\"\",VLOOKUP(H592,Database!$B$1:$C$5000,2,FALSE))","v":""},"",{"$error":"#N/A"},null,null,null,null,null,null,null,null,"",false,2,{"$f":"VLOOKUP(H592,Database!$B$1:$D$5000,3,0)","v":{"$error":"#N/A"}},true]
["",null,null,null,null,null,null,null,{"$f":"IF(ISERROR(VLOOKUP(H593,Database!$B$1:$C$5000,2,FALSE)),\"\",VLOOKUP(H593,Database!$B$1:$C$5000,2,FALSE))","v":""},"",{"$error":"#N/A"},null,null,null,null,null,null,null,null,"",false,2,{"$f":"VLOOKUP(H593,Database!$B$1:$D$5000,3,0)","v":{"$error":"#N/A"}},true]
["",null,null,null,null,null,null,null,{"$f":"IF(ISERROR(VLOOKUP(H594,Database!$B$1:$C$5000,2,FALSE)),\"\",VLOOKUP(H594,Database!$B$1:$C$5000,2,FALSE))","v":""},"",{"$error":"#N/A"},null,null,null,null,null,null,null,null,"",false,2,{"$f":"VLOOKUP(H594,Database!$B$1:$D$5000,3,0)","v":{"$error":"#N/A"}},true]
["",null,null,null,null,null,null,null,{"$f":"IF(ISERROR(VLOOKUP(H595,Database!$B$1:$C$5000,2,FALSE)),\"\",VLOOKUP(H595,Database!$B$1:$C$5000,2,FALSE))","v":""},"",{"$error":"#N/A"},null,null,null,null,null,null,null,null,"",false,2,{"$f":"VLOOKUP(H595,Database!$B$1:$D$5000,3,0)","v":{"$error":"#N/A"}},true]
["",null,null,null,null,null,null,null,{"$f":"IF(ISERROR(VLOOKUP(H596,Database!$B$1:$C$5000,2,FALSE)),\"\",VLOOKUP(H596,Database!$B$1:$C$5000,2,FALSE))","v":""},"",{"$error":"#N/A"},null,null,null,null,null,null,null,null,"",false,2,{"$f":"VLOOKUP(H596,Database!$B$1:$D$5000,3,0)","v":{"$error":"#N/A"}},true]
["",null,null,null,null,null,null,null,{"$f":"IF(ISERROR(VLOOKUP(H597,Database!$B$1:$C$5000,2,FALSE)),\"\",VLOOKUP(H597,Database!$B$1:$C$5000,2,FALSE))","v":""},"",{"$error":"#N/A"},null,null,null,null,null,null,null,null,"",false,2,{"$f":"VLOOKUP(H597,Database!$B$1:$D$5000,3,0)","v":{"$error":"#N/A"}},true]
["",null,null,null,null,null,null,null,{"$f":"IF(ISERROR(VLOOKUP(H598,Database!$B$1:$C$5000,2,FALSE)),\"\",VLOOKUP(H598,Database!$B$1:$C$5000,2,FALSE))","v":""},"",{"$error":"#N/A"},null,null,null,null,null,null,null,null,"",false,2,{"$f":"VLOOKUP(H598,Database!$B$1:$D$5000,3,0)","v":{"$error":"#N/A"}},true]
["",null,null,null,null,null,null,null,{"$f":"IF(ISERROR(VLOOKUP(H599,Database!$B$1:$C$5000,2,FALSE)),\"\",VLOOKUP(H599,Database!$B$1:$C$5000,2,FALSE))","v":""},"",{"$error":"#N/A"},null,null,null,null,null,null,null,null,"",false,2,{"$f":"VLOOKUP(H599,Database!$B$1:$D$5000,3,0)","v":{"$error":"#N/A"}},true]
["",null,null,null,null,null,null,null,{"$f":"IF(ISERROR(VLOOKUP(H600,Database!$B$1:$C$5000,2,FALSE)),\"\",VLOOKUP(H600,Database!$B$1:$C$5000,2,FALSE))","v":""},"",{"$error":"#N/A"},null,null,null,null,null,null,null,null,"",false,2,{"$f":"VLOOKUP(H600,Database!$B$1:$D$5000,3,0)","v":{"$error":"#N/A"}},true]
["",null,null,null,null,null,null,null,{"$f":"IF(ISERROR(VLOOKUP(H601,Database!$B$1:$C$5000,2,FALSE)),\"\",VLOOKUP(H601,Database!$B$1:$C$5000,2,FALSE))","v":""},"",{"$error":"#N/A"},null,null,null,null,null,null,null,null,"",false,2,{"$f":"VLOOKUP(H601,Database!$B$1:$D$5000,3,0)","v":{"$error":"#N/A"}},true]
["",null,null,null,null,null,null,null,{"$f":"IF(ISERROR(VLOOKUP(H602,Database!$B$1:$C$5000,2,FALSE)),\"\",VLOOKUP(H602,Database!$B$1:$C$5000,2,FALSE))","v":""},"",{"$error":"#N/A"},null,null,null,null,null,null,null,null,"",false,2,{"$f":"VLOOKUP(H602,Database!$B$1:$D$5000,3,0)","v":{"$error":"#N/A"}},true]
["",null,null,null,null,null,null,null,{"$f":"IF(ISERROR(VLOOKUP(H603,Database!$B$1:$C$5000,2,FALSE)),\"\",VLOOKUP(H603,Database!$B$1:$C$5000,2,FALSE))","v":""},"",{"$error":"#N/A"},null,null,null,null,null,null,null,null,"",false,2,{"$f":"VLOOKUP(H603,Database!$B$1:$D$5000,3,0)","v":{"$error":"#N/A"}},true]
["",null,null,null,null,null,null,null,{"$f":"IF(ISERROR(VLOOKUP(H604,Database!$B$1:$C$5000,2,FALSE)),\"\",VLOOKUP(H604,Database!$B$1:$C$5000,2,FALSE))","v":""},"",{"$error":"#N/A"},null,null,null,null,null,null,null,null,"",false,2,{"$f":"VLOOKUP(H604,Database!$B$1:$D$5000,3,0)","v":{"$error":"#N/A"}},true]
["",null,null,null,null,null,null,null,{"$f":"IF(ISERROR(VLOOKUP(H605,Database!$B$1:$C$5000,2,FALSE)),\"\",VLOOKUP(H605,Database!$B$1:$C$5000,2,FALSE))","v":""},"",{"$error":"#N/A"},null,null,null,null,null,null,null,null,"",false,2,{"$f":"VLOOKUP(H605,Database!$B$1:$D$5000,3,0)","v":{"$error":"#N/A"}},true]
["",null,null,null,null,null,null,null,{"$f":"IF(ISERROR(VLOOKUP(H606,Database!$B$1:$C$5000,2,FALSE)),\"\",VLOOKUP(H606,Database!$B$1:$C$5000,2,FALSE))","v":""},"",{"$error":"#N/A"},null,null,null,null,null,null,null,null,"",false,2,{"$f":"VLOOKUP(H606,Database!$B$1:$D$5000,3,0)","v":{"$error":"#N/A"}},true]
["",null,null,null,null,null,null,null,{"$f":"IF(ISERROR(VLOOKUP(H607,Database!$B$1:$C$5000,2,FALSE)),\"\",VLOOKUP(H607,Database!$B$1:$C$5000,2,FALSE))","v":""},"",{"$error":"#N/A"},null,null,null,null,null,null,null,null,"",false,2,{"$f":"VLOOKUP(H607,Database!$B$1:$D$5000,3,0)","v":{"$error":"#N/A"}},true]
["",null,null,null,null,null,null,null,{"$f":"IF(ISERROR(VLOOKUP(H608,Database!$B$1:$C$5000,2,FALSE)),\"\",VLOOKUP(H608,Database!$B$1:$C$5000,2,FALSE))","v":""},"",{"$error":"#N/A"},null,null,null,null,null,null,null,null,"",false,2,{"$f":"VLOOKUP(H608,Database!$B$1:$D$5000,3,0)","v":{"$error":"#N/A"}},true]
["",null,null,null,null,null,null,null,{"$f":"IF(ISERROR(VLOOKUP(H609,Database!$B$1:$C$5000,2,FALSE)),\"\",VLOOKUP(H609,Database!$B$1:$C$5000,2,FALSE))","v":""},"",{"$error":"#N/A"},null,null,null,null,null,null,null,null,"",false,2,{"$f":"VLOOKUP(H609,Database!$B$1:$D$5000,3,0)","v":{"$error":"#N/A"}},true]
["",null,null,null,null,null,null,null,{"$f":"IF(ISERROR(VLOOKUP(H610,Database!$B$1:$C$5000,2,FALSE)),\"\",VLOOKUP(H610,Database!$B$1:$C$5000,2,FALSE))","v":""},"",{"$error":"#N/A"},null,null,null,null,null,null,null,null,"",false,2,{"$f":"VLOOKUP(H610,Database!$B$1:$D$5000,3,0)","v":{"$error":"#N/A"}},true]
["",null,null,null,null,null,null,null,{"$f":"IF(ISERROR(VLOOKUP(H611,Database!$B$1:$C$5000,2,FALSE)),\"\",VLOOKUP(H611,Database!$B$1:$C$5000,2,FALSE))","v":""},"",{"$error":"#N/A"},null,null,null,null,null,null,null,null,"",false,2,{"$f":"VLOOKUP(H611,Database!$B$1:$D$5000,3,0)","v":{"$error":"#N/A"}},true]
["",null,null,null,null,null,null,null,{"$f":"IF(ISERROR(VLOOKUP(H612,Database!$B$1:$C$5000,2,FALSE)),\"\",VLOOKUP(H612,Database!$B$1:$C$5000,2,FALSE))","v":""},"",{"$error":"#N/A"},null,null,null,null,null,null,null,null,"",false,2,{"$f":"VLOOKUP(H612,Database!$B$1:$D$5000,3,0)","v":{"$error":"#N/A"}},true]
["",null,null,null,null,null,null,null,{"$f":"IF(ISERROR(VLOOKUP(H613,Database!$B$1:$C$5000,2,FALSE)),\"\",VLOOKUP(H613,Database!$B$1:$C$5000,2,FALSE))","v":""},"",{"$error":"#N/A"},null,null,null,null,null,null,null,null,"",false,2,{"$f":"VLOOKUP(H613,Database!$B$1:$D$5000,3,0)","v":{"$error":"#N/A"}},true]
["",null,null,null,null,null,null,null,{"$f":"IF(ISERROR(VLOOKUP(H614,Database!$B$1:$C$5000,2,FALSE)),\"\",VLOOKUP(H614,Database!$B$1:$C$5000,2,FALSE))","v":""},"",{"$error":"#N/A"},null,null,null,null,null,null,null,null,"",false,2,{"$f":"VLOOKUP(H614,Database!$B$1:$D$5000,3,0)","v":{"$error":"#N/A"}},true]
["",null,null,null,null,null,null,null,{"$f":"IF(ISERROR(VLOOKUP(H615,Database!$B$1:$C$5000,2,FALSE)),\"\",VLOOKUP(H615,Database!$B$1:$C$5000,2,FALSE))","v":""},"",{"$error":"#N/A"},null,null,null,null,null,null,null,null,"",false,2,{"$f":"VLOOKUP(H615,Database!$B$1:$D$5000,3,0)","v":{"$error":"#N/A"}},true]
["",null,null,null,null,null,null,null,{"$f":"IF(ISERROR(VLOOKUP(H616,Database!$B$1:$C$5000,2,FALSE)),\"\",VLOOKUP(H616,Database!$B$1:$C$5000,2,FALSE))","v":""},"",{"$error":"#N/A"},null,null,null,null,null,null,null,null,"",false,2,{"$f":"VLOOKUP(H616,Database!$B$1:$D$5000,3,0)","v":{"$error":"#N/A"}},true]
["",null,null,null,null,null,null,null,{"$f":"IF(ISERROR(VLOOKUP(H617,Database!$B$1:$C$5000,2,FALSE)),\"\",VLOOKUP(H617,Database!$B$1:$C$5000,2,FALSE))","v":""},"",{"$error":"#N/A"},null,null,null,null,null,null,null,null,"",false,2,{"$f":"VLOOKUP(H617,Database!$B$1:$D$5000,3,0)","v":{"$error":"#N/A"}},true]
["",null,null,null,null,null,null,null,{"$f":"IF(ISERROR(VLOOKUP(H618,Database!$B$1:$C$5000,2,FALSE)),\"\",VLOOKUP(H618,Database!$B$1:$C$5000,2,FALSE))","v":""},"",{"$error":"#N/A"},null,null,null,null,null,null,null,null,"",false,2,{"$f":"VLOOKUP(H618,Database!$B$1:$D$5000,3,0)","v":{"$error":"#N/A"}},true]
["",null,null,null,null,null,null,null,{"$f":"IF(ISERROR(VLOOKUP(H619,Database!$B$1:$C$5000,2,FALSE)),\"\",VLOOKUP(H619,Database!$B$1:$C$5000,2,FALSE))","v":""},"",{"$error":"#N/A"},null,null,null,null,null,null,null,null,"",false,2,{"$f":"VLOOKUP(H619,Database!$B$1:$D$5000,3,0)","v":{"$error":"#N/A"}},true]
["",null,null,null,null,null,null,null,{"$f":"IF(ISERROR(VLOOKUP(H620,Database!$B$1:$C$5000,2,FALSE)),\"\",VLOOKUP(H620,Database!$B$1:$C$5000,2,FALSE))","v":""},"",{"$error":"#N/A"},null,null,null,null,null,null,null,null,"",false,2,{"$f":"VLOOKUP(H620,Database!$B$1:$D$5000,3,0)","v":{"$error":"#N/A"}},true]
["",null,null,null,null,null,null,null,{"$f":"IF(ISERROR(VLOOKUP(H621,Database!$B$1:$C$5000,2,FALSE)),\"\",VLOOKUP(H621,Database!$B$1:$C$5000,2,FALSE))","v":""},"",{"$error":"#N/A"},null,null,null,null,null,null,null,null,"",false,2,{"$f":"VLOOKUP(H621,Database!$B$1:$D$5000,3,0)","v":{"$error":"#N/A"}},true]
["",null,null,null,null,null,null,null,{"$f":"IF(ISERROR(VLOOKUP(H622,Database!$B$1:$C$5000,2,FALSE)),\"\",VLOOKUP(H622,Database!$B$1:$C$5000,2,FALSE))","v":""},"",{"$error":"#N/A"},null,null,null,null,null,null,null,null,"",false,2,{"$f":"VLOOKUP(H622,Database!$B$1:$D$5000,3,0)","v":{"$error":"#N/A"}},true]
["",null,null,null,null,null,null,null,{"$f":"IF(ISERROR(VLOOKUP(H623,Database!$B$1:$C$5000,2,FALSE)),\"\",VLOOKUP(H623,Database!$B$1:$C$5000,2,FALSE))","v":""},"",{"$error":"#N/A"},null,null,null,null,null,null,null,null,"",false,2,{"$f":"VLOOKUP(H623,Database!$B$1:$D$5000,3,0)","v":{"$error":"#N/A"}},true]
["",null,null,null,null,null,null,null,{"$f":"IF(ISERROR(VLOOKUP(H624,Database!$B$1:$C$5000,2,FALSE)),\"\",VLOOKUP(H624,Database!$B$1:$C$5000,2,FALSE))","v":""},"",{"$error":"#N/A"},null,null,null,null,null,null,null,null,"",false,2,{"$f":"VLOOKUP(H624,Database!$B$1:$D$5000,3,0)","v":{"$error":"#N/A"}},true]
["",null,null,null,null,null,null,null,{"$f":"IF(ISERROR(VLOOKUP(H625,Database!$B$1:$C$5000,2,FALSE)),\"\",VLOOKUP(H625,Database!$B$1:$C$5000,2,FALSE))","v":""},"",{"$error":"#N/A"},null,null,null,null,null,null,null,null,"",false,2,{"$f":"VLOOKUP(H625,Database!$B$1:$D$5000,3,0)","v":{"$error":"#N/A"}},true]
["",null,null,null,null,null,null,null,{"$f":"IF(ISERROR(VLOOKUP(H626,Database!$B$1:$C$5000,2,FALSE)),\"\",VLOOKUP(H626,Database!$B$1:$C$5000,2,FALSE))","v":""},"",{"$error":"#N/A"},null,null,null,null,null,null,null,null,"",false,2,{"$f":"VLOOKUP(H626,Database!$B$1:$D$5000,3,0)","v":{"$error":"#N/A"}},true]
["",null,null,null,null,null,null,null,{"$f":"IF(ISERROR(VLOOKUP(H627,Database!$B$1:$C$5000,2,FALSE)),\"\",VLOOKUP(H627,Database!$B$1:$C$5000,2,FALSE))","v":""},"",{"$error":"#N/A"},null,null,null,null,null,null,null,null,"",false,2,{"$f":"VLOOKUP(H627,Database!$B$1:$D$5000,3,0)","v":{"$error":"#N/A"}},true]
["",null,null,null,null,null,null,null,{"$f":"IF(ISERROR(VLOOKUP(H628,Database!$B$1:$C$5000,2,FALSE)),\"\",VLOOKUP(H628,Database!$B$1:$C$5000,2,FALSE))","v":""},"",{"$error":"#N/A"},null,null,null,null,null,null,null,null,"",false,2,{"$f":"VLOOKUP(H628,Database!$B$1:$D$5000,3,0)","v":{"$error":"#N/A"}},true]
["",null,null,null,null,null,null,null,{"$f":"IF(ISERROR(VLOOKUP(H629,Database!$B$1:$C$5000,2,FALSE)),\"\",VLOOKUP(H629,Database!$B$1:$C$5000,2,FALSE))","v":""},"",{"$error":"#N/A"},null,null,null,null,null,null,null,null,"",false,2,{"$f":"VLOOKUP(H629,Database!$B$1:$D$5000,3,0)","v":{"$error":"#N/A"}},true]
["",null,null,null,null,null,null,null,{"$f":"IF(ISERROR(VLOOKUP(H630,Database!$B$1:$C$5000,2,FALSE)),\"\",VLOOKUP(H630,Database!$B$1:$C$5000,2,FALSE))","v":""},"",{"$error":"#N/A"},null,null,null,null,null,null,null,null,"",false,2,{"$f":"VLOOKUP(H630,Database!$B$1:$D$5000,3,0)","v":{"$error":"#N/A"}},true]
["",null,null,null,null,null,null,null,{"$f":"IF(ISERROR(VLOOKUP(H631,Database!$B$1:$C$5000,2,FALSE)),\"\",VLOOKUP(H631,Database!$B$1:$C$5000,2,FALSE))","v":""},"",{"$error":"#N/A"},null,null,null,null,null,null,null,null,"",false,2,{"$f":"VLOOKUP(H631,Database!$B$1:$D$5000,3,0)","v":{"$error":"#N/A"}},true]
["",null,null,null,null,null,null,null,{"$f":"IF(ISERROR(VLOOKUP(H632,Database!$B$1:$C$5000,2,FALSE)),\"\",VLOOKUP(H632,Database!$B$1:$C$5000,2,FALSE))","v":""},"",{"$error":"#N/A"},null,null,null,null,null,null,null,null,"",false,2,{"$f":"VLOOKUP(H632,Database!$B$1:$D$5000,3,0)","v":{"$error":"#N/A"}},true]
["",null,null,null,null,null,null,null,{"$f":"IF(ISERROR(VLOOKUP(H633,Database!$B$1:$C$5000,2,FALSE)),\"\",VLOOKUP(H633,Database!$B$1:$C$5000,2,FALSE))","v":""},"",{"$error":"#N/A"},null,null,null,null,null,null,null,null,"",false,2,{"$f":"VLOOKUP(H633,Database!$B$1:$D$5000,3,0)","v":{"$error":"#N/A"}},true]
["",null,null,null,null,null,null,null,{"$f":"IF(ISERROR(VLOOKUP(H634,Database!$B$1:$C$5000,2,FALSE)),\"\",VLOOKUP(H634,Database!$B$1:$C$5000,2,FALSE))","v":""},"",{"$error":"#N/A"},null,null,null,null,null,null,null,null,"",false,2,{"$f":"VLOOKUP(H634,Database!$B$1:$D$5000,3,0)","v":{"$error":"#N/A"}},true]
["",null,null,null,null,null,null,null,{"$f":"IF(ISERROR(VLOOKUP(H635,Database!$B$1:$C$5000,2,FALSE)),\"\",VLOOKUP(H635,Database!$B$1:$C$5000,2,FALSE))","v":""},"",{"$error":"#N/A"},null,null,null,null,null,null,null,null,"",false,2,{"$f":"VLOOKUP(H635,Database!$B$1:$D$5000,3,0)","v":{"$error":"#N/A"}},true]
["",null,null,null,null,null,null,null,{"$f":"IF(ISERROR(VLOOKUP(H636,Database!$B$1:$C$5000,2,FALSE)),\"\",VLOOKUP(H636,Database!$B$1:$C$5000,2,FALSE))","v":""},"",{"$error":"#N/A"},null,null,null,null,null,null,null,null,"",false,2,{"$f":"VLOOKUP(H636,Database!$B$1:$D$5000,3,0)","v":{"$error":"#N/A"}},true]
["",null,null,null,null,null,null,null,{"$f":"IF(ISERROR(VLOOKUP(H637,Database!$B$1:$C$5000,2,FALSE)),\"\",VLOOKUP(H637,Database!$B$1:$C$5000,2,FALSE))","v":""},"",{"$error":"#N/A"},null,null,null,null,null,null,null,null,"",false,2,{"$f":"VLOOKUP(H637,Database!$B$1:$D$5000,3,0)","v":{"$error":"#N/A"}},true]
["",null,null,null,null,null,null,null,{"$f":"IF(ISERROR(VLOOKUP(H638,Database!$B$1:$C$5000,2,FALSE)),\"\",VLOOKUP(H638,Database!$B$1:$C$5000,2,FALSE))","v":""},"",{"$error":"#N/A"},null,null,null,null,null,null,null,null,"",false,2,{"$f":"VLOOKUP(H638,Database!$B$1:$D$5000,3,0)","v":{"$error":"#N/A"}},true]
["",null,null,null,null,null,null,null,{"$f":"IF(ISERROR(VLOOKUP(H639,Database!$B$1:$C$5000,2,FALSE)),\"\",VLOOKUP(H639,Database!$B$1:$C$5000,2,FALSE))","v":""},"",{"$error":"#N/A"},null,null,null,null,null,null,null,null,"",false,2,{"$f":"VLOOKUP(H639,Database!$B$1:$D$5000,3,0)","v":{"$error":"#N/A"}},true]
["",null,null,null,null,null,null,null,{"$f":"IF(ISERROR(VLOOKUP(H640,Database!$B$1:$C$5000,2,FALSE)),\"\",VLOOKUP(H640,Database!$B$1:$C$5000,2,FALSE))","v":""},"",{"$error":"#N/A"},null,null,null,null,null,null,null,null,"",false,2,{"$f":"VLOOKUP(H640,Database!$B$1:$D$5000,3,0)","v":{"$error":"#N/A"}},true]
["",null,null,null,null,null,null,null,{"$f":"IF(ISERROR(VLOOKUP(H641,Database!$B$1:$C$5000,2,FALSE)),\"\",VLOOKUP(H641,Database!$B$1:$C$5000,2,FALSE))","v":""},"",{"$error":"#N/A"},null,null,null,null,null,null,null,null,"",false,2,{"$f":"VLOOKUP(H641,Database!$B$1:$D$5000,3,0)","v":{"$error":"#N/A"}},true]
["",null,null,null,null,null,null,null,{"$f":"IF(ISERROR(VLOOKUP(H642,Database!$B$1:$C$5000,2,FALSE)),\"\",VLOOKUP(H642,Database!$B$1:$C$5000,2,FALSE))","v":""},"",{"$error":"#N/A"},null,null,null,null,null,null,null,null,"",false,2,{"$f":"VLOOKUP(H642,Database!$B$1:$D$5000,3,0)","v":{"$error":"#N/A"}},true]
["",null,null,null,null,null,null,null,{"$f":"IF(ISERROR(VLOOKUP(H643,Database!$B$1:$C$5000,2,FALSE)),\"\",VLOOKUP(H643,Database!$B$1:$C$5000,2,FALSE))","v":""},"",{"$error":"#N/A"},null,null,null,null,null,null,null,null,"",false,2,{"$f":"VLOOKUP(H643,Database!$B$1:$D$5000,3,0)","v":{"$error":"#N/A"}},true]
["",null,null,null,null,null,null,null,{"$f":"IF(ISERROR(VLOOKUP(H644,Database!$B$1:$C$5000,2,FALSE)),\"\",VLOOKUP(H644,Database!$B$1:$C$5000,2,FALSE))","v":""},"",{"$error":"#N/A"},null,null,null,null,null,null,null,null,"",false,2,{"$f":"VLOOKUP(H644,Database!$B$1:$D$5000,3,0)","v":{"$error":"#N/A"}},true]
["",null,null,null,null,null,null,null,{"$f":"IF(ISERROR(VLOOKUP(H645,Database!$B$1:$C$5000,2,FALSE)),\"\",VLOOKUP(H645,Database!$B$1:$C$5000,2,FALSE))","v":""},"",{"$error":"#N/A"},null,null,null,null,null,null,null,null,"",false,2,{"$f":"VLOOKUP(H645,Database!$B$1:$D$5000,3,0)","v":{"$error":"#N/A"}},true]
["",null,null,null,null,null,null,null,{"$f":"IF(ISERROR(VLOOKUP(H646,Database!$B$1:$C$5000,2,FALSE)),\"\",VLOOKUP(H646,Database!$B$1:$C$5000,2,FALSE))","v":""},"",{"$error":"#N/A"},null,null,null,null,null,null,null,null,"",false,2,{"$f":"VLOOKUP(H646,Database!$B$1:$D$5000,3,0)","v":{"$error":"#N/A"}},true]
[{"$f":"IF(B647=\"\",\"\",ROW(A642))","v":""},null,null,null,null,null,null,null,{"$f":"IF(ISERROR(VLOOKUP(H647,Database!$B$1:$C$5000,2,FALSE)),\"\",VLOOKUP(H647,Database!$B$1:$C$5000,2,FALSE))","v":""},{"$f":"IF(V647=1,1,IF(AND(T647=0,F647=\"SSB\",V647<>\"\"),3,IF(AND(T647=0,F647=\"DIGI\",V647<>\"\"),2,IF(AND(T647=0,F647=\"CW\",V647<>\"\"),5,IF(H647=\"-\",\"\",T647)))))","v":""},{"$f":"IF(H647=\"-\",\"\",IF(AND(H647<>\"\",X647=TRUE),\"INDIPENDENT\",IF(W647=0,\"SCRIVI NOME NELLE NOTE\",W647)))","v":{"$error":"#N/A"}},null,null,null,null,null,null,null,null,{"$f":"IF(H647=\"\",\"\",IF(H647=$R$6,25,IF(OR(H647=$R$7,H647=$R$8,H647=$R$9,H647=$R$10,H647=$R$11,H647=$R$12,H647=$R$13,H647=$R$14,H647=$R$15,H647=$R$16,H647=$R$17,H647=$R$18,H647=$R$19,H647=$R$20,H647=$R$21,H647=$R$22,H647=$R$23),15,0)))","v":""},{"$f":"ISERROR(I647)","v":false},{"$f":"IF(H647=\"-\",\"\",IF(AND(T647=0,U647=FALSE,I647=\"\"),1,2))","v":2},{"$f":"VLOOKUP(H647,Database!$B$1:$D$5000,3,0)","v":{"$error":"#N/A"}},{"$f":"ISERROR(W647)","v":true}]
["",null,null,null,null,null,null,null,{"$f":"IF(ISERROR(VLOOKUP(H648,Database!$B$1:$C$5000,2,FALSE)),\"\",VLOOKUP(H648,Database!$B$1:$C$5000,2,FALSE))","v":""},"",{"$error":"#N/A"},null,null,null,null,null,null,null,null,"",false,2,{"$f":"VLOOKUP(H648,Database!$B$1:$D$5000,3,0)","v":{"$error":"#N/A"}},true]
["",null,null,null,null,null,null,null,{"$f":"IF(ISERROR(VLOOKUP(H649,Database!$B$1:$C$5000,2,FALSE)),\"\",VLOOKUP(H649,Database!$B$1:$C$5000,2,FALSE))","v":""},"",{"$error":"#N/A"},null,null,null,null,null,null,null,null,"",false,2,{"$f":"VLOOKUP(H649,Database!$B$1:$D$5000,3,0)","v":{"$error":"#N/A"}},true]
["",null,null,null,null,null,null,null,{"$f":"IF(ISERROR(VLOOKUP(H650,Database!$B$1:$C$5000,2,FALSE)),\"\",VLOOKUP(H650,Database!$B$1:$C$5000,2,FALSE))","v":""},"",{"$error":"#N/A"},null,null,null,null,null,null,null,null,"",false,2,{"$f":"VLOOKUP(H650,Database!$B$1:$D$5000,3,0)","v":{"$error":"#N/A"}},true]
["",null,null,null,null,null,null,null,{"$f":"IF(ISERROR(VLOOKUP(H651,Database!$B$1:$C$5000,2,FALSE)),\"\",VLOOKUP(H651,Database!$B$1:$C$5000,2,FALSE))","v":""},"",{"$error":"#N/A"},null,null,null,null,null,null,null,null,"",false,2,{"$f":"VLOOKUP(H651,Database!$B$1:$D$5000,3,0)","v":{"$error":"#N/A"}},true]
["",null,null,null,null,null,null,null,{"$f":"IF(ISERROR(VLOOKUP(H652,Database!$B$1:$C$5000,2,FALSE)),\"\",VLOOKUP(H652,Database!$B$1:$C$5000,2,FALSE))","v":""},"",{"$error":"#N/A"},null,null,null,null,null,null,null,null,"",false,2,{"$f":"VLOOKUP(H652,Database!$B$1:$D$5000,3,0)","v":{"$error":"#N/A"}},true]
["",null,null,null,null,null,null,null,{"$f":"IF(ISERROR(VLOOKUP(H653,Database!$B$1:$C$5000,2,FALSE)),\"\",VLOOKUP(H653,Database!$B$1:$C$5000,2,FALSE))","v":""},"",{"$error":"#N/A"},null,null,null,null,null,null,null,null,"",false,2,{"$f":"VLOOKUP(H653,Database!$B$1:$D$5000,3,0)","v":{"$error":"#N/A"}},true]
["",null,null,null,null,null,null,null,{"$f":"IF(ISERROR(VLOOKUP(H654,Database!$B$1:$C$5000,2,FALSE)),\"\",VLOOKUP(H654,Database!$B$1:$C$5000,2,FALSE))","v":""},"",{"$error":"#N/A"},null,null,null,null,null,null,null,null,"",false,2,{"$f":"VLOOKUP(H654,Database!$B$1:$D$5000,3,0)","v":{"$error":"#N/A"}},true]
["",null,null,null,null,null,null,null,{"$f":"IF(ISERROR(VLOOKUP(H655,Database!$B$1:$C$5000,2,FALSE)),\"\",VLOOKUP(H655,Database!$B$1:$C$5000,2,FALSE))","v":""},"",{"$error":"#N/A"},null,null,null,null,null,null,null,null,"",false,2,{"$f":"VLOOKUP(H655,Database!$B$1:$D$5000,3,0)","v":{"$error":"#N/A"}},true]
["",null,null,null,null,null,null,null,{"$f":"IF(ISERROR(VLOOKUP(H656,Database!$B$1:$C$5000,2,FALSE)),\"\",VLOOKUP(H656,Database!$B$1:$C$5000,2,FALSE))","v":""},"",{"$error":"#N/A"},null,null,null,null,null,null,null,null,"",false,2,{"$f":"VLOOKUP(H656,Database!$B$1:$D$5000,3,0)","v":{"$error":"#N/A"}},true]
["",null,null,null,null,null,null,null,{"$f":"IF(ISERROR(VLOOKUP(H657,Database!$B$1:$C$5000,2,FALSE)),\"\",VLOOKUP(H657,Database!$B$1:$C$5000,2,FALSE))","v":""},"",{"$error":"#N/A"},null,null,null,null,null,null,null,null,"",false,2,{"$f":"VLOOKUP(H657,Database!$B$1:$D$5000,3,0)","v":{"$error":"#N/A"}},true]
["",null,null,null,null,null,null,null,{"$f":"IF(ISERROR(VLOOKUP(H658,Database!$B$1:$C$5000,2,FALSE)),\"\",VLOOKUP(H658,Database!$B$1:$C$5000,2,FALSE))","v":""},"",{"$error":"#N/A"},null,null,null,null,null,null,null,null,"",false,2,{"$f":"VLOOKUP(H658,Database!$B$1:$D$5000,3,0)","v":{"$error":"#N/A"}},true]
["",null,null,null,null,null,null,null,{"$f":"IF(ISERROR(VLOOKUP(H659,Database!$B$1:$C$5000,2,FALSE)),\"\",VLOOKUP(H659,Database!$B$1:$C$5000,2,FALSE))","v":""},"",{"$error":"#N/A"},null,null,null,null,null,null,null,null,"",false,2,{"$f":"VLOOKUP(H659,Database!$B$1:$D$5000,3,0)","v":{"$error":"#N/A"}},true]
["",null,null,null,null,null,null,null,{"$f":"IF(ISERROR(VLOOKUP(H660,Database!$B$1:$C$5000,2,FALSE)),\"\",VLOOKUP(H660,Database!$B$1:$C$5000,2,FALSE))","v":""},"",{"$error":"#N/A"},null,null,null,null,null,null,null,null,"",false,2,{"$f":"VLOOKUP(H660,Database!$B$1:$D$5000,3,0)","v":{"$error":"#N/A"}},true]
["",null,null,null,null,null,null,null,{"$f":"IF(ISERROR(VLOOKUP(H661,Database!$B$1:$C$5000,2,FALSE)),\"\",VLOOKUP(H661,Database!$B$1:$C$5000,2,FALSE))","v":""},"",{"$error":"#N/A"},null,null,null,null,null,null,null,null,"",false,2,{"$f":"VLOOKUP(H661,Database!$B$1:$D$5000,3,0)","v":{"$error":"#N/A"}},true]
["",null,null,null,null,null,null,null,{"$f":"IF(ISERROR(VLOOKUP(H662,Database!$B$1:$C$5000,2,FALSE)),\"\",VLOOKUP(H662,Database!$B$1:$C$5000,2,FALSE))","v":""},"",{"$error":"#N/A"},null,null,null,null,null,null,null,null,"",false,2,{"$f":"VLOOKUP(H662,Database!$B$1:$D$5000,3,0)","v":{"$error":"#N/A"}},true]
["",null,null,null,null,null,null,null,{"$f":"IF(ISERROR(VLOOKUP(H663,Database!$B$1:$C$5000,2,FALSE)),\"\",VLOOKUP(H663,Database!$B$1:$C$5000,2,FALSE))","v":""},"",{"$error":"#N/A"},null,null,null,null,null,null,null,null,"",false,2,{"$f":"VLOOKUP(H663,Database!$B$1:$D$5000,3,0)","v":{"$error":"#N/A"}},true]
["",null,null,null,null,null,null,null,{"$f":"IF(ISERROR(VLOOKUP(H664,Database!$B$1:$C$5000,2,FALSE)),\"\",VLOOKUP(H664,Database!$B$1:$C$5000,2,FALSE))","v":""},"",{"$error":"#N/A"},null,null,null,null,null,null,null,null,"",false,2,{"$f":"VLOOKUP(H664,Database!$B$1:$D$5000,3,0)","v":{"$error":"#N/A"}},true]
["",null,null,null,null,null,null,null,{"$f":"IF(ISERROR(VLOOKUP(H665,Database!$B$1:$C$5000,2,FALSE)),\"\",VLOOKUP(H665,Database!$B$1:$C$5000,2,FALSE))","v":""},"",{"$error":"#N/A"},null,null,null,null,null,null,null,null,"",false,2,{"$f":"VLOOKUP(H665,Database!$B$1:$D$5000,3,0)","v":{"$error":"#N/A"}},true]
["",null,null,null,null,null,null,null,{"$f":"IF(ISERROR(VLOOKUP(H666,Database!$B$1:$C$5000,2,FALSE)),\"\",VLOOKUP(H666,Database!$B$1:$C$5000,2,FALSE))","v":""},"",{"$error":"#N/A"},null,null,null,null,null,null,null,null,"",false,2,{"$f":"VLOOKUP(H666,Database!$B$1:$D$5000,3,0)","v":{"$error":"#N/A"}},true]
["",null,null,null,null,null,null,null,{"$f":"IF(ISERROR(VLOOKUP(H667,Database!$B$1:$C$5000,2,FALSE)),\"\",VLOOKUP(H667,Database!$B$1:$C$5000,2,FALSE))","v":""},"",{"$error":"#N/A"},null,null,null,null,null,null,null,null,"",false,2,{"$f":"VLOOKUP(H667,Database!$B$1:$D$5000,3,0)","v":{"$error":"#N/A"}},true]
["",null,null,null,null,null,null,null,{"$f":"IF(ISERROR(VLOOKUP(H668,Database!$B$1:$C$5000,2,FALSE)),\"\",VLOOKUP(H668,Database!$B$1:$C$5000,2,FALSE))","v":""},"",{"$error":"#N/A"},null,null,null,null,null,null,null,null,"",false,2,{"$f":"VLOOKUP(H668,Database!$B$1:$D$5000,3,0)","v":{"$error":"#N/A"}},true]
["",null,null,null,null,null,null,null,{"$f":"IF(ISERROR(VLOOKUP(H669,Database!$B$1:$C$5000,2,FALSE)),\"\",VLOOKUP(H669,Database!$B$1:$C$5000,2,FALSE))","v":""},"",{"$error":"#N/A"},null,null,null,null,null,null,null,null,"",false,2,{"$f":"VLOOKUP(H669,Database!$B$1:$D$5000,3,0)","v":{"$error":"#N/A"}},true]
["",null,null,null,null,null,null,null,{"$f":"IF(ISERROR(VLOOKUP(H670,Database!$B$1:$C$5000,2,FALSE)),\"\",VLOOKUP(H670,Database!$B$1:$C$5000,2,FALSE))","v":""},"",{"$error":"#N/A"},null,null,null,null,null,null,null,null,"",false,2,{"$f":"VLOOKUP(H670,Database!$B$1:$D$5000,3,0)","v":{"$error":"#N/A"}},true]
["",null,null,null,null,null,null,null,{"$f":"IF(ISERROR(VLOOKUP(H671,Database!$B$1:$C$5000,2,FALSE)),\"\",VLOOKUP(H671,Database!$B$1:$C$5000,2,FALSE))","v":""},"",{"$error":"#N/A"},null,null,null,null,null,null,null,null,"",false,2,{"$f":"VLOOKUP(H671,Database!$B$1:$D$5000,3,0)","v":{"$error":"#N/A"}},true]
["",null,null,null,null,null,null,null,{"$f":"IF(ISERROR(VLOOKUP(H672,Database!$B$1:$C$5000,2,FALSE)),\"\",VLOOKUP(H672,Database!$B$1:$C$5000,2,FALSE))","v":""},"",{"$error":"#N/A"},null,null,null,null,null,null,null,null,"",false,2,{"$f":"VLOOKUP(H672,Database!$B$1:$D$5000,3,0)","v":{"$error":"#N/A"}},true]
["",null,null,null,null,null,null,null,{"$f":"IF(ISERROR(VLOOKUP(H673,Database!$B$1:$C$5000,2,FALSE)),\"\",VLOOKUP(H673,Database!$B$1:$C$5000,2,FALSE))","v":""},"",{"$error":"#N/A"},null,null,null,null,null,null,null,null,"",false,2,{"$f":"VLOOKUP(H673,Database!$B$1:$D$5000,3,0)","v":{"$error":"#N/A"}},true]
["",null,null,null,null,null,null,null,{"$f":"IF(ISERROR(VLOOKUP(H674,Database!$B$1:$C$5000,2,FALSE)),\"\",VLOOKUP(H674,Database!$B$1:$C$5000,2,FALSE))","v":""},"",{"$error":"#N/A"},null,null,null,null,null,null,null,null,"",false,2,{"$f":"VLOOKUP(H674,Database!$B$1:$D$5000,3,0)","v":{"$error":"#N/A"}},true]
["",null,null,null,null,null,null,null,{"$f":"IF(ISERROR(VLOOKUP(H675,Database!$B$1:$C$5000,2,FALSE)),\"\",VLOOKUP(H675,Database!$B$1:$C$5000,2,FALSE))","v":""},"",{"$error":"#N/A"},null,null,null,null,null,null,null,null,"",false,2,{"$f":"VLOOKUP(H675,Database!$B$1:$D$5000,3,0)","v":{"$error":"#N/A"}},true]
["",null,null,null,null,null,null,null,{"$f":"IF(ISERROR(VLOOKUP(H676,Database!$B$1:$C$5000,2,FALSE)),\"\",VLOOKUP(H676,Database!$B$1:$C$5000,2,FALSE))","v":""},"",{"$error":"#N/A"},null,null,null,null,null,null,null,null,"",false,2,{"$f":"VLOOKUP(H676,Database!$B$1:$D$5000,3,0)","v":{"$error":"#N/A"}},true]
["",null,null,null,null,null,null,null,{"$f":"IF(ISERROR(VLOOKUP(H677,Database!$B$1:$C$5000,2,FALSE)),\"\",VLOOKUP(H677,Database!$B$1:$C$5000,2,FALSE))","v":""},"",{"$error":"#N/A"},null,null,null,null,null,null,null,null,"",false,2,{"$f":"VLOOKUP(H677,Database!$B$1:$D$5000,3,0)","v":{"$error":"#N/A"}},true]
["",null,null,null,null,null,null,null,{"$f":"IF(ISERROR(VLOOKUP(H678,Database!$B$1:$C$5000,2,FALSE)),\"\",VLOOKUP(H678,Database!$B$1:$C$5000,2,FALSE))","v":""},"",{"$error":"#N/A"},null,null,null,null,null,null,null,null,"",false,2,{"$f":"VLOOKUP(H678,Database!$B$1:$D$5000,3,0)","v":{"$error":"#N/A"}},true]
["",null,null,null,null,null,null,null,{"$f":"IF(ISERROR(VLOOKUP(H679,Database!$B$1:$C$5000,2,FALSE)),\"\",VLOOKUP(H679,Database!$B$1:$C$5000,2,FALSE))","v":""},"",{"$error":"#N/A"},null,null,null,null,null,null,null,null,"",false,2,{"$f":"VLOOKUP(H679,Database!$B$1:$D$5000,3,0)","v":{"$error":"#N/A"}},true]
["",null,null,null,null,null,null,null,{"$f":"IF(ISERROR(VLOOKUP(H680,Database!$B$1:$C$5000,2,FALSE)),\"\",VLOOKUP(H680,Database!$B$1:$C$5000,2,FALSE))","v":""},"",{"$error":"#N/A"},null,null,null,null,null,null,null,null,"",false,2,{"$f":"VLOOKUP(H680,Database!$B$1:$D$5000,3,0)","v":{"$error":"#N/A"}},true]
["",null,null,null,null,null,null,null,{"$f":"IF(ISERROR(VLOOKUP(H681,Database!$B$1:$C$5000,2,FALSE)),\"\",VLOOKUP(H681,Database!$B$1:$C$5000,2,FALSE))","v":""},"",{"$error":"#N/A"},null,null,null,null,null,null,null,null,"",false,2,{"$f":"VLOOKUP(H681,Database!$B$1:$D$5000,3,0)","v":{"$error":"#N/A"}},true]
["",null,null,null,null,null,null,null,{"$f":"IF(ISERROR(VLOOKUP(H682,Database!$B$1:$C$5000,2,FALSE)),\"\",VLOOKUP(H682,Database!$B$1:$C$5000,2,FALSE))","v":""},"",{"$error":"#N/A"},null,null,null,null,null,null,null,null,"",false,2,{"$f":"VLOOKUP(H682,Database!$B$1:$D$5000,3,0)","v":{"$error":"#N/A"}},true]
["",null,null,null,null,null,null,null,{"$f":"IF(ISERROR(VLOOKUP(H683,Database!$B$1:$C$5000,2,FALSE)),\"\",VLOOKUP(H683,Database!$B$1:$C$5000,2,FALSE))","v":""},"",{"$error":"#N/A"},null,null,null,null,null,null,null,null,"",false,2,{"$f":"VLOOKUP(H683,Database!$B$1:$D$5000,3,0)","v":{"$error":"#N/A"}},true]
["",null,null,null,null,null,null,null,{"$f":"IF(ISERROR(VLOOKUP(H684,Database!$B$1:$C$5000,2,FALSE)),\"\",VLOOKUP(H684,Database!$B$1:$C$5000,2,FALSE))","v":""},"",{"$error":"#N/A"},null,null,null,null,null,null,null,null,"",false,2,{"$f":"VLOOKUP(H684,Database!$B$1:$D$5000,3,0)","v":{"$error":"#N/A"}},true]
["",null,null,null,null,null,null,null,{"$f":"IF(ISERROR(VLOOKUP(H685,Database!$B$1:$C$5000,2,FALSE)),\"\",VLOOKUP(H685,Database!$B$1:$C$5000,2,FALSE))","v":""},"",{"$error":"#N/A"},null,null,null,null,null,null,null,null,"",false,2,{"$f":"VLOOKUP(H685,Database!$B$1:$D$5000,3,0)","v":{"$error":"#N/A"}},true]
["",null,null,null,null,null,null,null,{"$f":"IF(ISERROR(VLOOKUP(H686,Database!$B$1:$C$5000,2,FALSE)),\"\",VLOOKUP(H686,Database!$B$1:$C$5000,2,FALSE))","v":""},"",{"$error":"#N/A"},null,null,null,null,null,null,null,null,"",false,2,{"$f":"VLOOKUP(H686,Database!$B$1:$D$5000,3,0)","v":{"$error":"#N/A"}},true]
["",null,null,null,null,null,null,null,{"$f":"IF(ISERROR(VLOOKUP(H687,Database!$B$1:$C$5000,2,FALSE)),\"\",VLOOKUP(H687,Database!$B$1:$C$5000,2,FALSE))","v":""},"",{"$error":"#N/A"},null,null,null,null,null,null,null,null,"",false,2,{"$f":"VLOOKUP(H687,Database!$B$1:$D$5000,3,0)","v":{"$error":"#N/A"}},true]
["",null,null,null,null,null,null,null,{"$f":"IF(ISERROR(VLOOKUP(H688,Database!$B$1:$C$5000,2,FALSE)),\"\",VLOOKUP(H688,Database!$B$1:$C$5000,2,FALSE))","v":""},"",{"$error":"#N/A"},null,null,null,null,null,null,null,null,"",false,2,{"$f":"VLOOKUP(H688,Database!$B$1:$D$5000,3,0)","v":{"$error":"#N/A"}},true]
["",null,null,null,null,null,null,null,{"$f":"IF(ISERROR(VLOOKUP(H689,Database!$B$1:$C$5000,2,FALSE)),\"\",VLOOKUP(H689,Database!$B$1:$C$5000,2,FALSE))","v":""},"",{"$error":"#N/A"},null,null,null,null,null,null,null,null,"",false,2,{"$f":"VLOOKUP(H689,Database!$B$1:$D$5000,3,0)","v":{"$error":"#N/A"}},true]
["",null,null,null,null,null,null,null,{"$f":"IF(ISERROR(VLOOKUP(H690,Database!$B$1:$C$5000,2,FALSE)),\"\",VLOOKUP(H690,Database!$B$1:$C$5000,2,FALSE))","v":""},"",{"$error":"#N/A"},null,null,null,null,null,null,null,null,"",false,2,{"$f":"VLOOKUP(H690,Database!$B$1:$D$5000,3,0)","v":{"$error":"#N/A"}},true]
["",null,null,null,null,null,null,null,{"$f":"IF(ISERROR(VLOOKUP(H691,Database!$B$1:$C$5000,2,FALSE)),\"\",VLOOKUP(H691,Database!$B$1:$C$5000,2,FALSE))","v":""},"",{"$error":"#N/A"},null,null,null,null,null,null,null,null,"",false,2,{"$f":"VLOOKUP(H691,Database!$B$1:$D$5000,3,0)","v":{"$error":"#N/A"}},true]
["",null,null,null,null,null,null,null,{"$f":"IF(ISERROR(VLOOKUP(H692,Database!$B$1:$C$5000,2,FALSE)),\"\",VLOOKUP(H692,Database!$B$1:$C$5000,2,FALSE))","v":""},"",{"$error":"#N/A"},null,null,null,null,null,null,null,null,"",false,2,{"$f":"VLOOKUP(H692,Database!$B$1:$D$5000,3,0)","v":{"$error":"#N/A"}},true]
["",null,null,null,null,null,null,null,{"$f":"IF(ISERROR(VLOOKUP(H693,Database!$B$1:$C$5000,2,FALSE)),\"\",VLOOKUP(H693,Database!$B$1:$C$5000,2,FALSE))","v":""},"",{"$error":"#N/A"},null,null,null,null,null,null,null,null,"",false,2,{"$f":"VLOOKUP(H693,Database!$B$1:$D$5000,3,0)","v":{"$error":"#N/A"}},true]
["",null,null,null,null,null,null,null,{"$f":"IF(ISERROR(VLOOKUP(H694,Database!$B$1:$C$5000,2,FALSE)),\"\",VLOOKUP(H694,Database!$B$1:$C$5000,2,FALSE))","v":""},"",{"$error":"#N/A"},null,null,null,null,null,null,null,null,"",false,2,{"$f":"VLOOKUP(H694,Database!$B$1:$D$5000,3,0)","v":{"$error":"#N/A"}},true]
["",null,null,null,null,null,null,null,{"$f":"IF(ISERROR(VLOOKUP(H695,Database!$B$1:$C$5000,2,FALSE)),\"\",VLOOKUP(H695,Database!$B$1:$C$5000,2,FALSE))","v":""},"",{"$error":"#N/A"},null,null,null,null,null,null,null,null,"",false,2,{"$f":"VLOOKUP(H695,Database!$B$1:$D$5000,3,0)","v":{"$error":"#N/A"}},true]
["",null,null,null,null,null,null,null,{"$f":"IF(ISERROR(VLOOKUP(H696,Database!$B$1:$C$5000,2,FALSE)),\"\",VLOOKUP(H696,Database!$B$1:$C$5000,2,FALSE))","v":""},"",{"$error":"#N/A"},null,null,null,null,null,null,null,null,"",false,2,{"$f":"VLOOKUP(H696,Database!$B$1:$D$5000,3,0)","v":{"$error":"#N/A"}},true]
["",null,null,null,null,null,null,null,{"$f":"IF(ISERROR(VLOOKUP(H697,Database!$B$1:$C$5000,2,FALSE)),\"\",VLOOKUP(H697,Database!$B$1:$C$5000,2,FALSE))","v":""},"",{"$error":"#N/A"},null,null,null,null,null,null,null,null,"",false,2,{"$f":"VLOOKUP(H697,Database!$B$1:$D$5000,3,0)","v":{"$error":"#N/A"}},true]
["",null,null,null,null,null,null,null,{"$f":"IF(ISERROR(VLOOKUP(H698,Database!$B$1:$C$5000,2,FALSE)),\"\",VLOOKUP(H698,Database!$B$1:$C$5000,2,FALSE))","v":""},"",{"$error":"#N/A"},null,null,null,null,null,null,null,null,"",false,2,{"$f":"VLOOKUP(H698,Database!$B$1:$D$5000,3,0)","v":{"$error":"#N/A"}},true]
["",null,null,null,null,null,null,null,{"$f":"IF(ISERROR(VLOOKUP(H699,Database!$B$1:$C$5000,2,FALSE)),\"\",VLOOKUP(H699,Database!$B$1:$C$5000,2,FALSE))","v":""},"",{"$error":"#N/A"},null,null,null,null,null,null,null,null,"",false,2,{"$f":"VLOOKUP(H699,Database!$B$1:$D$5000,3,0)","v":{"$error":"#N/A"}},true]
["",null,null,null,null,null,null,null,{"$f":"IF(ISERROR(VLOOKUP(H700,Database!$B$1:$C$5000,2,FALSE)),\"\",VLOOKUP(H700,Database!$B$1:$C$5000,2,FALSE))","v":""},"",{"$error":"#N/A"},null,null,null,null,null,null,null,null,"",false,2,{"$f":"VLOOKUP(H700,Database!$B$1:$D$5000,3,0)","v":{"$error":"#N/A"}},true]
["",null,null,null,null,null,null,null,{"$f":"IF(ISERROR(VLOOKUP(H701,Database!$B$1:$C$5000,2,FALSE)),\"\",VLOOKUP(H701,Database!$B$1:$C$5000,2,FALSE))","v":""},"",{"$error":"#N/A"},null,null,null,null,null,null,null,null,"",false,2,{"$f":"VLOOKUP(H701,Database!$B$1:$D$5000,3,0)","v":{"$error":"#N/A"}},true]
["",null,null,null,null,null,null,null,{"$f":"IF(ISERROR(VLOOKUP(H702,Database!$B$1:$C$5000,2,FALSE)),\"\",VLOOKUP(H702,Database!$B$1:$C$5000,2,FALSE))","v":""},"",{"$error":"#N/A"},null,null,null,null,null,null,null,null,"",false,2,{"$f":"VLOOKUP(H702,Database!$B$1:$D$5000,3,0)","v":{"$error":"#N/A"}},true]
["",null,null,null,null,null,null,null,{"$f":"IF(ISERROR(VLOOKUP(H703,Database!$B$1:$C$5000,2,FALSE)),\"\",VLOOKUP(H703,Database!$B$1:$C$5000,2,FALSE))","v":""},"",{"$error":"#N/A"},null,null,null,null,null,null,null,null,"",false,2,{"$f":"VLOOKUP(H703,Database!$B$1:$D$5000,3,0)","v":{"$error":"#N/A"}},true]
["",null,null,null,null,null,null,null,{"$f":"IF(ISERROR(VLOOKUP(H704,Database!$B$1:$C$5000,2,FALSE)),\"\",VLOOKUP(H704,Database!$B$1:$C$5000,2,FALSE))","v":""},"",{"$error":"#N/A"},null,null,null,null,null,null,null,null,"",false,2,{"$f":"VLOOKUP(H704,Database!$B$1:$D$5000,3,0)","v":{"$error":"#N/A"}},true]
["",null,null,null,null,null,null,null,{"$f":"IF(ISERROR(VLOOKUP(H705,Database!$B$1:$C$5000,2,FALSE)),\"\",VLOOKUP(H705,Database!$B$1:$C$5000,2,FALSE))","v":""},"",{"$error":"#N/A"},null,null,null,null,null,null,null,null,"",false,2,{"$f":"VLOOKUP(H705,Database!$B$1:$D$5000,3,0)","v":{"$error":"#N/A"}},true]
["",null,null,null,null,null,null,null,{"$f":"IF(ISERROR(VLOOKUP(H706,Database!$B$1:$C$5000,2,FALSE)),\"\",VLOOKUP(H706,Database!$B$1:$C$5000,2,FALSE))","v":""},"",{"$error":"#N/A"},null,null,null,null,null,null,null,null,"",false,2,{"$f":"VLOOKUP(H706,Database!$B$1:$D$5000,3,0)","v":{"$error":"#N/A"}},true]
["",null,null,null,null,null,null,null,{"$f":"IF(ISERROR(VLOOKUP(H707,Database!$B$1:$C$5000,2,FALSE)),\"\",VLOOKUP(H707,Database!$B$1:$C$5000,2,FALSE))","v":""},"",{"$error":"#N/A"},null,null,null,null,null,null,null,null,"",false,2,{"$f":"VLOOKUP(H707,Database!$B$1:$D$5000,3,0)","v":{"$error":"#N/A"}},true]
["",null,null,null,null,null,null,null,{"$f":"IF(ISERROR(VLOOKUP(H708,Database!$B$1:$C$5000,2,FALSE)),\"\",VLOOKUP(H708,Database!$B$1:$C$5000,2,FALSE))","v":""},"",{"$error":"#N/A"},null,null,null,null,null,null,null,null,"",false,2,{"$f":"VLOOKUP(H708,Database!$B$1:$D$5000,3,0)","v":{"$error":"#N/A"}},true]
["",null,null,null,null,null,null,null,{"$f":"IF(ISERROR(VLOOKUP(H709,Database!$B$1:$C$5000,2,FALSE)),\"\",VLOOKUP(H709,Database!$B$1:$C$5000,2,FALSE))","v":""},"",{"$error":"#N/A"},null,null,null,null,null,null,null,null,"",false,2,{"$f":"VLOOKUP(H709,Database!$B$1:$D$5000,3,0)","v":{"$error":"#N/A"}},true]
["",null,null,null,null,null,null,null,{"$f":"IF(ISERROR(VLOOKUP(H710,Database!$B$1:$C$5000,2,FALSE)),\"\",VLOOKUP(H710,Database!$B$1:$C$5000,2,FALSE))","v":""},"",{"$error":"#N/A"},null,null,null,null,null,null,null,null,"",false,2,{"$f":"VLOOKUP(H710,Database!$B$1:$D$5000,3,0)","v":{"$error":"#N/A"}},true]
[{"$f":"IF(B711=\"\",\"\",ROW(A706))","v":""},null,null,null,null,null,null,null,{"$f":"IF(ISERROR(VLOOKUP(H711,Database!$B$1:$C$5000,2,FALSE)),\"\",VLOOKUP(H711,Database!$B$1:$C$5000,2,FALSE))","v":""},{"$f":"IF(V711=1,1,IF(AND(T711=0,F711=\"SSB\",V711<>\"\"),3,IF(AND(T711=0,F711=\"DIGI\",V711<>\"\"),2,IF(AND(T711=0,F711=\"CW\",V711<>\"\"),5,IF(H711=\"-\",\"\",T711)))))","v":""},{"$f":"IF(H711=\"-\",\"\",IF(AND(H711<>\"\",X711=TRUE),\"INDIPENDENT\",IF(W711=0,\"SCRIVI NOME NELLE NOTE\",W711)))","v":{"$error":"#N/A"}},null,null,null,null,null,null,null,null,{"$f":"IF(H711=\"\",\"\",IF(H711=$R$6,25,IF(OR(H711=$R$7,H711=$R$8,H711=$R$9,H711=$R$10,H711=$R$11,H711=$R$12,H711=$R$13,H711=$R$14,H711=$R$15,H711=$R$16,H711=$R$17,H711=$R$18,H711=$R$19,H711=$R$20,H711=$R$21,H711=$R$22,H711=$R$23),15,0)))","v":""},{"$f":"ISERROR(I711)","v":false},{"$f":"IF(H711=\"-\",\"\",IF(AND(T711=0,U711=FALSE,I711=\"\"),1,2))","v":2},{"$f":"VLOOKUP(H711,Database!$B$1:$D$5000,3,0)","v":{"$error":"#N/A"}},{"$f":"ISERROR(W711)","v":true}]
["",null,null,null,null,null,null,null,{"$f":"IF(ISERROR(VLOOKUP(H712,Database!$B$1:$C$5000,2,FALSE)),\"\",VLOOKUP(H712,Database!$B$1:$C$5000,2,FALSE))","v":""},"",{"$error":"#N/A"},null,null,null,null,null,null,null,null,"",false,2,{"$f":"VLOOKUP(H712,Database!$B$1:$D$5000,3,0)","v":{"$error":"#N/A"}},true]
["",null,null,null,null,null,null,null,{"$f":"IF(ISERROR(VLOOKUP(H713,Database!$B$1:$C$5000,2,FALSE)),\"\",VLOOKUP(H713,Database!$B$1:$C$5000,2,FALSE))","v":""},"",{"$error":"#N/A"},null,null,null,null,null,null,null,null,"",false,2,{"$f":"VLOOKUP(H713,Database!$B$1:$D$5000,3,0)","v":{"$error":"#N/A"}},true]
["",null,null,null,null,null,null,null,{"$f":"IF(ISERROR(VLOOKUP(H714,Database!$B$1:$C$5000,2,FALSE)),\"\",VLOOKUP(H714,Database!$B$1:$C$5000,2,FALSE))","v":""},"",{"$error":"#N/A"},null,null,null,null,null,null,null,null,"",false,2,{"$f":"VLOOKUP(H714,Database!$B$1:$D$5000,3,0)","v":{"$error":"#N/A"}},true]
["",null,null,null,null,null,null,null,{"$f":"IF(ISERROR(VLOOKUP(H715,Database!$B$1:$C$5000,2,FALSE)),\"\",VLOOKUP(H715,Database!$B$1:$C$5000,2,FALSE))","v":""},"",{"$error":"#N/A"},null,null,null,null,null,null,null,null,"",false,2,{"$f":"VLOOKUP(H715,Database!$B$1:$D$5000,3,0)","v":{"$error":"#N/A"}},true]
["",null,null,null,null,null,null,null,{"$f":"IF(ISERROR(VLOOKUP(H716,Database!$B$1:$C$5000,2,FALSE)),\"\",VLOOKUP(H716,Database!$B$1:$C$5000,2,FALSE))","v":""},"",{"$error":"#N/A"},null,null,null,null,null,null,null,null,"",false,2,{"$f":"VLOOKUP(H716,Database!$B$1:$D$5000,3,0)","v":{"$error":"#N/A"}},true]
["",null,null,null,null,null,null,null,{"$f":"IF(ISERROR(VLOOKUP(H717,Database!$B$1:$C$5000,2,FALSE)),\"\",VLOOKUP(H717,Database!$B$1:$C$5000,2,FALSE))","v":""},"",{"$error":"#N/A"},null,null,null,null,null,null,null,null,"",false,2,{"$f":"VLOOKUP(H717,Database!$B$1:$D$5000,3,0)","v":{"$error":"#N/A"}},true]
["",null,null,null,null,null,null,null,{"$f":"IF(ISERROR(VLOOKUP(H718,Database!$B$1:$C$5000,2,FALSE)),\"\",VLOOKUP(H718,Database!$B$1:$C$5000,2,FALSE))","v":""},"",{"$error":"#N/A"},null,null,null,null,null,null,null,null,"",false,2,{"$f":"VLOOKUP(H718,Database!$B$1:$D$5000,3,0)","v":{"$error":"#N/A"}},true]
["",null,null,null,null,null,null,null,{"$f":"IF(ISERROR(VLOOKUP(H719,Database!$B$1:$C$5000,2,FALSE)),\"\",VLOOKUP(H719,Database!$B$1:$C$5000,2,FALSE))","v":""},"",{"$error":"#N/A"},null,null,null,null,null,null,null,null,"",false,2,{"$f":"VLOOKUP(H719,Database!$B$1:$D$5000,3,0)","v":{"$error":"#N/A"}},true]
["",null,null,null,null,null,null,null,{"$f":"IF(ISERROR(VLOOKUP(H720,Database!$B$1:$C$5000,2,FALSE)),\"\",VLOOKUP(H720,Database!$B$1:$C$5000,2,FALSE))","v":""},"",{"$error":"#N/A"},null,null,null,null,null,null,null,null,"",false,2,{"$f":"VLOOKUP(H720,Database!$B$1:$D$5000,3,0)","v":{"$error":"#N/A"}},true]
["",null,null,null,null,null,null,null,{"$f":"IF(ISERROR(VLOOKUP(H721,Database!$B$1:$C$5000,2,FALSE)),\"\",VLOOKUP(H721,Database!$B$1:$C$5000,2,FALSE))","v":""},"",{"$error":"#N/A"},null,null,null,null,null,null,null,null,"",false,2,{"$f":"VLOOKUP(H721,Database!$B$1:$D$5000,3,0)","v":{"$error":"#N/A"}},true]
["",null,null,null,null,null,null,null,{"$f":"IF(ISERROR(VLOOKUP(H722,Database!$B$1:$C$5000,2,FALSE)),\"\",VLOOKUP(H722,Database!$B$1:$C$5000,2,FALSE))","v":""},"",{"$error":"#N/A"},null,null,null,null,null,null,null,null,"",false,2,{"$f":"VLOOKUP(H722,Database!$B$1:$D$5000,3,0)","v":{"$error":"#N/A"}},true]
["",null,null,null,null,null,null,null,{"$f":"IF(ISERROR(VLOOKUP(H723,Database!$B$1:$C$5000,2,FALSE)),\"\",VLOOKUP(H723,Database!$B$1:$C$5000,2,FALSE))","v":""},"",{"$error":"#N/A"},null,null,null,null,null,null,null,null,"",false,2,{"$f":"VLOOKUP(H723,Database!$B$1:$D$5000,3,0)","v":{"$error":"#N/A"}},true]
["",null,null,null,null,null,null,null,{"$f":"IF(ISERROR(VLOOKUP(H724,Database!$B$1:$C$5000,2,FALSE)),\"\",VLOOKUP(H724,Database!$B$1:$C$5000,2,FALSE))","v":""},"",{"$error":"#N/A"},null,null,null,null,null,null,null,null,"",false,2,{"$f":"VLOOKUP(H724,Database!$B$1:$D$5000,3,0)","v":{"$error":"#N/A"}},true]
["",null,null,null,null,null,null,null,{"$f":"IF(ISERROR(VLOOKUP(H725,Database!$B$1:$C$5000,2,FALSE)),\"\",VLOOKUP(H725,Database!$B$1:$C$5000,2,FALSE))","v":""},"",{"$error":"#N/A"},null,null,null,null,null,null,null,null,"",false,2,{"$f":"VLOOKUP(H725,Database!$B$1:$D$5000,3,0)","v":{"$error":"#N/A"}},true]
["",null,null,null,null,null,null,null,{"$f":"IF(ISERROR(VLOOKUP(H726,Database!$B$1:$C$5000,2,FALSE)),\"\",VLOOKUP(H726,Database!$B$1:$C$5000,2,FALSE))","v":""},"",{"$error":"#N/A"},null,null,null,null,null,null,null,null,"",false,2,{"$f":"VLOOKUP(H726,Database!$B$1:$D$5000,3,0)","v":{"$error":"#N/A"}},true]
["",null,null,null,null,null,null,null,{"$f":"IF(ISERROR(VLOOKUP(H727,Database!$B$1:$C$5000,2,FALSE)),\"\",VLOOKUP(H727,Database!$B$1:$C$5000,2,FALSE))","v":""},"",{"$error":"#N/A"},null,null,null,null,null,null,null,null,"",false,2,{"$f":"VLOOKUP(H727,Database!$B$1:$D$5000,3,0)","v":{"$error":"#N/A"}},true]
["",null,null,null,null,null,null,null,{"$f":"IF(ISERROR(VLOOKUP(H728,Database!$B$1:$C$5000,2,FALSE)),\"\",VLOOKUP(H728,Database!$B$1:$C$5000,2,FALSE))","v":""},"",{"$error":"#N/A"},null,null,null,null,null,null,null,null,"",false,2,{"$f":"VLOOKUP(H728,Database!$B$1:$D$5000,3,0)","v":{"$error":"#N/A"}},true]
["",null,null,null,null,null,null,null,{"$f":"IF(ISERROR(VLOOKUP(H729,Database!$B$1:$C$5000,2,FALSE)),\"\",VLOOKUP(H729,Database!$B$1:$C$5000,2,FALSE))","v":""},"",{"$error":"#N/A"},null,null,null,null,null,null,null,null,"",false,2,{"$f":"VLOOKUP(H729,Database!$B$1:$D$5000,3,0)","v":{"$error":"#N/A"}},true]
["",null,null,null,null,null,null,null,{"$f":"IF(ISERROR(VLOOKUP(H730,Database!$B$1:$C$5000,2,FALSE)),\"\",VLOOKUP(H730,Database!$B$1:$C$5000,2,FALSE))","v":""},"",{"$error":"#N/A"},null,null,null,null,null,null,null,null,"",false,2,{"$f":"VLOOKUP(H730,Database!$B$1:$D$5000,3,0)","v":{"$error":"#N/A"}},true]
["",null,null,null,null,null,null,null,{"$f":"IF(ISERROR(VLOOKUP(H731,Database!$B$1:$C$5000,2,FALSE)),\"\",VLOOKUP(H731,Database!$B$1:$C$5000,2,FALSE))","v":""},"",{"$error":"#N/A"},null,null,null,null,null,null,null,null,"",false,2,{"$f":"VLOOKUP(H731,Database!$B$1:$D$5000,3,0)","v":{"$error":"#N/A"}},true]
["",null,null,null,null,null,null,null,{"$f":"IF(ISERROR(VLOOKUP(H732,Database!$B$1:$C$5000,2,FALSE)),\"\",VLOOKUP(H732,Database!$B$1:$C$5000,2,FALSE))","v":""},"",{"$error":"#N/A"},null,null,null,null,null,null,null,null,"",false,2,{"$f":"VLOOKUP(H732,Database!$B$1:$D$5000,3,0)","v":{"$error":"#N/A"}},true]
["",null,null,null,null,null,null,null,{"$f":"IF(ISERROR(VLOOKUP(H733,Database!$B$1:$C$5000,2,FALSE)),\"\",VLOOKUP(H733,Database!$B$1:$C$5000,2,FALSE))","v":""},"",{"$error":"#N/A"},null,null,null,null,null,null,null,null,"",false,2,{"$f":"VLOOKUP(H733,Database!$B$1:$D$5000,3,0)","v":{"$error":"#N/A"}},true]
["",null,null,null,null,null,null,null,{"$f":"IF(ISERROR(VLOOKUP(H734,Database!$B$1:$C$5000,2,FALSE)),\"\",VLOOKUP(H734,Database!$B$1:$C$5000,2,FALSE))","v":""},"",{"$error":"#N/A"},null,null,null,null,null,null,null,null,"",false,2,{"$f":"VLOOKUP(H734,Database!$B$1:$D$5000,3,0)","v":{"$error":"#N/A"}},true]
["",null,null,null,null,null,null,null,{"$f":"IF(ISERROR(VLOOKUP(H735,Database!$B$1:$C$5000,2,FALSE)),\"\",VLOOKUP(H735,Database!$B$1:$C$5000,2,FALSE))","v":""},"",{"$error":"#N/A"},null,null,null,null,null,null,null,null,"",false,2,{"$f":"VLOOKUP(H735,Database!$B$1:$D$5000,3,0)","v":{"$error":"#N/A"}},true]
["",null,null,null,null,null,null,null,{"$f":"IF(ISERROR(VLOOKUP(H736,Database!$B$1:$C$5000,2,FALSE)),\"\",VLOOKUP(H736,Database!$B$1:$C$5000,2,FALSE))","v":""},"",{"$error":"#N/A"},null,null,null,null,null,null,null,null,"",false,2,{"$f":"VLOOKUP(H736,Database!$B$1:$D$5000,3,0)","v":{"$error":"#N/A"}},true]
["",null,null,null,null,null,null,null,{"$f":"IF(ISERROR(VLOOKUP(H737,Database!$B$1:$C$5000,2,FALSE)),\"\",VLOOKUP(H737,Database!$B$1:$C$5000,2,FALSE))","v":""},"",{"$error":"#N/A"},null,null,null,null,null,null,null,null,"",false,2,{"$f":"VLOOKUP(H737,Database!$B$1:$D$5000,3,0)","v":{"$error":"#N/A"}},true]
["",null,null,null,null,null,null,null,{"$f":"IF(ISERROR(VLOOKUP(H738,Database!$B$1:$C$5000,2,FALSE)),\"\",VLOOKUP(H738,Database!$B$1:$C$5000,2,FALSE))","v":""},"",{"$error":"#N/A"},null,null,null,null,null,null,null,null,"",false,2,{"$f":"VLOOKUP(H738,Database!$B$1:$D$5000,3,0)","v":{"$error":"#N/A"}},true]
["",null,null,null,null,null,null,null,{"$f":"IF(ISERROR(VLOOKUP(H739,Database!$B$1:$C$5000,2,FALSE)),\"\",VLOOKUP(H739,Database!$B$1:$C$5000,2,FALSE))","v":""},"",{"$error":"#N/A"},null,null,null,null,null,null,null,null,"",false,2,{"$f":"VLOOKUP(H739,Database!$B$1:$D$5000,3,0)","v":{"$error":"#N/A"}},true]
["",null,null,null,null,null,null,null,{"$f":"IF(ISERROR(VLOOKUP(H740,Database!$B$1:$C$5000,2,FALSE)),\"\",VLOOKUP(H740,Database!$B$1:$C$5000,2,FALSE))","v":""},"",{"$error":"#N/A"},null,null,null,null,null,null,null,null,"",false,2,{"$f":"VLOOKUP(H740,Database!$B$1:$D$5000,3,0)","v":{"$error":"#N/A"}},true]
["",null,null,null,null,null,null,null,{"$f":"IF(ISERROR(VLOOKUP(H741,Database!$B$1:$C$5000,2,FALSE)),\"\",VLOOKUP(H741,Database!$B$1:$C$5000,2,FALSE))","v":""},"",{"$error":"#N/A"},null,null,null,null,null,null,null,null,"",false,2,{"$f":"VLOOKUP(H741,Database!$B$1:$D$5000,3,0)","v":{"$error":"#N/A"}},true]
["",null,null,null,null,null,null,null,{"$f":"IF(ISERROR(VLOOKUP(H742,Database!$B$1:$C$5000,2,FALSE)),\"\",VLOOKUP(H742,Database!$B$1:$C$5000,2,FALSE))","v":""},"",{"$error":"#N/A"},null,null,null,null,null,null,null,null,"",false,2,{"$f":"VLOOKUP(H742,Database!$B$1:$D$5000,3,0)","v":{"$error":"#N/A"}},true]
["",null,null,null,null,null,null,null,{"$f":"IF(ISERROR(VLOOKUP(H743,Database!$B$1:$C$5000,2,FALSE)),\"\",VLOOKUP(H743,Database!$B$1:$C$5000,2,FALSE))","v":""},"",{"$error":"#N/A"},null,null,null,null,null,null,null,null,"",false,2,{"$f":"VLOOKUP(H743,Database!$B$1:$D$5000,3,0)","v":{"$error":"#N/A"}},true]
["",null,null,null,null,null,null,null,{"$f":"IF(ISERROR(VLOOKUP(H744,Database!$B$1:$C$5000,2,FALSE)),\"\",VLOOKUP(H744,Database!$B$1:$C$5000,2,FALSE))","v":""},"",{"$error":"#N/A"},null,null,null,null,null,null,null,null,"",false,2,{"$f":"VLOOKUP(H744,Database!$B$1:$D$5000,3,0)","v":{"$error":"#N/A"}},true]
["",null,null,null,null,null,null,null,{"$f":"IF(ISERROR(VLOOKUP(H745,Database!$B$1:$C$5000,2,FALSE)),\"\",VLOOKUP(H745,Database!$B$1:$C$5000,2,FALSE))","v":""},"",{"$error":"#N/A"},null,null,null,null,null,null,null,null,"",false,2,{"$f":"VLOOKUP(H745,Database!$B$1:$D$5000,3,0)","v":{"$error":"#N/A"}},true]
["",null,null,null,null,null,null,null,{"$f":"IF(ISERROR(VLOOKUP(H746,Database!$B$1:$C$5000,2,FALSE)),\"\",VLOOKUP(H746,Database!$B$1:$C$5000,2,FALSE))","v":""},"",{"$error":"#N/A"},null,null,null,null,null,null,null,null,"",false,2,{"$f":"VLOOKUP(H746,Database!$B$1:$D$5000,3,0)","v":{"$error":"#N/A"}},true]
["",null,null,null,null,null,null,null,{"$f":"IF(ISERROR(VLOOKUP(H747,Database!$B$1:$C$5000,2,FALSE)),\"\",VLOOKUP(H747,Database!$B$1:$C$5000,2,FALSE))","v":""},"",{"$error":"#N/A"},null,null,null,null,null,null,null,null,"",false,2,{"$f":"VLOOKUP(H747,Database!$B$1:$D$5000,3,0)","v":{"$error":"#N/A"}},true]
["",null,null,null,null,null,null,null,{"$f":"IF(ISERROR(VLOOKUP(H748,Database!$B$1:$C$5000,2,FALSE)),\"\",VLOOKUP(H748,Database!$B$1:$C$5000,2,FALSE))","v":""},"",{"$error":"#N/A"},null,null,null,null,null,null,null,null,"",false,2,{"$f":"VLOOKUP(H748,Database!$B$1:$D$5000,3,0)","v":{"$error":"#N/A"}},true]
["",null,null,null,null,null,null,null,{"$f":"IF(ISERROR(VLOOKUP(H749,Database!$B$1:$C$5000,2,FALSE)),\"\",VLOOKUP(H749,Database!$B$1:$C$5000,2,FALSE))","v":""},"",{"$error":"#N/A"},null,null,null,null,null,null,null,null,"",false,2,{"$f":"VLOOKUP(H749,Database!$B$1:$D$5000,3,0)","v":{"$error":"#N/A"}},true]
["",null,null,null,null,null,null,null,{"$f":"IF(ISERROR(VLOOKUP(H750,Database!$B$1:$C$5000,2,FALSE)),\"\",VLOOKUP(H750,Database!$B$1:$C$5000,2,FALSE))","v":""},"",{"$error":"#N/A"},null,null,null,null,null,null,null,null,"",false,2,{"$f":"VLOOKUP(H750,Database!$B$1:$D$5000,3,0)","v":{"$error":"#N/A"}},true]
["",null,null,null,null,null,null,null,{"$f":"IF(ISERROR(VLOOKUP(H751,Database!$B$1:$C$5000,2,FALSE)),\"\",VLOOKUP(H751,Database!$B$1:$C$5000,2,FALSE))","v":""},"",{"$error":"#N/A"},null,null,null,null,null,null,null,null,"",false,2,{"$f":"VLOOKUP(H751,Database!$B$1:$D$5000,3,0)","v":{"$error":"#N/A"}},true]
["",null,null,null,null,null,null,null,{"$f":"IF(ISERROR(VLOOKUP(H752,Database!$B$1:$C$5000,2,FALSE)),\"\",VLOOKUP(H752,Database!$B$1:$C$5000,2,FALSE))","v":""},"",{"$error":"#N/A"},null,null,null,null,null,null,null,null,"",false,2,{"$f":"VLOOKUP(H752,Database!$B$1:$D$5000,3,0)","v":{"$error":"#N/A"}},true]
["",null,null,null,null,null,null,null,{"$f":"IF(ISERROR(VLOOKUP(H753,Database!$B$1:$C$5000,2,FALSE)),\"\",VLOOKUP(H753,Database!$B$1:$C$5000,2,FALSE))","v":""},"",{"$error":"#N/A"},null,null,null,null,null,null,null,null,"",false,2,{"$f":"VLOOKUP(H753,Database!$B$1:$D$5000,3,0)","v":{"$error":"#N/A"}},true]
["",null,null,null,null,null,null,null,{"$f":"IF(ISERROR(VLOOKUP(H754,Database!$B$1:$C$5000,2,FALSE)),\"\",VLOOKUP(H754,Database!$B$1:$C$5000,2,FALSE))","v":""},"",{"$error":"#N/A"},null,null,null,null,null,null,null,null,"",false,2,{"$f":"VLOOKUP(H754,Database!$B$1:$D$5000,3,0)","v":{"$error":"#N/A"}},true]
["",null,null,null,null,null,null,null,{"$f":"IF(ISERROR(VLOOKUP(H755,Database!$B$1:$C$5000,2,FALSE)),\"\",VLOOKUP(H755,Database!$B$1:$C$5000,2,FALSE))","v":""},"",{"$error":"#N/A"},null,null,null,null,null,null,null,null,"",false,2,{"$f":"VLOOKUP(H755,Database!$B$1:$D$5000,3,0)","v":{"$error":"#N/A"}},true]
["",null,null,null,null,null,null,null,{"$f":"IF(ISERROR(VLOOKUP(H756,Database!$B$1:$C$5000,2,FALSE)),\"\",VLOOKUP(H756,Database!$B$1:$C$5000,2,FALSE))","v":""},"",{"$error":"#N/A"},null,null,null,null,null,null,null,null,"",false,2,{"$f":"VLOOKUP(H756,Database!$B$1:$D$5000,3,0)","v":{"$error":"#N/A"}},true]
["",null,null,null,null,null,null,null,{"$f":"IF(ISERROR(VLOOKUP(H757,Database!$B$1:$C$5000,2,FALSE)),\"\",VLOOKUP(H757,Database!$B$1:$C$5000,2,FALSE))","v":""},"",{"$error":"#N/A"},null,null,null,null,null,null,null,null,"",false,2,{"$f":"VLOOKUP(H757,Database!$B$1:$D$5000,3,0)","v":{"$error":"#N/A"}},true]
["",null,null,null,null,null,null,null,{"$f":"IF(ISERROR(VLOOKUP(H758,Database!$B$1:$C$5000,2,FALSE)),\"\",VLOOKUP(H758,Database!$B$1:$C$5000,2,FALSE))","v":""},"",{"$error":"#N/A"},null,null,null,null,null,null,null,null,"",false,2,{"$f":"VLOOKUP(H758,Database!$B$1:$D$5000,3,0)","v":{"$error":"#N/A"}},true]
["",null,null,null,null,null,null,null,{"$f":"IF(ISERROR(VLOOKUP(H759,Database!$B$1:$C$5000,2,FALSE)),\"\",VLOOKUP(H759,Database!$B$1:$C$5000,2,FALSE))","v":""},"",{"$error":"#N/A"},null,null,null,null,null,null,null,null,"",false,2,{"$f":"VLOOKUP(H759,Database!$B$1:$D$5000,3,0)","v":{"$error":"#N/A"}},true]
["",null,null,null,null,null,null,null,{"$f":"IF(ISERROR(VLOOKUP(H760,Database!$B$1:$C$5000,2,FALSE)),\"\",VLOOKUP(H760,Database!$B$1:$C$5000,2,FALSE))","v":""},"",{"$error":"#N/A"},null,null,null,null,null,null,null,null,"",false,2,{"$f":"VLOOKUP(H760,Database!$B$1:$D$5000,3,0)","v":{"$error":"#N/A"}},true]
["",null,null,null,null,null,null,null,{"$f":"IF(ISERROR(VLOOKUP(H761,Database!$B$1:$C$5000,2,FALSE)),\"\",VLOOKUP(H761,Database!$B$1:$C$5000,2,FALSE))","v":""},"",{"$error":"#N/A"},null,null,null,null,null,null,null,null,"",false,2,{"$f":"VLOOKUP(H761,Database!$B$1:$D$5000,3,0)","v":{"$error":"#N/A"}},true]
["",null,null,null,null,null,null,null,{"$f":"IF(ISERROR(VLOOKUP(H762,Database!$B$1:$C$5000,2,FALSE)),\"\",VLOOKUP(H762,Database!$B$1:$C$5000,2,FALSE))","v":""},"",{"$error":"#N/A"},null,null,null,null,null,null,null,null,"",false,2,{"$f":"VLOOKUP(H762,Database!$B$1:$D$5000,3,0)","v":{"$error":"#N/A"}},true]
["",null,null,null,null,null,null,null,{"$f":"IF(ISERROR(VLOOKUP(H763,Database!$B$1:$C$5000,2,FALSE)),\"\",VLOOKUP(H763,Database!$B$1:$C$5000,2,FALSE))","v":""},"",{"$error":"#N/A"},null,null,null,null,null,null,null,null,"",false,2,{"$f":"VLOOKUP(H763,Database!$B$1:$D$5000,3,0)","v":{"$error":"#N/A"}},true]
["",null,null,null,null,null,null,null,{"$f":"IF(ISERROR(VLOOKUP(H764,Database!$B$1:$C$5000,2,FALSE)),\"\",VLOOKUP(H764,Database!$B$1:$C$5000,2,FALSE))","v":""},"",{"$error":"#N/A"},null,null,null,null,null,null,null,null,"",false,2,{"$f":"VLOOKUP(H764,Database!$B$1:$D$5000,3,0)","v":{"$error":"#N/A"}},true]
["",null,null,null,null,null,null,null,{"$f":"IF(ISERROR(VLOOKUP(H765,Database!$B$1:$C$5000,2,FALSE)),\"\",VLOOKUP(H765,Database!$B$1:$C$5000,2,FALSE))","v":""},"",{"$error":"#N/A"},null,null,null,null,null,null,null,null,"",false,2,{"$f":"VLOOKUP(H765,Database!$B$1:$D$5000,3,0)","v":{"$error":"#N/A"}},true]
["",null,null,null,null,null,null,null,{"$f":"IF(ISERROR(VLOOKUP(H766,Database!$B$1:$C$5000,2,FALSE)),\"\",VLOOKUP(H766,Database!$B$1:$C$5000,2,FALSE))","v":""},"",{"$error":"#N/A"},null,null,null,null,null,null,null,null,"",false,2,{"$f":"VLOOKUP(H766,Database!$B$1:$D$5000,3,0)","v":{"$error":"#N/A"}},true]
["",null,null,null,null,null,null,null,{"$f":"IF(ISERROR(VLOOKUP(H767,Database!$B$1:$C$5000,2,FALSE)),\"\",VLOOKUP(H767,Database!$B$1:$C$5000,2,FALSE))","v":""},"",{"$error":"#N/A"},null,null,null,null,null,null,null,null,"",false,2,{"$f":"VLOOKUP(H767,Database!$B$1:$D$5000,3,0)","v":{"$error":"#N/A"}},true]
["",null,null,null,null,null,null,null,{"$f":"IF(ISERROR(VLOOKUP(H768,Database!$B$1:$C$5000,2,FALSE)),\"\",VLOOKUP(H768,Database!$B$1:$C$5000,2,FALSE))","v":""},"",{"$error":"#N/A"},null,null,null,null,null,null,null,null,"",false,2,{"$f":"VLOOKUP(H768,Database!$B$1:$D$5000,3,0)","v":{"$error":"#N/A"}},true]
["",null,null,null,null,null,null,null,{"$f":"IF(ISERROR(VLOOKUP(H769,Database!$B$1:$C$5000,2,FALSE)),\"\",VLOOKUP(H769,Database!$B$1:$C$5000,2,FALSE))","v":""},"",{"$error":"#N/A"},null,null,null,null,null,null,null,null,"",false,2,{"$f":"VLOOKUP(H769,Database!$B$1:$D$5000,3,0)","v":{"$error":"#N/A"}},true]
["",null,null,null,null,null,null,null,{"$f":"IF(ISERROR(VLOOKUP(H770,Database!$B$1:$C$5000,2,FALSE)),\"\",VLOOKUP(H770,Database!$B$1:$C$5000,2,FALSE))","v":""},"",{"$error":"#N/A"},null,null,null,null,null,null,null,null,"",false,2,{"$f":"VLOOKUP(H770,Database!$B$1:$D$5000,3,0)","v":{"$error":"#N/A"}},true]
["",null,null,null,null,null,null,null,{"$f":"IF(ISERROR(VLOOKUP(H771,Database!$B$1:$C$5000,2,FALSE)),\"\",VLOOKUP(H771,Database!$B$1:$C$5000,2,FALSE))","v":""},"",{"$error":"#N/A"},null,null,null,null,null,null,null,null,"",false,2,{"$f":"VLOOKUP(H771,Database!$B$1:$D$5000,3,0)","v":{"$error":"#N/A"}},true]
["",null,null,null,null,null,null,null,{"$f":"IF(ISERROR(VLOOKUP(H772,Database!$B$1:$C$5000,2,FALSE)),\"\",VLOOKUP(H772,Database!$B$1:$C$5000,2,FALSE))","v":""},"",{"$error":"#N/A"},null,null,null,null,null,null,null,null,"",false,2,{"$f":"VLOOKUP(H772,Database!$B$1:$D$5000,3,0)","v":{"$error":"#N/A"}},true]
["",null,null,null,null,null,null,null,{"$f":"IF(ISERROR(VLOOKUP(H773,Database!$B$1:$C$5000,2,FALSE)),\"\",VLOOKUP(H773,Database!$B$1:$C$5000,2,FALSE))","v":""},"",{"$error":"#N/A"},null,null,null,null,null,null,null,null,"",false,2,{"$f":"VLOOKUP(H773,Database!$B$1:$D$5000,3,0)","v":{"$error":"#N/A"}},true]
["",null,null,null,null,null,null,null,{"$f":"IF(ISERROR(VLOOKUP(H774,Database!$B$1:$C$5000,2,FALSE)),\"\",VLOOKUP(H774,Database!$B$1:$C$5000,2,FALSE))","v":""},"",{"$error":"#N/A"},null,null,null,null,null,null,null,null,"",false,2,{"$f":"VLOOKUP(H774,Database!$B$1:$D$5000,3,0)","v":{"$error":"#N/A"}},true]
[{"$f":"IF(B775=\"\",\"\",ROW(A770))","v":""},null,null,null,null,null,null,null,{"$f":"IF(ISERROR(VLOOKUP(H775,Database!$B$1:$C$5000,2,FALSE)),\"\",VLOOKUP(H775,Database!$B$1:$C$5000,2,FALSE))","v":""},{"$f":"IF(V775=1,1,IF(AND(T775=0,F775=\"SSB\",V775<>\"\"),3,IF(AND(T775=0,F775=\"DIGI\",V775<>\"\"),2,IF(AND(T775=0,F775=\"CW\",V775<>\"\"),5,IF(H775=\"-\",\"\",T775)))))","v":""},{"$f":"IF(H775=\"-\",\"\",IF(AND(H775<>\"\",X775=TRUE),\"INDIPENDENT\",IF(W775=0,\"SCRIVI NOME NELLE NOTE\",W775)))","v":{"$error":"#N/A"}},null,null,null,null,null,null,null,null,{"$f":"IF(H775=\"\",\"\",IF(H775=$R$6,25,IF(OR(H775=$R$7,H775=$R$8,H775=$R$9,H775=$R$10,H775=$R$11,H775=$R$12,H775=$R$13,H775=$R$14,H775=$R$15,H775=$R$16,H775=$R$17,H775=$R$18,H775=$R$19,H775=$R$20,H775=$R$21,H775=$R$22,H775=$R$23),15,0)))","v":""},{"$f":"ISERROR(I775)","v":false},{"$f":"IF(H775=\"-\",\"\",IF(AND(T775=0,U775=FALSE,I775=\"\"),1,2))","v":2},{"$f":"VLOOKUP(H775,Database!$B$1:$D$5000,3,0)","v":{"$error":"#N/A"}},{"$f":"ISERROR(W775)","v":true}]
["",null,null,null,null,null,null,null,{"$f":"IF(ISERROR(VLOOKUP(H776,Database!$B$1:$C$5000,2,FALSE)),\"\",VLOOKUP(H776,Database!$B$1:$C$5000,2,FALSE))","v":""},"",{"$error":"#N/A"},null,null,null,null,null,null,null,null,"",false,2,{"$f":"VLOOKUP(H776,Database!$B$1:$D$5000,3,0)","v":{"$error":"#N/A"}},true]
["",null,null,null,null,null,null,null,{"$f":"IF(ISERROR(VLOOKUP(H777,Database!$B$1:$C$5000,2,FALSE)),\"\",VLOOKUP(H777,Database!$B$1:$C$5000,2,FALSE))","v":""},"",{"$error":"#N/A"},null,null,null,null,null,null,null,null,"",false,2,{"$f":"VLOOKUP(H777,Database!$B$1:$D$5000,3,0)","v":{"$error":"#N/A"}},true]
["",null,null,null,null,null,null,null,{"$f":"IF(ISERROR(VLOOKUP(H778,Database!$B$1:$C$5000,2,FALSE)),\"\",VLOOKUP(H778,Database!$B$1:$C$5000,2,FALSE))","v":""},"",{"$error":"#N/A"},null,null,null,null,null,null,null,null,"",false,2,{"$f":"VLOOKUP(H778,Database!$B$1:$D$5000,3,0)","v":{"$error":"#N/A"}},true]
["",null,null,null,null,null,null,null,{"$f":"IF(ISERROR(VLOOKUP(H779,Database!$B$1:$C$5000,2,FALSE)),\"\",VLOOKUP(H779,Database!$B$1:$C$5000,2,FALSE))","v":""},"",{"$error":"#N/A"},null,null,null,null,null,null,null,null,"",false,2,{"$f":"VLOOKUP(H779,Database!$B$1:$D$5000,3,0)","v":{"$error":"#N/A"}},true]
["",null,null,null,null,null,null,null,{"$f":"IF(ISERROR(VLOOKUP(H780,Database!$B$1:$C$5000,2,FALSE)),\"\",VLOOKUP(H780,Database!$B$1:$C$5000,2,FALSE))","v":""},"",{"$error":"#N/A"},null,null,null,null,null,null,null,null,"",false,2,{"$f":"VLOOKUP(H780,Database!$B$1:$D$5000,3,0)","v":{"$error":"#N/A"}},true]
["",null,null,null,null,null,null,null,{"$f":"IF(ISERROR(VLOOKUP(H781,Database!$B$1:$C$5000,2,FALSE)),\"\",VLOOKUP(H781,Database!$B$1:$C$5000,2,FALSE))","v":""},"",{"$error":"#N/A"},null,null,null,null,null,null,null,null,"",false,2,{"$f":"VLOOKUP(H781,Database!$B$1:$D$5000,3,0)","v":{"$error":"#N/A"}},true]
["",null,null,null,null,null,null,null,{"$f":"IF(ISERROR(VLOOKUP(H782,Database!$B$1:$C$5000,2,FALSE)),\"\",VLOOKUP(H782,Database!$B$1:$C$5000,2,FALSE))","v":""},"",{"$error":"#N/A"},null,null,null,null,null,null,null,null,"",false,2,{"$f":"VLOOKUP(H782,Database!$B$1:$D$5000,3,0)","v":{"$error":"#N/A"}},true]
["",null,null,null,null,null,null,null,{"$f":"IF(ISERROR(VLOOKUP(H783,Database!$B$1:$C$5000,2,FALSE)),\"\",VLOOKUP(H783,Database!$B$1:$C$5000,2,FALSE))","v":""},"",{"$error":"#N/A"},null,null,null,null,null,null,null,null,"",false,2,{"$f":"VLOOKUP(H783,Database!$B$1:$D$5000,3,0)","v":{"$error":"#N/A"}},true]
["",null,null,null,null,null,null,null,{"$f":"IF(ISERROR(VLOOKUP(H784,Database!$B$1:$C$5000,2,FALSE)),\"\",VLOOKUP(H784,Database!$B$1:$C$5000,2,FALSE))","v":""},"",{"$error":"#N/A"},null,null,null,null,null,null,null,null,"",false,2,{"$f":"VLOOKUP(H784,Database!$B$1:$D$5000,3,0)","v":{"$error":"#N/A"}},true]
["",null,null,null,null,null,null,null,{"$f":"IF(ISERROR(VLOOKUP(H785,Database!$B$1:$C$5000,2,FALSE)),\"\",VLOOKUP(H785,Database!$B$1:$C$5000,2,FALSE))","v":""},"",{"$error":"#N/A"},null,null,null,null,null,null,null,null,"",false,2,{"$f":"VLOOKUP(H785,Database!$B$1:$D$5000,3,0)","v":{"$error":"#N/A"}},true]
["",null,null,null,null,null,null,null,{"$f":"IF(ISERROR(VLOOKUP(H786,Database!$B$1:$C$5000,2,FALSE)),\"\",VLOOKUP(H786,Database!$B$1:$C$5000,2,FALSE))","v":""},"",{"$error":"#N/A"},null,null,null,null,null,null,null,null,"",false,2,{"$f":"VLOOKUP(H786,Database!$B$1:$D$5000,3,0)","v":{"$error":"#N/A"}},true]
["",null,null,null,null,null,null,null,{"$f":"IF(ISERROR(VLOOKUP(H787,Database!$B$1:$C$5000,2,FALSE)),\"\",VLOOKUP(H787,Database!$B$1:$C$5000,2,FALSE))","v":""},"",{"$error":"#N/A"},null,null,null,null,null,null,null,null,"",false,2,{"$f":"VLOOKUP(H787,Database!$B$1:$D$5000,3,0)","v":{"$error":"#N/A"}},true]
["",null,null,null,null,null,null,null,{"$f":"IF(ISERROR(VLOOKUP(H788,Database!$B$1:$C$5000,2,FALSE)),\"\",VLOOKUP(H788,Database!$B$1:$C$5000,2,FALSE))","v":""},"",{"$error":"#N/A"},null,null,null,null,null,null,null,null,"",false,2,{"$f":"VLOOKUP(H788,Database!$B$1:$D$5000,3,0)","v":{"$error":"#N/A"}},true]
["",null,null,null,null,null,null,null,{"$f":"IF(ISERROR(VLOOKUP(H789,Database!$B$1:$C$5000,2,FALSE)),\"\",VLOOKUP(H789,Database!$B$1:$C$5000,2,FALSE))","v":""},"",{"$error":"#N/A"},null,null,null,null,null,null,null,null,"",false,2,{"$f":"VLOOKUP(H789,Database!$B$1:$D$5000,3,0)","v":{"$error":"#N/A"}},true]
["",null,null,null,null,null,null,null,{"$f":"IF(ISERROR(VLOOKUP(H790,Database!$B$1:$C$5000,2,FALSE)),\"\",VLOOKUP(H790,Database!$B$1:$C$5000,2,FALSE))","v":""},"",{"$error":"#N/A"},null,null,null,null,null,null,null,null,"",false,2,{"$f":"VLOOKUP(H790,Database!$B$1:$D$5000,3,0)","v":{"$error":"#N/A"}},true]
["",null,null,null,null,null,null,null,{"$f":"IF(ISERROR(VLOOKUP(H791,Database!$B$1:$C$5000,2,FALSE)),\"\",VLOOKUP(H791,Database!$B$1:$C$5000,2,FALSE))","v":""},"",{"$error":"#N/A"},null,null,null,null,null,null,null,null,"",false,2,{"$f":"VLOOKUP(H791,Database!$B$1:$D$5000,3,0)","v":{"$error":"#N/A"}},true]
["",null,null,null,null,null,null,null,{"$f":"IF(ISERROR(VLOOKUP(H792,Database!$B$1:$C$5000,2,FALSE)),\"\",VLOOKUP(H792,Database!$B$1:$C$5000,2,FALSE))","v":""},"",{"$error":"#N/A"},null,null,null,null,null,null,null,null,"",false,2,{"$f":"VLOOKUP(H792,Database!$B$1:$D$5000,3,0)","v":{"$error":"#N/A"}},true]
["",null,null,null,null,null,null,null,{"$f":"IF(ISERROR(VLOOKUP(H793,Database!$B$1:$C$5000,2,FALSE)),\"\",VLOOKUP(H793,Database!$B$1:$C$5000,2,FALSE))","v":""},"",{"$error":"#N/A"},null,null,null,null,null,null,null,null,"",false,2,{"$f":"VLOOKUP(H793,Database!$B$1:$D$5000,3,0)","v":{"$error":"#N/A"}},true]
["",null,null,null,null,null,null,null,{"$f":"IF(ISERROR(VLOOKUP(H794,Database!$B$1:$C$5000,2,FALSE)),\"\",VLOOKUP(H794,Database!$B$1:$C$5000,2,FALSE))","v":""},"",{"$error":"#N/A"},null,null,null,null,null,null,null,null,"",false,2,{"$f":"VLOOKUP(H794,Database!$B$1:$D$5000,3,0)","v":{"$error":"#N/A"}},true]
["",null,null,null,null,null,null,null,{"$f":"IF(ISERROR(VLOOKUP(H795,Database!$B$1:$C$5000,2,FALSE)),\"\",VLOOKUP(H795,Database!$B$1:$C$5000,2,FALSE))","v":""},"",{"$error":"#N/A"},null,null,null,null,null,null,null,null,"",false,2,{"$f":"VLOOKUP(H795,Database!$B$1:$D$5000,3,0)","v":{"$error":"#N/A"}},true]
["",null,null,null,null,null,null,null,{"$f":"IF(ISERROR(VLOOKUP(H796,Database!$B$1:$C$5000,2,FALSE)),\"\",VLOOKUP(H796,Database!$B$1:$C$5000,2,FALSE))","v":""},"",{"$error":"#N/A"},null,null,null,null,null,null,null,null,"",false,2,{"$f":"VLOOKUP(H796,Database!$B$1:$D$5000,3,0)","v":{"$error":"#N/A"}},true]
["",null,null,null,null,null,null,null,{"$f":"IF(ISERROR(VLOOKUP(H797,Database!$B$1:$C$5000,2,FALSE)),\"\",VLOOKUP(H797,Database!$B$1:$C$5000,2,FALSE))","v":""},"",{"$error":"#N/A"},null,null,null,null,null,null,null,null,"",false,2,{"$f":"VLOOKUP(H797,Database!$B$1:$D$5000,3,0)","v":{"$error":"#N/A"}},true]
["",null,null,null,null,null,null,null,{"$f":"IF(ISERROR(VLOOKUP(H798,Database!$B$1:$C$5000,2,FALSE)),\"\",VLOOKUP(H798,Database!$B$1:$C$5000,2,FALSE))","v":""},"",{"$error":"#N/A"},null,null,null,null,null,null,null,null,"",false,2,{"$f":"VLOOKUP(H798,Database!$B$1:$D$5000,3,0)","v":{"$error":"#N/A"}},true]
["",null,null,null,null,null,null,null,{"$f":"IF(ISERROR(VLOOKUP(H799,Database!$B$1:$C$5000,2,FALSE)),\"\",VLOOKUP(H799,Database!$B$1:$C$5000,2,FALSE))","v":""},"",{"$error":"#N/A"},null,null,null,null,null,null,null,null,"",false,2,{"$f":"VLOOKUP(H799,Database!$B$1:$D$5000,3,0)","v":{"$error":"#N/A"}},true]
["",null,null,null,null,null,null,null,{"$f":"IF(ISERROR(VLOOKUP(H800,Database!$B$1:$C$5000,2,FALSE)),\"\",VLOOKUP(H800,Database!$B$1:$C$5000,2,FALSE))","v":""},"",{"$error":"#N/A"},null,null,null,null,null,null,null,null,"",false,2,{"$f":"VLOOKUP(H800,Database!$B$1:$D$5000,3,0)","v":{"$error":"#N/A"}},true]
["",null,null,null,null,null,null,null,{"$f":"IF(ISERROR(VLOOKUP(H801,Database!$B$1:$C$5000,2,FALSE)),\"\",VLOOKUP(H801,Database!$B$1:$C$5000,2,FALSE))","v":""},"",{"$error":"#N/A"},null,null,null,null,null,null,null,null,"",false,2,{"$f":"VLOOKUP(H801,Database!$B$1:$D$5000,3,0)","v":{"$error":"#N/A"}},true]
["",null,null,null,null,null,null,null,{"$f":"IF(ISERROR(VLOOKUP(H802,Database!$B$1:$C$5000,2,FALSE)),\"\",VLOOKUP(H802,Database!$B$1:$C$5000,2,FALSE))","v":""},"",{"$error":"#N/A"},null,null,null,null,null,null,null,null,"",false,2,{"$f":"VLOOKUP(H802,Database!$B$1:$D$5000,3,0)","v":{"$error":"#N/A"}},true]
["",null,null,null,null,null,null,null,{"$f":"IF(ISERROR(VLOOKUP(H803,Database!$B$1:$C$5000,2,FALSE)),\"\",VLOOKUP(H803,Database!$B$1:$C$5000,2,FALSE))","v":""},"",{"$error":"#N/A"},null,null,null,null,null,null,null,null,"",false,2,{"$f":"VLOOKUP(H803,Database!$B$1:$D$5000,3,0)","v":{"$error":"#N/A"}},true]
["",null,null,null,null,null,null,null,{"$f":"IF(ISERROR(VLOOKUP(H804,Database!$B$1:$C$5000,2,FALSE)),\"\",VLOOKUP(H804,Database!$B$1:$C$5000,2,FALSE))","v":""},"",{"$error":"#N/A"},null,null,null,null,null,null,null,null,"",false,2,{"$f":"VLOOKUP(H804,Database!$B$1:$D$5000,3,0)","v":{"$error":"#N/A"}},true]
["",null,null,null,null,null,null,null,{"$f":"IF(ISERROR(VLOOKUP(H805,Database!$B$1:$C$5000,2,FALSE)),\"\",VLOOKUP(H805,Database!$B$1:$C$5000,2,FALSE))","v":""},"",{"$error":"#N/A"},null,null,null,null,null,null,null,null,"",false,2,{"$f":"VLOOKUP(H805,Database!$B$1:$D$5000,3,0)","v":{"$error":"#N/A"}},true]
["",null,null,null,null,null,null,null,{"$f":"IF(ISERROR(VLOOKUP(H806,Database!$B$1:$C$5000,2,FALSE)),\"\",VLOOKUP(H806,Database!$B$1:$C$5000,2,FALSE))","v":""},"",{"$error":"#N/A"},null,null,null,null,null,null,null,null,"",false,2,{"$f":"VLOOKUP(H806,Database!$B$1:$D$5000,3,0)","v":{"$error":"#N/A"}},true]
["",null,null,null,null,null,null,null,{"$f":"IF(ISERROR(VLOOKUP(H807,Database!$B$1:$C$5000,2,FALSE)),\"\",VLOOKUP(H807,Database!$B$1:$C$5000,2,FALSE))","v":""},"",{"$error":"#N/A"},null,null,null,null,null,null,null,null,"",false,2,{"$f":"VLOOKUP(H807,Database!$B$1:$D$5000,3,0)","v":{"$error":"#N/A"}},true]
["",null,null,null,null,null,null,null,{"$f":"IF(ISERROR(VLOOKUP(H808,Database!$B$1:$C$5000,2,FALSE)),\"\",VLOOKUP(H808,Database!$B$1:$C$5000,2,FALSE))","v":""},"",{"$error":"#N/A"},null,null,null,null,null,null,null,null,"",false,2,{"$f":"VLOOKUP(H808,Database!$B$1:$D$5000,3,0)","v":{"$error":"#N/A"}},true]
["",null,null,null,null,null,null,null,{"$f":"IF(ISERROR(VLOOKUP(H809,Database!$B$1:$C$5000,2,FALSE)),\"\",VLOOKUP(H809,Database!$B$1:$C$5000,2,FALSE))","v":""},"",{"$error":"#N/A"},null,null,null,null,null,null,null,null,"",false,2,{"$f":"VLOOKUP(H809,Database!$B$1:$D$5000,3,0)","v":{"$error":"#N/A"}},true]
["",null,null,null,null,null,null,null,{"$f":"IF(ISERROR(VLOOKUP(H810,Database!$B$1:$C$5000,2,FALSE)),\"\",VLOOKUP(H810,Database!$B$1:$C$5000,2,FALSE))","v":""},"",{"$error":"#N/A"},null,null,null,null,null,null,null,null,"",false,2,{"$f":"VLOOKUP(H810,Database!$B$1:$D$5000,3,0)","v":{"$error":"#N/A"}},true]
["",null,null,null,null,null,null,null,{"$f":"IF(ISERROR(VLOOKUP(H811,Database!$B$1:$C$5000,2,FALSE)),\"\",VLOOKUP(H811,Database!$B$1:$C$5000,2,FALSE))","v":""},"",{"$error":"#N/A"},null,null,null,null,null,null,null,null,"",false,2,{"$f":"VLOOKUP(H811,Database!$B$1:$D$5000,3,0)","v":{"$error":"#N/A"}},true]
["",null,null,null,null,null,null,null,{"$f":"IF(ISERROR(VLOOKUP(H812,Database!$B$1:$C$5000,2,FALSE)),\"\",VLOOKUP(H812,Database!$B$1:$C$5000,2,FALSE))","v":""},"",{"$error":"#N/A"},null,null,null,null,null,null,null,null,"",false,2,{"$f":"VLOOKUP(H812,Database!$B$1:$D$5000,3,0)","v":{"$error":"#N/A"}},true]
["",null,null,null,null,null,null,null,{"$f":"IF(ISERROR(VLOOKUP(H813,Database!$B$1:$C$5000,2,FALSE)),\"\",VLOOKUP(H813,Database!$B$1:$C$5000,2,FALSE))","v":""},"",{"$error":"#N/A"},null,null,null,null,null,null,null,null,"",false,2,{"$f":"VLOOKUP(H813,Database!$B$1:$D$5000,3,0)","v":{"$error":"#N/A"}},true]
["",null,null,null,null,null,null,null,{"$f":"IF(ISERROR(VLOOKUP(H814,Database!$B$1:$C$5000,2,FALSE)),\"\",VLOOKUP(H814,Database!$B$1:$C$5000,2,FALSE))","v":""},"",{"$error":"#N/A"},null,null,null,null,null,null,null,null,"",false,2,{"$f":"VLOOKUP(H814,Database!$B$1:$D$5000,3,0)","v":{"$error":"#N/A"}},true]
["",null,null,null,null,null,null,null,{"$f":"IF(ISERROR(VLOOKUP(H815,Database!$B$1:$C$5000,2,FALSE)),\"\",VLOOKUP(H815,Database!$B$1:$C$5000,2,FALSE))","v":""},"",{"$error":"#N/A"},null,null,null,null,null,null,null,null,"",false,2,{"$f":"VLOOKUP(H815,Database!$B$1:$D$5000,3,0)","v":{"$error":"#N/A"}},true]
["",null,null,null,null,null,null,null,{"$f":"IF(ISERROR(VLOOKUP(H816,Database!$B$1:$C$5000,2,FALSE)),\"\",VLOOKUP(H816,Database!$B$1:$C$5000,2,FALSE))","v":""},"",{"$error":"#N/A"},null,null,null,null,null,null,null,null,"",false,2,{"$f":"VLOOKUP(H816,Database!$B$1:$D$5000,3,0)","v":{"$error":"#N/A"}},true]
["",null,null,null,null,null,null,null,{"$f":"IF(ISERROR(VLOOKUP(H817,Database!$B$1:$C$5000,2,FALSE)),\"\",VLOOKUP(H817,Database!$B$1:$C$5000,2,FALSE))","v":""},"",{"$error":"#N/A"},null,null,null,null,null,null,null,null,"",false,2,{"$f":"VLOOKUP(H817,Database!$B$1:$D$5000,3,0)","v":{"$error":"#N/A"}},true]
["",null,null,null,null,null,null,null,{"$f":"IF(ISERROR(VLOOKUP(H818,Database!$B$1:$C$5000,2,FALSE)),\"\",VLOOKUP(H818,Database!$B$1:$C$5000,2,FALSE))","v":""},"",{"$error":"#N/A"},null,null,null,null,null,null,null,null,"",false,2,{"$f":"VLOOKUP(H818,Database!$B$1:$D$5000,3,0)","v":{"$error":"#N/A"}},true]
["",null,null,null,null,null,null,null,{"$f":"IF(ISERROR(VLOOKUP(H819,Database!$B$1:$C$5000,2,FALSE)),\"\",VLOOKUP(H819,Database!$B$1:$C$5000,2,FALSE))","v":""},"",{"$error":"#N/A"},null,null,null,null,null,null,null,null,"",false,2,{"$f":"VLOOKUP(H819,Database!$B$1:$D$5000,3,0)","v":{"$error":"#N/A"}},true]
["",null,null,null,null,null,null,null,{"$f":"IF(ISERROR(VLOOKUP(H820,Database!$B$1:$C$5000,2,FALSE)),\"\",VLOOKUP(H820,Database!$B$1:$C$5000,2,FALSE))","v":""},"",{"$error":"#N/A"},null,null,null,null,null,null,null,null,"",false,2,{"$f":"VLOOKUP(H820,Database!$B$1:$D$5000,3,0)","v":{"$error":"#N/A"}},true]
["",null,null,null,null,null,null,null,{"$f":"IF(ISERROR(VLOOKUP(H821,Database!$B$1:$C$5000,2,FALSE)),\"\",VLOOKUP(H821,Database!$B$1:$C$5000,2,FALSE))","v":""},"",{"$error":"#N/A"},null,null,null,null,null,null,null,null,"",false,2,{"$f":"VLOOKUP(H821,Database!$B$1:$D$5000,3,0)","v":{"$error":"#N/A"}},true]
["",null,null,null,null,null,null,null,{"$f":"IF(ISERROR(VLOOKUP(H822,Database!$B$1:$C$5000,2,FALSE)),\"\",VLOOKUP(H822,Database!$B$1:$C$5000,2,FALSE))","v":""},"",{"$error":"#N/A"},null,null,null,null,null,null,null,null,"",false,2,{"$f":"VLOOKUP(H822,Database!$B$1:$D$5000,3,0)","v":{"$error":"#N/A"}},true]
["",null,null,null,null,null,null,null,{"$f":"IF(ISERROR(VLOOKUP(H823,Database!$B$1:$C$5000,2,FALSE)),\"\",VLOOKUP(H823,Database!$B$1:$C$5000,2,FALSE))","v":""},"",{"$error":"#N/A"},null,null,null,null,null,null,null,null,"",false,2,{"$f":"VLOOKUP(H823,Database!$B$1:$D$5000,3,0)","v":{"$error":"#N/A"}},true]
["",null,null,null,null,null,null,null,{"$f":"IF(ISERROR(VLOOKUP(H824,Database!$B$1:$C$5000,2,FALSE)),\"\",VLOOKUP(H824,Database!$B$1:$C$5000,2,FALSE))","v":""},"",{"$error":"#N/A"},null,null,null,null,null,null,null,null,"",false,2,{"$f":"VLOOKUP(H824,Database!$B$1:$D$5000,3,0)","v":{"$error":"#N/A"}},true]
["",null,null,null,null,null,null,null,{"$f":"IF(ISERROR(VLOOKUP(H825,Database!$B$1:$C$5000,2,FALSE)),\"\",VLOOKUP(H825,Database!$B$1:$C$5000,2,FALSE))","v":""},"",{"$error":"#N/A"},null,null,null,null,null,null,null,null,"",false,2,{"$f":"VLOOKUP(H825,Database!$B$1:$D$5000,3,0)","v":{"$error":"#N/A"}},true]
["",null,null,null,null,null,null,null,{"$f":"IF(ISERROR(VLOOKUP(H826,Database!$B$1:$C$5000,2,FALSE)),\"\",VLOOKUP(H826,Database!$B$1:$C$5000,2,FALSE))","v":""},"",{"$error":"#N/A"},null,null,null,null,null,null,null,null,"",false,2,{"$f":"VLOOKUP(H826,Database!$B$1:$D$5000,3,0)","v":{"$error":"#N/A"}},true]
["",null,null,null,null,null,null,null,{"$f":"IF(ISERROR(VLOOKUP(H827,Database!$B$1:$C$5000,2,FALSE)),\"\",VLOOKUP(H827,Database!$B$1:$C$5000,2,FALSE))","v":""},"",{"$error":"#N/A"},null,null,null,null,null,null,null,null,"",false,2,{"$f":"VLOOKUP(H827,Database!$B$1:$D$5000,3,0)","v":{"$error":"#N/A"}},true]
["",null,null,null,null,null,null,null,{"$f":"IF(ISERROR(VLOOKUP(H828,Database!$B$1:$C$5000,2,FALSE)),\"\",VLOOKUP(H828,Database!$B$1:$C$5000,2,FALSE))","v":""},"",{"$error":"#N/A"},null,null,null,null,null,null,null,null,"",false,2,{"$f":"VLOOKUP(H828,Database!$B$1:$D$5000,3,0)","v":{"$error":"#N/A"}},true]
["",null,null,null,null,null,null,null,{"$f":"IF(ISERROR(VLOOKUP(H829,Database!$B$1:$C$5000,2,FALSE)),\"\",VLOOKUP(H829,Database!$B$1:$C$5000,2,FALSE))","v":""},"",{"$error":"#N/A"},null,null,null,null,null,null,null,null,"",false,2,{"$f":"VLOOKUP(H829,Database!$B$1:$D$5000,3,0)","v":{"$error":"#N/A"}},true]
["",null,null,null,null,null,null,null,{"$f":"IF(ISERROR(VLOOKUP(H830,Database!$B$1:$C$5000,2,FALSE)),\"\",VLOOKUP(H830,Database!$B$1:$C$5000,2,FALSE))","v":""},"",{"$error":"#N/A"},null,null,null,null,null,null,null,null,"",false,2,{"$f":"VLOOKUP(H830,Database!$B$1:$D$5000,3,0)","v":{"$error":"#N/A"}},true]
["",null,null,null,null,null,null,null,{"$f":"IF(ISERROR(VLOOKUP(H831,Database!$B$1:$C$5000,2,FALSE)),\"\",VLOOKUP(H831,Database!$B$1:$C$5000,2,FALSE))","v":""},"",{"$error":"#N/A"},null,null,null,null,null,null,null,null,"",false,2,{"$f":"VLOOKUP(H831,Database!$B$1:$D$5000,3,0)","v":{"$error":"#N/A"}},true]
["",null,null,null,null,null,null,null,{"$f":"IF(ISERROR(VLOOKUP(H832,Database!$B$1:$C$5000,2,FALSE)),\"\",VLOOKUP(H832,Database!$B$1:$C$5000,2,FALSE))","v":""},"",{"$error":"#N/A"},null,null,null,null,null,null,null,null,"",false,2,{"$f":"VLOOKUP(H832,Database!$B$1:$D$5000,3,0)","v":{"$error":"#N/A"}},true]
["",null,null,null,null,null,null,null,{"$f":"IF(ISERROR(VLOOKUP(H833,Database!$B$1:$C$5000,2,FALSE)),\"\",VLOOKUP(H833,Database!$B$1:$C$5000,2,FALSE))","v":""},"",{"$error":"#N/A"},null,null,null,null,null,null,null,null,"",false,2,{"$f":"VLOOKUP(H833,Database!$B$1:$D$5000,3,0)","v":{"$error":"#N/A"}},true]
["",null,null,null,null,null,null,null,{"$f":"IF(ISERROR(VLOOKUP(H834,Database!$B$1:$C$5000,2,FALSE)),\"\",VLOOKUP(H834,Database!$B$1:$C$5000,2,FALSE))","v":""},"",{"$error":"#N/A"},null,null,null,null,null,null,null,null,"",false,2,{"$f":"VLOOKUP(H834,Database!$B$1:$D$5000,3,0)","v":{"$error":"#N/A"}},true]
["",null,null,null,null,null,null,null,{"$f":"IF(ISERROR(VLOOKUP(H835,Database!$B$1:$C$5000,2,FALSE)),\"\",VLOOKUP(H835,Database!$B$1:$C$5000,2,FALSE))","v":""},"",{"$error":"#N/A"},null,null,null,null,null,null,null,null,"",false,2,{"$f":"VLOOKUP(H835,Database!$B$1:$D$5000,3,0)","v":{"$error":"#N/A"}},true]
["",null,null,null,null,null,null,null,{"$f":"IF(ISERROR(VLOOKUP(H836,Database!$B$1:$C$5000,2,FALSE)),\"\",VLOOKUP(H836,Database!$B$1:$C$5000,2,FALSE))","v":""},"",{"$error":"#N/A"},null,null,null,null,null,null,null,null,"",false,2,{"$f":"VLOOKUP(H836,Database!$B$1:$D$5000,3,0)","v":{"$error":"#N/A"}},true]
["",null,null,null,null,null,null,null,{"$f":"IF(ISERROR(VLOOKUP(H837,Database!$B$1:$C$5000,2,FALSE)),\"\",VLOOKUP(H837,Database!$B$1:$C$5000,2,FALSE))","v":""},"",{"$error":"#N/A"},null,null,null,null,null,null,null,null,"",false,2,{"$f":"VLOOKUP(H837,Database!$B$1:$D$5000,3,0)","v":{"$error":"#N/A"}},true]
["",null,null,null,null,null,null,null,{"$f":"IF(ISERROR(VLOOKUP(H838,Database!$B$1:$C$5000,2,FALSE)),\"\",VLOOKUP(H838,Database!$B$1:$C$5000,2,FALSE))","v":""},"",{"$error":"#N/A"},null,null,null,null,null,null,null,null,"",false,2,{"$f":"VLOOKUP(H838,Database!$B$1:$D$5000,3,0)","v":{"$error":"#N/A"}},true]
[{"$f":"IF(B839=\"\",\"\",ROW(A834))","v":""},null,null,null,null,null,null,null,{"$f":"IF(ISERROR(VLOOKUP(H839,Database!$B$1:$C$5000,2,FALSE)),\"\",VLOOKUP(H839,Database!$B$1:$C$5000,2,FALSE))","v":""},{"$f":"IF(V839=1,1,IF(AND(T839=0,F839=\"SSB\",V839<>\"\"),3,IF(AND(T839=0,F839=\"DIGI\",V839<>\"\"),2,IF(AND(T839=0,F839=\"CW\",V839<>\"\"),5,IF(H839=\"-\",\"\",T839)))))","v":""},{"$f":"IF(H839=\"-\",\"\",IF(AND(H839<>\"\",X839=TRUE),\"INDIPENDENT\",IF(W839=0,\"SCRIVI NOME NELLE NOTE\",W839)))","v":{"$error":"#N/A"}},null,null,null,null,null,null,null,null,{"$f":"IF(H839=\"\",\"\",IF(H839=$R$6,25,IF(OR(H839=$R$7,H839=$R$8,H839=$R$9,H839=$R$10,H839=$R$11,H839=$R$12,H839=$R$13,H839=$R$14,H839=$R$15,H839=$R$16,H839=$R$17,H839=$R$18,H839=$R$19,H839=$R$20,H839=$R$21,H839=$R$22,H839=$R$23),15,0)))","v":""},{"$f":"ISERROR(I839)","v":false},{"$f":"IF(H839=\"-\",\"\",IF(AND(T839=0,U839=FALSE,I839=\"\"),1,2))","v":2},{"$f":"VLOOKUP(H839,Database!$B$1:$D$5000,3,0)","v":{"$error":"#N/A"}},{"$f":"ISERROR(W839)","v":true}]
["",null,null,null,null,null,null,null,{"$f":"IF(ISERROR(VLOOKUP(H840,Database!$B$1:$C$5000,2,FALSE)),\"\",VLOOKUP(H840,Database!$B$1:$C$5000,2,FALSE))","v":""},"",{"$error":"#N/A"},null,null,null,null,null,null,null,null,"",false,2,{"$f":"VLOOKUP(H840,Database!$B$1:$D$5000,3,0)","v":{"$error":"#N/A"}},true]
["",null,null,null,null,null,null,null,{"$f":"IF(ISERROR(VLOOKUP(H841,Database!$B$1:$C$5000,2,FALSE)),\"\",VLOOKUP(H841,Database!$B$1:$C$5000,2,FALSE))","v":""},"",{"$error":"#N/A"},null,null,null,null,null,null,null,null,"",false,2,{"$f":"VLOOKUP(H841,Database!$B$1:$D$5000,3,0)","v":{"$error":"#N/A"}},true]
["",null,null,null,null,null,null,null,{"$f":"IF(ISERROR(VLOOKUP(H842,Database!$B$1:$C$5000,2,FALSE)),\"\",VLOOKUP(H842,Database!$B$1:$C$5000,2,FALSE))","v":""},"",{"$error":"#N/A"},null,null,null,null,null,null,null,null,"",false,2,{"$f":"VLOOKUP(H842,Database!$B$1:$D$5000,3,0)","v":{"$error":"#N/A"}},true]
["",null,null,null,null,null,null,null,{"$f":"IF(ISERROR(VLOOKUP(H843,Database!$B$1:$C$5000,2,FALSE)),\"\",VLOOKUP(H843,Database!$B$1:$C$5000,2,FALSE))","v":""},"",{"$error":"#N/A"},null,null,null,null,null,null,null,null,"",false,2,{"$f":"VLOOKUP(H843,Database!$B$1:$D$5000,3,0)","v":{"$error":"#N/A"}},true]
["",null,null,null,null,null,null,null,{"$f":"IF(ISERROR(VLOOKUP(H844,Database!$B$1:$C$5000,2,FALSE)),\"\",VLOOKUP(H844,Database!$B$1:$C$5000,2,FALSE))","v":""},"",{"$error":"#N/A"},null,null,null,null,null,null,null,null,"",false,2,{"$f":"VLOOKUP(H844,Database!$B$1:$D$5000,3,0)","v":{"$error":"#N/A"}},true]
["",null,null,null,null,null,null,null,{"$f":"IF(ISERROR(VLOOKUP(H845,Database!$B$1:$C$5000,2,FALSE)),\"\",VLOOKUP(H845,Database!$B$1:$C$5000,2,FALSE))","v":""},"",{"$error":"#N/A"},null,null,null,null,null,null,null,null,"",false,2,{"$f":"VLOOKUP(H845,Database!$B$1:$D$5000,3,0)","v":{"$error":"#N/A"}},true]
["",null,null,null,null,null,null,null,{"$f":"IF(ISERROR(VLOOKUP(H846,Database!$B$1:$C$5000,2,FALSE)),\"\",VLOOKUP(H846,Database!$B$1:$C$5000,2,FALSE))","v":""},"",{"$error":"#N/A"},null,null,null,null,null,null,null,null,"",false,2,{"$f":"VLOOKUP(H846,Database!$B$1:$D$5000,3,0)","v":{"$error":"#N/A"}},true]
["",null,null,null,null,null,null,null,{"$f":"IF(ISERROR(VLOOKUP(H847,Database!$B$1:$C$5000,2,FALSE)),\"\",VLOOKUP(H847,Database!$B$1:$C$5000,2,FALSE))","v":""},"",{"$error":"#N/A"},null,null,null,null,null,null,null,null,"",false,2,{"$f":"VLOOKUP(H847,Database!$B$1:$D$5000,3,0)","v":{"$error":"#N/A"}},true]
["",null,null,null,null,null,null,null,{"$f":"IF(ISERROR(VLOOKUP(H848,Database!$B$1:$C$5000,2,FALSE)),\"\",VLOOKUP(H848,Database!$B$1:$C$5000,2,FALSE))","v":""},"",{"$error":"#N/A"},null,null,null,null,null,null,null,null,"",false,2,{"$f":"VLOOKUP(H848,Database!$B$1:$D$5000,3,0)","v":{"$error":"#N/A"}},true]
["",null,null,null,null,null,null,null,{"$f":"IF(ISERROR(VLOOKUP(H849,Database!$B$1:$C$5000,2,FALSE)),\"\",VLOOKUP(H849,Database!$B$1:$C$5000,2,FALSE))","v":""},"",{"$error":"#N/A"},null,null,null,null,null,null,null,null,"",false,2,{"$f":"VLOOKUP(H849,Database!$B$1:$D$5000,3,0)","v":{"$error":"#N/A"}},true]
["",null,null,null,null,null,null,null,{"$f":"IF(ISERROR(VLOOKUP(H850,Database!$B$1:$C$5000,2,FALSE)),\"\",VLOOKUP(H850,Database!$B$1:$C$5000,2,FALSE))","v":""},"",{"$error":"#N/A"},null,null,null,null,null,null,null,null,"",false,2,{"$f":"VLOOKUP(H850,Database!$B$1:$D$5000,3,0)","v":{"$error":"#N/A"}},true]
["",null,null,null,null,null,null,null,{"$f":"IF(ISERROR(VLOOKUP(H851,Database!$B$1:$C$5000,2,FALSE)),\"\",VLOOKUP(H851,Database!$B$1:$C$5000,2,FALSE))","v":""},"",{"$error":"#N/A"},null,null,null,null,null,null,null,null,"",false,2,{"$f":"VLOOKUP(H851,Database!$B$1:$D$5000,3,0)","v":{"$error":"#N/A"}},true]
["",null,null,null,null,null,null,null,{"$f":"IF(ISERROR(VLOOKUP(H852,Database!$B$1:$C$5000,2,FALSE)),\"\",VLOOKUP(H852,Database!$B$1:$C$5000,2,FALSE))","v":""},"",{"$error":"#N/A"},null,null,null,null,null,null,null,null,"",false,2,{"$f":"VLOOKUP(H852,Database!$B$1:$D$5000,3,0)","v":{"$error":"#N/A"}},true]
["",null,null,null,null,null,null,null,{"$f":"IF(ISERROR(VLOOKUP(H853,Database!$B$1:$C$5000,2,FALSE)),\"\",VLOOKUP(H853,Database!$B$1:$C$5000,2,FALSE))","v":""},"",{"$error":"#N/A"},null,null,null,null,null,null,null,null,"",false,2,{"$f":"VLOOKUP(H853,Database!$B$1:$D$5000,3,0)","v":{"$error":"#N/A"}},true]
["",null,null,null,null,null,null,null,{"$f":"IF(ISERROR(VLOOKUP(H854,Database!$B$1:$C$5000,2,FALSE)),\"\",VLOOKUP(H854,Database!$B$1:$C$5000,2,FALSE))","v":""},"",{"$error":"#N/A"},null,null,null,null,null,null,null,null,"",false,2,{"$f":"VLOOKUP(H854,Database!$B$1:$D$5000,3,0)","v":{"$error":"#N/A"}},true]
["",null,null,null,null,null,null,null,{"$f":"IF(ISERROR(VLOOKUP(H855,Database!$B$1:$C$5000,2,FALSE)),\"\",VLOOKUP(H855,Database!$B$1:$C$5000,2,FALSE))","v":""},"",{"$error":"#N/A"},null,null,null,null,null,null,null,null,"",false,2,{"$f":"VLOOKUP(H855,Database!$B$1:$D$5000,3,0)","v":{"$error":"#N/A"}},true]
["",null,null,null,null,null,null,null,{"$f":"IF(ISERROR(VLOOKUP(H856,Database!$B$1:$C$5000,2,FALSE)),\"\",VLOOKUP(H856,Database!$B$1:$C$5000,2,FALSE))","v":""},"",{"$error":"#N/A"},null,null,null,null,null,null,null,null,"",false,2,{"$f":"VLOOKUP(H856,Database!$B$1:$D$5000,3,0)","v":{"$error":"#N/A"}},true]
["",null,null,null,null,null,null,null,{"$f":"IF(ISERROR(VLOOKUP(H857,Database!$B$1:$C$5000,2,FALSE)),\"\",VLOOKUP(H857,Database!$B$1:$C$5000,2,FALSE))","v":""},"",{"$error":"#N/A"},null,null,null,null,null,null,null,null,"",false,2,{"$f":"VLOOKUP(H857,Database!$B$1:$D$5000,3,0)","v":{"$error":"#N/A"}},true]
["",null,null,null,null,null,null,null,{"$f":"IF(ISERROR(VLOOKUP(H858,Database!$B$1:$C$5000,2,FALSE)),\"\",VLOOKUP(H858,Database!$B$1:$C$5000,2,FALSE))","v":""},"",{"$error":"#N/A"},null,null,null,null,null,null,null,null,"",false,2,{"$f":"VLOOKUP(H858,Database!$B$1:$D$5000,3,0)","v":{"$error":"#N/A"}},true]
["",null,null,null,null,null,null,null,{"$f":"IF(ISERROR(VLOOKUP(H859,Database!$B$1:$C$5000,2,FALSE)),\"\",VLOOKUP(H859,Database!$B$1:$C$5000,2,FALSE))","v":""},"",{"$error":"#N/A"},null,null,null,null,null,null,null,null,"",false,2,{"$f":"VLOOKUP(H859,Database!$B$1:$D$5000,3,0)","v":{"$error":"#N/A"}},true]
["",null,null,null,null,null,null,null,{"$f":"IF(ISERROR(VLOOKUP(H860,Database!$B$1:$C$5000,2,FALSE)),\"\",VLOOKUP(H860,Database!$B$1:$C$5000,2,FALSE))","v":""},"",{"$error":"#N/A"},null,null,null,null,null,null,null,null,"",false,2,{"$f":"VLOOKUP(H860,Database!$B$1:$D$5000,3,0)","v":{"$error":"#N/A"}},true]
["",null,null,null,null,null,null,null,{"$f":"IF(ISERROR(VLOOKUP(H861,Database!$B$1:$C$5000,2,FALSE)),\"\",VLOOKUP(H861,Database!$B$1:$C$5000,2,FALSE))","v":""},"",{"$error":"#N/A"},null,null,null,null,null,null,null,null,"",false,2,{"$f":"VLOOKUP(H861,Database!$B$1:$D$5000,3,0)","v":{"$error":"#N/A"}},true]
["",null,null,null,null,null,null,null,{"$f":"IF(ISERROR(VLOOKUP(H862,Database!$B$1:$C$5000,2,FALSE)),\"\",VLOOKUP(H862,Database!$B$1:$C$5000,2,FALSE))","v":""},"",{"$error":"#N/A"},null,null,null,null,null,null,null,null,"",false,2,{"$f":"VLOOKUP(H862,Database!$B$1:$D$5000,3,0)","v":{"$error":"#N/A"}},true]
["",null,null,null,null,null,null,null,{"$f":"IF(ISERROR(VLOOKUP(H863,Database!$B$1:$C$5000,2,FALSE)),\"\",VLOOKUP(H863,Database!$B$1:$C$5000,2,FALSE))","v":""},"",{"$error":"#N/A"},null,null,null,null,null,null,null,null,"",false,2,{"$f":"VLOOKUP(H863,Database!$B$1:$D$5000,3,0)","v":{"$error":"#N/A"}},true]
["",null,null,null,null,null,null,null,{"$f":"IF(ISERROR(VLOOKUP(H864,Database!$B$1:$C$5000,2,FALSE)),\"\",VLOOKUP(H864,Database!$B$1:$C$5000,2,FALSE))","v":""},"",{"$error":"#N/A"},null,null,null,null,null,null,null,null,"",false,2,{"$f":"VLOOKUP(H864,Database!$B$1:$D$5000,3,0)","v":{"$error":"#N/A"}},true]
["",null,null,null,null,null,null,null,{"$f":"IF(ISERROR(VLOOKUP(H865,Database!$B$1:$C$5000,2,FALSE)),\"\",VLOOKUP(H865,Database!$B$1:$C$5000,2,FALSE))","v":""},"",{"$error":"#N/A"},null,null,null,null,null,null,null,null,"",false,2,{"$f":"VLOOKUP(H865,Database!$B$1:$D$5000,3,0)","v":{"$error":"#N/A"}},true]
["",null,null,null,null,null,null,null,{"$f":"IF(ISERROR(VLOOKUP(H866,Database!$B$1:$C$5000,2,FALSE)),\"\",VLOOKUP(H866,Database!$B$1:$C$5000,2,FALSE))","v":""},"",{"$error":"#N/A"},null,null,null,null,null,null,null,null,"",false,2,{"$f":"VLOOKUP(H866,Database!$B$1:$D$5000,3,0)","v":{"$error":"#N/A"}},true]
["",null,null,null,null,null,null,null,{"$f":"IF(ISERROR(VLOOKUP(H867,Database!$B$1:$C$5000,2,FALSE)),\"\",VLOOKUP(H867,Database!$B$1:$C$5000,2,FALSE))","v":""},"",{"$error":"#N/A"},null,null,null,null,null,null,null,null,"",false,2,{"$f":"VLOOKUP(H867,Database!$B$1:$D$5000,3,0)","v":{"$error":"#N/A"}},true]
["",null,null,null,null,null,null,null,{"$f":"IF(ISERROR(VLOOKUP(H868,Database!$B$1:$C$5000,2,FALSE)),\"\",VLOOKUP(H868,Database!$B$1:$C$5000,2,FALSE))","v":""},"",{"$error":"#N/A"},null,null,null,null,null,null,null,null,"",false,2,{"$f":"VLOOKUP(H868,Database!$B$1:$D$5000,3,0)","v":{"$error":"#N/A"}},true]
["",null,null,null,null,null,null,null,{"$f":"IF(ISERROR(VLOOKUP(H869,Database!$B$1:$C$5000,2,FALSE)),\"\",VLOOKUP(H869,Database!$B$1:$C$5000,2,FALSE))","v":""},"",{"$error":"#N/A"},null,null,null,null,null,null,null,null,"",false,2,{"$f":"VLOOKUP(H869,Database!$B$1:$D$5000,3,0)","v":{"$error":"#N/A"}},true]
["",null,null,null,null,null,null,null,{"$f":"IF(ISERROR(VLOOKUP(H870,Database!$B$1:$C$5000,2,FALSE)),\"\",VLOOKUP(H870,Database!$B$1:$C$5000,2,FALSE))","v":""},"",{"$error":"#N/A"},null,null,null,null,null,null,null,null,"",false,2,{"$f":"VLOOKUP(H870,Database!$B$1:$D$5000,3,0)","v":{"$error":"#N/A"}},true]
["",null,null,null,null,null,null,null,{"$f":"IF(ISERROR(VLOOKUP(H871,Database!$B$1:$C$5000,2,FALSE)),\"\",VLOOKUP(H871,Database!$B$1:$C$5000,2,FALSE))","v":""},"",{"$error":"#N/A"},null,null,null,null,null,null,null,null,"",false,2,{"$f":"VLOOKUP(H871,Database!$B$1:$D$5000,3,0)","v":{"$error":"#N/A"}},true]
["",null,null,null,null,null,null,null,{"$f":"IF(ISERROR(VLOOKUP(H872,Database!$B$1:$C$5000,2,FALSE)),\"\",VLOOKUP(H872,Database!$B$1:$C$5000,2,FALSE))","v":""},"",{"$error":"#N/A"},null,null,null,null,null,null,null,null,"",false,2,{"$f":"VLOOKUP(H872,Database!$B$1:$D$5000,3,0)","v":{"$error":"#N/A"}},true]
["",null,null,null,null,null,null,null,{"$f":"IF(ISERROR(VLOOKUP(H873,Database!$B$1:$C$5000,2,FALSE)),\"\",VLOOKUP(H873,Database!$B$1:$C$5000,2,FALSE))","v":""},"",{"$error":"#N/A"},null,null,null,null,null,null,null,null,"",false,2,{"$f":"VLOOKUP(H873,Database!$B$1:$D$5000,3,0)","v":{"$error":"#N/A"}},true]
["",null,null,null,null,null,null,null,{"$f":"IF(ISERROR(VLOOKUP(H874,Database!$B$1:$C$5000,2,FALSE)),\"\",VLOOKUP(H874,Database!$B$1:$C$5000,2,FALSE))","v":""},"",{"$error":"#N/A"},null,null,null,null,null,null,null,null,"",false,2,{"$f":"VLOOKUP(H874,Database!$B$1:$D$5000,3,0)","v":{"$error":"#N/A"}},true]
["",null,null,null,null,null,null,null,{"$f":"IF(ISERROR(VLOOKUP(H875,Database!$B$1:$C$5000,2,FALSE)),\"\",VLOOKUP(H875,Database!$B$1:$C$5000,2,FALSE))","v":""},"",{"$error":"#N/A"},null,null,null,null,null,null,null,null,"",false,2,{"$f":"VLOOKUP(H875,Database!$B$1:$D$5000,3,0)","v":{"$error":"#N/A"}},true]
["",null,null,null,null,null,null,null,{"$f":"IF(ISERROR(VLOOKUP(H876,Database!$B$1:$C$5000,2,FALSE)),\"\",VLOOKUP(H876,Database!$B$1:$C$5000,2,FALSE))","v":""},"",{"$error":"#N/A"},null,null,null,null,null,null,null,null,"",false,2,{"$f":"VLOOKUP(H876,Database!$B$1:$D$5000,3,0)","v":{"$error":"#N/A"}},true]
["",null,null,null,null,null,null,null,{"$f":"IF(ISERROR(VLOOKUP(H877,Database!$B$1:$C$5000,2,FALSE)),\"\",VLOOKUP(H877,Database!$B$1:$C$5000,2,FALSE))","v":""},"",{"$error":"#N/A"},null,null,null,null,null,null,null,null,"",false,2,{"$f":"VLOOKUP(H877,Database!$B$1:$D$5000,3,0)","v":{"$error":"#N/A"}},true]
["",null,null,null,null,null,null,null,{"$f":"IF(ISERROR(VLOOKUP(H878,Database!$B$1:$C$5000,2,FALSE)),\"\",VLOOKUP(H878,Database!$B$1:$C$5000,2,FALSE))","v":""},"",{"$error":"#N/A"},null,null,null,null,null,null,null,null,"",false,2,{"$f":"VLOOKUP(H878,Database!$B$1:$D$5000,3,0)","v":{"$error":"#N/A"}},true]
["",null,null,null,null,null,null,null,{"$f":"IF(ISERROR(VLOOKUP(H879,Database!$B$1:$C$5000,2,FALSE)),\"\",VLOOKUP(H879,Database!$B$1:$C$5000,2,FALSE))","v":""},"",{"$error":"#N/A"},null,null,null,null,null,null,null,null,"",false,2,{"$f":"VLOOKUP(H879,Database!$B$1:$D$5000,3,0)","v":{"$error":"#N/A"}},true]
["",null,null,null,null,null,null,null,{"$f":"IF(ISERROR(VLOOKUP(H880,Database!$B$1:$C$5000,2,FALSE)),\"\",VLOOKUP(H880,Database!$B$1:$C$5000,2,FALSE))","v":""},"",{"$error":"#N/A"},null,null,null,null,null,null,null,null,"",false,2,{"$f":"VLOOKUP(H880,Database!$B$1:$D$5000,3,0)","v":{"$error":"#N/A"}},true]
["",null,null,null,null,null,null,null,{"$f":"IF(ISERROR(VLOOKUP(H881,Database!$B$1:$C$5000,2,FALSE)),\"\",VLOOKUP(H881,Database!$B$1:$C$5000,2,FALSE))","v":""},"",{"$error":"#N/A"},null,null,null,null,null,null,null,null,"",false,2,{"$f":"VLOOKUP(H881,Database!$B$1:$D$5000,3,0)","v":{"$error":"#N/A"}},true]
["",null,null,null,null,null,null,null,{"$f":"IF(ISERROR(VLOOKUP(H882,Database!$B$1:$C$5000,2,FALSE)),\"\",VLOOKUP(H882,Database!$B$1:$C$5000,2,FALSE))","v":""},"",{"$error":"#N/A"},null,null,null,null,null,null,null,null,"",false,2,{"$f":"VLOOKUP(H882,Database!$B$1:$D$5000,3,0)","v":{"$error":"#N/A"}},true]
["",null,null,null,null,null,null,null,{"$f":"IF(ISERROR(VLOOKUP(H883,Database!$B$1:$C$5000,2,FALSE)),\"\",VLOOKUP(H883,Database!$B$1:$C$5000,2,FALSE))","v":""},"",{"$error":"#N/A"},null,null,null,null,null,null,null,null,"",false,2,{"$f":"VLOOKUP(H883,Database!$B$1:$D$5000,3,0)","v":{"$error":"#N/A"}},true]
["",null,null,null,null,null,null,null,{"$f":"IF(ISERROR(VLOOKUP(H884,Database!$B$1:$C$5000,2,FALSE)),\"\",VLOOKUP(H884,Database!$B$1:$C$5000,2,FALSE))","v":""},"",{"$error":"#N/A"},null,null,null,null,null,null,null,null,"",false,2,{"$f":"VLOOKUP(H884,Database!$B$1:$D$5000,3,0)","v":{"$error":"#N/A"}},true]
["",null,null,null,null,null,null,null,{"$f":"IF(ISERROR(VLOOKUP(H885,Database!$B$1:$C$5000,2,FALSE)),\"\",VLOOKUP(H885,Database!$B$1:$C$5000,2,FALSE))","v":""},"",{"$error":"#N/A"},null,null,null,null,null,null,null,null,"",false,2,{"$f":"VLOOKUP(H885,Database!$B$1:$D$5000,3,0)","v":{"$error":"#N/A"}},true]
["",null,null,null,null,null,null,null,{"$f":"IF(ISERROR(VLOOKUP(H886,Database!$B$1:$C$5000,2,FALSE)),\"\",VLOOKUP(H886,Database!$B$1:$C$5000,2,FALSE))","v":""},"",{"$error":"#N/A"},null,null,null,null,null,null,null,null,"",false,2,{"$f":"VLOOKUP(H886,Database!$B$1:$D$5000,3,0)","v":{"$error":"#N/A"}},true]
["",null,null,null,null,null,null,null,{"$f":"IF(ISERROR(VLOOKUP(H887,Database!$B$1:$C$5000,2,FALSE)),\"\",VLOOKUP(H887,Database!$B$1:$C$5000,2,FALSE))","v":""},"",{"$error":"#N/A"},null,null,null,null,null,null,null,null,"",false,2,{"$f":"VLOOKUP(H887,Database!$B$1:$D$5000,3,0)","v":{"$error":"#N/A"}},true]
["",null,null,null,null,null,null,null,{"$f":"IF(ISERROR(VLOOKUP(H888,Database!$B$1:$C$5000,2,FALSE)),\"\",VLOOKUP(H888,Database!$B$1:$C$5000,2,FALSE))","v":""},"",{"$error":"#N/A"},null,null,null,null,null,null,null,null,"",false,2,{"$f":"VLOOKUP(H888,Database!$B$1:$D$5000,3,0)","v":{"$error":"#N/A"}},true]
["",null,null,null,null,null,null,null,{"$f":"IF(ISERROR(VLOOKUP(H889,Database!$B$1:$C$5000,2,FALSE)),\"\",VLOOKUP(H889,Database!$B$1:$C$5000,2,FALSE))","v":""},"",{"$error":"#N/A"},null,null,null,null,null,null,null,null,"",false,2,{"$f":"VLOOKUP(H889,Database!$B$1:$D$5000,3,0)","v":{"$error":"#N/A"}},true]
["",null,null,null,null,null,null,null,{"$f":"IF(ISERROR(VLOOKUP(H890,Database!$B$1:$C$5000,2,FALSE)),\"\",VLOOKUP(H890,Database!$B$1:$C$5000,2,FALSE))","v":""},"",{"$error":"#N/A"},null,null,null,null,null,null,null,null,"",false,2,{"$f":"VLOOKUP(H890,Database!$B$1:$D$5000,3,0)","v":{"$error":"#N/A"}},true]
["",null,null,null,null,null,null,null,{"$f":"IF(ISERROR(VLOOKUP(H891,Database!$B$1:$C$5000,2,FALSE)),\"\",VLOOKUP(H891,Database!$B$1:$C$5000,2,FALSE))","v":""},"",{"$error":"#N/A"},null,null,null,null,null,null,null,null,"",false,2,{"$f":"VLOOKUP(H891,Database!$B$1:$D$5000,3,0)","v":{"$error":"#N/A"}},true]
["",null,null,null,null,null,null,null,{"$f":"IF(ISERROR(VLOOKUP(H892,Database!$B$1:$C$5000,2,FALSE)),\"\",VLOOKUP(H892,Database!$B$1:$C$5000,2,FALSE))","v":""},"",{"$error":"#N/A"},null,null,null,null,null,null,null,null,"",false,2,{"$f":"VLOOKUP(H892,Database!$B$1:$D$5000,3,0)","v":{"$error":"#N/A"}},true]
["",null,null,null,null,null,null,null,{"$f":"IF(ISERROR(VLOOKUP(H893,Database!$B$1:$C$5000,2,FALSE)),\"\",VLOOKUP(H893,Database!$B$1:$C$5000,2,FALSE))","v":""},"",{"$error":"#N/A"},null,null,null,null,null,null,null,null,"",false,2,{"$f":"VLOOKUP(H893,Database!$B$1:$D$5000,3,0)","v":{"$error":"#N/A"}},true]
["",null,null,null,null,null,null,null,{"$f":"IF(ISERROR(VLOOKUP(H894,Database!$B$1:$C$5000,2,FALSE)),\"\",VLOOKUP(H894,Database!$B$1:$C$5000,2,FALSE))","v":""},"",{"$error":"#N/A"},null,null,null,null,null,null,null,null,"",false,2,{"$f":"VLOOKUP(H894,Database!$B$1:$D$5000,3,0)","v":{"$error":"#N/A"}},true]
["",null,null,null,null,null,null,null,{"$f":"IF(ISERROR(VLOOKUP(H895,Database!$B$1:$C$5000,2,FALSE)),\"\",VLOOKUP(H895,Database!$B$1:$C$5000,2,FALSE))","v":""},"",{"$error":"#N/A"},null,null,null,null,null,null,null,null,"",false,2,{"$f":"VLOOKUP(H895,Database!$B$1:$D$5000,3,0)","v":{"$error":"#N/A"}},true]
["",null,null,null,null,null,null,null,{"$f":"IF(ISERROR(VLOOKUP(H896,Database!$B$1:$C$5000,2,FALSE)),\"\",VLOOKUP(H896,Database!$B$1:$C$5000,2,FALSE))","v":""},"",{"$error":"#N/A"},null,null,null,null,null,null,null,null,"",false,2,{"$f":"VLOOKUP(H896,Database!$B$1:$D$5000,3,0)","v":{"$error":"#N/A"}},true]
["",null,null,null,null,null,null,null,{"$f":"IF(ISERROR(VLOOKUP(H897,Database!$B$1:$C$5000,2,FALSE)),\"\",VLOOKUP(H897,Database!$B$1:$C$5000,2,FALSE))","v":""},"",{"$error":"#N/A"},null,null,null,null,null,null,null,null,"",false,2,{"$f":"VLOOKUP(H897,Database!$B$1:$D$5000,3,0)","v":{"$error":"#N/A"}},true]
["",null,null,null,null,null,null,null,{"$f":"IF(ISERROR(VLOOKUP(H898,Database!$B$1:$C$5000,2,FALSE)),\"\",VLOOKUP(H898,Database!$B$1:$C$5000,2,FALSE))","v":""},"",{"$error":"#N/A"},null,null,null,null,null,null,null,null,"",false,2,{"$f":"VLOOKUP(H898,Database!$B$1:$D$5000,3,0)","v":{"$error":"#N/A"}},true]
["",null,null,null,null,null,null,null,{"$f":"IF(ISERROR(VLOOKUP(H899,Database!$B$1:$C$5000,2,FALSE)),\"\",VLOOKUP(H899,Database!$B$1:$C$5000,2,FALSE))","v":""},"",{"$error":"#N/A"},null,null,null,null,null,null,null,null,"",false,2,{"$f":"VLOOKUP(H899,Database!$B$1:$D$5000,3,0)","v":{"$error":"#N/A"}},true]
["",null,null,null,null,null,null,null,{"$f":"IF(ISERROR(VLOOKUP(H900,Database!$B$1:$C$5000,2,FALSE)),\"\",VLOOKUP(H900,Database!$B$1:$C$5000,2,FALSE))","v":""},"",{"$error":"#N/A"},null,null,null,null,null,null,null,null,"",false,2,{"$f":"VLOOKUP(H900,Database!$B$1:$D$5000,3,0)","v":{"$error":"#N/A"}},true]
["",null,null,null,null,null,null,null,{"$f":"IF(ISERROR(VLOOKUP(H901,Database!$B$1:$C$5000,2,FALSE)),\"\",VLOOKUP(H901,Database!$B$1:$C$5000,2,FALSE))","v":""},"",{"$error":"#N/A"},null,null,null,null,null,null,null,null,"",false,2,{"$f":"VLOOKUP(H901,Database!$B$1:$D$5000,3,0)","v":{"$error":"#N/A"}},true]
["",null,null,null,null,null,null,null,{"$f":"IF(ISERROR(VLOOKUP(H902,Database!$B$1:$C$5000,2,FALSE)),\"\",VLOOKUP(H902,Database!$B$1:$C$5000,2,FALSE))","v":""},"",{"$error":"#N/A"},null,null,null,null,null,null,null,null,"",false,2,{"$f":"VLOOKUP(H902,Database!$B$1:$D$5000,3,0)","v":{"$error":"#N/A"}},true]
[{"$f":"IF(B903=\"\",\"\",ROW(A898))","v":""},null,null,null,null,null,null,null,{"$f":"IF(ISERROR(VLOOKUP(H903,Database!$B$1:$C$5000,2,FALSE)),\"\",VLOOKUP(H903,Database!$B$1:$C$5000,2,FALSE))","v":""},{"$f":"IF(V903=1,1,IF(AND(T903=0,F903=\"SSB\",V903<>\"\"),3,IF(AND(T903=0,F903=\"DIGI\",V903<>\"\"),2,IF(AND(T903=0,F903=\"CW\",V903<>\"\"),5,IF(H903=\"-\",\"\",T903)))))","v":""},{"$f":"IF(H903=\"-\",\"\",IF(AND(H903<>\"\",X903=TRUE),\"INDIPENDENT\",IF(W903=0,\"SCRIVI NOME NELLE NOTE\",W903)))","v":{"$error":"#N/A"}},null,null,null,null,null,null,null,null,{"$f":"IF(H903=\"\",\"\",IF(H903=$R$6,25,IF(OR(H903=$R$7,H903=$R$8,H903=$R$9,H903=$R$10,H903=$R$11,H903=$R$12,H903=$R$13,H903=$R$14,H903=$R$15,H903=$R$16,H903=$R$17,H903=$R$18,H903=$R$19,H903=$R$20,H903=$R$21,H903=$R$22,H903=$R$23),15,0)))","v":""},{"$f":"ISERROR(I903)","v":false},{"$f":"IF(H903=\"-\",\"\",IF(AND(T903=0,U903=FALSE,I903=\"\"),1,2))","v":2},{"$f":"VLOOKUP(H903,Database!$B$1:$D$5000,3,0)","v":{"$error":"#N/A"}},{"$f":"ISERROR(W903)","v":true}]
["",null,null,null,null,null,null,null,{"$f":"IF(ISERROR(VLOOKUP(H904,Database!$B$1:$C$5000,2,FALSE)),\"\",VLOOKUP(H904,Database!$B$1:$C$5000,2,FALSE))","v":""},"",{"$error":"#N/A"},null,null,null,null,null,null,null,null,"",false,2,{"$f":"VLOOKUP(H904,Database!$B$1:$D$5000,3,0)","v":{"$error":"#N/A"}},true]
["",null,null,null,null,null,null,null,{"$f":"IF(ISERROR(VLOOKUP(H905,Database!$B$1:$C$5000,2,FALSE)),\"\",VLOOKUP(H905,Database!$B$1:$C$5000,2,FALSE))","v":""},"",{"$error":"#N/A"},null,null,null,null,null,null,null,null,"",false,2,{"$f":"VLOOKUP(H905,Database!$B$1:$D$5000,3,0)","v":{"$error":"#N/A"}},true]
["",null,null,null,null,null,null,null,{"$f":"IF(ISERROR(VLOOKUP(H906,Database!$B$1:$C$5000,2,FALSE)),\"\",VLOOKUP(H906,Database!$B$1:$C$5000,2,FALSE))","v":""},"",{"$error":"#N/A"},null,null,null,null,null,null,null,null,"",false,2,{"$f":"VLOOKUP(H906,Database!$B$1:$D$5000,3,0)","v":{"$error":"#N/A"}},true]
["",null,null,null,null,null,null,null,{"$f":"IF(ISERROR(VLOOKUP(H907,Database!$B$1:$C$5000,2,FALSE)),\"\",VLOOKUP(H907,Database!$B$1:$C$5000,2,FALSE))","v":""},"",{"$error":"#N/A"},null,null,null,null,null,null,null,null,"",false,2,{"$f":"VLOOKUP(H907,Database!$B$1:$D$5000,3,0)","v":{"$error":"#N/A"}},true]
["",null,null,null,null,null,null,null,{"$f":"IF(ISERROR(VLOOKUP(H908,Database!$B$1:$C$5000,2,FALSE)),\"\",VLOOKUP(H908,Database!$B$1:$C$5000,2,FALSE))","v":""},"",{"$error":"#N/A"},null,null,null,null,null,null,null,null,"",false,2,{"$f":"VLOOKUP(H908,Database!$B$1:$D$5000,3,0)","v":{"$error":"#N/A"}},true]
["",null,null,null,null,null,null,null,{"$f":"IF(ISERROR(VLOOKUP(H909,Database!$B$1:$C$5000,2,FALSE)),\"\",VLOOKUP(H909,Database!$B$1:$C$5000,2,FALSE))","v":""},"",{"$error":"#N/A"},null,null,null,null,null,null,null,null,"",false,2,{"$f":"VLOOKUP(H909,Database!$B$1:$D$5000,3,0)","v":{"$error":"#N/A"}},true]
["",null,null,null,null,null,null,null,{"$f":"IF(ISERROR(VLOOKUP(H910,Database!$B$1:$C$5000,2,FALSE)),\"\",VLOOKUP(H910,Database!$B$1:$C$5000,2,FALSE))","v":""},"",{"$error":"#N/A"},null,null,null,null,null,null,null,null,"",false,2,{"$f":"VLOOKUP(H910,Database!$B$1:$D$5000,3,0)","v":{"$error":"#N/A"}},true]
["",null,null,null,null,null,null,null,{"$f":"IF(ISERROR(VLOOKUP(H911,Database!$B$1:$C$5000,2,FALSE)),\"\",VLOOKUP(H911,Database!$B$1:$C$5000,2,FALSE))","v":""},"",{"$error":"#N/A"},null,null,null,null,null,null,null,null,"",false,2,{"$f":"VLOOKUP(H911,Database!$B$1:$D$5000,3,0)","v":{"$error":"#N/A"}},true]
["",null,null,null,null,null,null,null,{"$f":"IF(ISERROR(VLOOKUP(H912,Database!$B$1:$C$5000,2,FALSE)),\"\",VLOOKUP(H912,Database!$B$1:$C$5000,2,FALSE))","v":""},"",{"$error":"#N/A"},null,null,null,null,null,null,null,null,"",false,2,{"$f":"VLOOKUP(H912,Database!$B$1:$D$5000,3,0)","v":{"$error":"#N/A"}},true]
["",null,null,null,null,null,null,null,{"$f":"IF(ISERROR(VLOOKUP(H913,Database!$B$1:$C$5000,2,FALSE)),\"\",VLOOKUP(H913,Database!$B$1:$C$5000,2,FALSE))","v":""},"",{"$error":"#N/A"},null,null,null,null,null,null,null,null,"",false,2,{"$f":"VLOOKUP(H913,Database!$B$1:$D$5000,3,0)","v":{"$error":"#N/A"}},true]
["",null,null,null,null,null,null,null,{"$f":"IF(ISERROR(VLOOKUP(H914,Database!$B$1:$C$5000,2,FALSE)),\"\",VLOOKUP(H914,Database!$B$1:$C$5000,2,FALSE))","v":""},"",{"$error":"#N/A"},null,null,null,null,null,null,null,null,"",false,2,{"$f":"VLOOKUP(H914,Database!$B$1:$D$5000,3,0)","v":{"$error":"#N/A"}},true]
["",null,null,null,null,null,null,null,{"$f":"IF(ISERROR(VLOOKUP(H915,Database!$B$1:$C$5000,2,FALSE)),\"\",VLOOKUP(H915,Database!$B$1:$C$5000,2,FALSE))","v":""},"",{"$error":"#N/A"},null,null,null,null,null,null,null,null,"",false,2,{"$f":"VLOOKUP(H915,Database!$B$1:$D$5000,3,0)","v":{"$error":"#N/A"}},true]
["",null,null,null,null,null,null,null,{"$f":"IF(ISERROR(VLOOKUP(H916,Database!$B$1:$C$5000,2,FALSE)),\"\",VLOOKUP(H916,Database!$B$1:$C$5000,2,FALSE))","v":""},"",{"$error":"#N/A"},null,null,null,null,null,null,null,null,"",false,2,{"$f":"VLOOKUP(H916,Database!$B$1:$D$5000,3,0)","v":{"$error":"#N/A"}},true]
["",null,null,null,null,null,null,null,{"$f":"IF(ISERROR(VLOOKUP(H917,Database!$B$1:$C$5000,2,FALSE)),\"\",VLOOKUP(H917,Database!$B$1:$C$5000,2,FALSE))","v":""},"",{"$error":"#N/A"},null,null,null,null,null,null,null,null,"",false,2,{"$f":"VLOOKUP(H917,Database!$B$1:$D$5000,3,0)","v":{"$error":"#N/A"}},true]
["",null,null,null,null,null,null,null,{"$f":"IF(ISERROR(VLOOKUP(H918,Database!$B$1:$C$5000,2,FALSE)),\"\",VLOOKUP(H918,Database!$B$1:$C$5000,2,FALSE))","v":""},"",{"$error":"#N/A"},null,null,null,null,null,null,null,null,"",false,2,{"$f":"VLOOKUP(H918,Database!$B$1:$D$5000,3,0)","v":{"$error":"#N/A"}},true]
["",null,null,null,null,null,null,null,{"$f":"IF(ISERROR(VLOOKUP(H919,Database!$B$1:$C$5000,2,FALSE)),\"\",VLOOKUP(H919,Database!$B$1:$C$5000,2,FALSE))","v":""},"",{"$error":"#N/A"},null,null,null,null,null,null,null,null,"",false,2,{"$f":"VLOOKUP(H919,Database!$B$1:$D$5000,3,0)","v":{"$error":"#N/A"}},true]
["",null,null,null,null,null,null,null,{"$f":"IF(ISERROR(VLOOKUP(H920,Database!$B$1:$C$5000,2,FALSE)),\"\",VLOOKUP(H920,Database!$B$1:$C$5000,2,FALSE))","v":""},"",{"$error":"#N/A"},null,null,null,null,null,null,null,null,"",false,2,{"$f":"VLOOKUP(H920,Database!$B$1:$D$5000,3,0)","v":{"$error":"#N/A"}},true]
["",null,null,null,null,null,null,null,{"$f":"IF(ISERROR(VLOOKUP(H921,Database!$B$1:$C$5000,2,FALSE)),\"\",VLOOKUP(H921,Database!$B$1:$C$5000,2,FALSE))","v":""},"",{"$error":"#N/A"},null,null,null,null,null,null,null,null,"",false,2,{"$f":"VLOOKUP(H921,Database!$B$1:$D$5000,3,0)","v":{"$error":"#N/A"}},true]
["",null,null,null,null,null,null,null,{"$f":"IF(ISERROR(VLOOKUP(H922,Database!$B$1:$C$5000,2,FALSE)),\"\",VLOOKUP(H922,Database!$B$1:$C$5000,2,FALSE))","v":""},"",{"$error":"#N/A"},null,null,null,null,null,null,null,null,"",false,2,{"$f":"VLOOKUP(H922,Database!$B$1:$D$5000,3,0)","v":{"$error":"#N/A"}},true]
["",null,null,null,null,null,null,null,{"$f":"IF(ISERROR(VLOOKUP(H923,Database!$B$1:$C$5000,2,FALSE)),\"\",VLOOKUP(H923,Database!$B$1:$C$5000,2,FALSE))","v":""},"",{"$error":"#N/A"},null,null,null,null,null,null,null,null,"",false,2,{"$f":"VLOOKUP(H923,Database!$B$1:$D$5000,3,0)","v":{"$error":"#N/A"}},true]
["",null,null,null,null,null,null,null,{"$f":"IF(ISERROR(VLOOKUP(H924,Database!$B$1:$C$5000,2,FALSE)),\"\",VLOOKUP(H924,Database!$B$1:$C$5000,2,FALSE))","v":""},"",{"$error":"#N/A"},null,null,null,null,null,null,null,null,"",false,2,{"$f":"VLOOKUP(H924,Database!$B$1:$D$5000,3,0)","v":{"$error":"#N/A"}},true]
["",null,null,null,null,null,null,null,{"$f":"IF(ISERROR(VLOOKUP(H925,Database!$B$1:$C$5000,2,FALSE)),\"\",VLOOKUP(H925,Database!$B$1:$C$5000,2,FALSE))","v":""},"",{"$error":"#N/A"},null,null,null,null,null,null,null,null,"",false,2,{"$f":"VLOOKUP(H925,Database!$B$1:$D$5000,3,0)","v":{"$error":"#N/A"}},true]
["",null,null,null,null,null,null,null,{"$f":"IF(ISERROR(VLOOKUP(H926,Database!$B$1:$C$5000,2,FALSE)),\"\",VLOOKUP(H926,Database!$B$1:$C$5000,2,FALSE))","v":""},"",{"$error":"#N/A"},null,null,null,null,null,null,null,null,"",false,2,{"$f":"VLOOKUP(H926,Database!$B$1:$D$5000,3,0)","v":{"$error":"#N/A"}},true]
["",null,null,null,null,null,null,null,{"$f":"IF(ISERROR(VLOOKUP(H927,Database!$B$1:$C$5000,2,FALSE)),\"\",VLOOKUP(H927,Database!$B$1:$C$5000,2,FALSE))","v":""},"",{"$error":"#N/A"},null,null,null,null,null,null,null,null,"",false,2,{"$f":"VLOOKUP(H927,Database!$B$1:$D$5000,3,0)","v":{"$error":"#N/A"}},true]
["",null,null,null,null,null,null,null,{"$f":"IF(ISERROR(VLOOKUP(H928,Database!$B$1:$C$5000,2,FALSE)),\"\",VLOOKUP(H928,Database!$B$1:$C$5000,2,FALSE))","v":""},"",{"$error":"#N/A"},null,null,null,null,null,null,null,null,"",false,2,{"$f":"VLOOKUP(H928,Database!$B$1:$D$5000,3,0)","v":{"$error":"#N/A"}},true]
["",null,null,null,null,null,null,null,{"$f":"IF(ISERROR(VLOOKUP(H929,Database!$B$1:$C$5000,2,FALSE)),\"\",VLOOKUP(H929,Database!$B$1:$C$5000,2,FALSE))","v":""},"",{"$error":"#N/A"},null,null,null,null,null,null,null,null,"",false,2,{"$f":"VLOOKUP(H929,Database!$B$1:$D$5000,3,0)","v":{"$error":"#N/A"}},true]
["",null,null,null,null,null,null,null,{"$f":"IF(ISERROR(VLOOKUP(H930,Database!$B$1:$C$5000,2,FALSE)),\"\",VLOOKUP(H930,Database!$B$1:$C$5000,2,FALSE))","v":""},"",{"$error":"#N/A"},null,null,null,null,null,null,null,null,"",false,2,{"$f":"VLOOKUP(H930,Database!$B$1:$D$5000,3,0)","v":{"$error":"#N/A"}},true]
["",null,null,null,null,null,null,null,{"$f":"IF(ISERROR(VLOOKUP(H931,Database!$B$1:$C$5000,2,FALSE)),\"\",VLOOKUP(H931,Database!$B$1:$C$5000,2,FALSE))","v":""},"",{"$error":"#N/A"},null,null,null,null,null,null,null,null,"",false,2,{"$f":"VLOOKUP(H931,Database!$B$1:$D$5000,3,0)","v":{"$error":"#N/A"}},true]
["",null,null,null,null,null,null,null,{"$f":"IF(ISERROR(VLOOKUP(H932,Database!$B$1:$C$5000,2,FALSE)),\"\",VLOOKUP(H932,Database!$B$1:$C$5000,2,FALSE))","v":""},"",{"$error":"#N/A"},null,null,null,null,null,null,null,null,"",false,2,{"$f":"VLOOKUP(H932,Database!$B$1:$D$5000,3,0)","v":{"$error":"#N/A"}},true]
["",null,null,null,null,null,null,null,{"$f":"IF(ISERROR(VLOOKUP(H933,Database!$B$1:$C$5000,2,FALSE)),\"\",VLOOKUP(H933,Database!$B$1:$C$5000,2,FALSE))","v":""},"",{"$error":"#N/A"},null,null,null,null,null,null,null,null,"",false,2,{"$f":"VLOOKUP(H933,Database!$B$1:$D$5000,3,0)","v":{"$error":"#N/A"}},true]
["",null,null,null,null,null,null,null,{"$f":"IF(ISERROR(VLOOKUP(H934,Database!$B$1:$C$5000,2,FALSE)),\"\",VLOOKUP(H934,Database!$B$1:$C$5000,2,FALSE))","v":""},"",{"$error":"#N/A"},null,null,null,null,null,null,null,null,"",false,2,{"$f":"VLOOKUP(H934,Database!$B$1:$D$5000,3,0)","v":{"$error":"#N/A"}},true]
["",null,null,null,null,null,null,null,{"$f":"IF(ISERROR(VLOOKUP(H935,Database!$B$1:$C$5000,2,FALSE)),\"\",VLOOKUP(H935,Database!$B$1:$C$5000,2,FALSE))","v":""},"",{"$error":"#N/A"},null,null,null,null,null,null,null,null,"",false,2,{"$f":"VLOOKUP(H935,Database!$B$1:$D$5000,3,0)","v":{"$error":"#N/A"}},true]
["",null,null,null,null,null,null,null,{"$f":"IF(ISERROR(VLOOKUP(H936,Database!$B$1:$C$5000,2,FALSE)),\"\",VLOOKUP(H936,Database!$B$1:$C$5000,2,FALSE))","v":""},"",{"$error":"#N/A"},null,null,null,null,null,null,null,null,"",false,2,{"$f":"VLOOKUP(H936,Database!$B$1:$D$5000,3,0)","v":{"$error":"#N/A"}},true]
["",null,null,null,null,null,null,null,{"$f":"IF(ISERROR(VLOOKUP(H937,Database!$B$1:$C$5000,2,FALSE)),\"\",VLOOKUP(H937,Database!$B$1:$C$5000,2,FALSE))","v":""},"",{"$error":"#N/A"},null,null,null,null,null,null,null,null,"",false,2,{"$f":"VLOOKUP(H937,Database!$B$1:$D$5000,3,0)","v":{"$error":"#N/A"}},true]
["",null,null,null,null,null,null,null,{"$f":"IF(ISERROR(VLOOKUP(H938,Database!$B$1:$C$5000,2,FALSE)),\"\",VLOOKUP(H938,Database!$B$1:$C$5000,2,FALSE))","v":""},"",{"$error":"#N/A"},null,null,null,null,null,null,null,null,"",false,2,{"$f":"VLOOKUP(H938,Database!$B$1:$D$5000,3,0)","v":{"$error":"#N/A"}},true]
["",null,null,null,null,null,null,null,{"$f":"IF(ISERROR(VLOOKUP(H939,Database!$B$1:$C$5000,2,FALSE)),\"\",VLOOKUP(H939,Database!$B$1:$C$5000,2,FALSE))","v":""},"",{"$error":"#N/A"},null,null,null,null,null,null,null,null,"",false,2,{"$f":"VLOOKUP(H939,Database!$B$1:$D$5000,3,0)","v":{"$error":"#N/A"}},true]
["",null,null,null,null,null,null,null,{"$f":"IF(ISERROR(VLOOKUP(H940,Database!$B$1:$C$5000,2,FALSE)),\"\",VLOOKUP(H940,Database!$B$1:$C$5000,2,FALSE))","v":""},"",{"$error":"#N/A"},null,null,null,null,null,null,null,null,"",false,2,{"$f":"VLOOKUP(H940,Database!$B$1:$D$5000,3,0)","v":{"$error":"#N/A"}},true]
["",null,null,null,null,null,null,null,{"$f":"IF(ISERROR(VLOOKUP(H941,Database!$B$1:$C$5000,2,FALSE)),\"\",VLOOKUP(H941,Database!$B$1:$C$5000,2,FALSE))","v":""},"",{"$error":"#N/A"},null,null,null,null,null,null,null,null,"",false,2,{"$f":"VLOOKUP(H941,Database!$B$1:$D$5000,3,0)","v":{"$error":"#N/A"}},true]
["",null,null,null,null,null,null,null,{"$f":"IF(ISERROR(VLOOKUP(H942,Database!$B$1:$C$5000,2,FALSE)),\"\",VLOOKUP(H942,Database!$B$1:$C$5000,2,FALSE))","v":""},"",{"$error":"#N/A"},null,null,null,null,null,null,null,null,"",false,2,{"$f":"VLOOKUP(H942,Database!$B$1:$D$5000,3,0)","v":{"$error":"#N/A"}},true]
["",null,null,null,null,null,null,null,{"$f":"IF(ISERROR(VLOOKUP(H943,Database!$B$1:$C$5000,2,FALSE)),\"\",VLOOKUP(H943,Database!$B$1:$C$5000,2,FALSE))","v":""},"",{"$error":"#N/A"},null,null,null,null,null,null,null,null,"",false,2,{"$f":"VLOOKUP(H943,Database!$B$1:$D$5000,3,0)","v":{"$error":"#N/A"}},true]
["",null,null,null,null,null,null,null,{"$f":"IF(ISERROR(VLOOKUP(H944,Database!$B$1:$C$5000,2,FALSE)),\"\",VLOOKUP(H944,Database!$B$1:$C$5000,2,FALSE))","v":""},"",{"$error":"#N/A"},null,null,null,null,null,null,null,null,"",false,2,{"$f":"VLOOKUP(H944,Database!$B$1:$D$5000,3,0)","v":{"$error":"#N/A"}},true]
["",null,null,null,null,null,null,null,{"$f":"IF(ISERROR(VLOOKUP(H945,Database!$B$1:$C$5000,2,FALSE)),\"\",VLOOKUP(H945,Database!$B$1:$C$5000,2,FALSE))","v":""},"",{"$error":"#N/A"},null,null,null,null,null,null,null,null,"",false,2,{"$f":"VLOOKUP(H945,Database!$B$1:$D$5000,3,0)","v":{"$error":"#N/A"}},true]
["",null,null,null,null,null,null,null,{"$f":"IF(ISERROR(VLOOKUP(H946,Database!$B$1:$C$5000,2,FALSE)),\"\",VLOOKUP(H946,Database!$B$1:$C$5000,2,FALSE))","v":""},"",{"$error":"#N/A"},null,null,null,null,null,null,null,null,"",false,2,{"$f":"VLOOKUP(H946,Database!$B$1:$D$5000,3,0)","v":{"$error":"#N/A"}},true]
["",null,null,null,null,null,null,null,{"$f":"IF(ISERROR(VLOOKUP(H947,Database!$B$1:$C$5000,2,FALSE)),\"\",VLOOKUP(H947,Database!$B$1:$C$5000,2,FALSE))","v":""},"",{"$error":"#N/A"},null,null,null,null,null,null,null,null,"",false,2,{"$f":"VLOOKUP(H947,Database!$B$1:$D$5000,3,0)","v":{"$error":"#N/A"}},true]
["",null,null,null,null,null,null,null,{"$f":"IF(ISERROR(VLOOKUP(H948,Database!$B$1:$C$5000,2,FALSE)),\"\",VLOOKUP(H948,Database!$B$1:$C$5000,2,FALSE))","v":""},"",{"$error":"#N/A"},null,null,null,null,null,null,null,null,"",false,2,{"$f":"VLOOKUP(H948,Database!$B$1:$D$5000,3,0)","v":{"$error":"#N/A"}},true]
["",null,null,null,null,null,null,null,{"$f":"IF(ISERROR(VLOOKUP(H949,Database!$B$1:$C$5000,2,FALSE)),\"\",VLOOKUP(H949,Database!$B$1:$C$5000,2,FALSE))","v":""},"",{"$error":"#N/A"},null,null,null,null,null,null,null,null,"",false,2,{"$f":"VLOOKUP(H949,Database!$B$1:$D$5000,3,0)","v":{"$error":"#N/A"}},true]
["",null,null,null,null,null,null,null,{"$f":"IF(ISERROR(VLOOKUP(H950,Database!$B$1:$C$5000,2,FALSE)),\"\",VLOOKUP(H950,Database!$B$1:$C$5000,2,FALSE))","v":""},"",{"$error":"#N/A"},null,null,null,null,null,null,null,null,"",false,2,{"$f":"VLOOKUP(H950,Database!$B$1:$D$5000,3,0)","v":{"$error":"#N/A"}},true]
["",null,null,null,null,null,null,null,{"$f":"IF(ISERROR(VLOOKUP(H951,Database!$B$1:$C$5000,2,FALSE)),\"\",VLOOKUP(H951,Database!$B$1:$C$5000,2,FALSE))","v":""},"",{"$error":"#N/A"},null,null,null,null,null,null,null,null,"",false,2,{"$f":"VLOOKUP(H951,Database!$B$1:$D$5000,3,0)","v":{"$error":"#N/A"}},true]
["",null,null,null,null,null,null,null,{"$f":"IF(ISERROR(VLOOKUP(H952,Database!$B$1:$C$5000,2,FALSE)),\"\",VLOOKUP(H952,Database!$B$1:$C$5000,2,FALSE))","v":""},"",{"$error":"#N/A"},null,null,null,null,null,null,null,null,"",false,2,{"$f":"VLOOKUP(H952,Database!$B$1:$D$5000,3,0)","v":{"$error":"#N/A"}},true]
["",null,null,null,null,null,null,null,{"$f":"IF(ISERROR(VLOOKUP(H953,Database!$B$1:$C$5000,2,FALSE)),\"\",VLOOKUP(H953,Database!$B$1:$C$5000,2,FALSE))","v":""},"",{"$error":"#N/A"},null,null,null,null,null,null,null,null,"",false,2,{"$f":"VLOOKUP(H953,Database!$B$1:$D$5000,3,0)","v":{"$error":"#N/A"}},true]
["",null,null,null,null,null,null,null,{"$f":"IF(ISERROR(VLOOKUP(H954,Database!$B$1:$C$5000,2,FALSE)),\"\",VLOOKUP(H954,Database!$B$1:$C$5000,2,FALSE))","v":""},"",{"$error":"#N/A"},null,null,null,null,null,null,null,null,"",false,2,{"$f":"VLOOKUP(H954,Database!$B$1:$D$5000,3,0)","v":{"$error":"#N/A"}},true]
["",null,null,null,null,null,null,null,{"$f":"IF(ISERROR(VLOOKUP(H955,Database!$B$1:$C$5000,2,FALSE)),\"\",VLOOKUP(H955,Database!$B$1:$C$5000,2,FALSE))","v":""},"",{"$error":"#N/A"},null,null,null,null,null,null,null,null,"",false,2,{"$f":"VLOOKUP(H955,Database!$B$1:$D$5000,3,0)","v":{"$error":"#N/A"}},true]
["",null,null,null,null,null,null,null,{"$f":"IF(ISERROR(VLOOKUP(H956,Database!$B$1:$C$5000,2,FALSE)),\"\",VLOOKUP(H956,Database!$B$1:$C$5000,2,FALSE))","v":""},"",{"$error":"#N/A"},null,null,null,null,null,null,null,null,"",false,2,{"$f":"VLOOKUP(H956,Database!$B$1:$D$5000,3,0)","v":{"$error":"#N/A"}},true]
["",null,null,null,null,null,null,null,{"$f":"IF(ISERROR(VLOOKUP(H957,Database!$B$1:$C$5000,2,FALSE)),\"\",VLOOKUP(H957,Database!$B$1:$C$5000,2,FALSE))","v":""},"",{"$error":"#N/A"},null,null,null,null,null,null,null,null,"",false,2,{"$f":"VLOOKUP(H957,Database!$B$1:$D$5000,3,0)","v":{"$error":"#N/A"}},true]
["",null,null,null,null,null,null,null,{"$f":"IF(ISERROR(VLOOKUP(H958,Database!$B$1:$C$5000,2,FALSE)),\"\",VLOOKUP(H958,Database!$B$1:$C$5000,2,FALSE))","v":""},"",{"$error":"#N/A"},null,null,null,null,null,null,null,null,"",false,2,{"$f":"VLOOKUP(H958,Database!$B$1:$D$5000,3,0)","v":{"$error":"#N/A"}},true]
["",null,null,null,null,null,null,null,{"$f":"IF(ISERROR(VLOOKUP(H959,Database!$B$1:$C$5000,2,FALSE)),\"\",VLOOKUP(H959,Database!$B$1:$C$5000,2,FALSE))","v":""},"",{"$error":"#N/A"},null,null,null,null,null,null,null,null,"",false,2,{"$f":"VLOOKUP(H959,Database!$B$1:$D$5000,3,0)","v":{"$error":"#N/A"}},true]
["",null,null,null,null,null,null,null,{"$f":"IF(ISERROR(VLOOKUP(H960,Database!$B$1:$C$5000,2,FALSE)),\"\",VLOOKUP(H960,Database!$B$1:$C$5000,2,FALSE))","v":""},"",{"$error":"#N/A"},null,null,null,null,null,null,null,null,"",false,2,{"$f":"VLOOKUP(H960,Database!$B$1:$D$5000,3,0)","v":{"$error":"#N/A"}},true]
["",null,null,null,null,null,null,null,{"$f":"IF(ISERROR(VLOOKUP(H961,Database!$B$1:$C$5000,2,FALSE)),\"\",VLOOKUP(H961,Database!$B$1:$C$5000,2,FALSE))","v":""},"",{"$error":"#N/A"},null,null,null,null,null,null,null,null,"",false,2,{"$f":"VLOOKUP(H961,Database!$B$1:$D$5000,3,0)","v":{"$error":"#N/A"}},true]
["",null,null,null,null,null,null,null,{"$f":"IF(ISERROR(VLOOKUP(H962,Database!$B$1:$C$5000,2,FALSE)),\"\",VLOOKUP(H962,Database!$B$1:$C$5000,2,FALSE))","v":""},"",{"$error":"#N/A"},null,null,null,null,null,null,null,null,"",false,2,{"$f":"VLOOKUP(H962,Database!$B$1:$D$5000,3,0)","v":{"$error":"#N/A"}},true]
["",null,null,null,null,null,null,null,{"$f":"IF(ISERROR(VLOOKUP(H963,Database!$B$1:$C$5000,2,FALSE)),\"\",VLOOKUP(H963,Database!$B$1:$C$5000,2,FALSE))","v":""},"",{"$error":"#N/A"},null,null,null,null,null,null,null,null,"",false,2,{"$f":"VLOOKUP(H963,Database!$B$1:$D$5000,3,0)","v":{"$error":"#N/A"}},true]
["",null,null,null,null,null,null,null,{"$f":"IF(ISERROR(VLOOKUP(H964,Database!$B$1:$C$5000,2,FALSE)),\"\",VLOOKUP(H964,Database!$B$1:$C$5000,2,FALSE))","v":""},"",{"$error":"#N/A"},null,null,null,null,null,null,null,null,"",false,2,{"$f":"VLOOKUP(H964,Database!$B$1:$D$5000,3,0)","v":{"$error":"#N/A"}},true]
["",null,null,null,null,null,null,null,{"$f":"IF(ISERROR(VLOOKUP(H965,Database!$B$1:$C$5000,2,FALSE)),\"\",VLOOKUP(H965,Database!$B$1:$C$5000,2,FALSE))","v":""},"",{"$error":"#N/A"},null,null,null,null,null,null,null,null,"",false,2,{"$f":"VLOOKUP(H965,Database!$B$1:$D$5000,3,0)","v":{"$error":"#N/A"}},true]
["",null,null,null,null,null,null,null,{"$f":"IF(ISERROR(VLOOKUP(H966,Database!$B$1:$C$5000,2,FALSE)),\"\",VLOOKUP(H966,Database!$B$1:$C$5000,2,FALSE))","v":""},"",{"$error":"#N/A"},null,null,null,null,null,null,null,null,"",false,2,{"$f":"VLOOKUP(H966,Database!$B$1:$D$5000,3,0)","v":{"$error":"#N/A"}},true]
[{"$f":"IF(B967=\"\",\"\",ROW(A962))","v":""},null,null,null,null,null,null,null,{"$f":"IF(ISERROR(VLOOKUP(H967,Database!$B$1:$C$5000,2,FALSE)),\"\",VLOOKUP(H967,Database!$B$1:$C$5000,2,FALSE))","v":""},{"$f":"IF(V967=1,1,IF(AND(T967=0,F967=\"SSB\",V967<>\"\"),3,IF(AND(T967=0,F967=\"DIGI\",V967<>\"\"),2,IF(AND(T967=0,F967=\"CW\",V967<>\"\"),5,IF(H967=\"-\",\"\",T967)))))","v":""},{"$f":"IF(H967=\"-\",\"\",IF(AND(H967<>\"\",X967=TRUE),\"INDIPENDENT\",IF(W967=0,\"SCRIVI NOME NELLE NOTE\",W967)))","v":{"$error":"#N/A"}},null,null,null,null,null,null,null,null,{"$f":"IF(H967=\"\",\"\",IF(H967=$R$6,25,IF(OR(H967=$R$7,H967=$R$8,H967=$R$9,H967=$R$10,H967=$R$11,H967=$R$12,H967=$R$13,H967=$R$14,H967=$R$15,H967=$R$16,H967=$R$17,H967=$R$18,H967=$R$19,H967=$R$20,H967=$R$21,H967=$R$22,H967=$R$23),15,0)))","v":""},{"$f":"ISERROR(I967)","v":false},{"$f":"IF(H967=\"-\",\"\",IF(AND(T967=0,U967=FALSE,I967=\"\"),1,2))","v":2},{"$f":"VLOOKUP(H967,Database!$B$1:$D$5000,3,0)","v":{"$error":"#N/A"}},{"$f":"ISERROR(W967)","v":true}]
["",null,null,null,null,null,null,null,{"$f":"IF(ISERROR(VLOOKUP(H968,Database!$B$1:$C$5000,2,FALSE)),\"\",VLOOKUP(H968,Database!$B$1:$C$5000,2,FALSE))","v":""},"",{"$error":"#N/A"},null,null,null,null,null,null,null,null,"",false,2,{"$f":"VLOOKUP(H968,Database!$B$1:$D$5000,3,0)","v":{"$error":"#N/A"}},true]
["",null,null,null,null,null,null,null,{"$f":"IF(ISERROR(VLOOKUP(H969,Database!$B$1:$C$5000,2,FALSE)),\"\",VLOOKUP(H969,Database!$B$1:$C$5000,2,FALSE))","v":""},"",{"$error":"#N/A"},null,null,null,null,null,null,null,null,"",false,2,{"$f":"VLOOKUP(H969,Database!$B$1:$D$5000,3,0)","v":{"$error":"#N/A"}},true]
["",null,null,null,null,null,null,null,{"$f":"IF(ISERROR(VLOOKUP(H970,Database!$B$1:$C$5000,2,FALSE)),\"\",VLOOKUP(H970,Database!$B$1:$C$5000,2,FALSE))","v":""},"",{"$error":"#N/A"},null,null,null,null,null,null,null,null,"",false,2,{"$f":"VLOOKUP(H970,Database!$B$1:$D$5000,3,0)","v":{"$error":"#N/A"}},true]
["",null,null,null,null,null,null,null,{"$f":"IF(ISERROR(VLOOKUP(H971,Database!$B$1:$C$5000,2,FALSE)),\"\",VLOOKUP(H971,Database!$B$1:$C$5000,2,FALSE))","v":""},"",{"$error":"#N/A"},null,null,null,null,null,null,null,null,"",false,2,{"$f":"VLOOKUP(H971,Database!$B$1:$D$5000,3,0)","v":{"$error":"#N/A"}},true]
["",null,null,null,null,null,null,null,{"$f":"IF(ISERROR(VLOOKUP(H972,Database!$B$1:$C$5000,2,FALSE)),\"\",VLOOKUP(H972,Database!$B$1:$C$5000,2,FALSE))","v":""},"",{"$error":"#N/A"},null,null,null,null,null,null,null,null,"",false,2,{"$f":"VLOOKUP(H972,Database!$B$1:$D$5000,3,0)","v":{"$error":"#N/A"}},true]
["",null,null,null,null,null,null,null,{"$f":"IF(ISERROR(VLOOKUP(H973,Database!$B$1:$C$5000,2,FALSE)),\"\",VLOOKUP(H973,Database!$B$1:$C$5000,2,FALSE))","v":""},"",{"$error":"#N/A"},null,null,null,null,null,null,null,null,"",false,2,{"$f":"VLOOKUP(H973,Database!$B$1:$D$5000,3,0)","v":{"$error":"#N/A"}},true]
["",null,null,null,null,null,null,null,{"$f":"IF(ISERROR(VLOOKUP(H974,Database!$B$1:$C$5000,2,FALSE)),\"\",VLOOKUP(H974,Database!$B$1:$C$5000,2,FALSE))","v":""},"",{"$error":"#N/A"},null,null,null,null,null,null,null,null,"",false,2,{"$f":"VLOOKUP(H974,Database!$B$1:$D$5000,3,0)","v":{"$error":"#N/A"}},true]
["",null,null,null,null,null,null,null,{"$f":"IF(ISERROR(VLOOKUP(H975,Database!$B$1:$C$5000,2,FALSE)),\"\",VLOOKUP(H975,Database!$B$1:$C$5000,2,FALSE))","v":""},"",{"$error":"#N/A"},null,null,null,null,null,null,null,null,"",false,2,{"$f":"VLOOKUP(H975,Database!$B$1:$D$5000,3,0)","v":{"$error":"#N/A"}},true]
["",null,null,null,null,null,null,null,{"$f":"IF(ISERROR(VLOOKUP(H976,Database!$B$1:$C$5000,2,FALSE)),\"\",VLOOKUP(H976,Database!$B$1:$C$5000,2,FALSE))","v":""},"",{"$error":"#N/A"},null,null,null,null,null,null,null,null,"",false,2,{"$f":"VLOOKUP(H976,Database!$B$1:$D$5000,3,0)","v":{"$error":"#N/A"}},true]
["",null,null,null,null,null,null,null,{"$f":"IF(ISERROR(VLOOKUP(H977,Database!$B$1:$C$5000,2,FALSE)),\"\",VLOOKUP(H977,Database!$B$1:$C$5000,2,FALSE))","v":""},"",{"$error":"#N/A"},null,null,null,null,null,null,null,null,"",false,2,{"$f":"VLOOKUP(H977,Database!$B$1:$D$5000,3,0)","v":{"$error":"#N/A"}},true]
["",null,null,null,null,null,null,null,{"$f":"IF(ISERROR(VLOOKUP(H978,Database!$B$1:$C$5000,2,FALSE)),\"\",VLOOKUP(H978,Database!$B$1:$C$5000,2,FALSE))","v":""},"",{"$error":"#N/A"},null,null,null,null,null,null,null,null,"",false,2,{"$f":"VLOOKUP(H978,Database!$B$1:$D$5000,3,0)","v":{"$error":"#N/A"}},true]
["",null,null,null,null,null,null,null,{"$f":"IF(ISERROR(VLOOKUP(H979,Database!$B$1:$C$5000,2,FALSE)),\"\",VLOOKUP(H979,Database!$B$1:$C$5000,2,FALSE))","v":""},"",{"$error":"#N/A"},null,null,null,null,null,null,null,null,"",false,2,{"$f":"VLOOKUP(H979,Database!$B$1:$D$5000,3,0)","v":{"$error":"#N/A"}},true]
["",null,null,null,null,null,null,null,{"$f":"IF(ISERROR(VLOOKUP(H980,Database!$B$1:$C$5000,2,FALSE)),\"\",VLOOKUP(H980,Database!$B$1:$C$5000,2,FALSE))","v":""},"",{"$error":"#N/A"},null,null,null,null,null,null,null,null,"",false,2,{"$f":"VLOOKUP(H980,Database!$B$1:$D$5000,3,0)","v":{"$error":"#N/A"}},true]
["",null,null,null,null,null,null,null,{"$f":"IF(ISERROR(VLOOKUP(H981,Database!$B$1:$C$5000,2,FALSE)),\"\",VLOOKUP(H981,Database!$B$1:$C$5000,2,FALSE))","v":""},"",{"$error":"#N/A"},null,null,null,null,null,null,null,null,"",false,2,{"$f":"VLOOKUP(H981,Database!$B$1:$D$5000,3,0)","v":{"$error":"#N/A"}},true]
["",null,null,null,null,null,null,null,{"$f":"IF(ISERROR(VLOOKUP(H982,Database!$B$1:$C$5000,2,FALSE)),\"\",VLOOKUP(H982,Database!$B$1:$C$5000,2,FALSE))","v":""},"",{"$error":"#N/A"},null,null,null,null,null,null,null,null,"",false,2,{"$f":"VLOOKUP(H982,Database!$B$1:$D$5000,3,0)","v":{"$error":"#N/A"}},true]
["",null,null,null,null,null,null,null,{"$f":"IF(ISERROR(VLOOKUP(H983,Database!$B$1:$C$5000,2,FALSE)),\"\",VLOOKUP(H983,Database!$B$1:$C$5000,2,FALSE))","v":""},"",{"$error":"#N/A"},null,null,null,null,null,null,null,null,"",false,2,{"$f":"VLOOKUP(H983,Database!$B$1:$D$5000,3,0)","v":{"$error":"#N/A"}},true]
["",null,null,null,null,null,null,null,{"$f":"IF(ISERROR(VLOOKUP(H984,Database!$B$1:$C$5000,2,FALSE)),\"\",VLOOKUP(H984,Database!$B$1:$C$5000,2,FALSE))","v":""},"",{"$error":"#N/A"},null,null,null,null,null,null,null,null,"",false,2,{"$f":"VLOOKUP(H984,Database!$B$1:$D$5000,3,0)","v":{"$error":"#N/A"}},true]
["",null,null,null,null,null,null,null,{"$f":"IF(ISERROR(VLOOKUP(H985,Database!$B$1:$C$5000,2,FALSE)),\"\",VLOOKUP(H985,Database!$B$1:$C$5000,2,FALSE))","v":""},"",{"$error":"#N/A"},null,null,null,null,null,null,null,null,"",false,2,{"$f":"VLOOKUP(H985,Database!$B$1:$D$5000,3,0)","v":{"$error":"#N/A"}},true]
["",null,null,null,null,null,null,null,{"$f":"IF(ISERROR(VLOOKUP(H986,Database!$B$1:$C$5000,2,FALSE)),\"\",VLOOKUP(H986,Database!$B$1:$C$5000,2,FALSE))","v":""},"",{"$error":"#N/A"},null,null,null,null,null,null,null,null,"",false,2,{"$f":"VLOOKUP(H986,Database!$B$1:$D$5000,3,0)","v":{"$error":"#N/A"}},true]
["",null,null,null,null,null,null,null,{"$f":"IF(ISERROR(VLOOKUP(H987,Database!$B$1:$C$5000,2,FALSE)),\"\",VLOOKUP(H987,Database!$B$1:$C$5000,2,FALSE))","v":""},"",{"$error":"#N/A"},null,null,null,null,null,null,null,null,"",false,2,{"$f":"VLOOKUP(H987,Database!$B$1:$D$5000,3,0)","v":{"$error":"#N/A"}},true]
["",null,null,null,null,null,null,null,{"$f":"IF(ISERROR(VLOOKUP(H988,Database!$B$1:$C$5000,2,FALSE)),\"\",VLOOKUP(H988,Database!$B$1:$C$5000,2,FALSE))","v":""},"",{"$error":"#N/A"},null,null,null,null,null,null,null,null,"",false,2,{"$f":"VLOOKUP(H988,Database!$B$1:$D$5000,3,0)","v":{"$error":"#N/A"}},true]
["",null,null,null,null,null,null,null,{"$f":"IF(ISERROR(VLOOKUP(H989,Database!$B$1:$C$5000,2,FALSE)),\"\",VLOOKUP(H989,Database!$B$1:$C$5000,2,FALSE))","v":""},"",{"$error":"#N/A"},null,null,null,null,null,null,null,null,"",false,2,{"$f":"VLOOKUP(H989,Database!$B$1:$D$5000,3,0)","v":{"$error":"#N/A"}},true]
["",null,null,null,null,null,null,null,{"$f":"IF(ISERROR(VLOOKUP(H990,Database!$B$1:$C$5000,2,FALSE)),\"\",VLOOKUP(H990,Database!$B$1:$C$5000,2,FALSE))","v":""},"",{"$error":"#N/A"},null,null,null,null,null,null,null,null,"",false,2,{"$f":"VLOOKUP(H990,Database!$B$1:$D$5000,3,0)","v":{"$error":"#N/A"}},true]
["",null,null,null,null,null,null,null,{"$f":"IF(ISERROR(VLOOKUP(H991,Database!$B$1:$C$5000,2,FALSE)),\"\",VLOOKUP(H991,Database!$B$1:$C$5000,2,FALSE))","v":""},"",{"$error":"#N/A"},null,null,null,null,null,null,null,null,"",false,2,{"$f":"VLOOKUP(H991,Database!$B$1:$D$5000,3,0)","v":{"$error":"#N/A"}},true]
["",null,null,null,null,null,null,null,{"$f":"IF(ISERROR(VLOOKUP(H992,Database!$B$1:$C$5000,2,FALSE)),\"\",VLOOKUP(H992,Database!$B$1:$C$5000,2,FALSE))","v":""},"",{"$error":"#N/A"},null,null,null,null,null,null,null,null,"",false,2,{"$f":"VLOOKUP(H992,Database!$B$1:$D$5000,3,0)","v":{"$error":"#N/A"}},true]
["",null,null,null,null,null,null,null,{"$f":"IF(ISERROR(VLOOKUP(H993,Database!$B$1:$C$5000,2,FALSE)),\"\",VLOOKUP(H993,Database!$B$1:$C$5000,2,FALSE))","v":""},"",{"$error":"#N/A"},null,null,null,null,null,null,null,null,"",false,2,{"$f":"VLOOKUP(H993,Database!$B$1:$D$5000,3,0)","v":{"$error":"#N/A"}},true]
["",null,null,null,null,null,null,null,{"$f":"IF(ISERROR(VLOOKUP(H994,Database!$B$1:$C$5000,2,FALSE)),\"\",VLOOKUP(H994,Database!$B$1:$C$5000,2,FALSE))","v":""},"",{"$error":"#N/A"},null,null,null,null,null,null,null,null,"",false,2,{"$f":"VLOOKUP(H994,Database!$B$1:$D$5000,3,0)","v":{"$error":"#N/A"}},true]
["",null,null,null,null,null,null,null,{"$f":"IF(ISERROR(VLOOKUP(H995,Database!$B$1:$C$5000,2,FALSE)),\"\",VLOOKUP(H995,Database!$B$1:$C$5000,2,FALSE))","v":""},"",{"$error":"#N/A"},null,null,null,null,null,null,null,null,"",false,2,{"$f":"VLOOKUP(H995,Database!$B$1:$D$5000,3,0)","v":{"$error":"#N/A"}},true]
["",null,null,null,null,null,null,null,{"$f":"IF(ISERROR(VLOOKUP(H996,Database!$B$1:$C$5000,2,FALSE)),\"\",VLOOKUP(H996,Database!$B$1:$C$5000,2,FALSE))","v":""},"",{"$error":"#N/A"},null,null,null,null,null,null,null,null,"",false,2,{"$f":"VLOOKUP(H996,Database!$B$1:$D$5000,3,0)","v":{"$error":"#N/A"}},true]
["",null,null,null,null,null,null,null,{"$f":"IF(ISERROR(VLOOKUP(H997,Database!$B$1:$C$5000,2,FALSE)),\"\",VLOOKUP(H997,Database!$B$1:$C$5000,2,FALSE))","v":""},"",{"$error":"#N/A"},null,null,null,null,null,null,null,null,"",false,2,{"$f":"VLOOKUP(H997,Database!$B$1:$D$5000,3,0)","v":{"$error":"#N/A"}},true]
["",null,null,null,null,null,null,null,{"$f":"IF(ISERROR(VLOOKUP(H998,Database!$B$1:$C$5000,2,FALSE)),\"\",VLOOKUP(H998,Database!$B$1:$C$5000,2,FALSE))","v":""},"",{"$error":"#N/A"},null,null,null,null,null,null,null,null,"",false,2,{"$f":"VLOOKUP(H998,Database!$B$1:$D$5000,3,0)","v":{"$error":"#N/A"}},true]
["",null,null,null,null,null,null,null,{"$f":"IF(ISERROR(VLOOKUP(H999,Database!$B$1:$C$5000,2,FALSE)),\"\",VLOOKUP(H999,Database!$B$1:$C$5000,2,FALSE))","v":""},"",{"$error":"#N/A"},null,null,null,null,null,null,null,null,"",false,2,{"$f":"VLOOKUP(H999,Database!$B$1:$D$5000,3,0)","v":{"$error":"#N/A"}},true]
["",null,null,null,null,null,null,null,{"$f":"IF(ISERROR(VLOOKUP(H1000,Database!$B$1:$C$5000,2,FALSE)),\"\",VLOOKUP(H1000,Database!$B$1:$C$5000,2,FALSE))","v":""},"",{"$error":"#N/A"},null,null,null,null,null,null,null,null,"",false,2,{"$f":"VLOOKUP(H1000,Database!$B$1:$D$5000,3,0)","v":{"$error":"#N/A"}},true]
["",null,null,null,null,null,null,null,{"$f":"IF(ISERROR(VLOOKUP(H1002,Database!$B$1:$C$5000,2,FALSE)),\"\",VLOOKUP(H1002,Database!$B$1:$C$5000,2,FALSE))","v":""},"",{"$error":"#N/A"},null,null,null,null,null,null,null,null,"",false,2,{"$f":"VLOOKUP(H1002,Database!$B$1:$D$5000,3,0)","v":{"$error":"#N/A"}},true]
["",null,null,null,null,null,null,null,{"$f":"IF(ISERROR(VLOOKUP(H1006,Database!$B$1:$C$5000,2,FALSE)),\"\",VLOOKUP(H1006,Database!$B$1:$C$5000,2,FALSE))","v":""},"",{"$error":"#N/A"},null,null,null,null,null,null,null,null,"",false,2,{"$f":"VLOOKUP(H1006,Database!$B$1:$D$5000,3,0)","v":{"$error":"#N/A"}},true]
["",null,null,null,null,null,null,null,{"$f":"IF(ISERROR(VLOOKUP(H1011,Database!$B$1:$C$5000,2,FALSE)),\"\",VLOOKUP(H1011,Database!$B$1:$C$5000,2,FALSE))","v":""},"",{"$error":"#N/A"},null,null,null,null,null,null,null,null,"",false,2,{"$f":"VLOOKUP(H1011,Database!$B$1:$D$5000,3,0)","v":{"$error":"#N/A"}},true]
["",null,null,null,null,null,null,null,{"$f":"IF(ISERROR(VLOOKUP(H1017,Database!$B$1:$C$5000,2,FALSE)),\"\",VLOOKUP(H1017,Database!$B$1:$C$5000,2,FALSE))","v":""},"",{"$error":"#N/A"},null,null,null,null,null,null,null,null,"",false,2,{"$f":"VLOOKUP(H1017,Database!$B$1:$D$5000,3,0)","v":{"$error":"#N/A"}},true]
["",null,null,null,null,null,null,null,{"$f":"IF(ISERROR(VLOOKUP(H1021,Database!$B$1:$C$5000,2,FALSE)),\"\",VLOOKUP(H1021,Database!$B$1:$C$5000,2,FALSE))","v":""},"",{"$error":"#N/A"},null,null,null,null,null,null,null,null,"",false,2,{"$f":"VLOOKUP(H1021,Database!$B$1:$D$5000,3,0)","v":{"$error":"#N/A"}},true]
["",null,null,null,null,null,null,null,{"$f":"IF(ISERROR(VLOOKUP(H1026,Database!$B$1:$C$5000,2,FALSE)),\"\",VLOOKUP(H1026,Database!$B$1:$C$5000,2,FALSE))","v":""},"",{"$error":"#N/A"},null,null,null,null,null,null,null,null,"",false,2,{"$f":"VLOOKUP(H1026,Database!$B$1:$D$5000,3,0)","v":{"$error":"#N/A"}},true]
["",null,null,null,null,null,null,null,{"$f":"IF(ISERROR(VLOOKUP(H1032,Database!$B$1:$C$5000,2,FALSE)),\"\",VLOOKUP(H1032,Database!$B$1:$C$5000,2,FALSE))","v":""},"",{"$error":"#N/A"},null,null,null,null,null,null,null,null,"",false,2,{"$f":"VLOOKUP(H1032,Database!$B$1:$D$5000,3,0)","v":{"$error":"#N/A"}},true]
["",null,null,null,null,null,null,null,{"$f":"IF(ISERROR(VLOOKUP(H1037,Database!$B$1:$C$5000,2,FALSE)),\"\",VLOOKUP(H1037,Database!$B$1:$C$5000,2,FALSE))","v":""},"",{"$error":"#N/A"},null,null,null,null,null,null,null,null,"",false,2,{"$f":"VLOOKUP(H1037,Database!$B$1:$D$5000,3,0)","v":{"$error":"#N/A"}},true]
["",null,null,null,null,null,null,null,{"$f":"IF(ISERROR(VLOOKUP(H1040,Database!$B$1:$C$5000,2,FALSE)),\"\",VLOOKUP(H1040,Database!$B$1:$C$5000,2,FALSE))","v":""},"",{"$error":"#N/A"},null,null,null,null,null,null,null,null,"",false,2,{"$f":"VLOOKUP(H1040,Database!$B$1:$D$5000,3,0)","v":{"$error":"#N/A"}},true]
["",null,null,null,null,null,null,null,{"$f":"IF(ISERROR(VLOOKUP(H1047,Database!$B$1:$C$5000,2,FALSE)),\"\",VLOOKUP(H1047,Database!$B$1:$C$5000,2,FALSE))","v":""},"",{"$error":"#N/A"},null,null,null,null,null,null,null,null,"",false,2,{"$f":"VLOOKUP(H1047,Database!$B$1:$D$5000,3,0)","v":{"$error":"#N/A"}},true]
["",null,null,null,null,null,null,null,{"$f":"IF(ISERROR(VLOOKUP(H1052,Database!$B$1:$C$5000,2,FALSE)),\"\",VLOOKUP(H1052,Database!$B$1:$C$5000,2,FALSE))","v":""},"",{"$error":"#N/A"},null,null,null,null,null,null,null,null,"",false,2,{"$f":"VLOOKUP(H1052,Database!$B$1:$D$5000,3,0)","v":{"$error":"#N/A"}},true]
["",null,null,null,null,null,null,null,{"$f":"IF(ISERROR(VLOOKUP(H1053,Database!$B$1:$C$5000,2,FALSE)),\"\",VLOOKUP(H1053,Database!$B$1:$C$5000,2,FALSE))","v":""},"",{"$error":"#N/A"},null,null,null,null,null,null,null,null,"",false,2,{"$f":"VLOOKUP(H1053,Database!$B$1:$D$5000,3,0)","v":{"$error":"#N/A"}},true]
["",null,null,null,null,null,null,null,{"$f":"IF(ISERROR(VLOOKUP(H1059,Database!$B$1:$C$5000,2,FALSE)),\"\",VLOOKUP(H1059,Database!$B$1:$C$5000,2,FALSE))","v":""},"",{"$error":"#N/A"},null,null,null,null,null,null,null,null,"",false,2,{"$f":"VLOOKUP(H1059,Database!$B$1:$D$5000,3,0)","v":{"$error":"#N/A"}},true]
["",null,null,null,null,null,null,null,{"$f":"IF(ISERROR(VLOOKUP(H1062,Database!$B$1:$C$5000,2,FALSE)),\"\",VLOOKUP(H1062,Database!$B$1:$C$5000,2,FALSE))","v":""},"",{"$error":"#N/A"},null,null,null,null,null,null,null,null,"",false,2,{"$f":"VLOOKUP(H1062,Database!$B$1:$D$5000,3,0)","v":{"$error":"#N/A"}},true]
["",null,null,null,null,null,null,null,{"$f":"IF(ISERROR(VLOOKUP(H1068,Database!$B$1:$C$5000,2,FALSE)),\"\",VLOOKUP(H1068,Database!$B$1:$C$5000,2,FALSE))","v":""},"",{"$error":"#N/A"},null,null,null,null,null,null,null,null,"",false,2,{"$f":"VLOOKUP(H1068,Database!$B$1:$D$5000,3,0)","v":{"$error":"#N/A"}},true]
["",null,null,null,null,null,null,null,{"$f":"IF(ISERROR(VLOOKUP(H1073,Database!$B$1:$C$5000,2,FALSE)),\"\",VLOOKUP(H1073,Database!$B$1:$C$5000,2,FALSE))","v":""},"",{"$error":"#N/A"},null,null,null,null,null,null,null,null,"",false,2,{"$f":"VLOOKUP(H1073,Database!$B$1:$D$5000,3,0)","v":{"$error":"#N/A"}},true]
["",null,null,null,null,null,null,null,{"$f":"IF(ISERROR(VLOOKUP(H1078,Database!$B$1:$C$5000,2,FALSE)),\"\",VLOOKUP(H1078,Database!$B$1:$C$5000,2,FALSE))","v":""},"",{"$error":"#N/A"},null,null,null,null,null,null,null,null,"",false,2,{"$f":"VLOOKUP(H1078,Database!$B$1:$D$5000,3,0)","v":{"$error":"#N/A"}},true]
["",null,null,null,null,null,null,null,{"$f":"IF(ISERROR(VLOOKUP(H1083,Database!$B$1:$C$5000,2,FALSE)),\"\",VLOOKUP(H1083,Database!$B$1:$C$5000,2,FALSE))","v":""},"",{"$error":"#N/A"},null,null,null,null,null,null,null,null,"",false,2,{"$f":"VLOOKUP(H1083,Database!$B$1:$D$5000,3,0)","v":{"$error":"#N/A"}},true]
["",null,null,null,null,null,null,null,{"$f":"IF(ISERROR(VLOOKUP(H1088,Database!$B$1:$C$5000,2,FALSE)),\"\",VLOOKUP(H1088,Database!$B$1:$C$5000,2,FALSE))","v":""},"",{"$error":"#N/A"},null,null,null,null,null,null,null,null,"",false,2,{"$f":"VLOOKUP(H1088,Database!$B$1:$D$5000,3,0)","v":{"$error":"#N/A"}},true]
["",null,null,null,null,null,null,null,{"$f":"IF(ISERROR(VLOOKUP(H1094,Database!$B$1:$C$5000,2,FALSE)),\"\",VLOOKUP(H1094,Database!$B$1:$C$5000,2,FALSE))","v":""},"",{"$error":"#N/A"},null,null,null,null,null,null,null,null,"",false,2,{"$f":"VLOOKUP(H1094,Database!$B$1:$D$5000,3,0)","v":{"$error":"#N/A"}},true]
["",null,null,null,null,null,null,null,{"$f":"IF(ISERROR(VLOOKUP(H1097,Database!$B$1:$C$5000,2,FALSE)),\"\",VLOOKUP(H1097,Database!$B$1:$C$5000,2,FALSE))","v":""},"",{"$error":"#N/A"},null,null,null,null,null,null,null,null,"",false,2,{"$f":"VLOOKUP(H1097,Database!$B$1:$D$5000,3,0)","v":{"$error":"#N/A"}},true]
["",null,null,null,null,null,null,null,{"$f":"IF(ISERROR(VLOOKUP(H1104,Database!$B$1:$C$5000,2,FALSE)),\"\",VLOOKUP(H1104,Database!$B$1:$C$5000,2,FALSE))","v":""},"",{"$error":"#N/A"},null,null,null,null,null,null,null,null,"",false,2,{"$f":"VLOOKUP(H1104,Database!$B$1:$D$5000,3,0)","v":{"$error":"#N/A"}},true]
["",null,null,null,null,null,null,null,{"$f":"IF(ISERROR(VLOOKUP(H1109,Database!$B$1:$C$5000,2,FALSE)),\"\",VLOOKUP(H1109,Database!$B$1:$C$5000,2,FALSE))","v":""},"",{"$error":"#N/A"},null,null,null,null,null,null,null,null,"",false,2,{"$f":"VLOOKUP(H1109,Database!$B$1:$D$5000,3,0)","v":{"$error":"#N/A"}},true]
["",null,null,null,null,null,null,null,{"$f":"IF(ISERROR(VLOOKUP(H1114,Database!$B$1:$C$5000,2,FALSE)),\"\",VLOOKUP(H1114,Database!$B$1:$C$5000,2,FALSE))","v":""},"",{"$error":"#N/A"},null,null,null,null,null,null,null,null,"",false,2,{"$f":"VLOOKUP(H1114,Database!$B$1:$D$5000,3,0)","v":{"$error":"#N/A"}},true]
["",null,null,null,null,null,null,null,{"$f":"IF(ISERROR(VLOOKUP(H1116,Database!$B$1:$C$5000,2,FALSE)),\"\",VLOOKUP(H1116,Database!$B$1:$C$5000,2,FALSE))","v":""},"",{"$error":"#N/A"},null,null,null,null,null,null,null,null,"",false,2,{"$f":"VLOOKUP(H1116,Database!$B$1:$D$5000,3,0)","v":{"$error":"#N/A"}},true]
["",null,null,null,null,null,null,null,{"$f":"IF(ISERROR(VLOOKUP(H1119,Database!$B$1:$C$5000,2,FALSE)),\"\",VLOOKUP(H1119,Database!$B$1:$C$5000,2,FALSE))","v":""},"",{"$error":"#N/A"},null,null,null,null,null,null,null,null,"",false,2,{"$f":"VLOOKUP(H1119,Database!$B$1:$D$5000,3,0)","v":{"$error":"#N/A"}},true]
["",null,null,null,null,null,null,null,{"$f":"IF(ISERROR(VLOOKUP(H1124,Database!$B$1:$C$5000,2,FALSE)),\"\",VLOOKUP(H1124,Database!$B$1:$C$5000,2,FALSE))","v":""},"",{"$error":"#N/A"},null,null,null,null,null,null,null,null,"",false,2,{"$f":"VLOOKUP(H1124,Database!$B$1:$D$5000,3,0)","v":{"$error":"#N/A"}},true]
["",null,null,null,null,null,null,null,{"$f":"IF(ISERROR(VLOOKUP(H1130,Database!$B$1:$C$5000,2,FALSE)),\"\",VLOOKUP(H1130,Database!$B$1:$C$5000,2,FALSE))","v":""},"",{"$error":"#N/A"},null,null,null,null,null,null,null,null,"",false,2,{"$f":"VLOOKUP(H1130,Database!$B$1:$D$5000,3,0)","v":{"$error":"#N/A"}},true]
["",null,null,null,null,null,null,null,{"$f":"IF(ISERROR(VLOOKUP(H1135,Database!$B$1:$C$5000,2,FALSE)),\"\",VLOOKUP(H1135,Database!$B$1:$C$5000,2,FALSE))","v":""},"",{"$error":"#N/A"},null,null,null,null,null,null,null,null,"",false,2,{"$f":"VLOOKUP(H1135,Database!$B$1:$D$5000,3,0)","v":{"$error":"#N/A"}},true]
["",null,null,null,null,null,null,null,{"$f":"IF(ISERROR(VLOOKUP(H1140,Database!$B$1:$C$5000,2,FALSE)),\"\",VLOOKUP(H1140,Database!$B$1:$C$5000,2,FALSE))","v":""},"",{"$error":"#N/A"},null,null,null,null,null,null,null,null,"",false,2,{"$f":"VLOOKUP(H1140,Database!$B$1:$D$5000,3,0)","v":{"$error":"#N/A"}},true]
["",null,null,null,null,null,null,null,{"$f":"IF(ISERROR(VLOOKUP(H1145,Database!$B$1:$C$5000,2,FALSE)),\"\",VLOOKUP(H1145,Database!$B$1:$C$5000,2,FALSE))","v":""},"",{"$error":"#N/A"},null,null,null,null,null,null,null,null,"",false,2,{"$f":"VLOOKUP(H1145,Database!$B$1:$D$5000,3,0)","v":{"$error":"#N/A"}},true]
["",null,null,null,null,null,null,null,{"$f":"IF(ISERROR(VLOOKUP(H1150,Database!$B$1:$C$5000,2,FALSE)),\"\",VLOOKUP(H1150,Database!$B$1:$C$5000,2,FALSE))","v":""},"",{"$error":"#N/A"},null,null,null,null,null,null,null,null,"",false,2,{"$f":"VLOOKUP(H1150,Database!$B$1:$D$5000,3,0)","v":{"$error":"#N/A"}},true]
["",null,null,null,null,null,null,null,{"$f":"IF(ISERROR(VLOOKUP(H1154,Database!$B$1:$C$5000,2,FALSE)),\"\",VLOOKUP(H1154,Database!$B$1:$C$5000,2,FALSE))","v":""},"",{"$error":"#N/A"},null,null,null,null,null,null,null,null,"",false,2,{"$f":"VLOOKUP(H1154,Database!$B$1:$D$5000,3,0)","v":{"$error":"#N/A"}},true]
["",null,null,null,null,null,null,null,{"$f":"IF(ISERROR(VLOOKUP(H1160,Database!$B$1:$C$5000,2,FALSE)),\"\",VLOOKUP(H1160,Database!$B$1:$C$5000,2,FALSE))","v":""},"",{"$error":"#N/A"},null,null,null,null,null,null,null,null,"",false,2,{"$f":"VLOOKUP(H1160,Database!$B$1:$D$5000,3,0)","v":{"$error":"#N/A"}},true]
["",null,null,null,null,null,null,null,{"$f":"IF(ISERROR(VLOOKUP(H1165,Database!$B$1:$C$5000,2,FALSE)),\"\",VLOOKUP(H1165,Database!$B$1:$C$5000,2,FALSE))","v":""},"",{"$error":"#N/A"},null,null,null,null,null,null,null,null,"",false,2,{"$f":"VLOOKUP(H1165,Database!$B$1:$D$5000,3,0)","v":{"$error":"#N/A"}},true]
["",null,null,null,null,null,null,null,{"$f":"IF(ISERROR(VLOOKUP(H1171,Database!$B$1:$C$5000,2,FALSE)),\"\",VLOOKUP(H1171,Database!$B$1:$C$5000,2,FALSE))","v":""},"",{"$error":"#N/A"},null,null,null,null,null,null,null,null,"",false,2,{"$f":"VLOOKUP(H1171,Database!$B$1:$D$5000,3,0)","v":{"$error":"#N/A"}},true]
["",null,null,null,null,null,null,null,{"$f":"IF(ISERROR(VLOOKUP(H1173,Database!$B$1:$C$5000,2,FALSE)),\"\",VLOOKUP(H1173,Database!$B$1:$C$5000,2,FALSE))","v":""},"",{"$error":"#N/A"},null,null,null,null,null,null,null,null,"",false,2,{"$f":"VLOOKUP(H1173,Database!$B$1:$D$5000,3,0)","v":{"$error":"#N/A"}},true]
["",null,null,null,null,null,null,null,{"$f":"IF(ISERROR(VLOOKUP(H1176,Database!$B$1:$C$5000,2,FALSE)),\"\",VLOOKUP(H1176,Database!$B$1:$C$5000,2,FALSE))","v":""},"",{"$error":"#N/A"},null,null,null,null,null,null,null,null,"",false,2,{"$f":"VLOOKUP(H1176,Database!$B$1:$D$5000,3,0)","v":{"$error":"#N/A"}},true]
["",null,null,null,null,null,null,null,{"$f":"IF(ISERROR(VLOOKUP(H1181,Database!$B$1:$C$5000,2,FALSE)),\"\",VLOOKUP(H1181,Database!$B$1:$C$5000,2,FALSE))","v":""},"",{"$error":"#N/A"},null,null,null,null,null,null,null,null,"",false,2,{"$f":"VLOOKUP(H1181,Database!$B$1:$D$5000,3,0)","v":{"$error":"#N/A"}},true]
["",null,null,null,null,null,null,null,{"$f":"IF(ISERROR(VLOOKUP(H1186,Database!$B$1:$C$5000,2,FALSE)),\"\",VLOOKUP(H1186,Database!$B$1:$C$5000,2,FALSE))","v":""},"",{"$error":"#N/A"},null,null,null,null,null,null,null,null,"",false,2,{"$f":"VLOOKUP(H1186,Database!$B$1:$D$5000,3,0)","v":{"$error":"#N/A"}},true]
["",null,null,null,null,null,null,null,{"$f":"IF(ISERROR(VLOOKUP(H1192,Database!$B$1:$C$5000,2,FALSE)),\"\",VLOOKUP(H1192,Database!$B$1:$C$5000,2,FALSE))","v":""},"",{"$error":"#N/A"},null,null,null,null,null,null,null,null,"",false,2,{"$f":"VLOOKUP(H1192,Database!$B$1:$D$5000,3,0)","v":{"$error":"#N/A"}},true]
["",null,null,null,null,null,null,null,{"$f":"IF(ISERROR(VLOOKUP(H1196,Database!$B$1:$C$5000,2,FALSE)),\"\",VLOOKUP(H1196,Database!$B$1:$C$5000,2,FALSE))","v":""},"",{"$error":"#N/A"},null,null,null,null,null,null,null,null,"",false,2,{"$f":"VLOOKUP(H1196,Database!$B$1:$D$5000,3,0)","v":{"$error":"#N/A"}},true]
["",null,null,null,null,null,null,null,{"$f":"IF(ISERROR(VLOOKUP(H1202,Database!$B$1:$C$5000,2,FALSE)),\"\",VLOOKUP(H1202,Database!$B$1:$C$5000,2,FALSE))","v":""},"",{"$error":"#N/A"},null,null,null,null,null,null,null,null,"",false,2,{"$f":"VLOOKUP(H1202,Database!$B$1:$D$5000,3,0)","v":{"$error":"#N/A"}},true]
["",null,null,null,null,null,null,null,{"$f":"IF(ISERROR(VLOOKUP(H1207,Database!$B$1:$C$5000,2,FALSE)),\"\",VLOOKUP(H1207,Database!$B$1:$C$5000,2,FALSE))","v":""},"",{"$error":"#N/A"},null,null,null,null,null,null,null,null,"",false,2,{"$f":"VLOOKUP(H1207,Database!$B$1:$D$5000,3,0)","v":{"$error":"#N/A"}},true]
["",null,null,null,null,null,null,null,{"$f":"IF(ISERROR(VLOOKUP(H1211,Database!$B$1:$C$5000,2,FALSE)),\"\",VLOOKUP(H1211,Database!$B$1:$C$5000,2,FALSE))","v":""},"",{"$error":"#N/A"},null,null,null,null,null,null,null,null,"",false,2,{"$f":"VLOOKUP(H1211,Database!$B$1:$D$5000,3,0)","v":{"$error":"#N/A"}},true]
["",null,null,null,null,null,null,null,{"$f":"IF(ISERROR(VLOOKUP(H1217,Database!$B$1:$C$5000,2,FALSE)),\"\",VLOOKUP(H1217,Database!$B$1:$C$5000,2,FALSE))","v":""},"",{"$error":"#N/A"},null,null,null,null,null,null,null,null,"",false,2,{"$f":"VLOOKUP(H1217,Database!$B$1:$D$5000,3,0)","v":{"$error":"#N/A"}},true]
["",null,null,null,null,null,null,null,{"$f":"IF(ISERROR(VLOOKUP(H1222,Database!$B$1:$C$5000,2,FALSE)),\"\",VLOOKUP(H1222,Database!$B$1:$C$5000,2,FALSE))","v":""},"",{"$error":"#N/A"},null,null,null,null,null,null,null,null,"",false,2,{"$f":"VLOOKUP(H1222,Database!$B$1:$D$5000,3,0)","v":{"$error":"#N/A"}},true]
["",null,null,null,null,null,null,null,{"$f":"IF(ISERROR(VLOOKUP(H1227,Database!$B$1:$C$5000,2,FALSE)),\"\",VLOOKUP(H1227,Database!$B$1:$C$5000,2,FALSE))","v":""},"",{"$error":"#N/A"},null,null,null,null,null,null,null,null,"",false,2,{"$f":"VLOOKUP(H1227,Database!$B$1:$D$5000,3,0)","v":{"$error":"#N/A"}},true]
["",null,null,null,null,null,null,null,{"$f":"IF(ISERROR(VLOOKUP(H1230,Database!$B$1:$C$5000,2,FALSE)),\"\",VLOOKUP(H1230,Database!$B$1:$C$5000,2,FALSE))","v":""},"",{"$error":"#N/A"},null,null,null,null,null,null,null,null,"",false,2,{"$f":"VLOOKUP(H1230,Database!$B$1:$D$5000,3,0)","v":{"$error":"#N/A"}},true]
["",null,null,null,null,null,null,null,{"$f":"IF(ISERROR(VLOOKUP(H1237,Database!$B$1:$C$5000,2,FALSE)),\"\",VLOOKUP(H1237,Database!$B$1:$C$5000,2,FALSE))","v":""},"",{"$error":"#N/A"},null,null,null,null,null,null,null,null,"",false,2,{"$f":"VLOOKUP(H1237,Database!$B$1:$D$5000,3,0)","v":{"$error":"#N/A"}},true]
["",null,null,null,null,null,null,null,{"$f":"IF(ISERROR(VLOOKUP(H1238,Database!$B$1:$C$5000,2,FALSE)),\"\",VLOOKUP(H1238,Database!$B$1:$C$5000,2,FALSE))","v":""},"",{"$error":"#N/A"},null,null,null,null,null,null,null,null,"",false,2,{"$f":"VLOOKUP(H1238,Database!$B$1:$D$5000,3,0)","v":{"$error":"#N/A"}},true]
["",null,null,null,null,null,null,null,{"$f":"IF(ISERROR(VLOOKUP(H1243,Database!$B$1:$C$5000,2,FALSE)),\"\",VLOOKUP(H1243,Database!$B$1:$C$5000,2,FALSE))","v":""},"",{"$error":"#N/A"},null,null,null,null,null,null,null,null,"",false,2,{"$f":"VLOOKUP(H1243,Database!$B$1:$D$5000,3,0)","v":{"$error":"#N/A"}},true]
["",null,null,null,null,null,null,null,{"$f":"IF(ISERROR(VLOOKUP(H1249,Database!$B$1:$C$5000,2,FALSE)),\"\",VLOOKUP(H1249,Database!$B$1:$C$5000,2,FALSE))","v":""},"",{"$error":"#N/A"},null,null,null,null,null,null,null,null,"",false,2,{"$f":"VLOOKUP(H1249,Database!$B$1:$D$5000,3,0)","v":{"$error":"#N/A"}},true]
["",null,null,null,null,null,null,null,{"$f":"IF(ISERROR(VLOOKUP(H1253,Database!$B$1:$C$5000,2,FALSE)),\"\",VLOOKUP(H1253,Database!$B$1:$C$5000,2,FALSE))","v":""},"",{"$error":"#N/A"},null,null,null,null,null,null,null,null,"",false,2,{"$f":"VLOOKUP(H1253,Database!$B$1:$D$5000,3,0)","v":{"$error":"#N/A"}},true]
["",null,null,null,null,null,null,null,{"$f":"IF(ISERROR(VLOOKUP(H1258,Database!$B$1:$C$5000,2,FALSE)),\"\",VLOOKUP(H1258,Database!$B$1:$C$5000,2,FALSE))","v":""},"",{"$error":"#N/A"},null,null,null,null,null,null,null,null,"",false,2,{"$f":"VLOOKUP(H1258,Database!$B$1:$D$5000,3,0)","v":{"$error":"#N/A"}},true]
["",null,null,null,null,null,null,null,{"$f":"IF(ISERROR(VLOOKUP(H1264,Database!$B$1:$C$5000,2,FALSE)),\"\",VLOOKUP(H1264,Database!$B$1:$C$5000,2,FALSE))","v":""},"",{"$error":"#N/A"},null,null,null,null,null,null,null,null,"",false,2,{"$f":"VLOOKUP(H1264,Database!$B$1:$D$5000,3,0)","v":{"$error":"#N/A"}},true]
["",null,null,null,null,null,null,null,{"$f":"IF(ISERROR(VLOOKUP(H1268,Database!$B$1:$C$5000,2,FALSE)),\"\",VLOOKUP(H1268,Database!$B$1:$C$5000,2,FALSE))","v":""},"",{"$error":"#N/A"},null,null,null,null,null,null,null,null,"",false,2,{"$f":"VLOOKUP(H1268,Database!$B$1:$D$5000,3,0)","v":{"$error":"#N/A"}},true]
["",null,null,null,null,null,null,null,{"$f":"IF(ISERROR(VLOOKUP(H1273,Database!$B$1:$C$5000,2,FALSE)),\"\",VLOOKUP(H1273,Database!$B$1:$C$5000,2,FALSE))","v":""},"",{"$error":"#N/A"},null,null,null,null,null,null,null,null,"",false,2,{"$f":"VLOOKUP(H1273,Database!$B$1:$D$5000,3,0)","v":{"$error":"#N/A"}},true]
["",null,null,null,null,null,null,null,{"$f":"IF(ISERROR(VLOOKUP(H1279,Database!$B$1:$C$5000,2,FALSE)),\"\",VLOOKUP(H1279,Database!$B$1:$C$5000,2,FALSE))","v":""},"",{"$error":"#N/A"},null,null,null,null,null,null,null,null,"",false,2,{"$f":"VLOOKUP(H1279,Database!$B$1:$D$5000,3,0)","v":{"$error":"#N/A"}},true]
["",null,null,null,null,null,null,null,{"$f":"IF(ISERROR(VLOOKUP(H1284,Database!$B$1:$C$5000,2,FALSE)),\"\",VLOOKUP(H1284,Database!$B$1:$C$5000,2,FALSE))","v":""},"",{"$error":"#N/A"},null,null,null,null,null,null,null,null,"",false,2,{"$f":"VLOOKUP(H1284,Database!$B$1:$D$5000,3,0)","v":{"$error":"#N/A"}},true]
[{"$f":"IF(B1287=\"\",\"\",ROW(A1282))","v":""},null,null,null,null,null,null,null,{"$f":"IF(ISERROR(VLOOKUP(H1287,Database!$B$1:$C$5000,2,FALSE)),\"\",VLOOKUP(H1287,Database!$B$1:$C$5000,2,FALSE))","v":""},{"$f":"IF(V1287=1,1,IF(AND(T1287=0,F1287=\"SSB\",V1287<>\"\"),3,IF(AND(T1287=0,F1287=\"DIGI\",V1287<>\"\"),2,IF(AND(T1287=0,F1287=\"CW\",V1287<>\"\"),5,IF(H1287=\"-\",\"\",T1287)))))","v":""},{"$f":"IF(H1287=\"-\",\"\",IF(AND(H1287<>\"\",X1287=TRUE),\"INDIPENDENT\",IF(W1287=0,\"SCRIVI NOME NELLE NOTE\",W1287)))","v":{"$error":"#N/A"}},null,null,null,null,null,null,null,null,{"$f":"IF(H1287=\"\",\"\",IF(H1287=$R$6,25,IF(OR(H1287=$R$7,H1287=$R$8,H1287=$R$9,H1287=$R$10,H1287=$R$11,H1287=$R$12,H1287=$R$13,H1287=$R$14,H1287=$R$15,H1287=$R$16,H1287=$R$17,H1287=$R$18,H1287=$R$19,H1287=$R$20,H1287=$R$21,H1287=$R$22,H1287=$R$23),15,0)))","v":""},{"$f":"ISERROR(I1287)","v":false},{"$f":"IF(H1287=\"-\",\"\",IF(AND(T1287=0,U1287=FALSE,I1287=\"\"),1,2))","v":2},{"$f":"VLOOKUP(H1287,Database!$B$1:$D$5000,3,0)","v":{"$error":"#N/A"}},{"$f":"ISERROR(W1287)","v":true}]
["",null,null,null,null,null,null,null,{"$f":"IF(ISERROR(VLOOKUP(H1294,Database!$B$1:$C$5000,2,FALSE)),\"\",VLOOKUP(H1294,Database!$B$1:$C$5000,2,FALSE))","v":""},"",{"$error":"#N/A"},null,null,null,null,null,null,null,null,"",false,2,{"$f":"VLOOKUP(H1294,Database!$B$1:$D$5000,3,0)","v":{"$error":"#N/A"}},true]
["",null,null,null,null,null,null,null,{"$f":"IF(ISERROR(VLOOKUP(H1299,Database!$B$1:$C$5000,2,FALSE)),\"\",VLOOKUP(H1299,Database!$B$1:$C$5000,2,FALSE))","v":""},"",{"$error":"#N/A"},null,null,null,null,null,null,null,null,"",false,2,{"$f":"VLOOKUP(H1299,Database!$B$1:$D$5000,3,0)","v":{"$error":"#N/A"}},true]
["",null,null,null,null,null,null,null,{"$f":"IF(ISERROR(VLOOKUP(H1300,Database!$B$1:$C$5000,2,FALSE)),\"\",VLOOKUP(H1300,Database!$B$1:$C$5000,2,FALSE))","v":""},"",{"$error":"#N/A"},null,null,null,null,null,null,null,null,"",false,2,{"$f":"VLOOKUP(H1300,Database!$B$1:$D$5000,3,0)","v":{"$error":"#N/A"}},true]
["",null,null,null,null,null,null,null,{"$f":"IF(ISERROR(VLOOKUP(H1306,Database!$B$1:$C$5000,2,FALSE)),\"\",VLOOKUP(H1306,Database!$B$1:$C$5000,2,FALSE))","v":""},"",{"$error":"#N/A"},null,null,null,null,null,null,null,null,"",false,2,{"$f":"VLOOKUP(H1306,Database!$B$1:$D$5000,3,0)","v":{"$error":"#N/A"}},true]
["",null,null,null,null,null,null,null,{"$f":"IF(ISERROR(VLOOKUP(H1309,Database!$B$1:$C$5000,2,FALSE)),\"\",VLOOKUP(H1309,Database!$B$1:$C$5000,2,FALSE))","v":""},"",{"$error":"#N/A"},null,null,null,null,null,null,null,null,"",false,2,{"$f":"VLOOKUP(H1309,Database!$B$1:$D$5000,3,0)","v":{"$error":"#N/A"}},true]
["",null,null,null,null,null,null,null,{"$f":"IF(ISERROR(VLOOKUP(H1315,Database!$B$1:$C$5000,2,FALSE)),\"\",VLOOKUP(H1315,Database!$B$1:$C$5000,2,FALSE))","v":""},"",{"$error":"#N/A"},null,null,null,null,null,null,null,null,"",false,2,{"$f":"VLOOKUP(H1315,Database!$B$1:$D$5000,3,0)","v":{"$error":"#N/A"}},true]
["",null,null,null,null,null,null,null,{"$f":"IF(ISERROR(VLOOKUP(H1320,Database!$B$1:$C$5000,2,FALSE)),\"\",VLOOKUP(H1320,Database!$B$1:$C$5000,2,FALSE))","v":""},"",{"$error":"#N/A"},null,null,null,null,null,null,null,null,"",false,2,{"$f":"VLOOKUP(H1320,Database!$B$1:$D$5000,3,0)","v":{"$error":"#N/A"}},true]
["",null,null,null,null,null,null,null,{"$f":"IF(ISERROR(VLOOKUP(H1325,Database!$B$1:$C$5000,2,FALSE)),\"\",VLOOKUP(H1325,Database!$B$1:$C$5000,2,FALSE))","v":""},"",{"$error":"#N/A"},null,null,null,null,null,null,null,null,"",false,2,{"$f":"VLOOKUP(H1325,Database!$B$1:$D$5000,3,0)","v":{"$error":"#N/A"}},true]
["",null,null,null,null,null,null,null,{"$f":"IF(ISERROR(VLOOKUP(H1330,Database!$B$1:$C$5000,2,FALSE)),\"\",VLOOKUP(H1330,Database!$B$1:$C$5000,2,FALSE))","v":""},"",{"$error":"#N/A"},null,null,null,null,null,null,null,null,"",false,2,{"$f":"VLOOKUP(H1330,Database!$B$1:$D$5000,3,0)","v":{"$error":"#N/A"}},true]
["",null,null,null,null,null,null,null,{"$f":"IF(ISERROR(VLOOKUP(H1335,Database!$B$1:$C$5000,2,FALSE)),\"\",VLOOKUP(H1335,Database!$B$1:$C$5000,2,FALSE))","v":""},"",{"$error":"#N/A"},null,null,null,null,null,null,null,null,"",false,2,{"$f":"VLOOKUP(H1335,Database!$B$1:$D$5000,3,0)","v":{"$error":"#N/A"}},true]
["",null,null,null,null,null,null,null,{"$f":"IF(ISERROR(VLOOKUP(H1341,Database!$B$1:$C$5000,2,FALSE)),\"\",VLOOKUP(H1341,Database!$B$1:$C$5000,2,FALSE))","v":""},"",{"$error":"#N/A"},null,null,null,null,null,null,null,null,"",false,2,{"$f":"VLOOKUP(H1341,Database!$B$1:$D$5000,3,0)","v":{"$error":"#N/A"}},true]
["",null,null,null,null,null,null,null,{"$f":"IF(ISERROR(VLOOKUP(H1344,Database!$B$1:$C$5000,2,FALSE)),\"\",VLOOKUP(H1344,Database!$B$1:$C$5000,2,FALSE))","v":""},"",{"$error":"#N/A"},null,null,null,null,null,null,null,null,"",false,2,{"$f":"VLOOKUP(H1344,Database!$B$1:$D$5000,3,0)","v":{"$error":"#N/A"}},true]
["",null,null,null,null,null,null,null,{"$f":"IF(ISERROR(VLOOKUP(H1350,Database!$B$1:$C$5000,2,FALSE)),\"\",VLOOKUP(H1350,Database!$B$1:$C$5000,2,FALSE))","v":""},"",{"$error":"#N/A"},null,null,null,null,null,null,null,null,"",false,2,{"$f":"VLOOKUP(H1350,Database!$B$1:$D$5000,3,0)","v":{"$error":"#N/A"}},true]
["",null,null,null,null,null,null,null,{"$f":"IF(ISERROR(VLOOKUP(H1356,Database!$B$1:$C$5000,2,FALSE)),\"\",VLOOKUP(H1356,Database!$B$1:$C$5000,2,FALSE))","v":""},"",{"$error":"#N/A"},null,null,null,null,null,null,null,null,"",false,2,{"$f":"VLOOKUP(H1356,Database!$B$1:$D$5000,3,0)","v":{"$error":"#N/A"}},true]
["",null,null,null,null,null,null,null,{"$f":"IF(ISERROR(VLOOKUP(H1361,Database!$B$1:$C$5000,2,FALSE)),\"\",VLOOKUP(H1361,Database!$B$1:$C$5000,2,FALSE))","v":""},"",{"$error":"#N/A"},null,null,null,null,null,null,null,null,"",false,2,{"$f":"VLOOKUP(H1361,Database!$B$1:$D$5000,3,0)","v":{"$error":"#N/A"}},true]
["",null,null,null,null,null,null,null,{"$f":"IF(ISERROR(VLOOKUP(H1363,Database!$B$1:$C$5000,2,FALSE)),\"\",VLOOKUP(H1363,Database!$B$1:$C$5000,2,FALSE))","v":""},"",{"$error":"#N/A"},null,null,null,null,null,null,null,null,"",false,2,{"$f":"VLOOKUP(H1363,Database!$B$1:$D$5000,3,0)","v":{"$error":"#N/A"}},true]
["",null,null,null,null,null,null,null,{"$f":"IF(ISERROR(VLOOKUP(H1366,Database!$B$1:$C$5000,2,FALSE)),\"\",VLOOKUP(H1366,Database!$B$1:$C$5000,2,FALSE))","v":""},"",{"$error":"#N/A"},null,null,null,null,null,null,null,null,"",false,2,{"$f":"VLOOKUP(H1366,Database!$B$1:$D$5000,3,0)","v":{"$error":"#N/A"}},true]
["",null,null,null,null,null,null,null,{"$f":"IF(ISERROR(VLOOKUP(H1371,Database!$B$1:$C$5000,2,FALSE)),\"\",VLOOKUP(H1371,Database!$B$1:$C$5000,2,FALSE))","v":""},"",{"$error":"#N/A"},null,null,null,null,null,null,null,null,"",false,2,{"$f":"VLOOKUP(H1371,Database!$B$1:$D$5000,3,0)","v":{"$error":"#N/A"}},true]
["",null,null,null,null,null,null,null,{"$f":"IF(ISERROR(VLOOKUP(H1377,Database!$B$1:$C$5000,2,FALSE)),\"\",VLOOKUP(H1377,Database!$B$1:$C$5000,2,FALSE))","v":""},"",{"$error":"#N/A"},null,null,null,null,null,null,null,null,"",false,2,{"$f":"VLOOKUP(H1377,Database!$B$1:$D$5000,3,0)","v":{"$error":"#N/A"}},true]
["",null,null,null,null,null,null,null,{"$f":"IF(ISERROR(VLOOKUP(H1382,Database!$B$1:$C$5000,2,FALSE)),\"\",VLOOKUP(H1382,Database!$B$1:$C$5000,2,FALSE))","v":""},"",{"$error":"#N/A"},null,null,null,null,null,null,null,null,"",false,2,{"$f":"VLOOKUP(H1382,Database!$B$1:$D$5000,3,0)","v":{"$error":"#N/A"}},true]
["",null,null,null,null,null,null,null,{"$f":"IF(ISERROR(VLOOKUP(H1386,Database!$B$1:$C$5000,2,FALSE)),\"\",VLOOKUP(H1386,Database!$B$1:$C$5000,2,FALSE))","v":""},"",{"$error":"#N/A"},null,null,null,null,null,null,null,null,"",false,2,{"$f":"VLOOKUP(H1386,Database!$B$1:$D$5000,3,0)","v":{"$error":"#N/A"}},true]
["",null,null,null,null,null,null,null,{"$f":"IF(ISERROR(VLOOKUP(H1392,Database!$B$1:$C$5000,2,FALSE)),\"\",VLOOKUP(H1392,Database!$B$1:$C$5000,2,FALSE))","v":""},"",{"$error":"#N/A"},null,null,null,null,null,null,null,null,"",false,2,{"$f":"VLOOKUP(H1392,Database!$B$1:$D$5000,3,0)","v":{"$error":"#N/A"}},true]
["",null,null,null,null,null,null,null,{"$f":"IF(ISERROR(VLOOKUP(H1397,Database!$B$1:$C$5000,2,FALSE)),\"\",VLOOKUP(H1397,Database!$B$1:$C$5000,2,FALSE))","v":""},"",{"$error":"#N/A"},null,null,null,null,null,null,null,null,"",false,2,{"$f":"VLOOKUP(H1397,Database!$B$1:$D$5000,3,0)","v":{"$error":"#N/A"}},true]
["",null,null,null,null,null,null,null,{"$f":"IF(ISERROR(VLOOKUP(H1401,Database!$B$1:$C$5000,2,FALSE)),\"\",VLOOKUP(H1401,Database!$B$1:$C$5000,2,FALSE))","v":""},"",{"$error":"#N/A"},null,null,null,null,null,null,null,null,"",false,2,{"$f":"VLOOKUP(H1401,Database!$B$1:$D$5000,3,0)","v":{"$error":"#N/A"}},true]
["",null,null,null,null,null,null,null,{"$f":"IF(ISERROR(VLOOKUP(H1407,Database!$B$1:$C$5000,2,FALSE)),\"\",VLOOKUP(H1407,Database!$B$1:$C$5000,2,FALSE))","v":""},"",{"$error":"#N/A"},null,null,null,null,null,null,null,null,"",false,2,{"$f":"VLOOKUP(H1407,Database!$B$1:$D$5000,3,0)","v":{"$error":"#N/A"}},true]
["",null,null,null,null,null,null,null,{"$f":"IF(ISERROR(VLOOKUP(H1412,Database!$B$1:$C$5000,2,FALSE)),\"\",VLOOKUP(H1412,Database!$B$1:$C$5000,2,FALSE))","v":""},"",{"$error":"#N/A"},null,null,null,null,null,null,null,null,"",false,2,{"$f":"VLOOKUP(H1412,Database!$B$1:$D$5000,3,0)","v":{"$error":"#N/A"}},true]
["",null,null,null,null,null,null,null,{"$f":"IF(ISERROR(VLOOKUP(H1418,Database!$B$1:$C$5000,2,FALSE)),\"\",VLOOKUP(H1418,Database!$B$1:$C$5000,2,FALSE))","v":""},"",{"$error":"#N/A"},null,null,null,null,null,null,null,null,"",false,2,{"$f":"VLOOKUP(H1418,Database!$B$1:$D$5000,3,0)","v":{"$error":"#N/A"}},true]
["",null,null,null,null,null,null,null,{"$f":"IF(ISERROR(VLOOKUP(H1420,Database!$B$1:$C$5000,2,FALSE)),\"\",VLOOKUP(H1420,Database!$B$1:$C$5000,2,FALSE))","v":""},"",{"$error":"#N/A"},null,null,null,null,null,null,null,null,"",false,2,{"$f":"VLOOKUP(H1420,Database!$B$1:$D$5000,3,0)","v":{"$error":"#N/A"}},true]
["",null,null,null,null,null,null,null,{"$f":"IF(ISERROR(VLOOKUP(H1427,Database!$B$1:$C$5000,2,FALSE)),\"\",VLOOKUP(H1427,Database!$B$1:$C$5000,2,FALSE))","v":""},"",{"$error":"#N/A"},null,null,null,null,null,null,null,null,"",false,2,{"$f":"VLOOKUP(H1427,Database!$B$1:$D$5000,3,0)","v":{"$error":"#N/A"}},true]
["",null,null,null,null,null,null,null,{"$f":"IF(ISERROR(VLOOKUP(H1428,Database!$B$1:$C$5000,2,FALSE)),\"\",VLOOKUP(H1428,Database!$B$1:$C$5000,2,FALSE))","v":""},"",{"$error":"#N/A"},null,null,null,null,null,null,null,null,"",false,2,{"$f":"VLOOKUP(H1428,Database!$B$1:$D$5000,3,0)","v":{"$error":"#N/A"}},true]
["",null,null,null,null,null,null,null,{"$f":"IF(ISERROR(VLOOKUP(H1433,Database!$B$1:$C$5000,2,FALSE)),\"\",VLOOKUP(H1433,Database!$B$1:$C$5000,2,FALSE))","v":""},"",{"$error":"#N/A"},null,null,null,null,null,null,null,null,"",false,2,{"$f":"VLOOKUP(H1433,Database!$B$1:$D$5000,3,0)","v":{"$error":"#N/A"}},true]
["",null,null,null,null,null,null,null,{"$f":"IF(ISERROR(VLOOKUP(H1439,Database!$B$1:$C$5000,2,FALSE)),\"\",VLOOKUP(H1439,Database!$B$1:$C$5000,2,FALSE))","v":""},"",{"$error":"#N/A"},null,null,null,null,null,null,null,null,"",false,2,{"$f":"VLOOKUP(H1439,Database!$B$1:$D$5000,3,0)","v":{"$error":"#N/A"}},true]
["",null,null,null,null,null,null,null,{"$f":"IF(ISERROR(VLOOKUP(H1443,Database!$B$1:$C$5000,2,FALSE)),\"\",VLOOKUP(H1443,Database!$B$1:$C$5000,2,FALSE))","v":""},"",{"$error":"#N/A"},null,null,null,null,null,null,null,null,"",false,2,{"$f":"VLOOKUP(H1443,Database!$B$1:$D$5000,3,0)","v":{"$error":"#N/A"}},true]
["",null,null,null,null,null,null,null,{"$f":"IF(ISERROR(VLOOKUP(H1448,Database!$B$1:$C$5000,2,FALSE)),\"\",VLOOKUP(H1448,Database!$B$1:$C$5000,2,FALSE))","v":""},"",{"$error":"#N/A"},null,null,null,null,null,null,null,null,"",false,2,{"$f":"VLOOKUP(H1448,Database!$B$1:$D$5000,3,0)","v":{"$error":"#N/A"}},true]
["",null,null,null,null,null,null,null,{"$f":"IF(ISERROR(VLOOKUP(H1454,Database!$B$1:$C$5000,2,FALSE)),\"\",VLOOKUP(H1454,Database!$B$1:$C$5000,2,FALSE))","v":""},"",{"$error":"#N/A"},null,null,null,null,null,null,null,null,"",false,2,{"$f":"VLOOKUP(H1454,Database!$B$1:$D$5000,3,0)","v":{"$error":"#N/A"}},true]
["",null,null,null,null,null,null,null,{"$f":"IF(ISERROR(VLOOKUP(H1458,Database!$B$1:$C$5000,2,FALSE)),\"\",VLOOKUP(H1458,Database!$B$1:$C$5000,2,FALSE))","v":""},"",{"$error":"#N/A"},null,null,null,null,null,null,null,null,"",false,2,{"$f":"VLOOKUP(H1458,Database!$B$1:$D$5000,3,0)","v":{"$error":"#N/A"}},true]
["",null,null,null,null,null,null,null,{"$f":"IF(ISERROR(VLOOKUP(H1464,Database!$B$1:$C$5000,2,FALSE)),\"\",VLOOKUP(H1464,Database!$B$1:$C$5000,2,FALSE))","v":""},"",{"$error":"#N/A"},null,null,null,null,null,null,null,null,"",false,2,{"$f":"VLOOKUP(H1464,Database!$B$1:$D$5000,3,0)","v":{"$error":"#N/A"}},true]
["",null,null,null,null,null,null,null,{"$f":"IF(ISERROR(VLOOKUP(H1469,Database!$B$1:$C$5000,2,FALSE)),\"\",VLOOKUP(H1469,Database!$B$1:$C$5000,2,FALSE))","v":""},"",{"$error":"#N/A"},null,null,null,null,null,null,null,null,"",false,2,{"$f":"VLOOKUP(H1469,Database!$B$1:$D$5000,3,0)","v":{"$error":"#N/A"}},true]
["",null,null,null,null,null,null,null,{"$f":"IF(ISERROR(VLOOKUP(H1474,Database!$B$1:$C$5000,2,FALSE)),\"\",VLOOKUP(H1474,Database!$B$1:$C$5000,2,FALSE))","v":""},"",{"$error":"#N/A"},null,null,null,null,null,null,null,null,"",false,2,{"$f":"VLOOKUP(H1474,Database!$B$1:$D$5000,3,0)","v":{"$error":"#N/A"}},true]
["",null,null,null,null,null,null,null,{"$f":"IF(ISERROR(VLOOKUP(H1477,Database!$B$1:$C$5000,2,FALSE)),\"\",VLOOKUP(H1477,Database!$B$1:$C$5000,2,FALSE))","v":""},"",{"$error":"#N/A"},null,null,null,null,null,null,null,null,"",false,2,{"$f":"VLOOKUP(H1477,Database!$B$1:$D$5000,3,0)","v":{"$error":"#N/A"}},true]
["",null,null,null,null,null,null,null,{"$f":"IF(ISERROR(VLOOKUP(H1484,Database!$B$1:$C$5000,2,FALSE)),\"\",VLOOKUP(H1484,Database!$B$1:$C$5000,2,FALSE))","v":""},"",{"$error":"#N/A"},null,null,null,null,null,null,null,null,"",false,2,{"$f":"VLOOKUP(H1484,Database!$B$1:$D$5000,3,0)","v":{"$error":"#N/A"}},true]
["",null,null,null,null,null,null,null,{"$f":"IF(ISERROR(VLOOKUP(H1489,Database!$B$1:$C$5000,2,FALSE)),\"\",VLOOKUP(H1489,Database!$B$1:$C$5000,2,FALSE))","v":""},"",{"$error":"#N/A"},null,null,null,null,null,null,null,null,"",false,2,{"$f":"VLOOKUP(H1489,Database!$B$1:$D$5000,3,0)","v":{"$error":"#N/A"}},true]
["",null,null,null,null,null,null,null,{"$f":"IF(ISERROR(VLOOKUP(H1490,Database!$B$1:$C$5000,2,FALSE)),\"\",VLOOKUP(H1490,Database!$B$1:$C$5000,2,FALSE))","v":""},"",{"$error":"#N/A"},null,null,null,null,null,null,null,null,"",false,2,{"$f":"VLOOKUP(H1490,Database!$B$1:$D$5000,3,0)","v":{"$error":"#N/A"}},true]
["",null,null,null,null,null,null,null,{"$f":"IF(ISERROR(VLOOKUP(H1496,Database!$B$1:$C$5000,2,FALSE)),\"\",VLOOKUP(H1496,Database!$B$1:$C$5000,2,FALSE))","v":""},"",{"$error":"#N/A"},null,null,null,null,null,null,null,null,"",false,2,{"$f":"VLOOKUP(H1496,Database!$B$1:$D$5000,3,0)","v":{"$error":"#N/A"}},true]
["",null,null,null,null,null,null,null,{"$f":"IF(ISERROR(VLOOKUP(H1500,Database!$B$1:$C$5000,2,FALSE)),\"\",VLOOKUP(H1500,Database!$B$1:$C$5000,2,FALSE))","v":""},"",{"$error":"#N/A"},null,null,null,null,null,null,null,null,"",false,2,{"$f":"VLOOKUP(H1500,Database!$B$1:$D$5000,3,0)","v":{"$error":"#N/A"}},true]
["",null,null,null,null,null,null,null,{"$f":"IF(ISERROR(VLOOKUP(H1505,Database!$B$1:$C$5000,2,FALSE)),\"\",VLOOKUP(H1505,Database!$B$1:$C$5000,2,FALSE))","v":""},"",{"$error":"#N/A"},null,null,null,null,null,null,null,null,"",false,2,{"$f":"VLOOKUP(H1505,Database!$B$1:$D$5000,3,0)","v":{"$error":"#N/A"}},true]
["",null,null,null,null,null,null,null,{"$f":"IF(ISERROR(VLOOKUP(H1510,Database!$B$1:$C$5000,2,FALSE)),\"\",VLOOKUP(H1510,Database!$B$1:$C$5000,2,FALSE))","v":""},"",{"$error":"#N/A"},null,null,null,null,null,null,null,null,"",false,2,{"$f":"VLOOKUP(H1510,Database!$B$1:$D$5000,3,0)","v":{"$error":"#N/A"}},true]
["",null,null,null,null,null,null,null,{"$f":"IF(ISERROR(VLOOKUP(H1515,Database!$B$1:$C$5000,2,FALSE)),\"\",VLOOKUP(H1515,Database!$B$1:$C$5000,2,FALSE))","v":""},"",{"$error":"#N/A"},null,null,null,null,null,null,null,null,"",false,2,{"$f":"VLOOKUP(H1515,Database!$B$1:$D$5000,3,0)","v":{"$error":"#N/A"}},true]
["",null,null,null,null,null,null,null,{"$f":"IF(ISERROR(VLOOKUP(H1520,Database!$B$1:$C$5000,2,FALSE)),\"\",VLOOKUP(H1520,Database!$B$1:$C$5000,2,FALSE))","v":""},"",{"$error":"#N/A"},null,null,null,null,null,null,null,null,"",false,2,{"$f":"VLOOKUP(H1520,Database!$B$1:$D$5000,3,0)","v":{"$error":"#N/A"}},true]
["",null,null,null,null,null,null,null,{"$f":"IF(ISERROR(VLOOKUP(H1526,Database!$B$1:$C$5000,2,FALSE)),\"\",VLOOKUP(H1526,Database!$B$1:$C$5000,2,FALSE))","v":""},"",{"$error":"#N/A"},null,null,null,null,null,null,null,null,"",false,2,{"$f":"VLOOKUP(H1526,Database!$B$1:$D$5000,3,0)","v":{"$error":"#N/A"}},true]
["",null,null,null,null,null,null,null,{"$f":"IF(ISERROR(VLOOKUP(H1531,Database!$B$1:$C$5000,2,FALSE)),\"\",VLOOKUP(H1531,Database!$B$1:$C$5000,2,FALSE))","v":""},"",{"$error":"#N/A"},null,null,null,null,null,null,null,null,"",false,2,{"$f":"VLOOKUP(H1531,Database!$B$1:$D$5000,3,0)","v":{"$error":"#N/A"}},true]
["",null,null,null,null,null,null,null,{"$f":"IF(ISERROR(VLOOKUP(H1534,Database!$B$1:$C$5000,2,FALSE)),\"\",VLOOKUP(H1534,Database!$B$1:$C$5000,2,FALSE))","v":""},"",{"$error":"#N/A"},null,null,null,null,null,null,null,null,"",false,2,{"$f":"VLOOKUP(H1534,Database!$B$1:$D$5000,3,0)","v":{"$error":"#N/A"}},true]
["",null,null,null,null,null,null,null,{"$f":"IF(ISERROR(VLOOKUP(H1541,Database!$B$1:$C$5000,2,FALSE)),\"\",VLOOKUP(H1541,Database!$B$1:$C$5000,2,FALSE))","v":""},"",{"$error":"#N/A"},null,null,null,null,null,null,null,null,"",false,2,{"$f":"VLOOKUP(H1541,Database!$B$1:$D$5000,3,0)","v":{"$error":"#N/A"}},true]
["",null,null,null,null,null,null,null,{"$f":"IF(ISERROR(VLOOKUP(H1546,Database!$B$1:$C$5000,2,FALSE)),\"\",VLOOKUP(H1546,Database!$B$1:$C$5000,2,FALSE))","v":""},"",{"$error":"#N/A"},null,null,null,null,null,null,null,null,"",false,2,{"$f":"VLOOKUP(H1546,Database!$B$1:$D$5000,3,0)","v":{"$error":"#N/A"}},true]
["",null,null,null,null,null,null,null,{"$f":"IF(ISERROR(VLOOKUP(H1551,Database!$B$1:$C$5000,2,FALSE)),\"\",VLOOKUP(H1551,Database!$B$1:$C$5000,2,FALSE))","v":""},"",{"$error":"#N/A"},null,null,null,null,null,null,null,null,"",false,2,{"$f":"VLOOKUP(H1551,Database!$B$1:$D$5000,3,0)","v":{"$error":"#N/A"}},true]
["",null,null,null,null,null,null,null,{"$f":"IF(ISERROR(VLOOKUP(H1553,Database!$B$1:$C$5000,2,FALSE)),\"\",VLOOKUP(H1553,Database!$B$1:$C$5000,2,FALSE))","v":""},"",{"$error":"#N/A"},null,null,null,null,null,null,null,null,"",false,2,{"$f":"VLOOKUP(H1553,Database!$B$1:$D$5000,3,0)","v":{"$error":"#N/A"}},true]
["",null,null,null,null,null,null,null,{"$f":"IF(ISERROR(VLOOKUP(H1556,Database!$B$1:$C$5000,2,FALSE)),\"\",VLOOKUP(H1556,Database!$B$1:$C$5000,2,FALSE))","v":""},"",{"$error":"#N/A"},null,null,null,null,null,null,null,null,"",false,2,{"$f":"VLOOKUP(H1556,Database!$B$1:$D$5000,3,0)","v":{"$error":"#N/A"}},true]
["",null,null,null,null,null,null,null,{"$f":"IF(ISERROR(VLOOKUP(H1562,Database!$B$1:$C$5000,2,FALSE)),\"\",VLOOKUP(H1562,Database!$B$1:$C$5000,2,FALSE))","v":""},"",{"$error":"#N/A"},null,null,null,null,null,null,null,null,"",false,2,{"$f":"VLOOKUP(H1562,Database!$B$1:$D$5000,3,0)","v":{"$error":"#N/A"}},true]
["",null,null,null,null,null,null,null,{"$f":"IF(ISERROR(VLOOKUP(H1567,Database!$B$1:$C$5000,2,FALSE)),\"\",VLOOKUP(H1567,Database!$B$1:$C$5000,2,FALSE))","v":""},"",{"$error":"#N/A"},null,null,null,null,null,null,null,null,"",false,2,{"$f":"VLOOKUP(H1567,Database!$B$1:$D$5000,3,0)","v":{"$error":"#N/A"}},true]
["",null,null,null,null,null,null,null,{"$f":"IF(ISERROR(VLOOKUP(H1572,Database!$B$1:$C$5000,2,FALSE)),\"\",VLOOKUP(H1572,Database!$B$1:$C$5000,2,FALSE))","v":""},"",{"$error":"#N/A"},null,null,null,null,null,null,null,null,"",false,2,{"$f":"VLOOKUP(H1572,Database!$B$1:$D$5000,3,0)","v":{"$error":"#N/A"}},true]
["",null,null,null,null,null,null,null,{"$f":"IF(ISERROR(VLOOKUP(H1577,Database!$B$1:$C$5000,2,FALSE)),\"\",VLOOKUP(H1577,Database!$B$1:$C$5000,2,FALSE))","v":""},"",{"$error":"#N/A"},null,null,null,null,null,null,null,null,"",false,2,{"$f":"VLOOKUP(H1577,Database!$B$1:$D$5000,3,0)","v":{"$error":"#N/A"}},true]
["",null,null,null,null,null,null,null,{"$f":"IF(ISERROR(VLOOKUP(H1582,Database!$B$1:$C$5000,2,FALSE)),\"\",VLOOKUP(H1582,Database!$B$1:$C$5000,2,FALSE))","v":""},"",{"$error":"#N/A"},null,null,null,null,null,null,null,null,"",false,2,{"$f":"VLOOKUP(H1582,Database!$B$1:$D$5000,3,0)","v":{"$error":"#N/A"}},true]
["",null,null,null,null,null,null,null,{"$f":"IF(ISERROR(VLOOKUP(H1587,Database!$B$1:$C$5000,2,FALSE)),\"\",VLOOKUP(H1587,Database!$B$1:$C$5000,2,FALSE))","v":""},"",{"$error":"#N/A"},null,null,null,null,null,null,null,null,"",false,2,{"$f":"VLOOKUP(H1587,Database!$B$1:$D$5000,3,0)","v":{"$error":"#N/A"}},true]
["",null,null,null,null,null,null,null,{"$f":"IF(ISERROR(VLOOKUP(H1593,Database!$B$1:$C$5000,2,FALSE)),\"\",VLOOKUP(H1593,Database!$B$1:$C$5000,2,FALSE))","v":""},"",{"$error":"#N/A"},null,null,null,null,null,null,null,null,"",false,2,{"$f":"VLOOKUP(H1593,Database!$B$1:$D$5000,3,0)","v":{"$error":"#N/A"}},true]
["",null,null,null,null,null,null,null,{"$f":"IF(ISERROR(VLOOKUP(H1597,Database!$B$1:$C$5000,2,FALSE)),\"\",VLOOKUP(H1597,Database!$B$1:$C$5000,2,FALSE))","v":""},"",{"$error":"#N/A"},null,null,null,null,null,null,null,null,"",false,2,{"$f":"VLOOKUP(H1597,Database!$B$1:$D$5000,3,0)","v":{"$error":"#N/A"}},true]
["",null,null,null,null,null,null,null,{"$f":"IF(ISERROR(VLOOKUP(H1603,Database!$B$1:$C$5000,2,FALSE)),\"\",VLOOKUP(H1603,Database!$B$1:$C$5000,2,FALSE))","v":""},"",{"$error":"#N/A"},null,null,null,null,null,null,null,null,"",false,2,{"$f":"VLOOKUP(H1603,Database!$B$1:$D$5000,3,0)","v":{"$error":"#N/A"}},true]
["",null,null,null,null,null,null,null,{"$f":"IF(ISERROR(VLOOKUP(H1608,Database!$B$1:$C$5000,2,FALSE)),\"\",VLOOKUP(H1608,Database!$B$1:$C$5000,2,FALSE))","v":""},"",{"$error":"#N/A"},null,null,null,null,null,null,null,null,"",false,2,{"$f":"VLOOKUP(H1608,Database!$B$1:$D$5000,3,0)","v":{"$error":"#N/A"}},true]
["",null,null,null,null,null,null,null,{"$f":"IF(ISERROR(VLOOKUP(H1613,Database!$B$1:$C$5000,2,FALSE)),\"\",VLOOKUP(H1613,Database!$B$1:$C$5000,2,FALSE))","v":""},"",{"$error":"#N/A"},null,null,null,null,null,null,null,null,"",false,2,{"$f":"VLOOKUP(H1613,Database!$B$1:$D$5000,3,0)","v":{"$error":"#N/A"}},true]
["",null,null,null,null,null,null,null,{"$f":"IF(ISERROR(VLOOKUP(H1616,Database!$B$1:$C$5000,2,FALSE)),\"\",VLOOKUP(H1616,Database!$B$1:$C$5000,2,FALSE))","v":""},"",{"$error":"#N/A"},null,null,null,null,null,null,null,null,"",false,2,{"$f":"VLOOKUP(H1616,Database!$B$1:$D$5000,3,0)","v":{"$error":"#N/A"}},true]
["",null,null,null,null,null,null,null,{"$f":"IF(ISERROR(VLOOKUP(H1618,Database!$B$1:$C$5000,2,FALSE)),\"\",VLOOKUP(H1618,Database!$B$1:$C$5000,2,FALSE))","v":""},"",{"$error":"#N/A"},null,null,null,null,null,null,null,null,"",false,2,{"$f":"VLOOKUP(H1618,Database!$B$1:$D$5000,3,0)","v":{"$error":"#N/A"}},true]
["",null,null,null,null,null,null,null,{"$f":"IF(ISERROR(VLOOKUP(H1624,Database!$B$1:$C$5000,2,FALSE)),\"\",VLOOKUP(H1624,Database!$B$1:$C$5000,2,FALSE))","v":""},"",{"$error":"#N/A"},null,null,null,null,null,null,null,null,"",false,2,{"$f":"VLOOKUP(H1624,Database!$B$1:$D$5000,3,0)","v":{"$error":"#N/A"}},true]
["",null,null,null,null,null,null,null,{"$f":"IF(ISERROR(VLOOKUP(H1629,Database!$B$1:$C$5000,2,FALSE)),\"\",VLOOKUP(H1629,Database!$B$1:$C$5000,2,FALSE))","v":""},"",{"$error":"#N/A"},null,null,null,null,null,null,null,null,"",false,2,{"$f":"VLOOKUP(H1629,Database!$B$1:$D$5000,3,0)","v":{"$error":"#N/A"}},true]
["",null,null,null,null,null,null,null,{"$f":"IF(ISERROR(VLOOKUP(H1635,Database!$B$1:$C$5000,2,FALSE)),\"\",VLOOKUP(H1635,Database!$B$1:$C$5000,2,FALSE))","v":""},"",{"$error":"#N/A"},null,null,null,null,null,null,null,null,"",false,2,{"$f":"VLOOKUP(H1635,Database!$B$1:$D$5000,3,0)","v":{"$error":"#N/A"}},true]
["",null,null,null,null,null,null,null,{"$f":"IF(ISERROR(VLOOKUP(H1639,Database!$B$1:$C$5000,2,FALSE)),\"\",VLOOKUP(H1639,Database!$B$1:$C$5000,2,FALSE))","v":""},"",{"$error":"#N/A"},null,null,null,null,null,null,null,null,"",false,2,{"$f":"VLOOKUP(H1639,Database!$B$1:$D$5000,3,0)","v":{"$error":"#N/A"}},true]
["",null,null,null,null,null,null,null,{"$f":"IF(ISERROR(VLOOKUP(H1644,Database!$B$1:$C$5000,2,FALSE)),\"\",VLOOKUP(H1644,Database!$B$1:$C$5000,2,FALSE))","v":""},"",{"$error":"#N/A"},null,null,null,null,null,null,null,null,"",false,2,{"$f":"VLOOKUP(H1644,Database!$B$1:$D$5000,3,0)","v":{"$error":"#N/A"}},true]
["",null,null,null,null,null,null,null,{"$f":"IF(ISERROR(VLOOKUP(H1649,Database!$B$1:$C$5000,2,FALSE)),\"\",VLOOKUP(H1649,Database!$B$1:$C$5000,2,FALSE))","v":""},"",{"$error":"#N/A"},null,null,null,null,null,null,null,null,"",false,2,{"$f":"VLOOKUP(H1649,Database!$B$1:$D$5000,3,0)","v":{"$error":"#N/A"}},true]
["",null,null,null,null,null,null,null,{"$f":"IF(ISERROR(VLOOKUP(H1654,Database!$B$1:$C$5000,2,FALSE)),\"\",VLOOKUP(H1654,Database!$B$1:$C$5000,2,FALSE))","v":""},"",{"$error":"#N/A"},null,null,null,null,null,null,null,null,"",false,2,{"$f":"VLOOKUP(H1654,Database!$B$1:$D$5000,3,0)","v":{"$error":"#N/A"}},true]
["",null,null,null,null,null,null,null,{"$f":"IF(ISERROR(VLOOKUP(H1659,Database!$B$1:$C$5000,2,FALSE)),\"\",VLOOKUP(H1659,Database!$B$1:$C$5000,2,FALSE))","v":""},"",{"$error":"#N/A"},null,null,null,null,null,null,null,null,"",false,2,{"$f":"VLOOKUP(H1659,Database!$B$1:$D$5000,3,0)","v":{"$error":"#N/A"}},true]
["",null,null,null,null,null,null,null,{"$f":"IF(ISERROR(VLOOKUP(H1665,Database!$B$1:$C$5000,2,FALSE)),\"\",VLOOKUP(H1665,Database!$B$1:$C$5000,2,FALSE))","v":""},"",{"$error":"#N/A"},null,null,null,null,null,null,null,null,"",false,2,{"$f":"VLOOKUP(H1665,Database!$B$1:$D$5000,3,0)","v":{"$error":"#N/A"}},true]
["",null,null,null,null,null,null,null,{"$f":"IF(ISERROR(VLOOKUP(H1670,Database!$B$1:$C$5000,2,FALSE)),\"\",VLOOKUP(H1670,Database!$B$1:$C$5000,2,FALSE))","v":""},"",{"$error":"#N/A"},null,null,null,null,null,null,null,null,"",false,2,{"$f":"VLOOKUP(H1670,Database!$B$1:$D$5000,3,0)","v":{"$error":"#N/A"}},true]
["",null,null,null,null,null,null,null,{"$f":"IF(ISERROR(VLOOKUP(H1673,Database!$B$1:$C$5000,2,FALSE)),\"\",VLOOKUP(H1673,Database!$B$1:$C$5000,2,FALSE))","v":""},"",{"$error":"#N/A"},null,null,null,null,null,null,null,null,"",false,2,{"$f":"VLOOKUP(H1673,Database!$B$1:$D$5000,3,0)","v":{"$error":"#N/A"}},true]
["",null,null,null,null,null,null,null,{"$f":"IF(ISERROR(VLOOKUP(H1675,Database!$B$1:$C$5000,2,FALSE)),\"\",VLOOKUP(H1675,Database!$B$1:$C$5000,2,FALSE))","v":""},"",{"$error":"#N/A"},null,null,null,null,null,null,null,null,"",false,2,{"$f":"VLOOKUP(H1675,Database!$B$1:$D$5000,3,0)","v":{"$error":"#N/A"}},true]
["",null,null,null,null,null,null,null,{"$f":"IF(ISERROR(VLOOKUP(H1680,Database!$B$1:$C$5000,2,FALSE)),\"\",VLOOKUP(H1680,Database!$B$1:$C$5000,2,FALSE))","v":""},"",{"$error":"#N/A"},null,null,null,null,null,null,null,null,"",false,2,{"$f":"VLOOKUP(H1680,Database!$B$1:$D$5000,3,0)","v":{"$error":"#N/A"}},true]
["",null,null,null,null,null,null,null,{"$f":"IF(ISERROR(VLOOKUP(H1686,Database!$B$1:$C$5000,2,FALSE)),\"\",VLOOKUP(H1686,Database!$B$1:$C$5000,2,FALSE))","v":""},"",{"$error":"#N/A"},null,null,null,null,null,null,null,null,"",false,2,{"$f":"VLOOKUP(H1686,Database!$B$1:$D$5000,3,0)","v":{"$error":"#N/A"}},true]
["",null,null,null,null,null,null,null,{"$f":"IF(ISERROR(VLOOKUP(H1692,Database!$B$1:$C$5000,2,FALSE)),\"\",VLOOKUP(H1692,Database!$B$1:$C$5000,2,FALSE))","v":""},"",{"$error":"#N/A"},null,null,null,null,null,null,null,null,"",false,2,{"$f":"VLOOKUP(H1692,Database!$B$1:$D$5000,3,0)","v":{"$error":"#N/A"}},true]
["",null,null,null,null,null,null,null,{"$f":"IF(ISERROR(VLOOKUP(H1695,Database!$B$1:$C$5000,2,FALSE)),\"\",VLOOKUP(H1695,Database!$B$1:$C$5000,2,FALSE))","v":""},"",{"$error":"#N/A"},null,null,null,null,null,null,null,null,"",false,2,{"$f":"VLOOKUP(H1695,Database!$B$1:$D$5000,3,0)","v":{"$error":"#N/A"}},true]
["",null,null,null,null,null,null,null,{"$f":"IF(ISERROR(VLOOKUP(H1701,Database!$B$1:$C$5000,2,FALSE)),\"\",VLOOKUP(H1701,Database!$B$1:$C$5000,2,FALSE))","v":""},"",{"$error":"#N/A"},null,null,null,null,null,null,null,null,"",false,2,{"$f":"VLOOKUP(H1701,Database!$B$1:$D$5000,3,0)","v":{"$error":"#N/A"}},true]
["",null,null,null,null,null,null,null,{"$f":"IF(ISERROR(VLOOKUP(H1706,Database!$B$1:$C$5000,2,FALSE)),\"\",VLOOKUP(H1706,Database!$B$1:$C$5000,2,FALSE))","v":""},"",{"$error":"#N/A"},null,null,null,null,null,null,null,null,"",false,2,{"$f":"VLOOKUP(H1706,Database!$B$1:$D$5000,3,0)","v":{"$error":"#N/A"}},true]
["",null,null,null,null,null,null,null,{"$f":"IF(ISERROR(VLOOKUP(H1711,Database!$B$1:$C$5000,2,FALSE)),\"\",VLOOKUP(H1711,Database!$B$1:$C$5000,2,FALSE))","v":""},"",{"$error":"#N/A"},null,null,null,null,null,null,null,null,"",false,2,{"$f":"VLOOKUP(H1711,Database!$B$1:$D$5000,3,0)","v":{"$error":"#N/A"}},true]
["",null,null,null,null,null,null,null,{"$f":"IF(ISERROR(VLOOKUP(H1716,Database!$B$1:$C$5000,2,FALSE)),\"\",VLOOKUP(H1716,Database!$B$1:$C$5000,2,FALSE))","v":""},"",{"$error":"#N/A"},null,null,null,null,null,null,null,null,"",false,2,{"$f":"VLOOKUP(H1716,Database!$B$1:$D$5000,3,0)","v":{"$error":"#N/A"}},true]
["",null,null,null,null,null,null,null,{"$f":"IF(ISERROR(VLOOKUP(H1721,Database!$B$1:$C$5000,2,FALSE)),\"\",VLOOKUP(H1721,Database!$B$1:$C$5000,2,FALSE))","v":""},"",{"$error":"#N/A"},null,null,null,null,null,null,null,null,"",false,2,{"$f":"VLOOKUP(H1721,Database!$B$1:$D$5000,3,0)","v":{"$error":"#N/A"}},true]
["",null,null,null,null,null,null,null,{"$f":"IF(ISERROR(VLOOKUP(H1727,Database!$B$1:$C$5000,2,FALSE)),\"\",VLOOKUP(H1727,Database!$B$1:$C$5000,2,FALSE))","v":""},"",{"$error":"#N/A"},null,null,null,null,null,null,null,null,"",false,2,{"$f":"VLOOKUP(H1727,Database!$B$1:$D$5000,3,0)","v":{"$error":"#N/A"}},true]
["",null,null,null,null,null,null,null,{"$f":"IF(ISERROR(VLOOKUP(H1730,Database!$B$1:$C$5000,2,FALSE)),\"\",VLOOKUP(H1730,Database!$B$1:$C$5000,2,FALSE))","v":""},"",{"$error":"#N/A"},null,null,null,null,null,null,null,null,"",false,2,{"$f":"VLOOKUP(H1730,Database!$B$1:$D$5000,3,0)","v":{"$error":"#N/A"}},true]
["",null,null,null,null,null,null,null,{"$f":"IF(ISERROR(VLOOKUP(H1736,Database!$B$1:$C$5000,2,FALSE)),\"\",VLOOKUP(H1736,Database!$B$1:$C$5000,2,FALSE))","v":""},"",{"$error":"#N/A"},null,null,null,null,null,null,null,null,"",false,2,{"$f":"VLOOKUP(H1736,Database!$B$1:$D$5000,3,0)","v":{"$error":"#N/A"}},true]
["",null,null,null,null,null,null,null,{"$f":"IF(ISERROR(VLOOKUP(H1737,Database!$B$1:$C$5000,2,FALSE)),\"\",VLOOKUP(H1737,Database!$B$1:$C$5000,2,FALSE))","v":""},"",{"$error":"#N/A"},null,null,null,null,null,null,null,null,"",false,2,{"$f":"VLOOKUP(H1737,Database!$B$1:$D$5000,3,0)","v":{"$error":"#N/A"}},true]
["",null,null,null,null,null,null,null,{"$f":"IF(ISERROR(VLOOKUP(H1742,Database!$B$1:$C$5000,2,FALSE)),\"\",VLOOKUP(H1742,Database!$B$1:$C$5000,2,FALSE))","v":""},"",{"$error":"#N/A"},null,null,null,null,null,null,null,null,"",false,2,{"$f":"VLOOKUP(H1742,Database!$B$1:$D$5000,3,0)","v":{"$error":"#N/A"}},true]
["",null,null,null,null,null,null,null,{"$f":"IF(ISERROR(VLOOKUP(H1749,Database!$B$1:$C$5000,2,FALSE)),\"\",VLOOKUP(H1749,Database!$B$1:$C$5000,2,FALSE))","v":""},"",{"$error":"#N/A"},null,null,null,null,null,null,null,null,"",false,2,{"$f":"VLOOKUP(H1749,Database!$B$1:$D$5000,3,0)","v":{"$error":"#N/A"}},true]
["",null,null,null,null,null,null,null,{"$f":"IF(ISERROR(VLOOKUP(H1752,Database!$B$1:$C$5000,2,FALSE)),\"\",VLOOKUP(H1752,Database!$B$1:$C$5000,2,FALSE))","v":""},"",{"$error":"#N/A"},null,null,null,null,null,null,null,null,"",false,2,{"$f":"VLOOKUP(H1752,Database!$B$1:$D$5000,3,0)","v":{"$error":"#N/A"}},true]
["",null,null,null,null,null,null,null,{"$f":"IF(ISERROR(VLOOKUP(H1757,Database!$B$1:$C$5000,2,FALSE)),\"\",VLOOKUP(H1757,Database!$B$1:$C$5000,2,FALSE))","v":""},"",{"$error":"#N/A"},null,null,null,null,null,null,null,null,"",false,2,{"$f":"VLOOKUP(H1757,Database!$B$1:$D$5000,3,0)","v":{"$error":"#N/A"}},true]
["",null,null,null,null,null,null,null,{"$f":"IF(ISERROR(VLOOKUP(H1763,Database!$B$1:$C$5000,2,FALSE)),\"\",VLOOKUP(H1763,Database!$B$1:$C$5000,2,FALSE))","v":""},"",{"$error":"#N/A"},null,null,null,null,null,null,null,null,"",false,2,{"$f":"VLOOKUP(H1763,Database!$B$1:$D$5000,3,0)","v":{"$error":"#N/A"}},true]
["",null,null,null,null,null,null,null,{"$f":"IF(ISERROR(VLOOKUP(H1768,Database!$B$1:$C$5000,2,FALSE)),\"\",VLOOKUP(H1768,Database!$B$1:$C$5000,2,FALSE))","v":""},"",{"$error":"#N/A"},null,null,null,null,null,null,null,null,"",false,2,{"$f":"VLOOKUP(H1768,Database!$B$1:$D$5000,3,0)","v":{"$error":"#N/A"}},true]
["",null,null,null,null,null,null,null,{"$f":"IF(ISERROR(VLOOKUP(H1772,Database!$B$1:$C$5000,2,FALSE)),\"\",VLOOKUP(H1772,Database!$B$1:$C$5000,2,FALSE))","v":""},"",{"$error":"#N/A"},null,null,null,null,null,null,null,null,"",false,2,{"$f":"VLOOKUP(H1772,Database!$B$1:$D$5000,3,0)","v":{"$error":"#N/A"}},true]
["",null,null,null,null,null,null,null,{"$f":"IF(ISERROR(VLOOKUP(H1778,Database!$B$1:$C$5000,2,FALSE)),\"\",VLOOKUP(H1778,Database!$B$1:$C$5000,2,FALSE))","v":""},"",{"$error":"#N/A"},null,null,null,null,null,null,null,null,"",false,2,{"$f":"VLOOKUP(H1778,Database!$B$1:$D$5000,3,0)","v":{"$error":"#N/A"}},true]
["",null,null,null,null,null,null,null,{"$f":"IF(ISERROR(VLOOKUP(H1783,Database!$B$1:$C$5000,2,FALSE)),\"\",VLOOKUP(H1783,Database!$B$1:$C$5000,2,FALSE))","v":""},"",{"$error":"#N/A"},null,null,null,null,null,null,null,null,"",false,2,{"$f":"VLOOKUP(H1783,Database!$B$1:$D$5000,3,0)","v":{"$error":"#N/A"}},true]
["",null,null,null,null,null,null,null,{"$f":"IF(ISERROR(VLOOKUP(H1787,Database!$B$1:$C$5000,2,FALSE)),\"\",VLOOKUP(H1787,Database!$B$1:$C$5000,2,FALSE))","v":""},"",{"$error":"#N/A"},null,null,null,null,null,null,null,null,"",false,2,{"$f":"VLOOKUP(H1787,Database!$B$1:$D$5000,3,0)","v":{"$error":"#N/A"}},true]
["",null,null,null,null,null,null,null,{"$f":"IF(ISERROR(VLOOKUP(H1793,Database!$B$1:$C$5000,2,FALSE)),\"\",VLOOKUP(H1793,Database!$B$1:$C$5000,2,FALSE))","v":""},"",{"$error":"#N/A"},null,null,null,null,null,null,null,null,"",false,2,{"$f":"VLOOKUP(H1793,Database!$B$1:$D$5000,3,0)","v":{"$error":"#N/A"}},true]
["",null,null,null,null,null,null,null,{"$f":"IF(ISERROR(VLOOKUP(H1798,Database!$B$1:$C$5000,2,FALSE)),\"\",VLOOKUP(H1798,Database!$B$1:$C$5000,2,FALSE))","v":""},"",{"$error":"#N/A"},null,null,null,null,null,null,null,null,"",false,2,{"$f":"VLOOKUP(H1798,Database!$B$1:$D$5000,3,0)","v":{"$error":"#N/A"}},true]
[{"$f":"IF(B1799=\"\",\"\",ROW(A1794))","v":""},null,null,null,null,null,null,null,{"$f":"IF(ISERROR(VLOOKUP(H1799,Database!$B$1:$C$5000,2,FALSE)),\"\",VLOOKUP(H1799,Database!$B$1:$C$5000,2,FALSE))","v":""},{"$f":"IF(V1799=1,1,IF(AND(T1799=0,F1799=\"SSB\",V1799<>\"\"),3,IF(AND(T1799=0,F1799=\"DIGI\",V1799<>\"\"),2,IF(AND(T1799=0,F1799=\"CW\",V1799<>\"\"),5,IF(H1799=\"-\",\"\",T1799)))))","v":""},{"$f":"IF(H1799=\"-\",\"\",IF(AND(H1799<>\"\",X1799=TRUE),\"INDIPENDENT\",IF(W1799=0,\"SCRIVI NOME NELLE NOTE\",W1799)))","v":{"$error":"#N/A"}},null,null,null,null,null,null,null,null,{"$f":"IF(H1799=\"\",\"\",IF(H1799=$R$6,25,IF(OR(H1799=$R$7,H1799=$R$8,H1799=$R$9,H1799=$R$10,H1799=$R$11,H1799=$R$12,H1799=$R$13,H1799=$R$14,H1799=$R$15,H1799=$R$16,H1799=$R$17,H1799=$R$18,H1799=$R$19,H1799=$R$20,H1799=$R$21,H1799=$R$22,H1799=$R$23),15,0)))","v":""},{"$f":"ISERROR(I1799)","v":false},{"$f":"IF(H1799=\"-\",\"\",IF(AND(T1799=0,U1799=FALSE,I1799=\"\"),1,2))","v":2},{"$f":"VLOOKUP(H1799,Database!$B$1:$D$5000,3,0)","v":{"$error":"#N/A"}},{"$f":"ISERROR(W1799)","v":true}]
["",null,null,null,null,null,null,null,{"$f":"IF(ISERROR(VLOOKUP(H1806,Database!$B$1:$C$5000,2,FALSE)),\"\",VLOOKUP(H1806,Database!$B$1:$C$5000,2,FALSE))","v":""},"",{"$error":"#N/A"},null,null,null,null,null,null,null,null,"",false,2,{"$f":"VLOOKUP(H1806,Database!$B$1:$D$5000,3,0)","v":{"$error":"#N/A"}},true]
["",null,null,null,null,null,null,null,{"$f":"IF(ISERROR(VLOOKUP(H1808,Database!$B$1:$C$5000,2,FALSE)),\"\",VLOOKUP(H1808,Database!$B$1:$C$5000,2,FALSE))","v":""},"",{"$error":"#N/A"},null,null,null,null,null,null,null,null,"",false,2,{"$f":"VLOOKUP(H1808,Database!$B$1:$D$5000,3,0)","v":{"$error":"#N/A"}},true]
["",null,null,null,null,null,null,null,{"$f":"IF(ISERROR(VLOOKUP(H1814,Database!$B$1:$C$5000,2,FALSE)),\"\",VLOOKUP(H1814,Database!$B$1:$C$5000,2,FALSE))","v":""},"",{"$error":"#N/A"},null,null,null,null,null,null,null,null,"",false,2,{"$f":"VLOOKUP(H1814,Database!$B$1:$D$5000,3,0)","v":{"$error":"#N/A"}},true]
["",null,null,null,null,null,null,null,{"$f":"IF(ISERROR(VLOOKUP(H1819,Database!$B$1:$C$5000,2,FALSE)),\"\",VLOOKUP(H1819,Database!$B$1:$C$5000,2,FALSE))","v":""},"",{"$error":"#N/A"},null,null,null,null,null,null,null,null,"",false,2,{"$f":"VLOOKUP(H1819,Database!$B$1:$D$5000,3,0)","v":{"$error":"#N/A"}},true]
["",null,null,null,null,null,null,null,{"$f":"IF(ISERROR(VLOOKUP(H1825,Database!$B$1:$C$5000,2,FALSE)),\"\",VLOOKUP(H1825,Database!$B$1:$C$5000,2,FALSE))","v":""},"",{"$error":"#N/A"},null,null,null,null,null,null,null,null,"",false,2,{"$f":"VLOOKUP(H1825,Database!$B$1:$D$5000,3,0)","v":{"$error":"#N/A"}},true]
["",null,null,null,null,null,null,null,{"$f":"IF(ISERROR(VLOOKUP(H1829,Database!$B$1:$C$5000,2,FALSE)),\"\",VLOOKUP(H1829,Database!$B$1:$C$5000,2,FALSE))","v":""},"",{"$error":"#N/A"},null,null,null,null,null,null,null,null,"",false,2,{"$f":"VLOOKUP(H1829,Database!$B$1:$D$5000,3,0)","v":{"$error":"#N/A"}},true]
["",null,null,null,null,null,null,null,{"$f":"IF(ISERROR(VLOOKUP(H1834,Database!$B$1:$C$5000,2,FALSE)),\"\",VLOOKUP(H1834,Database!$B$1:$C$5000,2,FALSE))","v":""},"",{"$error":"#N/A"},null,null,null,null,null,null,null,null,"",false,2,{"$f":"VLOOKUP(H1834,Database!$B$1:$D$5000,3,0)","v":{"$error":"#N/A"}},true]
["",null,null,null,null,null,null,null,{"$f":"IF(ISERROR(VLOOKUP(H1840,Database!$B$1:$C$5000,2,FALSE)),\"\",VLOOKUP(H1840,Database!$B$1:$C$5000,2,FALSE))","v":""},"",{"$error":"#N/A"},null,null,null,null,null,null,null,null,"",false,2,{"$f":"VLOOKUP(H1840,Database!$B$1:$D$5000,3,0)","v":{"$error":"#N/A"}},true]
["",null,null,null,null,null,null,null,{"$f":"IF(ISERROR(VLOOKUP(H1844,Database!$B$1:$C$5000,2,FALSE)),\"\",VLOOKUP(H1844,Database!$B$1:$C$5000,2,FALSE))","v":""},"",{"$error":"#N/A"},null,null,null,null,null,null,null,null,"",false,2,{"$f":"VLOOKUP(H1844,Database!$B$1:$D$5000,3,0)","v":{"$error":"#N/A"}},true]
["",null,null,null,null,null,null,null,{"$f":"IF(ISERROR(VLOOKUP(H1849,Database!$B$1:$C$5000,2,FALSE)),\"\",VLOOKUP(H1849,Database!$B$1:$C$5000,2,FALSE))","v":""},"",{"$error":"#N/A"},null,null,null,null,null,null,null,null,"",false,2,{"$f":"VLOOKUP(H1849,Database!$B$1:$D$5000,3,0)","v":{"$error":"#N/A"}},true]
["",null,null,null,null,null,null,null,{"$f":"IF(ISERROR(VLOOKUP(H1855,Database!$B$1:$C$5000,2,FALSE)),\"\",VLOOKUP(H1855,Database!$B$1:$C$5000,2,FALSE))","v":""},"",{"$error":"#N/A"},null,null,null,null,null,null,null,null,"",false,2,{"$f":"VLOOKUP(H1855,Database!$B$1:$D$5000,3,0)","v":{"$error":"#N/A"}},true]
["",null,null,null,null,null,null,null,{"$f":"IF(ISERROR(VLOOKUP(H1860,Database!$B$1:$C$5000,2,FALSE)),\"\",VLOOKUP(H1860,Database!$B$1:$C$5000,2,FALSE))","v":""},"",{"$error":"#N/A"},null,null,null,null,null,null,null,null,"",false,2,{"$f":"VLOOKUP(H1860,Database!$B$1:$D$5000,3,0)","v":{"$error":"#N/A"}},true]
[{"$f":"IF(B1863=\"\",\"\",ROW(A1858))","v":""},null,null,null,null,null,null,null,{"$f":"IF(ISERROR(VLOOKUP(H1863,Database!$B$1:$C$5000,2,FALSE)),\"\",VLOOKUP(H1863,Database!$B$1:$C$5000,2,FALSE))","v":""},{"$f":"IF(V1863=1,1,IF(AND(T1863=0,F1863=\"SSB\",V1863<>\"\"),3,IF(AND(T1863=0,F1863=\"DIGI\",V1863<>\"\"),2,IF(AND(T1863=0,F1863=\"CW\",V1863<>\"\"),5,IF(H1863=\"-\",\"\",T1863)))))","v":""},{"$f":"IF(H1863=\"-\",\"\",IF(AND(H1863<>\"\",X1863=TRUE),\"INDIPENDENT\",IF(W1863=0,\"SCRIVI NOME NELLE NOTE\",W1863)))","v":{"$error":"#N/A"}},null,null,null,null,null,null,null,null,{"$f":"IF(H1863=\"\",\"\",IF(H1863=$R$6,25,IF(OR(H1863=$R$7,H1863=$R$8,H1863=$R$9,H1863=$R$10,H1863=$R$11,H1863=$R$12,H1863=$R$13,H1863=$R$14,H1863=$R$15,H1863=$R$16,H1863=$R$17,H1863=$R$18,H1863=$R$19,H1863=$R$20,H1863=$R$21,H1863=$R$22,H1863=$R$23),15,0)))","v":""},{"$f":"ISERROR(I1863)","v":false},{"$f":"IF(H1863=\"-\",\"\",IF(AND(T1863=0,U1863=FALSE,I1863=\"\"),1,2))","v":2},{"$f":"VLOOKUP(H1863,Database!$B$1:$D$5000,3,0)","v":{"$error":"#N/A"}},{"$f":"ISERROR(W1863)","v":true}]
["",null,null,null,null,null,null,null,{"$f":"IF(ISERROR(VLOOKUP(H1865,Database!$B$1:$C$5000,2,FALSE)),\"\",VLOOKUP(H1865,Database!$B$1:$C$5000,2,FALSE))","v":""},"",{"$error":"#N/A"},null,null,null,null,null,null,null,null,"",false,2,{"$f":"VLOOKUP(H1865,Database!$B$1:$D$5000,3,0)","v":{"$error":"#N/A"}},true]
["",null,null,null,null,null,null,null,{"$f":"IF(ISERROR(VLOOKUP(H1870,Database!$B$1:$C$5000,2,FALSE)),\"\",VLOOKUP(H1870,Database!$B$1:$C$5000,2,FALSE))","v":""},"",{"$error":"#N/A"},null,null,null,null,null,null,null,null,"",false,2,{"$f":"VLOOKUP(H1870,Database!$B$1:$D$5000,3,0)","v":{"$error":"#N/A"}},true]
["",null,null,null,null,null,null,null,{"$f":"IF(ISERROR(VLOOKUP(H1876,Database!$B$1:$C$5000,2,FALSE)),\"\",VLOOKUP(H1876,Database!$B$1:$C$5000,2,FALSE))","v":""},"",{"$error":"#N/A"},null,null,null,null,null,null,null,null,"",false,2,{"$f":"VLOOKUP(H1876,Database!$B$1:$D$5000,3,0)","v":{"$error":"#N/A"}},true]
["",null,null,null,null,null,null,null,{"$f":"IF(ISERROR(VLOOKUP(H1882,Database!$B$1:$C$5000,2,FALSE)),\"\",VLOOKUP(H1882,Database!$B$1:$C$5000,2,FALSE))","v":""},"",{"$error":"#N/A"},null,null,null,null,null,null,null,null,"",false,2,{"$f":"VLOOKUP(H1882,Database!$B$1:$D$5000,3,0)","v":{"$error":"#N/A"}},true]
["",null,null,null,null,null,null,null,{"$f":"IF(ISERROR(VLOOKUP(H1886,Database!$B$1:$C$5000,2,FALSE)),\"\",VLOOKUP(H1886,Database!$B$1:$C$5000,2,FALSE))","v":""},"",{"$error":"#N/A"},null,null,null,null,null,null,null,null,"",false,2,{"$f":"VLOOKUP(H1886,Database!$B$1:$D$5000,3,0)","v":{"$error":"#N/A"}},true]
["",null,null,null,null,null,null,null,{"$f":"IF(ISERROR(VLOOKUP(H1891,Database!$B$1:$C$5000,2,FALSE)),\"\",VLOOKUP(H1891,Database!$B$1:$C$5000,2,FALSE))","v":""},"",{"$error":"#N/A"},null,null,null,null,null,null,null,null,"",false,2,{"$f":"VLOOKUP(H1891,Database!$B$1:$D$5000,3,0)","v":{"$error":"#N/A"}},true]
["",null,null,null,null,null,null,null,{"$f":"IF(ISERROR(VLOOKUP(H1896,Database!$B$1:$C$5000,2,FALSE)),\"\",VLOOKUP(H1896,Database!$B$1:$C$5000,2,FALSE))","v":""},"",{"$error":"#N/A"},null,null,null,null,null,null,null,null,"",false,2,{"$f":"VLOOKUP(H1896,Database!$B$1:$D$5000,3,0)","v":{"$error":"#N/A"}},true]
["",null,null,null,null,null,null,null,{"$f":"IF(ISERROR(VLOOKUP(H1901,Database!$B$1:$C$5000,2,FALSE)),\"\",VLOOKUP(H1901,Database!$B$1:$C$5000,2,FALSE))","v":""},"",{"$error":"#N/A"},null,null,null,null,null,null,null,null,"",false,2,{"$f":"VLOOKUP(H1901,Database!$B$1:$D$5000,3,0)","v":{"$error":"#N/A"}},true]
["",null,null,null,null,null,null,null,{"$f":"IF(ISERROR(VLOOKUP(H1906,Database!$B$1:$C$5000,2,FALSE)),\"\",VLOOKUP(H1906,Database!$B$1:$C$5000,2,FALSE))","v":""},"",{"$error":"#N/A"},null,null,null,null,null,null,null,null,"",false,2,{"$f":"VLOOKUP(H1906,Database!$B$1:$D$5000,3,0)","v":{"$error":"#N/A"}},true]
["",null,null,null,null,null,null,null,{"$f":"IF(ISERROR(VLOOKUP(H1911,Database!$B$1:$C$5000,2,FALSE)),\"\",VLOOKUP(H1911,Database!$B$1:$C$5000,2,FALSE))","v":""},"",{"$error":"#N/A"},null,null,null,null,null,null,null,null,"",false,2,{"$f":"VLOOKUP(H1911,Database!$B$1:$D$5000,3,0)","v":{"$error":"#N/A"}},true]
["",null,null,null,null,null,null,null,{"$f":"IF(ISERROR(VLOOKUP(H1917,Database!$B$1:$C$5000,2,FALSE)),\"\",VLOOKUP(H1917,Database!$B$1:$C$5000,2,FALSE))","v":""},"",{"$error":"#N/A"},null,null,null,null,null,null,null,null,"",false,2,{"$f":"VLOOKUP(H1917,Database!$B$1:$D$5000,3,0)","v":{"$error":"#N/A"}},true]
["",null,null,null,null,null,null,null,{"$f":"IF(ISERROR(VLOOKUP(H1920,Database!$B$1:$C$5000,2,FALSE)),\"\",VLOOKUP(H1920,Database!$B$1:$C$5000,2,FALSE))","v":""},"",{"$error":"#N/A"},null,null,null,null,null,null,null,null,"",false,2,{"$f":"VLOOKUP(H1920,Database!$B$1:$D$5000,3,0)","v":{"$error":"#N/A"}},true]
["",null,null,null,null,null,null,null,{"$f":"IF(ISERROR(VLOOKUP(H1922,Database!$B$1:$C$5000,2,FALSE)),\"\",VLOOKUP(H1922,Database!$B$1:$C$5000,2,FALSE))","v":""},"",{"$error":"#N/A"},null,null,null,null,null,null,null,null,"",false,2,{"$f":"VLOOKUP(H1922,Database!$B$1:$D$5000,3,0)","v":{"$error":"#N/A"}},true]
[{"$f":"IF(B1927=\"\",\"\",ROW(A1922))","v":""},null,null,null,null,null,null,null,{"$f":"IF(ISERROR(VLOOKUP(H1927,Database!$B$1:$C$5000,2,FALSE)),\"\",VLOOKUP(H1927,Database!$B$1:$C$5000,2,FALSE))","v":""},{"$f":"IF(V1927=1,1,IF(AND(T1927=0,F1927=\"SSB\",V1927<>\"\"),3,IF(AND(T1927=0,F1927=\"DIGI\",V1927<>\"\"),2,IF(AND(T1927=0,F1927=\"CW\",V1927<>\"\"),5,IF(H1927=\"-\",\"\",T1927)))))","v":""},{"$f":"IF(H1927=\"-\",\"\",IF(AND(H1927<>\"\",X1927=TRUE),\"INDIPENDENT\",IF(W1927=0,\"SCRIVI NOME NELLE NOTE\",W1927)))","v":{"$error":"#N/A"}},null,null,null,null,null,null,null,null,{"$f":"IF(H1927=\"\",\"\",IF(H1927=$R$6,25,IF(OR(H1927=$R$7,H1927=$R$8,H1927=$R$9,H1927=$R$10,H1927=$R$11,H1927=$R$12,H1927=$R$13,H1927=$R$14,H1927=$R$15,H1927=$R$16,H1927=$R$17,H1927=$R$18,H1927=$R$19,H1927=$R$20,H1927=$R$21,H1927=$R$22,H1927=$R$23),15,0)))","v":""},{"$f":"ISERROR(I1927)","v":false},{"$f":"IF(H1927=\"-\",\"\",IF(AND(T1927=0,U1927=FALSE,I1927=\"\"),1,2))","v":2},{"$f":"VLOOKUP(H1927,Database!$B$1:$D$5000,3,0)","v":{"$error":"#N/A"}},{"$f":"ISERROR(W1927)","v":true}]
["",null,null,null,null,null,null,null,{"$f":"IF(ISERROR(VLOOKUP(H1932,Database!$B$1:$C$5000,2,FALSE)),\"\",VLOOKUP(H1932,Database!$B$1:$C$5000,2,FALSE))","v":""},"",{"$error":"#N/A"},null,null,null,null,null,null,null,null,"",false,2,{"$f":"VLOOKUP(H1932,Database!$B$1:$D$5000,3,0)","v":{"$error":"#N/A"}},true]
["",null,null,null,null,null,null,null,{"$f":"IF(ISERROR(VLOOKUP(H1939,Database!$B$1:$C$5000,2,FALSE)),\"\",VLOOKUP(H1939,Database!$B$1:$C$5000,2,FALSE))","v":""},"",{"$error":"#N/A"},null,null,null,null,null,null,null,null,"",false,2,{"$f":"VLOOKUP(H1939,Database!$B$1:$D$5000,3,0)","v":{"$error":"#N/A"}},true]
["",null,null,null,null,null,null,null,{"$f":"IF(ISERROR(VLOOKUP(H1942,Database!$B$1:$C$5000,2,FALSE)),\"\",VLOOKUP(H1942,Database!$B$1:$C$5000,2,FALSE))","v":""},"",{"$error":"#N/A"},null,null,null,null,null,null,null,null,"",false,2,{"$f":"VLOOKUP(H1942,Database!$B$1:$D$5000,3,0)","v":{"$error":"#N/A"}},true]
["",null,null,null,null,null,null,null,{"$f":"IF(ISERROR(VLOOKUP(H1948,Database!$B$1:$C$5000,2,FALSE)),\"\",VLOOKUP(H1948,Database!$B$1:$C$5000,2,FALSE))","v":""},"",{"$error":"#N/A"},null,null,null,null,null,null,null,null,"",false,2,{"$f":"VLOOKUP(H1948,Database!$B$1:$D$5000,3,0)","v":{"$error":"#N/A"}},true]
["",null,null,null,null,null,null,null,{"$f":"IF(ISERROR(VLOOKUP(H1953,Database!$B$1:$C$5000,2,FALSE)),\"\",VLOOKUP(H1953,Database!$B$1:$C$5000,2,FALSE))","v":""},"",{"$error":"#N/A"},null,null,null,null,null,null,null,null,"",false,2,{"$f":"VLOOKUP(H1953,Database!$B$1:$D$5000,3,0)","v":{"$error":"#N/A"}},true]
["",null,null,null,null,null,null,null,{"$f":"IF(ISERROR(VLOOKUP(H1958,Database!$B$1:$C$5000,2,FALSE)),\"\",VLOOKUP(H1958,Database!$B$1:$C$5000,2,FALSE))","v":""},"",{"$error":"#N/A"},null,null,null,null,null,null,null,null,"",false,2,{"$f":"VLOOKUP(H1958,Database!$B$1:$D$5000,3,0)","v":{"$error":"#N/A"}},true]
["",null,null,null,null,null,null,null,{"$f":"IF(ISERROR(VLOOKUP(H1963,Database!$B$1:$C$5000,2,FALSE)),\"\",VLOOKUP(H1963,Database!$B$1:$C$5000,2,FALSE))","v":""},"",{"$error":"#N/A"},null,null,null,null,null,null,null,null,"",false,2,{"$f":"VLOOKUP(H1963,Database!$B$1:$D$5000,3,0)","v":{"$error":"#N/A"}},true]
["",null,null,null,null,null,null,null,{"$f":"IF(ISERROR(VLOOKUP(H1968,Database!$B$1:$C$5000,2,FALSE)),\"\",VLOOKUP(H1968,Database!$B$1:$C$5000,2,FALSE))","v":""},"",{"$error":"#N/A"},null,null,null,null,null,null,null,null,"",false,2,{"$f":"VLOOKUP(H1968,Database!$B$1:$D$5000,3,0)","v":{"$error":"#N/A"}},true]
["",null,null,null,null,null,null,null,{"$f":"IF(ISERROR(VLOOKUP(H1973,Database!$B$1:$C$5000,2,FALSE)),\"\",VLOOKUP(H1973,Database!$B$1:$C$5000,2,FALSE))","v":""},"",{"$error":"#N/A"},null,null,null,null,null,null,null,null,"",false,2,{"$f":"VLOOKUP(H1973,Database!$B$1:$D$5000,3,0)","v":{"$error":"#N/A"}},true]
["",null,null,null,null,null,null,null,{"$f":"IF(ISERROR(VLOOKUP(H1977,Database!$B$1:$C$5000,2,FALSE)),\"\",VLOOKUP(H1977,Database!$B$1:$C$5000,2,FALSE))","v":""},"",{"$error":"#N/A"},null,null,null,null,null,null,null,null,"",false,2,{"$f":"VLOOKUP(H1977,Database!$B$1:$D$5000,3,0)","v":{"$error":"#N/A"}},true]
["",null,null,null,null,null,null,null,{"$f":"IF(ISERROR(VLOOKUP(H1983,Database!$B$1:$C$5000,2,FALSE)),\"\",VLOOKUP(H1983,Database!$B$1:$C$5000,2,FALSE))","v":""},"",{"$error":"#N/A"},null,null,null,null,null,null,null,null,"",false,2,{"$f":"VLOOKUP(H1983,Database!$B$1:$D$5000,3,0)","v":{"$error":"#N/A"}},true]
["",null,null,null,null,null,null,null,{"$f":"IF(ISERROR(VLOOKUP(H1984,Database!$B$1:$C$5000,2,FALSE)),\"\",VLOOKUP(H1984,Database!$B$1:$C$5000,2,FALSE))","v":""},"",{"$error":"#N/A"},null,null,null,null,null,null,null,null,"",false,2,{"$f":"VLOOKUP(H1984,Database!$B$1:$D$5000,3,0)","v":{"$error":"#N/A"}},true]
["",null,null,null,null,null,null,null,{"$f":"IF(ISERROR(VLOOKUP(H1989,Database!$B$1:$C$5000,2,FALSE)),\"\",VLOOKUP(H1989,Database!$B$1:$C$5000,2,FALSE))","v":""},"",{"$error":"#N/A"},null,null,null,null,null,null,null,null,"",false,2,{"$f":"VLOOKUP(H1989,Database!$B$1:$D$5000,3,0)","v":{"$error":"#N/A"}},true]
["",null,null,null,null,null,null,null,{"$f":"IF(ISERROR(VLOOKUP(H1996,Database!$B$1:$C$5000,2,FALSE)),\"\",VLOOKUP(H1996,Database!$B$1:$C$5000,2,FALSE))","v":""},"",{"$error":"#N/A"},null,null,null,null,null,null,null,null,"",false,2,{"$f":"VLOOKUP(H1996,Database!$B$1:$D$5000,3,0)","v":{"$error":"#N/A"}},true]
["",null,null,null,null,null,null,null,{"$f":"IF(ISERROR(VLOOKUP(H1999,Database!$B$1:$C$5000,2,FALSE)),\"\",VLOOKUP(H1999,Database!$B$1:$C$5000,2,FALSE))","v":""},"",{"$error":"#N/A"},null,null,null,null,null,null,null,null,"",false,2,{"$f":"VLOOKUP(H1999,Database!$B$1:$D$5000,3,0)","v":{"$error":"#N/A"}},true]
["",null,null,null,null,null,null,null,{"$f":"IF(ISERROR(VLOOKUP(H2004,Database!$B$1:$C$5000,2,FALSE)),\"\",VLOOKUP(H2004,Database!$B$1:$C$5000,2,FALSE))","v":""},"",{"$error":"#N/A"},null,null,null,null,null,null,null,null,"",false,2,{"$f":"VLOOKUP(H2004,Database!$B$1:$D$5000,3,0)","v":{"$error":"#N/A"}},true]
["",null,null,null,null,null,null,null,{"$f":"IF(ISERROR(VLOOKUP(H2009,Database!$B$1:$C$5000,2,FALSE)),\"\",VLOOKUP(H2009,Database!$B$1:$C$5000,2,FALSE))","v":""},"",{"$error":"#N/A"},null,null,null,null,null,null,null,null,"",false,2,{"$f":"VLOOKUP(H2009,Database!$B$1:$D$5000,3,0)","v":{"$error":"#N/A"}},true]
["",null,null,null,null,null,null,null,{"$f":"IF(ISERROR(VLOOKUP(H2015,Database!$B$1:$C$5000,2,FALSE)),\"\",VLOOKUP(H2015,Database!$B$1:$C$5000,2,FALSE))","v":""},"",{"$error":"#N/A"},null,null,null,null,null,null,null,null,"",false,2,{"$f":"VLOOKUP(H2015,Database!$B$1:$D$5000,3,0)","v":{"$error":"#N/A"}},true]
["",null,null,null,null,null,null,null,{"$f":"IF(ISERROR(VLOOKUP(H2019,Database!$B$1:$C$5000,2,FALSE)),\"\",VLOOKUP(H2019,Database!$B$1:$C$5000,2,FALSE))","v":""},"",{"$error":"#N/A"},null,null,null,null,null,null,null,null,"",false,2,{"$f":"VLOOKUP(H2019,Database!$B$1:$D$5000,3,0)","v":{"$error":"#N/A"}},true]
["",null,null,null,null,null,null,null,{"$f":"IF(ISERROR(VLOOKUP(H2025,Database!$B$1:$C$5000,2,FALSE)),\"\",VLOOKUP(H2025,Database!$B$1:$C$5000,2,FALSE))","v":""},"",{"$error":"#N/A"},null,null,null,null,null,null,null,null,"",false,2,{"$f":"VLOOKUP(H2025,Database!$B$1:$D$5000,3,0)","v":{"$error":"#N/A"}},true]
["",null,null,null,null,null,null,null,{"$f":"IF(ISERROR(VLOOKUP(H2030,Database!$B$1:$C$5000,2,FALSE)),\"\",VLOOKUP(H2030,Database!$B$1:$C$5000,2,FALSE))","v":""},"",{"$error":"#N/A"},null,null,null,null,null,null,null,null,"",false,2,{"$f":"VLOOKUP(H2030,Database!$B$1:$D$5000,3,0)","v":{"$error":"#N/A"}},true]
["",null,null,null,null,null,null,null,{"$f":"IF(ISERROR(VLOOKUP(H2034,Database!$B$1:$C$5000,2,FALSE)),\"\",VLOOKUP(H2034,Database!$B$1:$C$5000,2,FALSE))","v":""},"",{"$error":"#N/A"},null,null,null,null,null,null,null,null,"",false,2,{"$f":"VLOOKUP(H2034,Database!$B$1:$D$5000,3,0)","v":{"$error":"#N/A"}},true]
["",null,null,null,null,null,null,null,{"$f":"IF(ISERROR(VLOOKUP(H2040,Database!$B$1:$C$5000,2,FALSE)),\"\",VLOOKUP(H2040,Database!$B$1:$C$5000,2,FALSE))","v":""},"",{"$error":"#N/A"},null,null,null,null,null,null,null,null,"",false,2,{"$f":"VLOOKUP(H2040,Database!$B$1:$D$5000,3,0)","v":{"$error":"#N/A"}},true]
["",null,null,null,null,null,null,null,{"$f":"IF(ISERROR(VLOOKUP(H2045,Database!$B$1:$C$5000,2,FALSE)),\"\",VLOOKUP(H2045,Database!$B$1:$C$5000,2,FALSE))","v":""},"",{"$error":"#N/A"},null,null,null,null,null,null,null,null,"",false,2,{"$f":"VLOOKUP(H2045,Database!$B$1:$D$5000,3,0)","v":{"$error":"#N/A"}},true]
["",null,null,null,null,null,null,null,{"$f":"IF(ISERROR(VLOOKUP(H2046,Database!$B$1:$C$5000,2,FALSE)),\"\",VLOOKUP(H2046,Database!$B$1:$C$5000,2,FALSE))","v":""},"",{"$error":"#N/A"},null,null,null,null,null,null,null,null,"",false,2,{"$f":"VLOOKUP(H2046,Database!$B$1:$D$5000,3,0)","v":{"$error":"#N/A"}},true]
["",null,null,null,null,null,null,null,{"$f":"IF(ISERROR(VLOOKUP(H2053,Database!$B$1:$C$5000,2,FALSE)),\"\",VLOOKUP(H2053,Database!$B$1:$C$5000,2,FALSE))","v":""},"",{"$error":"#N/A"},null,null,null,null,null,null,null,null,"",false,2,{"$f":"VLOOKUP(H2053,Database!$B$1:$D$5000,3,0)","v":{"$error":"#N/A"}},true]
[{"$f":"IF(B2055=\"\",\"\",ROW(A2050))","v":""},null,null,null,null,null,null,null,{"$f":"IF(ISERROR(VLOOKUP(H2055,Database!$B$1:$C$5000,2,FALSE)),\"\",VLOOKUP(H2055,Database!$B$1:$C$5000,2,FALSE))","v":""},{"$f":"IF(V2055=1,1,IF(AND(T2055=0,F2055=\"SSB\",V2055<>\"\"),3,IF(AND(T2055=0,F2055=\"DIGI\",V2055<>\"\"),2,IF(AND(T2055=0,F2055=\"CW\",V2055<>\"\"),5,IF(H2055=\"-\",\"\",T2055)))))","v":""},{"$f":"IF(H2055=\"-\",\"\",IF(AND(H2055<>\"\",X2055=TRUE),\"INDIPENDENT\",IF(W2055=0,\"SCRIVI NOME NELLE NOTE\",W2055)))","v":{"$error":"#N/A"}},null,null,null,null,null,null,null,null,{"$f":"IF(H2055=\"\",\"\",IF(H2055=$R$6,25,IF(OR(H2055=$R$7,H2055=$R$8,H2055=$R$9,H2055=$R$10,H2055=$R$11,H2055=$R$12,H2055=$R$13,H2055=$R$14,H2055=$R$15,H2055=$R$16,H2055=$R$17,H2055=$R$18,H2055=$R$19,H2055=$R$20,H2055=$R$21,H2055=$R$22,H2055=$R$23),15,0)))","v":""},{"$f":"ISERROR(I2055)","v":false},{"$f":"IF(H2055=\"-\",\"\",IF(AND(T2055=0,U2055=FALSE,I2055=\"\"),1,2))","v":2},{"$f":"VLOOKUP(H2055,Database!$B$1:$D$5000,3,0)","v":{"$error":"#N/A"}},{"$f":"ISERROR(W2055)","v":true}]
["",null,null,null,null,null,null,null,{"$f":"IF(ISERROR(VLOOKUP(H2061,Database!$B$1:$C$5000,2,FALSE)),\"\",VLOOKUP(H2061,Database!$B$1:$C$5000,2,FALSE))","v":""},"",{"$error":"#N/A"},null,null,null,null,null,null,null,null,"",false,2,{"$f":"VLOOKUP(H2061,Database!$B$1:$D$5000,3,0)","v":{"$error":"#N/A"}},true]
["",null,null,null,null,null,null,null,{"$f":"IF(ISERROR(VLOOKUP(H2066,Database!$B$1:$C$5000,2,FALSE)),\"\",VLOOKUP(H2066,Database!$B$1:$C$5000,2,FALSE))","v":""},"",{"$error":"#N/A"},null,null,null,null,null,null,null,null,"",false,2,{"$f":"VLOOKUP(H2066,Database!$B$1:$D$5000,3,0)","v":{"$error":"#N/A"}},true]
["",null,null,null,null,null,null,null,{"$f":"IF(ISERROR(VLOOKUP(H2072,Database!$B$1:$C$5000,2,FALSE)),\"\",VLOOKUP(H2072,Database!$B$1:$C$5000,2,FALSE))","v":""},"",{"$error":"#N/A"},null,null,null,null,null,null,null,null,"",false,2,{"$f":"VLOOKUP(H2072,Database!$B$1:$D$5000,3,0)","v":{"$error":"#N/A"}},true]
["",null,null,null,null,null,null,null,{"$f":"IF(ISERROR(VLOOKUP(H2076,Database!$B$1:$C$5000,2,FALSE)),\"\",VLOOKUP(H2076,Database!$B$1:$C$5000,2,FALSE))","v":""},"",{"$error":"#N/A"},null,null,null,null,null,null,null,null,"",false,2,{"$f":"VLOOKUP(H2076,Database!$B$1:$D$5000,3,0)","v":{"$error":"#N/A"}},true]
["",null,null,null,null,null,null,null,{"$f":"IF(ISERROR(VLOOKUP(H2081,Database!$B$1:$C$5000,2,FALSE)),\"\",VLOOKUP(H2081,Database!$B$1:$C$5000,2,FALSE))","v":""},"",{"$error":"#N/A"},null,null,null,null,null,null,null,null,"",false,2,{"$f":"VLOOKUP(H2081,Database!$B$1:$D$5000,3,0)","v":{"$error":"#N/A"}},true]
["",null,null,null,null,null,null,null,{"$f":"IF(ISERROR(VLOOKUP(H2087,Database!$B$1:$C$5000,2,FALSE)),\"\",VLOOKUP(H2087,Database!$B$1:$C$5000,2,FALSE))","v":""},"",{"$error":"#N/A"},null,null,null,null,null,null,null,null,"",false,2,{"$f":"VLOOKUP(H2087,Database!$B$1:$D$5000,3,0)","v":{"$error":"#N/A"}},true]
["",null,null,null,null,null,null,null,{"$f":"IF(ISERROR(VLOOKUP(H2091,Database!$B$1:$C$5000,2,FALSE)),\"\",VLOOKUP(H2091,Database!$B$1:$C$5000,2,FALSE))","v":""},"",{"$error":"#N/A"},null,null,null,null,null,null,null,null,"",false,2,{"$f":"VLOOKUP(H2091,Database!$B$1:$D$5000,3,0)","v":{"$error":"#N/A"}},true]
["",null,null,null,null,null,null,null,{"$f":"IF(ISERROR(VLOOKUP(H2096,Database!$B$1:$C$5000,2,FALSE)),\"\",VLOOKUP(H2096,Database!$B$1:$C$5000,2,FALSE))","v":""},"",{"$error":"#N/A"},null,null,null,null,null,null,null,null,"",false,2,{"$f":"VLOOKUP(H2096,Database!$B$1:$D$5000,3,0)","v":{"$error":"#N/A"}},true]
["",null,null,null,null,null,null,null,{"$f":"IF(ISERROR(VLOOKUP(H2102,Database!$B$1:$C$5000,2,FALSE)),\"\",VLOOKUP(H2102,Database!$B$1:$C$5000,2,FALSE))","v":""},"",{"$error":"#N/A"},null,null,null,null,null,null,null,null,"",false,2,{"$f":"VLOOKUP(H2102,Database!$B$1:$D$5000,3,0)","v":{"$error":"#N/A"}},true]
["",null,null,null,null,null,null,null,{"$f":"IF(ISERROR(VLOOKUP(H2107,Database!$B$1:$C$5000,2,FALSE)),\"\",VLOOKUP(H2107,Database!$B$1:$C$5000,2,FALSE))","v":""},"",{"$error":"#N/A"},null,null,null,null,null,null,null,null,"",false,2,{"$f":"VLOOKUP(H2107,Database!$B$1:$D$5000,3,0)","v":{"$error":"#N/A"}},true]
["",null,null,null,null,null,null,null,{"$f":"IF(ISERROR(VLOOKUP(H2110,Database!$B$1:$C$5000,2,FALSE)),\"\",VLOOKUP(H2110,Database!$B$1:$C$5000,2,FALSE))","v":""},"",{"$error":"#N/A"},null,null,null,null,null,null,null,null,"",false,2,{"$f":"VLOOKUP(H2110,Database!$B$1:$D$5000,3,0)","v":{"$error":"#N/A"}},true]
["",null,null,null,null,null,null,null,{"$f":"IF(ISERROR(VLOOKUP(H2112,Database!$B$1:$C$5000,2,FALSE)),\"\",VLOOKUP(H2112,Database!$B$1:$C$5000,2,FALSE))","v":""},"",{"$error":"#N/A"},null,null,null,null,null,null,null,null,"",false,2,{"$f":"VLOOKUP(H2112,Database!$B$1:$D$5000,3,0)","v":{"$error":"#N/A"}},true]
["",null,null,null,null,null,null,null,{"$f":"IF(ISERROR(VLOOKUP(H2117,Database!$B$1:$C$5000,2,FALSE)),\"\",VLOOKUP(H2117,Database!$B$1:$C$5000,2,FALSE))","v":""},"",{"$error":"#N/A"},null,null,null,null,null,null,null,null,"",false,2,{"$f":"VLOOKUP(H2117,Database!$B$1:$D$5000,3,0)","v":{"$error":"#N/A"}},true]
["",null,null,null,null,null,null,null,{"$f":"IF(ISERROR(VLOOKUP(H2123,Database!$B$1:$C$5000,2,FALSE)),\"\",VLOOKUP(H2123,Database!$B$1:$C$5000,2,FALSE))","v":""},"",{"$error":"#N/A"},null,null,null,null,null,null,null,null,"",false,2,{"$f":"VLOOKUP(H2123,Database!$B$1:$D$5000,3,0)","v":{"$error":"#N/A"}},true]
["",null,null,null,null,null,null,null,{"$f":"IF(ISERROR(VLOOKUP(H2129,Database!$B$1:$C$5000,2,FALSE)),\"\",VLOOKUP(H2129,Database!$B$1:$C$5000,2,FALSE))","v":""},"",{"$error":"#N/A"},null,null,null,null,null,null,null,null,"",false,2,{"$f":"VLOOKUP(H2129,Database!$B$1:$D$5000,3,0)","v":{"$error":"#N/A"}},true]
["",null,null,null,null,null,null,null,{"$f":"IF(ISERROR(VLOOKUP(H2132,Database!$B$1:$C$5000,2,FALSE)),\"\",VLOOKUP(H2132,Database!$B$1:$C$5000,2,FALSE))","v":""},"",{"$error":"#N/A"},null,null,null,null,null,null,null,null,"",false,2,{"$f":"VLOOKUP(H2132,Database!$B$1:$D$5000,3,0)","v":{"$error":"#N/A"}},true]
["",null,null,null,null,null,null,null,{"$f":"IF(ISERROR(VLOOKUP(H2138,Database!$B$1:$C$5000,2,FALSE)),\"\",VLOOKUP(H2138,Database!$B$1:$C$5000,2,FALSE))","v":""},"",{"$error":"#N/A"},null,null,null,null,null,null,null,null,"",false,2,{"$f":"VLOOKUP(H2138,Database!$B$1:$D$5000,3,0)","v":{"$error":"#N/A"}},true]
["",null,null,null,null,null,null,null,{"$f":"IF(ISERROR(VLOOKUP(H2143,Database!$B$1:$C$5000,2,FALSE)),\"\",VLOOKUP(H2143,Database!$B$1:$C$5000,2,FALSE))","v":""},"",{"$error":"#N/A"},null,null,null,null,null,null,null,null,"",false,2,{"$f":"VLOOKUP(H2143,Database!$B$1:$D$5000,3,0)","v":{"$error":"#N/A"}},true]
["",null,null,null,null,null,null,null,{"$f":"IF(ISERROR(VLOOKUP(H2148,Database!$B$1:$C$5000,2,FALSE)),\"\",VLOOKUP(H2148,Database!$B$1:$C$5000,2,FALSE))","v":""},"",{"$error":"#N/A"},null,null,null,null,null,null,null,null,"",false,2,{"$f":"VLOOKUP(H2148,Database!$B$1:$D$5000,3,0)","v":{"$error":"#N/A"}},true]
["",null,null,null,null,null,null,null,{"$f":"IF(ISERROR(VLOOKUP(H2153,Database!$B$1:$C$5000,2,FALSE)),\"\",VLOOKUP(H2153,Database!$B$1:$C$5000,2,FALSE))","v":""},"",{"$error":"#N/A"},null,null,null,null,null,null,null,null,"",false,2,{"$f":"VLOOKUP(H2153,Database!$B$1:$D$5000,3,0)","v":{"$error":"#N/A"}},true]
["",null,null,null,null,null,null,null,{"$f":"IF(ISERROR(VLOOKUP(H2158,Database!$B$1:$C$5000,2,FALSE)),\"\",VLOOKUP(H2158,Database!$B$1:$C$5000,2,FALSE))","v":""},"",{"$error":"#N/A"},null,null,null,null,null,null,null,null,"",false,2,{"$f":"VLOOKUP(H2158,Database!$B$1:$D$5000,3,0)","v":{"$error":"#N/A"}},true]
["",null,null,null,null,null,null,null,{"$f":"IF(ISERROR(VLOOKUP(H2164,Database!$B$1:$C$5000,2,FALSE)),\"\",VLOOKUP(H2164,Database!$B$1:$C$5000,2,FALSE))","v":""},"",{"$error":"#N/A"},null,null,null,null,null,null,null,null,"",false,2,{"$f":"VLOOKUP(H2164,Database!$B$1:$D$5000,3,0)","v":{"$error":"#N/A"}},true]
["",null,null,null,null,null,null,null,{"$f":"IF(ISERROR(VLOOKUP(H2167,Database!$B$1:$C$5000,2,FALSE)),\"\",VLOOKUP(H2167,Database!$B$1:$C$5000,2,FALSE))","v":""},"",{"$error":"#N/A"},null,null,null,null,null,null,null,null,"",false,2,{"$f":"VLOOKUP(H2167,Database!$B$1:$D$5000,3,0)","v":{"$error":"#N/A"}},true]
["",null,null,null,null,null,null,null,{"$f":"IF(ISERROR(VLOOKUP(H2173,Database!$B$1:$C$5000,2,FALSE)),\"\",VLOOKUP(H2173,Database!$B$1:$C$5000,2,FALSE))","v":""},"",{"$error":"#N/A"},null,null,null,null,null,null,null,null,"",false,2,{"$f":"VLOOKUP(H2173,Database!$B$1:$D$5000,3,0)","v":{"$error":"#N/A"}},true]
["",null,null,null,null,null,null,null,{"$f":"IF(ISERROR(VLOOKUP(H2174,Database!$B$1:$C$5000,2,FALSE)),\"\",VLOOKUP(H2174,Database!$B$1:$C$5000,2,FALSE))","v":""},"",{"$error":"#N/A"},null,null,null,null,null,null,null,null,"",false,2,{"$f":"VLOOKUP(H2174,Database!$B$1:$D$5000,3,0)","v":{"$error":"#N/A"}},true]
["",null,null,null,null,null,null,null,{"$f":"IF(ISERROR(VLOOKUP(H2179,Database!$B$1:$C$5000,2,FALSE)),\"\",VLOOKUP(H2179,Database!$B$1:$C$5000,2,FALSE))","v":""},"",{"$error":"#N/A"},null,null,null,null,null,null,null,null,"",false,2,{"$f":"VLOOKUP(H2179,Database!$B$1:$D$5000,3,0)","v":{"$error":"#N/A"}},true]
["",null,null,null,null,null,null,null,{"$f":"IF(ISERROR(VLOOKUP(H2185,Database!$B$1:$C$5000,2,FALSE)),\"\",VLOOKUP(H2185,Database!$B$1:$C$5000,2,FALSE))","v":""},"",{"$error":"#N/A"},null,null,null,null,null,null,null,null,"",false,2,{"$f":"VLOOKUP(H2185,Database!$B$1:$D$5000,3,0)","v":{"$error":"#N/A"}},true]
["",null,null,null,null,null,null,null,{"$f":"IF(ISERROR(VLOOKUP(H2192,Database!$B$1:$C$5000,2,FALSE)),\"\",VLOOKUP(H2192,Database!$B$1:$C$5000,2,FALSE))","v":""},"",{"$error":"#N/A"},null,null,null,null,null,null,null,null,"",false,2,{"$f":"VLOOKUP(H2192,Database!$B$1:$D$5000,3,0)","v":{"$error":"#N/A"}},true]
["",null,null,null,null,null,null,null,{"$f":"IF(ISERROR(VLOOKUP(H2194,Database!$B$1:$C$5000,2,FALSE)),\"\",VLOOKUP(H2194,Database!$B$1:$C$5000,2,FALSE))","v":""},"",{"$error":"#N/A"},null,null,null,null,null,null,null,null,"",false,2,{"$f":"VLOOKUP(H2194,Database!$B$1:$D$5000,3,0)","v":{"$error":"#N/A"}},true]
["",null,null,null,null,null,null,null,{"$f":"IF(ISERROR(VLOOKUP(H2200,Database!$B$1:$C$5000,2,FALSE)),\"\",VLOOKUP(H2200,Database!$B$1:$C$5000,2,FALSE))","v":""},"",{"$error":"#N/A"},null,null,null,null,null,null,null,null,"",false,2,{"$f":"VLOOKUP(H2200,Database!$B$1:$D$5000,3,0)","v":{"$error":"#N/A"}},true]
["",null,null,null,null,null,null,null,{"$f":"IF(ISERROR(VLOOKUP(H2205,Database!$B$1:$C$5000,2,FALSE)),\"\",VLOOKUP(H2205,Database!$B$1:$C$5000,2,FALSE))","v":""},"",{"$error":"#N/A"},null,null,null,null,null,null,null,null,"",false,2,{"$f":"VLOOKUP(H2205,Database!$B$1:$D$5000,3,0)","v":{"$error":"#N/A"}},true]
["",null,null,null,null,null,null,null,{"$f":"IF(ISERROR(VLOOKUP(H2211,Database!$B$1:$C$5000,2,FALSE)),\"\",VLOOKUP(H2211,Database!$B$1:$C$5000,2,FALSE))","v":""},"",{"$error":"#N/A"},null,null,null,null,null,null,null,null,"",false,2,{"$f":"VLOOKUP(H2211,Database!$B$1:$D$5000,3,0)","v":{"$error":"#N/A"}},true]
["",null,null,null,null,null,null,null,{"$f":"IF(ISERROR(VLOOKUP(H2215,Database!$B$1:$C$5000,2,FALSE)),\"\",VLOOKUP(H2215,Database!$B$1:$C$5000,2,FALSE))","v":""},"",{"$error":"#N/A"},null,null,null,null,null,null,null,null,"",false,2,{"$f":"VLOOKUP(H2215,Database!$B$1:$D$5000,3,0)","v":{"$error":"#N/A"}},true]
["",null,null,null,null,null,null,null,{"$f":"IF(ISERROR(VLOOKUP(H2220,Database!$B$1:$C$5000,2,FALSE)),\"\",VLOOKUP(H2220,Database!$B$1:$C$5000,2,FALSE))","v":""},"",{"$error":"#N/A"},null,null,null,null,null,null,null,null,"",false,2,{"$f":"VLOOKUP(H2220,Database!$B$1:$D$5000,3,0)","v":{"$error":"#N/A"}},true]
["",null,null,null,null,null,null,null,{"$f":"IF(ISERROR(VLOOKUP(H2226,Database!$B$1:$C$5000,2,FALSE)),\"\",VLOOKUP(H2226,Database!$B$1:$C$5000,2,FALSE))","v":""},"",{"$error":"#N/A"},null,null,null,null,null,null,null,null,"",false,2,{"$f":"VLOOKUP(H2226,Database!$B$1:$D$5000,3,0)","v":{"$error":"#N/A"}},true]
["",null,null,null,null,null,null,null,{"$f":"IF(ISERROR(VLOOKUP(H2230,Database!$B$1:$C$5000,2,FALSE)),\"\",VLOOKUP(H2230,Database!$B$1:$C$5000,2,FALSE))","v":""},"",{"$error":"#N/A"},null,null,null,null,null,null,null,null,"",false,2,{"$f":"VLOOKUP(H2230,Database!$B$1:$D$5000,3,0)","v":{"$error":"#N/A"}},true]
["",null,null,null,null,null,null,null,{"$f":"IF(ISERROR(VLOOKUP(H2235,Database!$B$1:$C$5000,2,FALSE)),\"\",VLOOKUP(H2235,Database!$B$1:$C$5000,2,FALSE))","v":""},"",{"$error":"#N/A"},null,null,null,null,null,null,null,null,"",false,2,{"$f":"VLOOKUP(H2235,Database!$B$1:$D$5000,3,0)","v":{"$error":"#N/A"}},true]
["",null,null,null,null,null,null,null,{"$f":"IF(ISERROR(VLOOKUP(H2236,Database!$B$1:$C$5000,2,FALSE)),\"\",VLOOKUP(H2236,Database!$B$1:$C$5000,2,FALSE))","v":""},"",{"$error":"#N/A"},null,null,null,null,null,null,null,null,"",false,2,{"$f":"VLOOKUP(H2236,Database!$B$1:$D$5000,3,0)","v":{"$error":"#N/A"}},true]
["",null,null,null,null,null,null,null,{"$f":"IF(ISERROR(VLOOKUP(H2241,Database!$B$1:$C$5000,2,FALSE)),\"\",VLOOKUP(H2241,Database!$B$1:$C$5000,2,FALSE))","v":""},"",{"$error":"#N/A"},null,null,null,null,null,null,null,null,"",false,2,{"$f":"VLOOKUP(H2241,Database!$B$1:$D$5000,3,0)","v":{"$error":"#N/A"}},true]
["",null,null,null,null,null,null,null,{"$f":"IF(ISERROR(VLOOKUP(H2249,Database!$B$1:$C$5000,2,FALSE)),\"\",VLOOKUP(H2249,Database!$B$1:$C$5000,2,FALSE))","v":""},"",{"$error":"#N/A"},null,null,null,null,null,null,null,null,"",false,2,{"$f":"VLOOKUP(H2249,Database!$B$1:$D$5000,3,0)","v":{"$error":"#N/A"}},true]
["",null,null,null,null,null,null,null,{"$f":"IF(ISERROR(VLOOKUP(H2251,Database!$B$1:$C$5000,2,FALSE)),\"\",VLOOKUP(H2251,Database!$B$1:$C$5000,2,FALSE))","v":""},"",{"$error":"#N/A"},null,null,null,null,null,null,null,null,"",false,2,{"$f":"VLOOKUP(H2251,Database!$B$1:$D$5000,3,0)","v":{"$error":"#N/A"}},true]
["",null,null,null,null,null,null,null,{"$f":"IF(ISERROR(VLOOKUP(H2256,Database!$B$1:$C$5000,2,FALSE)),\"\",VLOOKUP(H2256,Database!$B$1:$C$5000,2,FALSE))","v":""},"",{"$error":"#N/A"},null,null,null,null,null,null,null,null,"",false,2,{"$f":"VLOOKUP(H2256,Database!$B$1:$D$5000,3,0)","v":{"$error":"#N/A"}},true]
["",null,null,null,null,null,null,null,{"$f":"IF(ISERROR(VLOOKUP(H2262,Database!$B$1:$C$5000,2,FALSE)),\"\",VLOOKUP(H2262,Database!$B$1:$C$5000,2,FALSE))","v":""},"",{"$error":"#N/A"},null,null,null,null,null,null,null,null,"",false,2,{"$f":"VLOOKUP(H2262,Database!$B$1:$D$5000,3,0)","v":{"$error":"#N/A"}},true]
["",null,null,null,null,null,null,null,{"$f":"IF(ISERROR(VLOOKUP(H2268,Database!$B$1:$C$5000,2,FALSE)),\"\",VLOOKUP(H2268,Database!$B$1:$C$5000,2,FALSE))","v":""},"",{"$error":"#N/A"},null,null,null,null,null,null,null,null,"",false,2,{"$f":"VLOOKUP(H2268,Database!$B$1:$D$5000,3,0)","v":{"$error":"#N/A"}},true]
["",null,null,null,null,null,null,null,{"$f":"IF(ISERROR(VLOOKUP(H2271,Database!$B$1:$C$5000,2,FALSE)),\"\",VLOOKUP(H2271,Database!$B$1:$C$5000,2,FALSE))","v":""},"",{"$error":"#N/A"},null,null,null,null,null,null,null,null,"",false,2,{"$f":"VLOOKUP(H2271,Database!$B$1:$D$5000,3,0)","v":{"$error":"#N/A"}},true]
["",null,null,null,null,null,null,null,{"$f":"IF(ISERROR(VLOOKUP(H2277,Database!$B$1:$C$5000,2,FALSE)),\"\",VLOOKUP(H2277,Database!$B$1:$C$5000,2,FALSE))","v":""},"",{"$error":"#N/A"},null,null,null,null,null,null,null,null,"",false,2,{"$f":"VLOOKUP(H2277,Database!$B$1:$D$5000,3,0)","v":{"$error":"#N/A"}},true]
["",null,null,null,null,null,null,null,{"$f":"IF(ISERROR(VLOOKUP(H2282,Database!$B$1:$C$5000,2,FALSE)),\"\",VLOOKUP(H2282,Database!$B$1:$C$5000,2,FALSE))","v":""},"",{"$error":"#N/A"},null,null,null,null,null,null,null,null,"",false,2,{"$f":"VLOOKUP(H2282,Database!$B$1:$D$5000,3,0)","v":{"$error":"#N/A"}},true]
["",null,null,null,null,null,null,null,{"$f":"IF(ISERROR(VLOOKUP(H2287,Database!$B$1:$C$5000,2,FALSE)),\"\",VLOOKUP(H2287,Database!$B$1:$C$5000,2,FALSE))","v":""},"",{"$error":"#N/A"},null,null,null,null,null,null,null,null,"",false,2,{"$f":"VLOOKUP(H2287,Database!$B$1:$D$5000,3,0)","v":{"$error":"#N/A"}},true]
["",null,null,null,null,null,null,null,{"$f":"IF(ISERROR(VLOOKUP(H2292,Database!$B$1:$C$5000,2,FALSE)),\"\",VLOOKUP(H2292,Database!$B$1:$C$5000,2,FALSE))","v":""},"",{"$error":"#N/A"},null,null,null,null,null,null,null,null,"",false,2,{"$f":"VLOOKUP(H2292,Database!$B$1:$D$5000,3,0)","v":{"$error":"#N/A"}},true]
["",null,null,null,null,null,null,null,{"$f":"IF(ISERROR(VLOOKUP(H2297,Database!$B$1:$C$5000,2,FALSE)),\"\",VLOOKUP(H2297,Database!$B$1:$C$5000,2,FALSE))","v":""},"",{"$error":"#N/A"},null,null,null,null,null,null,null,null,"",false,2,{"$f":"VLOOKUP(H2297,Database!$B$1:$D$5000,3,0)","v":{"$error":"#N/A"}},true]
["",null,null,null,null,null,null,null,{"$f":"IF(ISERROR(VLOOKUP(H2298,Database!$B$1:$C$5000,2,FALSE)),\"\",VLOOKUP(H2298,Database!$B$1:$C$5000,2,FALSE))","v":""},"",{"$error":"#N/A"},null,null,null,null,null,null,null,null,"",false,2,{"$f":"VLOOKUP(H2298,Database!$B$1:$D$5000,3,0)","v":{"$error":"#N/A"}},true]
["",null,null,null,null,null,null,null,{"$f":"IF(ISERROR(VLOOKUP(H2306,Database!$B$1:$C$5000,2,FALSE)),\"\",VLOOKUP(H2306,Database!$B$1:$C$5000,2,FALSE))","v":""},"",{"$error":"#N/A"},null,null,null,null,null,null,null,null,"",false,2,{"$f":"VLOOKUP(H2306,Database!$B$1:$D$5000,3,0)","v":{"$error":"#N/A"}},true]
["",null,null,null,null,null,null,null,{"$f":"IF(ISERROR(VLOOKUP(H2308,Database!$B$1:$C$5000,2,FALSE)),\"\",VLOOKUP(H2308,Database!$B$1:$C$5000,2,FALSE))","v":""},"",{"$error":"#N/A"},null,null,null,null,null,null,null,null,"",false,2,{"$f":"VLOOKUP(H2308,Database!$B$1:$D$5000,3,0)","v":{"$error":"#N/A"}},true]
["",null,null,null,null,null,null,null,{"$f":"IF(ISERROR(VLOOKUP(H2313,Database!$B$1:$C$5000,2,FALSE)),\"\",VLOOKUP(H2313,Database!$B$1:$C$5000,2,FALSE))","v":""},"",{"$error":"#N/A"},null,null,null,null,null,null,null,null,"",false,2,{"$f":"VLOOKUP(H2313,Database!$B$1:$D$5000,3,0)","v":{"$error":"#N/A"}},true]
["",null,null,null,null,null,null,null,{"$f":"IF(ISERROR(VLOOKUP(H2318,Database!$B$1:$C$5000,2,FALSE)),\"\",VLOOKUP(H2318,Database!$B$1:$C$5000,2,FALSE))","v":""},"",{"$error":"#N/A"},null,null,null,null,null,null,null,null,"",false,2,{"$f":"VLOOKUP(H2318,Database!$B$1:$D$5000,3,0)","v":{"$error":"#N/A"}},true]
["",null,null,null,null,null,null,null,{"$f":"IF(ISERROR(VLOOKUP(H2325,Database!$B$1:$C$5000,2,FALSE)),\"\",VLOOKUP(H2325,Database!$B$1:$C$5000,2,FALSE))","v":""},"",{"$error":"#N/A"},null,null,null,null,null,null,null,null,"",false,2,{"$f":"VLOOKUP(H2325,Database!$B$1:$D$5000,3,0)","v":{"$error":"#N/A"}},true]
["",null,null,null,null,null,null,null,{"$f":"IF(ISERROR(VLOOKUP(H2328,Database!$B$1:$C$5000,2,FALSE)),\"\",VLOOKUP(H2328,Database!$B$1:$C$5000,2,FALSE))","v":""},"",{"$error":"#N/A"},null,null,null,null,null,null,null,null,"",false,2,{"$f":"VLOOKUP(H2328,Database!$B$1:$D$5000,3,0)","v":{"$error":"#N/A"}},true]
["",null,null,null,null,null,null,null,{"$f":"IF(ISERROR(VLOOKUP(H2333,Database!$B$1:$C$5000,2,FALSE)),\"\",VLOOKUP(H2333,Database!$B$1:$C$5000,2,FALSE))","v":""},"",{"$error":"#N/A"},null,null,null,null,null,null,null,null,"",false,2,{"$f":"VLOOKUP(H2333,Database!$B$1:$D$5000,3,0)","v":{"$error":"#N/A"}},true]
["",null,null,null,null,null,null,null,{"$f":"IF(ISERROR(VLOOKUP(H2339,Database!$B$1:$C$5000,2,FALSE)),\"\",VLOOKUP(H2339,Database!$B$1:$C$5000,2,FALSE))","v":""},"",{"$error":"#N/A"},null,null,null,null,null,null,null,null,"",false,2,{"$f":"VLOOKUP(H2339,Database!$B$1:$D$5000,3,0)","v":{"$error":"#N/A"}},true]
["",null,null,null,null,null,null,null,{"$f":"IF(ISERROR(VLOOKUP(H2344,Database!$B$1:$C$5000,2,FALSE)),\"\",VLOOKUP(H2344,Database!$B$1:$C$5000,2,FALSE))","v":""},"",{"$error":"#N/A"},null,null,null,null,null,null,null,null,"",false,2,{"$f":"VLOOKUP(H2344,Database!$B$1:$D$5000,3,0)","v":{"$error":"#N/A"}},true]
["",null,null,null,null,null,null,null,{"$f":"IF(ISERROR(VLOOKUP(H2349,Database!$B$1:$C$5000,2,FALSE)),\"\",VLOOKUP(H2349,Database!$B$1:$C$5000,2,FALSE))","v":""},"",{"$error":"#N/A"},null,null,null,null,null,null,null,null,"",false,2,{"$f":"VLOOKUP(H2349,Database!$B$1:$D$5000,3,0)","v":{"$error":"#N/A"}},true]
["",null,null,null,null,null,null,null,{"$f":"IF(ISERROR(VLOOKUP(H2354,Database!$B$1:$C$5000,2,FALSE)),\"\",VLOOKUP(H2354,Database!$B$1:$C$5000,2,FALSE))","v":""},"",{"$error":"#N/A"},null,null,null,null,null,null,null,null,"",false,2,{"$f":"VLOOKUP(H2354,Database!$B$1:$D$5000,3,0)","v":{"$error":"#N/A"}},true]
["",null,null,null,null,null,null,null,{"$f":"IF(ISERROR(VLOOKUP(H2359,Database!$B$1:$C$5000,2,FALSE)),\"\",VLOOKUP(H2359,Database!$B$1:$C$5000,2,FALSE))","v":""},"",{"$error":"#N/A"},null,null,null,null,null,null,null,null,"",false,2,{"$f":"VLOOKUP(H2359,Database!$B$1:$D$5000,3,0)","v":{"$error":"#N/A"}},true]
["",null,null,null,null,null,null,null,{"$f":"IF(ISERROR(VLOOKUP(H2363,Database!$B$1:$C$5000,2,FALSE)),\"\",VLOOKUP(H2363,Database!$B$1:$C$5000,2,FALSE))","v":""},"",{"$error":"#N/A"},null,null,null,null,null,null,null,null,"",false,2,{"$f":"VLOOKUP(H2363,Database!$B$1:$D$5000,3,0)","v":{"$error":"#N/A"}},true]
["",null,null,null,null,null,null,null,{"$f":"IF(ISERROR(VLOOKUP(H2364,Database!$B$1:$C$5000,2,FALSE)),\"\",VLOOKUP(H2364,Database!$B$1:$C$5000,2,FALSE))","v":""},"",{"$error":"#N/A"},null,null,null,null,null,null,null,null,"",false,2,{"$f":"VLOOKUP(H2364,Database!$B$1:$D$5000,3,0)","v":{"$error":"#N/A"}},true]
["",null,null,null,null,null,null,null,{"$f":"IF(ISERROR(VLOOKUP(H2370,Database!$B$1:$C$5000,2,FALSE)),\"\",VLOOKUP(H2370,Database!$B$1:$C$5000,2,FALSE))","v":""},"",{"$error":"#N/A"},null,null,null,null,null,null,null,null,"",false,2,{"$f":"VLOOKUP(H2370,Database!$B$1:$D$5000,3,0)","v":{"$error":"#N/A"}},true]
[{"$f":"IF(B2375=\"\",\"\",ROW(A2370))","v":""},null,null,null,null,null,null,null,{"$f":"IF(ISERROR(VLOOKUP(H2375,Database!$B$1:$C$5000,2,FALSE)),\"\",VLOOKUP(H2375,Database!$B$1:$C$5000,2,FALSE))","v":""},{"$f":"IF(V2375=1,1,IF(AND(T2375=0,F2375=\"SSB\",V2375<>\"\"),3,IF(AND(T2375=0,F2375=\"DIGI\",V2375<>\"\"),2,IF(AND(T2375=0,F2375=\"CW\",V2375<>\"\"),5,IF(H2375=\"-\",\"\",T2375)))))","v":""},{"$f":"IF(H2375=\"-\",\"\",IF(AND(H2375<>\"\",X2375=TRUE),\"INDIPENDENT\",IF(W2375=0,\"SCRIVI NOME NELLE NOTE\",W2375)))","v":{"$error":"#N/A"}},null,null,null,null,null,null,null,null,{"$f":"IF(H2375=\"\",\"\",IF(H2375=$R$6,25,IF(OR(H2375=$R$7,H2375=$R$8,H2375=$R$9,H2375=$R$10,H2375=$R$11,H2375=$R$12,H2375=$R$13,H2375=$R$14,H2375=$R$15,H2375=$R$16,H2375=$R$17,H2375=$R$18,H2375=$R$19,H2375=$R$20,H2375=$R$21,H2375=$R$22,H2375=$R$23),15,0)))","v":""},{"$f":"ISERROR(I2375)","v":false},{"$f":"IF(H2375=\"-\",\"\",IF(AND(T2375=0,U2375=FALSE,I2375=\"\"),1,2))","v":2},{"$f":"VLOOKUP(H2375,Database!$B$1:$D$5000,3,0)","v":{"$error":"#N/A"}},{"$f":"ISERROR(W2375)","v":true}]
["",null,null,null,null,null,null,null,{"$f":"IF(ISERROR(VLOOKUP(H2382,Database!$B$1:$C$5000,2,FALSE)),\"\",VLOOKUP(H2382,Database!$B$1:$C$5000,2,FALSE))","v":""},"",{"$error":"#N/A"},null,null,null,null,null,null,null,null,"",false,2,{"$f":"VLOOKUP(H2382,Database!$B$1:$D$5000,3,0)","v":{"$error":"#N/A"}},true]
["",null,null,null,null,null,null,null,{"$f":"IF(ISERROR(VLOOKUP(H2385,Database!$B$1:$C$5000,2,FALSE)),\"\",VLOOKUP(H2385,Database!$B$1:$C$5000,2,FALSE))","v":""},"",{"$error":"#N/A"},null,null,null,null,null,null,null,null,"",false,2,{"$f":"VLOOKUP(H2385,Database!$B$1:$D$5000,3,0)","v":{"$error":"#N/A"}},true]
["",null,null,null,null,null,null,null,{"$f":"IF(ISERROR(VLOOKUP(H2390,Database!$B$1:$C$5000,2,FALSE)),\"\",VLOOKUP(H2390,Database!$B$1:$C$5000,2,FALSE))","v":""},"",{"$error":"#N/A"},null,null,null,null,null,null,null,null,"",false,2,{"$f":"VLOOKUP(H2390,Database!$B$1:$D$5000,3,0)","v":{"$error":"#N/A"}},true]
["",null,null,null,null,null,null,null,{"$f":"IF(ISERROR(VLOOKUP(H2395,Database!$B$1:$C$5000,2,FALSE)),\"\",VLOOKUP(H2395,Database!$B$1:$C$5000,2,FALSE))","v":""},"",{"$error":"#N/A"},null,null,null,null,null,null,null,null,"",false,2,{"$f":"VLOOKUP(H2395,Database!$B$1:$D$5000,3,0)","v":{"$error":"#N/A"}},true]
["",null,null,null,null,null,null,null,{"$f":"IF(ISERROR(VLOOKUP(H2401,Database!$B$1:$C$5000,2,FALSE)),\"\",VLOOKUP(H2401,Database!$B$1:$C$5000,2,FALSE))","v":""},"",{"$error":"#N/A"},null,null,null,null,null,null,null,null,"",false,2,{"$f":"VLOOKUP(H2401,Database!$B$1:$D$5000,3,0)","v":{"$error":"#N/A"}},true]
["",null,null,null,null,null,null,null,{"$f":"IF(ISERROR(VLOOKUP(H2405,Database!$B$1:$C$5000,2,FALSE)),\"\",VLOOKUP(H2405,Database!$B$1:$C$5000,2,FALSE))","v":""},"",{"$error":"#N/A"},null,null,null,null,null,null,null,null,"",false,2,{"$f":"VLOOKUP(H2405,Database!$B$1:$D$5000,3,0)","v":{"$error":"#N/A"}},true]
["",null,null,null,null,null,null,null,{"$f":"IF(ISERROR(VLOOKUP(H2411,Database!$B$1:$C$5000,2,FALSE)),\"\",VLOOKUP(H2411,Database!$B$1:$C$5000,2,FALSE))","v":""},"",{"$error":"#N/A"},null,null,null,null,null,null,null,null,"",false,2,{"$f":"VLOOKUP(H2411,Database!$B$1:$D$5000,3,0)","v":{"$error":"#N/A"}},true]
["",null,null,null,null,null,null,null,{"$f":"IF(ISERROR(VLOOKUP(H2416,Database!$B$1:$C$5000,2,FALSE)),\"\",VLOOKUP(H2416,Database!$B$1:$C$5000,2,FALSE))","v":""},"",{"$error":"#N/A"},null,null,null,null,null,null,null,null,"",false,2,{"$f":"VLOOKUP(H2416,Database!$B$1:$D$5000,3,0)","v":{"$error":"#N/A"}},true]
["",null,null,null,null,null,null,null,{"$f":"IF(ISERROR(VLOOKUP(H2420,Database!$B$1:$C$5000,2,FALSE)),\"\",VLOOKUP(H2420,Database!$B$1:$C$5000,2,FALSE))","v":""},"",{"$error":"#N/A"},null,null,null,null,null,null,null,null,"",false,2,{"$f":"VLOOKUP(H2420,Database!$B$1:$D$5000,3,0)","v":{"$error":"#N/A"}},true]
["",null,null,null,null,null,null,null,{"$f":"IF(ISERROR(VLOOKUP(H2421,Database!$B$1:$C$5000,2,FALSE)),\"\",VLOOKUP(H2421,Database!$B$1:$C$5000,2,FALSE))","v":""},"",{"$error":"#N/A"},null,null,null,null,null,null,null,null,"",false,2,{"$f":"VLOOKUP(H2421,Database!$B$1:$D$5000,3,0)","v":{"$error":"#N/A"}},true]
["",null,null,null,null,null,null,null,{"$f":"IF(ISERROR(VLOOKUP(H2426,Database!$B$1:$C$5000,2,FALSE)),\"\",VLOOKUP(H2426,Database!$B$1:$C$5000,2,FALSE))","v":""},"",{"$error":"#N/A"},null,null,null,null,null,null,null,null,"",false,2,{"$f":"VLOOKUP(H2426,Database!$B$1:$D$5000,3,0)","v":{"$error":"#N/A"}},true]
["",null,null,null,null,null,null,null,{"$f":"IF(ISERROR(VLOOKUP(H2431,Database!$B$1:$C$5000,2,FALSE)),\"\",VLOOKUP(H2431,Database!$B$1:$C$5000,2,FALSE))","v":""},"",{"$error":"#N/A"},null,null,null,null,null,null,null,null,"",false,2,{"$f":"VLOOKUP(H2431,Database!$B$1:$D$5000,3,0)","v":{"$error":"#N/A"}},true]
[{"$f":"IF(B2439=\"\",\"\",ROW(A2434))","v":""},null,null,null,null,null,null,null,{"$f":"IF(ISERROR(VLOOKUP(H2439,Database!$B$1:$C$5000,2,FALSE)),\"\",VLOOKUP(H2439,Database!$B$1:$C$5000,2,FALSE))","v":""},{"$f":"IF(V2439=1,1,IF(AND(T2439=0,F2439=\"SSB\",V2439<>\"\"),3,IF(AND(T2439=0,F2439=\"DIGI\",V2439<>\"\"),2,IF(AND(T2439=0,F2439=\"CW\",V2439<>\"\"),5,IF(H2439=\"-\",\"\",T2439)))))","v":""},{"$f":"IF(H2439=\"-\",\"\",IF(AND(H2439<>\"\",X2439=TRUE),\"INDIPENDENT\",IF(W2439=0,\"SCRIVI NOME NELLE NOTE\",W2439)))","v":{"$error":"#N/A"}},null,null,null,null,null,null,null,null,{"$f":"IF(H2439=\"\",\"\",IF(H2439=$R$6,25,IF(OR(H2439=$R$7,H2439=$R$8,H2439=$R$9,H2439=$R$10,H2439=$R$11,H2439=$R$12,H2439=$R$13,H2439=$R$14,H2439=$R$15,H2439=$R$16,H2439=$R$17,H2439=$R$18,H2439=$R$19,H2439=$R$20,H2439=$R$21,H2439=$R$22,H2439=$R$23),15,0)))","v":""},{"$f":"ISERROR(I2439)","v":false},{"$f":"IF(H2439=\"-\",\"\",IF(AND(T2439=0,U2439=FALSE,I2439=\"\"),1,2))","v":2},{"$f":"VLOOKUP(H2439,Database!$B$1:$D$5000,3,0)","v":{"$error":"#N/A"}},{"$f":"ISERROR(W2439)","v":true}]
["",null,null,null,null,null,null,null,{"$f":"IF(ISERROR(VLOOKUP(H2441,Database!$B$1:$C$5000,2,FALSE)),\"\",VLOOKUP(H2441,Database!$B$1:$C$5000,2,FALSE))","v":""},"",{"$error":"#N/A"},null,null,null,null,null,null,null,null,"",false,2,{"$f":"VLOOKUP(H2441,Database!$B$1:$D$5000,3,0)","v":{"$error":"#N/A"}},true]
["",null,null,null,null,null,null,null,{"$f":"IF(ISERROR(VLOOKUP(H2447,Database!$B$1:$C$5000,2,FALSE)),\"\",VLOOKUP(H2447,Database!$B$1:$C$5000,2,FALSE))","v":""},"",{"$error":"#N/A"},null,null,null,null,null,null,null,null,"",false,2,{"$f":"VLOOKUP(H2447,Database!$B$1:$D$5000,3,0)","v":{"$error":"#N/A"}},true]
["",null,null,null,null,null,null,null,{"$f":"IF(ISERROR(VLOOKUP(H2452,Database!$B$1:$C$5000,2,FALSE)),\"\",VLOOKUP(H2452,Database!$B$1:$C$5000,2,FALSE))","v":""},"",{"$error":"#N/A"},null,null,null,null,null,null,null,null,"",false,2,{"$f":"VLOOKUP(H2452,Database!$B$1:$D$5000,3,0)","v":{"$error":"#N/A"}},true]
["",null,null,null,null,null,null,null,{"$f":"IF(ISERROR(VLOOKUP(H2458,Database!$B$1:$C$5000,2,FALSE)),\"\",VLOOKUP(H2458,Database!$B$1:$C$5000,2,FALSE))","v":""},"",{"$error":"#N/A"},null,null,null,null,null,null,null,null,"",false,2,{"$f":"VLOOKUP(H2458,Database!$B$1:$D$5000,3,0)","v":{"$error":"#N/A"}},true]
["",null,null,null,null,null,null,null,{"$f":"IF(ISERROR(VLOOKUP(H2462,Database!$B$1:$C$5000,2,FALSE)),\"\",VLOOKUP(H2462,Database!$B$1:$C$5000,2,FALSE))","v":""},"",{"$error":"#N/A"},null,null,null,null,null,null,null,null,"",false,2,{"$f":"VLOOKUP(H2462,Database!$B$1:$D$5000,3,0)","v":{"$error":"#N/A"}},true]
["",null,null,null,null,null,null,null,{"$f":"IF(ISERROR(VLOOKUP(H2467,Database!$B$1:$C$5000,2,FALSE)),\"\",VLOOKUP(H2467,Database!$B$1:$C$5000,2,FALSE))","v":""},"",{"$error":"#N/A"},null,null,null,null,null,null,null,null,"",false,2,{"$f":"VLOOKUP(H2467,Database!$B$1:$D$5000,3,0)","v":{"$error":"#N/A"}},true]
["",null,null,null,null,null,null,null,{"$f":"IF(ISERROR(VLOOKUP(H2473,Database!$B$1:$C$5000,2,FALSE)),\"\",VLOOKUP(H2473,Database!$B$1:$C$5000,2,FALSE))","v":""},"",{"$error":"#N/A"},null,null,null,null,null,null,null,null,"",false,2,{"$f":"VLOOKUP(H2473,Database!$B$1:$D$5000,3,0)","v":{"$error":"#N/A"}},true]
["",null,null,null,null,null,null,null,{"$f":"IF(ISERROR(VLOOKUP(H2477,Database!$B$1:$C$5000,2,FALSE)),\"\",VLOOKUP(H2477,Database!$B$1:$C$5000,2,FALSE))","v":""},"",{"$error":"#N/A"},null,null,null,null,null,null,null,null,"",false,2,{"$f":"VLOOKUP(H2477,Database!$B$1:$D$5000,3,0)","v":{"$error":"#N/A"}},true]
["",null,null,null,null,null,null,null,{"$f":"IF(ISERROR(VLOOKUP(H2482,Database!$B$1:$C$5000,2,FALSE)),\"\",VLOOKUP(H2482,Database!$B$1:$C$5000,2,FALSE))","v":""},"",{"$error":"#N/A"},null,null,null,null,null,null,null,null,"",false,2,{"$f":"VLOOKUP(H2482,Database!$B$1:$D$5000,3,0)","v":{"$error":"#N/A"}},true]
["",null,null,null,null,null,null,null,{"$f":"IF(ISERROR(VLOOKUP(H2483,Database!$B$1:$C$5000,2,FALSE)),\"\",VLOOKUP(H2483,Database!$B$1:$C$5000,2,FALSE))","v":""},"",{"$error":"#N/A"},null,null,null,null,null,null,null,null,"",false,2,{"$f":"VLOOKUP(H2483,Database!$B$1:$D$5000,3,0)","v":{"$error":"#N/A"}},true]
["",null,null,null,null,null,null,null,{"$f":"IF(ISERROR(VLOOKUP(H2488,Database!$B$1:$C$5000,2,FALSE)),\"\",VLOOKUP(H2488,Database!$B$1:$C$5000,2,FALSE))","v":""},"",{"$error":"#N/A"},null,null,null,null,null,null,null,null,"",false,2,{"$f":"VLOOKUP(H2488,Database!$B$1:$D$5000,3,0)","v":{"$error":"#N/A"}},true]
["",null,null,null,null,null,null,null,{"$f":"IF(ISERROR(VLOOKUP(H2496,Database!$B$1:$C$5000,2,FALSE)),\"\",VLOOKUP(H2496,Database!$B$1:$C$5000,2,FALSE))","v":""},"",{"$error":"#N/A"},null,null,null,null,null,null,null,null,"",false,2,{"$f":"VLOOKUP(H2496,Database!$B$1:$D$5000,3,0)","v":{"$error":"#N/A"}},true]
["",null,null,null,null,null,null,null,{"$f":"IF(ISERROR(VLOOKUP(H2498,Database!$B$1:$C$5000,2,FALSE)),\"\",VLOOKUP(H2498,Database!$B$1:$C$5000,2,FALSE))","v":""},"",{"$error":"#N/A"},null,null,null,null,null,null,null,null,"",false,2,{"$f":"VLOOKUP(H2498,Database!$B$1:$D$5000,3,0)","v":{"$error":"#N/A"}},true]
[{"$f":"IF(B2503=\"\",\"\",ROW(A2498))","v":""},null,null,null,null,null,null,null,{"$f":"IF(ISERROR(VLOOKUP(H2503,Database!$B$1:$C$5000,2,FALSE)),\"\",VLOOKUP(H2503,Database!$B$1:$C$5000,2,FALSE))","v":""},{"$f":"IF(V2503=1,1,IF(AND(T2503=0,F2503=\"SSB\",V2503<>\"\"),3,IF(AND(T2503=0,F2503=\"DIGI\",V2503<>\"\"),2,IF(AND(T2503=0,F2503=\"CW\",V2503<>\"\"),5,IF(H2503=\"-\",\"\",T2503)))))","v":""},{"$f":"IF(H2503=\"-\",\"\",IF(AND(H2503<>\"\",X2503=TRUE),\"INDIPENDENT\",IF(W2503=0,\"SCRIVI NOME NELLE NOTE\",W2503)))","v":{"$error":"#N/A"}},null,null,null,null,null,null,null,null,{"$f":"IF(H2503=\"\",\"\",IF(H2503=$R$6,25,IF(OR(H2503=$R$7,H2503=$R$8,H2503=$R$9,H2503=$R$10,H2503=$R$11,H2503=$R$12,H2503=$R$13,H2503=$R$14,H2503=$R$15,H2503=$R$16,H2503=$R$17,H2503=$R$18,H2503=$R$19,H2503=$R$20,H2503=$R$21,H2503=$R$22,H2503=$R$23),15,0)))","v":""},{"$f":"ISERROR(I2503)","v":false},{"$f":"IF(H2503=\"-\",\"\",IF(AND(T2503=0,U2503=FALSE,I2503=\"\"),1,2))","v":2},{"$f":"VLOOKUP(H2503,Database!$B$1:$D$5000,3,0)","v":{"$error":"#N/A"}},{"$f":"ISERROR(W2503)","v":true}]
["",null,null,null,null,null,null,null,{"$f":"IF(ISERROR(VLOOKUP(H2509,Database!$B$1:$C$5000,2,FALSE)),\"\",VLOOKUP(H2509,Database!$B$1:$C$5000,2,FALSE))","v":""},"",{"$error":"#N/A"},null,null,null,null,null,null,null,null,"",false,2,{"$f":"VLOOKUP(H2509,Database!$B$1:$D$5000,3,0)","v":{"$error":"#N/A"}},true]
["",null,null,null,null,null,null,null,{"$f":"IF(ISERROR(VLOOKUP(H2515,Database!$B$1:$C$5000,2,FALSE)),\"\",VLOOKUP(H2515,Database!$B$1:$C$5000,2,FALSE))","v":""},"",{"$error":"#N/A"},null,null,null,null,null,null,null,null,"",false,2,{"$f":"VLOOKUP(H2515,Database!$B$1:$D$5000,3,0)","v":{"$error":"#N/A"}},true]
["",null,null,null,null,null,null,null,{"$f":"IF(ISERROR(VLOOKUP(H2518,Database!$B$1:$C$5000,2,FALSE)),\"\",VLOOKUP(H2518,Database!$B$1:$C$5000,2,FALSE))","v":""},"",{"$error":"#N/A"},null,null,null,null,null,null,null,null,"",false,2,{"$f":"VLOOKUP(H2518,Database!$B$1:$D$5000,3,0)","v":{"$error":"#N/A"}},true]
["",null,null,null,null,null,null,null,{"$f":"IF(ISERROR(VLOOKUP(H2524,Database!$B$1:$C$5000,2,FALSE)),\"\",VLOOKUP(H2524,Database!$B$1:$C$5000,2,FALSE))","v":""},"",{"$error":"#N/A"},null,null,null,null,null,null,null,null,"",false,2,{"$f":"VLOOKUP(H2524,Database!$B$1:$D$5000,3,0)","v":{"$error":"#N/A"}},true]
["",null,null,null,null,null,null,null,{"$f":"IF(ISERROR(VLOOKUP(H2529,Database!$B$1:$C$5000,2,FALSE)),\"\",VLOOKUP(H2529,Database!$B$1:$C$5000,2,FALSE))","v":""},"",{"$error":"#N/A"},null,null,null,null,null,null,null,null,"",false,2,{"$f":"VLOOKUP(H2529,Database!$B$1:$D$5000,3,0)","v":{"$error":"#N/A"}},true]
["",null,null,null,null,null,null,null,{"$f":"IF(ISERROR(VLOOKUP(H2534,Database!$B$1:$C$5000,2,FALSE)),\"\",VLOOKUP(H2534,Database!$B$1:$C$5000,2,FALSE))","v":""},"",{"$error":"#N/A"},null,null,null,null,null,null,null,null,"",false,2,{"$f":"VLOOKUP(H2534,Database!$B$1:$D$5000,3,0)","v":{"$error":"#N/A"}},true]
["",null,null,null,null,null,null,null,{"$f":"IF(ISERROR(VLOOKUP(H2539,Database!$B$1:$C$5000,2,FALSE)),\"\",VLOOKUP(H2539,Database!$B$1:$C$5000,2,FALSE))","v":""},"",{"$error":"#N/A"},null,null,null,null,null,null,null,null,"",false,2,{"$f":"VLOOKUP(H2539,Database!$B$1:$D$5000,3,0)","v":{"$error":"#N/A"}},true]
["",null,null,null,null,null,null,null,{"$f":"IF(ISERROR(VLOOKUP(H2544,Database!$B$1:$C$5000,2,FALSE)),\"\",VLOOKUP(H2544,Database!$B$1:$C$5000,2,FALSE))","v":""},"",{"$error":"#N/A"},null,null,null,null,null,null,null,null,"",false,2,{"$f":"VLOOKUP(H2544,Database!$B$1:$D$5000,3,0)","v":{"$error":"#N/A"}},true]
["",null,null,null,null,null,null,null,{"$f":"IF(ISERROR(VLOOKUP(H2545,Database!$B$1:$C$5000,2,FALSE)),\"\",VLOOKUP(H2545,Database!$B$1:$C$5000,2,FALSE))","v":""},"",{"$error":"#N/A"},null,null,null,null,null,null,null,null,"",false,2,{"$f":"VLOOKUP(H2545,Database!$B$1:$D$5000,3,0)","v":{"$error":"#N/A"}},true]
["",null,null,null,null,null,null,null,{"$f":"IF(ISERROR(VLOOKUP(H2553,Database!$B$1:$C$5000,2,FALSE)),\"\",VLOOKUP(H2553,Database!$B$1:$C$5000,2,FALSE))","v":""},"",{"$error":"#N/A"},null,null,null,null,null,null,null,null,"",false,2,{"$f":"VLOOKUP(H2553,Database!$B$1:$D$5000,3,0)","v":{"$error":"#N/A"}},true]
["",null,null,null,null,null,null,null,{"$f":"IF(ISERROR(VLOOKUP(H2554,Database!$B$1:$C$5000,2,FALSE)),\"\",VLOOKUP(H2554,Database!$B$1:$C$5000,2,FALSE))","v":""},"",{"$error":"#N/A"},null,null,null,null,null,null,null,null,"",false,2,{"$f":"VLOOKUP(H2554,Database!$B$1:$D$5000,3,0)","v":{"$error":"#N/A"}},true]
["",null,null,null,null,null,null,null,{"$f":"IF(ISERROR(VLOOKUP(H2560,Database!$B$1:$C$5000,2,FALSE)),\"\",VLOOKUP(H2560,Database!$B$1:$C$5000,2,FALSE))","v":""},"",{"$error":"#N/A"},null,null,null,null,null,null,null,null,"",false,2,{"$f":"VLOOKUP(H2560,Database!$B$1:$D$5000,3,0)","v":{"$error":"#N/A"}},true]
["",null,null,null,null,null,null,null,{"$f":"IF(ISERROR(VLOOKUP(H2565,Database!$B$1:$C$5000,2,FALSE)),\"\",VLOOKUP(H2565,Database!$B$1:$C$5000,2,FALSE))","v":""},"",{"$error":"#N/A"},null,null,null,null,null,null,null,null,"",false,2,{"$f":"VLOOKUP(H2565,Database!$B$1:$D$5000,3,0)","v":{"$error":"#N/A"}},true]
["",null,null,null,null,null,null,null,{"$f":"IF(ISERROR(VLOOKUP(H2572,Database!$B$1:$C$5000,2,FALSE)),\"\",VLOOKUP(H2572,Database!$B$1:$C$5000,2,FALSE))","v":""},"",{"$error":"#N/A"},null,null,null,null,null,null,null,null,"",false,2,{"$f":"VLOOKUP(H2572,Database!$B$1:$D$5000,3,0)","v":{"$error":"#N/A"}},true]
["",null,null,null,null,null,null,null,{"$f":"IF(ISERROR(VLOOKUP(H2575,Database!$B$1:$C$5000,2,FALSE)),\"\",VLOOKUP(H2575,Database!$B$1:$C$5000,2,FALSE))","v":""},"",{"$error":"#N/A"},null,null,null,null,null,null,null,null,"",false,2,{"$f":"VLOOKUP(H2575,Database!$B$1:$D$5000,3,0)","v":{"$error":"#N/A"}},true]
["",null,null,null,null,null,null,null,{"$f":"IF(ISERROR(VLOOKUP(H2580,Database!$B$1:$C$5000,2,FALSE)),\"\",VLOOKUP(H2580,Database!$B$1:$C$5000,2,FALSE))","v":""},"",{"$error":"#N/A"},null,null,null,null,null,null,null,null,"",false,2,{"$f":"VLOOKUP(H2580,Database!$B$1:$D$5000,3,0)","v":{"$error":"#N/A"}},true]
["",null,null,null,null,null,null,null,{"$f":"IF(ISERROR(VLOOKUP(H2586,Database!$B$1:$C$5000,2,FALSE)),\"\",VLOOKUP(H2586,Database!$B$1:$C$5000,2,FALSE))","v":""},"",{"$error":"#N/A"},null,null,null,null,null,null,null,null,"",false,2,{"$f":"VLOOKUP(H2586,Database!$B$1:$D$5000,3,0)","v":{"$error":"#N/A"}},true]
["",null,null,null,null,null,null,null,{"$f":"IF(ISERROR(VLOOKUP(H2591,Database!$B$1:$C$5000,2,FALSE)),\"\",VLOOKUP(H2591,Database!$B$1:$C$5000,2,FALSE))","v":""},"",{"$error":"#N/A"},null,null,null,null,null,null,null,null,"",false,2,{"$f":"VLOOKUP(H2591,Database!$B$1:$D$5000,3,0)","v":{"$error":"#N/A"}},true]
["",null,null,null,null,null,null,null,{"$f":"IF(ISERROR(VLOOKUP(H2595,Database!$B$1:$C$5000,2,FALSE)),\"\",VLOOKUP(H2595,Database!$B$1:$C$5000,2,FALSE))","v":""},"",{"$error":"#N/A"},null,null,null,null,null,null,null,null,"",false,2,{"$f":"VLOOKUP(H2595,Database!$B$1:$D$5000,3,0)","v":{"$error":"#N/A"}},true]
["",null,null,null,null,null,null,null,{"$f":"IF(ISERROR(VLOOKUP(H2601,Database!$B$1:$C$5000,2,FALSE)),\"\",VLOOKUP(H2601,Database!$B$1:$C$5000,2,FALSE))","v":""},"",{"$error":"#N/A"},null,null,null,null,null,null,null,null,"",false,2,{"$f":"VLOOKUP(H2601,Database!$B$1:$D$5000,3,0)","v":{"$error":"#N/A"}},true]
["",null,null,null,null,null,null,null,{"$f":"IF(ISERROR(VLOOKUP(H2606,Database!$B$1:$C$5000,2,FALSE)),\"\",VLOOKUP(H2606,Database!$B$1:$C$5000,2,FALSE))","v":""},"",{"$error":"#N/A"},null,null,null,null,null,null,null,null,"",false,2,{"$f":"VLOOKUP(H2606,Database!$B$1:$D$5000,3,0)","v":{"$error":"#N/A"}},true]
["",null,null,null,null,null,null,null,{"$f":"IF(ISERROR(VLOOKUP(H2610,Database!$B$1:$C$5000,2,FALSE)),\"\",VLOOKUP(H2610,Database!$B$1:$C$5000,2,FALSE))","v":""},"",{"$error":"#N/A"},null,null,null,null,null,null,null,null,"",false,2,{"$f":"VLOOKUP(H2610,Database!$B$1:$D$5000,3,0)","v":{"$error":"#N/A"}},true]
["",null,null,null,null,null,null,null,{"$f":"IF(ISERROR(VLOOKUP(H2611,Database!$B$1:$C$5000,2,FALSE)),\"\",VLOOKUP(H2611,Database!$B$1:$C$5000,2,FALSE))","v":""},"",{"$error":"#N/A"},null,null,null,null,null,null,null,null,"",false,2,{"$f":"VLOOKUP(H2611,Database!$B$1:$D$5000,3,0)","v":{"$error":"#N/A"}},true]
["",null,null,null,null,null,null,null,{"$f":"IF(ISERROR(VLOOKUP(H2616,Database!$B$1:$C$5000,2,FALSE)),\"\",VLOOKUP(H2616,Database!$B$1:$C$5000,2,FALSE))","v":""},"",{"$error":"#N/A"},null,null,null,null,null,null,null,null,"",false,2,{"$f":"VLOOKUP(H2616,Database!$B$1:$D$5000,3,0)","v":{"$error":"#N/A"}},true]
["",null,null,null,null,null,null,null,{"$f":"IF(ISERROR(VLOOKUP(H2622,Database!$B$1:$C$5000,2,FALSE)),\"\",VLOOKUP(H2622,Database!$B$1:$C$5000,2,FALSE))","v":""},"",{"$error":"#N/A"},null,null,null,null,null,null,null,null,"",false,2,{"$f":"VLOOKUP(H2622,Database!$B$1:$D$5000,3,0)","v":{"$error":"#N/A"}},true]
["",null,null,null,null,null,null,null,{"$f":"IF(ISERROR(VLOOKUP(H2629,Database!$B$1:$C$5000,2,FALSE)),\"\",VLOOKUP(H2629,Database!$B$1:$C$5000,2,FALSE))","v":""},"",{"$error":"#N/A"},null,null,null,null,null,null,null,null,"",false,2,{"$f":"VLOOKUP(H2629,Database!$B$1:$D$5000,3,0)","v":{"$error":"#N/A"}},true]
["",null,null,null,null,null,null,null,{"$f":"IF(ISERROR(VLOOKUP(H2632,Database!$B$1:$C$5000,2,FALSE)),\"\",VLOOKUP(H2632,Database!$B$1:$C$5000,2,FALSE))","v":""},"",{"$error":"#N/A"},null,null,null,null,null,null,null,null,"",false,2,{"$f":"VLOOKUP(H2632,Database!$B$1:$D$5000,3,0)","v":{"$error":"#N/A"}},true]
["",null,null,null,null,null,null,null,{"$f":"IF(ISERROR(VLOOKUP(H2637,Database!$B$1:$C$5000,2,FALSE)),\"\",VLOOKUP(H2637,Database!$B$1:$C$5000,2,FALSE))","v":""},"",{"$error":"#N/A"},null,null,null,null,null,null,null,null,"",false,2,{"$f":"VLOOKUP(H2637,Database!$B$1:$D$5000,3,0)","v":{"$error":"#N/A"}},true]
["",null,null,null,null,null,null,null,{"$f":"IF(ISERROR(VLOOKUP(H2642,Database!$B$1:$C$5000,2,FALSE)),\"\",VLOOKUP(H2642,Database!$B$1:$C$5000,2,FALSE))","v":""},"",{"$error":"#N/A"},null,null,null,null,null,null,null,null,"",false,2,{"$f":"VLOOKUP(H2642,Database!$B$1:$D$5000,3,0)","v":{"$error":"#N/A"}},true]
["",null,null,null,null,null,null,null,{"$f":"IF(ISERROR(VLOOKUP(H2648,Database!$B$1:$C$5000,2,FALSE)),\"\",VLOOKUP(H2648,Database!$B$1:$C$5000,2,FALSE))","v":""},"",{"$error":"#N/A"},null,null,null,null,null,null,null,null,"",false,2,{"$f":"VLOOKUP(H2648,Database!$B$1:$D$5000,3,0)","v":{"$error":"#N/A"}},true]
["",null,null,null,null,null,null,null,{"$f":"IF(ISERROR(VLOOKUP(H2652,Database!$B$1:$C$5000,2,FALSE)),\"\",VLOOKUP(H2652,Database!$B$1:$C$5000,2,FALSE))","v":""},"",{"$error":"#N/A"},null,null,null,null,null,null,null,null,"",false,2,{"$f":"VLOOKUP(H2652,Database!$B$1:$D$5000,3,0)","v":{"$error":"#N/A"}},true]
["",null,null,null,null,null,null,null,{"$f":"IF(ISERROR(VLOOKUP(H2657,Database!$B$1:$C$5000,2,FALSE)),\"\",VLOOKUP(H2657,Database!$B$1:$C$5000,2,FALSE))","v":""},"",{"$error":"#N/A"},null,null,null,null,null,null,null,null,"",false,2,{"$f":"VLOOKUP(H2657,Database!$B$1:$D$5000,3,0)","v":{"$error":"#N/A"}},true]
["",null,null,null,null,null,null,null,{"$f":"IF(ISERROR(VLOOKUP(H2663,Database!$B$1:$C$5000,2,FALSE)),\"\",VLOOKUP(H2663,Database!$B$1:$C$5000,2,FALSE))","v":""},"",{"$error":"#N/A"},null,null,null,null,null,null,null,null,"",false,2,{"$f":"VLOOKUP(H2663,Database!$B$1:$D$5000,3,0)","v":{"$error":"#N/A"}},true]
["",null,null,null,null,null,null,null,{"$f":"IF(ISERROR(VLOOKUP(H2667,Database!$B$1:$C$5000,2,FALSE)),\"\",VLOOKUP(H2667,Database!$B$1:$C$5000,2,FALSE))","v":""},"",{"$error":"#N/A"},null,null,null,null,null,null,null,null,"",false,2,{"$f":"VLOOKUP(H2667,Database!$B$1:$D$5000,3,0)","v":{"$error":"#N/A"}},true]
["",null,null,null,null,null,null,null,{"$f":"IF(ISERROR(VLOOKUP(H2668,Database!$B$1:$C$5000,2,FALSE)),\"\",VLOOKUP(H2668,Database!$B$1:$C$5000,2,FALSE))","v":""},"",{"$error":"#N/A"},null,null,null,null,null,null,null,null,"",false,2,{"$f":"VLOOKUP(H2668,Database!$B$1:$D$5000,3,0)","v":{"$error":"#N/A"}},true]
["",null,null,null,null,null,null,null,{"$f":"IF(ISERROR(VLOOKUP(H2673,Database!$B$1:$C$5000,2,FALSE)),\"\",VLOOKUP(H2673,Database!$B$1:$C$5000,2,FALSE))","v":""},"",{"$error":"#N/A"},null,null,null,null,null,null,null,null,"",false,2,{"$f":"VLOOKUP(H2673,Database!$B$1:$D$5000,3,0)","v":{"$error":"#N/A"}},true]
["",null,null,null,null,null,null,null,{"$f":"IF(ISERROR(VLOOKUP(H2678,Database!$B$1:$C$5000,2,FALSE)),\"\",VLOOKUP(H2678,Database!$B$1:$C$5000,2,FALSE))","v":""},"",{"$error":"#N/A"},null,null,null,null,null,null,null,null,"",false,2,{"$f":"VLOOKUP(H2678,Database!$B$1:$D$5000,3,0)","v":{"$error":"#N/A"}},true]
["",null,null,null,null,null,null,null,{"$f":"IF(ISERROR(VLOOKUP(H2686,Database!$B$1:$C$5000,2,FALSE)),\"\",VLOOKUP(H2686,Database!$B$1:$C$5000,2,FALSE))","v":""},"",{"$error":"#N/A"},null,null,null,null,null,null,null,null,"",false,2,{"$f":"VLOOKUP(H2686,Database!$B$1:$D$5000,3,0)","v":{"$error":"#N/A"}},true]
["",null,null,null,null,null,null,null,{"$f":"IF(ISERROR(VLOOKUP(H2688,Database!$B$1:$C$5000,2,FALSE)),\"\",VLOOKUP(H2688,Database!$B$1:$C$5000,2,FALSE))","v":""},"",{"$error":"#N/A"},null,null,null,null,null,null,null,null,"",false,2,{"$f":"VLOOKUP(H2688,Database!$B$1:$D$5000,3,0)","v":{"$error":"#N/A"}},true]
["",null,null,null,null,null,null,null,{"$f":"IF(ISERROR(VLOOKUP(H2693,Database!$B$1:$C$5000,2,FALSE)),\"\",VLOOKUP(H2693,Database!$B$1:$C$5000,2,FALSE))","v":""},"",{"$error":"#N/A"},null,null,null,null,null,null,null,null,"",false,2,{"$f":"VLOOKUP(H2693,Database!$B$1:$D$5000,3,0)","v":{"$error":"#N/A"}},true]
["",null,null,null,null,null,null,null,{"$f":"IF(ISERROR(VLOOKUP(H2699,Database!$B$1:$C$5000,2,FALSE)),\"\",VLOOKUP(H2699,Database!$B$1:$C$5000,2,FALSE))","v":""},"",{"$error":"#N/A"},null,null,null,null,null,null,null,null,"",false,2,{"$f":"VLOOKUP(H2699,Database!$B$1:$D$5000,3,0)","v":{"$error":"#N/A"}},true]
["",null,null,null,null,null,null,null,{"$f":"IF(ISERROR(VLOOKUP(H2705,Database!$B$1:$C$5000,2,FALSE)),\"\",VLOOKUP(H2705,Database!$B$1:$C$5000,2,FALSE))","v":""},"",{"$error":"#N/A"},null,null,null,null,null,null,null,null,"",false,2,{"$f":"VLOOKUP(H2705,Database!$B$1:$D$5000,3,0)","v":{"$error":"#N/A"}},true]
["",null,null,null,null,null,null,null,{"$f":"IF(ISERROR(VLOOKUP(H2709,Database!$B$1:$C$5000,2,FALSE)),\"\",VLOOKUP(H2709,Database!$B$1:$C$5000,2,FALSE))","v":""},"",{"$error":"#N/A"},null,null,null,null,null,null,null,null,"",false,2,{"$f":"VLOOKUP(H2709,Database!$B$1:$D$5000,3,0)","v":{"$error":"#N/A"}},true]
["",null,null,null,null,null,null,null,{"$f":"IF(ISERROR(VLOOKUP(H2714,Database!$B$1:$C$5000,2,FALSE)),\"\",VLOOKUP(H2714,Database!$B$1:$C$5000,2,FALSE))","v":""},"",{"$error":"#N/A"},null,null,null,null,null,null,null,null,"",false,2,{"$f":"VLOOKUP(H2714,Database!$B$1:$D$5000,3,0)","v":{"$error":"#N/A"}},true]
["",null,null,null,null,null,null,null,{"$f":"IF(ISERROR(VLOOKUP(H2719,Database!$B$1:$C$5000,2,FALSE)),\"\",VLOOKUP(H2719,Database!$B$1:$C$5000,2,FALSE))","v":""},"",{"$error":"#N/A"},null,null,null,null,null,null,null,null,"",false,2,{"$f":"VLOOKUP(H2719,Database!$B$1:$D$5000,3,0)","v":{"$error":"#N/A"}},true]
["",null,null,null,null,null,null,null,{"$f":"IF(ISERROR(VLOOKUP(H2724,Database!$B$1:$C$5000,2,FALSE)),\"\",VLOOKUP(H2724,Database!$B$1:$C$5000,2,FALSE))","v":""},"",{"$error":"#N/A"},null,null,null,null,null,null,null,null,"",false,2,{"$f":"VLOOKUP(H2724,Database!$B$1:$D$5000,3,0)","v":{"$error":"#N/A"}},true]
["",null,null,null,null,null,null,null,{"$f":"IF(ISERROR(VLOOKUP(H2729,Database!$B$1:$C$5000,2,FALSE)),\"\",VLOOKUP(H2729,Database!$B$1:$C$5000,2,FALSE))","v":""},"",{"$error":"#N/A"},null,null,null,null,null,null,null,null,"",false,2,{"$f":"VLOOKUP(H2729,Database!$B$1:$D$5000,3,0)","v":{"$error":"#N/A"}},true]
["",null,null,null,null,null,null,null,{"$f":"IF(ISERROR(VLOOKUP(H2730,Database!$B$1:$C$5000,2,FALSE)),\"\",VLOOKUP(H2730,Database!$B$1:$C$5000,2,FALSE))","v":""},"",{"$error":"#N/A"},null,null,null,null,null,null,null,null,"",false,2,{"$f":"VLOOKUP(H2730,Database!$B$1:$D$5000,3,0)","v":{"$error":"#N/A"}},true]
["",null,null,null,null,null,null,null,{"$f":"IF(ISERROR(VLOOKUP(H2735,Database!$B$1:$C$5000,2,FALSE)),\"\",VLOOKUP(H2735,Database!$B$1:$C$5000,2,FALSE))","v":""},"",{"$error":"#N/A"},null,null,null,null,null,null,null,null,"",false,2,{"$f":"VLOOKUP(H2735,Database!$B$1:$D$5000,3,0)","v":{"$error":"#N/A"}},true]
["",null,null,null,null,null,null,null,{"$f":"IF(ISERROR(VLOOKUP(H2743,Database!$B$1:$C$5000,2,FALSE)),\"\",VLOOKUP(H2743,Database!$B$1:$C$5000,2,FALSE))","v":""},"",{"$error":"#N/A"},null,null,null,null,null,null,null,null,"",false,2,{"$f":"VLOOKUP(H2743,Database!$B$1:$D$5000,3,0)","v":{"$error":"#N/A"}},true]
["",null,null,null,null,null,null,null,{"$f":"IF(ISERROR(VLOOKUP(H2745,Database!$B$1:$C$5000,2,FALSE)),\"\",VLOOKUP(H2745,Database!$B$1:$C$5000,2,FALSE))","v":""},"",{"$error":"#N/A"},null,null,null,null,null,null,null,null,"",false,2,{"$f":"VLOOKUP(H2745,Database!$B$1:$D$5000,3,0)","v":{"$error":"#N/A"}},true]
["",null,null,null,null,null,null,null,{"$f":"IF(ISERROR(VLOOKUP(H2750,Database!$B$1:$C$5000,2,FALSE)),\"\",VLOOKUP(H2750,Database!$B$1:$C$5000,2,FALSE))","v":""},"",{"$error":"#N/A"},null,null,null,null,null,null,null,null,"",false,2,{"$f":"VLOOKUP(H2750,Database!$B$1:$D$5000,3,0)","v":{"$error":"#N/A"}},true]
["",null,null,null,null,null,null,null,{"$f":"IF(ISERROR(VLOOKUP(H2755,Database!$B$1:$C$5000,2,FALSE)),\"\",VLOOKUP(H2755,Database!$B$1:$C$5000,2,FALSE))","v":""},"",{"$error":"#N/A"},null,null,null,null,null,null,null,null,"",false,2,{"$f":"VLOOKUP(H2755,Database!$B$1:$D$5000,3,0)","v":{"$error":"#N/A"}},true]
["",null,null,null,null,null,null,null,{"$f":"IF(ISERROR(VLOOKUP(H2762,Database!$B$1:$C$5000,2,FALSE)),\"\",VLOOKUP(H2762,Database!$B$1:$C$5000,2,FALSE))","v":""},"",{"$error":"#N/A"},null,null,null,null,null,null,null,null,"",false,2,{"$f":"VLOOKUP(H2762,Database!$B$1:$D$5000,3,0)","v":{"$error":"#N/A"}},true]
["",null,null,null,null,null,null,null,{"$f":"IF(ISERROR(VLOOKUP(H2765,Database!$B$1:$C$5000,2,FALSE)),\"\",VLOOKUP(H2765,Database!$B$1:$C$5000,2,FALSE))","v":""},"",{"$error":"#N/A"},null,null,null,null,null,null,null,null,"",false,2,{"$f":"VLOOKUP(H2765,Database!$B$1:$D$5000,3,0)","v":{"$error":"#N/A"}},true]
["",null,null,null,null,null,null,null,{"$f":"IF(ISERROR(VLOOKUP(H2771,Database!$B$1:$C$5000,2,FALSE)),\"\",VLOOKUP(H2771,Database!$B$1:$C$5000,2,FALSE))","v":""},"",{"$error":"#N/A"},null,null,null,null,null,null,null,null,"",false,2,{"$f":"VLOOKUP(H2771,Database!$B$1:$D$5000,3,0)","v":{"$error":"#N/A"}},true]
["",null,null,null,null,null,null,null,{"$f":"IF(ISERROR(VLOOKUP(H2776,Database!$B$1:$C$5000,2,FALSE)),\"\",VLOOKUP(H2776,Database!$B$1:$C$5000,2,FALSE))","v":""},"",{"$error":"#N/A"},null,null,null,null,null,null,null,null,"",false,2,{"$f":"VLOOKUP(H2776,Database!$B$1:$D$5000,3,0)","v":{"$error":"#N/A"}},true]
["",null,null,null,null,null,null,null,{"$f":"IF(ISERROR(VLOOKUP(H2781,Database!$B$1:$C$5000,2,FALSE)),\"\",VLOOKUP(H2781,Database!$B$1:$C$5000,2,FALSE))","v":""},"",{"$error":"#N/A"},null,null,null,null,null,null,null,null,"",false,2,{"$f":"VLOOKUP(H2781,Database!$B$1:$D$5000,3,0)","v":{"$error":"#N/A"}},true]
["",null,null,null,null,null,null,null,{"$f":"IF(ISERROR(VLOOKUP(H2783,Database!$B$1:$C$5000,2,FALSE)),\"\",VLOOKUP(H2783,Database!$B$1:$C$5000,2,FALSE))","v":""},"",{"$error":"#N/A"},null,null,null,null,null,null,null,null,"",false,2,{"$f":"VLOOKUP(H2783,Database!$B$1:$D$5000,3,0)","v":{"$error":"#N/A"}},true]
["",null,null,null,null,null,null,null,{"$f":"IF(ISERROR(VLOOKUP(H2791,Database!$B$1:$C$5000,2,FALSE)),\"\",VLOOKUP(H2791,Database!$B$1:$C$5000,2,FALSE))","v":""},"",{"$error":"#N/A"},null,null,null,null,null,null,null,null,"",false,2,{"$f":"VLOOKUP(H2791,Database!$B$1:$D$5000,3,0)","v":{"$error":"#N/A"}},true]
["",null,null,null,null,null,null,null,{"$f":"IF(ISERROR(VLOOKUP(H2792,Database!$B$1:$C$5000,2,FALSE)),\"\",VLOOKUP(H2792,Database!$B$1:$C$5000,2,FALSE))","v":""},"",{"$error":"#N/A"},null,null,null,null,null,null,null,null,"",false,2,{"$f":"VLOOKUP(H2792,Database!$B$1:$D$5000,3,0)","v":{"$error":"#N/A"}},true]
["",null,null,null,null,null,null,null,{"$f":"IF(ISERROR(VLOOKUP(H2797,Database!$B$1:$C$5000,2,FALSE)),\"\",VLOOKUP(H2797,Database!$B$1:$C$5000,2,FALSE))","v":""},"",{"$error":"#N/A"},null,null,null,null,null,null,null,null,"",false,2,{"$f":"VLOOKUP(H2797,Database!$B$1:$D$5000,3,0)","v":{"$error":"#N/A"}},true]
["",null,null,null,null,null,null,null,{"$f":"IF(ISERROR(VLOOKUP(H2802,Database!$B$1:$C$5000,2,FALSE)),\"\",VLOOKUP(H2802,Database!$B$1:$C$5000,2,FALSE))","v":""},"",{"$error":"#N/A"},null,null,null,null,null,null,null,null,"",false,2,{"$f":"VLOOKUP(H2802,Database!$B$1:$D$5000,3,0)","v":{"$error":"#N/A"}},true]
["",null,null,null,null,null,null,null,{"$f":"IF(ISERROR(VLOOKUP(H2807,Database!$B$1:$C$5000,2,FALSE)),\"\",VLOOKUP(H2807,Database!$B$1:$C$5000,2,FALSE))","v":""},"",{"$error":"#N/A"},null,null,null,null,null,null,null,null,"",false,2,{"$f":"VLOOKUP(H2807,Database!$B$1:$D$5000,3,0)","v":{"$error":"#N/A"}},true]
["",null,null,null,null,null,null,null,{"$f":"IF(ISERROR(VLOOKUP(H2812,Database!$B$1:$C$5000,2,FALSE)),\"\",VLOOKUP(H2812,Database!$B$1:$C$5000,2,FALSE))","v":""},"",{"$error":"#N/A"},null,null,null,null,null,null,null,null,"",false,2,{"$f":"VLOOKUP(H2812,Database!$B$1:$D$5000,3,0)","v":{"$error":"#N/A"}},true]
["",null,null,null,null,null,null,null,{"$f":"IF(ISERROR(VLOOKUP(H2817,Database!$B$1:$C$5000,2,FALSE)),\"\",VLOOKUP(H2817,Database!$B$1:$C$5000,2,FALSE))","v":""},"",{"$error":"#N/A"},null,null,null,null,null,null,null,null,"",false,2,{"$f":"VLOOKUP(H2817,Database!$B$1:$D$5000,3,0)","v":{"$error":"#N/A"}},true]
["",null,null,null,null,null,null,null,{"$f":"IF(ISERROR(VLOOKUP(H2821,Database!$B$1:$C$5000,2,FALSE)),\"\",VLOOKUP(H2821,Database!$B$1:$C$5000,2,FALSE))","v":""},"",{"$error":"#N/A"},null,null,null,null,null,null,null,null,"",false,2,{"$f":"VLOOKUP(H2821,Database!$B$1:$D$5000,3,0)","v":{"$error":"#N/A"}},true]
["",null,null,null,null,null,null,null,{"$f":"IF(ISERROR(VLOOKUP(H2827,Database!$B$1:$C$5000,2,FALSE)),\"\",VLOOKUP(H2827,Database!$B$1:$C$5000,2,FALSE))","v":""},"",{"$error":"#N/A"},null,null,null,null,null,null,null,null,"",false,2,{"$f":"VLOOKUP(H2827,Database!$B$1:$D$5000,3,0)","v":{"$error":"#N/A"}},true]
["",null,null,null,null,null,null,null,{"$f":"IF(ISERROR(VLOOKUP(H2833,Database!$B$1:$C$5000,2,FALSE)),\"\",VLOOKUP(H2833,Database!$B$1:$C$5000,2,FALSE))","v":""},"",{"$error":"#N/A"},null,null,null,null,null,null,null,null,"",false,2,{"$f":"VLOOKUP(H2833,Database!$B$1:$D$5000,3,0)","v":{"$error":"#N/A"}},true]
["",null,null,null,null,null,null,null,{"$f":"IF(ISERROR(VLOOKUP(H2838,Database!$B$1:$C$5000,2,FALSE)),\"\",VLOOKUP(H2838,Database!$B$1:$C$5000,2,FALSE))","v":""},"",{"$error":"#N/A"},null,null,null,null,null,null,null,null,"",false,2,{"$f":"VLOOKUP(H2838,Database!$B$1:$D$5000,3,0)","v":{"$error":"#N/A"}},true]
["",null,null,null,null,null,null,null,{"$f":"IF(ISERROR(VLOOKUP(H2840,Database!$B$1:$C$5000,2,FALSE)),\"\",VLOOKUP(H2840,Database!$B$1:$C$5000,2,FALSE))","v":""},"",{"$error":"#N/A"},null,null,null,null,null,null,null,null,"",false,2,{"$f":"VLOOKUP(H2840,Database!$B$1:$D$5000,3,0)","v":{"$error":"#N/A"}},true]
["",null,null,null,null,null,null,null,{"$f":"IF(ISERROR(VLOOKUP(H2848,Database!$B$1:$C$5000,2,FALSE)),\"\",VLOOKUP(H2848,Database!$B$1:$C$5000,2,FALSE))","v":""},"",{"$error":"#N/A"},null,null,null,null,null,null,null,null,"",false,2,{"$f":"VLOOKUP(H2848,Database!$B$1:$D$5000,3,0)","v":{"$error":"#N/A"}},true]
["",null,null,null,null,null,null,null,{"$f":"IF(ISERROR(VLOOKUP(H2853,Database!$B$1:$C$5000,2,FALSE)),\"\",VLOOKUP(H2853,Database!$B$1:$C$5000,2,FALSE))","v":""},"",{"$error":"#N/A"},null,null,null,null,null,null,null,null,"",false,2,{"$f":"VLOOKUP(H2853,Database!$B$1:$D$5000,3,0)","v":{"$error":"#N/A"}},true]
["",null,null,null,null,null,null,null,{"$f":"IF(ISERROR(VLOOKUP(H2858,Database!$B$1:$C$5000,2,FALSE)),\"\",VLOOKUP(H2858,Database!$B$1:$C$5000,2,FALSE))","v":""},"",{"$error":"#N/A"},null,null,null,null,null,null,null,null,"",false,2,{"$f":"VLOOKUP(H2858,Database!$B$1:$D$5000,3,0)","v":{"$error":"#N/A"}},true]
["",null,null,null,null,null,null,null,{"$f":"IF(ISERROR(VLOOKUP(H2859,Database!$B$1:$C$5000,2,FALSE)),\"\",VLOOKUP(H2859,Database!$B$1:$C$5000,2,FALSE))","v":""},"",{"$error":"#N/A"},null,null,null,null,null,null,null,null,"",false,2,{"$f":"VLOOKUP(H2859,Database!$B$1:$D$5000,3,0)","v":{"$error":"#N/A"}},true]
["",null,null,null,null,null,null,null,{"$f":"IF(ISERROR(VLOOKUP(H2863,Database!$B$1:$C$5000,2,FALSE)),\"\",VLOOKUP(H2863,Database!$B$1:$C$5000,2,FALSE))","v":""},"",{"$error":"#N/A"},null,null,null,null,null,null,null,null,"",false,2,{"$f":"VLOOKUP(H2863,Database!$B$1:$D$5000,3,0)","v":{"$error":"#N/A"}},true]
["",null,null,null,null,null,null,null,{"$f":"IF(ISERROR(VLOOKUP(H2869,Database!$B$1:$C$5000,2,FALSE)),\"\",VLOOKUP(H2869,Database!$B$1:$C$5000,2,FALSE))","v":""},"",{"$error":"#N/A"},null,null,null,null,null,null,null,null,"",false,2,{"$f":"VLOOKUP(H2869,Database!$B$1:$D$5000,3,0)","v":{"$error":"#N/A"}},true]
["",null,null,null,null,null,null,null,{"$f":"IF(ISERROR(VLOOKUP(H2874,Database!$B$1:$C$5000,2,FALSE)),\"\",VLOOKUP(H2874,Database!$B$1:$C$5000,2,FALSE))","v":""},"",{"$error":"#N/A"},null,null,null,null,null,null,null,null,"",false,2,{"$f":"VLOOKUP(H2874,Database!$B$1:$D$5000,3,0)","v":{"$error":"#N/A"}},true]
["",null,null,null,null,null,null,null,{"$f":"IF(ISERROR(VLOOKUP(H2878,Database!$B$1:$C$5000,2,FALSE)),\"\",VLOOKUP(H2878,Database!$B$1:$C$5000,2,FALSE))","v":""},"",{"$error":"#N/A"},null,null,null,null,null,null,null,null,"",false,2,{"$f":"VLOOKUP(H2878,Database!$B$1:$D$5000,3,0)","v":{"$error":"#N/A"}},true]
["",null,null,null,null,null,null,null,{"$f":"IF(ISERROR(VLOOKUP(H2884,Database!$B$1:$C$5000,2,FALSE)),\"\",VLOOKUP(H2884,Database!$B$1:$C$5000,2,FALSE))","v":""},"",{"$error":"#N/A"},null,null,null,null,null,null,null,null,"",false,2,{"$f":"VLOOKUP(H2884,Database!$B$1:$D$5000,3,0)","v":{"$error":"#N/A"}},true]
["",null,null,null,null,null,null,null,{"$f":"IF(ISERROR(VLOOKUP(H2889,Database!$B$1:$C$5000,2,FALSE)),\"\",VLOOKUP(H2889,Database!$B$1:$C$5000,2,FALSE))","v":""},"",{"$error":"#N/A"},null,null,null,null,null,null,null,null,"",false,2,{"$f":"VLOOKUP(H2889,Database!$B$1:$D$5000,3,0)","v":{"$error":"#N/A"}},true]
["",null,null,null,null,null,null,null,{"$f":"IF(ISERROR(VLOOKUP(H2895,Database!$B$1:$C$5000,2,FALSE)),\"\",VLOOKUP(H2895,Database!$B$1:$C$5000,2,FALSE))","v":""},"",{"$error":"#N/A"},null,null,null,null,null,null,null,null,"",false,2,{"$f":"VLOOKUP(H2895,Database!$B$1:$D$5000,3,0)","v":{"$error":"#N/A"}},true]
["",null,null,null,null,null,null,null,{"$f":"IF(ISERROR(VLOOKUP(H2897,Database!$B$1:$C$5000,2,FALSE)),\"\",VLOOKUP(H2897,Database!$B$1:$C$5000,2,FALSE))","v":""},"",{"$error":"#N/A"},null,null,null,null,null,null,null,null,"",false,2,{"$f":"VLOOKUP(H2897,Database!$B$1:$D$5000,3,0)","v":{"$error":"#N/A"}},true]
["",null,null,null,null,null,null,null,{"$f":"IF(ISERROR(VLOOKUP(H2904,Database!$B$1:$C$5000,2,FALSE)),\"\",VLOOKUP(H2904,Database!$B$1:$C$5000,2,FALSE))","v":""},"",{"$error":"#N/A"},null,null,null,null,null,null,null,null,"",false,2,{"$f":"VLOOKUP(H2904,Database!$B$1:$D$5000,3,0)","v":{"$error":"#N/A"}},true]
["",null,null,null,null,null,null,null,{"$f":"IF(ISERROR(VLOOKUP(H2910,Database!$B$1:$C$5000,2,FALSE)),\"\",VLOOKUP(H2910,Database!$B$1:$C$5000,2,FALSE))","v":""},"",{"$error":"#N/A"},null,null,null,null,null,null,null,null,"",false,2,{"$f":"VLOOKUP(H2910,Database!$B$1:$D$5000,3,0)","v":{"$error":"#N/A"}},true]
["",null,null,null,null,null,null,null,{"$f":"IF(ISERROR(VLOOKUP(H2915,Database!$B$1:$C$5000,2,FALSE)),\"\",VLOOKUP(H2915,Database!$B$1:$C$5000,2,FALSE))","v":""},"",{"$error":"#N/A"},null,null,null,null,null,null,null,null,"",false,2,{"$f":"VLOOKUP(H2915,Database!$B$1:$D$5000,3,0)","v":{"$error":"#N/A"}},true]
["",null,null,null,null,null,null,null,{"$f":"IF(ISERROR(VLOOKUP(H2916,Database!$B$1:$C$5000,2,FALSE)),\"\",VLOOKUP(H2916,Database!$B$1:$C$5000,2,FALSE))","v":""},"",{"$error":"#N/A"},null,null,null,null,null,null,null,null,"",false,2,{"$f":"VLOOKUP(H2916,Database!$B$1:$D$5000,3,0)","v":{"$error":"#N/A"}},true]
["",null,null,null,null,null,null,null,{"$f":"IF(ISERROR(VLOOKUP(H2920,Database!$B$1:$C$5000,2,FALSE)),\"\",VLOOKUP(H2920,Database!$B$1:$C$5000,2,FALSE))","v":""},"",{"$error":"#N/A"},null,null,null,null,null,null,null,null,"",false,2,{"$f":"VLOOKUP(H2920,Database!$B$1:$D$5000,3,0)","v":{"$error":"#N/A"}},true]
["",null,null,null,null,null,null,null,{"$f":"IF(ISERROR(VLOOKUP(H2925,Database!$B$1:$C$5000,2,FALSE)),\"\",VLOOKUP(H2925,Database!$B$1:$C$5000,2,FALSE))","v":""},"",{"$error":"#N/A"},null,null,null,null,null,null,null,null,"",false,2,{"$f":"VLOOKUP(H2925,Database!$B$1:$D$5000,3,0)","v":{"$error":"#N/A"}},true]
["",null,null,null,null,null,null,null,{"$f":"IF(ISERROR(VLOOKUP(H2931,Database!$B$1:$C$5000,2,FALSE)),\"\",VLOOKUP(H2931,Database!$B$1:$C$5000,2,FALSE))","v":""},"",{"$error":"#N/A"},null,null,null,null,null,null,null,null,"",false,2,{"$f":"VLOOKUP(H2931,Database!$B$1:$D$5000,3,0)","v":{"$error":"#N/A"}},true]
["",null,null,null,null,null,null,null,{"$f":"IF(ISERROR(VLOOKUP(H2935,Database!$B$1:$C$5000,2,FALSE)),\"\",VLOOKUP(H2935,Database!$B$1:$C$5000,2,FALSE))","v":""},"",{"$error":"#N/A"},null,null,null,null,null,null,null,null,"",false,2,{"$f":"VLOOKUP(H2935,Database!$B$1:$D$5000,3,0)","v":{"$error":"#N/A"}},true]
["",null,null,null,null,null,null,null,{"$f":"IF(ISERROR(VLOOKUP(H2940,Database!$B$1:$C$5000,2,FALSE)),\"\",VLOOKUP(H2940,Database!$B$1:$C$5000,2,FALSE))","v":""},"",{"$error":"#N/A"},null,null,null,null,null,null,null,null,"",false,2,{"$f":"VLOOKUP(H2940,Database!$B$1:$D$5000,3,0)","v":{"$error":"#N/A"}},true]
["",null,null,null,null,null,null,null,{"$f":"IF(ISERROR(VLOOKUP(H2946,Database!$B$1:$C$5000,2,FALSE)),\"\",VLOOKUP(H2946,Database!$B$1:$C$5000,2,FALSE))","v":""},"",{"$error":"#N/A"},null,null,null,null,null,null,null,null,"",false,2,{"$f":"VLOOKUP(H2946,Database!$B$1:$D$5000,3,0)","v":{"$error":"#N/A"}},true]
[{"$f":"IF(B2951=\"\",\"\",ROW(A2946))","v":""},null,null,null,null,null,null,null,{"$f":"IF(ISERROR(VLOOKUP(H2951,Database!$B$1:$C$5000,2,FALSE)),\"\",VLOOKUP(H2951,Database!$B$1:$C$5000,2,FALSE))","v":""},{"$f":"IF(V2951=1,1,IF(AND(T2951=0,F2951=\"SSB\",V2951<>\"\"),3,IF(AND(T2951=0,F2951=\"DIGI\",V2951<>\"\"),2,IF(AND(T2951=0,F2951=\"CW\",V2951<>\"\"),5,IF(H2951=\"-\",\"\",T2951)))))","v":""},{"$f":"IF(H2951=\"-\",\"\",IF(AND(H2951<>\"\",X2951=TRUE),\"INDIPENDENT\",IF(W2951=0,\"SCRIVI NOME NELLE NOTE\",W2951)))","v":{"$error":"#N/A"}},null,null,null,null,null,null,null,null,{"$f":"IF(H2951=\"\",\"\",IF(H2951=$R$6,25,IF(OR(H2951=$R$7,H2951=$R$8,H2951=$R$9,H2951=$R$10,H2951=$R$11,H2951=$R$12,H2951=$R$13,H2951=$R$14,H2951=$R$15,H2951=$R$16,H2951=$R$17,H2951=$R$18,H2951=$R$19,H2951=$R$20,H2951=$R$21,H2951=$R$22,H2951=$R$23),15,0)))","v":""},{"$f":"ISERROR(I2951)","v":false},{"$f":"IF(H2951=\"-\",\"\",IF(AND(T2951=0,U2951=FALSE,I2951=\"\"),1,2))","v":2},{"$f":"VLOOKUP(H2951,Database!$B$1:$D$5000,3,0)","v":{"$error":"#N/A"}},{"$f":"ISERROR(W2951)","v":true}]
["",null,null,null,null,null,null,null,{"$f":"IF(ISERROR(VLOOKUP(H2954,Database!$B$1:$C$5000,2,FALSE)),\"\",VLOOKUP(H2954,Database!$B$1:$C$5000,2,FALSE))","v":""},"",{"$error":"#N/A"},null,null,null,null,null,null,null,null,"",false,2,{"$f":"VLOOKUP(H2954,Database!$B$1:$D$5000,3,0)","v":{"$error":"#N/A"}},true]
["",null,null,null,null,null,null,null,{"$f":"IF(ISERROR(VLOOKUP(H2961,Database!$B$1:$C$5000,2,FALSE)),\"\",VLOOKUP(H2961,Database!$B$1:$C$5000,2,FALSE))","v":""},"",{"$error":"#N/A"},null,null,null,null,null,null,null,null,"",false,2,{"$f":"VLOOKUP(H2961,Database!$B$1:$D$5000,3,0)","v":{"$error":"#N/A"}},true]
["",null,null,null,null,null,null,null,{"$f":"IF(ISERROR(VLOOKUP(H2966,Database!$B$1:$C$5000,2,FALSE)),\"\",VLOOKUP(H2966,Database!$B$1:$C$5000,2,FALSE))","v":""},"",{"$error":"#N/A"},null,null,null,null,null,null,null,null,"",false,2,{"$f":"VLOOKUP(H2966,Database!$B$1:$D$5000,3,0)","v":{"$error":"#N/A"}},true]
["",null,null,null,null,null,null,null,{"$f":"IF(ISERROR(VLOOKUP(H2972,Database!$B$1:$C$5000,2,FALSE)),\"\",VLOOKUP(H2972,Database!$B$1:$C$5000,2,FALSE))","v":""},"",{"$error":"#N/A"},null,null,null,null,null,null,null,null,"",false,2,{"$f":"VLOOKUP(H2972,Database!$B$1:$D$5000,3,0)","v":{"$error":"#N/A"}},true]
["",null,null,null,null,null,null,null,{"$f":"IF(ISERROR(VLOOKUP(H2973,Database!$B$1:$C$5000,2,FALSE)),\"\",VLOOKUP(H2973,Database!$B$1:$C$5000,2,FALSE))","v":""},"",{"$error":"#N/A"},null,null,null,null,null,null,null,null,"",false,2,{"$f":"VLOOKUP(H2973,Database!$B$1:$D$5000,3,0)","v":{"$error":"#N/A"}},true]
["",null,null,null,null,null,null,null,{"$f":"IF(ISERROR(VLOOKUP(H2981,Database!$B$1:$C$5000,2,FALSE)),\"\",VLOOKUP(H2981,Database!$B$1:$C$5000,2,FALSE))","v":""},"",{"$error":"#N/A"},null,null,null,null,null,null,null,null,"",false,2,{"$f":"VLOOKUP(H2981,Database!$B$1:$D$5000,3,0)","v":{"$error":"#N/A"}},true]
["",null,null,null,null,null,null,null,{"$f":"IF(ISERROR(VLOOKUP(H2982,Database!$B$1:$C$5000,2,FALSE)),\"\",VLOOKUP(H2982,Database!$B$1:$C$5000,2,FALSE))","v":""},"",{"$error":"#N/A"},null,null,null,null,null,null,null,null,"",false,2,{"$f":"VLOOKUP(H2982,Database!$B$1:$D$5000,3,0)","v":{"$error":"#N/A"}},true]
["",null,null,null,null,null,null,null,{"$f":"IF(ISERROR(VLOOKUP(H2987,Database!$B$1:$C$5000,2,FALSE)),\"\",VLOOKUP(H2987,Database!$B$1:$C$5000,2,FALSE))","v":""},"",{"$error":"#N/A"},null,null,null,null,null,null,null,null,"",false,2,{"$f":"VLOOKUP(H2987,Database!$B$1:$D$5000,3,0)","v":{"$error":"#N/A"}},true]
["",null,null,null,null,null,null,null,{"$f":"IF(ISERROR(VLOOKUP(H2992,Database!$B$1:$C$5000,2,FALSE)),\"\",VLOOKUP(H2992,Database!$B$1:$C$5000,2,FALSE))","v":""},"",{"$error":"#N/A"},null,null,null,null,null,null,null,null,"",false,2,{"$f":"VLOOKUP(H2992,Database!$B$1:$D$5000,3,0)","v":{"$error":"#N/A"}},true]
["",null,null,null,null,null,null,null,{"$f":"IF(ISERROR(VLOOKUP(H2997,Database!$B$1:$C$5000,2,FALSE)),\"\",VLOOKUP(H2997,Database!$B$1:$C$5000,2,FALSE))","v":""},"",{"$error":"#N/A"},null,null,null,null,null,null,null,null,"",false,2,{"$f":"VLOOKUP(H2997,Database!$B$1:$D$5000,3,0)","v":{"$error":"#N/A"}},true]
["",null,null,null,null,null,null,null,{"$f":"IF(ISERROR(VLOOKUP(H3002,Database!$B$1:$C$5000,2,FALSE)),\"\",VLOOKUP(H3002,Database!$B$1:$C$5000,2,FALSE))","v":""},"",{"$error":"#N/A"},null,null,null,null,null,null,null,null,"",false,2,{"$f":"VLOOKUP(H3002,Database!$B$1:$D$5000,3,0)","v":{"$error":"#N/A"}},true]
["",null,null,null,null,null,null,null,{"$f":"IF(ISERROR(VLOOKUP(H3008,Database!$B$1:$C$5000,2,FALSE)),\"\",VLOOKUP(H3008,Database!$B$1:$C$5000,2,FALSE))","v":""},"",{"$error":"#N/A"},null,null,null,null,null,null,null,null,"",false,2,{"$f":"VLOOKUP(H3008,Database!$B$1:$D$5000,3,0)","v":{"$error":"#N/A"}},true]
["",null,null,null,null,null,null,null,{"$f":"IF(ISERROR(VLOOKUP(H3011,Database!$B$1:$C$5000,2,FALSE)),\"\",VLOOKUP(H3011,Database!$B$1:$C$5000,2,FALSE))","v":""},"",{"$error":"#N/A"},null,null,null,null,null,null,null,null,"",false,2,{"$f":"VLOOKUP(H3011,Database!$B$1:$D$5000,3,0)","v":{"$error":"#N/A"}},true]
["",null,null,null,null,null,null,null,{"$f":"IF(ISERROR(VLOOKUP(H3017,Database!$B$1:$C$5000,2,FALSE)),\"\",VLOOKUP(H3017,Database!$B$1:$C$5000,2,FALSE))","v":""},"",{"$error":"#N/A"},null,null,null,null,null,null,null,null,"",false,2,{"$f":"VLOOKUP(H3017,Database!$B$1:$D$5000,3,0)","v":{"$error":"#N/A"}},true]
["",null,null,null,null,null,null,null,{"$f":"IF(ISERROR(VLOOKUP(H3023,Database!$B$1:$C$5000,2,FALSE)),\"\",VLOOKUP(H3023,Database!$B$1:$C$5000,2,FALSE))","v":""},"",{"$error":"#N/A"},null,null,null,null,null,null,null,null,"",false,2,{"$f":"VLOOKUP(H3023,Database!$B$1:$D$5000,3,0)","v":{"$error":"#N/A"}},true]
["",null,null,null,null,null,null,null,{"$f":"IF(ISERROR(VLOOKUP(H3028,Database!$B$1:$C$5000,2,FALSE)),\"\",VLOOKUP(H3028,Database!$B$1:$C$5000,2,FALSE))","v":""},"",{"$error":"#N/A"},null,null,null,null,null,null,null,null,"",false,2,{"$f":"VLOOKUP(H3028,Database!$B$1:$D$5000,3,0)","v":{"$error":"#N/A"}},true]
["",null,null,null,null,null,null,null,{"$f":"IF(ISERROR(VLOOKUP(H3030,Database!$B$1:$C$5000,2,FALSE)),\"\",VLOOKUP(H3030,Database!$B$1:$C$5000,2,FALSE))","v":""},"",{"$error":"#N/A"},null,null,null,null,null,null,null,null,"",false,2,{"$f":"VLOOKUP(H3030,Database!$B$1:$D$5000,3,0)","v":{"$error":"#N/A"}},true]
["",null,null,null,null,null,null,null,{"$f":"IF(ISERROR(VLOOKUP(H3038,Database!$B$1:$C$5000,2,FALSE)),\"\",VLOOKUP(H3038,Database!$B$1:$C$5000,2,FALSE))","v":""},"",{"$error":"#N/A"},null,null,null,null,null,null,null,null,"",false,2,{"$f":"VLOOKUP(H3038,Database!$B$1:$D$5000,3,0)","v":{"$error":"#N/A"}},true]
["",null,null,null,null,null,null,null,{"$f":"IF(ISERROR(VLOOKUP(H3043,Database!$B$1:$C$5000,2,FALSE)),\"\",VLOOKUP(H3043,Database!$B$1:$C$5000,2,FALSE))","v":""},"",{"$error":"#N/A"},null,null,null,null,null,null,null,null,"",false,2,{"$f":"VLOOKUP(H3043,Database!$B$1:$D$5000,3,0)","v":{"$error":"#N/A"}},true]
["",null,null,null,null,null,null,null,{"$f":"IF(ISERROR(VLOOKUP(H3044,Database!$B$1:$C$5000,2,FALSE)),\"\",VLOOKUP(H3044,Database!$B$1:$C$5000,2,FALSE))","v":""},"",{"$error":"#N/A"},null,null,null,null,null,null,null,null,"",false,2,{"$f":"VLOOKUP(H3044,Database!$B$1:$D$5000,3,0)","v":{"$error":"#N/A"}},true]
["",null,null,null,null,null,null,null,{"$f":"IF(ISERROR(VLOOKUP(H3049,Database!$B$1:$C$5000,2,FALSE)),\"\",VLOOKUP(H3049,Database!$B$1:$C$5000,2,FALSE))","v":""},"",{"$error":"#N/A"},null,null,null,null,null,null,null,null,"",false,2,{"$f":"VLOOKUP(H3049,Database!$B$1:$D$5000,3,0)","v":{"$error":"#N/A"}},true]
["",null,null,null,null,null,null,null,{"$f":"IF(ISERROR(VLOOKUP(H3054,Database!$B$1:$C$5000,2,FALSE)),\"\",VLOOKUP(H3054,Database!$B$1:$C$5000,2,FALSE))","v":""},"",{"$error":"#N/A"},null,null,null,null,null,null,null,null,"",false,2,{"$f":"VLOOKUP(H3054,Database!$B$1:$D$5000,3,0)","v":{"$error":"#N/A"}},true]
["",null,null,null,null,null,null,null,{"$f":"IF(ISERROR(VLOOKUP(H3059,Database!$B$1:$C$5000,2,FALSE)),\"\",VLOOKUP(H3059,Database!$B$1:$C$5000,2,FALSE))","v":""},"",{"$error":"#N/A"},null,null,null,null,null,null,null,null,"",false,2,{"$f":"VLOOKUP(H3059,Database!$B$1:$D$5000,3,0)","v":{"$error":"#N/A"}},true]
["",null,null,null,null,null,null,null,{"$f":"IF(ISERROR(VLOOKUP(H3064,Database!$B$1:$C$5000,2,FALSE)),\"\",VLOOKUP(H3064,Database!$B$1:$C$5000,2,FALSE))","v":""},"",{"$error":"#N/A"},null,null,null,null,null,null,null,null,"",false,2,{"$f":"VLOOKUP(H3064,Database!$B$1:$D$5000,3,0)","v":{"$error":"#N/A"}},true]
["",null,null,null,null,null,null,null,{"$f":"IF(ISERROR(VLOOKUP(H3068,Database!$B$1:$C$5000,2,FALSE)),\"\",VLOOKUP(H3068,Database!$B$1:$C$5000,2,FALSE))","v":""},"",{"$error":"#N/A"},null,null,null,null,null,null,null,null,"",false,2,{"$f":"VLOOKUP(H3068,Database!$B$1:$D$5000,3,0)","v":{"$error":"#N/A"}},true]
["",null,null,null,null,null,null,null,{"$f":"IF(ISERROR(VLOOKUP(H3074,Database!$B$1:$C$5000,2,FALSE)),\"\",VLOOKUP(H3074,Database!$B$1:$C$5000,2,FALSE))","v":""},"",{"$error":"#N/A"},null,null,null,null,null,null,null,null,"",false,2,{"$f":"VLOOKUP(H3074,Database!$B$1:$D$5000,3,0)","v":{"$error":"#N/A"}},true]
[{"$f":"IF(B3079=\"\",\"\",ROW(A3074))","v":""},null,null,null,null,null,null,null,{"$f":"IF(ISERROR(VLOOKUP(H3079,Database!$B$1:$C$5000,2,FALSE)),\"\",VLOOKUP(H3079,Database!$B$1:$C$5000,2,FALSE))","v":""},{"$f":"IF(V3079=1,1,IF(AND(T3079=0,F3079=\"SSB\",V3079<>\"\"),3,IF(AND(T3079=0,F3079=\"DIGI\",V3079<>\"\"),2,IF(AND(T3079=0,F3079=\"CW\",V3079<>\"\"),5,IF(H3079=\"-\",\"\",T3079)))))","v":""},{"$f":"IF(H3079=\"-\",\"\",IF(AND(H3079<>\"\",X3079=TRUE),\"INDIPENDENT\",IF(W3079=0,\"SCRIVI NOME NELLE NOTE\",W3079)))","v":{"$error":"#N/A"}},null,null,null,null,null,null,null,null,{"$f":"IF(H3079=\"\",\"\",IF(H3079=$R$6,25,IF(OR(H3079=$R$7,H3079=$R$8,H3079=$R$9,H3079=$R$10,H3079=$R$11,H3079=$R$12,H3079=$R$13,H3079=$R$14,H3079=$R$15,H3079=$R$16,H3079=$R$17,H3079=$R$18,H3079=$R$19,H3079=$R$20,H3079=$R$21,H3079=$R$22,H3079=$R$23),15,0)))","v":""},{"$f":"ISERROR(I3079)","v":false},{"$f":"IF(H3079=\"-\",\"\",IF(AND(T3079=0,U3079=FALSE,I3079=\"\"),1,2))","v":2},{"$f":"VLOOKUP(H3079,Database!$B$1:$D$5000,3,0)","v":{"$error":"#N/A"}},{"$f":"ISERROR(W3079)","v":true}]
["",null,null,null,null,null,null,null,{"$f":"IF(ISERROR(VLOOKUP(H3085,Database!$B$1:$C$5000,2,FALSE)),\"\",VLOOKUP(H3085,Database!$B$1:$C$5000,2,FALSE))","v":""},"",{"$error":"#N/A"},null,null,null,null,null,null,null,null,"",false,2,{"$f":"VLOOKUP(H3085,Database!$B$1:$D$5000,3,0)","v":{"$error":"#N/A"}},true]
["",null,null,null,null,null,null,null,{"$f":"IF(ISERROR(VLOOKUP(H3087,Database!$B$1:$C$5000,2,FALSE)),\"\",VLOOKUP(H3087,Database!$B$1:$C$5000,2,FALSE))","v":""},"",{"$error":"#N/A"},null,null,null,null,null,null,null,null,"",false,2,{"$f":"VLOOKUP(H3087,Database!$B$1:$D$5000,3,0)","v":{"$error":"#N/A"}},true]
["",null,null,null,null,null,null,null,{"$f":"IF(ISERROR(VLOOKUP(H3095,Database!$B$1:$C$5000,2,FALSE)),\"\",VLOOKUP(H3095,Database!$B$1:$C$5000,2,FALSE))","v":""},"",{"$error":"#N/A"},null,null,null,null,null,null,null,null,"",false,2,{"$f":"VLOOKUP(H3095,Database!$B$1:$D$5000,3,0)","v":{"$error":"#N/A"}},true]
["",null,null,null,null,null,null,null,{"$f":"IF(ISERROR(VLOOKUP(H3100,Database!$B$1:$C$5000,2,FALSE)),\"\",VLOOKUP(H3100,Database!$B$1:$C$5000,2,FALSE))","v":""},"",{"$error":"#N/A"},null,null,null,null,null,null,null,null,"",false,2,{"$f":"VLOOKUP(H3100,Database!$B$1:$D$5000,3,0)","v":{"$error":"#N/A"}},true]
["",null,null,null,null,null,null,null,{"$f":"IF(ISERROR(VLOOKUP(H3105,Database!$B$1:$C$5000,2,FALSE)),\"\",VLOOKUP(H3105,Database!$B$1:$C$5000,2,FALSE))","v":""},"",{"$error":"#N/A"},null,null,null,null,null,null,null,null,"",false,2,{"$f":"VLOOKUP(H3105,Database!$B$1:$D$5000,3,0)","v":{"$error":"#N/A"}},true]
["",null,null,null,null,null,null,null,{"$f":"IF(ISERROR(VLOOKUP(H3106,Database!$B$1:$C$5000,2,FALSE)),\"\",VLOOKUP(H3106,Database!$B$1:$C$5000,2,FALSE))","v":""},"",{"$error":"#N/A"},null,null,null,null,null,null,null,null,"",false,2,{"$f":"VLOOKUP(H3106,Database!$B$1:$D$5000,3,0)","v":{"$error":"#N/A"}},true]
["",null,null,null,null,null,null,null,{"$f":"IF(ISERROR(VLOOKUP(H3110,Database!$B$1:$C$5000,2,FALSE)),\"\",VLOOKUP(H3110,Database!$B$1:$C$5000,2,FALSE))","v":""},"",{"$error":"#N/A"},null,null,null,null,null,null,null,null,"",false,2,{"$f":"VLOOKUP(H3110,Database!$B$1:$D$5000,3,0)","v":{"$error":"#N/A"}},true]
["",null,null,null,null,null,null,null,{"$f":"IF(ISERROR(VLOOKUP(H3115,Database!$B$1:$C$5000,2,FALSE)),\"\",VLOOKUP(H3115,Database!$B$1:$C$5000,2,FALSE))","v":""},"",{"$error":"#N/A"},null,null,null,null,null,null,null,null,"",false,2,{"$f":"VLOOKUP(H3115,Database!$B$1:$D$5000,3,0)","v":{"$error":"#N/A"}},true]
["",null,null,null,null,null,null,null,{"$f":"IF(ISERROR(VLOOKUP(H3121,Database!$B$1:$C$5000,2,FALSE)),\"\",VLOOKUP(H3121,Database!$B$1:$C$5000,2,FALSE))","v":""},"",{"$error":"#N/A"},null,null,null,null,null,null,null,null,"",false,2,{"$f":"VLOOKUP(H3121,Database!$B$1:$D$5000,3,0)","v":{"$error":"#N/A"}},true]
["",null,null,null,null,null,null,null,{"$f":"IF(ISERROR(VLOOKUP(H3125,Database!$B$1:$C$5000,2,FALSE)),\"\",VLOOKUP(H3125,Database!$B$1:$C$5000,2,FALSE))","v":""},"",{"$error":"#N/A"},null,null,null,null,null,null,null,null,"",false,2,{"$f":"VLOOKUP(H3125,Database!$B$1:$D$5000,3,0)","v":{"$error":"#N/A"}},true]
["",null,null,null,null,null,null,null,{"$f":"IF(ISERROR(VLOOKUP(H3131,Database!$B$1:$C$5000,2,FALSE)),\"\",VLOOKUP(H3131,Database!$B$1:$C$5000,2,FALSE))","v":""},"",{"$error":"#N/A"},null,null,null,null,null,null,null,null,"",false,2,{"$f":"VLOOKUP(H3131,Database!$B$1:$D$5000,3,0)","v":{"$error":"#N/A"}},true]
["",null,null,null,null,null,null,null,{"$f":"IF(ISERROR(VLOOKUP(H3136,Database!$B$1:$C$5000,2,FALSE)),\"\",VLOOKUP(H3136,Database!$B$1:$C$5000,2,FALSE))","v":""},"",{"$error":"#N/A"},null,null,null,null,null,null,null,null,"",false,2,{"$f":"VLOOKUP(H3136,Database!$B$1:$D$5000,3,0)","v":{"$error":"#N/A"}},true]
["",null,null,null,null,null,null,null,{"$f":"IF(ISERROR(VLOOKUP(H3141,Database!$B$1:$C$5000,2,FALSE)),\"\",VLOOKUP(H3141,Database!$B$1:$C$5000,2,FALSE))","v":""},"",{"$error":"#N/A"},null,null,null,null,null,null,null,null,"",false,2,{"$f":"VLOOKUP(H3141,Database!$B$1:$D$5000,3,0)","v":{"$error":"#N/A"}},true]
["",null,null,null,null,null,null,null,{"$f":"IF(ISERROR(VLOOKUP(H3144,Database!$B$1:$C$5000,2,FALSE)),\"\",VLOOKUP(H3144,Database!$B$1:$C$5000,2,FALSE))","v":""},"",{"$error":"#N/A"},null,null,null,null,null,null,null,null,"",false,2,{"$f":"VLOOKUP(H3144,Database!$B$1:$D$5000,3,0)","v":{"$error":"#N/A"}},true]
["",null,null,null,null,null,null,null,{"$f":"IF(ISERROR(VLOOKUP(H3151,Database!$B$1:$C$5000,2,FALSE)),\"\",VLOOKUP(H3151,Database!$B$1:$C$5000,2,FALSE))","v":""},"",{"$error":"#N/A"},null,null,null,null,null,null,null,null,"",false,2,{"$f":"VLOOKUP(H3151,Database!$B$1:$D$5000,3,0)","v":{"$error":"#N/A"}},true]
["",null,null,null,null,null,null,null,{"$f":"IF(ISERROR(VLOOKUP(H3157,Database!$B$1:$C$5000,2,FALSE)),\"\",VLOOKUP(H3157,Database!$B$1:$C$5000,2,FALSE))","v":""},"",{"$error":"#N/A"},null,null,null,null,null,null,null,null,"",false,2,{"$f":"VLOOKUP(H3157,Database!$B$1:$D$5000,3,0)","v":{"$error":"#N/A"}},true]
["",null,null,null,null,null,null,null,{"$f":"IF(ISERROR(VLOOKUP(H3162,Database!$B$1:$C$5000,2,FALSE)),\"\",VLOOKUP(H3162,Database!$B$1:$C$5000,2,FALSE))","v":""},"",{"$error":"#N/A"},null,null,null,null,null,null,null,null,"",false,2,{"$f":"VLOOKUP(H3162,Database!$B$1:$D$5000,3,0)","v":{"$error":"#N/A"}},true]
["",null,null,null,null,null,null,null,{"$f":"IF(ISERROR(VLOOKUP(H3163,Database!$B$1:$C$5000,2,FALSE)),\"\",VLOOKUP(H3163,Database!$B$1:$C$5000,2,FALSE))","v":""},"",{"$error":"#N/A"},null,null,null,null,null,null,null,null,"",false,2,{"$f":"VLOOKUP(H3163,Database!$B$1:$D$5000,3,0)","v":{"$error":"#N/A"}},true]
["",null,null,null,null,null,null,null,{"$f":"IF(ISERROR(VLOOKUP(H3167,Database!$B$1:$C$5000,2,FALSE)),\"\",VLOOKUP(H3167,Database!$B$1:$C$5000,2,FALSE))","v":""},"",{"$error":"#N/A"},null,null,null,null,null,null,null,null,"",false,2,{"$f":"VLOOKUP(H3167,Database!$B$1:$D$5000,3,0)","v":{"$error":"#N/A"}},true]
["",null,null,null,null,null,null,null,{"$f":"IF(ISERROR(VLOOKUP(H3172,Database!$B$1:$C$5000,2,FALSE)),\"\",VLOOKUP(H3172,Database!$B$1:$C$5000,2,FALSE))","v":""},"",{"$error":"#N/A"},null,null,null,null,null,null,null,null,"",false,2,{"$f":"VLOOKUP(H3172,Database!$B$1:$D$5000,3,0)","v":{"$error":"#N/A"}},true]
["",null,null,null,null,null,null,null,{"$f":"IF(ISERROR(VLOOKUP(H3177,Database!$B$1:$C$5000,2,FALSE)),\"\",VLOOKUP(H3177,Database!$B$1:$C$5000,2,FALSE))","v":""},"",{"$error":"#N/A"},null,null,null,null,null,null,null,null,"",false,2,{"$f":"VLOOKUP(H3177,Database!$B$1:$D$5000,3,0)","v":{"$error":"#N/A"}},true]
["",null,null,null,null,null,null,null,{"$f":"IF(ISERROR(VLOOKUP(H3182,Database!$B$1:$C$5000,2,FALSE)),\"\",VLOOKUP(H3182,Database!$B$1:$C$5000,2,FALSE))","v":""},"",{"$error":"#N/A"},null,null,null,null,null,null,null,null,"",false,2,{"$f":"VLOOKUP(H3182,Database!$B$1:$D$5000,3,0)","v":{"$error":"#N/A"}},true]
["",null,null,null,null,null,null,null,{"$f":"IF(ISERROR(VLOOKUP(H3187,Database!$B$1:$C$5000,2,FALSE)),\"\",VLOOKUP(H3187,Database!$B$1:$C$5000,2,FALSE))","v":""},"",{"$error":"#N/A"},null,null,null,null,null,null,null,null,"",false,2,{"$f":"VLOOKUP(H3187,Database!$B$1:$D$5000,3,0)","v":{"$error":"#N/A"}},true]
["",null,null,null,null,null,null,null,{"$f":"IF(ISERROR(VLOOKUP(H3193,Database!$B$1:$C$5000,2,FALSE)),\"\",VLOOKUP(H3193,Database!$B$1:$C$5000,2,FALSE))","v":""},"",{"$error":"#N/A"},null,null,null,null,null,null,null,null,"",false,2,{"$f":"VLOOKUP(H3193,Database!$B$1:$D$5000,3,0)","v":{"$error":"#N/A"}},true]
["",null,null,null,null,null,null,null,{"$f":"IF(ISERROR(VLOOKUP(H3198,Database!$B$1:$C$5000,2,FALSE)),\"\",VLOOKUP(H3198,Database!$B$1:$C$5000,2,FALSE))","v":""},"",{"$error":"#N/A"},null,null,null,null,null,null,null,null,"",false,2,{"$f":"VLOOKUP(H3198,Database!$B$1:$D$5000,3,0)","v":{"$error":"#N/A"}},true]
["",null,null,null,null,null,null,null,{"$f":"IF(ISERROR(VLOOKUP(H3201,Database!$B$1:$C$5000,2,FALSE)),\"\",VLOOKUP(H3201,Database!$B$1:$C$5000,2,FALSE))","v":""},"",{"$error":"#N/A"},null,null,null,null,null,null,null,null,"",false,2,{"$f":"VLOOKUP(H3201,Database!$B$1:$D$5000,3,0)","v":{"$error":"#N/A"}},true]
["",null,null,null,null,null,null,null,{"$f":"IF(ISERROR(VLOOKUP(H3208,Database!$B$1:$C$5000,2,FALSE)),\"\",VLOOKUP(H3208,Database!$B$1:$C$5000,2,FALSE))","v":""},"",{"$error":"#N/A"},null,null,null,null,null,null,null,null,"",false,2,{"$f":"VLOOKUP(H3208,Database!$B$1:$D$5000,3,0)","v":{"$error":"#N/A"}},true]
["",null,null,null,null,null,null,null,{"$f":"IF(ISERROR(VLOOKUP(H3213,Database!$B$1:$C$5000,2,FALSE)),\"\",VLOOKUP(H3213,Database!$B$1:$C$5000,2,FALSE))","v":""},"",{"$error":"#N/A"},null,null,null,null,null,null,null,null,"",false,2,{"$f":"VLOOKUP(H3213,Database!$B$1:$D$5000,3,0)","v":{"$error":"#N/A"}},true]
["",null,null,null,null,null,null,null,{"$f":"IF(ISERROR(VLOOKUP(H3218,Database!$B$1:$C$5000,2,FALSE)),\"\",VLOOKUP(H3218,Database!$B$1:$C$5000,2,FALSE))","v":""},"",{"$error":"#N/A"},null,null,null,null,null,null,null,null,"",false,2,{"$f":"VLOOKUP(H3218,Database!$B$1:$D$5000,3,0)","v":{"$error":"#N/A"}},true]
["",null,null,null,null,null,null,null,{"$f":"IF(ISERROR(VLOOKUP(H3220,Database!$B$1:$C$5000,2,FALSE)),\"\",VLOOKUP(H3220,Database!$B$1:$C$5000,2,FALSE))","v":""},"",{"$error":"#N/A"},null,null,null,null,null,null,null,null,"",false,2,{"$f":"VLOOKUP(H3220,Database!$B$1:$D$5000,3,0)","v":{"$error":"#N/A"}},true]
["",null,null,null,null,null,null,null,{"$f":"IF(ISERROR(VLOOKUP(H3228,Database!$B$1:$C$5000,2,FALSE)),\"\",VLOOKUP(H3228,Database!$B$1:$C$5000,2,FALSE))","v":""},"",{"$error":"#N/A"},null,null,null,null,null,null,null,null,"",false,2,{"$f":"VLOOKUP(H3228,Database!$B$1:$D$5000,3,0)","v":{"$error":"#N/A"}},true]
["",null,null,null,null,null,null,null,{"$f":"IF(ISERROR(VLOOKUP(H3229,Database!$B$1:$C$5000,2,FALSE)),\"\",VLOOKUP(H3229,Database!$B$1:$C$5000,2,FALSE))","v":""},"",{"$error":"#N/A"},null,null,null,null,null,null,null,null,"",false,2,{"$f":"VLOOKUP(H3229,Database!$B$1:$D$5000,3,0)","v":{"$error":"#N/A"}},true]
["",null,null,null,null,null,null,null,{"$f":"IF(ISERROR(VLOOKUP(H3234,Database!$B$1:$C$5000,2,FALSE)),\"\",VLOOKUP(H3234,Database!$B$1:$C$5000,2,FALSE))","v":""},"",{"$error":"#N/A"},null,null,null,null,null,null,null,null,"",false,2,{"$f":"VLOOKUP(H3234,Database!$B$1:$D$5000,3,0)","v":{"$error":"#N/A"}},true]
["",null,null,null,null,null,null,null,{"$f":"IF(ISERROR(VLOOKUP(H3239,Database!$B$1:$C$5000,2,FALSE)),\"\",VLOOKUP(H3239,Database!$B$1:$C$5000,2,FALSE))","v":""},"",{"$error":"#N/A"},null,null,null,null,null,null,null,null,"",false,2,{"$f":"VLOOKUP(H3239,Database!$B$1:$D$5000,3,0)","v":{"$error":"#N/A"}},true]
["",null,null,null,null,null,null,null,{"$f":"IF(ISERROR(VLOOKUP(H3244,Database!$B$1:$C$5000,2,FALSE)),\"\",VLOOKUP(H3244,Database!$B$1:$C$5000,2,FALSE))","v":""},"",{"$error":"#N/A"},null,null,null,null,null,null,null,null,"",false,2,{"$f":"VLOOKUP(H3244,Database!$B$1:$D$5000,3,0)","v":{"$error":"#N/A"}},true]
["",null,null,null,null,null,null,null,{"$f":"IF(ISERROR(VLOOKUP(H3249,Database!$B$1:$C$5000,2,FALSE)),\"\",VLOOKUP(H3249,Database!$B$1:$C$5000,2,FALSE))","v":""},"",{"$error":"#N/A"},null,null,null,null,null,null,null,null,"",false,2,{"$f":"VLOOKUP(H3249,Database!$B$1:$D$5000,3,0)","v":{"$error":"#N/A"}},true]
["",null,null,null,null,null,null,null,{"$f":"IF(ISERROR(VLOOKUP(H3255,Database!$B$1:$C$5000,2,FALSE)),\"\",VLOOKUP(H3255,Database!$B$1:$C$5000,2,FALSE))","v":""},"",{"$error":"#N/A"},null,null,null,null,null,null,null,null,"",false,2,{"$f":"VLOOKUP(H3255,Database!$B$1:$D$5000,3,0)","v":{"$error":"#N/A"}},true]
["",null,null,null,null,null,null,null,{"$f":"IF(ISERROR(VLOOKUP(H3258,Database!$B$1:$C$5000,2,FALSE)),\"\",VLOOKUP(H3258,Database!$B$1:$C$5000,2,FALSE))","v":""},"",{"$error":"#N/A"},null,null,null,null,null,null,null,null,"",false,2,{"$f":"VLOOKUP(H3258,Database!$B$1:$D$5000,3,0)","v":{"$error":"#N/A"}},true]
["",null,null,null,null,null,null,null,{"$f":"IF(ISERROR(VLOOKUP(H3264,Database!$B$1:$C$5000,2,FALSE)),\"\",VLOOKUP(H3264,Database!$B$1:$C$5000,2,FALSE))","v":""},"",{"$error":"#N/A"},null,null,null,null,null,null,null,null,"",false,2,{"$f":"VLOOKUP(H3264,Database!$B$1:$D$5000,3,0)","v":{"$error":"#N/A"}},true]
["",null,null,null,null,null,null,null,{"$f":"IF(ISERROR(VLOOKUP(H3270,Database!$B$1:$C$5000,2,FALSE)),\"\",VLOOKUP(H3270,Database!$B$1:$C$5000,2,FALSE))","v":""},"",{"$error":"#N/A"},null,null,null,null,null,null,null,null,"",false,2,{"$f":"VLOOKUP(H3270,Database!$B$1:$D$5000,3,0)","v":{"$error":"#N/A"}},true]
["",null,null,null,null,null,null,null,{"$f":"IF(ISERROR(VLOOKUP(H3275,Database!$B$1:$C$5000,2,FALSE)),\"\",VLOOKUP(H3275,Database!$B$1:$C$5000,2,FALSE))","v":""},"",{"$error":"#N/A"},null,null,null,null,null,null,null,null,"",false,2,{"$f":"VLOOKUP(H3275,Database!$B$1:$D$5000,3,0)","v":{"$error":"#N/A"}},true]
["",null,null,null,null,null,null,null,{"$f":"IF(ISERROR(VLOOKUP(H3277,Database!$B$1:$C$5000,2,FALSE)),\"\",VLOOKUP(H3277,Database!$B$1:$C$5000,2,FALSE))","v":""},"",{"$error":"#N/A"},null,null,null,null,null,null,null,null,"",false,2,{"$f":"VLOOKUP(H3277,Database!$B$1:$D$5000,3,0)","v":{"$error":"#N/A"}},true]
["",null,null,null,null,null,null,null,{"$f":"IF(ISERROR(VLOOKUP(H3285,Database!$B$1:$C$5000,2,FALSE)),\"\",VLOOKUP(H3285,Database!$B$1:$C$5000,2,FALSE))","v":""},"",{"$error":"#N/A"},null,null,null,null,null,null,null,null,"",false,2,{"$f":"VLOOKUP(H3285,Database!$B$1:$D$5000,3,0)","v":{"$error":"#N/A"}},true]
["",null,null,null,null,null,null,null,{"$f":"IF(ISERROR(VLOOKUP(H3290,Database!$B$1:$C$5000,2,FALSE)),\"\",VLOOKUP(H3290,Database!$B$1:$C$5000,2,FALSE))","v":""},"",{"$error":"#N/A"},null,null,null,null,null,null,null,null,"",false,2,{"$f":"VLOOKUP(H3290,Database!$B$1:$D$5000,3,0)","v":{"$error":"#N/A"}},true]
["",null,null,null,null,null,null,null,{"$f":"IF(ISERROR(VLOOKUP(H3291,Database!$B$1:$C$5000,2,FALSE)),\"\",VLOOKUP(H3291,Database!$B$1:$C$5000,2,FALSE))","v":""},"",{"$error":"#N/A"},null,null,null,null,null,null,null,null,"",false,2,{"$f":"VLOOKUP(H3291,Database!$B$1:$D$5000,3,0)","v":{"$error":"#N/A"}},true]
["",null,null,null,null,null,null,null,{"$f":"IF(ISERROR(VLOOKUP(H3296,Database!$B$1:$C$5000,2,FALSE)),\"\",VLOOKUP(H3296,Database!$B$1:$C$5000,2,FALSE))","v":""},"",{"$error":"#N/A"},null,null,null,null,null,null,null,null,"",false,2,{"$f":"VLOOKUP(H3296,Database!$B$1:$D$5000,3,0)","v":{"$error":"#N/A"}},true]
["",null,null,null,null,null,null,null,{"$f":"IF(ISERROR(VLOOKUP(H3300,Database!$B$1:$C$5000,2,FALSE)),\"\",VLOOKUP(H3300,Database!$B$1:$C$5000,2,FALSE))","v":""},"",{"$error":"#N/A"},null,null,null,null,null,null,null,null,"",false,2,{"$f":"VLOOKUP(H3300,Database!$B$1:$D$5000,3,0)","v":{"$error":"#N/A"}},true]
["",null,null,null,null,null,null,null,{"$f":"IF(ISERROR(VLOOKUP(H3306,Database!$B$1:$C$5000,2,FALSE)),\"\",VLOOKUP(H3306,Database!$B$1:$C$5000,2,FALSE))","v":""},"",{"$error":"#N/A"},null,null,null,null,null,null,null,null,"",false,2,{"$f":"VLOOKUP(H3306,Database!$B$1:$D$5000,3,0)","v":{"$error":"#N/A"}},true]
["",null,null,null,null,null,null,null,{"$f":"IF(ISERROR(VLOOKUP(H3311,Database!$B$1:$C$5000,2,FALSE)),\"\",VLOOKUP(H3311,Database!$B$1:$C$5000,2,FALSE))","v":""},"",{"$error":"#N/A"},null,null,null,null,null,null,null,null,"",false,2,{"$f":"VLOOKUP(H3311,Database!$B$1:$D$5000,3,0)","v":{"$error":"#N/A"}},true]
["",null,null,null,null,null,null,null,{"$f":"IF(ISERROR(VLOOKUP(H3315,Database!$B$1:$C$5000,2,FALSE)),\"\",VLOOKUP(H3315,Database!$B$1:$C$5000,2,FALSE))","v":""},"",{"$error":"#N/A"},null,null,null,null,null,null,null,null,"",false,2,{"$f":"VLOOKUP(H3315,Database!$B$1:$D$5000,3,0)","v":{"$error":"#N/A"}},true]
["",null,null,null,null,null,null,null,{"$f":"IF(ISERROR(VLOOKUP(H3321,Database!$B$1:$C$5000,2,FALSE)),\"\",VLOOKUP(H3321,Database!$B$1:$C$5000,2,FALSE))","v":""},"",{"$error":"#N/A"},null,null,null,null,null,null,null,null,"",false,2,{"$f":"VLOOKUP(H3321,Database!$B$1:$D$5000,3,0)","v":{"$error":"#N/A"}},true]
["",null,null,null,null,null,null,null,{"$f":"IF(ISERROR(VLOOKUP(H3326,Database!$B$1:$C$5000,2,FALSE)),\"\",VLOOKUP(H3326,Database!$B$1:$C$5000,2,FALSE))","v":""},"",{"$error":"#N/A"},null,null,null,null,null,null,null,null,"",false,2,{"$f":"VLOOKUP(H3326,Database!$B$1:$D$5000,3,0)","v":{"$error":"#N/A"}},true]
["",null,null,null,null,null,null,null,{"$f":"IF(ISERROR(VLOOKUP(H3332,Database!$B$1:$C$5000,2,FALSE)),\"\",VLOOKUP(H3332,Database!$B$1:$C$5000,2,FALSE))","v":""},"",{"$error":"#N/A"},null,null,null,null,null,null,null,null,"",false,2,{"$f":"VLOOKUP(H3332,Database!$B$1:$D$5000,3,0)","v":{"$error":"#N/A"}},true]
["",null,null,null,null,null,null,null,{"$f":"IF(ISERROR(VLOOKUP(H3334,Database!$B$1:$C$5000,2,FALSE)),\"\",VLOOKUP(H3334,Database!$B$1:$C$5000,2,FALSE))","v":""},"",{"$error":"#N/A"},null,null,null,null,null,null,null,null,"",false,2,{"$f":"VLOOKUP(H3334,Database!$B$1:$D$5000,3,0)","v":{"$error":"#N/A"}},true]
["",null,null,null,null,null,null,null,{"$f":"IF(ISERROR(VLOOKUP(H3341,Database!$B$1:$C$5000,2,FALSE)),\"\",VLOOKUP(H3341,Database!$B$1:$C$5000,2,FALSE))","v":""},"",{"$error":"#N/A"},null,null,null,null,null,null,null,null,"",false,2,{"$f":"VLOOKUP(H3341,Database!$B$1:$D$5000,3,0)","v":{"$error":"#N/A"}},true]
["",null,null,null,null,null,null,null,{"$f":"IF(ISERROR(VLOOKUP(H3347,Database!$B$1:$C$5000,2,FALSE)),\"\",VLOOKUP(H3347,Database!$B$1:$C$5000,2,FALSE))","v":""},"",{"$error":"#N/A"},null,null,null,null,null,null,null,null,"",false,2,{"$f":"VLOOKUP(H3347,Database!$B$1:$D$5000,3,0)","v":{"$error":"#N/A"}},true]
["",null,null,null,null,null,null,null,{"$f":"IF(ISERROR(VLOOKUP(H3352,Database!$B$1:$C$5000,2,FALSE)),\"\",VLOOKUP(H3352,Database!$B$1:$C$5000,2,FALSE))","v":""},"",{"$error":"#N/A"},null,null,null,null,null,null,null,null,"",false,2,{"$f":"VLOOKUP(H3352,Database!$B$1:$D$5000,3,0)","v":{"$error":"#N/A"}},true]
["",null,null,null,null,null,null,null,{"$f":"IF(ISERROR(VLOOKUP(H3353,Database!$B$1:$C$5000,2,FALSE)),\"\",VLOOKUP(H3353,Database!$B$1:$C$5000,2,FALSE))","v":""},"",{"$error":"#N/A"},null,null,null,null,null,null,null,null,"",false,2,{"$f":"VLOOKUP(H3353,Database!$B$1:$D$5000,3,0)","v":{"$error":"#N/A"}},true]
["",null,null,null,null,null,null,null,{"$f":"IF(ISERROR(VLOOKUP(H3357,Database!$B$1:$C$5000,2,FALSE)),\"\",VLOOKUP(H3357,Database!$B$1:$C$5000,2,FALSE))","v":""},"",{"$error":"#N/A"},null,null,null,null,null,null,null,null,"",false,2,{"$f":"VLOOKUP(H3357,Database!$B$1:$D$5000,3,0)","v":{"$error":"#N/A"}},true]
["",null,null,null,null,null,null,null,{"$f":"IF(ISERROR(VLOOKUP(H3362,Database!$B$1:$C$5000,2,FALSE)),\"\",VLOOKUP(H3362,Database!$B$1:$C$5000,2,FALSE))","v":""},"",{"$error":"#N/A"},null,null,null,null,null,null,null,null,"",false,2,{"$f":"VLOOKUP(H3362,Database!$B$1:$D$5000,3,0)","v":{"$error":"#N/A"}},true]
["",null,null,null,null,null,null,null,{"$f":"IF(ISERROR(VLOOKUP(H3368,Database!$B$1:$C$5000,2,FALSE)),\"\",VLOOKUP(H3368,Database!$B$1:$C$5000,2,FALSE))","v":""},"",{"$error":"#N/A"},null,null,null,null,null,null,null,null,"",false,2,{"$f":"VLOOKUP(H3368,Database!$B$1:$D$5000,3,0)","v":{"$error":"#N/A"}},true]
["",null,null,null,null,null,null,null,{"$f":"IF(ISERROR(VLOOKUP(H3373,Database!$B$1:$C$5000,2,FALSE)),\"\",VLOOKUP(H3373,Database!$B$1:$C$5000,2,FALSE))","v":""},"",{"$error":"#N/A"},null,null,null,null,null,null,null,null,"",false,2,{"$f":"VLOOKUP(H3373,Database!$B$1:$D$5000,3,0)","v":{"$error":"#N/A"}},true]
["",null,null,null,null,null,null,null,{"$f":"IF(ISERROR(VLOOKUP(H3378,Database!$B$1:$C$5000,2,FALSE)),\"\",VLOOKUP(H3378,Database!$B$1:$C$5000,2,FALSE))","v":""},"",{"$error":"#N/A"},null,null,null,null,null,null,null,null,"",false,2,{"$f":"VLOOKUP(H3378,Database!$B$1:$D$5000,3,0)","v":{"$error":"#N/A"}},true]
["",null,null,null,null,null,null,null,{"$f":"IF(ISERROR(VLOOKUP(H3383,Database!$B$1:$C$5000,2,FALSE)),\"\",VLOOKUP(H3383,Database!$B$1:$C$5000,2,FALSE))","v":""},"",{"$error":"#N/A"},null,null,null,null,null,null,null,null,"",false,2,{"$f":"VLOOKUP(H3383,Database!$B$1:$D$5000,3,0)","v":{"$error":"#N/A"}},true]
["",null,null,null,null,null,null,null,{"$f":"IF(ISERROR(VLOOKUP(H3388,Database!$B$1:$C$5000,2,FALSE)),\"\",VLOOKUP(H3388,Database!$B$1:$C$5000,2,FALSE))","v":""},"",{"$error":"#N/A"},null,null,null,null,null,null,null,null,"",false,2,{"$f":"VLOOKUP(H3388,Database!$B$1:$D$5000,3,0)","v":{"$error":"#N/A"}},true]
["",null,null,null,null,null,null,null,{"$f":"IF(ISERROR(VLOOKUP(H3394,Database!$B$1:$C$5000,2,FALSE)),\"\",VLOOKUP(H3394,Database!$B$1:$C$5000,2,FALSE))","v":""},"",{"$error":"#N/A"},null,null,null,null,null,null,null,null,"",false,2,{"$f":"VLOOKUP(H3394,Database!$B$1:$D$5000,3,0)","v":{"$error":"#N/A"}},true]
["",null,null,null,null,null,null,null,{"$f":"IF(ISERROR(VLOOKUP(H3397,Database!$B$1:$C$5000,2,FALSE)),\"\",VLOOKUP(H3397,Database!$B$1:$C$5000,2,FALSE))","v":""},"",{"$error":"#N/A"},null,null,null,null,null,null,null,null,"",false,2,{"$f":"VLOOKUP(H3397,Database!$B$1:$D$5000,3,0)","v":{"$error":"#N/A"}},true]
["",null,null,null,null,null,null,null,{"$f":"IF(ISERROR(VLOOKUP(H3403,Database!$B$1:$C$5000,2,FALSE)),\"\",VLOOKUP(H3403,Database!$B$1:$C$5000,2,FALSE))","v":""},"",{"$error":"#N/A"},null,null,null,null,null,null,null,null,"",false,2,{"$f":"VLOOKUP(H3403,Database!$B$1:$D$5000,3,0)","v":{"$error":"#N/A"}},true]
["",null,null,null,null,null,null,null,{"$f":"IF(ISERROR(VLOOKUP(H3409,Database!$B$1:$C$5000,2,FALSE)),\"\",VLOOKUP(H3409,Database!$B$1:$C$5000,2,FALSE))","v":""},"",{"$error":"#N/A"},null,null,null,null,null,null,null,null,"",false,2,{"$f":"VLOOKUP(H3409,Database!$B$1:$D$5000,3,0)","v":{"$error":"#N/A"}},true]
["",null,null,null,null,null,null,null,{"$f":"IF(ISERROR(VLOOKUP(H3414,Database!$B$1:$C$5000,2,FALSE)),\"\",VLOOKUP(H3414,Database!$B$1:$C$5000,2,FALSE))","v":""},"",{"$error":"#N/A"},null,null,null,null,null,null,null,null,"",false,2,{"$f":"VLOOKUP(H3414,Database!$B$1:$D$5000,3,0)","v":{"$error":"#N/A"}},true]
["",null,null,null,null,null,null,null,{"$f":"IF(ISERROR(VLOOKUP(H3416,Database!$B$1:$C$5000,2,FALSE)),\"\",VLOOKUP(H3416,Database!$B$1:$C$5000,2,FALSE))","v":""},"",{"$error":"#N/A"},null,null,null,null,null,null,null,null,"",false,2,{"$f":"VLOOKUP(H3416,Database!$B$1:$D$5000,3,0)","v":{"$error":"#N/A"}},true]
["",null,null,null,null,null,null,null,{"$f":"IF(ISERROR(VLOOKUP(H3419,Database!$B$1:$C$5000,2,FALSE)),\"\",VLOOKUP(H3419,Database!$B$1:$C$5000,2,FALSE))","v":""},"",{"$error":"#N/A"},null,null,null,null,null,null,null,null,"",false,2,{"$f":"VLOOKUP(H3419,Database!$B$1:$D$5000,3,0)","v":{"$error":"#N/A"}},true]
["",null,null,null,null,null,null,null,{"$f":"IF(ISERROR(VLOOKUP(H3424,Database!$B$1:$C$5000,2,FALSE)),\"\",VLOOKUP(H3424,Database!$B$1:$C$5000,2,FALSE))","v":""},"",{"$error":"#N/A"},null,null,null,null,null,null,null,null,"",false,2,{"$f":"VLOOKUP(H3424,Database!$B$1:$D$5000,3,0)","v":{"$error":"#N/A"}},true]
["",null,null,null,null,null,null,null,{"$f":"IF(ISERROR(VLOOKUP(H3430,Database!$B$1:$C$5000,2,FALSE)),\"\",VLOOKUP(H3430,Database!$B$1:$C$5000,2,FALSE))","v":""},"",{"$error":"#N/A"},null,null,null,null,null,null,null,null,"",false,2,{"$f":"VLOOKUP(H3430,Database!$B$1:$D$5000,3,0)","v":{"$error":"#N/A"}},true]
["",null,null,null,null,null,null,null,{"$f":"IF(ISERROR(VLOOKUP(H3435,Database!$B$1:$C$5000,2,FALSE)),\"\",VLOOKUP(H3435,Database!$B$1:$C$5000,2,FALSE))","v":""},"",{"$error":"#N/A"},null,null,null,null,null,null,null,null,"",false,2,{"$f":"VLOOKUP(H3435,Database!$B$1:$D$5000,3,0)","v":{"$error":"#N/A"}},true]
["",null,null,null,null,null,null,null,{"$f":"IF(ISERROR(VLOOKUP(H3439,Database!$B$1:$C$5000,2,FALSE)),\"\",VLOOKUP(H3439,Database!$B$1:$C$5000,2,FALSE))","v":""},"",{"$error":"#N/A"},null,null,null,null,null,null,null,null,"",false,2,{"$f":"VLOOKUP(H3439,Database!$B$1:$D$5000,3,0)","v":{"$error":"#N/A"}},true]
["",null,null,null,null,null,null,null,{"$f":"IF(ISERROR(VLOOKUP(H3445,Database!$B$1:$C$5000,2,FALSE)),\"\",VLOOKUP(H3445,Database!$B$1:$C$5000,2,FALSE))","v":""},"",{"$error":"#N/A"},null,null,null,null,null,null,null,null,"",false,2,{"$f":"VLOOKUP(H3445,Database!$B$1:$D$5000,3,0)","v":{"$error":"#N/A"}},true]
["",null,null,null,null,null,null,null,{"$f":"IF(ISERROR(VLOOKUP(H3450,Database!$B$1:$C$5000,2,FALSE)),\"\",VLOOKUP(H3450,Database!$B$1:$C$5000,2,FALSE))","v":""},"",{"$error":"#N/A"},null,null,null,null,null,null,null,null,"",false,2,{"$f":"VLOOKUP(H3450,Database!$B$1:$D$5000,3,0)","v":{"$error":"#N/A"}},true]
["",null,null,null,null,null,null,null,{"$f":"IF(ISERROR(VLOOKUP(H3454,Database!$B$1:$C$5000,2,FALSE)),\"\",VLOOKUP(H3454,Database!$B$1:$C$5000,2,FALSE))","v":""},"",{"$error":"#N/A"},null,null,null,null,null,null,null,null,"",false,2,{"$f":"VLOOKUP(H3454,Database!$B$1:$D$5000,3,0)","v":{"$error":"#N/A"}},true]
["",null,null,null,null,null,null,null,{"$f":"IF(ISERROR(VLOOKUP(H3460,Database!$B$1:$C$5000,2,FALSE)),\"\",VLOOKUP(H3460,Database!$B$1:$C$5000,2,FALSE))","v":""},"",{"$error":"#N/A"},null,null,null,null,null,null,null,null,"",false,2,{"$f":"VLOOKUP(H3460,Database!$B$1:$D$5000,3,0)","v":{"$error":"#N/A"}},true]
["",null,null,null,null,null,null,null,{"$f":"IF(ISERROR(VLOOKUP(H3465,Database!$B$1:$C$5000,2,FALSE)),\"\",VLOOKUP(H3465,Database!$B$1:$C$5000,2,FALSE))","v":""},"",{"$error":"#N/A"},null,null,null,null,null,null,null,null,"",false,2,{"$f":"VLOOKUP(H3465,Database!$B$1:$D$5000,3,0)","v":{"$error":"#N/A"}},true]
["",null,null,null,null,null,null,null,{"$f":"IF(ISERROR(VLOOKUP(H3471,Database!$B$1:$C$5000,2,FALSE)),\"\",VLOOKUP(H3471,Database!$B$1:$C$5000,2,FALSE))","v":""},"",{"$error":"#N/A"},null,null,null,null,null,null,null,null,"",false,2,{"$f":"VLOOKUP(H3471,Database!$B$1:$D$5000,3,0)","v":{"$error":"#N/A"}},true]
["",null,null,null,null,null,null,null,{"$f":"IF(ISERROR(VLOOKUP(H3473,Database!$B$1:$C$5000,2,FALSE)),\"\",VLOOKUP(H3473,Database!$B$1:$C$5000,2,FALSE))","v":""},"",{"$error":"#N/A"},null,null,null,null,null,null,null,null,"",false,2,{"$f":"VLOOKUP(H3473,Database!$B$1:$D$5000,3,0)","v":{"$error":"#N/A"}},true]
["",null,null,null,null,null,null,null,{"$f":"IF(ISERROR(VLOOKUP(H3476,Database!$B$1:$C$5000,2,FALSE)),\"\",VLOOKUP(H3476,Database!$B$1:$C$5000,2,FALSE))","v":""},"",{"$error":"#N/A"},null,null,null,null,null,null,null,null,"",false,2,{"$f":"VLOOKUP(H3476,Database!$B$1:$D$5000,3,0)","v":{"$error":"#N/A"}},true]
["",null,null,null,null,null,null,null,{"$f":"IF(ISERROR(VLOOKUP(H3481,Database!$B$1:$C$5000,2,FALSE)),\"\",VLOOKUP(H3481,Database!$B$1:$C$5000,2,FALSE))","v":""},"",{"$error":"#N/A"},null,null,null,null,null,null,null,null,"",false,2,{"$f":"VLOOKUP(H3481,Database!$B$1:$D$5000,3,0)","v":{"$error":"#N/A"}},true]
["",null,null,null,null,null,null,null,{"$f":"IF(ISERROR(VLOOKUP(H3486,Database!$B$1:$C$5000,2,FALSE)),\"\",VLOOKUP(H3486,Database!$B$1:$C$5000,2,FALSE))","v":""},"",{"$error":"#N/A"},null,null,null,null,null,null,null,null,"",false,2,{"$f":"VLOOKUP(H3486,Database!$B$1:$D$5000,3,0)","v":{"$error":"#N/A"}},true]
["",null,null,null,null,null,null,null,{"$f":"IF(ISERROR(VLOOKUP(H3492,Database!$B$1:$C$5000,2,FALSE)),\"\",VLOOKUP(H3492,Database!$B$1:$C$5000,2,FALSE))","v":""},"",{"$error":"#N/A"},null,null,null,null,null,null,null,null,"",false,2,{"$f":"VLOOKUP(H3492,Database!$B$1:$D$5000,3,0)","v":{"$error":"#N/A"}},true]
["",null,null,null,null,null,null,null,{"$f":"IF(ISERROR(VLOOKUP(H3496,Database!$B$1:$C$5000,2,FALSE)),\"\",VLOOKUP(H3496,Database!$B$1:$C$5000,2,FALSE))","v":""},"",{"$error":"#N/A"},null,null,null,null,null,null,null,null,"",false,2,{"$f":"VLOOKUP(H3496,Database!$B$1:$D$5000,3,0)","v":{"$error":"#N/A"}},true]
["",null,null,null,null,null,null,null,{"$f":"IF(ISERROR(VLOOKUP(H3501,Database!$B$1:$C$5000,2,FALSE)),\"\",VLOOKUP(H3501,Database!$B$1:$C$5000,2,FALSE))","v":""},"",{"$error":"#N/A"},null,null,null,null,null,null,null,null,"",false,2,{"$f":"VLOOKUP(H3501,Database!$B$1:$D$5000,3,0)","v":{"$error":"#N/A"}},true]
["",null,null,null,null,null,null,null,{"$f":"IF(ISERROR(VLOOKUP(H3507,Database!$B$1:$C$5000,2,FALSE)),\"\",VLOOKUP(H3507,Database!$B$1:$C$5000,2,FALSE))","v":""},"",{"$error":"#N/A"},null,null,null,null,null,null,null,null,"",false,2,{"$f":"VLOOKUP(H3507,Database!$B$1:$D$5000,3,0)","v":{"$error":"#N/A"}},true]
["",null,null,null,null,null,null,null,{"$f":"IF(ISERROR(VLOOKUP(H3511,Database!$B$1:$C$5000,2,FALSE)),\"\",VLOOKUP(H3511,Database!$B$1:$C$5000,2,FALSE))","v":""},"",{"$error":"#N/A"},null,null,null,null,null,null,null,null,"",false,2,{"$f":"VLOOKUP(H3511,Database!$B$1:$D$5000,3,0)","v":{"$error":"#N/A"}},true]
["",null,null,null,null,null,null,null,{"$f":"IF(ISERROR(VLOOKUP(H3517,Database!$B$1:$C$5000,2,FALSE)),\"\",VLOOKUP(H3517,Database!$B$1:$C$5000,2,FALSE))","v":""},"",{"$error":"#N/A"},null,null,null,null,null,null,null,null,"",false,2,{"$f":"VLOOKUP(H3517,Database!$B$1:$D$5000,3,0)","v":{"$error":"#N/A"}},true]
["",null,null,null,null,null,null,null,{"$f":"IF(ISERROR(VLOOKUP(H3522,Database!$B$1:$C$5000,2,FALSE)),\"\",VLOOKUP(H3522,Database!$B$1:$C$5000,2,FALSE))","v":""},"",{"$error":"#N/A"},null,null,null,null,null,null,null,null,"",false,2,{"$f":"VLOOKUP(H3522,Database!$B$1:$D$5000,3,0)","v":{"$error":"#N/A"}},true]
[{"$f":"IF(B3527=\"\",\"\",ROW(A3522))","v":""},null,null,null,null,null,null,null,{"$f":"IF(ISERROR(VLOOKUP(H3527,Database!$B$1:$C$5000,2,FALSE)),\"\",VLOOKUP(H3527,Database!$B$1:$C$5000,2,FALSE))","v":""},{"$f":"IF(V3527=1,1,IF(AND(T3527=0,F3527=\"SSB\",V3527<>\"\"),3,IF(AND(T3527=0,F3527=\"DIGI\",V3527<>\"\"),2,IF(AND(T3527=0,F3527=\"CW\",V3527<>\"\"),5,IF(H3527=\"-\",\"\",T3527)))))","v":""},{"$f":"IF(H3527=\"-\",\"\",IF(AND(H3527<>\"\",X3527=TRUE),\"INDIPENDENT\",IF(W3527=0,\"SCRIVI NOME NELLE NOTE\",W3527)))","v":{"$error":"#N/A"}},null,null,null,null,null,null,null,null,{"$f":"IF(H3527=\"\",\"\",IF(H3527=$R$6,25,IF(OR(H3527=$R$7,H3527=$R$8,H3527=$R$9,H3527=$R$10,H3527=$R$11,H3527=$R$12,H3527=$R$13,H3527=$R$14,H3527=$R$15,H3527=$R$16,H3527=$R$17,H3527=$R$18,H3527=$R$19,H3527=$R$20,H3527=$R$21,H3527=$R$22,H3527=$R$23),15,0)))","v":""},{"$f":"ISERROR(I3527)","v":false},{"$f":"IF(H3527=\"-\",\"\",IF(AND(T3527=0,U3527=FALSE,I3527=\"\"),1,2))","v":2},{"$f":"VLOOKUP(H3527,Database!$B$1:$D$5000,3,0)","v":{"$error":"#N/A"}},{"$f":"ISERROR(W3527)","v":true}]
["",null,null,null,null,null,null,null,{"$f":"IF(ISERROR(VLOOKUP(H3530,Database!$B$1:$C$5000,2,FALSE)),\"\",VLOOKUP(H3530,Database!$B$1:$C$5000,2,FALSE))","v":""},"",{"$error":"#N/A"},null,null,null,null,null,null,null,null,"",false,2,{"$f":"VLOOKUP(H3530,Database!$B$1:$D$5000,3,0)","v":{"$error":"#N/A"}},true]
["",null,null,null,null,null,null,null,{"$f":"IF(ISERROR(VLOOKUP(H3537,Database!$B$1:$C$5000,2,FALSE)),\"\",VLOOKUP(H3537,Database!$B$1:$C$5000,2,FALSE))","v":""},"",{"$error":"#N/A"},null,null,null,null,null,null,null,null,"",false,2,{"$f":"VLOOKUP(H3537,Database!$B$1:$D$5000,3,0)","v":{"$error":"#N/A"}},true]
["",null,null,null,null,null,null,null,{"$f":"IF(ISERROR(VLOOKUP(H3542,Database!$B$1:$C$5000,2,FALSE)),\"\",VLOOKUP(H3542,Database!$B$1:$C$5000,2,FALSE))","v":""},"",{"$error":"#N/A"},null,null,null,null,null,null,null,null,"",false,2,{"$f":"VLOOKUP(H3542,Database!$B$1:$D$5000,3,0)","v":{"$error":"#N/A"}},true]
["",null,null,null,null,null,null,null,{"$f":"IF(ISERROR(VLOOKUP(H3543,Database!$B$1:$C$5000,2,FALSE)),\"\",VLOOKUP(H3543,Database!$B$1:$C$5000,2,FALSE))","v":""},"",{"$error":"#N/A"},null,null,null,null,null,null,null,null,"",false,2,{"$f":"VLOOKUP(H3543,Database!$B$1:$D$5000,3,0)","v":{"$error":"#N/A"}},true]
["",null,null,null,null,null,null,null,{"$f":"IF(ISERROR(VLOOKUP(H3549,Database!$B$1:$C$5000,2,FALSE)),\"\",VLOOKUP(H3549,Database!$B$1:$C$5000,2,FALSE))","v":""},"",{"$error":"#N/A"},null,null,null,null,null,null,null,null,"",false,2,{"$f":"VLOOKUP(H3549,Database!$B$1:$D$5000,3,0)","v":{"$error":"#N/A"}},true]
["",null,null,null,null,null,null,null,{"$f":"IF(ISERROR(VLOOKUP(H3553,Database!$B$1:$C$5000,2,FALSE)),\"\",VLOOKUP(H3553,Database!$B$1:$C$5000,2,FALSE))","v":""},"",{"$error":"#N/A"},null,null,null,null,null,null,null,null,"",false,2,{"$f":"VLOOKUP(H3553,Database!$B$1:$D$5000,3,0)","v":{"$error":"#N/A"}},true]
["",null,null,null,null,null,null,null,{"$f":"IF(ISERROR(VLOOKUP(H3558,Database!$B$1:$C$5000,2,FALSE)),\"\",VLOOKUP(H3558,Database!$B$1:$C$5000,2,FALSE))","v":""},"",{"$error":"#N/A"},null,null,null,null,null,null,null,null,"",false,2,{"$f":"VLOOKUP(H3558,Database!$B$1:$D$5000,3,0)","v":{"$error":"#N/A"}},true]
["",null,null,null,null,null,null,null,{"$f":"IF(ISERROR(VLOOKUP(H3563,Database!$B$1:$C$5000,2,FALSE)),\"\",VLOOKUP(H3563,Database!$B$1:$C$5000,2,FALSE))","v":""},"",{"$error":"#N/A"},null,null,null,null,null,null,null,null,"",false,2,{"$f":"VLOOKUP(H3563,Database!$B$1:$D$5000,3,0)","v":{"$error":"#N/A"}},true]
["",null,null,null,null,null,null,null,{"$f":"IF(ISERROR(VLOOKUP(H3568,Database!$B$1:$C$5000,2,FALSE)),\"\",VLOOKUP(H3568,Database!$B$1:$C$5000,2,FALSE))","v":""},"",{"$error":"#N/A"},null,null,null,null,null,null,null,null,"",false,2,{"$f":"VLOOKUP(H3568,Database!$B$1:$D$5000,3,0)","v":{"$error":"#N/A"}},true]
["",null,null,null,null,null,null,null,{"$f":"IF(ISERROR(VLOOKUP(H3573,Database!$B$1:$C$5000,2,FALSE)),\"\",VLOOKUP(H3573,Database!$B$1:$C$5000,2,FALSE))","v":""},"",{"$error":"#N/A"},null,null,null,null,null,null,null,null,"",false,2,{"$f":"VLOOKUP(H3573,Database!$B$1:$D$5000,3,0)","v":{"$error":"#N/A"}},true]
["",null,null,null,null,null,null,null,{"$f":"IF(ISERROR(VLOOKUP(H3579,Database!$B$1:$C$5000,2,FALSE)),\"\",VLOOKUP(H3579,Database!$B$1:$C$5000,2,FALSE))","v":""},"",{"$error":"#N/A"},null,null,null,null,null,null,null,null,"",false,2,{"$f":"VLOOKUP(H3579,Database!$B$1:$D$5000,3,0)","v":{"$error":"#N/A"}},true]
["",null,null,null,null,null,null,null,{"$f":"IF(ISERROR(VLOOKUP(H3584,Database!$B$1:$C$5000,2,FALSE)),\"\",VLOOKUP(H3584,Database!$B$1:$C$5000,2,FALSE))","v":""},"",{"$error":"#N/A"},null,null,null,null,null,null,null,null,"",false,2,{"$f":"VLOOKUP(H3584,Database!$B$1:$D$5000,3,0)","v":{"$error":"#N/A"}},true]
["",null,null,null,null,null,null,null,{"$f":"IF(ISERROR(VLOOKUP(H3587,Database!$B$1:$C$5000,2,FALSE)),\"\",VLOOKUP(H3587,Database!$B$1:$C$5000,2,FALSE))","v":""},"",{"$error":"#N/A"},null,null,null,null,null,null,null,null,"",false,2,{"$f":"VLOOKUP(H3587,Database!$B$1:$D$5000,3,0)","v":{"$error":"#N/A"}},true]
["",null,null,null,null,null,null,null,{"$f":"IF(ISERROR(VLOOKUP(H3594,Database!$B$1:$C$5000,2,FALSE)),\"\",VLOOKUP(H3594,Database!$B$1:$C$5000,2,FALSE))","v":""},"",{"$error":"#N/A"},null,null,null,null,null,null,null,null,"",false,2,{"$f":"VLOOKUP(H3594,Database!$B$1:$D$5000,3,0)","v":{"$error":"#N/A"}},true]
["",null,null,null,null,null,null,null,{"$f":"IF(ISERROR(VLOOKUP(H3599,Database!$B$1:$C$5000,2,FALSE)),\"\",VLOOKUP(H3599,Database!$B$1:$C$5000,2,FALSE))","v":""},"",{"$error":"#N/A"},null,null,null,null,null,null,null,null,"",false,2,{"$f":"VLOOKUP(H3599,Database!$B$1:$D$5000,3,0)","v":{"$error":"#N/A"}},true]
["",null,null,null,null,null,null,null,{"$f":"IF(ISERROR(VLOOKUP(H3604,Database!$B$1:$C$5000,2,FALSE)),\"\",VLOOKUP(H3604,Database!$B$1:$C$5000,2,FALSE))","v":""},"",{"$error":"#N/A"},null,null,null,null,null,null,null,null,"",false,2,{"$f":"VLOOKUP(H3604,Database!$B$1:$D$5000,3,0)","v":{"$error":"#N/A"}},true]
["",null,null,null,null,null,null,null,{"$f":"IF(ISERROR(VLOOKUP(H3606,Database!$B$1:$C$5000,2,FALSE)),\"\",VLOOKUP(H3606,Database!$B$1:$C$5000,2,FALSE))","v":""},"",{"$error":"#N/A"},null,null,null,null,null,null,null,null,"",false,2,{"$f":"VLOOKUP(H3606,Database!$B$1:$D$5000,3,0)","v":{"$error":"#N/A"}},true]
["",null,null,null,null,null,null,null,{"$f":"IF(ISERROR(VLOOKUP(H3609,Database!$B$1:$C$5000,2,FALSE)),\"\",VLOOKUP(H3609,Database!$B$1:$C$5000,2,FALSE))","v":""},"",{"$error":"#N/A"},null,null,null,null,null,null,null,null,"",false,2,{"$f":"VLOOKUP(H3609,Database!$B$1:$D$5000,3,0)","v":{"$error":"#N/A"}},true]
["",null,null,null,null,null,null,null,{"$f":"IF(ISERROR(VLOOKUP(H3615,Database!$B$1:$C$5000,2,FALSE)),\"\",VLOOKUP(H3615,Database!$B$1:$C$5000,2,FALSE))","v":""},"",{"$error":"#N/A"},null,null,null,null,null,null,null,null,"",false,2,{"$f":"VLOOKUP(H3615,Database!$B$1:$D$5000,3,0)","v":{"$error":"#N/A"}},true]
["",null,null,null,null,null,null,null,{"$f":"IF(ISERROR(VLOOKUP(H3620,Database!$B$1:$C$5000,2,FALSE)),\"\",VLOOKUP(H3620,Database!$B$1:$C$5000,2,FALSE))","v":""},"",{"$error":"#N/A"},null,null,null,null,null,null,null,null,"",false,2,{"$f":"VLOOKUP(H3620,Database!$B$1:$D$5000,3,0)","v":{"$error":"#N/A"}},true]
["",null,null,null,null,null,null,null,{"$f":"IF(ISERROR(VLOOKUP(H3625,Database!$B$1:$C$5000,2,FALSE)),\"\",VLOOKUP(H3625,Database!$B$1:$C$5000,2,FALSE))","v":""},"",{"$error":"#N/A"},null,null,null,null,null,null,null,null,"",false,2,{"$f":"VLOOKUP(H3625,Database!$B$1:$D$5000,3,0)","v":{"$error":"#N/A"}},true]
["",null,null,null,null,null,null,null,{"$f":"IF(ISERROR(VLOOKUP(H3630,Database!$B$1:$C$5000,2,FALSE)),\"\",VLOOKUP(H3630,Database!$B$1:$C$5000,2,FALSE))","v":""},"",{"$error":"#N/A"},null,null,null,null,null,null,null,null,"",false,2,{"$f":"VLOOKUP(H3630,Database!$B$1:$D$5000,3,0)","v":{"$error":"#N/A"}},true]
["",null,null,null,null,null,null,null,{"$f":"IF(ISERROR(VLOOKUP(H3635,Database!$B$1:$C$5000,2,FALSE)),\"\",VLOOKUP(H3635,Database!$B$1:$C$5000,2,FALSE))","v":""},"",{"$error":"#N/A"},null,null,null,null,null,null,null,null,"",false,2,{"$f":"VLOOKUP(H3635,Database!$B$1:$D$5000,3,0)","v":{"$error":"#N/A"}},true]
["",null,null,null,null,null,null,null,{"$f":"IF(ISERROR(VLOOKUP(H3640,Database!$B$1:$C$5000,2,FALSE)),\"\",VLOOKUP(H3640,Database!$B$1:$C$5000,2,FALSE))","v":""},"",{"$error":"#N/A"},null,null,null,null,null,null,null,null,"",false,2,{"$f":"VLOOKUP(H3640,Database!$B$1:$D$5000,3,0)","v":{"$error":"#N/A"}},true]
["",null,null,null,null,null,null,null,{"$f":"IF(ISERROR(VLOOKUP(H3644,Database!$B$1:$C$5000,2,FALSE)),\"\",VLOOKUP(H3644,Database!$B$1:$C$5000,2,FALSE))","v":""},"",{"$error":"#N/A"},null,null,null,null,null,null,null,null,"",false,2,{"$f":"VLOOKUP(H3644,Database!$B$1:$D$5000,3,0)","v":{"$error":"#N/A"}},true]
["",null,null,null,null,null,null,null,{"$f":"IF(ISERROR(VLOOKUP(H3650,Database!$B$1:$C$5000,2,FALSE)),\"\",VLOOKUP(H3650,Database!$B$1:$C$5000,2,FALSE))","v":""},"",{"$error":"#N/A"},null,null,null,null,null,null,null,null,"",false,2,{"$f":"VLOOKUP(H3650,Database!$B$1:$D$5000,3,0)","v":{"$error":"#N/A"}},true]
["",null,null,null,null,null,null,null,{"$f":"IF(ISERROR(VLOOKUP(H3656,Database!$B$1:$C$5000,2,FALSE)),\"\",VLOOKUP(H3656,Database!$B$1:$C$5000,2,FALSE))","v":""},"",{"$error":"#N/A"},null,null,null,null,null,null,null,null,"",false,2,{"$f":"VLOOKUP(H3656,Database!$B$1:$D$5000,3,0)","v":{"$error":"#N/A"}},true]
["",null,null,null,null,null,null,null,{"$f":"IF(ISERROR(VLOOKUP(H3661,Database!$B$1:$C$5000,2,FALSE)),\"\",VLOOKUP(H3661,Database!$B$1:$C$5000,2,FALSE))","v":""},"",{"$error":"#N/A"},null,null,null,null,null,null,null,null,"",false,2,{"$f":"VLOOKUP(H3661,Database!$B$1:$D$5000,3,0)","v":{"$error":"#N/A"}},true]
["",null,null,null,null,null,null,null,{"$f":"IF(ISERROR(VLOOKUP(H3663,Database!$B$1:$C$5000,2,FALSE)),\"\",VLOOKUP(H3663,Database!$B$1:$C$5000,2,FALSE))","v":""},"",{"$error":"#N/A"},null,null,null,null,null,null,null,null,"",false,2,{"$f":"VLOOKUP(H3663,Database!$B$1:$D$5000,3,0)","v":{"$error":"#N/A"}},true]
["",null,null,null,null,null,null,null,{"$f":"IF(ISERROR(VLOOKUP(H3666,Database!$B$1:$C$5000,2,FALSE)),\"\",VLOOKUP(H3666,Database!$B$1:$C$5000,2,FALSE))","v":""},"",{"$error":"#N/A"},null,null,null,null,null,null,null,null,"",false,2,{"$f":"VLOOKUP(H3666,Database!$B$1:$D$5000,3,0)","v":{"$error":"#N/A"}},true]
["",null,null,null,null,null,null,null,{"$f":"IF(ISERROR(VLOOKUP(H3671,Database!$B$1:$C$5000,2,FALSE)),\"\",VLOOKUP(H3671,Database!$B$1:$C$5000,2,FALSE))","v":""},"",{"$error":"#N/A"},null,null,null,null,null,null,null,null,"",false,2,{"$f":"VLOOKUP(H3671,Database!$B$1:$D$5000,3,0)","v":{"$error":"#N/A"}},true]
["",null,null,null,null,null,null,null,{"$f":"IF(ISERROR(VLOOKUP(H3677,Database!$B$1:$C$5000,2,FALSE)),\"\",VLOOKUP(H3677,Database!$B$1:$C$5000,2,FALSE))","v":""},"",{"$error":"#N/A"},null,null,null,null,null,null,null,null,"",false,2,{"$f":"VLOOKUP(H3677,Database!$B$1:$D$5000,3,0)","v":{"$error":"#N/A"}},true]
["",null,null,null,null,null,null,null,{"$f":"IF(ISERROR(VLOOKUP(H3682,Database!$B$1:$C$5000,2,FALSE)),\"\",VLOOKUP(H3682,Database!$B$1:$C$5000,2,FALSE))","v":""},"",{"$error":"#N/A"},null,null,null,null,null,null,null,null,"",false,2,{"$f":"VLOOKUP(H3682,Database!$B$1:$D$5000,3,0)","v":{"$error":"#N/A"}},true]
["",null,null,null,null,null,null,null,{"$f":"IF(ISERROR(VLOOKUP(H3686,Database!$B$1:$C$5000,2,FALSE)),\"\",VLOOKUP(H3686,Database!$B$1:$C$5000,2,FALSE))","v":""},"",{"$error":"#N/A"},null,null,null,null,null,null,null,null,"",false,2,{"$f":"VLOOKUP(H3686,Database!$B$1:$D$5000,3,0)","v":{"$error":"#N/A"}},true]
["",null,null,null,null,null,null,null,{"$f":"IF(ISERROR(VLOOKUP(H3692,Database!$B$1:$C$5000,2,FALSE)),\"\",VLOOKUP(H3692,Database!$B$1:$C$5000,2,FALSE))","v":""},"",{"$error":"#N/A"},null,null,null,null,null,null,null,null,"",false,2,{"$f":"VLOOKUP(H3692,Database!$B$1:$D$5000,3,0)","v":{"$error":"#N/A"}},true]
["",null,null,null,null,null,null,null,{"$f":"IF(ISERROR(VLOOKUP(H3697,Database!$B$1:$C$5000,2,FALSE)),\"\",VLOOKUP(H3697,Database!$B$1:$C$5000,2,FALSE))","v":""},"",{"$error":"#N/A"},null,null,null,null,null,null,null,null,"",false,2,{"$f":"VLOOKUP(H3697,Database!$B$1:$D$5000,3,0)","v":{"$error":"#N/A"}},true]
["",null,null,null,null,null,null,null,{"$f":"IF(ISERROR(VLOOKUP(H3701,Database!$B$1:$C$5000,2,FALSE)),\"\",VLOOKUP(H3701,Database!$B$1:$C$5000,2,FALSE))","v":""},"",{"$error":"#N/A"},null,null,null,null,null,null,null,null,"",false,2,{"$f":"VLOOKUP(H3701,Database!$B$1:$D$5000,3,0)","v":{"$error":"#N/A"}},true]
["",null,null,null,null,null,null,null,{"$f":"IF(ISERROR(VLOOKUP(H3707,Database!$B$1:$C$5000,2,FALSE)),\"\",VLOOKUP(H3707,Database!$B$1:$C$5000,2,FALSE))","v":""},"",{"$error":"#N/A"},null,null,null,null,null,null,null,null,"",false,2,{"$f":"VLOOKUP(H3707,Database!$B$1:$D$5000,3,0)","v":{"$error":"#N/A"}},true]
["",null,null,null,null,null,null,null,{"$f":"IF(ISERROR(VLOOKUP(H3712,Database!$B$1:$C$5000,2,FALSE)),\"\",VLOOKUP(H3712,Database!$B$1:$C$5000,2,FALSE))","v":""},"",{"$error":"#N/A"},null,null,null,null,null,null,null,null,"",false,2,{"$f":"VLOOKUP(H3712,Database!$B$1:$D$5000,3,0)","v":{"$error":"#N/A"}},true]
["",null,null,null,null,null,null,null,{"$f":"IF(ISERROR(VLOOKUP(H3718,Database!$B$1:$C$5000,2,FALSE)),\"\",VLOOKUP(H3718,Database!$B$1:$C$5000,2,FALSE))","v":""},"",{"$error":"#N/A"},null,null,null,null,null,null,null,null,"",false,2,{"$f":"VLOOKUP(H3718,Database!$B$1:$D$5000,3,0)","v":{"$error":"#N/A"}},true]
["",null,null,null,null,null,null,null,{"$f":"IF(ISERROR(VLOOKUP(H3720,Database!$B$1:$C$5000,2,FALSE)),\"\",VLOOKUP(H3720,Database!$B$1:$C$5000,2,FALSE))","v":""},"",{"$error":"#N/A"},null,null,null,null,null,null,null,null,"",false,2,{"$f":"VLOOKUP(H3720,Database!$B$1:$D$5000,3,0)","v":{"$error":"#N/A"}},true]
["",null,null,null,null,null,null,null,{"$f":"IF(ISERROR(VLOOKUP(H3727,Database!$B$1:$C$5000,2,FALSE)),\"\",VLOOKUP(H3727,Database!$B$1:$C$5000,2,FALSE))","v":""},"",{"$error":"#N/A"},null,null,null,null,null,null,null,null,"",false,2,{"$f":"VLOOKUP(H3727,Database!$B$1:$D$5000,3,0)","v":{"$error":"#N/A"}},true]
["",null,null,null,null,null,null,null,{"$f":"IF(ISERROR(VLOOKUP(H3728,Database!$B$1:$C$5000,2,FALSE)),\"\",VLOOKUP(H3728,Database!$B$1:$C$5000,2,FALSE))","v":""},"",{"$error":"#N/A"},null,null,null,null,null,null,null,null,"",false,2,{"$f":"VLOOKUP(H3728,Database!$B$1:$D$5000,3,0)","v":{"$error":"#N/A"}},true]
["",null,null,null,null,null,null,null,{"$f":"IF(ISERROR(VLOOKUP(H3733,Database!$B$1:$C$5000,2,FALSE)),\"\",VLOOKUP(H3733,Database!$B$1:$C$5000,2,FALSE))","v":""},"",{"$error":"#N/A"},null,null,null,null,null,null,null,null,"",false,2,{"$f":"VLOOKUP(H3733,Database!$B$1:$D$5000,3,0)","v":{"$error":"#N/A"}},true]
["",null,null,null,null,null,null,null,{"$f":"IF(ISERROR(VLOOKUP(H3739,Database!$B$1:$C$5000,2,FALSE)),\"\",VLOOKUP(H3739,Database!$B$1:$C$5000,2,FALSE))","v":""},"",{"$error":"#N/A"},null,null,null,null,null,null,null,null,"",false,2,{"$f":"VLOOKUP(H3739,Database!$B$1:$D$5000,3,0)","v":{"$error":"#N/A"}},true]
["",null,null,null,null,null,null,null,{"$f":"IF(ISERROR(VLOOKUP(H3743,Database!$B$1:$C$5000,2,FALSE)),\"\",VLOOKUP(H3743,Database!$B$1:$C$5000,2,FALSE))","v":""},"",{"$error":"#N/A"},null,null,null,null,null,null,null,null,"",false,2,{"$f":"VLOOKUP(H3743,Database!$B$1:$D$5000,3,0)","v":{"$error":"#N/A"}},true]
["",null,null,null,null,null,null,null,{"$f":"IF(ISERROR(VLOOKUP(H3748,Database!$B$1:$C$5000,2,FALSE)),\"\",VLOOKUP(H3748,Database!$B$1:$C$5000,2,FALSE))","v":""},"",{"$error":"#N/A"},null,null,null,null,null,null,null,null,"",false,2,{"$f":"VLOOKUP(H3748,Database!$B$1:$D$5000,3,0)","v":{"$error":"#N/A"}},true]
["",null,null,null,null,null,null,null,{"$f":"IF(ISERROR(VLOOKUP(H3754,Database!$B$1:$C$5000,2,FALSE)),\"\",VLOOKUP(H3754,Database!$B$1:$C$5000,2,FALSE))","v":""},"",{"$error":"#N/A"},null,null,null,null,null,null,null,null,"",false,2,{"$f":"VLOOKUP(H3754,Database!$B$1:$D$5000,3,0)","v":{"$error":"#N/A"}},true]
["",null,null,null,null,null,null,null,{"$f":"IF(ISERROR(VLOOKUP(H3758,Database!$B$1:$C$5000,2,FALSE)),\"\",VLOOKUP(H3758,Database!$B$1:$C$5000,2,FALSE))","v":""},"",{"$error":"#N/A"},null,null,null,null,null,null,null,null,"",false,2,{"$f":"VLOOKUP(H3758,Database!$B$1:$D$5000,3,0)","v":{"$error":"#N/A"}},true]
["",null,null,null,null,null,null,null,{"$f":"IF(ISERROR(VLOOKUP(H3763,Database!$B$1:$C$5000,2,FALSE)),\"\",VLOOKUP(H3763,Database!$B$1:$C$5000,2,FALSE))","v":""},"",{"$error":"#N/A"},null,null,null,null,null,null,null,null,"",false,2,{"$f":"VLOOKUP(H3763,Database!$B$1:$D$5000,3,0)","v":{"$error":"#N/A"}},true]
["",null,null,null,null,null,null,null,{"$f":"IF(ISERROR(VLOOKUP(H3769,Database!$B$1:$C$5000,2,FALSE)),\"\",VLOOKUP(H3769,Database!$B$1:$C$5000,2,FALSE))","v":""},"",{"$error":"#N/A"},null,null,null,null,null,null,null,null,"",false,2,{"$f":"VLOOKUP(H3769,Database!$B$1:$D$5000,3,0)","v":{"$error":"#N/A"}},true]
["",null,null,null,null,null,null,null,{"$f":"IF(ISERROR(VLOOKUP(H3774,Database!$B$1:$C$5000,2,FALSE)),\"\",VLOOKUP(H3774,Database!$B$1:$C$5000,2,FALSE))","v":""},"",{"$error":"#N/A"},null,null,null,null,null,null,null,null,"",false,2,{"$f":"VLOOKUP(H3774,Database!$B$1:$D$5000,3,0)","v":{"$error":"#N/A"}},true]
["",null,null,null,null,null,null,null,{"$f":"IF(ISERROR(VLOOKUP(H3777,Database!$B$1:$C$5000,2,FALSE)),\"\",VLOOKUP(H3777,Database!$B$1:$C$5000,2,FALSE))","v":""},"",{"$error":"#N/A"},null,null,null,null,null,null,null,null,"",false,2,{"$f":"VLOOKUP(H3777,Database!$B$1:$D$5000,3,0)","v":{"$error":"#N/A"}},true]
["",null,null,null,null,null,null,null,{"$f":"IF(ISERROR(VLOOKUP(H3784,Database!$B$1:$C$5000,2,FALSE)),\"\",VLOOKUP(H3784,Database!$B$1:$C$5000,2,FALSE))","v":""},"",{"$error":"#N/A"},null,null,null,null,null,null,null,null,"",false,2,{"$f":"VLOOKUP(H3784,Database!$B$1:$D$5000,3,0)","v":{"$error":"#N/A"}},true]
["",null,null,null,null,null,null,null,{"$f":"IF(ISERROR(VLOOKUP(H3789,Database!$B$1:$C$5000,2,FALSE)),\"\",VLOOKUP(H3789,Database!$B$1:$C$5000,2,FALSE))","v":""},"",{"$error":"#N/A"},null,null,null,null,null,null,null,null,"",false,2,{"$f":"VLOOKUP(H3789,Database!$B$1:$D$5000,3,0)","v":{"$error":"#N/A"}},true]
["",null,null,null,null,null,null,null,{"$f":"IF(ISERROR(VLOOKUP(H3790,Database!$B$1:$C$5000,2,FALSE)),\"\",VLOOKUP(H3790,Database!$B$1:$C$5000,2,FALSE))","v":""},"",{"$error":"#N/A"},null,null,null,null,null,null,null,null,"",false,2,{"$f":"VLOOKUP(H3790,Database!$B$1:$D$5000,3,0)","v":{"$error":"#N/A"}},true]
["",null,null,null,null,null,null,null,{"$f":"IF(ISERROR(VLOOKUP(H3796,Database!$B$1:$C$5000,2,FALSE)),\"\",VLOOKUP(H3796,Database!$B$1:$C$5000,2,FALSE))","v":""},"",{"$error":"#N/A"},null,null,null,null,null,null,null,null,"",false,2,{"$f":"VLOOKUP(H3796,Database!$B$1:$D$5000,3,0)","v":{"$error":"#N/A"}},true]
["",null,null,null,null,null,null,null,{"$f":"IF(ISERROR(VLOOKUP(H3799,Database!$B$1:$C$5000,2,FALSE)),\"\",VLOOKUP(H3799,Database!$B$1:$C$5000,2,FALSE))","v":""},"",{"$error":"#N/A"},null,null,null,null,null,null,null,null,"",false,2,{"$f":"VLOOKUP(H3799,Database!$B$1:$D$5000,3,0)","v":{"$error":"#N/A"}},true]
["",null,null,null,null,null,null,null,{"$f":"IF(ISERROR(VLOOKUP(H3805,Database!$B$1:$C$5000,2,FALSE)),\"\",VLOOKUP(H3805,Database!$B$1:$C$5000,2,FALSE))","v":""},"",{"$error":"#N/A"},null,null,null,null,null,null,null,null,"",false,2,{"$f":"VLOOKUP(H3805,Database!$B$1:$D$5000,3,0)","v":{"$error":"#N/A"}},true]
["",null,null,null,null,null,null,null,{"$f":"IF(ISERROR(VLOOKUP(H3810,Database!$B$1:$C$5000,2,FALSE)),\"\",VLOOKUP(H3810,Database!$B$1:$C$5000,2,FALSE))","v":""},"",{"$error":"#N/A"},null,null,null,null,null,null,null,null,"",false,2,{"$f":"VLOOKUP(H3810,Database!$B$1:$D$5000,3,0)","v":{"$error":"#N/A"}},true]
["",null,null,null,null,null,null,null,{"$f":"IF(ISERROR(VLOOKUP(H3815,Database!$B$1:$C$5000,2,FALSE)),\"\",VLOOKUP(H3815,Database!$B$1:$C$5000,2,FALSE))","v":""},"",{"$error":"#N/A"},null,null,null,null,null,null,null,null,"",false,2,{"$f":"VLOOKUP(H3815,Database!$B$1:$D$5000,3,0)","v":{"$error":"#N/A"}},true]
["",null,null,null,null,null,null,null,{"$f":"IF(ISERROR(VLOOKUP(H3820,Database!$B$1:$C$5000,2,FALSE)),\"\",VLOOKUP(H3820,Database!$B$1:$C$5000,2,FALSE))","v":""},"",{"$error":"#N/A"},null,null,null,null,null,null,null,null,"",false,2,{"$f":"VLOOKUP(H3820,Database!$B$1:$D$5000,3,0)","v":{"$error":"#N/A"}},true]
["",null,null,null,null,null,null,null,{"$f":"IF(ISERROR(VLOOKUP(H3825,Database!$B$1:$C$5000,2,FALSE)),\"\",VLOOKUP(H3825,Database!$B$1:$C$5000,2,FALSE))","v":""},"",{"$error":"#N/A"},null,null,null,null,null,null,null,null,"",false,2,{"$f":"VLOOKUP(H3825,Database!$B$1:$D$5000,3,0)","v":{"$error":"#N/A"}},true]
["",null,null,null,null,null,null,null,{"$f":"IF(ISERROR(VLOOKUP(H3831,Database!$B$1:$C$5000,2,FALSE)),\"\",VLOOKUP(H3831,Database!$B$1:$C$5000,2,FALSE))","v":""},"",{"$error":"#N/A"},null,null,null,null,null,null,null,null,"",false,2,{"$f":"VLOOKUP(H3831,Database!$B$1:$D$5000,3,0)","v":{"$error":"#N/A"}},true]
["",null,null,null,null,null,null,null,{"$f":"IF(ISERROR(VLOOKUP(H3834,Database!$B$1:$C$5000,2,FALSE)),\"\",VLOOKUP(H3834,Database!$B$1:$C$5000,2,FALSE))","v":""},"",{"$error":"#N/A"},null,null,null,null,null,null,null,null,"",false,2,{"$f":"VLOOKUP(H3834,Database!$B$1:$D$5000,3,0)","v":{"$error":"#N/A"}},true]
["",null,null,null,null,null,null,null,{"$f":"IF(ISERROR(VLOOKUP(H3841,Database!$B$1:$C$5000,2,FALSE)),\"\",VLOOKUP(H3841,Database!$B$1:$C$5000,2,FALSE))","v":""},"",{"$error":"#N/A"},null,null,null,null,null,null,null,null,"",false,2,{"$f":"VLOOKUP(H3841,Database!$B$1:$D$5000,3,0)","v":{"$error":"#N/A"}},true]
["",null,null,null,null,null,null,null,{"$f":"IF(ISERROR(VLOOKUP(H3846,Database!$B$1:$C$5000,2,FALSE)),\"\",VLOOKUP(H3846,Database!$B$1:$C$5000,2,FALSE))","v":""},"",{"$error":"#N/A"},null,null,null,null,null,null,null,null,"",false,2,{"$f":"VLOOKUP(H3846,Database!$B$1:$D$5000,3,0)","v":{"$error":"#N/A"}},true]
["",null,null,null,null,null,null,null,{"$f":"IF(ISERROR(VLOOKUP(H3851,Database!$B$1:$C$5000,2,FALSE)),\"\",VLOOKUP(H3851,Database!$B$1:$C$5000,2,FALSE))","v":""},"",{"$error":"#N/A"},null,null,null,null,null,null,null,null,"",false,2,{"$f":"VLOOKUP(H3851,Database!$B$1:$D$5000,3,0)","v":{"$error":"#N/A"}},true]
["",null,null,null,null,null,null,null,{"$f":"IF(ISERROR(VLOOKUP(H3853,Database!$B$1:$C$5000,2,FALSE)),\"\",VLOOKUP(H3853,Database!$B$1:$C$5000,2,FALSE))","v":""},"",{"$error":"#N/A"},null,null,null,null,null,null,null,null,"",false,2,{"$f":"VLOOKUP(H3853,Database!$B$1:$D$5000,3,0)","v":{"$error":"#N/A"}},true]
["",null,null,null,null,null,null,null,{"$f":"IF(ISERROR(VLOOKUP(H3856,Database!$B$1:$C$5000,2,FALSE)),\"\",VLOOKUP(H3856,Database!$B$1:$C$5000,2,FALSE))","v":""},"",{"$error":"#N/A"},null,null,null,null,null,null,null,null,"",false,2,{"$f":"VLOOKUP(H3856,Database!$B$1:$D$5000,3,0)","v":{"$error":"#N/A"}},true]
["",null,null,null,null,null,null,null,{"$f":"IF(ISERROR(VLOOKUP(H3861,Database!$B$1:$C$5000,2,FALSE)),\"\",VLOOKUP(H3861,Database!$B$1:$C$5000,2,FALSE))","v":""},"",{"$error":"#N/A"},null,null,null,null,null,null,null,null,"",false,2,{"$f":"VLOOKUP(H3861,Database!$B$1:$D$5000,3,0)","v":{"$error":"#N/A"}},true]
["",null,null,null,null,null,null,null,{"$f":"IF(ISERROR(VLOOKUP(H3867,Database!$B$1:$C$5000,2,FALSE)),\"\",VLOOKUP(H3867,Database!$B$1:$C$5000,2,FALSE))","v":""},"",{"$error":"#N/A"},null,null,null,null,null,null,null,null,"",false,2,{"$f":"VLOOKUP(H3867,Database!$B$1:$D$5000,3,0)","v":{"$error":"#N/A"}},true]
["",null,null,null,null,null,null,null,{"$f":"IF(ISERROR(VLOOKUP(H3872,Database!$B$1:$C$5000,2,FALSE)),\"\",VLOOKUP(H3872,Database!$B$1:$C$5000,2,FALSE))","v":""},"",{"$error":"#N/A"},null,null,null,null,null,null,null,null,"",false,2,{"$f":"VLOOKUP(H3872,Database!$B$1:$D$5000,3,0)","v":{"$error":"#N/A"}},true]
["",null,null,null,null,null,null,null,{"$f":"IF(ISERROR(VLOOKUP(H3877,Database!$B$1:$C$5000,2,FALSE)),\"\",VLOOKUP(H3877,Database!$B$1:$C$5000,2,FALSE))","v":""},"",{"$error":"#N/A"},null,null,null,null,null,null,null,null,"",false,2,{"$f":"VLOOKUP(H3877,Database!$B$1:$D$5000,3,0)","v":{"$error":"#N/A"}},true]
["",null,null,null,null,null,null,null,{"$f":"IF(ISERROR(VLOOKUP(H3882,Database!$B$1:$C$5000,2,FALSE)),\"\",VLOOKUP(H3882,Database!$B$1:$C$5000,2,FALSE))","v":""},"",{"$error":"#N/A"},null,null,null,null,null,null,null,null,"",false,2,{"$f":"VLOOKUP(H3882,Database!$B$1:$D$5000,3,0)","v":{"$error":"#N/A"}},true]
["",null,null,null,null,null,null,null,{"$f":"IF(ISERROR(VLOOKUP(H3887,Database!$B$1:$C$5000,2,FALSE)),\"\",VLOOKUP(H3887,Database!$B$1:$C$5000,2,FALSE))","v":""},"",{"$error":"#N/A"},null,null,null,null,null,null,null,null,"",false,2,{"$f":"VLOOKUP(H3887,Database!$B$1:$D$5000,3,0)","v":{"$error":"#N/A"}},true]
["",null,null,null,null,null,null,null,{"$f":"IF(ISERROR(VLOOKUP(H3891,Database!$B$1:$C$5000,2,FALSE)),\"\",VLOOKUP(H3891,Database!$B$1:$C$5000,2,FALSE))","v":""},"",{"$error":"#N/A"},null,null,null,null,null,null,null,null,"",false,2,{"$f":"VLOOKUP(H3891,Database!$B$1:$D$5000,3,0)","v":{"$error":"#N/A"}},true]
["",null,null,null,null,null,null,null,{"$f":"IF(ISERROR(VLOOKUP(H3897,Database!$B$1:$C$5000,2,FALSE)),\"\",VLOOKUP(H3897,Database!$B$1:$C$5000,2,FALSE))","v":""},"",{"$error":"#N/A"},null,null,null,null,null,null,null,null,"",false,2,{"$f":"VLOOKUP(H3897,Database!$B$1:$D$5000,3,0)","v":{"$error":"#N/A"}},true]
["",null,null,null,null,null,null,null,{"$f":"IF(ISERROR(VLOOKUP(H3902,Database!$B$1:$C$5000,2,FALSE)),\"\",VLOOKUP(H3902,Database!$B$1:$C$5000,2,FALSE))","v":""},"",{"$error":"#N/A"},null,null,null,null,null,null,null,null,"",false,2,{"$f":"VLOOKUP(H3902,Database!$B$1:$D$5000,3,0)","v":{"$error":"#N/A"}},true]
["",null,null,null,null,null,null,null,{"$f":"IF(ISERROR(VLOOKUP(H3908,Database!$B$1:$C$5000,2,FALSE)),\"\",VLOOKUP(H3908,Database!$B$1:$C$5000,2,FALSE))","v":""},"",{"$error":"#N/A"},null,null,null,null,null,null,null,null,"",false,2,{"$f":"VLOOKUP(H3908,Database!$B$1:$D$5000,3,0)","v":{"$error":"#N/A"}},true]
["",null,null,null,null,null,null,null,{"$f":"IF(ISERROR(VLOOKUP(H3910,Database!$B$1:$C$5000,2,FALSE)),\"\",VLOOKUP(H3910,Database!$B$1:$C$5000,2,FALSE))","v":""},"",{"$error":"#N/A"},null,null,null,null,null,null,null,null,"",false,2,{"$f":"VLOOKUP(H3910,Database!$B$1:$D$5000,3,0)","v":{"$error":"#N/A"}},true]
["",null,null,null,null,null,null,null,{"$f":"IF(ISERROR(VLOOKUP(H3913,Database!$B$1:$C$5000,2,FALSE)),\"\",VLOOKUP(H3913,Database!$B$1:$C$5000,2,FALSE))","v":""},"",{"$error":"#N/A"},null,null,null,null,null,null,null,null,"",false,2,{"$f":"VLOOKUP(H3913,Database!$B$1:$D$5000,3,0)","v":{"$error":"#N/A"}},true]
["",null,null,null,null,null,null,null,{"$f":"IF(ISERROR(VLOOKUP(H3918,Database!$B$1:$C$5000,2,FALSE)),\"\",VLOOKUP(H3918,Database!$B$1:$C$5000,2,FALSE))","v":""},"",{"$error":"#N/A"},null,null,null,null,null,null,null,null,"",false,2,{"$f":"VLOOKUP(H3918,Database!$B$1:$D$5000,3,0)","v":{"$error":"#N/A"}},true]
["",null,null,null,null,null,null,null,{"$f":"IF(ISERROR(VLOOKUP(H3923,Database!$B$1:$C$5000,2,FALSE)),\"\",VLOOKUP(H3923,Database!$B$1:$C$5000,2,FALSE))","v":""},"",{"$error":"#N/A"},null,null,null,null,null,null,null,null,"",false,2,{"$f":"VLOOKUP(H3923,Database!$B$1:$D$5000,3,0)","v":{"$error":"#N/A"}},true]
["",null,null,null,null,null,null,null,{"$f":"IF(ISERROR(VLOOKUP(H3929,Database!$B$1:$C$5000,2,FALSE)),\"\",VLOOKUP(H3929,Database!$B$1:$C$5000,2,FALSE))","v":""},"",{"$error":"#N/A"},null,null,null,null,null,null,null,null,"",false,2,{"$f":"VLOOKUP(H3929,Database!$B$1:$D$5000,3,0)","v":{"$error":"#N/A"}},true]
["",null,null,null,null,null,null,null,{"$f":"IF(ISERROR(VLOOKUP(H3933,Database!$B$1:$C$5000,2,FALSE)),\"\",VLOOKUP(H3933,Database!$B$1:$C$5000,2,FALSE))","v":""},"",{"$error":"#N/A"},null,null,null,null,null,null,null,null,"",false,2,{"$f":"VLOOKUP(H3933,Database!$B$1:$D$5000,3,0)","v":{"$error":"#N/A"}},true]
["",null,null,null,null,null,null,null,{"$f":"IF(ISERROR(VLOOKUP(H3939,Database!$B$1:$C$5000,2,FALSE)),\"\",VLOOKUP(H3939,Database!$B$1:$C$5000,2,FALSE))","v":""},"",{"$error":"#N/A"},null,null,null,null,null,null,null,null,"",false,2,{"$f":"VLOOKUP(H3939,Database!$B$1:$D$5000,3,0)","v":{"$error":"#N/A"}},true]
["",null,null,null,null,null,null,null,{"$f":"IF(ISERROR(VLOOKUP(H3944,Database!$B$1:$C$5000,2,FALSE)),\"\",VLOOKUP(H3944,Database!$B$1:$C$5000,2,FALSE))","v":""},"",{"$error":"#N/A"},null,null,null,null,null,null,null,null,"",false,2,{"$f":"VLOOKUP(H3944,Database!$B$1:$D$5000,3,0)","v":{"$error":"#N/A"}},true]
["",null,null,null,null,null,null,null,{"$f":"IF(ISERROR(VLOOKUP(H3948,Database!$B$1:$C$5000,2,FALSE)),\"\",VLOOKUP(H3948,Database!$B$1:$C$5000,2,FALSE))","v":""},"",{"$error":"#N/A"},null,null,null,null,null,null,null,null,"",false,2,{"$f":"VLOOKUP(H3948,Database!$B$1:$D$5000,3,0)","v":{"$error":"#N/A"}},true]
["",null,null,null,null,null,null,null,{"$f":"IF(ISERROR(VLOOKUP(H3954,Database!$B$1:$C$5000,2,FALSE)),\"\",VLOOKUP(H3954,Database!$B$1:$C$5000,2,FALSE))","v":""},"",{"$error":"#N/A"},null,null,null,null,null,null,null,null,"",false,2,{"$f":"VLOOKUP(H3954,Database!$B$1:$D$5000,3,0)","v":{"$error":"#N/A"}},true]
["",null,null,null,null,null,null,null,{"$f":"IF(ISERROR(VLOOKUP(H3959,Database!$B$1:$C$5000,2,FALSE)),\"\",VLOOKUP(H3959,Database!$B$1:$C$5000,2,FALSE))","v":""},"",{"$error":"#N/A"},null,null,null,null,null,null,null,null,"",false,2,{"$f":"VLOOKUP(H3959,Database!$B$1:$D$5000,3,0)","v":{"$error":"#N/A"}},true]
["",null,null,null,null,null,null,null,{"$f":"IF(ISERROR(VLOOKUP(H3964,Database!$B$1:$C$5000,2,FALSE)),\"\",VLOOKUP(H3964,Database!$B$1:$C$5000,2,FALSE))","v":""},"",{"$error":"#N/A"},null,null,null,null,null,null,null,null,"",false,2,{"$f":"VLOOKUP(H3964,Database!$B$1:$D$5000,3,0)","v":{"$error":"#N/A"}},true]
["",null,null,null,null,null,null,null,{"$f":"IF(ISERROR(VLOOKUP(H3970,Database!$B$1:$C$5000,2,FALSE)),\"\",VLOOKUP(H3970,Database!$B$1:$C$5000,2,FALSE))","v":""},"",{"$error":"#N/A"},null,null,null,null,null,null,null,null,"",false,2,{"$f":"VLOOKUP(H3970,Database!$B$1:$D$5000,3,0)","v":{"$error":"#N/A"}},true]
["",null,null,null,null,null,null,null,{"$f":"IF(ISERROR(VLOOKUP(H3973,Database!$B$1:$C$5000,2,FALSE)),\"\",VLOOKUP(H3973,Database!$B$1:$C$5000,2,FALSE))","v":""},"",{"$error":"#N/A"},null,null,null,null,null,null,null,null,"",false,2,{"$f":"VLOOKUP(H3973,Database!$B$1:$D$5000,3,0)","v":{"$error":"#N/A"}},true]
[{"$f":"IF(B3975=\"\",\"\",ROW(A3970))","v":""},null,null,null,null,null,null,null,{"$f":"IF(ISERROR(VLOOKUP(H3975,Database!$B$1:$C$5000,2,FALSE)),\"\",VLOOKUP(H3975,Database!$B$1:$C$5000,2,FALSE))","v":""},{"$f":"IF(V3975=1,1,IF(AND(T3975=0,F3975=\"SSB\",V3975<>\"\"),3,IF(AND(T3975=0,F3975=\"DIGI\",V3975<>\"\"),2,IF(AND(T3975=0,F3975=\"CW\",V3975<>\"\"),5,IF(H3975=\"-\",\"\",T3975)))))","v":""},{"$f":"IF(H3975=\"-\",\"\",IF(AND(H3975<>\"\",X3975=TRUE),\"INDIPENDENT\",IF(W3975=0,\"SCRIVI NOME NELLE NOTE\",W3975)))","v":{"$error":"#N/A"}},null,null,null,null,null,null,null,null,{"$f":"IF(H3975=\"\",\"\",IF(H3975=$R$6,25,IF(OR(H3975=$R$7,H3975=$R$8,H3975=$R$9,H3975=$R$10,H3975=$R$11,H3975=$R$12,H3975=$R$13,H3975=$R$14,H3975=$R$15,H3975=$R$16,H3975=$R$17,H3975=$R$18,H3975=$R$19,H3975=$R$20,H3975=$R$21,H3975=$R$22,H3975=$R$23),15,0)))","v":""},{"$f":"ISERROR(I3975)","v":false},{"$f":"IF(H3975=\"-\",\"\",IF(AND(T3975=0,U3975=FALSE,I3975=\"\"),1,2))","v":2},{"$f":"VLOOKUP(H3975,Database!$B$1:$D$5000,3,0)","v":{"$error":"#N/A"}},{"$f":"ISERROR(W3975)","v":true}]
["",null,null,null,null,null,null,null,{"$f":"IF(ISERROR(VLOOKUP(H3980,Database!$B$1:$C$5000,2,FALSE)),\"\",VLOOKUP(H3980,Database!$B$1:$C$5000,2,FALSE))","v":""},"",{"$error":"#N/A"},null,null,null,null,null,null,null,null,"",false,2,{"$f":"VLOOKUP(H3980,Database!$B$1:$D$5000,3,0)","v":{"$error":"#N/A"}},true]
["",null,null,null,null,null,null,null,{"$f":"IF(ISERROR(VLOOKUP(H3985,Database!$B$1:$C$5000,2,FALSE)),\"\",VLOOKUP(H3985,Database!$B$1:$C$5000,2,FALSE))","v":""},"",{"$error":"#N/A"},null,null,null,null,null,null,null,null,"",false,2,{"$f":"VLOOKUP(H3985,Database!$B$1:$D$5000,3,0)","v":{"$error":"#N/A"}},true]
["",null,null,null,null,null,null,null,{"$f":"IF(ISERROR(VLOOKUP(H3992,Database!$B$1:$C$5000,2,FALSE)),\"\",VLOOKUP(H3992,Database!$B$1:$C$5000,2,FALSE))","v":""},"",{"$error":"#N/A"},null,null,null,null,null,null,null,null,"",false,2,{"$f":"VLOOKUP(H3992,Database!$B$1:$D$5000,3,0)","v":{"$error":"#N/A"}},true]
["",null,null,null,null,null,null,null,{"$f":"IF(ISERROR(VLOOKUP(H3995,Database!$B$1:$C$5000,2,FALSE)),\"\",VLOOKUP(H3995,Database!$B$1:$C$5000,2,FALSE))","v":""},"",{"$error":"#N/A"},null,null,null,null,null,null,null,null,"",false,2,{"$f":"VLOOKUP(H3995,Database!$B$1:$D$5000,3,0)","v":{"$error":"#N/A"}},true]
["",null,null,null,null,null,null,null,{"$f":"IF(ISERROR(VLOOKUP(H4001,Database!$B$1:$C$5000,2,FALSE)),\"\",VLOOKUP(H4001,Database!$B$1:$C$5000,2,FALSE))","v":""},"",{"$error":"#N/A"},null,null,null,null,null,null,null,null,"",false,2,{"$f":"VLOOKUP(H4001,Database!$B$1:$D$5000,3,0)","v":{"$error":"#N/A"}},true]
["",null,null,null,null,null,null,null,{"$f":"IF(ISERROR(VLOOKUP(H4006,Database!$B$1:$C$5000,2,FALSE)),\"\",VLOOKUP(H4006,Database!$B$1:$C$5000,2,FALSE))","v":""},"",{"$error":"#N/A"},null,null,null,null,null,null,null,null,"",false,2,{"$f":"VLOOKUP(H4006,Database!$B$1:$D$5000,3,0)","v":{"$error":"#N/A"}},true]
["",null,null,null,null,null,null,null,{"$f":"IF(ISERROR(VLOOKUP(H4011,Database!$B$1:$C$5000,2,FALSE)),\"\",VLOOKUP(H4011,Database!$B$1:$C$5000,2,FALSE))","v":""},"",{"$error":"#N/A"},null,null,null,null,null,null,null,null,"",false,2,{"$f":"VLOOKUP(H4011,Database!$B$1:$D$5000,3,0)","v":{"$error":"#N/A"}},true]
["",null,null,null,null,null,null,null,{"$f":"IF(ISERROR(VLOOKUP(H4016,Database!$B$1:$C$5000,2,FALSE)),\"\",VLOOKUP(H4016,Database!$B$1:$C$5000,2,FALSE))","v":""},"",{"$error":"#N/A"},null,null,null,null,null,null,null,null,"",false,2,{"$f":"VLOOKUP(H4016,Database!$B$1:$D$5000,3,0)","v":{"$error":"#N/A"}},true]
["",null,null,null,null,null,null,null,{"$f":"IF(ISERROR(VLOOKUP(H4021,Database!$B$1:$C$5000,2,FALSE)),\"\",VLOOKUP(H4021,Database!$B$1:$C$5000,2,FALSE))","v":""},"",{"$error":"#N/A"},null,null,null,null,null,null,null,null,"",false,2,{"$f":"VLOOKUP(H4021,Database!$B$1:$D$5000,3,0)","v":{"$error":"#N/A"}},true]
["",null,null,null,null,null,null,null,{"$f":"IF(ISERROR(VLOOKUP(H4026,Database!$B$1:$C$5000,2,FALSE)),\"\",VLOOKUP(H4026,Database!$B$1:$C$5000,2,FALSE))","v":""},"",{"$error":"#N/A"},null,null,null,null,null,null,null,null,"",false,2,{"$f":"VLOOKUP(H4026,Database!$B$1:$D$5000,3,0)","v":{"$error":"#N/A"}},true]
["",null,null,null,null,null,null,null,{"$f":"IF(ISERROR(VLOOKUP(H4030,Database!$B$1:$C$5000,2,FALSE)),\"\",VLOOKUP(H4030,Database!$B$1:$C$5000,2,FALSE))","v":""},"",{"$error":"#N/A"},null,null,null,null,null,null,null,null,"",false,2,{"$f":"VLOOKUP(H4030,Database!$B$1:$D$5000,3,0)","v":{"$error":"#N/A"}},true]
["",null,null,null,null,null,null,null,{"$f":"IF(ISERROR(VLOOKUP(H4036,Database!$B$1:$C$5000,2,FALSE)),\"\",VLOOKUP(H4036,Database!$B$1:$C$5000,2,FALSE))","v":""},"",{"$error":"#N/A"},null,null,null,null,null,null,null,null,"",false,2,{"$f":"VLOOKUP(H4036,Database!$B$1:$D$5000,3,0)","v":{"$error":"#N/A"}},true]
["",null,null,null,null,null,null,null,{"$f":"IF(ISERROR(VLOOKUP(H4037,Database!$B$1:$C$5000,2,FALSE)),\"\",VLOOKUP(H4037,Database!$B$1:$C$5000,2,FALSE))","v":""},"",{"$error":"#N/A"},null,null,null,null,null,null,null,null,"",false,2,{"$f":"VLOOKUP(H4037,Database!$B$1:$D$5000,3,0)","v":{"$error":"#N/A"}},true]
["",null,null,null,null,null,null,null,{"$f":"IF(ISERROR(VLOOKUP(H4042,Database!$B$1:$C$5000,2,FALSE)),\"\",VLOOKUP(H4042,Database!$B$1:$C$5000,2,FALSE))","v":""},"",{"$error":"#N/A"},null,null,null,null,null,null,null,null,"",false,2,{"$f":"VLOOKUP(H4042,Database!$B$1:$D$5000,3,0)","v":{"$error":"#N/A"}},true]
["",null,null,null,null,null,null,null,{"$f":"IF(ISERROR(VLOOKUP(H4049,Database!$B$1:$C$5000,2,FALSE)),\"\",VLOOKUP(H4049,Database!$B$1:$C$5000,2,FALSE))","v":""},"",{"$error":"#N/A"},null,null,null,null,null,null,null,null,"",false,2,{"$f":"VLOOKUP(H4049,Database!$B$1:$D$5000,3,0)","v":{"$error":"#N/A"}},true]
["",null,null,null,null,null,null,null,{"$f":"IF(ISERROR(VLOOKUP(H4052,Database!$B$1:$C$5000,2,FALSE)),\"\",VLOOKUP(H4052,Database!$B$1:$C$5000,2,FALSE))","v":""},"",{"$error":"#N/A"},null,null,null,null,null,null,null,null,"",false,2,{"$f":"VLOOKUP(H4052,Database!$B$1:$D$5000,3,0)","v":{"$error":"#N/A"}},true]
["",null,null,null,null,null,null,null,{"$f":"IF(ISERROR(VLOOKUP(H4057,Database!$B$1:$C$5000,2,FALSE)),\"\",VLOOKUP(H4057,Database!$B$1:$C$5000,2,FALSE))","v":""},"",{"$error":"#N/A"},null,null,null,null,null,null,null,null,"",false,2,{"$f":"VLOOKUP(H4057,Database!$B$1:$D$5000,3,0)","v":{"$error":"#N/A"}},true]
["",null,null,null,null,null,null,null,{"$f":"IF(ISERROR(VLOOKUP(H4062,Database!$B$1:$C$5000,2,FALSE)),\"\",VLOOKUP(H4062,Database!$B$1:$C$5000,2,FALSE))","v":""},"",{"$error":"#N/A"},null,null,null,null,null,null,null,null,"",false,2,{"$f":"VLOOKUP(H4062,Database!$B$1:$D$5000,3,0)","v":{"$error":"#N/A"}},true]
["",null,null,null,null,null,null,null,{"$f":"IF(ISERROR(VLOOKUP(H4068,Database!$B$1:$C$5000,2,FALSE)),\"\",VLOOKUP(H4068,Database!$B$1:$C$5000,2,FALSE))","v":""},"",{"$error":"#N/A"},null,null,null,null,null,null,null,null,"",false,2,{"$f":"VLOOKUP(H4068,Database!$B$1:$D$5000,3,0)","v":{"$error":"#N/A"}},true]
["",null,null,null,null,null,null,null,{"$f":"IF(ISERROR(VLOOKUP(H4072,Database!$B$1:$C$5000,2,FALSE)),\"\",VLOOKUP(H4072,Database!$B$1:$C$5000,2,FALSE))","v":""},"",{"$error":"#N/A"},null,null,null,null,null,null,null,null,"",false,2,{"$f":"VLOOKUP(H4072,Database!$B$1:$D$5000,3,0)","v":{"$error":"#N/A"}},true]
["",null,null,null,null,null,null,null,{"$f":"IF(ISERROR(VLOOKUP(H4078,Database!$B$1:$C$5000,2,FALSE)),\"\",VLOOKUP(H4078,Database!$B$1:$C$5000,2,FALSE))","v":""},"",{"$error":"#N/A"},null,null,null,null,null,null,null,null,"",false,2,{"$f":"VLOOKUP(H4078,Database!$B$1:$D$5000,3,0)","v":{"$error":"#N/A"}},true]
["",null,null,null,null,null,null,null,{"$f":"IF(ISERROR(VLOOKUP(H4083,Database!$B$1:$C$5000,2,FALSE)),\"\",VLOOKUP(H4083,Database!$B$1:$C$5000,2,FALSE))","v":""},"",{"$error":"#N/A"},null,null,null,null,null,null,null,null,"",false,2,{"$f":"VLOOKUP(H4083,Database!$B$1:$D$5000,3,0)","v":{"$error":"#N/A"}},true]
["",null,null,null,null,null,null,null,{"$f":"IF(ISERROR(VLOOKUP(H4087,Database!$B$1:$C$5000,2,FALSE)),\"\",VLOOKUP(H4087,Database!$B$1:$C$5000,2,FALSE))","v":""},"",{"$error":"#N/A"},null,null,null,null,null,null,null,null,"",false,2,{"$f":"VLOOKUP(H4087,Database!$B$1:$D$5000,3,0)","v":{"$error":"#N/A"}},true]
["",null,null,null,null,null,null,null,{"$f":"IF(ISERROR(VLOOKUP(H4093,Database!$B$1:$C$5000,2,FALSE)),\"\",VLOOKUP(H4093,Database!$B$1:$C$5000,2,FALSE))","v":""},"",{"$error":"#N/A"},null,null,null,null,null,null,null,null,"",false,2,{"$f":"VLOOKUP(H4093,Database!$B$1:$D$5000,3,0)","v":{"$error":"#N/A"}},true]
["",null,null,null,null,null,null,null,{"$f":"IF(ISERROR(VLOOKUP(H4098,Database!$B$1:$C$5000,2,FALSE)),\"\",VLOOKUP(H4098,Database!$B$1:$C$5000,2,FALSE))","v":""},"",{"$error":"#N/A"},null,null,null,null,null,null,null,null,"",false,2,{"$f":"VLOOKUP(H4098,Database!$B$1:$D$5000,3,0)","v":{"$error":"#N/A"}},true]
["",null,null,null,null,null,null,null,{"$f":"IF(ISERROR(VLOOKUP(H4099,Database!$B$1:$C$5000,2,FALSE)),\"\",VLOOKUP(H4099,Database!$B$1:$C$5000,2,FALSE))","v":""},"",{"$error":"#N/A"},null,null,null,null,null,null,null,null,"",false,2,{"$f":"VLOOKUP(H4099,Database!$B$1:$D$5000,3,0)","v":{"$error":"#N/A"}},true]
["",null,null,null,null,null,null,null,{"$f":"IF(ISERROR(VLOOKUP(H4106,Database!$B$1:$C$5000,2,FALSE)),\"\",VLOOKUP(H4106,Database!$B$1:$C$5000,2,FALSE))","v":""},"",{"$error":"#N/A"},null,null,null,null,null,null,null,null,"",false,2,{"$f":"VLOOKUP(H4106,Database!$B$1:$D$5000,3,0)","v":{"$error":"#N/A"}},true]
["",null,null,null,null,null,null,null,{"$f":"IF(ISERROR(VLOOKUP(H4108,Database!$B$1:$C$5000,2,FALSE)),\"\",VLOOKUP(H4108,Database!$B$1:$C$5000,2,FALSE))","v":""},"",{"$error":"#N/A"},null,null,null,null,null,null,null,null,"",false,2,{"$f":"VLOOKUP(H4108,Database!$B$1:$D$5000,3,0)","v":{"$error":"#N/A"}},true]
["",null,null,null,null,null,null,null,{"$f":"IF(ISERROR(VLOOKUP(H4114,Database!$B$1:$C$5000,2,FALSE)),\"\",VLOOKUP(H4114,Database!$B$1:$C$5000,2,FALSE))","v":""},"",{"$error":"#N/A"},null,null,null,null,null,null,null,null,"",false,2,{"$f":"VLOOKUP(H4114,Database!$B$1:$D$5000,3,0)","v":{"$error":"#N/A"}},true]
["",null,null,null,null,null,null,null,{"$f":"IF(ISERROR(VLOOKUP(H4119,Database!$B$1:$C$5000,2,FALSE)),\"\",VLOOKUP(H4119,Database!$B$1:$C$5000,2,FALSE))","v":""},"",{"$error":"#N/A"},null,null,null,null,null,null,null,null,"",false,2,{"$f":"VLOOKUP(H4119,Database!$B$1:$D$5000,3,0)","v":{"$error":"#N/A"}},true]
["",null,null,null,null,null,null,null,{"$f":"IF(ISERROR(VLOOKUP(H4125,Database!$B$1:$C$5000,2,FALSE)),\"\",VLOOKUP(H4125,Database!$B$1:$C$5000,2,FALSE))","v":""},"",{"$error":"#N/A"},null,null,null,null,null,null,null,null,"",false,2,{"$f":"VLOOKUP(H4125,Database!$B$1:$D$5000,3,0)","v":{"$error":"#N/A"}},true]
["",null,null,null,null,null,null,null,{"$f":"IF(ISERROR(VLOOKUP(H4129,Database!$B$1:$C$5000,2,FALSE)),\"\",VLOOKUP(H4129,Database!$B$1:$C$5000,2,FALSE))","v":""},"",{"$error":"#N/A"},null,null,null,null,null,null,null,null,"",false,2,{"$f":"VLOOKUP(H4129,Database!$B$1:$D$5000,3,0)","v":{"$error":"#N/A"}},true]
["",null,null,null,null,null,null,null,{"$f":"IF(ISERROR(VLOOKUP(H4134,Database!$B$1:$C$5000,2,FALSE)),\"\",VLOOKUP(H4134,Database!$B$1:$C$5000,2,FALSE))","v":""},"",{"$error":"#N/A"},null,null,null,null,null,null,null,null,"",false,2,{"$f":"VLOOKUP(H4134,Database!$B$1:$D$5000,3,0)","v":{"$error":"#N/A"}},true]
["",null,null,null,null,null,null,null,{"$f":"IF(ISERROR(VLOOKUP(H4140,Database!$B$1:$C$5000,2,FALSE)),\"\",VLOOKUP(H4140,Database!$B$1:$C$5000,2,FALSE))","v":""},"",{"$error":"#N/A"},null,null,null,null,null,null,null,null,"",false,2,{"$f":"VLOOKUP(H4140,Database!$B$1:$D$5000,3,0)","v":{"$error":"#N/A"}},true]
["",null,null,null,null,null,null,null,{"$f":"IF(ISERROR(VLOOKUP(H4144,Database!$B$1:$C$5000,2,FALSE)),\"\",VLOOKUP(H4144,Database!$B$1:$C$5000,2,FALSE))","v":""},"",{"$error":"#N/A"},null,null,null,null,null,null,null,null,"",false,2,{"$f":"VLOOKUP(H4144,Database!$B$1:$D$5000,3,0)","v":{"$error":"#N/A"}},true]
["",null,null,null,null,null,null,null,{"$f":"IF(ISERROR(VLOOKUP(H4149,Database!$B$1:$C$5000,2,FALSE)),\"\",VLOOKUP(H4149,Database!$B$1:$C$5000,2,FALSE))","v":""},"",{"$error":"#N/A"},null,null,null,null,null,null,null,null,"",false,2,{"$f":"VLOOKUP(H4149,Database!$B$1:$D$5000,3,0)","v":{"$error":"#N/A"}},true]
["",null,null,null,null,null,null,null,{"$f":"IF(ISERROR(VLOOKUP(H4155,Database!$B$1:$C$5000,2,FALSE)),\"\",VLOOKUP(H4155,Database!$B$1:$C$5000,2,FALSE))","v":""},"",{"$error":"#N/A"},null,null,null,null,null,null,null,null,"",false,2,{"$f":"VLOOKUP(H4155,Database!$B$1:$D$5000,3,0)","v":{"$error":"#N/A"}},true]
["",null,null,null,null,null,null,null,{"$f":"IF(ISERROR(VLOOKUP(H4160,Database!$B$1:$C$5000,2,FALSE)),\"\",VLOOKUP(H4160,Database!$B$1:$C$5000,2,FALSE))","v":""},"",{"$error":"#N/A"},null,null,null,null,null,null,null,null,"",false,2,{"$f":"VLOOKUP(H4160,Database!$B$1:$D$5000,3,0)","v":{"$error":"#N/A"}},true]
["",null,null,null,null,null,null,null,{"$f":"IF(ISERROR(VLOOKUP(H4163,Database!$B$1:$C$5000,2,FALSE)),\"\",VLOOKUP(H4163,Database!$B$1:$C$5000,2,FALSE))","v":""},"",{"$error":"#N/A"},null,null,null,null,null,null,null,null,"",false,2,{"$f":"VLOOKUP(H4163,Database!$B$1:$D$5000,3,0)","v":{"$error":"#N/A"}},true]
["",null,null,null,null,null,null,null,{"$f":"IF(ISERROR(VLOOKUP(H4165,Database!$B$1:$C$5000,2,FALSE)),\"\",VLOOKUP(H4165,Database!$B$1:$C$5000,2,FALSE))","v":""},"",{"$error":"#N/A"},null,null,null,null,null,null,null,null,"",false,2,{"$f":"VLOOKUP(H4165,Database!$B$1:$D$5000,3,0)","v":{"$error":"#N/A"}},true]
["",null,null,null,null,null,null,null,{"$f":"IF(ISERROR(VLOOKUP(H4170,Database!$B$1:$C$5000,2,FALSE)),\"\",VLOOKUP(H4170,Database!$B$1:$C$5000,2,FALSE))","v":""},"",{"$error":"#N/A"},null,null,null,null,null,null,null,null,"",false,2,{"$f":"VLOOKUP(H4170,Database!$B$1:$D$5000,3,0)","v":{"$error":"#N/A"}},true]
["",null,null,null,null,null,null,null,{"$f":"IF(ISERROR(VLOOKUP(H4176,Database!$B$1:$C$5000,2,FALSE)),\"\",VLOOKUP(H4176,Database!$B$1:$C$5000,2,FALSE))","v":""},"",{"$error":"#N/A"},null,null,null,null,null,null,null,null,"",false,2,{"$f":"VLOOKUP(H4176,Database!$B$1:$D$5000,3,0)","v":{"$error":"#N/A"}},true]
["",null,null,null,null,null,null,null,{"$f":"IF(ISERROR(VLOOKUP(H4182,Database!$B$1:$C$5000,2,FALSE)),\"\",VLOOKUP(H4182,Database!$B$1:$C$5000,2,FALSE))","v":""},"",{"$error":"#N/A"},null,null,null,null,null,null,null,null,"",false,2,{"$f":"VLOOKUP(H4182,Database!$B$1:$D$5000,3,0)","v":{"$error":"#N/A"}},true]
["",null,null,null,null,null,null,null,{"$f":"IF(ISERROR(VLOOKUP(H4185,Database!$B$1:$C$5000,2,FALSE)),\"\",VLOOKUP(H4185,Database!$B$1:$C$5000,2,FALSE))","v":""},"",{"$error":"#N/A"},null,null,null,null,null,null,null,null,"",false,2,{"$f":"VLOOKUP(H4185,Database!$B$1:$D$5000,3,0)","v":{"$error":"#N/A"}},true]
["",null,null,null,null,null,null,null,{"$f":"IF(ISERROR(VLOOKUP(H4191,Database!$B$1:$C$5000,2,FALSE)),\"\",VLOOKUP(H4191,Database!$B$1:$C$5000,2,FALSE))","v":""},"",{"$error":"#N/A"},null,null,null,null,null,null,null,null,"",false,2,{"$f":"VLOOKUP(H4191,Database!$B$1:$D$5000,3,0)","v":{"$error":"#N/A"}},true]
["",null,null,null,null,null,null,null,{"$f":"IF(ISERROR(VLOOKUP(H4196,Database!$B$1:$C$5000,2,FALSE)),\"\",VLOOKUP(H4196,Database!$B$1:$C$5000,2,FALSE))","v":""},"",{"$error":"#N/A"},null,null,null,null,null,null,null,null,"",false,2,{"$f":"VLOOKUP(H4196,Database!$B$1:$D$5000,3,0)","v":{"$error":"#N/A"}},true]
["",null,null,null,null,null,null,null,{"$f":"IF(ISERROR(VLOOKUP(H4201,Database!$B$1:$C$5000,2,FALSE)),\"\",VLOOKUP(H4201,Database!$B$1:$C$5000,2,FALSE))","v":""},"",{"$error":"#N/A"},null,null,null,null,null,null,null,null,"",false,2,{"$f":"VLOOKUP(H4201,Database!$B$1:$D$5000,3,0)","v":{"$error":"#N/A"}},true]
["",null,null,null,null,null,null,null,{"$f":"IF(ISERROR(VLOOKUP(H4206,Database!$B$1:$C$5000,2,FALSE)),\"\",VLOOKUP(H4206,Database!$B$1:$C$5000,2,FALSE))","v":""},"",{"$error":"#N/A"},null,null,null,null,null,null,null,null,"",false,2,{"$f":"VLOOKUP(H4206,Database!$B$1:$D$5000,3,0)","v":{"$error":"#N/A"}},true]
["",null,null,null,null,null,null,null,{"$f":"IF(ISERROR(VLOOKUP(H4211,Database!$B$1:$C$5000,2,FALSE)),\"\",VLOOKUP(H4211,Database!$B$1:$C$5000,2,FALSE))","v":""},"",{"$error":"#N/A"},null,null,null,null,null,null,null,null,"",false,2,{"$f":"VLOOKUP(H4211,Database!$B$1:$D$5000,3,0)","v":{"$error":"#N/A"}},true]
["",null,null,null,null,null,null,null,{"$f":"IF(ISERROR(VLOOKUP(H4217,Database!$B$1:$C$5000,2,FALSE)),\"\",VLOOKUP(H4217,Database!$B$1:$C$5000,2,FALSE))","v":""},"",{"$error":"#N/A"},null,null,null,null,null,null,null,null,"",false,2,{"$f":"VLOOKUP(H4217,Database!$B$1:$D$5000,3,0)","v":{"$error":"#N/A"}},true]
["",null,null,null,null,null,null,null,{"$f":"IF(ISERROR(VLOOKUP(H4220,Database!$B$1:$C$5000,2,FALSE)),\"\",VLOOKUP(H4220,Database!$B$1:$C$5000,2,FALSE))","v":""},"",{"$error":"#N/A"},null,null,null,null,null,null,null,null,"",false,2,{"$f":"VLOOKUP(H4220,Database!$B$1:$D$5000,3,0)","v":{"$error":"#N/A"}},true]
["",null,null,null,null,null,null,null,{"$f":"IF(ISERROR(VLOOKUP(H4226,Database!$B$1:$C$5000,2,FALSE)),\"\",VLOOKUP(H4226,Database!$B$1:$C$5000,2,FALSE))","v":""},"",{"$error":"#N/A"},null,null,null,null,null,null,null,null,"",false,2,{"$f":"VLOOKUP(H4226,Database!$B$1:$D$5000,3,0)","v":{"$error":"#N/A"}},true]
["",null,null,null,null,null,null,null,{"$f":"IF(ISERROR(VLOOKUP(H4227,Database!$B$1:$C$5000,2,FALSE)),\"\",VLOOKUP(H4227,Database!$B$1:$C$5000,2,FALSE))","v":""},"",{"$error":"#N/A"},null,null,null,null,null,null,null,null,"",false,2,{"$f":"VLOOKUP(H4227,Database!$B$1:$D$5000,3,0)","v":{"$error":"#N/A"}},true]
["",null,null,null,null,null,null,null,{"$f":"IF(ISERROR(VLOOKUP(H4232,Database!$B$1:$C$5000,2,FALSE)),\"\",VLOOKUP(H4232,Database!$B$1:$C$5000,2,FALSE))","v":""},"",{"$error":"#N/A"},null,null,null,null,null,null,null,null,"",false,2,{"$f":"VLOOKUP(H4232,Database!$B$1:$D$5000,3,0)","v":{"$error":"#N/A"}},true]
["",null,null,null,null,null,null,null,{"$f":"IF(ISERROR(VLOOKUP(H4239,Database!$B$1:$C$5000,2,FALSE)),\"\",VLOOKUP(H4239,Database!$B$1:$C$5000,2,FALSE))","v":""},"",{"$error":"#N/A"},null,null,null,null,null,null,null,null,"",false,2,{"$f":"VLOOKUP(H4239,Database!$B$1:$D$5000,3,0)","v":{"$error":"#N/A"}},true]
["",null,null,null,null,null,null,null,{"$f":"IF(ISERROR(VLOOKUP(H4242,Database!$B$1:$C$5000,2,FALSE)),\"\",VLOOKUP(H4242,Database!$B$1:$C$5000,2,FALSE))","v":""},"",{"$error":"#N/A"},null,null,null,null,null,null,null,null,"",false,2,{"$f":"VLOOKUP(H4242,Database!$B$1:$D$5000,3,0)","v":{"$error":"#N/A"}},true]
["",null,null,null,null,null,null,null,{"$f":"IF(ISERROR(VLOOKUP(H4247,Database!$B$1:$C$5000,2,FALSE)),\"\",VLOOKUP(H4247,Database!$B$1:$C$5000,2,FALSE))","v":""},"",{"$error":"#N/A"},null,null,null,null,null,null,null,null,"",false,2,{"$f":"VLOOKUP(H4247,Database!$B$1:$D$5000,3,0)","v":{"$error":"#N/A"}},true]
["",null,null,null,null,null,null,null,{"$f":"IF(ISERROR(VLOOKUP(H4253,Database!$B$1:$C$5000,2,FALSE)),\"\",VLOOKUP(H4253,Database!$B$1:$C$5000,2,FALSE))","v":""},"",{"$error":"#N/A"},null,null,null,null,null,null,null,null,"",false,2,{"$f":"VLOOKUP(H4253,Database!$B$1:$D$5000,3,0)","v":{"$error":"#N/A"}},true]
["",null,null,null,null,null,null,null,{"$f":"IF(ISERROR(VLOOKUP(H4258,Database!$B$1:$C$5000,2,FALSE)),\"\",VLOOKUP(H4258,Database!$B$1:$C$5000,2,FALSE))","v":""},"",{"$error":"#N/A"},null,null,null,null,null,null,null,null,"",false,2,{"$f":"VLOOKUP(H4258,Database!$B$1:$D$5000,3,0)","v":{"$error":"#N/A"}},true]
["",null,null,null,null,null,null,null,{"$f":"IF(ISERROR(VLOOKUP(H4263,Database!$B$1:$C$5000,2,FALSE)),\"\",VLOOKUP(H4263,Database!$B$1:$C$5000,2,FALSE))","v":""},"",{"$error":"#N/A"},null,null,null,null,null,null,null,null,"",false,2,{"$f":"VLOOKUP(H4263,Database!$B$1:$D$5000,3,0)","v":{"$error":"#N/A"}},true]
["",null,null,null,null,null,null,null,{"$f":"IF(ISERROR(VLOOKUP(H4268,Database!$B$1:$C$5000,2,FALSE)),\"\",VLOOKUP(H4268,Database!$B$1:$C$5000,2,FALSE))","v":""},"",{"$error":"#N/A"},null,null,null,null,null,null,null,null,"",false,2,{"$f":"VLOOKUP(H4268,Database!$B$1:$D$5000,3,0)","v":{"$error":"#N/A"}},true]
["",null,null,null,null,null,null,null,{"$f":"IF(ISERROR(VLOOKUP(H4273,Database!$B$1:$C$5000,2,FALSE)),\"\",VLOOKUP(H4273,Database!$B$1:$C$5000,2,FALSE))","v":""},"",{"$error":"#N/A"},null,null,null,null,null,null,null,null,"",false,2,{"$f":"VLOOKUP(H4273,Database!$B$1:$D$5000,3,0)","v":{"$error":"#N/A"}},true]
["",null,null,null,null,null,null,null,{"$f":"IF(ISERROR(VLOOKUP(H4277,Database!$B$1:$C$5000,2,FALSE)),\"\",VLOOKUP(H4277,Database!$B$1:$C$5000,2,FALSE))","v":""},"",{"$error":"#N/A"},null,null,null,null,null,null,null,null,"",false,2,{"$f":"VLOOKUP(H4277,Database!$B$1:$D$5000,3,0)","v":{"$error":"#N/A"}},true]
["",null,null,null,null,null,null,null,{"$f":"IF(ISERROR(VLOOKUP(H4283,Database!$B$1:$C$5000,2,FALSE)),\"\",VLOOKUP(H4283,Database!$B$1:$C$5000,2,FALSE))","v":""},"",{"$error":"#N/A"},null,null,null,null,null,null,null,null,"",false,2,{"$f":"VLOOKUP(H4283,Database!$B$1:$D$5000,3,0)","v":{"$error":"#N/A"}},true]
["",null,null,null,null,null,null,null,{"$f":"IF(ISERROR(VLOOKUP(H4288,Database!$B$1:$C$5000,2,FALSE)),\"\",VLOOKUP(H4288,Database!$B$1:$C$5000,2,FALSE))","v":""},"",{"$error":"#N/A"},null,null,null,null,null,null,null,null,"",false,2,{"$f":"VLOOKUP(H4288,Database!$B$1:$D$5000,3,0)","v":{"$error":"#N/A"}},true]
["",null,null,null,null,null,null,null,{"$f":"IF(ISERROR(VLOOKUP(H4289,Database!$B$1:$C$5000,2,FALSE)),\"\",VLOOKUP(H4289,Database!$B$1:$C$5000,2,FALSE))","v":""},"",{"$error":"#N/A"},null,null,null,null,null,null,null,null,"",false,2,{"$f":"VLOOKUP(H4289,Database!$B$1:$D$5000,3,0)","v":{"$error":"#N/A"}},true]
["",null,null,null,null,null,null,null,{"$f":"IF(ISERROR(VLOOKUP(H4296,Database!$B$1:$C$5000,2,FALSE)),\"\",VLOOKUP(H4296,Database!$B$1:$C$5000,2,FALSE))","v":""},"",{"$error":"#N/A"},null,null,null,null,null,null,null,null,"",false,2,{"$f":"VLOOKUP(H4296,Database!$B$1:$D$5000,3,0)","v":{"$error":"#N/A"}},true]
["",null,null,null,null,null,null,null,{"$f":"IF(ISERROR(VLOOKUP(H4299,Database!$B$1:$C$5000,2,FALSE)),\"\",VLOOKUP(H4299,Database!$B$1:$C$5000,2,FALSE))","v":""},"",{"$error":"#N/A"},null,null,null,null,null,null,null,null,"",false,2,{"$f":"VLOOKUP(H4299,Database!$B$1:$D$5000,3,0)","v":{"$error":"#N/A"}},true]
["",null,null,null,null,null,null,null,{"$f":"IF(ISERROR(VLOOKUP(H4304,Database!$B$1:$C$5000,2,FALSE)),\"\",VLOOKUP(H4304,Database!$B$1:$C$5000,2,FALSE))","v":""},"",{"$error":"#N/A"},null,null,null,null,null,null,null,null,"",false,2,{"$f":"VLOOKUP(H4304,Database!$B$1:$D$5000,3,0)","v":{"$error":"#N/A"}},true]
["",null,null,null,null,null,null,null,{"$f":"IF(ISERROR(VLOOKUP(H4309,Database!$B$1:$C$5000,2,FALSE)),\"\",VLOOKUP(H4309,Database!$B$1:$C$5000,2,FALSE))","v":""},"",{"$error":"#N/A"},null,null,null,null,null,null,null,null,"",false,2,{"$f":"VLOOKUP(H4309,Database!$B$1:$D$5000,3,0)","v":{"$error":"#N/A"}},true]
["",null,null,null,null,null,null,null,{"$f":"IF(ISERROR(VLOOKUP(H4315,Database!$B$1:$C$5000,2,FALSE)),\"\",VLOOKUP(H4315,Database!$B$1:$C$5000,2,FALSE))","v":""},"",{"$error":"#N/A"},null,null,null,null,null,null,null,null,"",false,2,{"$f":"VLOOKUP(H4315,Database!$B$1:$D$5000,3,0)","v":{"$error":"#N/A"}},true]
["",null,null,null,null,null,null,null,{"$f":"IF(ISERROR(VLOOKUP(H4319,Database!$B$1:$C$5000,2,FALSE)),\"\",VLOOKUP(H4319,Database!$B$1:$C$5000,2,FALSE))","v":""},"",{"$error":"#N/A"},null,null,null,null,null,null,null,null,"",false,2,{"$f":"VLOOKUP(H4319,Database!$B$1:$D$5000,3,0)","v":{"$error":"#N/A"}},true]
["",null,null,null,null,null,null,null,{"$f":"IF(ISERROR(VLOOKUP(H4324,Database!$B$1:$C$5000,2,FALSE)),\"\",VLOOKUP(H4324,Database!$B$1:$C$5000,2,FALSE))","v":""},"",{"$error":"#N/A"},null,null,null,null,null,null,null,null,"",false,2,{"$f":"VLOOKUP(H4324,Database!$B$1:$D$5000,3,0)","v":{"$error":"#N/A"}},true]
["",null,null,null,null,null,null,null,{"$f":"IF(ISERROR(VLOOKUP(H4330,Database!$B$1:$C$5000,2,FALSE)),\"\",VLOOKUP(H4330,Database!$B$1:$C$5000,2,FALSE))","v":""},"",{"$error":"#N/A"},null,null,null,null,null,null,null,null,"",false,2,{"$f":"VLOOKUP(H4330,Database!$B$1:$D$5000,3,0)","v":{"$error":"#N/A"}},true]
["",null,null,null,null,null,null,null,{"$f":"IF(ISERROR(VLOOKUP(H4334,Database!$B$1:$C$5000,2,FALSE)),\"\",VLOOKUP(H4334,Database!$B$1:$C$5000,2,FALSE))","v":""},"",{"$error":"#N/A"},null,null,null,null,null,null,null,null,"",false,2,{"$f":"VLOOKUP(H4334,Database!$B$1:$D$5000,3,0)","v":{"$error":"#N/A"}},true]
["",null,null,null,null,null,null,null,{"$f":"IF(ISERROR(VLOOKUP(H4340,Database!$B$1:$C$5000,2,FALSE)),\"\",VLOOKUP(H4340,Database!$B$1:$C$5000,2,FALSE))","v":""},"",{"$error":"#N/A"},null,null,null,null,null,null,null,null,"",false,2,{"$f":"VLOOKUP(H4340,Database!$B$1:$D$5000,3,0)","v":{"$error":"#N/A"}},true]
["",null,null,null,null,null,null,null,{"$f":"IF(ISERROR(VLOOKUP(H4345,Database!$B$1:$C$5000,2,FALSE)),\"\",VLOOKUP(H4345,Database!$B$1:$C$5000,2,FALSE))","v":""},"",{"$error":"#N/A"},null,null,null,null,null,null,null,null,"",false,2,{"$f":"VLOOKUP(H4345,Database!$B$1:$D$5000,3,0)","v":{"$error":"#N/A"}},true]
["",null,null,null,null,null,null,null,{"$f":"IF(ISERROR(VLOOKUP(H4350,Database!$B$1:$C$5000,2,FALSE)),\"\",VLOOKUP(H4350,Database!$B$1:$C$5000,2,FALSE))","v":""},"",{"$error":"#N/A"},null,null,null,null,null,null,null,null,"",false,2,{"$f":"VLOOKUP(H4350,Database!$B$1:$D$5000,3,0)","v":{"$error":"#N/A"}},true]
["",null,null,null,null,null,null,null,{"$f":"IF(ISERROR(VLOOKUP(H4353,Database!$B$1:$C$5000,2,FALSE)),\"\",VLOOKUP(H4353,Database!$B$1:$C$5000,2,FALSE))","v":""},"",{"$error":"#N/A"},null,null,null,null,null,null,null,null,"",false,2,{"$f":"VLOOKUP(H4353,Database!$B$1:$D$5000,3,0)","v":{"$error":"#N/A"}},true]
["",null,null,null,null,null,null,null,{"$f":"IF(ISERROR(VLOOKUP(H4355,Database!$B$1:$C$5000,2,FALSE)),\"\",VLOOKUP(H4355,Database!$B$1:$C$5000,2,FALSE))","v":""},"",{"$error":"#N/A"},null,null,null,null,null,null,null,null,"",false,2,{"$f":"VLOOKUP(H4355,Database!$B$1:$D$5000,3,0)","v":{"$error":"#N/A"}},true]
["",null,null,null,null,null,null,null,{"$f":"IF(ISERROR(VLOOKUP(H4361,Database!$B$1:$C$5000,2,FALSE)),\"\",VLOOKUP(H4361,Database!$B$1:$C$5000,2,FALSE))","v":""},"",{"$error":"#N/A"},null,null,null,null,null,null,null,null,"",false,2,{"$f":"VLOOKUP(H4361,Database!$B$1:$D$5000,3,0)","v":{"$error":"#N/A"}},true]
["",null,null,null,null,null,null,null,{"$f":"IF(ISERROR(VLOOKUP(H4366,Database!$B$1:$C$5000,2,FALSE)),\"\",VLOOKUP(H4366,Database!$B$1:$C$5000,2,FALSE))","v":""},"",{"$error":"#N/A"},null,null,null,null,null,null,null,null,"",false,2,{"$f":"VLOOKUP(H4366,Database!$B$1:$D$5000,3,0)","v":{"$error":"#N/A"}},true]
["",null,null,null,null,null,null,null,{"$f":"IF(ISERROR(VLOOKUP(H4372,Database!$B$1:$C$5000,2,FALSE)),\"\",VLOOKUP(H4372,Database!$B$1:$C$5000,2,FALSE))","v":""},"",{"$error":"#N/A"},null,null,null,null,null,null,null,null,"",false,2,{"$f":"VLOOKUP(H4372,Database!$B$1:$D$5000,3,0)","v":{"$error":"#N/A"}},true]
["",null,null,null,null,null,null,null,{"$f":"IF(ISERROR(VLOOKUP(H4376,Database!$B$1:$C$5000,2,FALSE)),\"\",VLOOKUP(H4376,Database!$B$1:$C$5000,2,FALSE))","v":""},"",{"$error":"#N/A"},null,null,null,null,null,null,null,null,"",false,2,{"$f":"VLOOKUP(H4376,Database!$B$1:$D$5000,3,0)","v":{"$error":"#N/A"}},true]
["",null,null,null,null,null,null,null,{"$f":"IF(ISERROR(VLOOKUP(H4381,Database!$B$1:$C$5000,2,FALSE)),\"\",VLOOKUP(H4381,Database!$B$1:$C$5000,2,FALSE))","v":""},"",{"$error":"#N/A"},null,null,null,null,null,null,null,null,"",false,2,{"$f":"VLOOKUP(H4381,Database!$B$1:$D$5000,3,0)","v":{"$error":"#N/A"}},true]
["",null,null,null,null,null,null,null,{"$f":"IF(ISERROR(VLOOKUP(H4386,Database!$B$1:$C$5000,2,FALSE)),\"\",VLOOKUP(H4386,Database!$B$1:$C$5000,2,FALSE))","v":""},"",{"$error":"#N/A"},null,null,null,null,null,null,null,null,"",false,2,{"$f":"VLOOKUP(H4386,Database!$B$1:$D$5000,3,0)","v":{"$error":"#N/A"}},true]
["",null,null,null,null,null,null,null,{"$f":"IF(ISERROR(VLOOKUP(H4391,Database!$B$1:$C$5000,2,FALSE)),\"\",VLOOKUP(H4391,Database!$B$1:$C$5000,2,FALSE))","v":""},"",{"$error":"#N/A"},null,null,null,null,null,null,null,null,"",false,2,{"$f":"VLOOKUP(H4391,Database!$B$1:$D$5000,3,0)","v":{"$error":"#N/A"}},true]
["",null,null,null,null,null,null,null,{"$f":"IF(ISERROR(VLOOKUP(H4396,Database!$B$1:$C$5000,2,FALSE)),\"\",VLOOKUP(H4396,Database!$B$1:$C$5000,2,FALSE))","v":""},"",{"$error":"#N/A"},null,null,null,null,null,null,null,null,"",false,2,{"$f":"VLOOKUP(H4396,Database!$B$1:$D$5000,3,0)","v":{"$error":"#N/A"}},true]
["",null,null,null,null,null,null,null,{"$f":"IF(ISERROR(VLOOKUP(H4402,Database!$B$1:$C$5000,2,FALSE)),\"\",VLOOKUP(H4402,Database!$B$1:$C$5000,2,FALSE))","v":""},"",{"$error":"#N/A"},null,null,null,null,null,null,null,null,"",false,2,{"$f":"VLOOKUP(H4402,Database!$B$1:$D$5000,3,0)","v":{"$error":"#N/A"}},true]
["",null,null,null,null,null,null,null,{"$f":"IF(ISERROR(VLOOKUP(H4407,Database!$B$1:$C$5000,2,FALSE)),\"\",VLOOKUP(H4407,Database!$B$1:$C$5000,2,FALSE))","v":""},"",{"$error":"#N/A"},null,null,null,null,null,null,null,null,"",false,2,{"$f":"VLOOKUP(H4407,Database!$B$1:$D$5000,3,0)","v":{"$error":"#N/A"}},true]
["",null,null,null,null,null,null,null,{"$f":"IF(ISERROR(VLOOKUP(H4410,Database!$B$1:$C$5000,2,FALSE)),\"\",VLOOKUP(H4410,Database!$B$1:$C$5000,2,FALSE))","v":""},"",{"$error":"#N/A"},null,null,null,null,null,null,null,null,"",false,2,{"$f":"VLOOKUP(H4410,Database!$B$1:$D$5000,3,0)","v":{"$error":"#N/A"}},true]
["",null,null,null,null,null,null,null,{"$f":"IF(ISERROR(VLOOKUP(H4412,Database!$B$1:$C$5000,2,FALSE)),\"\",VLOOKUP(H4412,Database!$B$1:$C$5000,2,FALSE))","v":""},"",{"$error":"#N/A"},null,null,null,null,null,null,null,null,"",false,2,{"$f":"VLOOKUP(H4412,Database!$B$1:$D$5000,3,0)","v":{"$error":"#N/A"}},true]
["",null,null,null,null,null,null,null,{"$f":"IF(ISERROR(VLOOKUP(H4417,Database!$B$1:$C$5000,2,FALSE)),\"\",VLOOKUP(H4417,Database!$B$1:$C$5000,2,FALSE))","v":""},"",{"$error":"#N/A"},null,null,null,null,null,null,null,null,"",false,2,{"$f":"VLOOKUP(H4417,Database!$B$1:$D$5000,3,0)","v":{"$error":"#N/A"}},true]
[{"$f":"IF(B4423=\"\",\"\",ROW(A4418))","v":""},null,null,null,null,null,null,null,{"$f":"IF(ISERROR(VLOOKUP(H4423,Database!$B$1:$C$5000,2,FALSE)),\"\",VLOOKUP(H4423,Database!$B$1:$C$5000,2,FALSE))","v":""},{"$f":"IF(V4423=1,1,IF(AND(T4423=0,F4423=\"SSB\",V4423<>\"\"),3,IF(AND(T4423=0,F4423=\"DIGI\",V4423<>\"\"),2,IF(AND(T4423=0,F4423=\"CW\",V4423<>\"\"),5,IF(H4423=\"-\",\"\",T4423)))))","v":""},{"$f":"IF(H4423=\"-\",\"\",IF(AND(H4423<>\"\",X4423=TRUE),\"INDIPENDENT\",IF(W4423=0,\"SCRIVI NOME NELLE NOTE\",W4423)))","v":{"$error":"#N/A"}},null,null,null,null,null,null,null,null,{"$f":"IF(H4423=\"\",\"\",IF(H4423=$R$6,25,IF(OR(H4423=$R$7,H4423=$R$8,H4423=$R$9,H4423=$R$10,H4423=$R$11,H4423=$R$12,H4423=$R$13,H4423=$R$14,H4423=$R$15,H4423=$R$16,H4423=$R$17,H4423=$R$18,H4423=$R$19,H4423=$R$20,H4423=$R$21,H4423=$R$22,H4423=$R$23),15,0)))","v":""},{"$f":"ISERROR(I4423)","v":false},{"$f":"IF(H4423=\"-\",\"\",IF(AND(T4423=0,U4423=FALSE,I4423=\"\"),1,2))","v":2},{"$f":"VLOOKUP(H4423,Database!$B$1:$D$5000,3,0)","v":{"$error":"#N/A"}},{"$f":"ISERROR(W4423)","v":true}]
["",null,null,null,null,null,null,null,{"$f":"IF(ISERROR(VLOOKUP(H4429,Database!$B$1:$C$5000,2,FALSE)),\"\",VLOOKUP(H4429,Database!$B$1:$C$5000,2,FALSE))","v":""},"",{"$error":"#N/A"},null,null,null,null,null,null,null,null,"",false,2,{"$f":"VLOOKUP(H4429,Database!$B$1:$D$5000,3,0)","v":{"$error":"#N/A"}},true]
["",null,null,null,null,null,null,null,{"$f":"IF(ISERROR(VLOOKUP(H4432,Database!$B$1:$C$5000,2,FALSE)),\"\",VLOOKUP(H4432,Database!$B$1:$C$5000,2,FALSE))","v":""},"",{"$error":"#N/A"},null,null,null,null,null,null,null,null,"",false,2,{"$f":"VLOOKUP(H4432,Database!$B$1:$D$5000,3,0)","v":{"$error":"#N/A"}},true]
["",null,null,null,null,null,null,null,{"$f":"IF(ISERROR(VLOOKUP(H4438,Database!$B$1:$C$5000,2,FALSE)),\"\",VLOOKUP(H4438,Database!$B$1:$C$5000,2,FALSE))","v":""},"",{"$error":"#N/A"},null,null,null,null,null,null,null,null,"",false,2,{"$f":"VLOOKUP(H4438,Database!$B$1:$D$5000,3,0)","v":{"$error":"#N/A"}},true]
["",null,null,null,null,null,null,null,{"$f":"IF(ISERROR(VLOOKUP(H4443,Database!$B$1:$C$5000,2,FALSE)),\"\",VLOOKUP(H4443,Database!$B$1:$C$5000,2,FALSE))","v":""},"",{"$error":"#N/A"},null,null,null,null,null,null,null,null,"",false,2,{"$f":"VLOOKUP(H4443,Database!$B$1:$D$5000,3,0)","v":{"$error":"#N/A"}},true]
["",null,null,null,null,null,null,null,{"$f":"IF(ISERROR(VLOOKUP(H4448,Database!$B$1:$C$5000,2,FALSE)),\"\",VLOOKUP(H4448,Database!$B$1:$C$5000,2,FALSE))","v":""},"",{"$error":"#N/A"},null,null,null,null,null,null,null,null,"",false,2,{"$f":"VLOOKUP(H4448,Database!$B$1:$D$5000,3,0)","v":{"$error":"#N/A"}},true]
["",null,null,null,null,null,null,null,{"$f":"IF(ISERROR(VLOOKUP(H4453,Database!$B$1:$C$5000,2,FALSE)),\"\",VLOOKUP(H4453,Database!$B$1:$C$5000,2,FALSE))","v":""},"",{"$error":"#N/A"},null,null,null,null,null,null,null,null,"",false,2,{"$f":"VLOOKUP(H4453,Database!$B$1:$D$5000,3,0)","v":{"$error":"#N/A"}},true]
["",null,null,null,null,null,null,null,{"$f":"IF(ISERROR(VLOOKUP(H4458,Database!$B$1:$C$5000,2,FALSE)),\"\",VLOOKUP(H4458,Database!$B$1:$C$5000,2,FALSE))","v":""},"",{"$error":"#N/A"},null,null,null,null,null,null,null,null,"",false,2,{"$f":"VLOOKUP(H4458,Database!$B$1:$D$5000,3,0)","v":{"$error":"#N/A"}},true]
["",null,null,null,null,null,null,null,{"$f":"IF(ISERROR(VLOOKUP(H4464,Database!$B$1:$C$5000,2,FALSE)),\"\",VLOOKUP(H4464,Database!$B$1:$C$5000,2,FALSE))","v":""},"",{"$error":"#N/A"},null,null,null,null,null,null,null,null,"",false,2,{"$f":"VLOOKUP(H4464,Database!$B$1:$D$5000,3,0)","v":{"$error":"#N/A"}},true]
["",null,null,null,null,null,null,null,{"$f":"IF(ISERROR(VLOOKUP(H4467,Database!$B$1:$C$5000,2,FALSE)),\"\",VLOOKUP(H4467,Database!$B$1:$C$5000,2,FALSE))","v":""},"",{"$error":"#N/A"},null,null,null,null,null,null,null,null,"",false,2,{"$f":"VLOOKUP(H4467,Database!$B$1:$D$5000,3,0)","v":{"$error":"#N/A"}},true]
["",null,null,null,null,null,null,null,{"$f":"IF(ISERROR(VLOOKUP(H4473,Database!$B$1:$C$5000,2,FALSE)),\"\",VLOOKUP(H4473,Database!$B$1:$C$5000,2,FALSE))","v":""},"",{"$error":"#N/A"},null,null,null,null,null,null,null,null,"",false,2,{"$f":"VLOOKUP(H4473,Database!$B$1:$D$5000,3,0)","v":{"$error":"#N/A"}},true]
["",null,null,null,null,null,null,null,{"$f":"IF(ISERROR(VLOOKUP(H4474,Database!$B$1:$C$5000,2,FALSE)),\"\",VLOOKUP(H4474,Database!$B$1:$C$5000,2,FALSE))","v":""},"",{"$error":"#N/A"},null,null,null,null,null,null,null,null,"",false,2,{"$f":"VLOOKUP(H4474,Database!$B$1:$D$5000,3,0)","v":{"$error":"#N/A"}},true]
["",null,null,null,null,null,null,null,{"$f":"IF(ISERROR(VLOOKUP(H4479,Database!$B$1:$C$5000,2,FALSE)),\"\",VLOOKUP(H4479,Database!$B$1:$C$5000,2,FALSE))","v":""},"",{"$error":"#N/A"},null,null,null,null,null,null,null,null,"",false,2,{"$f":"VLOOKUP(H4479,Database!$B$1:$D$5000,3,0)","v":{"$error":"#N/A"}},true]
["",null,null,null,null,null,null,null,{"$f":"IF(ISERROR(VLOOKUP(H4486,Database!$B$1:$C$5000,2,FALSE)),\"\",VLOOKUP(H4486,Database!$B$1:$C$5000,2,FALSE))","v":""},"",{"$error":"#N/A"},null,null,null,null,null,null,null,null,"",false,2,{"$f":"VLOOKUP(H4486,Database!$B$1:$D$5000,3,0)","v":{"$error":"#N/A"}},true]
["",null,null,null,null,null,null,null,{"$f":"IF(ISERROR(VLOOKUP(H4489,Database!$B$1:$C$5000,2,FALSE)),\"\",VLOOKUP(H4489,Database!$B$1:$C$5000,2,FALSE))","v":""},"",{"$error":"#N/A"},null,null,null,null,null,null,null,null,"",false,2,{"$f":"VLOOKUP(H4489,Database!$B$1:$D$5000,3,0)","v":{"$error":"#N/A"}},true]
["",null,null,null,null,null,null,null,{"$f":"IF(ISERROR(VLOOKUP(H4494,Database!$B$1:$C$5000,2,FALSE)),\"\",VLOOKUP(H4494,Database!$B$1:$C$5000,2,FALSE))","v":""},"",{"$error":"#N/A"},null,null,null,null,null,null,null,null,"",false,2,{"$f":"VLOOKUP(H4494,Database!$B$1:$D$5000,3,0)","v":{"$error":"#N/A"}},true]
["",null,null,null,null,null,null,null,{"$f":"IF(ISERROR(VLOOKUP(H4500,Database!$B$1:$C$5000,2,FALSE)),\"\",VLOOKUP(H4500,Database!$B$1:$C$5000,2,FALSE))","v":""},"",{"$error":"#N/A"},null,null,null,null,null,null,null,null,"",false,2,{"$f":"VLOOKUP(H4500,Database!$B$1:$D$5000,3,0)","v":{"$error":"#N/A"}},true]
["",null,null,null,null,null,null,null,{"$f":"IF(ISERROR(VLOOKUP(H4505,Database!$B$1:$C$5000,2,FALSE)),\"\",VLOOKUP(H4505,Database!$B$1:$C$5000,2,FALSE))","v":""},"",{"$error":"#N/A"},null,null,null,null,null,null,null,null,"",false,2,{"$f":"VLOOKUP(H4505,Database!$B$1:$D$5000,3,0)","v":{"$error":"#N/A"}},true]
["",null,null,null,null,null,null,null,{"$f":"IF(ISERROR(VLOOKUP(H4509,Database!$B$1:$C$5000,2,FALSE)),\"\",VLOOKUP(H4509,Database!$B$1:$C$5000,2,FALSE))","v":""},"",{"$error":"#N/A"},null,null,null,null,null,null,null,null,"",false,2,{"$f":"VLOOKUP(H4509,Database!$B$1:$D$5000,3,0)","v":{"$error":"#N/A"}},true]
["",null,null,null,null,null,null,null,{"$f":"IF(ISERROR(VLOOKUP(H4515,Database!$B$1:$C$5000,2,FALSE)),\"\",VLOOKUP(H4515,Database!$B$1:$C$5000,2,FALSE))","v":""},"",{"$error":"#N/A"},null,null,null,null,null,null,null,null,"",false,2,{"$f":"VLOOKUP(H4515,Database!$B$1:$D$5000,3,0)","v":{"$error":"#N/A"}},true]
["",null,null,null,null,null,null,null,{"$f":"IF(ISERROR(VLOOKUP(H4520,Database!$B$1:$C$5000,2,FALSE)),\"\",VLOOKUP(H4520,Database!$B$1:$C$5000,2,FALSE))","v":""},"",{"$error":"#N/A"},null,null,null,null,null,null,null,null,"",false,2,{"$f":"VLOOKUP(H4520,Database!$B$1:$D$5000,3,0)","v":{"$error":"#N/A"}},true]
["",null,null,null,null,null,null,null,{"$f":"IF(ISERROR(VLOOKUP(H4524,Database!$B$1:$C$5000,2,FALSE)),\"\",VLOOKUP(H4524,Database!$B$1:$C$5000,2,FALSE))","v":""},"",{"$error":"#N/A"},null,null,null,null,null,null,null,null,"",false,2,{"$f":"VLOOKUP(H4524,Database!$B$1:$D$5000,3,0)","v":{"$error":"#N/A"}},true]
["",null,null,null,null,null,null,null,{"$f":"IF(ISERROR(VLOOKUP(H4530,Database!$B$1:$C$5000,2,FALSE)),\"\",VLOOKUP(H4530,Database!$B$1:$C$5000,2,FALSE))","v":""},"",{"$error":"#N/A"},null,null,null,null,null,null,null,null,"",false,2,{"$f":"VLOOKUP(H4530,Database!$B$1:$D$5000,3,0)","v":{"$error":"#N/A"}},true]
["",null,null,null,null,null,null,null,{"$f":"IF(ISERROR(VLOOKUP(H4535,Database!$B$1:$C$5000,2,FALSE)),\"\",VLOOKUP(H4535,Database!$B$1:$C$5000,2,FALSE))","v":""},"",{"$error":"#N/A"},null,null,null,null,null,null,null,null,"",false,2,{"$f":"VLOOKUP(H4535,Database!$B$1:$D$5000,3,0)","v":{"$error":"#N/A"}},true]
["",null,null,null,null,null,null,null,{"$f":"IF(ISERROR(VLOOKUP(H4536,Database!$B$1:$C$5000,2,FALSE)),\"\",VLOOKUP(H4536,Database!$B$1:$C$5000,2,FALSE))","v":""},"",{"$error":"#N/A"},null,null,null,null,null,null,null,null,"",false,2,{"$f":"VLOOKUP(H4536,Database!$B$1:$D$5000,3,0)","v":{"$error":"#N/A"}},true]
["",null,null,null,null,null,null,null,{"$f":"IF(ISERROR(VLOOKUP(H4543,Database!$B$1:$C$5000,2,FALSE)),\"\",VLOOKUP(H4543,Database!$B$1:$C$5000,2,FALSE))","v":""},"",{"$error":"#N/A"},null,null,null,null,null,null,null,null,"",false,2,{"$f":"VLOOKUP(H4543,Database!$B$1:$D$5000,3,0)","v":{"$error":"#N/A"}},true]
["",null,null,null,null,null,null,null,{"$f":"IF(ISERROR(VLOOKUP(H4545,Database!$B$1:$C$5000,2,FALSE)),\"\",VLOOKUP(H4545,Database!$B$1:$C$5000,2,FALSE))","v":""},"",{"$error":"#N/A"},null,null,null,null,null,null,null,null,"",false,2,{"$f":"VLOOKUP(H4545,Database!$B$1:$D$5000,3,0)","v":{"$error":"#N/A"}},true]
[{"$f":"IF(B4551=\"\",\"\",ROW(A4546))","v":""},null,null,null,null,null,null,null,{"$f":"IF(ISERROR(VLOOKUP(H4551,Database!$B$1:$C$5000,2,FALSE)),\"\",VLOOKUP(H4551,Database!$B$1:$C$5000,2,FALSE))","v":""},{"$f":"IF(V4551=1,1,IF(AND(T4551=0,F4551=\"SSB\",V4551<>\"\"),3,IF(AND(T4551=0,F4551=\"DIGI\",V4551<>\"\"),2,IF(AND(T4551=0,F4551=\"CW\",V4551<>\"\"),5,IF(H4551=\"-\",\"\",T4551)))))","v":""},{"$f":"IF(H4551=\"-\",\"\",IF(AND(H4551<>\"\",X4551=TRUE),\"INDIPENDENT\",IF(W4551=0,\"SCRIVI NOME NELLE NOTE\",W4551)))","v":{"$error":"#N/A"}},null,null,null,null,null,null,null,null,{"$f":"IF(H4551=\"\",\"\",IF(H4551=$R$6,25,IF(OR(H4551=$R$7,H4551=$R$8,H4551=$R$9,H4551=$R$10,H4551=$R$11,H4551=$R$12,H4551=$R$13,H4551=$R$14,H4551=$R$15,H4551=$R$16,H4551=$R$17,H4551=$R$18,H4551=$R$19,H4551=$R$20,H4551=$R$21,H4551=$R$22,H4551=$R$23),15,0)))","v":""},{"$f":"ISERROR(I4551)","v":false},{"$f":"IF(H4551=\"-\",\"\",IF(AND(T4551=0,U4551=FALSE,I4551=\"\"),1,2))","v":2},{"$f":"VLOOKUP(H4551,Database!$B$1:$D$5000,3,0)","v":{"$error":"#N/A"}},{"$f":"ISERROR(W4551)","v":true}]
["",null,null,null,null,null,null,null,{"$f":"IF(ISERROR(VLOOKUP(H4556,Database!$B$1:$C$5000,2,FALSE)),\"\",VLOOKUP(H4556,Database!$B$1:$C$5000,2,FALSE))","v":""},"",{"$error":"#N/A"},null,null,null,null,null,null,null,null,"",false,2,{"$f":"VLOOKUP(H4556,Database!$B$1:$D$5000,3,0)","v":{"$error":"#N/A"}},true]
["",null,null,null,null,null,null,null,{"$f":"IF(ISERROR(VLOOKUP(H4562,Database!$B$1:$C$5000,2,FALSE)),\"\",VLOOKUP(H4562,Database!$B$1:$C$5000,2,FALSE))","v":""},"",{"$error":"#N/A"},null,null,null,null,null,null,null,null,"",false,2,{"$f":"VLOOKUP(H4562,Database!$B$1:$D$5000,3,0)","v":{"$error":"#N/A"}},true]
["",null,null,null,null,null,null,null,{"$f":"IF(ISERROR(VLOOKUP(H4568,Database!$B$1:$C$5000,2,FALSE)),\"\",VLOOKUP(H4568,Database!$B$1:$C$5000,2,FALSE))","v":""},"",{"$error":"#N/A"},null,null,null,null,null,null,null,null,"",false,2,{"$f":"VLOOKUP(H4568,Database!$B$1:$D$5000,3,0)","v":{"$error":"#N/A"}},true]
["",null,null,null,null,null,null,null,{"$f":"IF(ISERROR(VLOOKUP(H4571,Database!$B$1:$C$5000,2,FALSE)),\"\",VLOOKUP(H4571,Database!$B$1:$C$5000,2,FALSE))","v":""},"",{"$error":"#N/A"},null,null,null,null,null,null,null,null,"",false,2,{"$f":"VLOOKUP(H4571,Database!$B$1:$D$5000,3,0)","v":{"$error":"#N/A"}},true]
["",null,null,null,null,null,null,null,{"$f":"IF(ISERROR(VLOOKUP(H4577,Database!$B$1:$C$5000,2,FALSE)),\"\",VLOOKUP(H4577,Database!$B$1:$C$5000,2,FALSE))","v":""},"",{"$error":"#N/A"},null,null,null,null,null,null,null,null,"",false,2,{"$f":"VLOOKUP(H4577,Database!$B$1:$D$5000,3,0)","v":{"$error":"#N/A"}},true]
["",null,null,null,null,null,null,null,{"$f":"IF(ISERROR(VLOOKUP(H4582,Database!$B$1:$C$5000,2,FALSE)),\"\",VLOOKUP(H4582,Database!$B$1:$C$5000,2,FALSE))","v":""},"",{"$error":"#N/A"},null,null,null,null,null,null,null,null,"",false,2,{"$f":"VLOOKUP(H4582,Database!$B$1:$D$5000,3,0)","v":{"$error":"#N/A"}},true]
["",null,null,null,null,null,null,null,{"$f":"IF(ISERROR(VLOOKUP(H4587,Database!$B$1:$C$5000,2,FALSE)),\"\",VLOOKUP(H4587,Database!$B$1:$C$5000,2,FALSE))","v":""},"",{"$error":"#N/A"},null,null,null,null,null,null,null,null,"",false,2,{"$f":"VLOOKUP(H4587,Database!$B$1:$D$5000,3,0)","v":{"$error":"#N/A"}},true]
["",null,null,null,null,null,null,null,{"$f":"IF(ISERROR(VLOOKUP(H4592,Database!$B$1:$C$5000,2,FALSE)),\"\",VLOOKUP(H4592,Database!$B$1:$C$5000,2,FALSE))","v":""},"",{"$error":"#N/A"},null,null,null,null,null,null,null,null,"",false,2,{"$f":"VLOOKUP(H4592,Database!$B$1:$D$5000,3,0)","v":{"$error":"#N/A"}},true]
["",null,null,null,null,null,null,null,{"$f":"IF(ISERROR(VLOOKUP(H4597,Database!$B$1:$C$5000,2,FALSE)),\"\",VLOOKUP(H4597,Database!$B$1:$C$5000,2,FALSE))","v":""},"",{"$error":"#N/A"},null,null,null,null,null,null,null,null,"",false,2,{"$f":"VLOOKUP(H4597,Database!$B$1:$D$5000,3,0)","v":{"$error":"#N/A"}},true]
["",null,null,null,null,null,null,null,{"$f":"IF(ISERROR(VLOOKUP(H4598,Database!$B$1:$C$5000,2,FALSE)),\"\",VLOOKUP(H4598,Database!$B$1:$C$5000,2,FALSE))","v":""},"",{"$error":"#N/A"},null,null,null,null,null,null,null,null,"",false,2,{"$f":"VLOOKUP(H4598,Database!$B$1:$D$5000,3,0)","v":{"$error":"#N/A"}},true]
["",null,null,null,null,null,null,null,{"$f":"IF(ISERROR(VLOOKUP(H4606,Database!$B$1:$C$5000,2,FALSE)),\"\",VLOOKUP(H4606,Database!$B$1:$C$5000,2,FALSE))","v":""},"",{"$error":"#N/A"},null,null,null,null,null,null,null,null,"",false,2,{"$f":"VLOOKUP(H4606,Database!$B$1:$D$5000,3,0)","v":{"$error":"#N/A"}},true]
["",null,null,null,null,null,null,null,{"$f":"IF(ISERROR(VLOOKUP(H4607,Database!$B$1:$C$5000,2,FALSE)),\"\",VLOOKUP(H4607,Database!$B$1:$C$5000,2,FALSE))","v":""},"",{"$error":"#N/A"},null,null,null,null,null,null,null,null,"",false,2,{"$f":"VLOOKUP(H4607,Database!$B$1:$D$5000,3,0)","v":{"$error":"#N/A"}},true]
["",null,null,null,null,null,null,null,{"$f":"IF(ISERROR(VLOOKUP(H4613,Database!$B$1:$C$5000,2,FALSE)),\"\",VLOOKUP(H4613,Database!$B$1:$C$5000,2,FALSE))","v":""},"",{"$error":"#N/A"},null,null,null,null,null,null,null,null,"",false,2,{"$f":"VLOOKUP(H4613,Database!$B$1:$D$5000,3,0)","v":{"$error":"#N/A"}},true]
["",null,null,null,null,null,null,null,{"$f":"IF(ISERROR(VLOOKUP(H4618,Database!$B$1:$C$5000,2,FALSE)),\"\",VLOOKUP(H4618,Database!$B$1:$C$5000,2,FALSE))","v":""},"",{"$error":"#N/A"},null,null,null,null,null,null,null,null,"",false,2,{"$f":"VLOOKUP(H4618,Database!$B$1:$D$5000,3,0)","v":{"$error":"#N/A"}},true]
["",null,null,null,null,null,null,null,{"$f":"IF(ISERROR(VLOOKUP(H4625,Database!$B$1:$C$5000,2,FALSE)),\"\",VLOOKUP(H4625,Database!$B$1:$C$5000,2,FALSE))","v":""},"",{"$error":"#N/A"},null,null,null,null,null,null,null,null,"",false,2,{"$f":"VLOOKUP(H4625,Database!$B$1:$D$5000,3,0)","v":{"$error":"#N/A"}},true]
["",null,null,null,null,null,null,null,{"$f":"IF(ISERROR(VLOOKUP(H4628,Database!$B$1:$C$5000,2,FALSE)),\"\",VLOOKUP(H4628,Database!$B$1:$C$5000,2,FALSE))","v":""},"",{"$error":"#N/A"},null,null,null,null,null,null,null,null,"",false,2,{"$f":"VLOOKUP(H4628,Database!$B$1:$D$5000,3,0)","v":{"$error":"#N/A"}},true]
["",null,null,null,null,null,null,null,{"$f":"IF(ISERROR(VLOOKUP(H4633,Database!$B$1:$C$5000,2,FALSE)),\"\",VLOOKUP(H4633,Database!$B$1:$C$5000,2,FALSE))","v":""},"",{"$error":"#N/A"},null,null,null,null,null,null,null,null,"",false,2,{"$f":"VLOOKUP(H4633,Database!$B$1:$D$5000,3,0)","v":{"$error":"#N/A"}},true]
["",null,null,null,null,null,null,null,{"$f":"IF(ISERROR(VLOOKUP(H4639,Database!$B$1:$C$5000,2,FALSE)),\"\",VLOOKUP(H4639,Database!$B$1:$C$5000,2,FALSE))","v":""},"",{"$error":"#N/A"},null,null,null,null,null,null,null,null,"",false,2,{"$f":"VLOOKUP(H4639,Database!$B$1:$D$5000,3,0)","v":{"$error":"#N/A"}},true]
["",null,null,null,null,null,null,null,{"$f":"IF(ISERROR(VLOOKUP(H4644,Database!$B$1:$C$5000,2,FALSE)),\"\",VLOOKUP(H4644,Database!$B$1:$C$5000,2,FALSE))","v":""},"",{"$error":"#N/A"},null,null,null,null,null,null,null,null,"",false,2,{"$f":"VLOOKUP(H4644,Database!$B$1:$D$5000,3,0)","v":{"$error":"#N/A"}},true]
["",null,null,null,null,null,null,null,{"$f":"IF(ISERROR(VLOOKUP(H4648,Database!$B$1:$C$5000,2,FALSE)),\"\",VLOOKUP(H4648,Database!$B$1:$C$5000,2,FALSE))","v":""},"",{"$error":"#N/A"},null,null,null,null,null,null,null,null,"",false,2,{"$f":"VLOOKUP(H4648,Database!$B$1:$D$5000,3,0)","v":{"$error":"#N/A"}},true]
["",null,null,null,null,null,null,null,{"$f":"IF(ISERROR(VLOOKUP(H4654,Database!$B$1:$C$5000,2,FALSE)),\"\",VLOOKUP(H4654,Database!$B$1:$C$5000,2,FALSE))","v":""},"",{"$error":"#N/A"},null,null,null,null,null,null,null,null,"",false,2,{"$f":"VLOOKUP(H4654,Database!$B$1:$D$5000,3,0)","v":{"$error":"#N/A"}},true]
["",null,null,null,null,null,null,null,{"$f":"IF(ISERROR(VLOOKUP(H4659,Database!$B$1:$C$5000,2,FALSE)),\"\",VLOOKUP(H4659,Database!$B$1:$C$5000,2,FALSE))","v":""},"",{"$error":"#N/A"},null,null,null,null,null,null,null,null,"",false,2,{"$f":"VLOOKUP(H4659,Database!$B$1:$D$5000,3,0)","v":{"$error":"#N/A"}},true]
["",null,null,null,null,null,null,null,{"$f":"IF(ISERROR(VLOOKUP(H4663,Database!$B$1:$C$5000,2,FALSE)),\"\",VLOOKUP(H4663,Database!$B$1:$C$5000,2,FALSE))","v":""},"",{"$error":"#N/A"},null,null,null,null,null,null,null,null,"",false,2,{"$f":"VLOOKUP(H4663,Database!$B$1:$D$5000,3,0)","v":{"$error":"#N/A"}},true]
["",null,null,null,null,null,null,null,{"$f":"IF(ISERROR(VLOOKUP(H4664,Database!$B$1:$C$5000,2,FALSE)),\"\",VLOOKUP(H4664,Database!$B$1:$C$5000,2,FALSE))","v":""},"",{"$error":"#N/A"},null,null,null,null,null,null,null,null,"",false,2,{"$f":"VLOOKUP(H4664,Database!$B$1:$D$5000,3,0)","v":{"$error":"#N/A"}},true]
["",null,null,null,null,null,null,null,{"$f":"IF(ISERROR(VLOOKUP(H4669,Database!$B$1:$C$5000,2,FALSE)),\"\",VLOOKUP(H4669,Database!$B$1:$C$5000,2,FALSE))","v":""},"",{"$error":"#N/A"},null,null,null,null,null,null,null,null,"",false,2,{"$f":"VLOOKUP(H4669,Database!$B$1:$D$5000,3,0)","v":{"$error":"#N/A"}},true]
["",null,null,null,null,null,null,null,{"$f":"IF(ISERROR(VLOOKUP(H4675,Database!$B$1:$C$5000,2,FALSE)),\"\",VLOOKUP(H4675,Database!$B$1:$C$5000,2,FALSE))","v":""},"",{"$error":"#N/A"},null,null,null,null,null,null,null,null,"",false,2,{"$f":"VLOOKUP(H4675,Database!$B$1:$D$5000,3,0)","v":{"$error":"#N/A"}},true]
["",null,null,null,null,null,null,null,{"$f":"IF(ISERROR(VLOOKUP(H4682,Database!$B$1:$C$5000,2,FALSE)),\"\",VLOOKUP(H4682,Database!$B$1:$C$5000,2,FALSE))","v":""},"",{"$error":"#N/A"},null,null,null,null,null,null,null,null,"",false,2,{"$f":"VLOOKUP(H4682,Database!$B$1:$D$5000,3,0)","v":{"$error":"#N/A"}},true]
["",null,null,null,null,null,null,null,{"$f":"IF(ISERROR(VLOOKUP(H4685,Database!$B$1:$C$5000,2,FALSE)),\"\",VLOOKUP(H4685,Database!$B$1:$C$5000,2,FALSE))","v":""},"",{"$error":"#N/A"},null,null,null,null,null,null,null,null,"",false,2,{"$f":"VLOOKUP(H4685,Database!$B$1:$D$5000,3,0)","v":{"$error":"#N/A"}},true]
["",null,null,null,null,null,null,null,{"$f":"IF(ISERROR(VLOOKUP(H4690,Database!$B$1:$C$5000,2,FALSE)),\"\",VLOOKUP(H4690,Database!$B$1:$C$5000,2,FALSE))","v":""},"",{"$error":"#N/A"},null,null,null,null,null,null,null,null,"",false,2,{"$f":"VLOOKUP(H4690,Database!$B$1:$D$5000,3,0)","v":{"$error":"#N/A"}},true]
["",null,null,null,null,null,null,null,{"$f":"IF(ISERROR(VLOOKUP(H4695,Database!$B$1:$C$5000,2,FALSE)),\"\",VLOOKUP(H4695,Database!$B$1:$C$5000,2,FALSE))","v":""},"",{"$error":"#N/A"},null,null,null,null,null,null,null,null,"",false,2,{"$f":"VLOOKUP(H4695,Database!$B$1:$D$5000,3,0)","v":{"$error":"#N/A"}},true]
["",null,null,null,null,null,null,null,{"$f":"IF(ISERROR(VLOOKUP(H4701,Database!$B$1:$C$5000,2,FALSE)),\"\",VLOOKUP(H4701,Database!$B$1:$C$5000,2,FALSE))","v":""},"",{"$error":"#N/A"},null,null,null,null,null,null,null,null,"",false,2,{"$f":"VLOOKUP(H4701,Database!$B$1:$D$5000,3,0)","v":{"$error":"#N/A"}},true]
["",null,null,null,null,null,null,null,{"$f":"IF(ISERROR(VLOOKUP(H4705,Database!$B$1:$C$5000,2,FALSE)),\"\",VLOOKUP(H4705,Database!$B$1:$C$5000,2,FALSE))","v":""},"",{"$error":"#N/A"},null,null,null,null,null,null,null,null,"",false,2,{"$f":"VLOOKUP(H4705,Database!$B$1:$D$5000,3,0)","v":{"$error":"#N/A"}},true]
["",null,null,null,null,null,null,null,{"$f":"IF(ISERROR(VLOOKUP(H4710,Database!$B$1:$C$5000,2,FALSE)),\"\",VLOOKUP(H4710,Database!$B$1:$C$5000,2,FALSE))","v":""},"",{"$error":"#N/A"},null,null,null,null,null,null,null,null,"",false,2,{"$f":"VLOOKUP(H4710,Database!$B$1:$D$5000,3,0)","v":{"$error":"#N/A"}},true]
["",null,null,null,null,null,null,null,{"$f":"IF(ISERROR(VLOOKUP(H4716,Database!$B$1:$C$5000,2,FALSE)),\"\",VLOOKUP(H4716,Database!$B$1:$C$5000,2,FALSE))","v":""},"",{"$error":"#N/A"},null,null,null,null,null,null,null,null,"",false,2,{"$f":"VLOOKUP(H4716,Database!$B$1:$D$5000,3,0)","v":{"$error":"#N/A"}},true]
["",null,null,null,null,null,null,null,{"$f":"IF(ISERROR(VLOOKUP(H4720,Database!$B$1:$C$5000,2,FALSE)),\"\",VLOOKUP(H4720,Database!$B$1:$C$5000,2,FALSE))","v":""},"",{"$error":"#N/A"},null,null,null,null,null,null,null,null,"",false,2,{"$f":"VLOOKUP(H4720,Database!$B$1:$D$5000,3,0)","v":{"$error":"#N/A"}},true]
["",null,null,null,null,null,null,null,{"$f":"IF(ISERROR(VLOOKUP(H4721,Database!$B$1:$C$5000,2,FALSE)),\"\",VLOOKUP(H4721,Database!$B$1:$C$5000,2,FALSE))","v":""},"",{"$error":"#N/A"},null,null,null,null,null,null,null,null,"",false,2,{"$f":"VLOOKUP(H4721,Database!$B$1:$D$5000,3,0)","v":{"$error":"#N/A"}},true]
["",null,null,null,null,null,null,null,{"$f":"IF(ISERROR(VLOOKUP(H4726,Database!$B$1:$C$5000,2,FALSE)),\"\",VLOOKUP(H4726,Database!$B$1:$C$5000,2,FALSE))","v":""},"",{"$error":"#N/A"},null,null,null,null,null,null,null,null,"",false,2,{"$f":"VLOOKUP(H4726,Database!$B$1:$D$5000,3,0)","v":{"$error":"#N/A"}},true]
["",null,null,null,null,null,null,null,{"$f":"IF(ISERROR(VLOOKUP(H4731,Database!$B$1:$C$5000,2,FALSE)),\"\",VLOOKUP(H4731,Database!$B$1:$C$5000,2,FALSE))","v":""},"",{"$error":"#N/A"},null,null,null,null,null,null,null,null,"",false,2,{"$f":"VLOOKUP(H4731,Database!$B$1:$D$5000,3,0)","v":{"$error":"#N/A"}},true]
["",null,null,null,null,null,null,null,{"$f":"IF(ISERROR(VLOOKUP(H4739,Database!$B$1:$C$5000,2,FALSE)),\"\",VLOOKUP(H4739,Database!$B$1:$C$5000,2,FALSE))","v":""},"",{"$error":"#N/A"},null,null,null,null,null,null,null,null,"",false,2,{"$f":"VLOOKUP(H4739,Database!$B$1:$D$5000,3,0)","v":{"$error":"#N/A"}},true]
["",null,null,null,null,null,null,null,{"$f":"IF(ISERROR(VLOOKUP(H4741,Database!$B$1:$C$5000,2,FALSE)),\"\",VLOOKUP(H4741,Database!$B$1:$C$5000,2,FALSE))","v":""},"",{"$error":"#N/A"},null,null,null,null,null,null,null,null,"",false,2,{"$f":"VLOOKUP(H4741,Database!$B$1:$D$5000,3,0)","v":{"$error":"#N/A"}},true]
["",null,null,null,null,null,null,null,{"$f":"IF(ISERROR(VLOOKUP(H4746,Database!$B$1:$C$5000,2,FALSE)),\"\",VLOOKUP(H4746,Database!$B$1:$C$5000,2,FALSE))","v":""},"",{"$error":"#N/A"},null,null,null,null,null,null,null,null,"",false,2,{"$f":"VLOOKUP(H4746,Database!$B$1:$D$5000,3,0)","v":{"$error":"#N/A"}},true]
["",null,null,null,null,null,null,null,{"$f":"IF(ISERROR(VLOOKUP(H4752,Database!$B$1:$C$5000,2,FALSE)),\"\",VLOOKUP(H4752,Database!$B$1:$C$5000,2,FALSE))","v":""},"",{"$error":"#N/A"},null,null,null,null,null,null,null,null,"",false,2,{"$f":"VLOOKUP(H4752,Database!$B$1:$D$5000,3,0)","v":{"$error":"#N/A"}},true]
["",null,null,null,null,null,null,null,{"$f":"IF(ISERROR(VLOOKUP(H4758,Database!$B$1:$C$5000,2,FALSE)),\"\",VLOOKUP(H4758,Database!$B$1:$C$5000,2,FALSE))","v":""},"",{"$error":"#N/A"},null,null,null,null,null,null,null,null,"",false,2,{"$f":"VLOOKUP(H4758,Database!$B$1:$D$5000,3,0)","v":{"$error":"#N/A"}},true]
["",null,null,null,null,null,null,null,{"$f":"IF(ISERROR(VLOOKUP(H4762,Database!$B$1:$C$5000,2,FALSE)),\"\",VLOOKUP(H4762,Database!$B$1:$C$5000,2,FALSE))","v":""},"",{"$error":"#N/A"},null,null,null,null,null,null,null,null,"",false,2,{"$f":"VLOOKUP(H4762,Database!$B$1:$D$5000,3,0)","v":{"$error":"#N/A"}},true]
["",null,null,null,null,null,null,null,{"$f":"IF(ISERROR(VLOOKUP(H4767,Database!$B$1:$C$5000,2,FALSE)),\"\",VLOOKUP(H4767,Database!$B$1:$C$5000,2,FALSE))","v":""},"",{"$error":"#N/A"},null,null,null,null,null,null,null,null,"",false,2,{"$f":"VLOOKUP(H4767,Database!$B$1:$D$5000,3,0)","v":{"$error":"#N/A"}},true]
["",null,null,null,null,null,null,null,{"$f":"IF(ISERROR(VLOOKUP(H4772,Database!$B$1:$C$5000,2,FALSE)),\"\",VLOOKUP(H4772,Database!$B$1:$C$5000,2,FALSE))","v":""},"",{"$error":"#N/A"},null,null,null,null,null,null,null,null,"",false,2,{"$f":"VLOOKUP(H4772,Database!$B$1:$D$5000,3,0)","v":{"$error":"#N/A"}},true]
["",null,null,null,null,null,null,null,{"$f":"IF(ISERROR(VLOOKUP(H4777,Database!$B$1:$C$5000,2,FALSE)),\"\",VLOOKUP(H4777,Database!$B$1:$C$5000,2,FALSE))","v":""},"",{"$error":"#N/A"},null,null,null,null,null,null,null,null,"",false,2,{"$f":"VLOOKUP(H4777,Database!$B$1:$D$5000,3,0)","v":{"$error":"#N/A"}},true]
["",null,null,null,null,null,null,null,{"$f":"IF(ISERROR(VLOOKUP(H4782,Database!$B$1:$C$5000,2,FALSE)),\"\",VLOOKUP(H4782,Database!$B$1:$C$5000,2,FALSE))","v":""},"",{"$error":"#N/A"},null,null,null,null,null,null,null,null,"",false,2,{"$f":"VLOOKUP(H4782,Database!$B$1:$D$5000,3,0)","v":{"$error":"#N/A"}},true]
["",null,null,null,null,null,null,null,{"$f":"IF(ISERROR(VLOOKUP(H4783,Database!$B$1:$C$5000,2,FALSE)),\"\",VLOOKUP(H4783,Database!$B$1:$C$5000,2,FALSE))","v":""},"",{"$error":"#N/A"},null,null,null,null,null,null,null,null,"",false,2,{"$f":"VLOOKUP(H4783,Database!$B$1:$D$5000,3,0)","v":{"$error":"#N/A"}},true]
["",null,null,null,null,null,null,null,{"$f":"IF(ISERROR(VLOOKUP(H4788,Database!$B$1:$C$5000,2,FALSE)),\"\",VLOOKUP(H4788,Database!$B$1:$C$5000,2,FALSE))","v":""},"",{"$error":"#N/A"},null,null,null,null,null,null,null,null,"",false,2,{"$f":"VLOOKUP(H4788,Database!$B$1:$D$5000,3,0)","v":{"$error":"#N/A"}},true]
["",null,null,null,null,null,null,null,{"$f":"IF(ISERROR(VLOOKUP(H4796,Database!$B$1:$C$5000,2,FALSE)),\"\",VLOOKUP(H4796,Database!$B$1:$C$5000,2,FALSE))","v":""},"",{"$error":"#N/A"},null,null,null,null,null,null,null,null,"",false,2,{"$f":"VLOOKUP(H4796,Database!$B$1:$D$5000,3,0)","v":{"$error":"#N/A"}},true]
["",null,null,null,null,null,null,null,{"$f":"IF(ISERROR(VLOOKUP(H4798,Database!$B$1:$C$5000,2,FALSE)),\"\",VLOOKUP(H4798,Database!$B$1:$C$5000,2,FALSE))","v":""},"",{"$error":"#N/A"},null,null,null,null,null,null,null,null,"",false,2,{"$f":"VLOOKUP(H4798,Database!$B$1:$D$5000,3,0)","v":{"$error":"#N/A"}},true]
["",null,null,null,null,null,null,null,{"$f":"IF(ISERROR(VLOOKUP(H4803,Database!$B$1:$C$5000,2,FALSE)),\"\",VLOOKUP(H4803,Database!$B$1:$C$5000,2,FALSE))","v":""},"",{"$error":"#N/A"},null,null,null,null,null,null,null,null,"",false,2,{"$f":"VLOOKUP(H4803,Database!$B$1:$D$5000,3,0)","v":{"$error":"#N/A"}},true]
["",null,null,null,null,null,null,null,{"$f":"IF(ISERROR(VLOOKUP(H4808,Database!$B$1:$C$5000,2,FALSE)),\"\",VLOOKUP(H4808,Database!$B$1:$C$5000,2,FALSE))","v":""},"",{"$error":"#N/A"},null,null,null,null,null,null,null,null,"",false,2,{"$f":"VLOOKUP(H4808,Database!$B$1:$D$5000,3,0)","v":{"$error":"#N/A"}},true]
["",null,null,null,null,null,null,null,{"$f":"IF(ISERROR(VLOOKUP(H4815,Database!$B$1:$C$5000,2,FALSE)),\"\",VLOOKUP(H4815,Database!$B$1:$C$5000,2,FALSE))","v":""},"",{"$error":"#N/A"},null,null,null,null,null,null,null,null,"",false,2,{"$f":"VLOOKUP(H4815,Database!$B$1:$D$5000,3,0)","v":{"$error":"#N/A"}},true]
["",null,null,null,null,null,null,null,{"$f":"IF(ISERROR(VLOOKUP(H4818,Database!$B$1:$C$5000,2,FALSE)),\"\",VLOOKUP(H4818,Database!$B$1:$C$5000,2,FALSE))","v":""},"",{"$error":"#N/A"},null,null,null,null,null,null,null,null,"",false,2,{"$f":"VLOOKUP(H4818,Database!$B$1:$D$5000,3,0)","v":{"$error":"#N/A"}},true]
["",null,null,null,null,null,null,null,{"$f":"IF(ISERROR(VLOOKUP(H4824,Database!$B$1:$C$5000,2,FALSE)),\"\",VLOOKUP(H4824,Database!$B$1:$C$5000,2,FALSE))","v":""},"",{"$error":"#N/A"},null,null,null,null,null,null,null,null,"",false,2,{"$f":"VLOOKUP(H4824,Database!$B$1:$D$5000,3,0)","v":{"$error":"#N/A"}},true]
["",null,null,null,null,null,null,null,{"$f":"IF(ISERROR(VLOOKUP(H4829,Database!$B$1:$C$5000,2,FALSE)),\"\",VLOOKUP(H4829,Database!$B$1:$C$5000,2,FALSE))","v":""},"",{"$error":"#N/A"},null,null,null,null,null,null,null,null,"",false,2,{"$f":"VLOOKUP(H4829,Database!$B$1:$D$5000,3,0)","v":{"$error":"#N/A"}},true]
["",null,null,null,null,null,null,null,{"$f":"IF(ISERROR(VLOOKUP(H4834,Database!$B$1:$C$5000,2,FALSE)),\"\",VLOOKUP(H4834,Database!$B$1:$C$5000,2,FALSE))","v":""},"",{"$error":"#N/A"},null,null,null,null,null,null,null,null,"",false,2,{"$f":"VLOOKUP(H4834,Database!$B$1:$D$5000,3,0)","v":{"$error":"#N/A"}},true]
["",null,null,null,null,null,null,null,{"$f":"IF(ISERROR(VLOOKUP(H4839,Database!$B$1:$C$5000,2,FALSE)),\"\",VLOOKUP(H4839,Database!$B$1:$C$5000,2,FALSE))","v":""},"",{"$error":"#N/A"},null,null,null,null,null,null,null,null,"",false,2,{"$f":"VLOOKUP(H4839,Database!$B$1:$D$5000,3,0)","v":{"$error":"#N/A"}},true]
["",null,null,null,null,null,null,null,{"$f":"IF(ISERROR(VLOOKUP(H4844,Database!$B$1:$C$5000,2,FALSE)),\"\",VLOOKUP(H4844,Database!$B$1:$C$5000,2,FALSE))","v":""},"",{"$error":"#N/A"},null,null,null,null,null,null,null,null,"",false,2,{"$f":"VLOOKUP(H4844,Database!$B$1:$D$5000,3,0)","v":{"$error":"#N/A"}},true]
["",null,null,null,null,null,null,null,{"$f":"IF(ISERROR(VLOOKUP(H4845,Database!$B$1:$C$5000,2,FALSE)),\"\",VLOOKUP(H4845,Database!$B$1:$C$5000,2,FALSE))","v":""},"",{"$error":"#N/A"},null,null,null,null,null,null,null,null,"",false,2,{"$f":"VLOOKUP(H4845,Database!$B$1:$D$5000,3,0)","v":{"$error":"#N/A"}},true]
["",null,null,null,null,null,null,null,{"$f":"IF(ISERROR(VLOOKUP(H4853,Database!$B$1:$C$5000,2,FALSE)),\"\",VLOOKUP(H4853,Database!$B$1:$C$5000,2,FALSE))","v":""},"",{"$error":"#N/A"},null,null,null,null,null,null,null,null,"",false,2,{"$f":"VLOOKUP(H4853,Database!$B$1:$D$5000,3,0)","v":{"$error":"#N/A"}},true]
["",null,null,null,null,null,null,null,{"$f":"IF(ISERROR(VLOOKUP(H4854,Database!$B$1:$C$5000,2,FALSE)),\"\",VLOOKUP(H4854,Database!$B$1:$C$5000,2,FALSE))","v":""},"",{"$error":"#N/A"},null,null,null,null,null,null,null,null,"",false,2,{"$f":"VLOOKUP(H4854,Database!$B$1:$D$5000,3,0)","v":{"$error":"#N/A"}},true]
["",null,null,null,null,null,null,null,{"$f":"IF(ISERROR(VLOOKUP(H4860,Database!$B$1:$C$5000,2,FALSE)),\"\",VLOOKUP(H4860,Database!$B$1:$C$5000,2,FALSE))","v":""},"",{"$error":"#N/A"},null,null,null,null,null,null,null,null,"",false,2,{"$f":"VLOOKUP(H4860,Database!$B$1:$D$5000,3,0)","v":{"$error":"#N/A"}},true]
["",null,null,null,null,null,null,null,{"$f":"IF(ISERROR(VLOOKUP(H4865,Database!$B$1:$C$5000,2,FALSE)),\"\",VLOOKUP(H4865,Database!$B$1:$C$5000,2,FALSE))","v":""},"",{"$error":"#N/A"},null,null,null,null,null,null,null,null,"",false,2,{"$f":"VLOOKUP(H4865,Database!$B$1:$D$5000,3,0)","v":{"$error":"#N/A"}},true]
["",null,null,null,null,null,null,null,{"$f":"IF(ISERROR(VLOOKUP(H4872,Database!$B$1:$C$5000,2,FALSE)),\"\",VLOOKUP(H4872,Database!$B$1:$C$5000,2,FALSE))","v":""},"",{"$error":"#N/A"},null,null,null,null,null,null,null,null,"",false,2,{"$f":"VLOOKUP(H4872,Database!$B$1:$D$5000,3,0)","v":{"$error":"#N/A"}},true]
["",null,null,null,null,null,null,null,{"$f":"IF(ISERROR(VLOOKUP(H4875,Database!$B$1:$C$5000,2,FALSE)),\"\",VLOOKUP(H4875,Database!$B$1:$C$5000,2,FALSE))","v":""},"",{"$error":"#N/A"},null,null,null,null,null,null,null,null,"",false,2,{"$f":"VLOOKUP(H4875,Database!$B$1:$D$5000,3,0)","v":{"$error":"#N/A"}},true]
["",null,null,null,null,null,null,null,{"$f":"IF(ISERROR(VLOOKUP(H4880,Database!$B$1:$C$5000,2,FALSE)),\"\",VLOOKUP(H4880,Database!$B$1:$C$5000,2,FALSE))","v":""},"",{"$error":"#N/A"},null,null,null,null,null,null,null,null,"",false,2,{"$f":"VLOOKUP(H4880,Database!$B$1:$D$5000,3,0)","v":{"$error":"#N/A"}},true]
["",null,null,null,null,null,null,null,{"$f":"IF(ISERROR(VLOOKUP(H4886,Database!$B$1:$C$5000,2,FALSE)),\"\",VLOOKUP(H4886,Database!$B$1:$C$5000,2,FALSE))","v":""},"",{"$error":"#N/A"},null,null,null,null,null,null,null,null,"",false,2,{"$f":"VLOOKUP(H4886,Database!$B$1:$D$5000,3,0)","v":{"$error":"#N/A"}},true]
["",null,null,null,null,null,null,null,{"$f":"IF(ISERROR(VLOOKUP(H4891,Database!$B$1:$C$5000,2,FALSE)),\"\",VLOOKUP(H4891,Database!$B$1:$C$5000,2,FALSE))","v":""},"",{"$error":"#N/A"},null,null,null,null,null,null,null,null,"",false,2,{"$f":"VLOOKUP(H4891,Database!$B$1:$D$5000,3,0)","v":{"$error":"#N/A"}},true]
["",null,null,null,null,null,null,null,{"$f":"IF(ISERROR(VLOOKUP(H4895,Database!$B$1:$C$5000,2,FALSE)),\"\",VLOOKUP(H4895,Database!$B$1:$C$5000,2,FALSE))","v":""},"",{"$error":"#N/A"},null,null,null,null,null,null,null,null,"",false,2,{"$f":"VLOOKUP(H4895,Database!$B$1:$D$5000,3,0)","v":{"$error":"#N/A"}},true]
["",null,null,null,null,null,null,null,{"$f":"IF(ISERROR(VLOOKUP(H4901,Database!$B$1:$C$5000,2,FALSE)),\"\",VLOOKUP(H4901,Database!$B$1:$C$5000,2,FALSE))","v":""},"",{"$error":"#N/A"},null,null,null,null,null,null,null,null,"",false,2,{"$f":"VLOOKUP(H4901,Database!$B$1:$D$5000,3,0)","v":{"$error":"#N/A"}},true]
["",null,null,null,null,null,null,null,{"$f":"IF(ISERROR(VLOOKUP(H4906,Database!$B$1:$C$5000,2,FALSE)),\"\",VLOOKUP(H4906,Database!$B$1:$C$5000,2,FALSE))","v":""},"",{"$error":"#N/A"},null,null,null,null,null,null,null,null,"",false,2,{"$f":"VLOOKUP(H4906,Database!$B$1:$D$5000,3,0)","v":{"$error":"#N/A"}},true]
["",null,null,null,null,null,null,null,{"$f":"IF(ISERROR(VLOOKUP(H4910,Database!$B$1:$C$5000,2,FALSE)),\"\",VLOOKUP(H4910,Database!$B$1:$C$5000,2,FALSE))","v":""},"",{"$error":"#N/A"},null,null,null,null,null,null,null,null,"",false,2,{"$f":"VLOOKUP(H4910,Database!$B$1:$D$5000,3,0)","v":{"$error":"#N/A"}},true]
["",null,null,null,null,null,null,null,{"$f":"IF(ISERROR(VLOOKUP(H4911,Database!$B$1:$C$5000,2,FALSE)),\"\",VLOOKUP(H4911,Database!$B$1:$C$5000,2,FALSE))","v":""},"",{"$error":"#N/A"},null,null,null,null,null,null,null,null,"",false,2,{"$f":"VLOOKUP(H4911,Database!$B$1:$D$5000,3,0)","v":{"$error":"#N/A"}},true]
["",null,null,null,null,null,null,null,{"$f":"IF(ISERROR(VLOOKUP(H4916,Database!$B$1:$C$5000,2,FALSE)),\"\",VLOOKUP(H4916,Database!$B$1:$C$5000,2,FALSE))","v":""},"",{"$error":"#N/A"},null,null,null,null,null,null,null,null,"",false,2,{"$f":"VLOOKUP(H4916,Database!$B$1:$D$5000,3,0)","v":{"$error":"#N/A"}},true]
["",null,null,null,null,null,null,null,{"$f":"IF(ISERROR(VLOOKUP(H4922,Database!$B$1:$C$5000,2,FALSE)),\"\",VLOOKUP(H4922,Database!$B$1:$C$5000,2,FALSE))","v":""},"",{"$error":"#N/A"},null,null,null,null,null,null,null,null,"",false,2,{"$f":"VLOOKUP(H4922,Database!$B$1:$D$5000,3,0)","v":{"$error":"#N/A"}},true]
["",null,null,null,null,null,null,null,{"$f":"IF(ISERROR(VLOOKUP(H4929,Database!$B$1:$C$5000,2,FALSE)),\"\",VLOOKUP(H4929,Database!$B$1:$C$5000,2,FALSE))","v":""},"",{"$error":"#N/A"},null,null,null,null,null,null,null,null,"",false,2,{"$f":"VLOOKUP(H4929,Database!$B$1:$D$5000,3,0)","v":{"$error":"#N/A"}},true]
["",null,null,null,null,null,null,null,{"$f":"IF(ISERROR(VLOOKUP(H4931,Database!$B$1:$C$5000,2,FALSE)),\"\",VLOOKUP(H4931,Database!$B$1:$C$5000,2,FALSE))","v":""},"",{"$error":"#N/A"},null,null,null,null,null,null,null,null,"",false,2,{"$f":"VLOOKUP(H4931,Database!$B$1:$D$5000,3,0)","v":{"$error":"#N/A"}},true]
["",null,null,null,null,null,null,null,{"$f":"IF(ISERROR(VLOOKUP(H4937,Database!$B$1:$C$5000,2,FALSE)),\"\",VLOOKUP(H4937,Database!$B$1:$C$5000,2,FALSE))","v":""},"",{"$error":"#N/A"},null,null,null,null,null,null,null,null,"",false,2,{"$f":"VLOOKUP(H4937,Database!$B$1:$D$5000,3,0)","v":{"$error":"#N/A"}},true]
["",null,null,null,null,null,null,null,{"$f":"IF(ISERROR(VLOOKUP(H4942,Database!$B$1:$C$5000,2,FALSE)),\"\",VLOOKUP(H4942,Database!$B$1:$C$5000,2,FALSE))","v":""},"",{"$error":"#N/A"},null,null,null,null,null,null,null,null,"",false,2,{"$f":"VLOOKUP(H4942,Database!$B$1:$D$5000,3,0)","v":{"$error":"#N/A"}},true]
["",null,null,null,null,null,null,null,{"$f":"IF(ISERROR(VLOOKUP(H4948,Database!$B$1:$C$5000,2,FALSE)),\"\",VLOOKUP(H4948,Database!$B$1:$C$5000,2,FALSE))","v":""},"",{"$error":"#N/A"},null,null,null,null,null,null,null,null,"",false,2,{"$f":"VLOOKUP(H4948,Database!$B$1:$D$5000,3,0)","v":{"$error":"#N/A"}},true]
["",null,null,null,null,null,null,null,{"$f":"IF(ISERROR(VLOOKUP(H4952,Database!$B$1:$C$5000,2,FALSE)),\"\",VLOOKUP(H4952,Database!$B$1:$C$5000,2,FALSE))","v":""},"",{"$error":"#N/A"},null,null,null,null,null,null,null,null,"",false,2,{"$f":"VLOOKUP(H4952,Database!$B$1:$D$5000,3,0)","v":{"$error":"#N/A"}},true]
["",null,null,null,null,null,null,null,{"$f":"IF(ISERROR(VLOOKUP(H4957,Database!$B$1:$C$5000,2,FALSE)),\"\",VLOOKUP(H4957,Database!$B$1:$C$5000,2,FALSE))","v":""},"",{"$error":"#N/A"},null,null,null,null,null,null,null,null,"",false,2,{"$f":"VLOOKUP(H4957,Database!$B$1:$D$5000,3,0)","v":{"$error":"#N/A"}},true]
["",null,null,null,null,null,null,null,{"$f":"IF(ISERROR(VLOOKUP(H4963,Database!$B$1:$C$5000,2,FALSE)),\"\",VLOOKUP(H4963,Database!$B$1:$C$5000,2,FALSE))","v":""},"",{"$error":"#N/A"},null,null,null,null,null,null,null,null,"",false,2,{"$f":"VLOOKUP(H4963,Database!$B$1:$D$5000,3,0)","v":{"$error":"#N/A"}},true]
["",null,null,null,null,null,null,null,{"$f":"IF(ISERROR(VLOOKUP(H4967,Database!$B$1:$C$5000,2,FALSE)),\"\",VLOOKUP(H4967,Database!$B$1:$C$5000,2,FALSE))","v":""},"",{"$error":"#N/A"},null,null,null,null,null,null,null,null,"",false,2,{"$f":"VLOOKUP(H4967,Database!$B$1:$D$5000,3,0)","v":{"$error":"#N/A"}},true]
["",null,null,null,null,null,null,null,{"$f":"IF(ISERROR(VLOOKUP(H4972,Database!$B$1:$C$5000,2,FALSE)),\"\",VLOOKUP(H4972,Database!$B$1:$C$5000,2,FALSE))","v":""},"",{"$error":"#N/A"},null,null,null,null,null,null,null,null,"",false,2,{"$f":"VLOOKUP(H4972,Database!$B$1:$D$5000,3,0)","v":{"$error":"#N/A"}},true]
["",null,null,null,null,null,null,null,{"$f":"IF(ISERROR(VLOOKUP(H4973,Database!$B$1:$C$5000,2,FALSE)),\"\",VLOOKUP(H4973,Database!$B$1:$C$5000,2,FALSE))","v":""},"",{"$error":"#N/A"},null,null,null,null,null,null,null,null,"",false,2,{"$f":"VLOOKUP(H4973,Database!$B$1:$D$5000,3,0)","v":{"$error":"#N/A"}},true]
["",null,null,null,null,null,null,null,{"$f":"IF(ISERROR(VLOOKUP(H4978,Database!$B$1:$C$5000,2,FALSE)),\"\",VLOOKUP(H4978,Database!$B$1:$C$5000,2,FALSE))","v":""},"",{"$error":"#N/A"},null,null,null,null,null,null,null,null,"",false,2,{"$f":"VLOOKUP(H4978,Database!$B$1:$D$5000,3,0)","v":{"$error":"#N/A"}},true]
["",null,null,null,null,null,null,null,{"$f":"IF(ISERROR(VLOOKUP(H4986,Database!$B$1:$C$5000,2,FALSE)),\"\",VLOOKUP(H4986,Database!$B$1:$C$5000,2,FALSE))","v":""},"",{"$error":"#N/A"},null,null,null,null,null,null,null,null,"",false,2,{"$f":"VLOOKUP(H4986,Database!$B$1:$D$5000,3,0)","v":{"$error":"#N/A"}},true]
["",null,null,null,null,null,null,null,{"$f":"IF(ISERROR(VLOOKUP(H4988,Database!$B$1:$C$5000,2,FALSE)),\"\",VLOOKUP(H4988,Database!$B$1:$C$5000,2,FALSE))","v":""},"",{"$error":"#N/A"},null,null,null,null,null,null,null,null,"",false,2,{"$f":"VLOOKUP(H4988,Database!$B$1:$D$5000,3,0)","v":{"$error":"#N/A"}},true]
["",null,null,null,null,null,null,null,{"$f":"IF(ISERROR(VLOOKUP(H4993,Database!$B$1:$C$5000,2,FALSE)),\"\",VLOOKUP(H4993,Database!$B$1:$C$5000,2,FALSE))","v":""},"",{"$error":"#N/A"},null,null,null,null,null,null,null,null,"",false,2,{"$f":"VLOOKUP(H4993,Database!$B$1:$D$5000,3,0)","v":{"$error":"#N/A"}},true]
[{"$f":"IF(B4999=\"\",\"\",ROW(A4994))","v":""},null,null,null,null,null,null,null,{"$f":"IF(ISERROR(VLOOKUP(H4999,Database!$B$1:$C$5000,2,FALSE)),\"\",VLOOKUP(H4999,Database!$B$1:$C$5000,2,FALSE))","v":""},{"$f":"IF(V4999=1,1,IF(AND(T4999=0,F4999=\"SSB\",V4999<>\"\"),3,IF(AND(T4999=0,F4999=\"DIGI\",V4999<>\"\"),2,IF(AND(T4999=0,F4999=\"CW\",V4999<>\"\"),5,IF(H4999=\"-\",\"\",T4999)))))","v":""},{"$f":"IF(H4999=\"-\",\"\",IF(AND(H4999<>\"\",X4999=TRUE),\"INDIPENDENT\",IF(W4999=0,\"SCRIVI NOME NELLE NOTE\",W4999)))","v":{"$error":"#N/A"}},null,null,null,null,null,null,null,null,{"$f":"IF(H4999=\"\",\"\",IF(H4999=$R$6,25,IF(OR(H4999=$R$7,H4999=$R$8,H4999=$R$9,H4999=$R$10,H4999=$R$11,H4999=$R$12,H4999=$R$13,H4999=$R$14,H4999=$R$15,H4999=$R$16,H4999=$R$17,H4999=$R$18,H4999=$R$19,H4999=$R$20,H4999=$R$21,H4999=$R$22,H4999=$R$23),15,0)))","v":""},{"$f":"ISERROR(I4999)","v":false},{"$f":"IF(H4999=\"-\",\"\",IF(AND(T4999=0,U4999=FALSE,I4999=\"\"),1,2))","v":2},{"$f":"VLOOKUP(H4999,Database!$B$1:$D$5000,3,0)","v":{"$error":"#N/A"}},{"$f":"ISERROR(W4999)","v":true}]
["",null,null,null,null,null,null,null,{"$f":"IF(ISERROR(VLOOKUP(H5005,Database!$B$1:$C$5000,2,FALSE)),\"\",VLOOKUP(H5005,Database!$B$1:$C$5000,2,FALSE))","v":""},"",{"$error":"#N/A"},null,null,null,null,null,null,null,null,"",false,2,{"$f":"VLOOKUP(H5005,Database!$B$1:$D$5000,3,0)","v":{"$error":"#N/A"}},true]
["",null,null,null,null,null,null,null,{"$f":"IF(ISERROR(VLOOKUP(H5008,Database!$B$1:$C$5000,2,FALSE)),\"\",VLOOKUP(H5008,Database!$B$1:$C$5000,2,FALSE))","v":""},"",{"$error":"#N/A"},null,null,null,null,null,null,null,null,"",false,2,{"$f":"VLOOKUP(H5008,Database!$B$1:$D$5000,3,0)","v":{"$error":"#N/A"}},true]
["",null,null,null,null,null,null,null,{"$f":"IF(ISERROR(VLOOKUP(H5014,Database!$B$1:$C$5000,2,FALSE)),\"\",VLOOKUP(H5014,Database!$B$1:$C$5000,2,FALSE))","v":""},"",{"$error":"#N/A"},null,null,null,null,null,null,null,null,"",false,2,{"$f":"VLOOKUP(H5014,Database!$B$1:$D$5000,3,0)","v":{"$error":"#N/A"}},true]
["",null,null,null,null,null,null,null,{"$f":"IF(ISERROR(VLOOKUP(H5019,Database!$B$1:$C$5000,2,FALSE)),\"\",VLOOKUP(H5019,Database!$B$1:$C$5000,2,FALSE))","v":""},"",{"$error":"#N/A"},null,null,null,null,null,null,null,null,"",false,2,{"$f":"VLOOKUP(H5019,Database!$B$1:$D$5000,3,0)","v":{"$error":"#N/A"}},true]
["",null,null,null,null,null,null,null,{"$f":"IF(ISERROR(VLOOKUP(H5024,Database!$B$1:$C$5000,2,FALSE)),\"\",VLOOKUP(H5024,Database!$B$1:$C$5000,2,FALSE))","v":""},"",{"$error":"#N/A"},null,null,null,null,null,null,null,null,"",false,2,{"$f":"VLOOKUP(H5024,Database!$B$1:$D$5000,3,0)","v":{"$error":"#N/A"}},true]
["",null,null,null,null,null,null,null,{"$f":"IF(ISERROR(VLOOKUP(H5029,Database!$B$1:$C$5000,2,FALSE)),\"\",VLOOKUP(H5029,Database!$B$1:$C$5000,2,FALSE))","v":""},"",{"$error":"#N/A"},null,null,null,null,null,null,null,null,"",false,2,{"$f":"VLOOKUP(H5029,Database!$B$1:$D$5000,3,0)","v":{"$error":"#N/A"}},true]
["",null,null,null,null,null,null,null,{"$f":"IF(ISERROR(VLOOKUP(H5034,Database!$B$1:$C$5000,2,FALSE)),\"\",VLOOKUP(H5034,Database!$B$1:$C$5000,2,FALSE))","v":""},"",{"$error":"#N/A"},null,null,null,null,null,null,null,null,"",false,2,{"$f":"VLOOKUP(H5034,Database!$B$1:$D$5000,3,0)","v":{"$error":"#N/A"}},true]
["",null,null,null,null,null,null,null,{"$f":"IF(ISERROR(VLOOKUP(H5035,Database!$B$1:$C$5000,2,FALSE)),\"\",VLOOKUP(H5035,Database!$B$1:$C$5000,2,FALSE))","v":""},"",{"$error":"#N/A"},null,null,null,null,null,null,null,null,"",false,2,{"$f":"VLOOKUP(H5035,Database!$B$1:$D$5000,3,0)","v":{"$error":"#N/A"}},true]
["",null,null,null,null,null,null,null,{"$f":"IF(ISERROR(VLOOKUP(H5043,Database!$B$1:$C$5000,2,FALSE)),\"\",VLOOKUP(H5043,Database!$B$1:$C$5000,2,FALSE))","v":""},"",{"$error":"#N/A"},null,null,null,null,null,null,null,null,"",false,2,{"$f":"VLOOKUP(H5043,Database!$B$1:$D$5000,3,0)","v":{"$error":"#N/A"}},true]
["",null,null,null,null,null,null,null,{"$f":"IF(ISERROR(VLOOKUP(H5045,Database!$B$1:$C$5000,2,FALSE)),\"\",VLOOKUP(H5045,Database!$B$1:$C$5000,2,FALSE))","v":""},"",{"$error":"#N/A"},null,null,null,null,null,null,null,null,"",false,2,{"$f":"VLOOKUP(H5045,Database!$B$1:$D$5000,3,0)","v":{"$error":"#N/A"}},true]
["",null,null,null,null,null,null,null,{"$f":"IF(ISERROR(VLOOKUP(H5050,Database!$B$1:$C$5000,2,FALSE)),\"\",VLOOKUP(H5050,Database!$B$1:$C$5000,2,FALSE))","v":""},"",{"$error":"#N/A"},null,null,null,null,null,null,null,null,"",false,2,{"$f":"VLOOKUP(H5050,Database!$B$1:$D$5000,3,0)","v":{"$error":"#N/A"}},true]
["",null,null,null,null,null,null,null,{"$f":"IF(ISERROR(VLOOKUP(H5055,Database!$B$1:$C$5000,2,FALSE)),\"\",VLOOKUP(H5055,Database!$B$1:$C$5000,2,FALSE))","v":""},"",{"$error":"#N/A"},null,null,null,null,null,null,null,null,"",false,2,{"$f":"VLOOKUP(H5055,Database!$B$1:$D$5000,3,0)","v":{"$error":"#N/A"}},true]
["",null,null,null,null,null,null,null,{"$f":"IF(ISERROR(VLOOKUP(H5062,Database!$B$1:$C$5000,2,FALSE)),\"\",VLOOKUP(H5062,Database!$B$1:$C$5000,2,FALSE))","v":""},"",{"$error":"#N/A"},null,null,null,null,null,null,null,null,"",false,2,{"$f":"VLOOKUP(H5062,Database!$B$1:$D$5000,3,0)","v":{"$error":"#N/A"}},true]
["",null,null,null,null,null,null,null,{"$f":"IF(ISERROR(VLOOKUP(H5065,Database!$B$1:$C$5000,2,FALSE)),\"\",VLOOKUP(H5065,Database!$B$1:$C$5000,2,FALSE))","v":""},"",{"$error":"#N/A"},null,null,null,null,null,null,null,null,"",false,2,{"$f":"VLOOKUP(H5065,Database!$B$1:$D$5000,3,0)","v":{"$error":"#N/A"}},true]
["",null,null,null,null,null,null,null,{"$f":"IF(ISERROR(VLOOKUP(H5070,Database!$B$1:$C$5000,2,FALSE)),\"\",VLOOKUP(H5070,Database!$B$1:$C$5000,2,FALSE))","v":""},"",{"$error":"#N/A"},null,null,null,null,null,null,null,null,"",false,2,{"$f":"VLOOKUP(H5070,Database!$B$1:$D$5000,3,0)","v":{"$error":"#N/A"}},true]
["",null,null,null,null,null,null,null,{"$f":"IF(ISERROR(VLOOKUP(H5076,Database!$B$1:$C$5000,2,FALSE)),\"\",VLOOKUP(H5076,Database!$B$1:$C$5000,2,FALSE))","v":""},"",{"$error":"#N/A"},null,null,null,null,null,null,null,null,"",false,2,{"$f":"VLOOKUP(H5076,Database!$B$1:$D$5000,3,0)","v":{"$error":"#N/A"}},true]
["",null,null,null,null,null,null,null,{"$f":"IF(ISERROR(VLOOKUP(H5081,Database!$B$1:$C$5000,2,FALSE)),\"\",VLOOKUP(H5081,Database!$B$1:$C$5000,2,FALSE))","v":""},"",{"$error":"#N/A"},null,null,null,null,null,null,null,null,"",false,2,{"$f":"VLOOKUP(H5081,Database!$B$1:$D$5000,3,0)","v":{"$error":"#N/A"}},true]
["",null,null,null,null,null,null,null,{"$f":"IF(ISERROR(VLOOKUP(H5086,Database!$B$1:$C$5000,2,FALSE)),\"\",VLOOKUP(H5086,Database!$B$1:$C$5000,2,FALSE))","v":""},"",{"$error":"#N/A"},null,null,null,null,null,null,null,null,"",false,2,{"$f":"VLOOKUP(H5086,Database!$B$1:$D$5000,3,0)","v":{"$error":"#N/A"}},true]
["",null,null,null,null,null,null,null,{"$f":"IF(ISERROR(VLOOKUP(H5091,Database!$B$1:$C$5000,2,FALSE)),\"\",VLOOKUP(H5091,Database!$B$1:$C$5000,2,FALSE))","v":""},"",{"$error":"#N/A"},null,null,null,null,null,null,null,null,"",false,2,{"$f":"VLOOKUP(H5091,Database!$B$1:$D$5000,3,0)","v":{"$error":"#N/A"}},true]
["",null,null,null,null,null,null,null,{"$f":"IF(ISERROR(VLOOKUP(H5096,Database!$B$1:$C$5000,2,FALSE)),\"\",VLOOKUP(H5096,Database!$B$1:$C$5000,2,FALSE))","v":""},"",{"$error":"#N/A"},null,null,null,null,null,null,null,null,"",false,2,{"$f":"VLOOKUP(H5096,Database!$B$1:$D$5000,3,0)","v":{"$error":"#N/A"}},true]
["",null,null,null,null,null,null,null,{"$f":"IF(ISERROR(VLOOKUP(H5100,Database!$B$1:$C$5000,2,FALSE)),\"\",VLOOKUP(H5100,Database!$B$1:$C$5000,2,FALSE))","v":""},"",{"$error":"#N/A"},null,null,null,null,null,null,null,null,"",false,2,{"$f":"VLOOKUP(H5100,Database!$B$1:$D$5000,3,0)","v":{"$error":"#N/A"}},true]
["",null,null,null,null,null,null,null,{"$f":"IF(ISERROR(VLOOKUP(H5101,Database!$B$1:$C$5000,2,FALSE)),\"\",VLOOKUP(H5101,Database!$B$1:$C$5000,2,FALSE))","v":""},"",{"$error":"#N/A"},null,null,null,null,null,null,null,null,"",false,2,{"$f":"VLOOKUP(H5101,Database!$B$1:$D$5000,3,0)","v":{"$error":"#N/A"}},true]
["",null,null,null,null,null,null,null,{"$f":"IF(ISERROR(VLOOKUP(H5107,Database!$B$1:$C$5000,2,FALSE)),\"\",VLOOKUP(H5107,Database!$B$1:$C$5000,2,FALSE))","v":""},"",{"$error":"#N/A"},null,null,null,null,null,null,null,null,"",false,2,{"$f":"VLOOKUP(H5107,Database!$B$1:$D$5000,3,0)","v":{"$error":"#N/A"}},true]
["",null,null,null,null,null,null,null,{"$f":"IF(ISERROR(VLOOKUP(H5112,Database!$B$1:$C$5000,2,FALSE)),\"\",VLOOKUP(H5112,Database!$B$1:$C$5000,2,FALSE))","v":""},"",{"$error":"#N/A"},null,null,null,null,null,null,null,null,"",false,2,{"$f":"VLOOKUP(H5112,Database!$B$1:$D$5000,3,0)","v":{"$error":"#N/A"}},true]
["",null,null,null,null,null,null,null,{"$f":"IF(ISERROR(VLOOKUP(H5119,Database!$B$1:$C$5000,2,FALSE)),\"\",VLOOKUP(H5119,Database!$B$1:$C$5000,2,FALSE))","v":""},"",{"$error":"#N/A"},null,null,null,null,null,null,null,null,"",false,2,{"$f":"VLOOKUP(H5119,Database!$B$1:$D$5000,3,0)","v":{"$error":"#N/A"}},true]
["",null,null,null,null,null,null,null,{"$f":"IF(ISERROR(VLOOKUP(H5122,Database!$B$1:$C$5000,2,FALSE)),\"\",VLOOKUP(H5122,Database!$B$1:$C$5000,2,FALSE))","v":""},"",{"$error":"#N/A"},null,null,null,null,null,null,null,null,"",false,2,{"$f":"VLOOKUP(H5122,Database!$B$1:$D$5000,3,0)","v":{"$error":"#N/A"}},true]
[{"$f":"IF(B5127=\"\",\"\",ROW(A5122))","v":""},null,null,null,null,null,null,null,{"$f":"IF(ISERROR(VLOOKUP(H5127,Database!$B$1:$C$5000,2,FALSE)),\"\",VLOOKUP(H5127,Database!$B$1:$C$5000,2,FALSE))","v":""},{"$f":"IF(V5127=1,1,IF(AND(T5127=0,F5127=\"SSB\",V5127<>\"\"),3,IF(AND(T5127=0,F5127=\"DIGI\",V5127<>\"\"),2,IF(AND(T5127=0,F5127=\"CW\",V5127<>\"\"),5,IF(H5127=\"-\",\"\",T5127)))))","v":""},{"$f":"IF(H5127=\"-\",\"\",IF(AND(H5127<>\"\",X5127=TRUE),\"INDIPENDENT\",IF(W5127=0,\"SCRIVI NOME NELLE NOTE\",W5127)))","v":{"$error":"#N/A"}},null,null,null,null,null,null,null,null,{"$f":"IF(H5127=\"\",\"\",IF(H5127=$R$6,25,IF(OR(H5127=$R$7,H5127=$R$8,H5127=$R$9,H5127=$R$10,H5127=$R$11,H5127=$R$12,H5127=$R$13,H5127=$R$14,H5127=$R$15,H5127=$R$16,H5127=$R$17,H5127=$R$18,H5127=$R$19,H5127=$R$20,H5127=$R$21,H5127=$R$22,H5127=$R$23),15,0)))","v":""},{"$f":"ISERROR(I5127)","v":false},{"$f":"IF(H5127=\"-\",\"\",IF(AND(T5127=0,U5127=FALSE,I5127=\"\"),1,2))","v":2},{"$f":"VLOOKUP(H5127,Database!$B$1:$D$5000,3,0)","v":{"$error":"#N/A"}},{"$f":"ISERROR(W5127)","v":true}]
["",null,null,null,null,null,null,null,{"$f":"IF(ISERROR(VLOOKUP(H5132,Database!$B$1:$C$5000,2,FALSE)),\"\",VLOOKUP(H5132,Database!$B$1:$C$5000,2,FALSE))","v":""},"",{"$error":"#N/A"},null,null,null,null,null,null,null,null,"",false,2,{"$f":"VLOOKUP(H5132,Database!$B$1:$D$5000,3,0)","v":{"$error":"#N/A"}},true]
["",null,null,null,null,null,null,null,{"$f":"IF(ISERROR(VLOOKUP(H5138,Database!$B$1:$C$5000,2,FALSE)),\"\",VLOOKUP(H5138,Database!$B$1:$C$5000,2,FALSE))","v":""},"",{"$error":"#N/A"},null,null,null,null,null,null,null,null,"",false,2,{"$f":"VLOOKUP(H5138,Database!$B$1:$D$5000,3,0)","v":{"$error":"#N/A"}},true]
["",null,null,null,null,null,null,null,{"$f":"IF(ISERROR(VLOOKUP(H5142,Database!$B$1:$C$5000,2,FALSE)),\"\",VLOOKUP(H5142,Database!$B$1:$C$5000,2,FALSE))","v":""},"",{"$error":"#N/A"},null,null,null,null,null,null,null,null,"",false,2,{"$f":"VLOOKUP(H5142,Database!$B$1:$D$5000,3,0)","v":{"$error":"#N/A"}},true]
["",null,null,null,null,null,null,null,{"$f":"IF(ISERROR(VLOOKUP(H5148,Database!$B$1:$C$5000,2,FALSE)),\"\",VLOOKUP(H5148,Database!$B$1:$C$5000,2,FALSE))","v":""},"",{"$error":"#N/A"},null,null,null,null,null,null,null,null,"",false,2,{"$f":"VLOOKUP(H5148,Database!$B$1:$D$5000,3,0)","v":{"$error":"#N/A"}},true]
["",null,null,null,null,null,null,null,{"$f":"IF(ISERROR(VLOOKUP(H5153,Database!$B$1:$C$5000,2,FALSE)),\"\",VLOOKUP(H5153,Database!$B$1:$C$5000,2,FALSE))","v":""},"",{"$error":"#N/A"},null,null,null,null,null,null,null,null,"",false,2,{"$f":"VLOOKUP(H5153,Database!$B$1:$D$5000,3,0)","v":{"$error":"#N/A"}},true]
["",null,null,null,null,null,null,null,{"$f":"IF(ISERROR(VLOOKUP(H5158,Database!$B$1:$C$5000,2,FALSE)),\"\",VLOOKUP(H5158,Database!$B$1:$C$5000,2,FALSE))","v":""},"",{"$error":"#N/A"},null,null,null,null,null,null,null,null,"",false,2,{"$f":"VLOOKUP(H5158,Database!$B$1:$D$5000,3,0)","v":{"$error":"#N/A"}},true]
["",null,null,null,null,null,null,null,{"$f":"IF(ISERROR(VLOOKUP(H5159,Database!$B$1:$C$5000,2,FALSE)),\"\",VLOOKUP(H5159,Database!$B$1:$C$5000,2,FALSE))","v":""},"",{"$error":"#N/A"},null,null,null,null,null,null,null,null,"",false,2,{"$f":"VLOOKUP(H5159,Database!$B$1:$D$5000,3,0)","v":{"$error":"#N/A"}},true]
["",null,null,null,null,null,null,null,{"$f":"IF(ISERROR(VLOOKUP(H5163,Database!$B$1:$C$5000,2,FALSE)),\"\",VLOOKUP(H5163,Database!$B$1:$C$5000,2,FALSE))","v":""},"",{"$error":"#N/A"},null,null,null,null,null,null,null,null,"",false,2,{"$f":"VLOOKUP(H5163,Database!$B$1:$D$5000,3,0)","v":{"$error":"#N/A"}},true]
["",null,null,null,null,null,null,null,{"$f":"IF(ISERROR(VLOOKUP(H5168,Database!$B$1:$C$5000,2,FALSE)),\"\",VLOOKUP(H5168,Database!$B$1:$C$5000,2,FALSE))","v":""},"",{"$error":"#N/A"},null,null,null,null,null,null,null,null,"",false,2,{"$f":"VLOOKUP(H5168,Database!$B$1:$D$5000,3,0)","v":{"$error":"#N/A"}},true]
["",null,null,null,null,null,null,null,{"$f":"IF(ISERROR(VLOOKUP(H5174,Database!$B$1:$C$5000,2,FALSE)),\"\",VLOOKUP(H5174,Database!$B$1:$C$5000,2,FALSE))","v":""},"",{"$error":"#N/A"},null,null,null,null,null,null,null,null,"",false,2,{"$f":"VLOOKUP(H5174,Database!$B$1:$D$5000,3,0)","v":{"$error":"#N/A"}},true]
["",null,null,null,null,null,null,null,{"$f":"IF(ISERROR(VLOOKUP(H5178,Database!$B$1:$C$5000,2,FALSE)),\"\",VLOOKUP(H5178,Database!$B$1:$C$5000,2,FALSE))","v":""},"",{"$error":"#N/A"},null,null,null,null,null,null,null,null,"",false,2,{"$f":"VLOOKUP(H5178,Database!$B$1:$D$5000,3,0)","v":{"$error":"#N/A"}},true]
["",null,null,null,null,null,null,null,{"$f":"IF(ISERROR(VLOOKUP(H5184,Database!$B$1:$C$5000,2,FALSE)),\"\",VLOOKUP(H5184,Database!$B$1:$C$5000,2,FALSE))","v":""},"",{"$error":"#N/A"},null,null,null,null,null,null,null,null,"",false,2,{"$f":"VLOOKUP(H5184,Database!$B$1:$D$5000,3,0)","v":{"$error":"#N/A"}},true]
["",null,null,null,null,null,null,null,{"$f":"IF(ISERROR(VLOOKUP(H5189,Database!$B$1:$C$5000,2,FALSE)),\"\",VLOOKUP(H5189,Database!$B$1:$C$5000,2,FALSE))","v":""},"",{"$error":"#N/A"},null,null,null,null,null,null,null,null,"",false,2,{"$f":"VLOOKUP(H5189,Database!$B$1:$D$5000,3,0)","v":{"$error":"#N/A"}},true]
["",null,null,null,null,null,null,null,{"$f":"IF(ISERROR(VLOOKUP(H5194,Database!$B$1:$C$5000,2,FALSE)),\"\",VLOOKUP(H5194,Database!$B$1:$C$5000,2,FALSE))","v":""},"",{"$error":"#N/A"},null,null,null,null,null,null,null,null,"",false,2,{"$f":"VLOOKUP(H5194,Database!$B$1:$D$5000,3,0)","v":{"$error":"#N/A"}},true]
["",null,null,null,null,null,null,null,{"$f":"IF(ISERROR(VLOOKUP(H5197,Database!$B$1:$C$5000,2,FALSE)),\"\",VLOOKUP(H5197,Database!$B$1:$C$5000,2,FALSE))","v":""},"",{"$error":"#N/A"},null,null,null,null,null,null,null,null,"",false,2,{"$f":"VLOOKUP(H5197,Database!$B$1:$D$5000,3,0)","v":{"$error":"#N/A"}},true]
["",null,null,null,null,null,null,null,{"$f":"IF(ISERROR(VLOOKUP(H5204,Database!$B$1:$C$5000,2,FALSE)),\"\",VLOOKUP(H5204,Database!$B$1:$C$5000,2,FALSE))","v":""},"",{"$error":"#N/A"},null,null,null,null,null,null,null,null,"",false,2,{"$f":"VLOOKUP(H5204,Database!$B$1:$D$5000,3,0)","v":{"$error":"#N/A"}},true]
["",null,null,null,null,null,null,null,{"$f":"IF(ISERROR(VLOOKUP(H5210,Database!$B$1:$C$5000,2,FALSE)),\"\",VLOOKUP(H5210,Database!$B$1:$C$5000,2,FALSE))","v":""},"",{"$error":"#N/A"},null,null,null,null,null,null,null,null,"",false,2,{"$f":"VLOOKUP(H5210,Database!$B$1:$D$5000,3,0)","v":{"$error":"#N/A"}},true]
["",null,null,null,null,null,null,null,{"$f":"IF(ISERROR(VLOOKUP(H5215,Database!$B$1:$C$5000,2,FALSE)),\"\",VLOOKUP(H5215,Database!$B$1:$C$5000,2,FALSE))","v":""},"",{"$error":"#N/A"},null,null,null,null,null,null,null,null,"",false,2,{"$f":"VLOOKUP(H5215,Database!$B$1:$D$5000,3,0)","v":{"$error":"#N/A"}},true]
["",null,null,null,null,null,null,null,{"$f":"IF(ISERROR(VLOOKUP(H5216,Database!$B$1:$C$5000,2,FALSE)),\"\",VLOOKUP(H5216,Database!$B$1:$C$5000,2,FALSE))","v":""},"",{"$error":"#N/A"},null,null,null,null,null,null,null,null,"",false,2,{"$f":"VLOOKUP(H5216,Database!$B$1:$D$5000,3,0)","v":{"$error":"#N/A"}},true]
["",null,null,null,null,null,null,null,{"$f":"IF(ISERROR(VLOOKUP(H5220,Database!$B$1:$C$5000,2,FALSE)),\"\",VLOOKUP(H5220,Database!$B$1:$C$5000,2,FALSE))","v":""},"",{"$error":"#N/A"},null,null,null,null,null,null,null,null,"",false,2,{"$f":"VLOOKUP(H5220,Database!$B$1:$D$5000,3,0)","v":{"$error":"#N/A"}},true]
["",null,null,null,null,null,null,null,{"$f":"IF(ISERROR(VLOOKUP(H5225,Database!$B$1:$C$5000,2,FALSE)),\"\",VLOOKUP(H5225,Database!$B$1:$C$5000,2,FALSE))","v":""},"",{"$error":"#N/A"},null,null,null,null,null,null,null,null,"",false,2,{"$f":"VLOOKUP(H5225,Database!$B$1:$D$5000,3,0)","v":{"$error":"#N/A"}},true]
["",null,null,null,null,null,null,null,{"$f":"IF(ISERROR(VLOOKUP(H5230,Database!$B$1:$C$5000,2,FALSE)),\"\",VLOOKUP(H5230,Database!$B$1:$C$5000,2,FALSE))","v":""},"",{"$error":"#N/A"},null,null,null,null,null,null,null,null,"",false,2,{"$f":"VLOOKUP(H5230,Database!$B$1:$D$5000,3,0)","v":{"$error":"#N/A"}},true]
["",null,null,null,null,null,null,null,{"$f":"IF(ISERROR(VLOOKUP(H5235,Database!$B$1:$C$5000,2,FALSE)),\"\",VLOOKUP(H5235,Database!$B$1:$C$5000,2,FALSE))","v":""},"",{"$error":"#N/A"},null,null,null,null,null,null,null,null,"",false,2,{"$f":"VLOOKUP(H5235,Database!$B$1:$D$5000,3,0)","v":{"$error":"#N/A"}},true]
["",null,null,null,null,null,null,null,{"$f":"IF(ISERROR(VLOOKUP(H5240,Database!$B$1:$C$5000,2,FALSE)),\"\",VLOOKUP(H5240,Database!$B$1:$C$5000,2,FALSE))","v":""},"",{"$error":"#N/A"},null,null,null,null,null,null,null,null,"",false,2,{"$f":"VLOOKUP(H5240,Database!$B$1:$D$5000,3,0)","v":{"$error":"#N/A"}},true]
["",null,null,null,null,null,null,null,{"$f":"IF(ISERROR(VLOOKUP(H5246,Database!$B$1:$C$5000,2,FALSE)),\"\",VLOOKUP(H5246,Database!$B$1:$C$5000,2,FALSE))","v":""},"",{"$error":"#N/A"},null,null,null,null,null,null,null,null,"",false,2,{"$f":"VLOOKUP(H5246,Database!$B$1:$D$5000,3,0)","v":{"$error":"#N/A"}},true]
["",null,null,null,null,null,null,null,{"$f":"IF(ISERROR(VLOOKUP(H5251,Database!$B$1:$C$5000,2,FALSE)),\"\",VLOOKUP(H5251,Database!$B$1:$C$5000,2,FALSE))","v":""},"",{"$error":"#N/A"},null,null,null,null,null,null,null,null,"",false,2,{"$f":"VLOOKUP(H5251,Database!$B$1:$D$5000,3,0)","v":{"$error":"#N/A"}},true]
["",null,null,null,null,null,null,null,{"$f":"IF(ISERROR(VLOOKUP(H5254,Database!$B$1:$C$5000,2,FALSE)),\"\",VLOOKUP(H5254,Database!$B$1:$C$5000,2,FALSE))","v":""},"",{"$error":"#N/A"},null,null,null,null,null,null,null,null,"",false,2,{"$f":"VLOOKUP(H5254,Database!$B$1:$D$5000,3,0)","v":{"$error":"#N/A"}},true]
["",null,null,null,null,null,null,null,{"$f":"IF(ISERROR(VLOOKUP(H5261,Database!$B$1:$C$5000,2,FALSE)),\"\",VLOOKUP(H5261,Database!$B$1:$C$5000,2,FALSE))","v":""},"",{"$error":"#N/A"},null,null,null,null,null,null,null,null,"",false,2,{"$f":"VLOOKUP(H5261,Database!$B$1:$D$5000,3,0)","v":{"$error":"#N/A"}},true]
["",null,null,null,null,null,null,null,{"$f":"IF(ISERROR(VLOOKUP(H5266,Database!$B$1:$C$5000,2,FALSE)),\"\",VLOOKUP(H5266,Database!$B$1:$C$5000,2,FALSE))","v":""},"",{"$error":"#N/A"},null,null,null,null,null,null,null,null,"",false,2,{"$f":"VLOOKUP(H5266,Database!$B$1:$D$5000,3,0)","v":{"$error":"#N/A"}},true]
["",null,null,null,null,null,null,null,{"$f":"IF(ISERROR(VLOOKUP(H5272,Database!$B$1:$C$5000,2,FALSE)),\"\",VLOOKUP(H5272,Database!$B$1:$C$5000,2,FALSE))","v":""},"",{"$error":"#N/A"},null,null,null,null,null,null,null,null,"",false,2,{"$f":"VLOOKUP(H5272,Database!$B$1:$D$5000,3,0)","v":{"$error":"#N/A"}},true]
["",null,null,null,null,null,null,null,{"$f":"IF(ISERROR(VLOOKUP(H5273,Database!$B$1:$C$5000,2,FALSE)),\"\",VLOOKUP(H5273,Database!$B$1:$C$5000,2,FALSE))","v":""},"",{"$error":"#N/A"},null,null,null,null,null,null,null,null,"",false,2,{"$f":"VLOOKUP(H5273,Database!$B$1:$D$5000,3,0)","v":{"$error":"#N/A"}},true]
["",null,null,null,null,null,null,null,{"$f":"IF(ISERROR(VLOOKUP(H5281,Database!$B$1:$C$5000,2,FALSE)),\"\",VLOOKUP(H5281,Database!$B$1:$C$5000,2,FALSE))","v":""},"",{"$error":"#N/A"},null,null,null,null,null,null,null,null,"",false,2,{"$f":"VLOOKUP(H5281,Database!$B$1:$D$5000,3,0)","v":{"$error":"#N/A"}},true]
["",null,null,null,null,null,null,null,{"$f":"IF(ISERROR(VLOOKUP(H5282,Database!$B$1:$C$5000,2,FALSE)),\"\",VLOOKUP(H5282,Database!$B$1:$C$5000,2,FALSE))","v":""},"",{"$error":"#N/A"},null,null,null,null,null,null,null,null,"",false,2,{"$f":"VLOOKUP(H5282,Database!$B$1:$D$5000,3,0)","v":{"$error":"#N/A"}},true]
["",null,null,null,null,null,null,null,{"$f":"IF(ISERROR(VLOOKUP(H5287,Database!$B$1:$C$5000,2,FALSE)),\"\",VLOOKUP(H5287,Database!$B$1:$C$5000,2,FALSE))","v":""},"",{"$error":"#N/A"},null,null,null,null,null,null,null,null,"",false,2,{"$f":"VLOOKUP(H5287,Database!$B$1:$D$5000,3,0)","v":{"$error":"#N/A"}},true]
["",null,null,null,null,null,null,null,{"$f":"IF(ISERROR(VLOOKUP(H5292,Database!$B$1:$C$5000,2,FALSE)),\"\",VLOOKUP(H5292,Database!$B$1:$C$5000,2,FALSE))","v":""},"",{"$error":"#N/A"},null,null,null,null,null,null,null,null,"",false,2,{"$f":"VLOOKUP(H5292,Database!$B$1:$D$5000,3,0)","v":{"$error":"#N/A"}},true]
["",null,null,null,null,null,null,null,{"$f":"IF(ISERROR(VLOOKUP(H5297,Database!$B$1:$C$5000,2,FALSE)),\"\",VLOOKUP(H5297,Database!$B$1:$C$5000,2,FALSE))","v":""},"",{"$error":"#N/A"},null,null,null,null,null,null,null,null,"",false,2,{"$f":"VLOOKUP(H5297,Database!$B$1:$D$5000,3,0)","v":{"$error":"#N/A"}},true]
["",null,null,null,null,null,null,null,{"$f":"IF(ISERROR(VLOOKUP(H5302,Database!$B$1:$C$5000,2,FALSE)),\"\",VLOOKUP(H5302,Database!$B$1:$C$5000,2,FALSE))","v":""},"",{"$error":"#N/A"},null,null,null,null,null,null,null,null,"",false,2,{"$f":"VLOOKUP(H5302,Database!$B$1:$D$5000,3,0)","v":{"$error":"#N/A"}},true]
["",null,null,null,null,null,null,null,{"$f":"IF(ISERROR(VLOOKUP(H5308,Database!$B$1:$C$5000,2,FALSE)),\"\",VLOOKUP(H5308,Database!$B$1:$C$5000,2,FALSE))","v":""},"",{"$error":"#N/A"},null,null,null,null,null,null,null,null,"",false,2,{"$f":"VLOOKUP(H5308,Database!$B$1:$D$5000,3,0)","v":{"$error":"#N/A"}},true]
["",null,null,null,null,null,null,null,{"$f":"IF(ISERROR(VLOOKUP(H5311,Database!$B$1:$C$5000,2,FALSE)),\"\",VLOOKUP(H5311,Database!$B$1:$C$5000,2,FALSE))","v":""},"",{"$error":"#N/A"},null,null,null,null,null,null,null,null,"",false,2,{"$f":"VLOOKUP(H5311,Database!$B$1:$D$5000,3,0)","v":{"$error":"#N/A"}},true]
["",null,null,null,null,null,null,null,{"$f":"IF(ISERROR(VLOOKUP(H5317,Database!$B$1:$C$5000,2,FALSE)),\"\",VLOOKUP(H5317,Database!$B$1:$C$5000,2,FALSE))","v":""},"",{"$error":"#N/A"},null,null,null,null,null,null,null,null,"",false,2,{"$f":"VLOOKUP(H5317,Database!$B$1:$D$5000,3,0)","v":{"$error":"#N/A"}},true]
["",null,null,null,null,null,null,null,{"$f":"IF(ISERROR(VLOOKUP(H5323,Database!$B$1:$C$5000,2,FALSE)),\"\",VLOOKUP(H5323,Database!$B$1:$C$5000,2,FALSE))","v":""},"",{"$error":"#N/A"},null,null,null,null,null,null,null,null,"",false,2,{"$f":"VLOOKUP(H5323,Database!$B$1:$D$5000,3,0)","v":{"$error":"#N/A"}},true]
["",null,null,null,null,null,null,null,{"$f":"IF(ISERROR(VLOOKUP(H5328,Database!$B$1:$C$5000,2,FALSE)),\"\",VLOOKUP(H5328,Database!$B$1:$C$5000,2,FALSE))","v":""},"",{"$error":"#N/A"},null,null,null,null,null,null,null,null,"",false,2,{"$f":"VLOOKUP(H5328,Database!$B$1:$D$5000,3,0)","v":{"$error":"#N/A"}},true]
["",null,null,null,null,null,null,null,{"$f":"IF(ISERROR(VLOOKUP(H5330,Database!$B$1:$C$5000,2,FALSE)),\"\",VLOOKUP(H5330,Database!$B$1:$C$5000,2,FALSE))","v":""},"",{"$error":"#N/A"},null,null,null,null,null,null,null,null,"",false,2,{"$f":"VLOOKUP(H5330,Database!$B$1:$D$5000,3,0)","v":{"$error":"#N/A"}},true]
["",null,null,null,null,null,null,null,{"$f":"IF(ISERROR(VLOOKUP(H5338,Database!$B$1:$C$5000,2,FALSE)),\"\",VLOOKUP(H5338,Database!$B$1:$C$5000,2,FALSE))","v":""},"",{"$error":"#N/A"},null,null,null,null,null,null,null,null,"",false,2,{"$f":"VLOOKUP(H5338,Database!$B$1:$D$5000,3,0)","v":{"$error":"#N/A"}},true]
["",null,null,null,null,null,null,null,{"$f":"IF(ISERROR(VLOOKUP(H5343,Database!$B$1:$C$5000,2,FALSE)),\"\",VLOOKUP(H5343,Database!$B$1:$C$5000,2,FALSE))","v":""},"",{"$error":"#N/A"},null,null,null,null,null,null,null,null,"",false,2,{"$f":"VLOOKUP(H5343,Database!$B$1:$D$5000,3,0)","v":{"$error":"#N/A"}},true]
["",null,null,null,null,null,null,null,{"$f":"IF(ISERROR(VLOOKUP(H5344,Database!$B$1:$C$5000,2,FALSE)),\"\",VLOOKUP(H5344,Database!$B$1:$C$5000,2,FALSE))","v":""},"",{"$error":"#N/A"},null,null,null,null,null,null,null,null,"",false,2,{"$f":"VLOOKUP(H5344,Database!$B$1:$D$5000,3,0)","v":{"$error":"#N/A"}},true]
["",null,null,null,null,null,null,null,{"$f":"IF(ISERROR(VLOOKUP(H5349,Database!$B$1:$C$5000,2,FALSE)),\"\",VLOOKUP(H5349,Database!$B$1:$C$5000,2,FALSE))","v":""},"",{"$error":"#N/A"},null,null,null,null,null,null,null,null,"",false,2,{"$f":"VLOOKUP(H5349,Database!$B$1:$D$5000,3,0)","v":{"$error":"#N/A"}},true]
["",null,null,null,null,null,null,null,{"$f":"IF(ISERROR(VLOOKUP(H5353,Database!$B$1:$C$5000,2,FALSE)),\"\",VLOOKUP(H5353,Database!$B$1:$C$5000,2,FALSE))","v":""},"",{"$error":"#N/A"},null,null,null,null,null,null,null,null,"",false,2,{"$f":"VLOOKUP(H5353,Database!$B$1:$D$5000,3,0)","v":{"$error":"#N/A"}},true]
["",null,null,null,null,null,null,null,{"$f":"IF(ISERROR(VLOOKUP(H5359,Database!$B$1:$C$5000,2,FALSE)),\"\",VLOOKUP(H5359,Database!$B$1:$C$5000,2,FALSE))","v":""},"",{"$error":"#N/A"},null,null,null,null,null,null,null,null,"",false,2,{"$f":"VLOOKUP(H5359,Database!$B$1:$D$5000,3,0)","v":{"$error":"#N/A"}},true]
["",null,null,null,null,null,null,null,{"$f":"IF(ISERROR(VLOOKUP(H5364,Database!$B$1:$C$5000,2,FALSE)),\"\",VLOOKUP(H5364,Database!$B$1:$C$5000,2,FALSE))","v":""},"",{"$error":"#N/A"},null,null,null,null,null,null,null,null,"",false,2,{"$f":"VLOOKUP(H5364,Database!$B$1:$D$5000,3,0)","v":{"$error":"#N/A"}},true]
["",null,null,null,null,null,null,null,{"$f":"IF(ISERROR(VLOOKUP(H5368,Database!$B$1:$C$5000,2,FALSE)),\"\",VLOOKUP(H5368,Database!$B$1:$C$5000,2,FALSE))","v":""},"",{"$error":"#N/A"},null,null,null,null,null,null,null,null,"",false,2,{"$f":"VLOOKUP(H5368,Database!$B$1:$D$5000,3,0)","v":{"$error":"#N/A"}},true]
["",null,null,null,null,null,null,null,{"$f":"IF(ISERROR(VLOOKUP(H5374,Database!$B$1:$C$5000,2,FALSE)),\"\",VLOOKUP(H5374,Database!$B$1:$C$5000,2,FALSE))","v":""},"",{"$error":"#N/A"},null,null,null,null,null,null,null,null,"",false,2,{"$f":"VLOOKUP(H5374,Database!$B$1:$D$5000,3,0)","v":{"$error":"#N/A"}},true]
["",null,null,null,null,null,null,null,{"$f":"IF(ISERROR(VLOOKUP(H5379,Database!$B$1:$C$5000,2,FALSE)),\"\",VLOOKUP(H5379,Database!$B$1:$C$5000,2,FALSE))","v":""},"",{"$error":"#N/A"},null,null,null,null,null,null,null,null,"",false,2,{"$f":"VLOOKUP(H5379,Database!$B$1:$D$5000,3,0)","v":{"$error":"#N/A"}},true]
["",null,null,null,null,null,null,null,{"$f":"IF(ISERROR(VLOOKUP(H5385,Database!$B$1:$C$5000,2,FALSE)),\"\",VLOOKUP(H5385,Database!$B$1:$C$5000,2,FALSE))","v":""},"",{"$error":"#N/A"},null,null,null,null,null,null,null,null,"",false,2,{"$f":"VLOOKUP(H5385,Database!$B$1:$D$5000,3,0)","v":{"$error":"#N/A"}},true]
["",null,null,null,null,null,null,null,{"$f":"IF(ISERROR(VLOOKUP(H5387,Database!$B$1:$C$5000,2,FALSE)),\"\",VLOOKUP(H5387,Database!$B$1:$C$5000,2,FALSE))","v":""},"",{"$error":"#N/A"},null,null,null,null,null,null,null,null,"",false,2,{"$f":"VLOOKUP(H5387,Database!$B$1:$D$5000,3,0)","v":{"$error":"#N/A"}},true]
["",null,null,null,null,null,null,null,{"$f":"IF(ISERROR(VLOOKUP(H5394,Database!$B$1:$C$5000,2,FALSE)),\"\",VLOOKUP(H5394,Database!$B$1:$C$5000,2,FALSE))","v":""},"",{"$error":"#N/A"},null,null,null,null,null,null,null,null,"",false,2,{"$f":"VLOOKUP(H5394,Database!$B$1:$D$5000,3,0)","v":{"$error":"#N/A"}},true]
["",null,null,null,null,null,null,null,{"$f":"IF(ISERROR(VLOOKUP(H5400,Database!$B$1:$C$5000,2,FALSE)),\"\",VLOOKUP(H5400,Database!$B$1:$C$5000,2,FALSE))","v":""},"",{"$error":"#N/A"},null,null,null,null,null,null,null,null,"",false,2,{"$f":"VLOOKUP(H5400,Database!$B$1:$D$5000,3,0)","v":{"$error":"#N/A"}},true]
["",null,null,null,null,null,null,null,{"$f":"IF(ISERROR(VLOOKUP(H5405,Database!$B$1:$C$5000,2,FALSE)),\"\",VLOOKUP(H5405,Database!$B$1:$C$5000,2,FALSE))","v":""},"",{"$error":"#N/A"},null,null,null,null,null,null,null,null,"",false,2,{"$f":"VLOOKUP(H5405,Database!$B$1:$D$5000,3,0)","v":{"$error":"#N/A"}},true]
["",null,null,null,null,null,null,null,{"$f":"IF(ISERROR(VLOOKUP(H5406,Database!$B$1:$C$5000,2,FALSE)),\"\",VLOOKUP(H5406,Database!$B$1:$C$5000,2,FALSE))","v":""},"",{"$error":"#N/A"},null,null,null,null,null,null,null,null,"",false,2,{"$f":"VLOOKUP(H5406,Database!$B$1:$D$5000,3,0)","v":{"$error":"#N/A"}},true]
["",null,null,null,null,null,null,null,{"$f":"IF(ISERROR(VLOOKUP(H5410,Database!$B$1:$C$5000,2,FALSE)),\"\",VLOOKUP(H5410,Database!$B$1:$C$5000,2,FALSE))","v":""},"",{"$error":"#N/A"},null,null,null,null,null,null,null,null,"",false,2,{"$f":"VLOOKUP(H5410,Database!$B$1:$D$5000,3,0)","v":{"$error":"#N/A"}},true]
["",null,null,null,null,null,null,null,{"$f":"IF(ISERROR(VLOOKUP(H5415,Database!$B$1:$C$5000,2,FALSE)),\"\",VLOOKUP(H5415,Database!$B$1:$C$5000,2,FALSE))","v":""},"",{"$error":"#N/A"},null,null,null,null,null,null,null,null,"",false,2,{"$f":"VLOOKUP(H5415,Database!$B$1:$D$5000,3,0)","v":{"$error":"#N/A"}},true]
["",null,null,null,null,null,null,null,{"$f":"IF(ISERROR(VLOOKUP(H5421,Database!$B$1:$C$5000,2,FALSE)),\"\",VLOOKUP(H5421,Database!$B$1:$C$5000,2,FALSE))","v":""},"",{"$error":"#N/A"},null,null,null,null,null,null,null,null,"",false,2,{"$f":"VLOOKUP(H5421,Database!$B$1:$D$5000,3,0)","v":{"$error":"#N/A"}},true]
["",null,null,null,null,null,null,null,{"$f":"IF(ISERROR(VLOOKUP(H5425,Database!$B$1:$C$5000,2,FALSE)),\"\",VLOOKUP(H5425,Database!$B$1:$C$5000,2,FALSE))","v":""},"",{"$error":"#N/A"},null,null,null,null,null,null,null,null,"",false,2,{"$f":"VLOOKUP(H5425,Database!$B$1:$D$5000,3,0)","v":{"$error":"#N/A"}},true]
["",null,null,null,null,null,null,null,{"$f":"IF(ISERROR(VLOOKUP(H5430,Database!$B$1:$C$5000,2,FALSE)),\"\",VLOOKUP(H5430,Database!$B$1:$C$5000,2,FALSE))","v":""},"",{"$error":"#N/A"},null,null,null,null,null,null,null,null,"",false,2,{"$f":"VLOOKUP(H5430,Database!$B$1:$D$5000,3,0)","v":{"$error":"#N/A"}},true]
["",null,null,null,null,null,null,null,{"$f":"IF(ISERROR(VLOOKUP(H5436,Database!$B$1:$C$5000,2,FALSE)),\"\",VLOOKUP(H5436,Database!$B$1:$C$5000,2,FALSE))","v":""},"",{"$error":"#N/A"},null,null,null,null,null,null,null,null,"",false,2,{"$f":"VLOOKUP(H5436,Database!$B$1:$D$5000,3,0)","v":{"$error":"#N/A"}},true]
["",null,null,null,null,null,null,null,{"$f":"IF(ISERROR(VLOOKUP(H5441,Database!$B$1:$C$5000,2,FALSE)),\"\",VLOOKUP(H5441,Database!$B$1:$C$5000,2,FALSE))","v":""},"",{"$error":"#N/A"},null,null,null,null,null,null,null,null,"",false,2,{"$f":"VLOOKUP(H5441,Database!$B$1:$D$5000,3,0)","v":{"$error":"#N/A"}},true]
["",null,null,null,null,null,null,null,{"$f":"IF(ISERROR(VLOOKUP(H5444,Database!$B$1:$C$5000,2,FALSE)),\"\",VLOOKUP(H5444,Database!$B$1:$C$5000,2,FALSE))","v":""},"",{"$error":"#N/A"},null,null,null,null,null,null,null,null,"",false,2,{"$f":"VLOOKUP(H5444,Database!$B$1:$D$5000,3,0)","v":{"$error":"#N/A"}},true]
["",null,null,null,null,null,null,null,{"$f":"IF(ISERROR(VLOOKUP(H5451,Database!$B$1:$C$5000,2,FALSE)),\"\",VLOOKUP(H5451,Database!$B$1:$C$5000,2,FALSE))","v":""},"",{"$error":"#N/A"},null,null,null,null,null,null,null,null,"",false,2,{"$f":"VLOOKUP(H5451,Database!$B$1:$D$5000,3,0)","v":{"$error":"#N/A"}},true]
["",null,null,null,null,null,null,null,{"$f":"IF(ISERROR(VLOOKUP(H5456,Database!$B$1:$C$5000,2,FALSE)),\"\",VLOOKUP(H5456,Database!$B$1:$C$5000,2,FALSE))","v":""},"",{"$error":"#N/A"},null,null,null,null,null,null,null,null,"",false,2,{"$f":"VLOOKUP(H5456,Database!$B$1:$D$5000,3,0)","v":{"$error":"#N/A"}},true]
["",null,null,null,null,null,null,null,{"$f":"IF(ISERROR(VLOOKUP(H5462,Database!$B$1:$C$5000,2,FALSE)),\"\",VLOOKUP(H5462,Database!$B$1:$C$5000,2,FALSE))","v":""},"",{"$error":"#N/A"},null,null,null,null,null,null,null,null,"",false,2,{"$f":"VLOOKUP(H5462,Database!$B$1:$D$5000,3,0)","v":{"$error":"#N/A"}},true]
["",null,null,null,null,null,null,null,{"$f":"IF(ISERROR(VLOOKUP(H5463,Database!$B$1:$C$5000,2,FALSE)),\"\",VLOOKUP(H5463,Database!$B$1:$C$5000,2,FALSE))","v":""},"",{"$error":"#N/A"},null,null,null,null,null,null,null,null,"",false,2,{"$f":"VLOOKUP(H5463,Database!$B$1:$D$5000,3,0)","v":{"$error":"#N/A"}},true]
["",null,null,null,null,null,null,null,{"$f":"IF(ISERROR(VLOOKUP(H5467,Database!$B$1:$C$5000,2,FALSE)),\"\",VLOOKUP(H5467,Database!$B$1:$C$5000,2,FALSE))","v":""},"",{"$error":"#N/A"},null,null,null,null,null,null,null,null,"",false,2,{"$f":"VLOOKUP(H5467,Database!$B$1:$D$5000,3,0)","v":{"$error":"#N/A"}},true]
["",null,null,null,null,null,null,null,{"$f":"IF(ISERROR(VLOOKUP(H5472,Database!$B$1:$C$5000,2,FALSE)),\"\",VLOOKUP(H5472,Database!$B$1:$C$5000,2,FALSE))","v":""},"",{"$error":"#N/A"},null,null,null,null,null,null,null,null,"",false,2,{"$f":"VLOOKUP(H5472,Database!$B$1:$D$5000,3,0)","v":{"$error":"#N/A"}},true]
["",null,null,null,null,null,null,null,{"$f":"IF(ISERROR(VLOOKUP(H5477,Database!$B$1:$C$5000,2,FALSE)),\"\",VLOOKUP(H5477,Database!$B$1:$C$5000,2,FALSE))","v":""},"",{"$error":"#N/A"},null,null,null,null,null,null,null,null,"",false,2,{"$f":"VLOOKUP(H5477,Database!$B$1:$D$5000,3,0)","v":{"$error":"#N/A"}},true]
["",null,null,null,null,null,null,null,{"$f":"IF(ISERROR(VLOOKUP(H5482,Database!$B$1:$C$5000,2,FALSE)),\"\",VLOOKUP(H5482,Database!$B$1:$C$5000,2,FALSE))","v":""},"",{"$error":"#N/A"},null,null,null,null,null,null,null,null,"",false,2,{"$f":"VLOOKUP(H5482,Database!$B$1:$D$5000,3,0)","v":{"$error":"#N/A"}},true]
["",null,null,null,null,null,null,null,{"$f":"IF(ISERROR(VLOOKUP(H5487,Database!$B$1:$C$5000,2,FALSE)),\"\",VLOOKUP(H5487,Database!$B$1:$C$5000,2,FALSE))","v":""},"",{"$error":"#N/A"},null,null,null,null,null,null,null,null,"",false,2,{"$f":"VLOOKUP(H5487,Database!$B$1:$D$5000,3,0)","v":{"$error":"#N/A"}},true]
["",null,null,null,null,null,null,null,{"$f":"IF(ISERROR(VLOOKUP(H5492,Database!$B$1:$C$5000,2,FALSE)),\"\",VLOOKUP(H5492,Database!$B$1:$C$5000,2,FALSE))","v":""},"",{"$error":"#N/A"},null,null,null,null,null,null,null,null,"",false,2,{"$f":"VLOOKUP(H5492,Database!$B$1:$D$5000,3,0)","v":{"$error":"#N/A"}},true]
["",null,null,null,null,null,null,null,{"$f":"IF(ISERROR(VLOOKUP(H5498,Database!$B$1:$C$5000,2,FALSE)),\"\",VLOOKUP(H5498,Database!$B$1:$C$5000,2,FALSE))","v":""},"",{"$error":"#N/A"},null,null,null,null,null,null,null,null,"",false,2,{"$f":"VLOOKUP(H5498,Database!$B$1:$D$5000,3,0)","v":{"$error":"#N/A"}},true]
["",null,null,null,null,null,null,null,{"$f":"IF(ISERROR(VLOOKUP(H5501,Database!$B$1:$C$5000,2,FALSE)),\"\",VLOOKUP(H5501,Database!$B$1:$C$5000,2,FALSE))","v":""},"",{"$error":"#N/A"},null,null,null,null,null,null,null,null,"",false,2,{"$f":"VLOOKUP(H5501,Database!$B$1:$D$5000,3,0)","v":{"$error":"#N/A"}},true]
["",null,null,null,null,null,null,null,{"$f":"IF(ISERROR(VLOOKUP(H5508,Database!$B$1:$C$5000,2,FALSE)),\"\",VLOOKUP(H5508,Database!$B$1:$C$5000,2,FALSE))","v":""},"",{"$error":"#N/A"},null,null,null,null,null,null,null,null,"",false,2,{"$f":"VLOOKUP(H5508,Database!$B$1:$D$5000,3,0)","v":{"$error":"#N/A"}},true]
["",null,null,null,null,null,null,null,{"$f":"IF(ISERROR(VLOOKUP(H5513,Database!$B$1:$C$5000,2,FALSE)),\"\",VLOOKUP(H5513,Database!$B$1:$C$5000,2,FALSE))","v":""},"",{"$error":"#N/A"},null,null,null,null,null,null,null,null,"",false,2,{"$f":"VLOOKUP(H5513,Database!$B$1:$D$5000,3,0)","v":{"$error":"#N/A"}},true]
["",null,null,null,null,null,null,null,{"$f":"IF(ISERROR(VLOOKUP(H5518,Database!$B$1:$C$5000,2,FALSE)),\"\",VLOOKUP(H5518,Database!$B$1:$C$5000,2,FALSE))","v":""},"",{"$error":"#N/A"},null,null,null,null,null,null,null,null,"",false,2,{"$f":"VLOOKUP(H5518,Database!$B$1:$D$5000,3,0)","v":{"$error":"#N/A"}},true]
["",null,null,null,null,null,null,null,{"$f":"IF(ISERROR(VLOOKUP(H5520,Database!$B$1:$C$5000,2,FALSE)),\"\",VLOOKUP(H5520,Database!$B$1:$C$5000,2,FALSE))","v":""},"",{"$error":"#N/A"},null,null,null,null,null,null,null,null,"",false,2,{"$f":"VLOOKUP(H5520,Database!$B$1:$D$5000,3,0)","v":{"$error":"#N/A"}},true]
["",null,null,null,null,null,null,null,{"$f":"IF(ISERROR(VLOOKUP(H5528,Database!$B$1:$C$5000,2,FALSE)),\"\",VLOOKUP(H5528,Database!$B$1:$C$5000,2,FALSE))","v":""},"",{"$error":"#N/A"},null,null,null,null,null,null,null,null,"",false,2,{"$f":"VLOOKUP(H5528,Database!$B$1:$D$5000,3,0)","v":{"$error":"#N/A"}},true]
["",null,null,null,null,null,null,null,{"$f":"IF(ISERROR(VLOOKUP(H5529,Database!$B$1:$C$5000,2,FALSE)),\"\",VLOOKUP(H5529,Database!$B$1:$C$5000,2,FALSE))","v":""},"",{"$error":"#N/A"},null,null,null,null,null,null,null,null,"",false,2,{"$f":"VLOOKUP(H5529,Database!$B$1:$D$5000,3,0)","v":{"$error":"#N/A"}},true]
["",null,null,null,null,null,null,null,{"$f":"IF(ISERROR(VLOOKUP(H5534,Database!$B$1:$C$5000,2,FALSE)),\"\",VLOOKUP(H5534,Database!$B$1:$C$5000,2,FALSE))","v":""},"",{"$error":"#N/A"},null,null,null,null,null,null,null,null,"",false,2,{"$f":"VLOOKUP(H5534,Database!$B$1:$D$5000,3,0)","v":{"$error":"#N/A"}},true]
["",null,null,null,null,null,null,null,{"$f":"IF(ISERROR(VLOOKUP(H5539,Database!$B$1:$C$5000,2,FALSE)),\"\",VLOOKUP(H5539,Database!$B$1:$C$5000,2,FALSE))","v":""},"",{"$error":"#N/A"},null,null,null,null,null,null,null,null,"",false,2,{"$f":"VLOOKUP(H5539,Database!$B$1:$D$5000,3,0)","v":{"$error":"#N/A"}},true]
["",null,null,null,null,null,null,null,{"$f":"IF(ISERROR(VLOOKUP(H5544,Database!$B$1:$C$5000,2,FALSE)),\"\",VLOOKUP(H5544,Database!$B$1:$C$5000,2,FALSE))","v":""},"",{"$error":"#N/A"},null,null,null,null,null,null,null,null,"",false,2,{"$f":"VLOOKUP(H5544,Database!$B$1:$D$5000,3,0)","v":{"$error":"#N/A"}},true]
["",null,null,null,null,null,null,null,{"$f":"IF(ISERROR(VLOOKUP(H5549,Database!$B$1:$C$5000,2,FALSE)),\"\",VLOOKUP(H5549,Database!$B$1:$C$5000,2,FALSE))","v":""},"",{"$error":"#N/A"},null,null,null,null,null,null,null,null,"",false,2,{"$f":"VLOOKUP(H5549,Database!$B$1:$D$5000,3,0)","v":{"$error":"#N/A"}},true]
["",null,null,null,null,null,null,null,{"$f":"IF(ISERROR(VLOOKUP(H5554,Database!$B$1:$C$5000,2,FALSE)),\"\",VLOOKUP(H5554,Database!$B$1:$C$5000,2,FALSE))","v":""},"",{"$error":"#N/A"},null,null,null,null,null,null,null,null,"",false,2,{"$f":"VLOOKUP(H5554,Database!$B$1:$D$5000,3,0)","v":{"$error":"#N/A"}},true]
["",null,null,null,null,null,null,null,{"$f":"IF(ISERROR(VLOOKUP(H5558,Database!$B$1:$C$5000,2,FALSE)),\"\",VLOOKUP(H5558,Database!$B$1:$C$5000,2,FALSE))","v":""},"",{"$error":"#N/A"},null,null,null,null,null,null,null,null,"",false,2,{"$f":"VLOOKUP(H5558,Database!$B$1:$D$5000,3,0)","v":{"$error":"#N/A"}},true]
["",null,null,null,null,null,null,null,{"$f":"IF(ISERROR(VLOOKUP(H5564,Database!$B$1:$C$5000,2,FALSE)),\"\",VLOOKUP(H5564,Database!$B$1:$C$5000,2,FALSE))","v":""},"",{"$error":"#N/A"},null,null,null,null,null,null,null,null,"",false,2,{"$f":"VLOOKUP(H5564,Database!$B$1:$D$5000,3,0)","v":{"$error":"#N/A"}},true]
["",null,null,null,null,null,null,null,{"$f":"IF(ISERROR(VLOOKUP(H5570,Database!$B$1:$C$5000,2,FALSE)),\"\",VLOOKUP(H5570,Database!$B$1:$C$5000,2,FALSE))","v":""},"",{"$error":"#N/A"},null,null,null,null,null,null,null,null,"",false,2,{"$f":"VLOOKUP(H5570,Database!$B$1:$D$5000,3,0)","v":{"$error":"#N/A"}},true]
[{"$f":"IF(B5575=\"\",\"\",ROW(A5570))","v":""},null,null,null,null,null,null,null,{"$f":"IF(ISERROR(VLOOKUP(H5575,Database!$B$1:$C$5000,2,FALSE)),\"\",VLOOKUP(H5575,Database!$B$1:$C$5000,2,FALSE))","v":""},{"$f":"IF(V5575=1,1,IF(AND(T5575=0,F5575=\"SSB\",V5575<>\"\"),3,IF(AND(T5575=0,F5575=\"DIGI\",V5575<>\"\"),2,IF(AND(T5575=0,F5575=\"CW\",V5575<>\"\"),5,IF(H5575=\"-\",\"\",T5575)))))","v":""},{"$f":"IF(H5575=\"-\",\"\",IF(AND(H5575<>\"\",X5575=TRUE),\"INDIPENDENT\",IF(W5575=0,\"SCRIVI NOME NELLE NOTE\",W5575)))","v":{"$error":"#N/A"}},null,null,null,null,null,null,null,null,{"$f":"IF(H5575=\"\",\"\",IF(H5575=$R$6,25,IF(OR(H5575=$R$7,H5575=$R$8,H5575=$R$9,H5575=$R$10,H5575=$R$11,H5575=$R$12,H5575=$R$13,H5575=$R$14,H5575=$R$15,H5575=$R$16,H5575=$R$17,H5575=$R$18,H5575=$R$19,H5575=$R$20,H5575=$R$21,H5575=$R$22,H5575=$R$23),15,0)))","v":""},{"$f":"ISERROR(I5575)","v":false},{"$f":"IF(H5575=\"-\",\"\",IF(AND(T5575=0,U5575=FALSE,I5575=\"\"),1,2))","v":2},{"$f":"VLOOKUP(H5575,Database!$B$1:$D$5000,3,0)","v":{"$error":"#N/A"}},{"$f":"ISERROR(W5575)","v":true}]
["",null,null,null,null,null,null,null,{"$f":"IF(ISERROR(VLOOKUP(H5577,Database!$B$1:$C$5000,2,FALSE)),\"\",VLOOKUP(H5577,Database!$B$1:$C$5000,2,FALSE))","v":""},"",{"$error":"#N/A"},null,null,null,null,null,null,null,null,"",false,2,{"$f":"VLOOKUP(H5577,Database!$B$1:$D$5000,3,0)","v":{"$error":"#N/A"}},true]
["",null,null,null,null,null,null,null,{"$f":"IF(ISERROR(VLOOKUP(H5585,Database!$B$1:$C$5000,2,FALSE)),\"\",VLOOKUP(H5585,Database!$B$1:$C$5000,2,FALSE))","v":""},"",{"$error":"#N/A"},null,null,null,null,null,null,null,null,"",false,2,{"$f":"VLOOKUP(H5585,Database!$B$1:$D$5000,3,0)","v":{"$error":"#N/A"}},true]
["",null,null,null,null,null,null,null,{"$f":"IF(ISERROR(VLOOKUP(H5590,Database!$B$1:$C$5000,2,FALSE)),\"\",VLOOKUP(H5590,Database!$B$1:$C$5000,2,FALSE))","v":""},"",{"$error":"#N/A"},null,null,null,null,null,null,null,null,"",false,2,{"$f":"VLOOKUP(H5590,Database!$B$1:$D$5000,3,0)","v":{"$error":"#N/A"}},true]
["",null,null,null,null,null,null,null,{"$f":"IF(ISERROR(VLOOKUP(H5595,Database!$B$1:$C$5000,2,FALSE)),\"\",VLOOKUP(H5595,Database!$B$1:$C$5000,2,FALSE))","v":""},"",{"$error":"#N/A"},null,null,null,null,null,null,null,null,"",false,2,{"$f":"VLOOKUP(H5595,Database!$B$1:$D$5000,3,0)","v":{"$error":"#N/A"}},true]
["",null,null,null,null,null,null,null,{"$f":"IF(ISERROR(VLOOKUP(H5596,Database!$B$1:$C$5000,2,FALSE)),\"\",VLOOKUP(H5596,Database!$B$1:$C$5000,2,FALSE))","v":""},"",{"$error":"#N/A"},null,null,null,null,null,null,null,null,"",false,2,{"$f":"VLOOKUP(H5596,Database!$B$1:$D$5000,3,0)","v":{"$error":"#N/A"}},true]
["",null,null,null,null,null,null,null,{"$f":"IF(ISERROR(VLOOKUP(H5600,Database!$B$1:$C$5000,2,FALSE)),\"\",VLOOKUP(H5600,Database!$B$1:$C$5000,2,FALSE))","v":""},"",{"$error":"#N/A"},null,null,null,null,null,null,null,null,"",false,2,{"$f":"VLOOKUP(H5600,Database!$B$1:$D$5000,3,0)","v":{"$error":"#N/A"}},true]
["",null,null,null,null,null,null,null,{"$f":"IF(ISERROR(VLOOKUP(H5606,Database!$B$1:$C$5000,2,FALSE)),\"\",VLOOKUP(H5606,Database!$B$1:$C$5000,2,FALSE))","v":""},"",{"$error":"#N/A"},null,null,null,null,null,null,null,null,"",false,2,{"$f":"VLOOKUP(H5606,Database!$B$1:$D$5000,3,0)","v":{"$error":"#N/A"}},true]
["",null,null,null,null,null,null,null,{"$f":"IF(ISERROR(VLOOKUP(H5611,Database!$B$1:$C$5000,2,FALSE)),\"\",VLOOKUP(H5611,Database!$B$1:$C$5000,2,FALSE))","v":""},"",{"$error":"#N/A"},null,null,null,null,null,null,null,null,"",false,2,{"$f":"VLOOKUP(H5611,Database!$B$1:$D$5000,3,0)","v":{"$error":"#N/A"}},true]
["",null,null,null,null,null,null,null,{"$f":"IF(ISERROR(VLOOKUP(H5615,Database!$B$1:$C$5000,2,FALSE)),\"\",VLOOKUP(H5615,Database!$B$1:$C$5000,2,FALSE))","v":""},"",{"$error":"#N/A"},null,null,null,null,null,null,null,null,"",false,2,{"$f":"VLOOKUP(H5615,Database!$B$1:$D$5000,3,0)","v":{"$error":"#N/A"}},true]
["",null,null,null,null,null,null,null,{"$f":"IF(ISERROR(VLOOKUP(H5621,Database!$B$1:$C$5000,2,FALSE)),\"\",VLOOKUP(H5621,Database!$B$1:$C$5000,2,FALSE))","v":""},"",{"$error":"#N/A"},null,null,null,null,null,null,null,null,"",false,2,{"$f":"VLOOKUP(H5621,Database!$B$1:$D$5000,3,0)","v":{"$error":"#N/A"}},true]
["",null,null,null,null,null,null,null,{"$f":"IF(ISERROR(VLOOKUP(H5626,Database!$B$1:$C$5000,2,FALSE)),\"\",VLOOKUP(H5626,Database!$B$1:$C$5000,2,FALSE))","v":""},"",{"$error":"#N/A"},null,null,null,null,null,null,null,null,"",false,2,{"$f":"VLOOKUP(H5626,Database!$B$1:$D$5000,3,0)","v":{"$error":"#N/A"}},true]
["",null,null,null,null,null,null,null,{"$f":"IF(ISERROR(VLOOKUP(H5632,Database!$B$1:$C$5000,2,FALSE)),\"\",VLOOKUP(H5632,Database!$B$1:$C$5000,2,FALSE))","v":""},"",{"$error":"#N/A"},null,null,null,null,null,null,null,null,"",false,2,{"$f":"VLOOKUP(H5632,Database!$B$1:$D$5000,3,0)","v":{"$error":"#N/A"}},true]
["",null,null,null,null,null,null,null,{"$f":"IF(ISERROR(VLOOKUP(H5634,Database!$B$1:$C$5000,2,FALSE)),\"\",VLOOKUP(H5634,Database!$B$1:$C$5000,2,FALSE))","v":""},"",{"$error":"#N/A"},null,null,null,null,null,null,null,null,"",false,2,{"$f":"VLOOKUP(H5634,Database!$B$1:$D$5000,3,0)","v":{"$error":"#N/A"}},true]
["",null,null,null,null,null,null,null,{"$f":"IF(ISERROR(VLOOKUP(H5641,Database!$B$1:$C$5000,2,FALSE)),\"\",VLOOKUP(H5641,Database!$B$1:$C$5000,2,FALSE))","v":""},"",{"$error":"#N/A"},null,null,null,null,null,null,null,null,"",false,2,{"$f":"VLOOKUP(H5641,Database!$B$1:$D$5000,3,0)","v":{"$error":"#N/A"}},true]
["",null,null,null,null,null,null,null,{"$f":"IF(ISERROR(VLOOKUP(H5647,Database!$B$1:$C$5000,2,FALSE)),\"\",VLOOKUP(H5647,Database!$B$1:$C$5000,2,FALSE))","v":""},"",{"$error":"#N/A"},null,null,null,null,null,null,null,null,"",false,2,{"$f":"VLOOKUP(H5647,Database!$B$1:$D$5000,3,0)","v":{"$error":"#N/A"}},true]
["",null,null,null,null,null,null,null,{"$f":"IF(ISERROR(VLOOKUP(H5652,Database!$B$1:$C$5000,2,FALSE)),\"\",VLOOKUP(H5652,Database!$B$1:$C$5000,2,FALSE))","v":""},"",{"$error":"#N/A"},null,null,null,null,null,null,null,null,"",false,2,{"$f":"VLOOKUP(H5652,Database!$B$1:$D$5000,3,0)","v":{"$error":"#N/A"}},true]
["",null,null,null,null,null,null,null,{"$f":"IF(ISERROR(VLOOKUP(H5653,Database!$B$1:$C$5000,2,FALSE)),\"\",VLOOKUP(H5653,Database!$B$1:$C$5000,2,FALSE))","v":""},"",{"$error":"#N/A"},null,null,null,null,null,null,null,null,"",false,2,{"$f":"VLOOKUP(H5653,Database!$B$1:$D$5000,3,0)","v":{"$error":"#N/A"}},true]
["",null,null,null,null,null,null,null,{"$f":"IF(ISERROR(VLOOKUP(H5657,Database!$B$1:$C$5000,2,FALSE)),\"\",VLOOKUP(H5657,Database!$B$1:$C$5000,2,FALSE))","v":""},"",{"$error":"#N/A"},null,null,null,null,null,null,null,null,"",false,2,{"$f":"VLOOKUP(H5657,Database!$B$1:$D$5000,3,0)","v":{"$error":"#N/A"}},true]
["",null,null,null,null,null,null,null,{"$f":"IF(ISERROR(VLOOKUP(H5662,Database!$B$1:$C$5000,2,FALSE)),\"\",VLOOKUP(H5662,Database!$B$1:$C$5000,2,FALSE))","v":""},"",{"$error":"#N/A"},null,null,null,null,null,null,null,null,"",false,2,{"$f":"VLOOKUP(H5662,Database!$B$1:$D$5000,3,0)","v":{"$error":"#N/A"}},true]
["",null,null,null,null,null,null,null,{"$f":"IF(ISERROR(VLOOKUP(H5668,Database!$B$1:$C$5000,2,FALSE)),\"\",VLOOKUP(H5668,Database!$B$1:$C$5000,2,FALSE))","v":""},"",{"$error":"#N/A"},null,null,null,null,null,null,null,null,"",false,2,{"$f":"VLOOKUP(H5668,Database!$B$1:$D$5000,3,0)","v":{"$error":"#N/A"}},true]
["",null,null,null,null,null,null,null,{"$f":"IF(ISERROR(VLOOKUP(H5672,Database!$B$1:$C$5000,2,FALSE)),\"\",VLOOKUP(H5672,Database!$B$1:$C$5000,2,FALSE))","v":""},"",{"$error":"#N/A"},null,null,null,null,null,null,null,null,"",false,2,{"$f":"VLOOKUP(H5672,Database!$B$1:$D$5000,3,0)","v":{"$error":"#N/A"}},true]
["",null,null,null,null,null,null,null,{"$f":"IF(ISERROR(VLOOKUP(H5677,Database!$B$1:$C$5000,2,FALSE)),\"\",VLOOKUP(H5677,Database!$B$1:$C$5000,2,FALSE))","v":""},"",{"$error":"#N/A"},null,null,null,null,null,null,null,null,"",false,2,{"$f":"VLOOKUP(H5677,Database!$B$1:$D$5000,3,0)","v":{"$error":"#N/A"}},true]
["",null,null,null,null,null,null,null,{"$f":"IF(ISERROR(VLOOKUP(H5683,Database!$B$1:$C$5000,2,FALSE)),\"\",VLOOKUP(H5683,Database!$B$1:$C$5000,2,FALSE))","v":""},"",{"$error":"#N/A"},null,null,null,null,null,null,null,null,"",false,2,{"$f":"VLOOKUP(H5683,Database!$B$1:$D$5000,3,0)","v":{"$error":"#N/A"}},true]
["",null,null,null,null,null,null,null,{"$f":"IF(ISERROR(VLOOKUP(H5688,Database!$B$1:$C$5000,2,FALSE)),\"\",VLOOKUP(H5688,Database!$B$1:$C$5000,2,FALSE))","v":""},"",{"$error":"#N/A"},null,null,null,null,null,null,null,null,"",false,2,{"$f":"VLOOKUP(H5688,Database!$B$1:$D$5000,3,0)","v":{"$error":"#N/A"}},true]
["",null,null,null,null,null,null,null,{"$f":"IF(ISERROR(VLOOKUP(H5691,Database!$B$1:$C$5000,2,FALSE)),\"\",VLOOKUP(H5691,Database!$B$1:$C$5000,2,FALSE))","v":""},"",{"$error":"#N/A"},null,null,null,null,null,null,null,null,"",false,2,{"$f":"VLOOKUP(H5691,Database!$B$1:$D$5000,3,0)","v":{"$error":"#N/A"}},true]
["",null,null,null,null,null,null,null,{"$f":"IF(ISERROR(VLOOKUP(H5698,Database!$B$1:$C$5000,2,FALSE)),\"\",VLOOKUP(H5698,Database!$B$1:$C$5000,2,FALSE))","v":""},"",{"$error":"#N/A"},null,null,null,null,null,null,null,null,"",false,2,{"$f":"VLOOKUP(H5698,Database!$B$1:$D$5000,3,0)","v":{"$error":"#N/A"}},true]
[{"$f":"IF(B5703=\"\",\"\",ROW(A5698))","v":""},null,null,null,null,null,null,null,{"$f":"IF(ISERROR(VLOOKUP(H5703,Database!$B$1:$C$5000,2,FALSE)),\"\",VLOOKUP(H5703,Database!$B$1:$C$5000,2,FALSE))","v":""},{"$f":"IF(V5703=1,1,IF(AND(T5703=0,F5703=\"SSB\",V5703<>\"\"),3,IF(AND(T5703=0,F5703=\"DIGI\",V5703<>\"\"),2,IF(AND(T5703=0,F5703=\"CW\",V5703<>\"\"),5,IF(H5703=\"-\",\"\",T5703)))))","v":""},{"$f":"IF(H5703=\"-\",\"\",IF(AND(H5703<>\"\",X5703=TRUE),\"INDIPENDENT\",IF(W5703=0,\"SCRIVI NOME NELLE NOTE\",W5703)))","v":{"$error":"#N/A"}},null,null,null,null,null,null,null,null,{"$f":"IF(H5703=\"\",\"\",IF(H5703=$R$6,25,IF(OR(H5703=$R$7,H5703=$R$8,H5703=$R$9,H5703=$R$10,H5703=$R$11,H5703=$R$12,H5703=$R$13,H5703=$R$14,H5703=$R$15,H5703=$R$16,H5703=$R$17,H5703=$R$18,H5703=$R$19,H5703=$R$20,H5703=$R$21,H5703=$R$22,H5703=$R$23),15,0)))","v":""},{"$f":"ISERROR(I5703)","v":false},{"$f":"IF(H5703=\"-\",\"\",IF(AND(T5703=0,U5703=FALSE,I5703=\"\"),1,2))","v":2},{"$f":"VLOOKUP(H5703,Database!$B$1:$D$5000,3,0)","v":{"$error":"#N/A"}},{"$f":"ISERROR(W5703)","v":true}]
["",null,null,null,null,null,null,null,{"$f":"IF(ISERROR(VLOOKUP(H5709,Database!$B$1:$C$5000,2,FALSE)),\"\",VLOOKUP(H5709,Database!$B$1:$C$5000,2,FALSE))","v":""},"",{"$error":"#N/A"},null,null,null,null,null,null,null,null,"",false,2,{"$f":"VLOOKUP(H5709,Database!$B$1:$D$5000,3,0)","v":{"$error":"#N/A"}},true]
["",null,null,null,null,null,null,null,{"$f":"IF(ISERROR(VLOOKUP(H5710,Database!$B$1:$C$5000,2,FALSE)),\"\",VLOOKUP(H5710,Database!$B$1:$C$5000,2,FALSE))","v":""},"",{"$error":"#N/A"},null,null,null,null,null,null,null,null,"",false,2,{"$f":"VLOOKUP(H5710,Database!$B$1:$D$5000,3,0)","v":{"$error":"#N/A"}},true]
["",null,null,null,null,null,null,null,{"$f":"IF(ISERROR(VLOOKUP(H5718,Database!$B$1:$C$5000,2,FALSE)),\"\",VLOOKUP(H5718,Database!$B$1:$C$5000,2,FALSE))","v":""},"",{"$error":"#N/A"},null,null,null,null,null,null,null,null,"",false,2,{"$f":"VLOOKUP(H5718,Database!$B$1:$D$5000,3,0)","v":{"$error":"#N/A"}},true]
["",null,null,null,null,null,null,null,{"$f":"IF(ISERROR(VLOOKUP(H5719,Database!$B$1:$C$5000,2,FALSE)),\"\",VLOOKUP(H5719,Database!$B$1:$C$5000,2,FALSE))","v":""},"",{"$error":"#N/A"},null,null,null,null,null,null,null,null,"",false,2,{"$f":"VLOOKUP(H5719,Database!$B$1:$D$5000,3,0)","v":{"$error":"#N/A"}},true]
["",null,null,null,null,null,null,null,{"$f":"IF(ISERROR(VLOOKUP(H5724,Database!$B$1:$C$5000,2,FALSE)),\"\",VLOOKUP(H5724,Database!$B$1:$C$5000,2,FALSE))","v":""},"",{"$error":"#N/A"},null,null,null,null,null,null,null,null,"",false,2,{"$f":"VLOOKUP(H5724,Database!$B$1:$D$5000,3,0)","v":{"$error":"#N/A"}},true]
["",null,null,null,null,null,null,null,{"$f":"IF(ISERROR(VLOOKUP(H5729,Database!$B$1:$C$5000,2,FALSE)),\"\",VLOOKUP(H5729,Database!$B$1:$C$5000,2,FALSE))","v":""},"",{"$error":"#N/A"},null,null,null,null,null,null,null,null,"",false,2,{"$f":"VLOOKUP(H5729,Database!$B$1:$D$5000,3,0)","v":{"$error":"#N/A"}},true]
["",null,null,null,null,null,null,null,{"$f":"IF(ISERROR(VLOOKUP(H5734,Database!$B$1:$C$5000,2,FALSE)),\"\",VLOOKUP(H5734,Database!$B$1:$C$5000,2,FALSE))","v":""},"",{"$error":"#N/A"},null,null,null,null,null,null,null,null,"",false,2,{"$f":"VLOOKUP(H5734,Database!$B$1:$D$5000,3,0)","v":{"$error":"#N/A"}},true]
["",null,null,null,null,null,null,null,{"$f":"IF(ISERROR(VLOOKUP(H5739,Database!$B$1:$C$5000,2,FALSE)),\"\",VLOOKUP(H5739,Database!$B$1:$C$5000,2,FALSE))","v":""},"",{"$error":"#N/A"},null,null,null,null,null,null,null,null,"",false,2,{"$f":"VLOOKUP(H5739,Database!$B$1:$D$5000,3,0)","v":{"$error":"#N/A"}},true]
["",null,null,null,null,null,null,null,{"$f":"IF(ISERROR(VLOOKUP(H5745,Database!$B$1:$C$5000,2,FALSE)),\"\",VLOOKUP(H5745,Database!$B$1:$C$5000,2,FALSE))","v":""},"",{"$error":"#N/A"},null,null,null,null,null,null,null,null,"",false,2,{"$f":"VLOOKUP(H5745,Database!$B$1:$D$5000,3,0)","v":{"$error":"#N/A"}},true]
["",null,null,null,null,null,null,null,{"$f":"IF(ISERROR(VLOOKUP(H5750,Database!$B$1:$C$5000,2,FALSE)),\"\",VLOOKUP(H5750,Database!$B$1:$C$5000,2,FALSE))","v":""},"",{"$error":"#N/A"},null,null,null,null,null,null,null,null,"",false,2,{"$f":"VLOOKUP(H5750,Database!$B$1:$D$5000,3,0)","v":{"$error":"#N/A"}},true]
["",null,null,null,null,null,null,null,{"$f":"IF(ISERROR(VLOOKUP(H5753,Database!$B$1:$C$5000,2,FALSE)),\"\",VLOOKUP(H5753,Database!$B$1:$C$5000,2,FALSE))","v":""},"",{"$error":"#N/A"},null,null,null,null,null,null,null,null,"",false,2,{"$f":"VLOOKUP(H5753,Database!$B$1:$D$5000,3,0)","v":{"$error":"#N/A"}},true]
["",null,null,null,null,null,null,null,{"$f":"IF(ISERROR(VLOOKUP(H5754,Database!$B$1:$C$5000,2,FALSE)),\"\",VLOOKUP(H5754,Database!$B$1:$C$5000,2,FALSE))","v":""},"",{"$error":"#N/A"},null,null,null,null,null,null,null,null,"",false,2,{"$f":"VLOOKUP(H5754,Database!$B$1:$D$5000,3,0)","v":{"$error":"#N/A"}},true]
["",null,null,null,null,null,null,null,{"$f":"IF(ISERROR(VLOOKUP(H5755,Database!$B$1:$C$5000,2,FALSE)),\"\",VLOOKUP(H5755,Database!$B$1:$C$5000,2,FALSE))","v":""},"",{"$error":"#N/A"},null,null,null,null,null,null,null,null,"",false,2,{"$f":"VLOOKUP(H5755,Database!$B$1:$D$5000,3,0)","v":{"$error":"#N/A"}},true]
["",null,null,null,null,null,null,null,{"$f":"IF(ISERROR(VLOOKUP(H5756,Database!$B$1:$C$5000,2,FALSE)),\"\",VLOOKUP(H5756,Database!$B$1:$C$5000,2,FALSE))","v":""},"",{"$error":"#N/A"},null,null,null,null,null,null,null,null,"",false,2,{"$f":"VLOOKUP(H5756,Database!$B$1:$D$5000,3,0)","v":{"$error":"#N/A"}},true]
["",null,null,null,null,null,null,null,{"$f":"IF(ISERROR(VLOOKUP(H5757,Database!$B$1:$C$5000,2,FALSE)),\"\",VLOOKUP(H5757,Database!$B$1:$C$5000,2,FALSE))","v":""},"",{"$error":"#N/A"},null,null,null,null,null,null,null,null,"",false,2,{"$f":"VLOOKUP(H5757,Database!$B$1:$D$5000,3,0)","v":{"$error":"#N/A"}},true]
["",null,null,null,null,null,null,null,{"$f":"IF(ISERROR(VLOOKUP(H5758,Database!$B$1:$C$5000,2,FALSE)),\"\",VLOOKUP(H5758,Database!$B$1:$C$5000,2,FALSE))","v":""},"",{"$error":"#N/A"},null,null,null,null,null,null,null,null,"",false,2,{"$f":"VLOOKUP(H5758,Database!$B$1:$D$5000,3,0)","v":{"$error":"#N/A"}},true]
["",null,null,null,null,null,null,null,{"$f":"IF(ISERROR(VLOOKUP(H5759,Database!$B$1:$C$5000,2,FALSE)),\"\",VLOOKUP(H5759,Database!$B$1:$C$5000,2,FALSE))","v":""},"",{"$error":"#N/A"},null,null,null,null,null,null,null,null,"",false,2,{"$f":"VLOOKUP(H5759,Database!$B$1:$D$5000,3,0)","v":{"$error":"#N/A"}},true]
["",null,null,null,null,null,null,null,{"$f":"IF(ISERROR(VLOOKUP(H5760,Database!$B$1:$C$5000,2,FALSE)),\"\",VLOOKUP(H5760,Database!$B$1:$C$5000,2,FALSE))","v":""},"",{"$error":"#N/A"},null,null,null,null,null,null,null,null,"",false,2,{"$f":"VLOOKUP(H5760,Database!$B$1:$D$5000,3,0)","v":{"$error":"#N/A"}},true]
["",null,null,null,null,null,null,null,{"$f":"IF(ISERROR(VLOOKUP(H5761,Database!$B$1:$C$5000,2,FALSE)),\"\",VLOOKUP(H5761,Database!$B$1:$C$5000,2,FALSE))","v":""},"",{"$error":"#N/A"},null,null,null,null,null,null,null,null,"",false,2,{"$f":"VLOOKUP(H5761,Database!$B$1:$D$5000,3,0)","v":{"$error":"#N/A"}},true]
["",null,null,null,null,null,null,null,{"$f":"IF(ISERROR(VLOOKUP(H5762,Database!$B$1:$C$5000,2,FALSE)),\"\",VLOOKUP(H5762,Database!$B$1:$C$5000,2,FALSE))","v":""},"",{"$error":"#N/A"},null,null,null,null,null,null,null,null,"",false,2,{"$f":"VLOOKUP(H5762,Database!$B$1:$D$5000,3,0)","v":{"$error":"#N/A"}},true]
["",null,null,null,null,null,null,null,{"$f":"IF(ISERROR(VLOOKUP(H5763,Database!$B$1:$C$5000,2,FALSE)),\"\",VLOOKUP(H5763,Database!$B$1:$C$5000,2,FALSE))","v":""},"",{"$error":"#N/A"},null,null,null,null,null,null,null,null,"",false,2,{"$f":"VLOOKUP(H5763,Database!$B$1:$D$5000,3,0)","v":{"$error":"#N/A"}},true]
["",null,null,null,null,null,null,null,{"$f":"IF(ISERROR(VLOOKUP(H5764,Database!$B$1:$C$5000,2,FALSE)),\"\",VLOOKUP(H5764,Database!$B$1:$C$5000,2,FALSE))","v":""},"",{"$error":"#N/A"},null,null,null,null,null,null,null,null,"",false,2,{"$f":"VLOOKUP(H5764,Database!$B$1:$D$5000,3,0)","v":{"$error":"#N/A"}},true]
["",null,null,null,null,null,null,null,{"$f":"IF(ISERROR(VLOOKUP(H5765,Database!$B$1:$C$5000,2,FALSE)),\"\",VLOOKUP(H5765,Database!$B$1:$C$5000,2,FALSE))","v":""},"",{"$error":"#N/A"},null,null,null,null,null,null,null,null,"",false,2,{"$f":"VLOOKUP(H5765,Database!$B$1:$D$5000,3,0)","v":{"$error":"#N/A"}},true]
["",null,null,null,null,null,null,null,{"$f":"IF(ISERROR(VLOOKUP(H5766,Database!$B$1:$C$5000,2,FALSE)),\"\",VLOOKUP(H5766,Database!$B$1:$C$5000,2,FALSE))","v":""},"",{"$error":"#N/A"},null,null,null,null,null,null,null,null,"",false,2,{"$f":"VLOOKUP(H5766,Database!$B$1:$D$5000,3,0)","v":{"$error":"#N/A"}},true]
[{"$f":"IF(B5767=\"\",\"\",ROW(A5762))","v":""},null,null,null,null,null,null,null,{"$f":"IF(ISERROR(VLOOKUP(H5767,Database!$B$1:$C$5000,2,FALSE)),\"\",VLOOKUP(H5767,Database!$B$1:$C$5000,2,FALSE))","v":""},{"$f":"IF(V5767=1,1,IF(AND(T5767=0,F5767=\"SSB\",V5767<>\"\"),3,IF(AND(T5767=0,F5767=\"DIGI\",V5767<>\"\"),2,IF(AND(T5767=0,F5767=\"CW\",V5767<>\"\"),5,IF(H5767=\"-\",\"\",T5767)))))","v":""},{"$f":"IF(H5767=\"-\",\"\",IF(AND(H5767<>\"\",X5767=TRUE),\"INDIPENDENT\",IF(W5767=0,\"SCRIVI NOME NELLE NOTE\",W5767)))","v":{"$error":"#N/A"}},null,null,null,null,null,null,null,null,{"$f":"IF(H5767=\"\",\"\",IF(H5767=$R$6,25,IF(OR(H5767=$R$7,H5767=$R$8,H5767=$R$9,H5767=$R$10,H5767=$R$11,H5767=$R$12,H5767=$R$13,H5767=$R$14,H5767=$R$15,H5767=$R$16,H5767=$R$17,H5767=$R$18,H5767=$R$19,H5767=$R$20,H5767=$R$21,H5767=$R$22,H5767=$R$23),15,0)))","v":""},{"$f":"ISERROR(I5767)","v":false},{"$f":"IF(H5767=\"-\",\"\",IF(AND(T5767=0,U5767=FALSE,I5767=\"\"),1,2))","v":2},{"$f":"VLOOKUP(H5767,Database!$B$1:$D$5000,3,0)","v":{"$error":"#N/A"}},{"$f":"ISERROR(W5767)","v":true}]
["",null,null,null,null,null,null,null,{"$f":"IF(ISERROR(VLOOKUP(H5768,Database!$B$1:$C$5000,2,FALSE)),\"\",VLOOKUP(H5768,Database!$B$1:$C$5000,2,FALSE))","v":""},"",{"$error":"#N/A"},null,null,null,null,null,null,null,null,"",false,2,{"$f":"VLOOKUP(H5768,Database!$B$1:$D$5000,3,0)","v":{"$error":"#N/A"}},true]
["",null,null,null,null,null,null,null,{"$f":"IF(ISERROR(VLOOKUP(H5769,Database!$B$1:$C$5000,2,FALSE)),\"\",VLOOKUP(H5769,Database!$B$1:$C$5000,2,FALSE))","v":""},"",{"$error":"#N/A"},null,null,null,null,null,null,null,null,"",false,2,{"$f":"VLOOKUP(H5769,Database!$B$1:$D$5000,3,0)","v":{"$error":"#N/A"}},true]
["",null,null,null,null,null,null,null,{"$f":"IF(ISERROR(VLOOKUP(H5770,Database!$B$1:$C$5000,2,FALSE)),\"\",VLOOKUP(H5770,Database!$B$1:$C$5000,2,FALSE))","v":""},"",{"$error":"#N/A"},null,null,null,null,null,null,null,null,"",false,2,{"$f":"VLOOKUP(H5770,Database!$B$1:$D$5000,3,0)","v":{"$error":"#N/A"}},true]
["",null,null,null,null,null,null,null,{"$f":"IF(ISERROR(VLOOKUP(H5771,Database!$B$1:$C$5000,2,FALSE)),\"\",VLOOKUP(H5771,Database!$B$1:$C$5000,2,FALSE))","v":""},"",{"$error":"#N/A"},null,null,null,null,null,null,null,null,"",false,2,{"$f":"VLOOKUP(H5771,Database!$B$1:$D$5000,3,0)","v":{"$error":"#N/A"}},true]
["",null,null,null,null,null,null,null,{"$f":"IF(ISERROR(VLOOKUP(H5772,Database!$B$1:$C$5000,2,FALSE)),\"\",VLOOKUP(H5772,Database!$B$1:$C$5000,2,FALSE))","v":""},"",{"$error":"#N/A"},null,null,null,null,null,null,null,null,"",false,2,{"$f":"VLOOKUP(H5772,Database!$B$1:$D$5000,3,0)","v":{"$error":"#N/A"}},true]
["",null,null,null,null,null,null,null,{"$f":"IF(ISERROR(VLOOKUP(H5773,Database!$B$1:$C$5000,2,FALSE)),\"\",VLOOKUP(H5773,Database!$B$1:$C$5000,2,FALSE))","v":""},"",{"$error":"#N/A"},null,null,null,null,null,null,null,null,"",false,2,{"$f":"VLOOKUP(H5773,Database!$B$1:$D$5000,3,0)","v":{"$error":"#N/A"}},true]
["",null,null,null,null,null,null,null,{"$f":"IF(ISERROR(VLOOKUP(H5774,Database!$B$1:$C$5000,2,FALSE)),\"\",VLOOKUP(H5774,Database!$B$1:$C$5000,2,FALSE))","v":""},"",{"$error":"#N/A"},null,null,null,null,null,null,null,null,"",false,2,{"$f":"VLOOKUP(H5774,Database!$B$1:$D$5000,3,0)","v":{"$error":"#N/A"}},true]
["",null,null,null,null,null,null,null,{"$f":"IF(ISERROR(VLOOKUP(H5775,Database!$B$1:$C$5000,2,FALSE)),\"\",VLOOKUP(H5775,Database!$B$1:$C$5000,2,FALSE))","v":""},"",{"$error":"#N/A"},null,null,null,null,null,null,null,null,"",false,2,{"$f":"VLOOKUP(H5775,Database!$B$1:$D$5000,3,0)","v":{"$error":"#N/A"}},true]
["",null,null,null,null,null,null,null,{"$f":"IF(ISERROR(VLOOKUP(H5776,Database!$B$1:$C$5000,2,FALSE)),\"\",VLOOKUP(H5776,Database!$B$1:$C$5000,2,FALSE))","v":""},"",{"$error":"#N/A"},null,null,null,null,null,null,null,null,"",false,2,{"$f":"VLOOKUP(H5776,Database!$B$1:$D$5000,3,0)","v":{"$error":"#N/A"}},true]
["",null,null,null,null,null,null,null,{"$f":"IF(ISERROR(VLOOKUP(H5777,Database!$B$1:$C$5000,2,FALSE)),\"\",VLOOKUP(H5777,Database!$B$1:$C$5000,2,FALSE))","v":""},"",{"$error":"#N/A"},null,null,null,null,null,null,null,null,"",false,2,{"$f":"VLOOKUP(H5777,Database!$B$1:$D$5000,3,0)","v":{"$error":"#N/A"}},true]
["",null,null,null,null,null,null,null,{"$f":"IF(ISERROR(VLOOKUP(H5778,Database!$B$1:$C$5000,2,FALSE)),\"\",VLOOKUP(H5778,Database!$B$1:$C$5000,2,FALSE))","v":""},"",{"$error":"#N/A"},null,null,null,null,null,null,null,null,"",false,2,{"$f":"VLOOKUP(H5778,Database!$B$1:$D$5000,3,0)","v":{"$error":"#N/A"}},true]
["",null,null,null,null,null,null,null,{"$f":"IF(ISERROR(VLOOKUP(H5779,Database!$B$1:$C$5000,2,FALSE)),\"\",VLOOKUP(H5779,Database!$B$1:$C$5000,2,FALSE))","v":""},"",{"$error":"#N/A"},null,null,null,null,null,null,null,null,"",false,2,{"$f":"VLOOKUP(H5779,Database!$B$1:$D$5000,3,0)","v":{"$error":"#N/A"}},true]
["",null,null,null,null,null,null,null,{"$f":"IF(ISERROR(VLOOKUP(H5780,Database!$B$1:$C$5000,2,FALSE)),\"\",VLOOKUP(H5780,Database!$B$1:$C$5000,2,FALSE))","v":""},"",{"$error":"#N/A"},null,null,null,null,null,null,null,null,"",false,2,{"$f":"VLOOKUP(H5780,Database!$B$1:$D$5000,3,0)","v":{"$error":"#N/A"}},true]
["",null,null,null,null,null,null,null,{"$f":"IF(ISERROR(VLOOKUP(H5781,Database!$B$1:$C$5000,2,FALSE)),\"\",VLOOKUP(H5781,Database!$B$1:$C$5000,2,FALSE))","v":""},"",{"$error":"#N/A"},null,null,null,null,null,null,null,null,"",false,2,{"$f":"VLOOKUP(H5781,Database!$B$1:$D$5000,3,0)","v":{"$error":"#N/A"}},true]
["",null,null,null,null,null,null,null,{"$f":"IF(ISERROR(VLOOKUP(H5782,Database!$B$1:$C$5000,2,FALSE)),\"\",VLOOKUP(H5782,Database!$B$1:$C$5000,2,FALSE))","v":""},"",{"$error":"#N/A"},null,null,null,null,null,null,null,null,"",false,2,{"$f":"VLOOKUP(H5782,Database!$B$1:$D$5000,3,0)","v":{"$error":"#N/A"}},true]
["",null,null,null,null,null,null,null,{"$f":"IF(ISERROR(VLOOKUP(H5783,Database!$B$1:$C$5000,2,FALSE)),\"\",VLOOKUP(H5783,Database!$B$1:$C$5000,2,FALSE))","v":""},"",{"$error":"#N/A"},null,null,null,null,null,null,null,null,"",false,2,{"$f":"VLOOKUP(H5783,Database!$B$1:$D$5000,3,0)","v":{"$error":"#N/A"}},true]
["",null,null,null,null,null,null,null,{"$f":"IF(ISERROR(VLOOKUP(H5784,Database!$B$1:$C$5000,2,FALSE)),\"\",VLOOKUP(H5784,Database!$B$1:$C$5000,2,FALSE))","v":""},"",{"$error":"#N/A"},null,null,null,null,null,null,null,null,"",false,2,{"$f":"VLOOKUP(H5784,Database!$B$1:$D$5000,3,0)","v":{"$error":"#N/A"}},true]
["",null,null,null,null,null,null,null,{"$f":"IF(ISERROR(VLOOKUP(H5785,Database!$B$1:$C$5000,2,FALSE)),\"\",VLOOKUP(H5785,Database!$B$1:$C$5000,2,FALSE))","v":""},"",{"$error":"#N/A"},null,null,null,null,null,null,null,null,"",false,2,{"$f":"VLOOKUP(H5785,Database!$B$1:$D$5000,3,0)","v":{"$error":"#N/A"}},true]
["",null,null,null,null,null,null,null,{"$f":"IF(ISERROR(VLOOKUP(H5786,Database!$B$1:$C$5000,2,FALSE)),\"\",VLOOKUP(H5786,Database!$B$1:$C$5000,2,FALSE))","v":""},"",{"$error":"#N/A"},null,null,null,null,null,null,null,null,"",false,2,{"$f":"VLOOKUP(H5786,Database!$B$1:$D$5000,3,0)","v":{"$error":"#N/A"}},true]
["",null,null,null,null,null,null,null,{"$f":"IF(ISERROR(VLOOKUP(H5787,Database!$B$1:$C$5000,2,FALSE)),\"\",VLOOKUP(H5787,Database!$B$1:$C$5000,2,FALSE))","v":""},"",{"$error":"#N/A"},null,null,null,null,null,null,null,null,"",false,2,{"$f":"VLOOKUP(H5787,Database!$B$1:$D$5000,3,0)","v":{"$error":"#N/A"}},true]
["",null,null,null,null,null,null,null,{"$f":"IF(ISERROR(VLOOKUP(H5788,Database!$B$1:$C$5000,2,FALSE)),\"\",VLOOKUP(H5788,Database!$B$1:$C$5000,2,FALSE))","v":""},"",{"$error":"#N/A"},null,null,null,null,null,null,null,null,"",false,2,{"$f":"VLOOKUP(H5788,Database!$B$1:$D$5000,3,0)","v":{"$error":"#N/A"}},true]
["",null,null,null,null,null,null,null,{"$f":"IF(ISERROR(VLOOKUP(H5789,Database!$B$1:$C$5000,2,FALSE)),\"\",VLOOKUP(H5789,Database!$B$1:$C$5000,2,FALSE))","v":""},"",{"$error":"#N/A"},null,null,null,null,null,null,null,null,"",false,2,{"$f":"VLOOKUP(H5789,Database!$B$1:$D$5000,3,0)","v":{"$error":"#N/A"}},true]
["",null,null,null,null,null,null,null,{"$f":"IF(ISERROR(VLOOKUP(H5790,Database!$B$1:$C$5000,2,FALSE)),\"\",VLOOKUP(H5790,Database!$B$1:$C$5000,2,FALSE))","v":""},"",{"$error":"#N/A"},null,null,null,null,null,null,null,null,"",false,2,{"$f":"VLOOKUP(H5790,Database!$B$1:$D$5000,3,0)","v":{"$error":"#N/A"}},true]
["",null,null,null,null,null,null,null,{"$f":"IF(ISERROR(VLOOKUP(H5791,Database!$B$1:$C$5000,2,FALSE)),\"\",VLOOKUP(H5791,Database!$B$1:$C$5000,2,FALSE))","v":""},"",{"$error":"#N/A"},null,null,null,null,null,null,null,null,"",false,2,{"$f":"VLOOKUP(H5791,Database!$B$1:$D$5000,3,0)","v":{"$error":"#N/A"}},true]
["",null,null,null,null,null,null,null,{"$f":"IF(ISERROR(VLOOKUP(H5792,Database!$B$1:$C$5000,2,FALSE)),\"\",VLOOKUP(H5792,Database!$B$1:$C$5000,2,FALSE))","v":""},"",{"$error":"#N/A"},null,null,null,null,null,null,null,null,"",false,2,{"$f":"VLOOKUP(H5792,Database!$B$1:$D$5000,3,0)","v":{"$error":"#N/A"}},true]
["",null,null,null,null,null,null,null,{"$f":"IF(ISERROR(VLOOKUP(H5793,Database!$B$1:$C$5000,2,FALSE)),\"\",VLOOKUP(H5793,Database!$B$1:$C$5000,2,FALSE))","v":""},"",{"$error":"#N/A"},null,null,null,null,null,null,null,null,"",false,2,{"$f":"VLOOKUP(H5793,Database!$B$1:$D$5000,3,0)","v":{"$error":"#N/A"}},true]
["",null,null,null,null,null,null,null,{"$f":"IF(ISERROR(VLOOKUP(H5794,Database!$B$1:$C$5000,2,FALSE)),\"\",VLOOKUP(H5794,Database!$B$1:$C$5000,2,FALSE))","v":""},"",{"$error":"#N/A"},null,null,null,null,null,null,null,null,"",false,2,{"$f":"VLOOKUP(H5794,Database!$B$1:$D$5000,3,0)","v":{"$error":"#N/A"}},true]
["",null,null,null,null,null,null,null,{"$f":"IF(ISERROR(VLOOKUP(H5795,Database!$B$1:$C$5000,2,FALSE)),\"\",VLOOKUP(H5795,Database!$B$1:$C$5000,2,FALSE))","v":""},"",{"$error":"#N/A"},null,null,null,null,null,null,null,null,"",false,2,{"$f":"VLOOKUP(H5795,Database!$B$1:$D$5000,3,0)","v":{"$error":"#N/A"}},true]
["",null,null,null,null,null,null,null,{"$f":"IF(ISERROR(VLOOKUP(H5796,Database!$B$1:$C$5000,2,FALSE)),\"\",VLOOKUP(H5796,Database!$B$1:$C$5000,2,FALSE))","v":""},"",{"$error":"#N/A"},null,null,null,null,null,null,null,null,"",false,2,{"$f":"VLOOKUP(H5796,Database!$B$1:$D$5000,3,0)","v":{"$error":"#N/A"}},true]
["",null,null,null,null,null,null,null,{"$f":"IF(ISERROR(VLOOKUP(H5797,Database!$B$1:$C$5000,2,FALSE)),\"\",VLOOKUP(H5797,Database!$B$1:$C$5000,2,FALSE))","v":""},"",{"$error":"#N/A"},null,null,null,null,null,null,null,null,"",false,2,{"$f":"VLOOKUP(H5797,Database!$B$1:$D$5000,3,0)","v":{"$error":"#N/A"}},true]
["",null,null,null,null,null,null,null,{"$f":"IF(ISERROR(VLOOKUP(H5798,Database!$B$1:$C$5000,2,FALSE)),\"\",VLOOKUP(H5798,Database!$B$1:$C$5000,2,FALSE))","v":""},"",{"$error":"#N/A"},null,null,null,null,null,null,null,null,"",false,2,{"$f":"VLOOKUP(H5798,Database!$B$1:$D$5000,3,0)","v":{"$error":"#N/A"}},true]
["",null,null,null,null,null,null,null,{"$f":"IF(ISERROR(VLOOKUP(H5799,Database!$B$1:$C$5000,2,FALSE)),\"\",VLOOKUP(H5799,Database!$B$1:$C$5000,2,FALSE))","v":""},"",{"$error":"#N/A"},null,null,null,null,null,null,null,null,"",false,2,{"$f":"VLOOKUP(H5799,Database!$B$1:$D$5000,3,0)","v":{"$error":"#N/A"}},true]
["",null,null,null,null,null,null,null,{"$f":"IF(ISERROR(VLOOKUP(H5800,Database!$B$1:$C$5000,2,FALSE)),\"\",VLOOKUP(H5800,Database!$B$1:$C$5000,2,FALSE))","v":""},"",{"$error":"#N/A"},null,null,null,null,null,null,null,null,"",false,2,{"$f":"VLOOKUP(H5800,Database!$B$1:$D$5000,3,0)","v":{"$error":"#N/A"}},true]
["",null,null,null,null,null,null,null,{"$f":"IF(ISERROR(VLOOKUP(H5801,Database!$B$1:$C$5000,2,FALSE)),\"\",VLOOKUP(H5801,Database!$B$1:$C$5000,2,FALSE))","v":""},"",{"$error":"#N/A"},null,null,null,null,null,null,null,null,"",false,2,{"$f":"VLOOKUP(H5801,Database!$B$1:$D$5000,3,0)","v":{"$error":"#N/A"}},true]
["",null,null,null,null,null,null,null,{"$f":"IF(ISERROR(VLOOKUP(H5802,Database!$B$1:$C$5000,2,FALSE)),\"\",VLOOKUP(H5802,Database!$B$1:$C$5000,2,FALSE))","v":""},"",{"$error":"#N/A"},null,null,null,null,null,null,null,null,"",false,2,{"$f":"VLOOKUP(H5802,Database!$B$1:$D$5000,3,0)","v":{"$error":"#N/A"}},true]
["",null,null,null,null,null,null,null,{"$f":"IF(ISERROR(VLOOKUP(H5803,Database!$B$1:$C$5000,2,FALSE)),\"\",VLOOKUP(H5803,Database!$B$1:$C$5000,2,FALSE))","v":""},"",{"$error":"#N/A"},null,null,null,null,null,null,null,null,"",false,2,{"$f":"VLOOKUP(H5803,Database!$B$1:$D$5000,3,0)","v":{"$error":"#N/A"}},true]
["",null,null,null,null,null,null,null,{"$f":"IF(ISERROR(VLOOKUP(H5804,Database!$B$1:$C$5000,2,FALSE)),\"\",VLOOKUP(H5804,Database!$B$1:$C$5000,2,FALSE))","v":""},"",{"$error":"#N/A"},null,null,null,null,null,null,null,null,"",false,2,{"$f":"VLOOKUP(H5804,Database!$B$1:$D$5000,3,0)","v":{"$error":"#N/A"}},true]
["",null,null,null,null,null,null,null,{"$f":"IF(ISERROR(VLOOKUP(H5805,Database!$B$1:$C$5000,2,FALSE)),\"\",VLOOKUP(H5805,Database!$B$1:$C$5000,2,FALSE))","v":""},"",{"$error":"#N/A"},null,null,null,null,null,null,null,null,"",false,2,{"$f":"VLOOKUP(H5805,Database!$B$1:$D$5000,3,0)","v":{"$error":"#N/A"}},true]
["",null,null,null,null,null,null,null,{"$f":"IF(ISERROR(VLOOKUP(H5806,Database!$B$1:$C$5000,2,FALSE)),\"\",VLOOKUP(H5806,Database!$B$1:$C$5000,2,FALSE))","v":""},"",{"$error":"#N/A"},null,null,null,null,null,null,null,null,"",false,2,{"$f":"VLOOKUP(H5806,Database!$B$1:$D$5000,3,0)","v":{"$error":"#N/A"}},true]
["",null,null,null,null,null,null,null,{"$f":"IF(ISERROR(VLOOKUP(H5807,Database!$B$1:$C$5000,2,FALSE)),\"\",VLOOKUP(H5807,Database!$B$1:$C$5000,2,FALSE))","v":""},"",{"$error":"#N/A"},null,null,null,null,null,null,null,null,"",false,2,{"$f":"VLOOKUP(H5807,Database!$B$1:$D$5000,3,0)","v":{"$error":"#N/A"}},true]
["",null,null,null,null,null,null,null,{"$f":"IF(ISERROR(VLOOKUP(H5808,Database!$B$1:$C$5000,2,FALSE)),\"\",VLOOKUP(H5808,Database!$B$1:$C$5000,2,FALSE))","v":""},"",{"$error":"#N/A"},null,null,null,null,null,null,null,null,"",false,2,{"$f":"VLOOKUP(H5808,Database!$B$1:$D$5000,3,0)","v":{"$error":"#N/A"}},true]
["",null,null,null,null,null,null,null,{"$f":"IF(ISERROR(VLOOKUP(H5809,Database!$B$1:$C$5000,2,FALSE)),\"\",VLOOKUP(H5809,Database!$B$1:$C$5000,2,FALSE))","v":""},"",{"$error":"#N/A"},null,null,null,null,null,null,null,null,"",false,2,{"$f":"VLOOKUP(H5809,Database!$B$1:$D$5000,3,0)","v":{"$error":"#N/A"}},true]
["",null,null,null,null,null,null,null,{"$f":"IF(ISERROR(VLOOKUP(H5810,Database!$B$1:$C$5000,2,FALSE)),\"\",VLOOKUP(H5810,Database!$B$1:$C$5000,2,FALSE))","v":""},"",{"$error":"#N/A"},null,null,null,null,null,null,null,null,"",false,2,{"$f":"VLOOKUP(H5810,Database!$B$1:$D$5000,3,0)","v":{"$error":"#N/A"}},true]
["",null,null,null,null,null,null,null,{"$f":"IF(ISERROR(VLOOKUP(H5811,Database!$B$1:$C$5000,2,FALSE)),\"\",VLOOKUP(H5811,Database!$B$1:$C$5000,2,FALSE))","v":""},"",{"$error":"#N/A"},null,null,null,null,null,null,null,null,"",false,2,{"$f":"VLOOKUP(H5811,Database!$B$1:$D$5000,3,0)","v":{"$error":"#N/A"}},true]
["",null,null,null,null,null,null,null,{"$f":"IF(ISERROR(VLOOKUP(H5812,Database!$B$1:$C$5000,2,FALSE)),\"\",VLOOKUP(H5812,Database!$B$1:$C$5000,2,FALSE))","v":""},"",{"$error":"#N/A"},null,null,null,null,null,null,null,null,"",false,2,{"$f":"VLOOKUP(H5812,Database!$B$1:$D$5000,3,0)","v":{"$error":"#N/A"}},true]
["",null,null,null,null,null,null,null,{"$f":"IF(ISERROR(VLOOKUP(H5813,Database!$B$1:$C$5000,2,FALSE)),\"\",VLOOKUP(H5813,Database!$B$1:$C$5000,2,FALSE))","v":""},"",{"$error":"#N/A"},null,null,null,null,null,null,null,null,"",false,2,{"$f":"VLOOKUP(H5813,Database!$B$1:$D$5000,3,0)","v":{"$error":"#N/A"}},true]
["",null,null,null,null,null,null,null,{"$f":"IF(ISERROR(VLOOKUP(H5814,Database!$B$1:$C$5000,2,FALSE)),\"\",VLOOKUP(H5814,Database!$B$1:$C$5000,2,FALSE))","v":""},"",{"$error":"#N/A"},null,null,null,null,null,null,null,null,"",false,2,{"$f":"VLOOKUP(H5814,Database!$B$1:$D$5000,3,0)","v":{"$error":"#N/A"}},true]
["",null,null,null,null,null,null,null,{"$f":"IF(ISERROR(VLOOKUP(H5815,Database!$B$1:$C$5000,2,FALSE)),\"\",VLOOKUP(H5815,Database!$B$1:$C$5000,2,FALSE))","v":""},"",{"$error":"#N/A"},null,null,null,null,null,null,null,null,"",false,2,{"$f":"VLOOKUP(H5815,Database!$B$1:$D$5000,3,0)","v":{"$error":"#N/A"}},true]
["",null,null,null,null,null,null,null,{"$f":"IF(ISERROR(VLOOKUP(H5816,Database!$B$1:$C$5000,2,FALSE)),\"\",VLOOKUP(H5816,Database!$B$1:$C$5000,2,FALSE))","v":""},"",{"$error":"#N/A"},null,null,null,null,null,null,null,null,"",false,2,{"$f":"VLOOKUP(H5816,Database!$B$1:$D$5000,3,0)","v":{"$error":"#N/A"}},true]
["",null,null,null,null,null,null,null,{"$f":"IF(ISERROR(VLOOKUP(H5817,Database!$B$1:$C$5000,2,FALSE)),\"\",VLOOKUP(H5817,Database!$B$1:$C$5000,2,FALSE))","v":""},"",{"$error":"#N/A"},null,null,null,null,null,null,null,null,"",false,2,{"$f":"VLOOKUP(H5817,Database!$B$1:$D$5000,3,0)","v":{"$error":"#N/A"}},true]
["",null,null,null,null,null,null,null,{"$f":"IF(ISERROR(VLOOKUP(H5818,Database!$B$1:$C$5000,2,FALSE)),\"\",VLOOKUP(H5818,Database!$B$1:$C$5000,2,FALSE))","v":""},"",{"$error":"#N/A"},null,null,null,null,null,null,null,null,"",false,2,{"$f":"VLOOKUP(H5818,Database!$B$1:$D$5000,3,0)","v":{"$error":"#N/A"}},true]
["",null,null,null,null,null,null,null,{"$f":"IF(ISERROR(VLOOKUP(H5819,Database!$B$1:$C$5000,2,FALSE)),\"\",VLOOKUP(H5819,Database!$B$1:$C$5000,2,FALSE))","v":""},"",{"$error":"#N/A"},null,null,null,null,null,null,null,null,"",false,2,{"$f":"VLOOKUP(H5819,Database!$B$1:$D$5000,3,0)","v":{"$error":"#N/A"}},true]
["",null,null,null,null,null,null,null,{"$f":"IF(ISERROR(VLOOKUP(H5820,Database!$B$1:$C$5000,2,FALSE)),\"\",VLOOKUP(H5820,Database!$B$1:$C$5000,2,FALSE))","v":""},"",{"$error":"#N/A"},null,null,null,null,null,null,null,null,"",false,2,{"$f":"VLOOKUP(H5820,Database!$B$1:$D$5000,3,0)","v":{"$error":"#N/A"}},true]
["",null,null,null,null,null,null,null,{"$f":"IF(ISERROR(VLOOKUP(H5821,Database!$B$1:$C$5000,2,FALSE)),\"\",VLOOKUP(H5821,Database!$B$1:$C$5000,2,FALSE))","v":""},"",{"$error":"#N/A"},null,null,null,null,null,null,null,null,"",false,2,{"$f":"VLOOKUP(H5821,Database!$B$1:$D$5000,3,0)","v":{"$error":"#N/A"}},true]
["",null,null,null,null,null,null,null,{"$f":"IF(ISERROR(VLOOKUP(H5822,Database!$B$1:$C$5000,2,FALSE)),\"\",VLOOKUP(H5822,Database!$B$1:$C$5000,2,FALSE))","v":""},"",{"$error":"#N/A"},null,null,null,null,null,null,null,null,"",false,2,{"$f":"VLOOKUP(H5822,Database!$B$1:$D$5000,3,0)","v":{"$error":"#N/A"}},true]
["",null,null,null,null,null,null,null,{"$f":"IF(ISERROR(VLOOKUP(H5823,Database!$B$1:$C$5000,2,FALSE)),\"\",VLOOKUP(H5823,Database!$B$1:$C$5000,2,FALSE))","v":""},"",{"$error":"#N/A"},null,null,null,null,null,null,null,null,"",false,2,{"$f":"VLOOKUP(H5823,Database!$B$1:$D$5000,3,0)","v":{"$error":"#N/A"}},true]
["",null,null,null,null,null,null,null,{"$f":"IF(ISERROR(VLOOKUP(H5824,Database!$B$1:$C$5000,2,FALSE)),\"\",VLOOKUP(H5824,Database!$B$1:$C$5000,2,FALSE))","v":""},"",{"$error":"#N/A"},null,null,null,null,null,null,null,null,"",false,2,{"$f":"VLOOKUP(H5824,Database!$B$1:$D$5000,3,0)","v":{"$error":"#N/A"}},true]
["",null,null,null,null,null,null,null,{"$f":"IF(ISERROR(VLOOKUP(H5825,Database!$B$1:$C$5000,2,FALSE)),\"\",VLOOKUP(H5825,Database!$B$1:$C$5000,2,FALSE))","v":""},"",{"$error":"#N/A"},null,null,null,null,null,null,null,null,"",false,2,{"$f":"VLOOKUP(H5825,Database!$B$1:$D$5000,3,0)","v":{"$error":"#N/A"}},true]
["",null,null,null,null,null,null,null,{"$f":"IF(ISERROR(VLOOKUP(H5826,Database!$B$1:$C$5000,2,FALSE)),\"\",VLOOKUP(H5826,Database!$B$1:$C$5000,2,FALSE))","v":""},"",{"$error":"#N/A"},null,null,null,null,null,null,null,null,"",false,2,{"$f":"VLOOKUP(H5826,Database!$B$1:$D$5000,3,0)","v":{"$error":"#N/A"}},true]
["",null,null,null,null,null,null,null,{"$f":"IF(ISERROR(VLOOKUP(H5827,Database!$B$1:$C$5000,2,FALSE)),\"\",VLOOKUP(H5827,Database!$B$1:$C$5000,2,FALSE))","v":""},"",{"$error":"#N/A"},null,null,null,null,null,null,null,null,"",false,2,{"$f":"VLOOKUP(H5827,Database!$B$1:$D$5000,3,0)","v":{"$error":"#N/A"}},true]
["",null,null,null,null,null,null,null,{"$f":"IF(ISERROR(VLOOKUP(H5828,Database!$B$1:$C$5000,2,FALSE)),\"\",VLOOKUP(H5828,Database!$B$1:$C$5000,2,FALSE))","v":""},"",{"$error":"#N/A"},null,null,null,null,null,null,null,null,"",false,2,{"$f":"VLOOKUP(H5828,Database!$B$1:$D$5000,3,0)","v":{"$error":"#N/A"}},true]
["",null,null,null,null,null,null,null,{"$f":"IF(ISERROR(VLOOKUP(H5829,Database!$B$1:$C$5000,2,FALSE)),\"\",VLOOKUP(H5829,Database!$B$1:$C$5000,2,FALSE))","v":""},"",{"$error":"#N/A"},null,null,null,null,null,null,null,null,"",false,2,{"$f":"VLOOKUP(H5829,Database!$B$1:$D$5000,3,0)","v":{"$error":"#N/A"}},true]
["",null,null,null,null,null,null,null,{"$f":"IF(ISERROR(VLOOKUP(H5830,Database!$B$1:$C$5000,2,FALSE)),\"\",VLOOKUP(H5830,Database!$B$1:$C$5000,2,FALSE))","v":""},"",{"$error":"#N/A"},null,null,null,null,null,null,null,null,"",false,2,{"$f":"VLOOKUP(H5830,Database!$B$1:$D$5000,3,0)","v":{"$error":"#N/A"}},true]
[{"$f":"IF(B5831=\"\",\"\",ROW(A5826))","v":""},null,null,null,null,null,null,null,{"$f":"IF(ISERROR(VLOOKUP(H5831,Database!$B$1:$C$5000,2,FALSE)),\"\",VLOOKUP(H5831,Database!$B$1:$C$5000,2,FALSE))","v":""},{"$f":"IF(V5831=1,1,IF(AND(T5831=0,F5831=\"SSB\",V5831<>\"\"),3,IF(AND(T5831=0,F5831=\"DIGI\",V5831<>\"\"),2,IF(AND(T5831=0,F5831=\"CW\",V5831<>\"\"),5,IF(H5831=\"-\",\"\",T5831)))))","v":""},{"$f":"IF(H5831=\"-\",\"\",IF(AND(H5831<>\"\",X5831=TRUE),\"INDIPENDENT\",IF(W5831=0,\"SCRIVI NOME NELLE NOTE\",W5831)))","v":{"$error":"#N/A"}},null,null,null,null,null,null,null,null,{"$f":"IF(H5831=\"\",\"\",IF(H5831=$R$6,25,IF(OR(H5831=$R$7,H5831=$R$8,H5831=$R$9,H5831=$R$10,H5831=$R$11,H5831=$R$12,H5831=$R$13,H5831=$R$14,H5831=$R$15,H5831=$R$16,H5831=$R$17,H5831=$R$18,H5831=$R$19,H5831=$R$20,H5831=$R$21,H5831=$R$22,H5831=$R$23),15,0)))","v":""},{"$f":"ISERROR(I5831)","v":false},{"$f":"IF(H5831=\"-\",\"\",IF(AND(T5831=0,U5831=FALSE,I5831=\"\"),1,2))","v":2},{"$f":"VLOOKUP(H5831,Database!$B$1:$D$5000,3,0)","v":{"$error":"#N/A"}},{"$f":"ISERROR(W5831)","v":true}]
["",null,null,null,null,null,null,null,{"$f":"IF(ISERROR(VLOOKUP(H5832,Database!$B$1:$C$5000,2,FALSE)),\"\",VLOOKUP(H5832,Database!$B$1:$C$5000,2,FALSE))","v":""},"",{"$error":"#N/A"},null,null,null,null,null,null,null,null,"",false,2,{"$f":"VLOOKUP(H5832,Database!$B$1:$D$5000,3,0)","v":{"$error":"#N/A"}},true]
["",null,null,null,null,null,null,null,{"$f":"IF(ISERROR(VLOOKUP(H5833,Database!$B$1:$C$5000,2,FALSE)),\"\",VLOOKUP(H5833,Database!$B$1:$C$5000,2,FALSE))","v":""},"",{"$error":"#N/A"},null,null,null,null,null,null,null,null,"",false,2,{"$f":"VLOOKUP(H5833,Database!$B$1:$D$5000,3,0)","v":{"$error":"#N/A"}},true]
["",null,null,null,null,null,null,null,{"$f":"IF(ISERROR(VLOOKUP(H5834,Database!$B$1:$C$5000,2,FALSE)),\"\",VLOOKUP(H5834,Database!$B$1:$C$5000,2,FALSE))","v":""},"",{"$error":"#N/A"},null,null,null,null,null,null,null,null,"",false,2,{"$f":"VLOOKUP(H5834,Database!$B$1:$D$5000,3,0)","v":{"$error":"#N/A"}},true]
["",null,null,null,null,null,null,null,{"$f":"IF(ISERROR(VLOOKUP(H5835,Database!$B$1:$C$5000,2,FALSE)),\"\",VLOOKUP(H5835,Database!$B$1:$C$5000,2,FALSE))","v":""},"",{"$error":"#N/A"},null,null,null,null,null,null,null,null,"",false,2,{"$f":"VLOOKUP(H5835,Database!$B$1:$D$5000,3,0)","v":{"$error":"#N/A"}},true]
["",null,null,null,null,null,null,null,{"$f":"IF(ISERROR(VLOOKUP(H5836,Database!$B$1:$C$5000,2,FALSE)),\"\",VLOOKUP(H5836,Database!$B$1:$C$5000,2,FALSE))","v":""},"",{"$error":"#N/A"},null,null,null,null,null,null,null,null,"",false,2,{"$f":"VLOOKUP(H5836,Database!$B$1:$D$5000,3,0)","v":{"$error":"#N/A"}},true]
["",null,null,null,null,null,null,null,{"$f":"IF(ISERROR(VLOOKUP(H5837,Database!$B$1:$C$5000,2,FALSE)),\"\",VLOOKUP(H5837,Database!$B$1:$C$5000,2,FALSE))","v":""},"",{"$error":"#N/A"},null,null,null,null,null,null,null,null,"",false,2,{"$f":"VLOOKUP(H5837,Database!$B$1:$D$5000,3,0)","v":{"$error":"#N/A"}},true]
["",null,null,null,null,null,null,null,{"$f":"IF(ISERROR(VLOOKUP(H5838,Database!$B$1:$C$5000,2,FALSE)),\"\",VLOOKUP(H5838,Database!$B$1:$C$5000,2,FALSE))","v":""},"",{"$error":"#N/A"},null,null,null,null,null,null,null,null,"",false,2,{"$f":"VLOOKUP(H5838,Database!$B$1:$D$5000,3,0)","v":{"$error":"#N/A"}},true]
["",null,null,null,null,null,null,null,{"$f":"IF(ISERROR(VLOOKUP(H5839,Database!$B$1:$C$5000,2,FALSE)),\"\",VLOOKUP(H5839,Database!$B$1:$C$5000,2,FALSE))","v":""},"",{"$error":"#N/A"},null,null,null,null,null,null,null,null,"",false,2,{"$f":"VLOOKUP(H5839,Database!$B$1:$D$5000,3,0)","v":{"$error":"#N/A"}},true]
["",null,null,null,null,null,null,null,{"$f":"IF(ISERROR(VLOOKUP(H5840,Database!$B$1:$C$5000,2,FALSE)),\"\",VLOOKUP(H5840,Database!$B$1:$C$5000,2,FALSE))","v":""},"",{"$error":"#N/A"},null,null,null,null,null,null,null,null,"",false,2,{"$f":"VLOOKUP(H5840,Database!$B$1:$D$5000,3,0)","v":{"$error":"#N/A"}},true]
["",null,null,null,null,null,null,null,{"$f":"IF(ISERROR(VLOOKUP(H5841,Database!$B$1:$C$5000,2,FALSE)),\"\",VLOOKUP(H5841,Database!$B$1:$C$5000,2,FALSE))","v":""},"",{"$error":"#N/A"},null,null,null,null,null,null,null,null,"",false,2,{"$f":"VLOOKUP(H5841,Database!$B$1:$D$5000,3,0)","v":{"$error":"#N/A"}},true]
["",null,null,null,null,null,null,null,{"$f":"IF(ISERROR(VLOOKUP(H5842,Database!$B$1:$C$5000,2,FALSE)),\"\",VLOOKUP(H5842,Database!$B$1:$C$5000,2,FALSE))","v":""},"",{"$error":"#N/A"},null,null,null,null,null,null,null,null,"",false,2,{"$f":"VLOOKUP(H5842,Database!$B$1:$D$5000,3,0)","v":{"$error":"#N/A"}},true]
["",null,null,null,null,null,null,null,{"$f":"IF(ISERROR(VLOOKUP(H5843,Database!$B$1:$C$5000,2,FALSE)),\"\",VLOOKUP(H5843,Database!$B$1:$C$5000,2,FALSE))","v":""},"",{"$error":"#N/A"},null,null,null,null,null,null,null,null,"",false,2,{"$f":"VLOOKUP(H5843,Database!$B$1:$D$5000,3,0)","v":{"$error":"#N/A"}},true]
["",null,null,null,null,null,null,null,{"$f":"IF(ISERROR(VLOOKUP(H5844,Database!$B$1:$C$5000,2,FALSE)),\"\",VLOOKUP(H5844,Database!$B$1:$C$5000,2,FALSE))","v":""},"",{"$error":"#N/A"},null,null,null,null,null,null,null,null,"",false,2,{"$f":"VLOOKUP(H5844,Database!$B$1:$D$5000,3,0)","v":{"$error":"#N/A"}},true]
["",null,null,null,null,null,null,null,{"$f":"IF(ISERROR(VLOOKUP(H5845,Database!$B$1:$C$5000,2,FALSE)),\"\",VLOOKUP(H5845,Database!$B$1:$C$5000,2,FALSE))","v":""},"",{"$error":"#N/A"},null,null,null,null,null,null,null,null,"",false,2,{"$f":"VLOOKUP(H5845,Database!$B$1:$D$5000,3,0)","v":{"$error":"#N/A"}},true]
["",null,null,null,null,null,null,null,{"$f":"IF(ISERROR(VLOOKUP(H5846,Database!$B$1:$C$5000,2,FALSE)),\"\",VLOOKUP(H5846,Database!$B$1:$C$5000,2,FALSE))","v":""},"",{"$error":"#N/A"},null,null,null,null,null,null,null,null,"",false,2,{"$f":"VLOOKUP(H5846,Database!$B$1:$D$5000,3,0)","v":{"$error":"#N/A"}},true]
["",null,null,null,null,null,null,null,{"$f":"IF(ISERROR(VLOOKUP(H5847,Database!$B$1:$C$5000,2,FALSE)),\"\",VLOOKUP(H5847,Database!$B$1:$C$5000,2,FALSE))","v":""},"",{"$error":"#N/A"},null,null,null,null,null,null,null,null,"",false,2,{"$f":"VLOOKUP(H5847,Database!$B$1:$D$5000,3,0)","v":{"$error":"#N/A"}},true]
["",null,null,null,null,null,null,null,{"$f":"IF(ISERROR(VLOOKUP(H5848,Database!$B$1:$C$5000,2,FALSE)),\"\",VLOOKUP(H5848,Database!$B$1:$C$5000,2,FALSE))","v":""},"",{"$error":"#N/A"},null,null,null,null,null,null,null,null,"",false,2,{"$f":"VLOOKUP(H5848,Database!$B$1:$D$5000,3,0)","v":{"$error":"#N/A"}},true]
["",null,null,null,null,null,null,null,{"$f":"IF(ISERROR(VLOOKUP(H5849,Database!$B$1:$C$5000,2,FALSE)),\"\",VLOOKUP(H5849,Database!$B$1:$C$5000,2,FALSE))","v":""},"",{"$error":"#N/A"},null,null,null,null,null,null,null,null,"",false,2,{"$f":"VLOOKUP(H5849,Database!$B$1:$D$5000,3,0)","v":{"$error":"#N/A"}},true]
["",null,null,null,null,null,null,null,{"$f":"IF(ISERROR(VLOOKUP(H5850,Database!$B$1:$C$5000,2,FALSE)),\"\",VLOOKUP(H5850,Database!$B$1:$C$5000,2,FALSE))","v":""},"",{"$error":"#N/A"},null,null,null,null,null,null,null,null,"",false,2,{"$f":"VLOOKUP(H5850,Database!$B$1:$D$5000,3,0)","v":{"$error":"#N/A"}},true]
["",null,null,null,null,null,null,null,{"$f":"IF(ISERROR(VLOOKUP(H5851,Database!$B$1:$C$5000,2,FALSE)),\"\",VLOOKUP(H5851,Database!$B$1:$C$5000,2,FALSE))","v":""},"",{"$error":"#N/A"},null,null,null,null,null,null,null,null,"",false,2,{"$f":"VLOOKUP(H5851,Database!$B$1:$D$5000,3,0)","v":{"$error":"#N/A"}},true]
["",null,null,null,null,null,null,null,{"$f":"IF(ISERROR(VLOOKUP(H5852,Database!$B$1:$C$5000,2,FALSE)),\"\",VLOOKUP(H5852,Database!$B$1:$C$5000,2,FALSE))","v":""},"",{"$error":"#N/A"},null,null,null,null,null,null,null,null,"",false,2,{"$f":"VLOOKUP(H5852,Database!$B$1:$D$5000,3,0)","v":{"$error":"#N/A"}},true]
["",null,null,null,null,null,null,null,{"$f":"IF(ISERROR(VLOOKUP(H5853,Database!$B$1:$C$5000,2,FALSE)),\"\",VLOOKUP(H5853,Database!$B$1:$C$5000,2,FALSE))","v":""},"",{"$error":"#N/A"},null,null,null,null,null,null,null,null,"",false,2,{"$f":"VLOOKUP(H5853,Database!$B$1:$D$5000,3,0)","v":{"$error":"#N/A"}},true]
["",null,null,null,null,null,null,null,{"$f":"IF(ISERROR(VLOOKUP(H5854,Database!$B$1:$C$5000,2,FALSE)),\"\",VLOOKUP(H5854,Database!$B$1:$C$5000,2,FALSE))","v":""},"",{"$error":"#N/A"},null,null,null,null,null,null,null,null,"",false,2,{"$f":"VLOOKUP(H5854,Database!$B$1:$D$5000,3,0)","v":{"$error":"#N/A"}},true]
["",null,null,null,null,null,null,null,{"$f":"IF(ISERROR(VLOOKUP(H5855,Database!$B$1:$C$5000,2,FALSE)),\"\",VLOOKUP(H5855,Database!$B$1:$C$5000,2,FALSE))","v":""},"",{"$error":"#N/A"},null,null,null,null,null,null,null,null,"",false,2,{"$f":"VLOOKUP(H5855,Database!$B$1:$D$5000,3,0)","v":{"$error":"#N/A"}},true]
["",null,null,null,null,null,null,null,{"$f":"IF(ISERROR(VLOOKUP(H5856,Database!$B$1:$C$5000,2,FALSE)),\"\",VLOOKUP(H5856,Database!$B$1:$C$5000,2,FALSE))","v":""},"",{"$error":"#N/A"},null,null,null,null,null,null,null,null,"",false,2,{"$f":"VLOOKUP(H5856,Database!$B$1:$D$5000,3,0)","v":{"$error":"#N/A"}},true]
["",null,null,null,null,null,null,null,{"$f":"IF(ISERROR(VLOOKUP(H5857,Database!$B$1:$C$5000,2,FALSE)),\"\",VLOOKUP(H5857,Database!$B$1:$C$5000,2,FALSE))","v":""},"",{"$error":"#N/A"},null,null,null,null,null,null,null,null,"",false,2,{"$f":"VLOOKUP(H5857,Database!$B$1:$D$5000,3,0)","v":{"$error":"#N/A"}},true]
["",null,null,null,null,null,null,null,{"$f":"IF(ISERROR(VLOOKUP(H5858,Database!$B$1:$C$5000,2,FALSE)),\"\",VLOOKUP(H5858,Database!$B$1:$C$5000,2,FALSE))","v":""},"",{"$error":"#N/A"},null,null,null,null,null,null,null,null,"",false,2,{"$f":"VLOOKUP(H5858,Database!$B$1:$D$5000,3,0)","v":{"$error":"#N/A"}},true]
["",null,null,null,null,null,null,null,{"$f":"IF(ISERROR(VLOOKUP(H5859,Database!$B$1:$C$5000,2,FALSE)),\"\",VLOOKUP(H5859,Database!$B$1:$C$5000,2,FALSE))","v":""},"",{"$error":"#N/A"},null,null,null,null,null,null,null,null,"",false,2,{"$f":"VLOOKUP(H5859,Database!$B$1:$D$5000,3,0)","v":{"$error":"#N/A"}},true]
["",null,null,null,null,null,null,null,{"$f":"IF(ISERROR(VLOOKUP(H5860,Database!$B$1:$C$5000,2,FALSE)),\"\",VLOOKUP(H5860,Database!$B$1:$C$5000,2,FALSE))","v":""},"",{"$error":"#N/A"},null,null,null,null,null,null,null,null,"",false,2,{"$f":"VLOOKUP(H5860,Database!$B$1:$D$5000,3,0)","v":{"$error":"#N/A"}},true]
["",null,null,null,null,null,null,null,{"$f":"IF(ISERROR(VLOOKUP(H5861,Database!$B$1:$C$5000,2,FALSE)),\"\",VLOOKUP(H5861,Database!$B$1:$C$5000,2,FALSE))","v":""},"",{"$error":"#N/A"},null,null,null,null,null,null,null,null,"",false,2,{"$f":"VLOOKUP(H5861,Database!$B$1:$D$5000,3,0)","v":{"$error":"#N/A"}},true]
["",null,null,null,null,null,null,null,{"$f":"IF(ISERROR(VLOOKUP(H5862,Database!$B$1:$C$5000,2,FALSE)),\"\",VLOOKUP(H5862,Database!$B$1:$C$5000,2,FALSE))","v":""},"",{"$error":"#N/A"},null,null,null,null,null,null,null,null,"",false,2,{"$f":"VLOOKUP(H5862,Database!$B$1:$D$5000,3,0)","v":{"$error":"#N/A"}},true]
["",null,null,null,null,null,null,null,{"$f":"IF(ISERROR(VLOOKUP(H5863,Database!$B$1:$C$5000,2,FALSE)),\"\",VLOOKUP(H5863,Database!$B$1:$C$5000,2,FALSE))","v":""},"",{"$error":"#N/A"},null,null,null,null,null,null,null,null,"",false,2,{"$f":"VLOOKUP(H5863,Database!$B$1:$D$5000,3,0)","v":{"$error":"#N/A"}},true]
["",null,null,null,null,null,null,null,{"$f":"IF(ISERROR(VLOOKUP(H5864,Database!$B$1:$C$5000,2,FALSE)),\"\",VLOOKUP(H5864,Database!$B$1:$C$5000,2,FALSE))","v":""},"",{"$error":"#N/A"},null,null,null,null,null,null,null,null,"",false,2,{"$f":"VLOOKUP(H5864,Database!$B$1:$D$5000,3,0)","v":{"$error":"#N/A"}},true]
["",null,null,null,null,null,null,null,{"$f":"IF(ISERROR(VLOOKUP(H5865,Database!$B$1:$C$5000,2,FALSE)),\"\",VLOOKUP(H5865,Database!$B$1:$C$5000,2,FALSE))","v":""},"",{"$error":"#N/A"},null,null,null,null,null,null,null,null,"",false,2,{"$f":"VLOOKUP(H5865,Database!$B$1:$D$5000,3,0)","v":{"$error":"#N/A"}},true]
["",null,null,null,null,null,null,null,{"$f":"IF(ISERROR(VLOOKUP(H5866,Database!$B$1:$C$5000,2,FALSE)),\"\",VLOOKUP(H5866,Database!$B$1:$C$5000,2,FALSE))","v":""},"",{"$error":"#N/A"},null,null,null,null,null,null,null,null,"",false,2,{"$f":"VLOOKUP(H5866,Database!$B$1:$D$5000,3,0)","v":{"$error":"#N/A"}},true]
["",null,null,null,null,null,null,null,{"$f":"IF(ISERROR(VLOOKUP(H5867,Database!$B$1:$C$5000,2,FALSE)),\"\",VLOOKUP(H5867,Database!$B$1:$C$5000,2,FALSE))","v":""},"",{"$error":"#N/A"},null,null,null,null,null,null,null,null,"",false,2,{"$f":"VLOOKUP(H5867,Database!$B$1:$D$5000,3,0)","v":{"$error":"#N/A"}},true]
["",null,null,null,null,null,null,null,{"$f":"IF(ISERROR(VLOOKUP(H5868,Database!$B$1:$C$5000,2,FALSE)),\"\",VLOOKUP(H5868,Database!$B$1:$C$5000,2,FALSE))","v":""},"",{"$error":"#N/A"},null,null,null,null,null,null,null,null,"",false,2,{"$f":"VLOOKUP(H5868,Database!$B$1:$D$5000,3,0)","v":{"$error":"#N/A"}},true]
["",null,null,null,null,null,null,null,{"$f":"IF(ISERROR(VLOOKUP(H5869,Database!$B$1:$C$5000,2,FALSE)),\"\",VLOOKUP(H5869,Database!$B$1:$C$5000,2,FALSE))","v":""},"",{"$error":"#N/A"},null,null,null,null,null,null,null,null,"",false,2,{"$f":"VLOOKUP(H5869,Database!$B$1:$D$5000,3,0)","v":{"$error":"#N/A"}},true]
["",null,null,null,null,null,null,null,{"$f":"IF(ISERROR(VLOOKUP(H5870,Database!$B$1:$C$5000,2,FALSE)),\"\",VLOOKUP(H5870,Database!$B$1:$C$5000,2,FALSE))","v":""},"",{"$error":"#N/A"},null,null,null,null,null,null,null,null,"",false,2,{"$f":"VLOOKUP(H5870,Database!$B$1:$D$5000,3,0)","v":{"$error":"#N/A"}},true]
["",null,null,null,null,null,null,null,{"$f":"IF(ISERROR(VLOOKUP(H5871,Database!$B$1:$C$5000,2,FALSE)),\"\",VLOOKUP(H5871,Database!$B$1:$C$5000,2,FALSE))","v":""},"",{"$error":"#N/A"},null,null,null,null,null,null,null,null,"",false,2,{"$f":"VLOOKUP(H5871,Database!$B$1:$D$5000,3,0)","v":{"$error":"#N/A"}},true]
["",null,null,null,null,null,null,null,{"$f":"IF(ISERROR(VLOOKUP(H5872,Database!$B$1:$C$5000,2,FALSE)),\"\",VLOOKUP(H5872,Database!$B$1:$C$5000,2,FALSE))","v":""},"",{"$error":"#N/A"},null,null,null,null,null,null,null,null,"",false,2,{"$f":"VLOOKUP(H5872,Database!$B$1:$D$5000,3,0)","v":{"$error":"#N/A"}},true]
["",null,null,null,null,null,null,null,{"$f":"IF(ISERROR(VLOOKUP(H5873,Database!$B$1:$C$5000,2,FALSE)),\"\",VLOOKUP(H5873,Database!$B$1:$C$5000,2,FALSE))","v":""},"",{"$error":"#N/A"},null,null,null,null,null,null,null,null,"",false,2,{"$f":"VLOOKUP(H5873,Database!$B$1:$D$5000,3,0)","v":{"$error":"#N/A"}},true]
["",null,null,null,null,null,null,null,{"$f":"IF(ISERROR(VLOOKUP(H5874,Database!$B$1:$C$5000,2,FALSE)),\"\",VLOOKUP(H5874,Database!$B$1:$C$5000,2,FALSE))","v":""},"",{"$error":"#N/A"},null,null,null,null,null,null,null,null,"",false,2,{"$f":"VLOOKUP(H5874,Database!$B$1:$D$5000,3,0)","v":{"$error":"#N/A"}},true]
["",null,null,null,null,null,null,null,{"$f":"IF(ISERROR(VLOOKUP(H5875,Database!$B$1:$C$5000,2,FALSE)),\"\",VLOOKUP(H5875,Database!$B$1:$C$5000,2,FALSE))","v":""},"",{"$error":"#N/A"},null,null,null,null,null,null,null,null,"",false,2,{"$f":"VLOOKUP(H5875,Database!$B$1:$D$5000,3,0)","v":{"$error":"#N/A"}},true]
["",null,null,null,null,null,null,null,{"$f":"IF(ISERROR(VLOOKUP(H5876,Database!$B$1:$C$5000,2,FALSE)),\"\",VLOOKUP(H5876,Database!$B$1:$C$5000,2,FALSE))","v":""},"",{"$error":"#N/A"},null,null,null,null,null,null,null,null,"",false,2,{"$f":"VLOOKUP(H5876,Database!$B$1:$D$5000,3,0)","v":{"$error":"#N/A"}},true]
["",null,null,null,null,null,null,null,{"$f":"IF(ISERROR(VLOOKUP(H5877,Database!$B$1:$C$5000,2,FALSE)),\"\",VLOOKUP(H5877,Database!$B$1:$C$5000,2,FALSE))","v":""},"",{"$error":"#N/A"},null,null,null,null,null,null,null,null,"",false,2,{"$f":"VLOOKUP(H5877,Database!$B$1:$D$5000,3,0)","v":{"$error":"#N/A"}},true]
["",null,null,null,null,null,null,null,{"$f":"IF(ISERROR(VLOOKUP(H5878,Database!$B$1:$C$5000,2,FALSE)),\"\",VLOOKUP(H5878,Database!$B$1:$C$5000,2,FALSE))","v":""},"",{"$error":"#N/A"},null,null,null,null,null,null,null,null,"",false,2,{"$f":"VLOOKUP(H5878,Database!$B$1:$D$5000,3,0)","v":{"$error":"#N/A"}},true]
["",null,null,null,null,null,null,null,{"$f":"IF(ISERROR(VLOOKUP(H5879,Database!$B$1:$C$5000,2,FALSE)),\"\",VLOOKUP(H5879,Database!$B$1:$C$5000,2,FALSE))","v":""},"",{"$error":"#N/A"},null,null,null,null,null,null,null,null,"",false,2,{"$f":"VLOOKUP(H5879,Database!$B$1:$D$5000,3,0)","v":{"$error":"#N/A"}},true]
["",null,null,null,null,null,null,null,{"$f":"IF(ISERROR(VLOOKUP(H5880,Database!$B$1:$C$5000,2,FALSE)),\"\",VLOOKUP(H5880,Database!$B$1:$C$5000,2,FALSE))","v":""},"",{"$error":"#N/A"},null,null,null,null,null,null,null,null,"",false,2,{"$f":"VLOOKUP(H5880,Database!$B$1:$D$5000,3,0)","v":{"$error":"#N/A"}},true]
["",null,null,null,null,null,null,null,{"$f":"IF(ISERROR(VLOOKUP(H5881,Database!$B$1:$C$5000,2,FALSE)),\"\",VLOOKUP(H5881,Database!$B$1:$C$5000,2,FALSE))","v":""},"",{"$error":"#N/A"},null,null,null,null,null,null,null,null,"",false,2,{"$f":"VLOOKUP(H5881,Database!$B$1:$D$5000,3,0)","v":{"$error":"#N/A"}},true]
["",null,null,null,null,null,null,null,{"$f":"IF(ISERROR(VLOOKUP(H5882,Database!$B$1:$C$5000,2,FALSE)),\"\",VLOOKUP(H5882,Database!$B$1:$C$5000,2,FALSE))","v":""},"",{"$error":"#N/A"},null,null,null,null,null,null,null,null,"",false,2,{"$f":"VLOOKUP(H5882,Database!$B$1:$D$5000,3,0)","v":{"$error":"#N/A"}},true]
["",null,null,null,null,null,null,null,{"$f":"IF(ISERROR(VLOOKUP(H5883,Database!$B$1:$C$5000,2,FALSE)),\"\",VLOOKUP(H5883,Database!$B$1:$C$5000,2,FALSE))","v":""},"",{"$error":"#N/A"},null,null,null,null,null,null,null,null,"",false,2,{"$f":"VLOOKUP(H5883,Database!$B$1:$D$5000,3,0)","v":{"$error":"#N/A"}},true]
["",null,null,null,null,null,null,null,{"$f":"IF(ISERROR(VLOOKUP(H5884,Database!$B$1:$C$5000,2,FALSE)),\"\",VLOOKUP(H5884,Database!$B$1:$C$5000,2,FALSE))","v":""},"",{"$error":"#N/A"},null,null,null,null,null,null,null,null,"",false,2,{"$f":"VLOOKUP(H5884,Database!$B$1:$D$5000,3,0)","v":{"$error":"#N/A"}},true]
["",null,null,null,null,null,null,null,{"$f":"IF(ISERROR(VLOOKUP(H5885,Database!$B$1:$C$5000,2,FALSE)),\"\",VLOOKUP(H5885,Database!$B$1:$C$5000,2,FALSE))","v":""},"",{"$error":"#N/A"},null,null,null,null,null,null,null,null,"",false,2,{"$f":"VLOOKUP(H5885,Database!$B$1:$D$5000,3,0)","v":{"$error":"#N/A"}},true]
["",null,null,null,null,null,null,null,{"$f":"IF(ISERROR(VLOOKUP(H5886,Database!$B$1:$C$5000,2,FALSE)),\"\",VLOOKUP(H5886,Database!$B$1:$C$5000,2,FALSE))","v":""},"",{"$error":"#N/A"},null,null,null,null,null,null,null,null,"",false,2,{"$f":"VLOOKUP(H5886,Database!$B$1:$D$5000,3,0)","v":{"$error":"#N/A"}},true]
["",null,null,null,null,null,null,null,{"$f":"IF(ISERROR(VLOOKUP(H5887,Database!$B$1:$C$5000,2,FALSE)),\"\",VLOOKUP(H5887,Database!$B$1:$C$5000,2,FALSE))","v":""},"",{"$error":"#N/A"},null,null,null,null,null,null,null,null,"",false,2,{"$f":"VLOOKUP(H5887,Database!$B$1:$D$5000,3,0)","v":{"$error":"#N/A"}},true]
["",null,null,null,null,null,null,null,{"$f":"IF(ISERROR(VLOOKUP(H5888,Database!$B$1:$C$5000,2,FALSE)),\"\",VLOOKUP(H5888,Database!$B$1:$C$5000,2,FALSE))","v":""},"",{"$error":"#N/A"},null,null,null,null,null,null,null,null,"",false,2,{"$f":"VLOOKUP(H5888,Database!$B$1:$D$5000,3,0)","v":{"$error":"#N/A"}},true]
["",null,null,null,null,null,null,null,{"$f":"IF(ISERROR(VLOOKUP(H5889,Database!$B$1:$C$5000,2,FALSE)),\"\",VLOOKUP(H5889,Database!$B$1:$C$5000,2,FALSE))","v":""},"",{"$error":"#N/A"},null,null,null,null,null,null,null,null,"",false,2,{"$f":"VLOOKUP(H5889,Database!$B$1:$D$5000,3,0)","v":{"$error":"#N/A"}},true]
["",null,null,null,null,null,null,null,{"$f":"IF(ISERROR(VLOOKUP(H5890,Database!$B$1:$C$5000,2,FALSE)),\"\",VLOOKUP(H5890,Database!$B$1:$C$5000,2,FALSE))","v":""},"",{"$error":"#N/A"},null,null,null,null,null,null,null,null,"",false,2,{"$f":"VLOOKUP(H5890,Database!$B$1:$D$5000,3,0)","v":{"$error":"#N/A"}},true]
["",null,null,null,null,null,null,null,{"$f":"IF(ISERROR(VLOOKUP(H5891,Database!$B$1:$C$5000,2,FALSE)),\"\",VLOOKUP(H5891,Database!$B$1:$C$5000,2,FALSE))","v":""},"",{"$error":"#N/A"},null,null,null,null,null,null,null,null,"",false,2,{"$f":"VLOOKUP(H5891,Database!$B$1:$D$5000,3,0)","v":{"$error":"#N/A"}},true]
["",null,null,null,null,null,null,null,{"$f":"IF(ISERROR(VLOOKUP(H5892,Database!$B$1:$C$5000,2,FALSE)),\"\",VLOOKUP(H5892,Database!$B$1:$C$5000,2,FALSE))","v":""},"",{"$error":"#N/A"},null,null,null,null,null,null,null,null,"",false,2,{"$f":"VLOOKUP(H5892,Database!$B$1:$D$5000,3,0)","v":{"$error":"#N/A"}},true]
["",null,null,null,null,null,null,null,{"$f":"IF(ISERROR(VLOOKUP(H5893,Database!$B$1:$C$5000,2,FALSE)),\"\",VLOOKUP(H5893,Database!$B$1:$C$5000,2,FALSE))","v":""},"",{"$error":"#N/A"},null,null,null,null,null,null,null,null,"",false,2,{"$f":"VLOOKUP(H5893,Database!$B$1:$D$5000,3,0)","v":{"$error":"#N/A"}},true]
["",null,null,null,null,null,null,null,{"$f":"IF(ISERROR(VLOOKUP(H5894,Database!$B$1:$C$5000,2,FALSE)),\"\",VLOOKUP(H5894,Database!$B$1:$C$5000,2,FALSE))","v":""},"",{"$error":"#N/A"},null,null,null,null,null,null,null,null,"",false,2,{"$f":"VLOOKUP(H5894,Database!$B$1:$D$5000,3,0)","v":{"$error":"#N/A"}},true]
[{"$f":"IF(B5895=\"\",\"\",ROW(A5890))","v":""},null,null,null,null,null,null,null,{"$f":"IF(ISERROR(VLOOKUP(H5895,Database!$B$1:$C$5000,2,FALSE)),\"\",VLOOKUP(H5895,Database!$B$1:$C$5000,2,FALSE))","v":""},{"$f":"IF(V5895=1,1,IF(AND(T5895=0,F5895=\"SSB\",V5895<>\"\"),3,IF(AND(T5895=0,F5895=\"DIGI\",V5895<>\"\"),2,IF(AND(T5895=0,F5895=\"CW\",V5895<>\"\"),5,IF(H5895=\"-\",\"\",T5895)))))","v":""},{"$f":"IF(H5895=\"-\",\"\",IF(AND(H5895<>\"\",X5895=TRUE),\"INDIPENDENT\",IF(W5895=0,\"SCRIVI NOME NELLE NOTE\",W5895)))","v":{"$error":"#N/A"}},null,null,null,null,null,null,null,null,{"$f":"IF(H5895=\"\",\"\",IF(H5895=$R$6,25,IF(OR(H5895=$R$7,H5895=$R$8,H5895=$R$9,H5895=$R$10,H5895=$R$11,H5895=$R$12,H5895=$R$13,H5895=$R$14,H5895=$R$15,H5895=$R$16,H5895=$R$17,H5895=$R$18,H5895=$R$19,H5895=$R$20,H5895=$R$21,H5895=$R$22,H5895=$R$23),15,0)))","v":""},{"$f":"ISERROR(I5895)","v":false},{"$f":"IF(H5895=\"-\",\"\",IF(AND(T5895=0,U5895=FALSE,I5895=\"\"),1,2))","v":2},{"$f":"VLOOKUP(H5895,Database!$B$1:$D$5000,3,0)","v":{"$error":"#N/A"}},{"$f":"ISERROR(W5895)","v":true}]
["",null,null,null,null,null,null,null,{"$f":"IF(ISERROR(VLOOKUP(H5896,Database!$B$1:$C$5000,2,FALSE)),\"\",VLOOKUP(H5896,Database!$B$1:$C$5000,2,FALSE))","v":""},"",{"$error":"#N/A"},null,null,null,null,null,null,null,null,"",false,2,{"$f":"VLOOKUP(H5896,Database!$B$1:$D$5000,3,0)","v":{"$error":"#N/A"}},true]
["",null,null,null,null,null,null,null,{"$f":"IF(ISERROR(VLOOKUP(H5897,Database!$B$1:$C$5000,2,FALSE)),\"\",VLOOKUP(H5897,Database!$B$1:$C$5000,2,FALSE))","v":""},"",{"$error":"#N/A"},null,null,null,null,null,null,null,null,"",false,2,{"$f":"VLOOKUP(H5897,Database!$B$1:$D$5000,3,0)","v":{"$error":"#N/A"}},true]
["",null,null,null,null,null,null,null,{"$f":"IF(ISERROR(VLOOKUP(H5898,Database!$B$1:$C$5000,2,FALSE)),\"\",VLOOKUP(H5898,Database!$B$1:$C$5000,2,FALSE))","v":""},"",{"$error":"#N/A"},null,null,null,null,null,null,null,null,"",false,2,{"$f":"VLOOKUP(H5898,Database!$B$1:$D$5000,3,0)","v":{"$error":"#N/A"}},true]
["",null,null,null,null,null,null,null,{"$f":"IF(ISERROR(VLOOKUP(H5899,Database!$B$1:$C$5000,2,FALSE)),\"\",VLOOKUP(H5899,Database!$B$1:$C$5000,2,FALSE))","v":""},"",{"$error":"#N/A"},null,null,null,null,null,null,null,null,"",false,2,{"$f":"VLOOKUP(H5899,Database!$B$1:$D$5000,3,0)","v":{"$error":"#N/A"}},true]
["",null,null,null,null,null,null,null,{"$f":"IF(ISERROR(VLOOKUP(H5900,Database!$B$1:$C$5000,2,FALSE)),\"\",VLOOKUP(H5900,Database!$B$1:$C$5000,2,FALSE))","v":""},"",{"$error":"#N/A"},null,null,null,null,null,null,null,null,"",false,2,{"$f":"VLOOKUP(H5900,Database!$B$1:$D$5000,3,0)","v":{"$error":"#N/A"}},true]
["",null,null,null,null,null,null,null,{"$f":"IF(ISERROR(VLOOKUP(H5901,Database!$B$1:$C$5000,2,FALSE)),\"\",VLOOKUP(H5901,Database!$B$1:$C$5000,2,FALSE))","v":""},"",{"$error":"#N/A"},null,null,null,null,null,null,null,null,"",false,2,{"$f":"VLOOKUP(H5901,Database!$B$1:$D$5000,3,0)","v":{"$error":"#N/A"}},true]
["",null,null,null,null,null,null,null,{"$f":"IF(ISERROR(VLOOKUP(H5902,Database!$B$1:$C$5000,2,FALSE)),\"\",VLOOKUP(H5902,Database!$B$1:$C$5000,2,FALSE))","v":""},"",{"$error":"#N/A"},null,null,null,null,null,null,null,null,"",false,2,{"$f":"VLOOKUP(H5902,Database!$B$1:$D$5000,3,0)","v":{"$error":"#N/A"}},true]
["",null,null,null,null,null,null,null,{"$f":"IF(ISERROR(VLOOKUP(H5903,Database!$B$1:$C$5000,2,FALSE)),\"\",VLOOKUP(H5903,Database!$B$1:$C$5000,2,FALSE))","v":""},"",{"$error":"#N/A"},null,null,null,null,null,null,null,null,"",false,2,{"$f":"VLOOKUP(H5903,Database!$B$1:$D$5000,3,0)","v":{"$error":"#N/A"}},true]
["",null,null,null,null,null,null,null,{"$f":"IF(ISERROR(VLOOKUP(H5904,Database!$B$1:$C$5000,2,FALSE)),\"\",VLOOKUP(H5904,Database!$B$1:$C$5000,2,FALSE))","v":""},"",{"$error":"#N/A"},null,null,null,null,null,null,null,null,"",false,2,{"$f":"VLOOKUP(H5904,Database!$B$1:$D$5000,3,0)","v":{"$error":"#N/A"}},true]
["",null,null,null,null,null,null,null,{"$f":"IF(ISERROR(VLOOKUP(H5905,Database!$B$1:$C$5000,2,FALSE)),\"\",VLOOKUP(H5905,Database!$B$1:$C$5000,2,FALSE))","v":""},"",{"$error":"#N/A"},null,null,null,null,null,null,null,null,"",false,2,{"$f":"VLOOKUP(H5905,Database!$B$1:$D$5000,3,0)","v":{"$error":"#N/A"}},true]
["",null,null,null,null,null,null,null,{"$f":"IF(ISERROR(VLOOKUP(H5906,Database!$B$1:$C$5000,2,FALSE)),\"\",VLOOKUP(H5906,Database!$B$1:$C$5000,2,FALSE))","v":""},"",{"$error":"#N/A"},null,null,null,null,null,null,null,null,"",false,2,{"$f":"VLOOKUP(H5906,Database!$B$1:$D$5000,3,0)","v":{"$error":"#N/A"}},true]
["",null,null,null,null,null,null,null,{"$f":"IF(ISERROR(VLOOKUP(H5907,Database!$B$1:$C$5000,2,FALSE)),\"\",VLOOKUP(H5907,Database!$B$1:$C$5000,2,FALSE))","v":""},"",{"$error":"#N/A"},null,null,null,null,null,null,null,null,"",false,2,{"$f":"VLOOKUP(H5907,Database!$B$1:$D$5000,3,0)","v":{"$error":"#N/A"}},true]
["",null,null,null,null,null,null,null,{"$f":"IF(ISERROR(VLOOKUP(H5908,Database!$B$1:$C$5000,2,FALSE)),\"\",VLOOKUP(H5908,Database!$B$1:$C$5000,2,FALSE))","v":""},"",{"$error":"#N/A"},null,null,null,null,null,null,null,null,"",false,2,{"$f":"VLOOKUP(H5908,Database!$B$1:$D$5000,3,0)","v":{"$error":"#N/A"}},true]
["",null,null,null,null,null,null,null,{"$f":"IF(ISERROR(VLOOKUP(H5909,Database!$B$1:$C$5000,2,FALSE)),\"\",VLOOKUP(H5909,Database!$B$1:$C$5000,2,FALSE))","v":""},"",{"$error":"#N/A"},null,null,null,null,null,null,null,null,"",false,2,{"$f":"VLOOKUP(H5909,Database!$B$1:$D$5000,3,0)","v":{"$error":"#N/A"}},true]
["",null,null,null,null,null,null,null,{"$f":"IF(ISERROR(VLOOKUP(H5910,Database!$B$1:$C$5000,2,FALSE)),\"\",VLOOKUP(H5910,Database!$B$1:$C$5000,2,FALSE))","v":""},"",{"$error":"#N/A"},null,null,null,null,null,null,null,null,"",false,2,{"$f":"VLOOKUP(H5910,Database!$B$1:$D$5000,3,0)","v":{"$error":"#N/A"}},true]
["",null,null,null,null,null,null,null,{"$f":"IF(ISERROR(VLOOKUP(H5911,Database!$B$1:$C$5000,2,FALSE)),\"\",VLOOKUP(H5911,Database!$B$1:$C$5000,2,FALSE))","v":""},"",{"$error":"#N/A"},null,null,null,null,null,null,null,null,"",false,2,{"$f":"VLOOKUP(H5911,Database!$B$1:$D$5000,3,0)","v":{"$error":"#N/A"}},true]
["",null,null,null,null,null,null,null,{"$f":"IF(ISERROR(VLOOKUP(H5912,Database!$B$1:$C$5000,2,FALSE)),\"\",VLOOKUP(H5912,Database!$B$1:$C$5000,2,FALSE))","v":""},"",{"$error":"#N/A"},null,null,null,null,null,null,null,null,"",false,2,{"$f":"VLOOKUP(H5912,Database!$B$1:$D$5000,3,0)","v":{"$error":"#N/A"}},true]
["",null,null,null,null,null,null,null,{"$f":"IF(ISERROR(VLOOKUP(H5913,Database!$B$1:$C$5000,2,FALSE)),\"\",VLOOKUP(H5913,Database!$B$1:$C$5000,2,FALSE))","v":""},"",{"$error":"#N/A"},null,null,null,null,null,null,null,null,"",false,2,{"$f":"VLOOKUP(H5913,Database!$B$1:$D$5000,3,0)","v":{"$error":"#N/A"}},true]
["",null,null,null,null,null,null,null,{"$f":"IF(ISERROR(VLOOKUP(H5914,Database!$B$1:$C$5000,2,FALSE)),\"\",VLOOKUP(H5914,Database!$B$1:$C$5000,2,FALSE))","v":""},"",{"$error":"#N/A"},null,null,null,null,null,null,null,null,"",false,2,{"$f":"VLOOKUP(H5914,Database!$B$1:$D$5000,3,0)","v":{"$error":"#N/A"}},true]
["",null,null,null,null,null,null,null,{"$f":"IF(ISERROR(VLOOKUP(H5915,Database!$B$1:$C$5000,2,FALSE)),\"\",VLOOKUP(H5915,Database!$B$1:$C$5000,2,FALSE))","v":""},"",{"$error":"#N/A"},null,null,null,null,null,null,null,null,"",false,2,{"$f":"VLOOKUP(H5915,Database!$B$1:$D$5000,3,0)","v":{"$error":"#N/A"}},true]
["",null,null,null,null,null,null,null,{"$f":"IF(ISERROR(VLOOKUP(H5916,Database!$B$1:$C$5000,2,FALSE)),\"\",VLOOKUP(H5916,Database!$B$1:$C$5000,2,FALSE))","v":""},"",{"$error":"#N/A"},null,null,null,null,null,null,null,null,"",false,2,{"$f":"VLOOKUP(H5916,Database!$B$1:$D$5000,3,0)","v":{"$error":"#N/A"}},true]
["",null,null,null,null,null,null,null,{"$f":"IF(ISERROR(VLOOKUP(H5917,Database!$B$1:$C$5000,2,FALSE)),\"\",VLOOKUP(H5917,Database!$B$1:$C$5000,2,FALSE))","v":""},"",{"$error":"#N/A"},null,null,null,null,null,null,null,null,"",false,2,{"$f":"VLOOKUP(H5917,Database!$B$1:$D$5000,3,0)","v":{"$error":"#N/A"}},true]
["",null,null,null,null,null,null,null,{"$f":"IF(ISERROR(VLOOKUP(H5918,Database!$B$1:$C$5000,2,FALSE)),\"\",VLOOKUP(H5918,Database!$B$1:$C$5000,2,FALSE))","v":""},"",{"$error":"#N/A"},null,null,null,null,null,null,null,null,"",false,2,{"$f":"VLOOKUP(H5918,Database!$B$1:$D$5000,3,0)","v":{"$error":"#N/A"}},true]
["",null,null,null,null,null,null,null,{"$f":"IF(ISERROR(VLOOKUP(H5919,Database!$B$1:$C$5000,2,FALSE)),\"\",VLOOKUP(H5919,Database!$B$1:$C$5000,2,FALSE))","v":""},"",{"$error":"#N/A"},null,null,null,null,null,null,null,null,"",false,2,{"$f":"VLOOKUP(H5919,Database!$B$1:$D$5000,3,0)","v":{"$error":"#N/A"}},true]
["",null,null,null,null,null,null,null,{"$f":"IF(ISERROR(VLOOKUP(H5920,Database!$B$1:$C$5000,2,FALSE)),\"\",VLOOKUP(H5920,Database!$B$1:$C$5000,2,FALSE))","v":""},"",{"$error":"#N/A"},null,null,null,null,null,null,null,null,"",false,2,{"$f":"VLOOKUP(H5920,Database!$B$1:$D$5000,3,0)","v":{"$error":"#N/A"}},true]
["",null,null,null,null,null,null,null,{"$f":"IF(ISERROR(VLOOKUP(H5921,Database!$B$1:$C$5000,2,FALSE)),\"\",VLOOKUP(H5921,Database!$B$1:$C$5000,2,FALSE))","v":""},"",{"$error":"#N/A"},null,null,null,null,null,null,null,null,"",false,2,{"$f":"VLOOKUP(H5921,Database!$B$1:$D$5000,3,0)","v":{"$error":"#N/A"}},true]
["",null,null,null,null,null,null,null,{"$f":"IF(ISERROR(VLOOKUP(H5922,Database!$B$1:$C$5000,2,FALSE)),\"\",VLOOKUP(H5922,Database!$B$1:$C$5000,2,FALSE))","v":""},"",{"$error":"#N/A"},null,null,null,null,null,null,null,null,"",false,2,{"$f":"VLOOKUP(H5922,Database!$B$1:$D$5000,3,0)","v":{"$error":"#N/A"}},true]
["",null,null,null,null,null,null,null,{"$f":"IF(ISERROR(VLOOKUP(H5923,Database!$B$1:$C$5000,2,FALSE)),\"\",VLOOKUP(H5923,Database!$B$1:$C$5000,2,FALSE))","v":""},"",{"$error":"#N/A"},null,null,null,null,null,null,null,null,"",false,2,{"$f":"VLOOKUP(H5923,Database!$B$1:$D$5000,3,0)","v":{"$error":"#N/A"}},true]
["",null,null,null,null,null,null,null,{"$f":"IF(ISERROR(VLOOKUP(H5924,Database!$B$1:$C$5000,2,FALSE)),\"\",VLOOKUP(H5924,Database!$B$1:$C$5000,2,FALSE))","v":""},"",{"$error":"#N/A"},null,null,null,null,null,null,null,null,"",false,2,{"$f":"VLOOKUP(H5924,Database!$B$1:$D$5000,3,0)","v":{"$error":"#N/A"}},true]
["",null,null,null,null,null,null,null,{"$f":"IF(ISERROR(VLOOKUP(H5925,Database!$B$1:$C$5000,2,FALSE)),\"\",VLOOKUP(H5925,Database!$B$1:$C$5000,2,FALSE))","v":""},"",{"$error":"#N/A"},null,null,null,null,null,null,null,null,"",false,2,{"$f":"VLOOKUP(H5925,Database!$B$1:$D$5000,3,0)","v":{"$error":"#N/A"}},true]
["",null,null,null,null,null,null,null,{"$f":"IF(ISERROR(VLOOKUP(H5926,Database!$B$1:$C$5000,2,FALSE)),\"\",VLOOKUP(H5926,Database!$B$1:$C$5000,2,FALSE))","v":""},"",{"$error":"#N/A"},null,null,null,null,null,null,null,null,"",false,2,{"$f":"VLOOKUP(H5926,Database!$B$1:$D$5000,3,0)","v":{"$error":"#N/A"}},true]
["",null,null,null,null,null,null,null,{"$f":"IF(ISERROR(VLOOKUP(H5927,Database!$B$1:$C$5000,2,FALSE)),\"\",VLOOKUP(H5927,Database!$B$1:$C$5000,2,FALSE))","v":""},"",{"$error":"#N/A"},null,null,null,null,null,null,null,null,"",false,2,{"$f":"VLOOKUP(H5927,Database!$B$1:$D$5000,3,0)","v":{"$error":"#N/A"}},true]
["",null,null,null,null,null,null,null,{"$f":"IF(ISERROR(VLOOKUP(H5928,Database!$B$1:$C$5000,2,FALSE)),\"\",VLOOKUP(H5928,Database!$B$1:$C$5000,2,FALSE))","v":""},"",{"$error":"#N/A"},null,null,null,null,null,null,null,null,"",false,2,{"$f":"VLOOKUP(H5928,Database!$B$1:$D$5000,3,0)","v":{"$error":"#N/A"}},true]
["",null,null,null,null,null,null,null,{"$f":"IF(ISERROR(VLOOKUP(H5929,Database!$B$1:$C$5000,2,FALSE)),\"\",VLOOKUP(H5929,Database!$B$1:$C$5000,2,FALSE))","v":""},"",{"$error":"#N/A"},null,null,null,null,null,null,null,null,"",false,2,{"$f":"VLOOKUP(H5929,Database!$B$1:$D$5000,3,0)","v":{"$error":"#N/A"}},true]
["",null,null,null,null,null,null,null,{"$f":"IF(ISERROR(VLOOKUP(H5930,Database!$B$1:$C$5000,2,FALSE)),\"\",VLOOKUP(H5930,Database!$B$1:$C$5000,2,FALSE))","v":""},"",{"$error":"#N/A"},null,null,null,null,null,null,null,null,"",false,2,{"$f":"VLOOKUP(H5930,Database!$B$1:$D$5000,3,0)","v":{"$error":"#N/A"}},true]
["",null,null,null,null,null,null,null,{"$f":"IF(ISERROR(VLOOKUP(H5931,Database!$B$1:$C$5000,2,FALSE)),\"\",VLOOKUP(H5931,Database!$B$1:$C$5000,2,FALSE))","v":""},"",{"$error":"#N/A"},null,null,null,null,null,null,null,null,"",false,2,{"$f":"VLOOKUP(H5931,Database!$B$1:$D$5000,3,0)","v":{"$error":"#N/A"}},true]
["",null,null,null,null,null,null,null,{"$f":"IF(ISERROR(VLOOKUP(H5932,Database!$B$1:$C$5000,2,FALSE)),\"\",VLOOKUP(H5932,Database!$B$1:$C$5000,2,FALSE))","v":""},"",{"$error":"#N/A"},null,null,null,null,null,null,null,null,"",false,2,{"$f":"VLOOKUP(H5932,Database!$B$1:$D$5000,3,0)","v":{"$error":"#N/A"}},true]
["",null,null,null,null,null,null,null,{"$f":"IF(ISERROR(VLOOKUP(H5933,Database!$B$1:$C$5000,2,FALSE)),\"\",VLOOKUP(H5933,Database!$B$1:$C$5000,2,FALSE))","v":""},"",{"$error":"#N/A"},null,null,null,null,null,null,null,null,"",false,2,{"$f":"VLOOKUP(H5933,Database!$B$1:$D$5000,3,0)","v":{"$error":"#N/A"}},true]
["",null,null,null,null,null,null,null,{"$f":"IF(ISERROR(VLOOKUP(H5934,Database!$B$1:$C$5000,2,FALSE)),\"\",VLOOKUP(H5934,Database!$B$1:$C$5000,2,FALSE))","v":""},"",{"$error":"#N/A"},null,null,null,null,null,null,null,null,"",false,2,{"$f":"VLOOKUP(H5934,Database!$B$1:$D$5000,3,0)","v":{"$error":"#N/A"}},true]
["",null,null,null,null,null,null,null,{"$f":"IF(ISERROR(VLOOKUP(H5935,Database!$B$1:$C$5000,2,FALSE)),\"\",VLOOKUP(H5935,Database!$B$1:$C$5000,2,FALSE))","v":""},"",{"$error":"#N/A"},null,null,null,null,null,null,null,null,"",false,2,{"$f":"VLOOKUP(H5935,Database!$B$1:$D$5000,3,0)","v":{"$error":"#N/A"}},true]
["",null,null,null,null,null,null,null,{"$f":"IF(ISERROR(VLOOKUP(H5936,Database!$B$1:$C$5000,2,FALSE)),\"\",VLOOKUP(H5936,Database!$B$1:$C$5000,2,FALSE))","v":""},"",{"$error":"#N/A"},null,null,null,null,null,null,null,null,"",false,2,{"$f":"VLOOKUP(H5936,Database!$B$1:$D$5000,3,0)","v":{"$error":"#N/A"}},true]
["",null,null,null,null,null,null,null,{"$f":"IF(ISERROR(VLOOKUP(H5937,Database!$B$1:$C$5000,2,FALSE)),\"\",VLOOKUP(H5937,Database!$B$1:$C$5000,2,FALSE))","v":""},"",{"$error":"#N/A"},null,null,null,null,null,null,null,null,"",false,2,{"$f":"VLOOKUP(H5937,Database!$B$1:$D$5000,3,0)","v":{"$error":"#N/A"}},true]
["",null,null,null,null,null,null,null,{"$f":"IF(ISERROR(VLOOKUP(H5938,Database!$B$1:$C$5000,2,FALSE)),\"\",VLOOKUP(H5938,Database!$B$1:$C$5000,2,FALSE))","v":""},"",{"$error":"#N/A"},null,null,null,null,null,null,null,null,"",false,2,{"$f":"VLOOKUP(H5938,Database!$B$1:$D$5000,3,0)","v":{"$error":"#N/A"}},true]
["",null,null,null,null,null,null,null,{"$f":"IF(ISERROR(VLOOKUP(H5939,Database!$B$1:$C$5000,2,FALSE)),\"\",VLOOKUP(H5939,Database!$B$1:$C$5000,2,FALSE))","v":""},"",{"$error":"#N/A"},null,null,null,null,null,null,null,null,"",false,2,{"$f":"VLOOKUP(H5939,Database!$B$1:$D$5000,3,0)","v":{"$error":"#N/A"}},true]
["",null,null,null,null,null,null,null,{"$f":"IF(ISERROR(VLOOKUP(H5940,Database!$B$1:$C$5000,2,FALSE)),\"\",VLOOKUP(H5940,Database!$B$1:$C$5000,2,FALSE))","v":""},"",{"$error":"#N/A"},null,null,null,null,null,null,null,null,"",false,2,{"$f":"VLOOKUP(H5940,Database!$B$1:$D$5000,3,0)","v":{"$error":"#N/A"}},true]
["",null,null,null,null,null,null,null,{"$f":"IF(ISERROR(VLOOKUP(H5941,Database!$B$1:$C$5000,2,FALSE)),\"\",VLOOKUP(H5941,Database!$B$1:$C$5000,2,FALSE))","v":""},"",{"$error":"#N/A"},null,null,null,null,null,null,null,null,"",false,2,{"$f":"VLOOKUP(H5941,Database!$B$1:$D$5000,3,0)","v":{"$error":"#N/A"}},true]
["",null,null,null,null,null,null,null,{"$f":"IF(ISERROR(VLOOKUP(H5942,Database!$B$1:$C$5000,2,FALSE)),\"\",VLOOKUP(H5942,Database!$B$1:$C$5000,2,FALSE))","v":""},"",{"$error":"#N/A"},null,null,null,null,null,null,null,null,"",false,2,{"$f":"VLOOKUP(H5942,Database!$B$1:$D$5000,3,0)","v":{"$error":"#N/A"}},true]
["",null,null,null,null,null,null,null,{"$f":"IF(ISERROR(VLOOKUP(H5943,Database!$B$1:$C$5000,2,FALSE)),\"\",VLOOKUP(H5943,Database!$B$1:$C$5000,2,FALSE))","v":""},"",{"$error":"#N/A"},null,null,null,null,null,null,null,null,"",false,2,{"$f":"VLOOKUP(H5943,Database!$B$1:$D$5000,3,0)","v":{"$error":"#N/A"}},true]
["",null,null,null,null,null,null,null,{"$f":"IF(ISERROR(VLOOKUP(H5944,Database!$B$1:$C$5000,2,FALSE)),\"\",VLOOKUP(H5944,Database!$B$1:$C$5000,2,FALSE))","v":""},"",{"$error":"#N/A"},null,null,null,null,null,null,null,null,"",false,2,{"$f":"VLOOKUP(H5944,Database!$B$1:$D$5000,3,0)","v":{"$error":"#N/A"}},true]
["",null,null,null,null,null,null,null,{"$f":"IF(ISERROR(VLOOKUP(H5945,Database!$B$1:$C$5000,2,FALSE)),\"\",VLOOKUP(H5945,Database!$B$1:$C$5000,2,FALSE))","v":""},"",{"$error":"#N/A"},null,null,null,null,null,null,null,null,"",false,2,{"$f":"VLOOKUP(H5945,Database!$B$1:$D$5000,3,0)","v":{"$error":"#N/A"}},true]
["",null,null,null,null,null,null,null,{"$f":"IF(ISERROR(VLOOKUP(H5946,Database!$B$1:$C$5000,2,FALSE)),\"\",VLOOKUP(H5946,Database!$B$1:$C$5000,2,FALSE))","v":""},"",{"$error":"#N/A"},null,null,null,null,null,null,null,null,"",false,2,{"$f":"VLOOKUP(H5946,Database!$B$1:$D$5000,3,0)","v":{"$error":"#N/A"}},true]
["",null,null,null,null,null,null,null,{"$f":"IF(ISERROR(VLOOKUP(H5947,Database!$B$1:$C$5000,2,FALSE)),\"\",VLOOKUP(H5947,Database!$B$1:$C$5000,2,FALSE))","v":""},"",{"$error":"#N/A"},null,null,null,null,null,null,null,null,"",false,2,{"$f":"VLOOKUP(H5947,Database!$B$1:$D$5000,3,0)","v":{"$error":"#N/A"}},true]
["",null,null,null,null,null,null,null,{"$f":"IF(ISERROR(VLOOKUP(H5948,Database!$B$1:$C$5000,2,FALSE)),\"\",VLOOKUP(H5948,Database!$B$1:$C$5000,2,FALSE))","v":""},"",{"$error":"#N/A"},null,null,null,null,null,null,null,null,"",false,2,{"$f":"VLOOKUP(H5948,Database!$B$1:$D$5000,3,0)","v":{"$error":"#N/A"}},true]
["",null,null,null,null,null,null,null,{"$f":"IF(ISERROR(VLOOKUP(H5949,Database!$B$1:$C$5000,2,FALSE)),\"\",VLOOKUP(H5949,Database!$B$1:$C$5000,2,FALSE))","v":""},"",{"$error":"#N/A"},null,null,null,null,null,null,null,null,"",false,2,{"$f":"VLOOKUP(H5949,Database!$B$1:$D$5000,3,0)","v":{"$error":"#N/A"}},true]
["",null,null,null,null,null,null,null,{"$f":"IF(ISERROR(VLOOKUP(H5950,Database!$B$1:$C$5000,2,FALSE)),\"\",VLOOKUP(H5950,Database!$B$1:$C$5000,2,FALSE))","v":""},"",{"$error":"#N/A"},null,null,null,null,null,null,null,null,"",false,2,{"$f":"VLOOKUP(H5950,Database!$B$1:$D$5000,3,0)","v":{"$error":"#N/A"}},true]
["",null,null,null,null,null,null,null,{"$f":"IF(ISERROR(VLOOKUP(H5951,Database!$B$1:$C$5000,2,FALSE)),\"\",VLOOKUP(H5951,Database!$B$1:$C$5000,2,FALSE))","v":""},"",{"$error":"#N/A"},null,null,null,null,null,null,null,null,"",false,2,{"$f":"VLOOKUP(H5951,Database!$B$1:$D$5000,3,0)","v":{"$error":"#N/A"}},true]
["",null,null,null,null,null,null,null,{"$f":"IF(ISERROR(VLOOKUP(H5952,Database!$B$1:$C$5000,2,FALSE)),\"\",VLOOKUP(H5952,Database!$B$1:$C$5000,2,FALSE))","v":""},"",{"$error":"#N/A"},null,null,null,null,null,null,null,null,"",false,2,{"$f":"VLOOKUP(H5952,Database!$B$1:$D$5000,3,0)","v":{"$error":"#N/A"}},true]
["",null,null,null,null,null,null,null,{"$f":"IF(ISERROR(VLOOKUP(H5953,Database!$B$1:$C$5000,2,FALSE)),\"\",VLOOKUP(H5953,Database!$B$1:$C$5000,2,FALSE))","v":""},"",{"$error":"#N/A"},null,null,null,null,null,null,null,null,"",false,2,{"$f":"VLOOKUP(H5953,Database!$B$1:$D$5000,3,0)","v":{"$error":"#N/A"}},true]
["",null,null,null,null,null,null,null,{"$f":"IF(ISERROR(VLOOKUP(H5954,Database!$B$1:$C$5000,2,FALSE)),\"\",VLOOKUP(H5954,Database!$B$1:$C$5000,2,FALSE))","v":""},"",{"$error":"#N/A"},null,null,null,null,null,null,null,null,"",false,2,{"$f":"VLOOKUP(H5954,Database!$B$1:$D$5000,3,0)","v":{"$error":"#N/A"}},true]
["",null,null,null,null,null,null,null,{"$f":"IF(ISERROR(VLOOKUP(H5955,Database!$B$1:$C$5000,2,FALSE)),\"\",VLOOKUP(H5955,Database!$B$1:$C$5000,2,FALSE))","v":""},"",{"$error":"#N/A"},null,null,null,null,null,null,null,null,"",false,2,{"$f":"VLOOKUP(H5955,Database!$B$1:$D$5000,3,0)","v":{"$error":"#N/A"}},true]
["",null,null,null,null,null,null,null,{"$f":"IF(ISERROR(VLOOKUP(H5956,Database!$B$1:$C$5000,2,FALSE)),\"\",VLOOKUP(H5956,Database!$B$1:$C$5000,2,FALSE))","v":""},"",{"$error":"#N/A"},null,null,null,null,null,null,null,null,"",false,2,{"$f":"VLOOKUP(H5956,Database!$B$1:$D$5000,3,0)","v":{"$error":"#N/A"}},true]
["",null,null,null,null,null,null,null,{"$f":"IF(ISERROR(VLOOKUP(H5957,Database!$B$1:$C$5000,2,FALSE)),\"\",VLOOKUP(H5957,Database!$B$1:$C$5000,2,FALSE))","v":""},"",{"$error":"#N/A"},null,null,null,null,null,null,null,null,"",false,2,{"$f":"VLOOKUP(H5957,Database!$B$1:$D$5000,3,0)","v":{"$error":"#N/A"}},true]
["",null,null,null,null,null,null,null,{"$f":"IF(ISERROR(VLOOKUP(H5958,Database!$B$1:$C$5000,2,FALSE)),\"\",VLOOKUP(H5958,Database!$B$1:$C$5000,2,FALSE))","v":""},"",{"$error":"#N/A"},null,null,null,null,null,null,null,null,"",false,2,{"$f":"VLOOKUP(H5958,Database!$B$1:$D$5000,3,0)","v":{"$error":"#N/A"}},true]
[{"$f":"IF(B5959=\"\",\"\",ROW(A5954))","v":""},null,null,null,null,null,null,null,{"$f":"IF(ISERROR(VLOOKUP(H5959,Database!$B$1:$C$5000,2,FALSE)),\"\",VLOOKUP(H5959,Database!$B$1:$C$5000,2,FALSE))","v":""},{"$f":"IF(V5959=1,1,IF(AND(T5959=0,F5959=\"SSB\",V5959<>\"\"),3,IF(AND(T5959=0,F5959=\"DIGI\",V5959<>\"\"),2,IF(AND(T5959=0,F5959=\"CW\",V5959<>\"\"),5,IF(H5959=\"-\",\"\",T5959)))))","v":""},{"$f":"IF(H5959=\"-\",\"\",IF(AND(H5959<>\"\",X5959=TRUE),\"INDIPENDENT\",IF(W5959=0,\"SCRIVI NOME NELLE NOTE\",W5959)))","v":{"$error":"#N/A"}},null,null,null,null,null,null,null,null,{"$f":"IF(H5959=\"\",\"\",IF(H5959=$R$6,25,IF(OR(H5959=$R$7,H5959=$R$8,H5959=$R$9,H5959=$R$10,H5959=$R$11,H5959=$R$12,H5959=$R$13,H5959=$R$14,H5959=$R$15,H5959=$R$16,H5959=$R$17,H5959=$R$18,H5959=$R$19,H5959=$R$20,H5959=$R$21,H5959=$R$22,H5959=$R$23),15,0)))","v":""},{"$f":"ISERROR(I5959)","v":false},{"$f":"IF(H5959=\"-\",\"\",IF(AND(T5959=0,U5959=FALSE,I5959=\"\"),1,2))","v":2},{"$f":"VLOOKUP(H5959,Database!$B$1:$D$5000,3,0)","v":{"$error":"#N/A"}},{"$f":"ISERROR(W5959)","v":true}]
["",null,null,null,null,null,null,null,{"$f":"IF(ISERROR(VLOOKUP(H5960,Database!$B$1:$C$5000,2,FALSE)),\"\",VLOOKUP(H5960,Database!$B$1:$C$5000,2,FALSE))","v":""},"",{"$error":"#N/A"},null,null,null,null,null,null,null,null,"",false,2,{"$f":"VLOOKUP(H5960,Database!$B$1:$D$5000,3,0)","v":{"$error":"#N/A"}},true]
["",null,null,null,null,null,null,null,{"$f":"IF(ISERROR(VLOOKUP(H5961,Database!$B$1:$C$5000,2,FALSE)),\"\",VLOOKUP(H5961,Database!$B$1:$C$5000,2,FALSE))","v":""},"",{"$error":"#N/A"},null,null,null,null,null,null,null,null,"",false,2,{"$f":"VLOOKUP(H5961,Database!$B$1:$D$5000,3,0)","v":{"$error":"#N/A"}},true]
["",null,null,null,null,null,null,null,{"$f":"IF(ISERROR(VLOOKUP(H5962,Database!$B$1:$C$5000,2,FALSE)),\"\",VLOOKUP(H5962,Database!$B$1:$C$5000,2,FALSE))","v":""},"",{"$error":"#N/A"},null,null,null,null,null,null,null,null,"",false,2,{"$f":"VLOOKUP(H5962,Database!$B$1:$D$5000,3,0)","v":{"$error":"#N/A"}},true]
["",null,null,null,null,null,null,null,{"$f":"IF(ISERROR(VLOOKUP(H5963,Database!$B$1:$C$5000,2,FALSE)),\"\",VLOOKUP(H5963,Database!$B$1:$C$5000,2,FALSE))","v":""},"",{"$error":"#N/A"},null,null,null,null,null,null,null,null,"",false,2,{"$f":"VLOOKUP(H5963,Database!$B$1:$D$5000,3,0)","v":{"$error":"#N/A"}},true]
["",null,null,null,null,null,null,null,{"$f":"IF(ISERROR(VLOOKUP(H5964,Database!$B$1:$C$5000,2,FALSE)),\"\",VLOOKUP(H5964,Database!$B$1:$C$5000,2,FALSE))","v":""},"",{"$error":"#N/A"},null,null,null,null,null,null,null,null,"",false,2,{"$f":"VLOOKUP(H5964,Database!$B$1:$D$5000,3,0)","v":{"$error":"#N/A"}},true]
["",null,null,null,null,null,null,null,{"$f":"IF(ISERROR(VLOOKUP(H5965,Database!$B$1:$C$5000,2,FALSE)),\"\",VLOOKUP(H5965,Database!$B$1:$C$5000,2,FALSE))","v":""},"",{"$error":"#N/A"},null,null,null,null,null,null,null,null,"",false,2,{"$f":"VLOOKUP(H5965,Database!$B$1:$D$5000,3,0)","v":{"$error":"#N/A"}},true]
["",null,null,null,null,null,null,null,{"$f":"IF(ISERROR(VLOOKUP(H5966,Database!$B$1:$C$5000,2,FALSE)),\"\",VLOOKUP(H5966,Database!$B$1:$C$5000,2,FALSE))","v":""},"",{"$error":"#N/A"},null,null,null,null,null,null,null,null,"",false,2,{"$f":"VLOOKUP(H5966,Database!$B$1:$D$5000,3,0)","v":{"$error":"#N/A"}},true]
["",null,null,null,null,null,null,null,{"$f":"IF(ISERROR(VLOOKUP(H5967,Database!$B$1:$C$5000,2,FALSE)),\"\",VLOOKUP(H5967,Database!$B$1:$C$5000,2,FALSE))","v":""},"",{"$error":"#N/A"},null,null,null,null,null,null,null,null,"",false,2,{"$f":"VLOOKUP(H5967,Database!$B$1:$D$5000,3,0)","v":{"$error":"#N/A"}},true]
["",null,null,null,null,null,null,null,{"$f":"IF(ISERROR(VLOOKUP(H5968,Database!$B$1:$C$5000,2,FALSE)),\"\",VLOOKUP(H5968,Database!$B$1:$C$5000,2,FALSE))","v":""},"",{"$error":"#N/A"},null,null,null,null,null,null,null,null,"",false,2,{"$f":"VLOOKUP(H5968,Database!$B$1:$D$5000,3,0)","v":{"$error":"#N/A"}},true]
["",null,null,null,null,null,null,null,{"$f":"IF(ISERROR(VLOOKUP(H5969,Database!$B$1:$C$5000,2,FALSE)),\"\",VLOOKUP(H5969,Database!$B$1:$C$5000,2,FALSE))","v":""},"",{"$error":"#N/A"},null,null,null,null,null,null,null,null,"",false,2,{"$f":"VLOOKUP(H5969,Database!$B$1:$D$5000,3,0)","v":{"$error":"#N/A"}},true]
["",null,null,null,null,null,null,null,{"$f":"IF(ISERROR(VLOOKUP(H5970,Database!$B$1:$C$5000,2,FALSE)),\"\",VLOOKUP(H5970,Database!$B$1:$C$5000,2,FALSE))","v":""},"",{"$error":"#N/A"},null,null,null,null,null,null,null,null,"",false,2,{"$f":"VLOOKUP(H5970,Database!$B$1:$D$5000,3,0)","v":{"$error":"#N/A"}},true]
["",null,null,null,null,null,null,null,{"$f":"IF(ISERROR(VLOOKUP(H5971,Database!$B$1:$C$5000,2,FALSE)),\"\",VLOOKUP(H5971,Database!$B$1:$C$5000,2,FALSE))","v":""},"",{"$error":"#N/A"},null,null,null,null,null,null,null,null,"",false,2,{"$f":"VLOOKUP(H5971,Database!$B$1:$D$5000,3,0)","v":{"$error":"#N/A"}},true]
["",null,null,null,null,null,null,null,{"$f":"IF(ISERROR(VLOOKUP(H5972,Database!$B$1:$C$5000,2,FALSE)),\"\",VLOOKUP(H5972,Database!$B$1:$C$5000,2,FALSE))","v":""},"",{"$error":"#N/A"},null,null,null,null,null,null,null,null,"",false,2,{"$f":"VLOOKUP(H5972,Database!$B$1:$D$5000,3,0)","v":{"$error":"#N/A"}},true]
["",null,null,null,null,null,null,null,{"$f":"IF(ISERROR(VLOOKUP(H5973,Database!$B$1:$C$5000,2,FALSE)),\"\",VLOOKUP(H5973,Database!$B$1:$C$5000,2,FALSE))","v":""},"",{"$error":"#N/A"},null,null,null,null,null,null,null,null,"",false,2,{"$f":"VLOOKUP(H5973,Database!$B$1:$D$5000,3,0)","v":{"$error":"#N/A"}},true]
["",null,null,null,null,null,null,null,{"$f":"IF(ISERROR(VLOOKUP(H5974,Database!$B$1:$C$5000,2,FALSE)),\"\",VLOOKUP(H5974,Database!$B$1:$C$5000,2,FALSE))","v":""},"",{"$error":"#N/A"},null,null,null,null,null,null,null,null,"",false,2,{"$f":"VLOOKUP(H5974,Database!$B$1:$D$5000,3,0)","v":{"$error":"#N/A"}},true]
["",null,null,null,null,null,null,null,{"$f":"IF(ISERROR(VLOOKUP(H5975,Database!$B$1:$C$5000,2,FALSE)),\"\",VLOOKUP(H5975,Database!$B$1:$C$5000,2,FALSE))","v":""},"",{"$error":"#N/A"},null,null,null,null,null,null,null,null,"",false,2,{"$f":"VLOOKUP(H5975,Database!$B$1:$D$5000,3,0)","v":{"$error":"#N/A"}},true]
["",null,null,null,null,null,null,null,{"$f":"IF(ISERROR(VLOOKUP(H5976,Database!$B$1:$C$5000,2,FALSE)),\"\",VLOOKUP(H5976,Database!$B$1:$C$5000,2,FALSE))","v":""},"",{"$error":"#N/A"},null,null,null,null,null,null,null,null,"",false,2,{"$f":"VLOOKUP(H5976,Database!$B$1:$D$5000,3,0)","v":{"$error":"#N/A"}},true]
["",null,null,null,null,null,null,null,{"$f":"IF(ISERROR(VLOOKUP(H5977,Database!$B$1:$C$5000,2,FALSE)),\"\",VLOOKUP(H5977,Database!$B$1:$C$5000,2,FALSE))","v":""},"",{"$error":"#N/A"},null,null,null,null,null,null,null,null,"",false,2,{"$f":"VLOOKUP(H5977,Database!$B$1:$D$5000,3,0)","v":{"$error":"#N/A"}},true]
["",null,null,null,null,null,null,null,{"$f":"IF(ISERROR(VLOOKUP(H5978,Database!$B$1:$C$5000,2,FALSE)),\"\",VLOOKUP(H5978,Database!$B$1:$C$5000,2,FALSE))","v":""},"",{"$error":"#N/A"},null,null,null,null,null,null,null,null,"",false,2,{"$f":"VLOOKUP(H5978,Database!$B$1:$D$5000,3,0)","v":{"$error":"#N/A"}},true]
["",null,null,null,null,null,null,null,{"$f":"IF(ISERROR(VLOOKUP(H5979,Database!$B$1:$C$5000,2,FALSE)),\"\",VLOOKUP(H5979,Database!$B$1:$C$5000,2,FALSE))","v":""},"",{"$error":"#N/A"},null,null,null,null,null,null,null,null,"",false,2,{"$f":"VLOOKUP(H5979,Database!$B$1:$D$5000,3,0)","v":{"$error":"#N/A"}},true]
["",null,null,null,null,null,null,null,{"$f":"IF(ISERROR(VLOOKUP(H5980,Database!$B$1:$C$5000,2,FALSE)),\"\",VLOOKUP(H5980,Database!$B$1:$C$5000,2,FALSE))","v":""},"",{"$error":"#N/A"},null,null,null,null,null,null,null,null,"",false,2,{"$f":"VLOOKUP(H5980,Database!$B$1:$D$5000,3,0)","v":{"$error":"#N/A"}},true]
["",null,null,null,null,null,null,null,{"$f":"IF(ISERROR(VLOOKUP(H5981,Database!$B$1:$C$5000,2,FALSE)),\"\",VLOOKUP(H5981,Database!$B$1:$C$5000,2,FALSE))","v":""},"",{"$error":"#N/A"},null,null,null,null,null,null,null,null,"",false,2,{"$f":"VLOOKUP(H5981,Database!$B$1:$D$5000,3,0)","v":{"$error":"#N/A"}},true]
["",null,null,null,null,null,null,null,{"$f":"IF(ISERROR(VLOOKUP(H5982,Database!$B$1:$C$5000,2,FALSE)),\"\",VLOOKUP(H5982,Database!$B$1:$C$5000,2,FALSE))","v":""},"",{"$error":"#N/A"},null,null,null,null,null,null,null,null,"",false,2,{"$f":"VLOOKUP(H5982,Database!$B$1:$D$5000,3,0)","v":{"$error":"#N/A"}},true]
["",null,null,null,null,null,null,null,{"$f":"IF(ISERROR(VLOOKUP(H5983,Database!$B$1:$C$5000,2,FALSE)),\"\",VLOOKUP(H5983,Database!$B$1:$C$5000,2,FALSE))","v":""},"",{"$error":"#N/A"},null,null,null,null,null,null,null,null,"",false,2,{"$f":"VLOOKUP(H5983,Database!$B$1:$D$5000,3,0)","v":{"$error":"#N/A"}},true]
["",null,null,null,null,null,null,null,{"$f":"IF(ISERROR(VLOOKUP(H5984,Database!$B$1:$C$5000,2,FALSE)),\"\",VLOOKUP(H5984,Database!$B$1:$C$5000,2,FALSE))","v":""},"",{"$error":"#N/A"},null,null,null,null,null,null,null,null,"",false,2,{"$f":"VLOOKUP(H5984,Database!$B$1:$D$5000,3,0)","v":{"$error":"#N/A"}},true]
["",null,null,null,null,null,null,null,{"$f":"IF(ISERROR(VLOOKUP(H5985,Database!$B$1:$C$5000,2,FALSE)),\"\",VLOOKUP(H5985,Database!$B$1:$C$5000,2,FALSE))","v":""},"",{"$error":"#N/A"},null,null,null,null,null,null,null,null,"",false,2,{"$f":"VLOOKUP(H5985,Database!$B$1:$D$5000,3,0)","v":{"$error":"#N/A"}},true]
["",null,null,null,null,null,null,null,{"$f":"IF(ISERROR(VLOOKUP(H5986,Database!$B$1:$C$5000,2,FALSE)),\"\",VLOOKUP(H5986,Database!$B$1:$C$5000,2,FALSE))","v":""},"",{"$error":"#N/A"},null,null,null,null,null,null,null,null,"",false,2,{"$f":"VLOOKUP(H5986,Database!$B$1:$D$5000,3,0)","v":{"$error":"#N/A"}},true]
["",null,null,null,null,null,null,null,{"$f":"IF(ISERROR(VLOOKUP(H5987,Database!$B$1:$C$5000,2,FALSE)),\"\",VLOOKUP(H5987,Database!$B$1:$C$5000,2,FALSE))","v":""},"",{"$error":"#N/A"},null,null,null,null,null,null,null,null,"",false,2,{"$f":"VLOOKUP(H5987,Database!$B$1:$D$5000,3,0)","v":{"$error":"#N/A"}},true]
["",null,null,null,null,null,null,null,{"$f":"IF(ISERROR(VLOOKUP(H5988,Database!$B$1:$C$5000,2,FALSE)),\"\",VLOOKUP(H5988,Database!$B$1:$C$5000,2,FALSE))","v":""},"",{"$error":"#N/A"},null,null,null,null,null,null,null,null,"",false,2,{"$f":"VLOOKUP(H5988,Database!$B$1:$D$5000,3,0)","v":{"$error":"#N/A"}},true]
["",null,null,null,null,null,null,null,{"$f":"IF(ISERROR(VLOOKUP(H5989,Database!$B$1:$C$5000,2,FALSE)),\"\",VLOOKUP(H5989,Database!$B$1:$C$5000,2,FALSE))","v":""},"",{"$error":"#N/A"},null,null,null,null,null,null,null,null,"",false,2,{"$f":"VLOOKUP(H5989,Database!$B$1:$D$5000,3,0)","v":{"$error":"#N/A"}},true]
["",null,null,null,null,null,null,null,{"$f":"IF(ISERROR(VLOOKUP(H5990,Database!$B$1:$C$5000,2,FALSE)),\"\",VLOOKUP(H5990,Database!$B$1:$C$5000,2,FALSE))","v":""},"",{"$error":"#N/A"},null,null,null,null,null,null,null,null,"",false,2,{"$f":"VLOOKUP(H5990,Database!$B$1:$D$5000,3,0)","v":{"$error":"#N/A"}},true]
["",null,null,null,null,null,null,null,{"$f":"IF(ISERROR(VLOOKUP(H5991,Database!$B$1:$C$5000,2,FALSE)),\"\",VLOOKUP(H5991,Database!$B$1:$C$5000,2,FALSE))","v":""},"",{"$error":"#N/A"},null,null,null,null,null,null,null,null,"",false,2,{"$f":"VLOOKUP(H5991,Database!$B$1:$D$5000,3,0)","v":{"$error":"#N/A"}},true]
["",null,null,null,null,null,null,null,{"$f":"IF(ISERROR(VLOOKUP(H5992,Database!$B$1:$C$5000,2,FALSE)),\"\",VLOOKUP(H5992,Database!$B$1:$C$5000,2,FALSE))","v":""},"",{"$error":"#N/A"},null,null,null,null,null,null,null,null,"",false,2,{"$f":"VLOOKUP(H5992,Database!$B$1:$D$5000,3,0)","v":{"$error":"#N/A"}},true]
["",null,null,null,null,null,null,null,{"$f":"IF(ISERROR(VLOOKUP(H5993,Database!$B$1:$C$5000,2,FALSE)),\"\",VLOOKUP(H5993,Database!$B$1:$C$5000,2,FALSE))","v":""},"",{"$error":"#N/A"},null,null,null,null,null,null,null,null,"",false,2,{"$f":"VLOOKUP(H5993,Database!$B$1:$D$5000,3,0)","v":{"$error":"#N/A"}},true]
["",null,null,null,null,null,null,null,{"$f":"IF(ISERROR(VLOOKUP(H5994,Database!$B$1:$C$5000,2,FALSE)),\"\",VLOOKUP(H5994,Database!$B$1:$C$5000,2,FALSE))","v":""},"",{"$error":"#N/A"},null,null,null,null,null,null,null,null,"",false,2,{"$f":"VLOOKUP(H5994,Database!$B$1:$D$5000,3,0)","v":{"$error":"#N/A"}},true]
["",null,null,null,null,null,null,null,{"$f":"IF(ISERROR(VLOOKUP(H5995,Database!$B$1:$C$5000,2,FALSE)),\"\",VLOOKUP(H5995,Database!$B$1:$C$5000,2,FALSE))","v":""},"",{"$error":"#N/A"},null,null,null,null,null,null,null,null,"",false,2,{"$f":"VLOOKUP(H5995,Database!$B$1:$D$5000,3,0)","v":{"$error":"#N/A"}},true]
["",null,null,null,null,null,null,null,{"$f":"IF(ISERROR(VLOOKUP(H5996,Database!$B$1:$C$5000,2,FALSE)),\"\",VLOOKUP(H5996,Database!$B$1:$C$5000,2,FALSE))","v":""},"",{"$error":"#N/A"},null,null,null,null,null,null,null,null,"",false,2,{"$f":"VLOOKUP(H5996,Database!$B$1:$D$5000,3,0)","v":{"$error":"#N/A"}},true]
["",null,null,null,null,null,null,null,{"$f":"IF(ISERROR(VLOOKUP(H5997,Database!$B$1:$C$5000,2,FALSE)),\"\",VLOOKUP(H5997,Database!$B$1:$C$5000,2,FALSE))","v":""},"",{"$error":"#N/A"},null,null,null,null,null,null,null,null,"",false,2,{"$f":"VLOOKUP(H5997,Database!$B$1:$D$5000,3,0)","v":{"$error":"#N/A"}},true]
["",null,null,null,null,null,null,null,{"$f":"IF(ISERROR(VLOOKUP(H5998,Database!$B$1:$C$5000,2,FALSE)),\"\",VLOOKUP(H5998,Database!$B$1:$C$5000,2,FALSE))","v":""},"",{"$error":"#N/A"},null,null,null,null,null,null,null,null,"",false,2,{"$f":"VLOOKUP(H5998,Database!$B$1:$D$5000,3,0)","v":{"$error":"#N/A"}},true]
["",null,null,null,null,null,null,null,{"$f":"IF(ISERROR(VLOOKUP(H5999,Database!$B$1:$C$5000,2,FALSE)),\"\",VLOOKUP(H5999,Database!$B$1:$C$5000,2,FALSE))","v":""},"",{"$error":"#N/A"},null,null,null,null,null,null,null,null,"",{"$f":"ISERROR(I5999)","v":false},2,{"$f":"VLOOKUP(H5999,Database!$B$1:$D$5000,3,0)","v":{"$error":"#N/A"}},true]
["",null,null,null,null,null,null,null,{"$f":"IF(ISERROR(VLOOKUP(H6000,Database!$B$1:$C$5000,2,FALSE)),\"\",VLOOKUP(H6000,Database!$B$1:$C$5000,2,FALSE))","v":""},"",{"$error":"#N/A"},null,null,null,null,null,null,null,null,"",{"$f":"ISERROR(I6000)","v":false},2,{"$f":"VLOOKUP(H6000,Database!$B$1:$D$5000,3,0)","v":{"$error":"#N/A"}},true]
[null,null,null,null,null,null,null,null,{"$f":"IF(ISERROR(VLOOKUP(H6001,Database!$B$1:$C$5000,2,FALSE)),\"\",VLOOKUP(H6001,Database!$B$1:$C$5000,2,FALSE))","v":""},"",{"$error":"#N/A"},null,null,null,null,null,null,null,null,"",{"$f":"ISERROR(I6001)","v":false},2,{"$f":"VLOOKUP(H6001,Database!$B$1:$D$5000,3,0)","v":{"$error":"#N/A"}},true]
[null,null,null,null,null,null,null,null,null,null,null,null,null,null,null,null,null,null,null,null,false,1,{"$f":"VLOOKUP(H6002,Database!$B$1:$D$5000,3,0)","v":{"$error":"#N/A"}},true]

{"sheet":"Database","index":1,"n_rows":5001,"n_cols":21,"rows_kept":4500,"cut":true,"hidden":false,"merged":[[2,7,2,11]],"bounds":{"rows_first":2000,"rows_last":500,"rows_between":2000,"halvings":0}}
["N°","    NOMINATIVO","N° ASSOC.","NOME"]
[1,"ON4BRN","BM001","BMARS",null,null,null,null,null,null,null,null,null,null,null,null,null,null,null,null,{"$f":"LEFT(C2,2)","v":"BM"}]
[2,"OR0OST","BM002","BMARS",null,null,null,"RICAPITOLO ELENCO SOCI NAVAL",null,null,null,null,null,null,null,null,null,null,null,null,{"$f":"LEFT(C3,2)","v":"BM"}]
[3,"ON8SUB","BM003","BMARS",null,null,null,"SIGLA","Associazione","Totale N° Soci","Ultimo Socio","Riga",null,null,null,null,null,null,null,null,"BM"]
[4,"ON5IA","BM011","DAVID",null,null,null,"BM","BMARS",{"$f":"COUNTIF(U$2:U$4996,H5)","v":129},{"$f":"VLOOKUP(L5,A$2:F$5001,3)","v":"BM152"},{"$f":"J5","v":129},null,null,null,null,null,null,null,null,"BM"]
[5,"ON6WR ","BM012","ROGER",null,null,null,"CA","MFCA",{"$f":"COUNTIF(U$2:U$4996,H6)","v":108},{"$f":"VLOOKUP(L6,A$2:F$5001,3)","v":"CA350"},{"$f":"L5+J6","v":237},null,null,null,null,null,null,null,null,"BM"]
[6,"ON4WD ","BM013","JULES",null,null,null,"FN","FNARS",56,"FN600",{"$f":"L6+J7","v":293},null,null,null,null,null,null,null,null,"BM"]
[7,"PA3FSF","BM014","KAREL",null,null,null,"IN","INORC",163,"IN660",456,null,null,null,null,null,null,null,null,"BM"]
[8,"ON4AGV","BM015","RUDI",null,null,null,"MA","MARAC",152,"MA1000",608,null,null,null,null,null,null,null,null,"BM"]
[9,"HB9ASZ","BM016","BERNH",null,null,null,"MF","MFCA",375,"MF1200",983,null,null,null,null,null,null,null,null,"BM"]
[10,"ON6WX","BM018","BOB",null,null,null,"MI","ARMI",1469,"MI1590",2452,null,null,null,null,null,null,null,null,"BM"]
[11,"ON6NF ","BM019","PAUL",null,null,null,"PN","NRA",92,"PN200",2544,null,null,null,null,null,null,null,null,"BM"]
[12,"GB2RN","BM020","BELFAST",null,null,null,"RN","RNARS",830,"RN5021",3374,null,null,null,null,null,null,null,null,"BM"]
[13,"ON4AZM","BM021","IWAN",null,null,null,"YO","YO",106,"YO129",3480,null,null,null,null,null,null,null,null,"BM"]
[14,"ON3SSB","BM022","GINO",null,null,null,null,"TOTALE SOCI",{"$f":"SUM(J5:J14)","v":3480},"Ultima RIGA",null,null,null,null,null,null,null,null,null,"BM"]
[15,"G0FEK","BM025","WILSON",null,null,null,null,null,null,null,null,null,null,null,null,null,null,null,null,"BM"]
[16,"PA3CTK","BM026","HARM",null,null,null,null,null,null,null,null,null,null,null,null,null,null,null,null,"BM"]
[17,"ON4RO","BM027","GUY",null,null,null,null,null,null,null,null,null,null,null,null,null,null,null,null,"BM"]
[18,"ON1CED","BM028","PHILIP",null,null,null,null,null,null,null,null,null,null,null,null,null,null,null,null,"BM"]
[19,"ON5BF","BM029","FRANK",null,null,null,null,null,null,null,null,null,null,null,null,null,null,null,null,"BM"]
[20,"OH1AJ","BM030","NARS",null,null,null,null,null,null,null,null,null,null,null,null,null,null,null,null,"BM"]
[21,"ON1AAI","BM031","LOUIS",null,null,null,null,null,null,null,null,null,null,null,null,null,null,null,null,"BM"]
[22,"ON4NU ","BM032","MAURICE",null,null,null,null,null,null,null,null,null,null,null,null,null,null,null,null,"BM"]
[23,"ON4CAB","BM034","BART",null,null,null,null,null,null,null,null,null,null,null,null,null,null,null,null,"BM"]
[24,"ON4BYD","BM035","GEORGES",null,null,null,null,null,null,null,null,null,null,null,null,null,null,null,null,"BM"]
[25,"ON3KD","BM037","KRIS",null,null,null,null,null,null,null,null,null,null,null,null,null,null,null,null,"BM"]
[26,"ON7CA","BM038","ANDRE",null,null,null,null,null,null,null,null,null,null,null,null,null,null,null,null,"BM"]
[27,"ON4NS","BM039","NOEL",null,null,null,null,null,null,null,null,null,null,null,null,null,null,null,null,"BM"]
[28,"DL0MF","BM040","MF HQ",null,null,null,null,null,null,null,null,null,null,null,null,null,null,null,null,"BM"]
[29,"ON4UK","BM041","OHAN",null,null,null,null,null,null,null,null,null,null,null,null,null,null,null,null,"BM"]
[30,"ON5FU","BM042","AIME",null,null,null,null,null,null,null,null,null,null,null,null,null,null,null,null,"BM"]
[31,"ON4TJ","BM043","GEORGES",null,null,null,null,null,null,null,null,null,null,null,null,null,null,null,null,"BM"]
[32,"ON4CBM","BM044","BERT",null,null,null,null,null,null,null,null,null,null,null,null,null,null,null,null,"BM"]
[33,"ON4BDJ","BM045","JEANPAUL",null,null,null,null,null,null,null,null,null,null,null,null,null,null,null,null,"BM"]
[34,"ON4VC","BM046","MICHEL",null,null,null,null,null,null,null,null,null,null,null,null,null,null,null,null,"BM"]
[35,"ON4GPS","BM047","RIK",null,null,null,null,null,null,null,null,null,null,null,null,null,null,null,null,"BM"]
[36,"ON4BBA","BM048","JEANPIERRE",null,null,null,null,null,null,null,null,null,null,null,null,null,null,null,null,"BM"]
[37,"ON4CKI","BM049","CAMERLY",null,null,null,null,null,null,null,null,null,null,null,null,null,null,null,null,"BM"]
[38,"GB3RN","BM050","STATION",null,null,null,null,null,null,null,null,null,null,null,null,null,null,null,null,"BM"]
[39,"G1LEH","BM051","CHATFIELD",null,null,null,null,null,null,null,null,null,null,null,null,null,null,null,null,"BM"]
[40,"GM0RYD","BM052","VAN",null,null,null,null,null,null,null,null,null,null,null,null,null,null,null,null,"BM"]
[41,"OE8NIK","BM053","NIK",null,null,null,null,null,null,null,null,null,null,null,null,null,null,null,null,"BM"]
[42,"ON1DFR","BM054","CHRISTOPH",null,null,null,null,null,null,null,null,null,null,null,null,null,null,null,null,"BM"]
[43,"ON7JI","BM055","GUIDO",null,null,null,null,null,null,null,null,null,null,null,null,null,null,null,null,"BM"]
[44,"ON4VDC","BM057","VINCENT",null,null,null,null,null,null,null,null,null,null,null,null,null,null,null,null,"BM"]
[45,"DL5XI","BM058","JOORMANN",null,null,null,null,null,null,null,null,null,null,null,null,null,null,null,null,"BM"]
[46,"ON4QR","BM059","FILIP",null,null,null,null,null,null,null,null,null,null,null,null,null,null,null,null,"BM"]
[47,"GW0VSW","BM061","CARLO",null,null,null,null,null,null,null,null,null,null,null,null,null,null,null,null,"BM"]
[48,"ON7WF ","BM062","WELLECAN",null,null,null,null,null,null,null,null,null,null,null,null,null,null,null,null,"BM"]
[49,"DF7PM ","BM063","MARIELUISE",null,null,null,null,null,null,null,null,null,null,null,null,null,null,null,null,"BM"]
[50,"DC7QN ","BM064","HERMAN",null,null,null,null,null,null,null,null,null,null,null,null,null,null,null,null,"BM"]
[51,"I6HWD ","BM066","DOMENICO",null,null,null,null,null,null,null,null,null,null,null,null,null,null,null,null,"BM"]
[52,"DL1NL ","BM067","FRED",null,null,null,null,null,null,null,null,null,null,null,null,null,null,null,null,"BM"]
[53,"OE6ESG ","BM069","SEPP",null,null,null,null,null,null,null,null,null,null,null,null,null,null,null,null,"BM"]
[54,"CS5NRA","BM070","NRA",null,null,null,null,null,null,null,null,null,null,null,null,null,null,null,null,"BM"]
[55,"DK9OS","BM071","HANS",null,null,null,null,null,null,null,null,null,null,null,null,null,null,null,null,"BM"]
[56,"ON4CJJ","BM072","LUC",null,null,null,null,null,null,null,null,null,null,null,null,null,null,null,null,"BM"]
[57,"ON4CBI","BM073","VAN",null,null,null,null,null,null,null,null,null,null,null,null,null,null,null,null,"BM"]
[58,"G0HNU","BM074","ROGER",null,null,null,null,null,null,null,null,null,null,null,null,null,null,null,null,"BM"]
[59,"G0ELZ","BM075","BILL ",null,null,null,null,null,null,null,null,null,null,null,null,null,null,null,null,"BM"]
[60,"ON4KJ ","BM076","JOZEF",null,null,null,null,null,null,null,null,null,null,null,null,null,null,null,null,"BM"]
[61," PA3EBA","BM077","STAPP",null,null,null,null,null,null,null,null,null,null,null,null,null,null,null,null,"BM"]
[62,"ON5KK","BM078","JONCKHERE",null,null,null,null,null,null,null,null,null,null,null,null,null,null,null,null,"BM"]
[63,"EA7GSY","BM079","FLOR",null,null,null,null,null,null,null,null,null,null,null,null,null,null,null,null,"BM"]
[64,"PI4MRC","BM080","MARAC",null,null,null,null,null,null,null,null,null,null,null,null,null,null,null,null,"BM"]
[65,"PA0VLA ","BM081","VAN",null,null,null,null,null,null,null,null,null,null,null,null,null,null,null,null,"BM"]
[66,"ON1AEI ","BM082","COLONNE",null,null,null,null,null,null,null,null,null,null,null,null,null,null,null,null,{"$f":"LEFT(C67,2)","v":"BM"}]
[67,"ON4CBK","BM083","MARTIN",null,null,null,null,null,null,null,null,null,null,null,null,null,null,null,null,"BM"]
[68,"DE0WAF","BM084","A ",null,null,null,null,null,null,null,null,null,null,null,null,null,null,null,null,"BM"]
[69,"DL1EKN","BM085","HANS",null,null,null,null,null,null,null,null,null,null,null,null,null,null,null,null,"BM"]
[70,"DK5UR ","BM086","URBAN",null,null,null,null,null,null,null,null,null,null,null,null,null,null,null,null,"BM"]
[71,"ON4KV","BM087","VANDERV",null,null,null,null,null,null,null,null,null,null,null,null,null,null,null,null,"BM"]
[72,"ON4AUP","BM088","VAN",null,null,null,null,null,null,null,null,null,null,null,null,null,null,null,null,"BM"]
[73,"YO4DCF","BM089","MARIO",null,null,null,null,null,null,null,null,null,null,null,null,null,null,null,null,"BM"]
[74,"ON7DSP","BM091","CASIER",null,null,null,null,null,null,null,null,null,null,null,null,null,null,null,null,"BM"]
[75,"EA3CYA","BM092","CARPI",null,null,null,null,null,null,null,null,null,null,null,null,null,null,null,null,"BM"]
[76,"ON5UE","BM093","DANNY",null,null,null,null,null,null,null,null,null,null,null,null,null,null,null,null,"BM"]
[77,"DH2UK","BM095","KOCH",null,null,null,null,null,null,null,null,null,null,null,null,null,null,null,null,"BM"]
[78,"DF6LI","BM096","KLAUS",null,null,null,null,null,null,null,null,null,null,null,null,null,null,null,null,"BM"]
[79,"DK3UZ","BM097","EDMUND",null,null,null,null,null,null,null,null,null,null,null,null,null,null,null,null,"BM"]
[80,"DL6DCC","BM098","BRIGITTE",null,null,null,null,null,null,null,null,null,null,null,null,null,null,null,null,"BM"]
[81,"ON4AEX","BM099","JP ",null,null,null,null,null,null,null,null,null,null,null,null,null,null,null,null,"BM"]
[82,"ON50RN","BM100","BMARS",null,null,null,null,null,null,null,null,null,null,null,null,null,null,null,null,"BM"]
[83,"ON4TB","BM102","THEO",null,null,null,null,null,null,null,null,null,null,null,null,null,null,null,null,"BM"]
[84,"DL5XL","BM103","FELIX",null,null,null,null,null,null,null,null,null,null,null,null,null,null,null,null,"BM"]
[85,"ON4DTK","BM104","LEON",null,null,null,null,null,null,null,null,null,null,null,null,null,null,null,null,"BM"]
[86,"GI4MFM","BM105","MC",null,null,null,null,null,null,null,null,null,null,null,null,null,null,null,null,"BM"]
[87,"ON4CKZ","BM106","PATRICK",null,null,null,null,null,null,null,null,null,null,null,null,null,null,null,null,"BM"]
[88,"OH1WR","BM107","KEKALA",null,null,null,null,null,null,null,null,null,null,null,null,null,null,null,null,"BM"]
[89,"PB2BRU","BM108","AJ ",null,null,null,null,null,null,null,null,null,null,null,null,null,null,null,null,"BM"]
[90,"ON4BNR","BM109","NAHOEL",null,null,null,null,null,null,null,null,null,null,null,null,null,null,null,null,"BM"]
[91,"ON4YP","BM111","YESERB",null,null,null,null,null,null,null,null,null,null,null,null,null,null,null,null,"BM"]
[92,"CT1DYV","BM112",null,null,null,null,null,null,null,null,null,null,null,null,null,null,null,null,null,"BM"]
[93,"IZ0AIO","BM113","ANGELO",null,null,null,null,null,null,null,null,null,null,null,null,null,null,null,null,"BM"]
[94,"ON5RKN","BM114","SUSANNE",null,null,null,null,null,null,null,null,null,null,null,null,null,null,null,null,"BM"]
[95,"OE3SOB","BM115","OTTER",null,null,null,null,null,null,null,null,null,null,null,null,null,null,null,null,"BM"]
[96,"RA6LMF","BM116","DEN",null,null,null,null,null,null,null,null,null,null,null,null,null,null,null,null,"BM"]
[97,"ON5JD","BM117","JAN ",null,null,null,null,null,null,null,null,null,null,null,null,null,null,null,null,"BM"]
[98,"ON4AC","BM118","ARNOYS",null,null,null,null,null,null,null,null,null,null,null,null,null,null,null,null,"BM"]
[99,"DH1BMV","BM119"," RAINER",null,null,null,null,null,null,null,null,null,null,null,null,null,null,null,null,"BM"]
[100,"ON7EQ ","BM121","EAN",null,null,null,null,null,null,null,null,null,null,null,null,null,null,null,null,"BM"]
[101,"ON4CGA","BM122","PETER",null,null,null,null,null,null,null,null,null,null,null,null,null,null,null,null,"BM"]
[102,"ON4NW","BM123","WALTER",null,null,null,null,null,null,null,null,null,null,null,null,null,null,null,null,"BM"]
[103,"ON7CK","BM124","JACK",null,null,null,null,null,null,null,null,null,null,null,null,null,null,null,null,"BM"]
[104,"OR7A","BM124","JACK",null,null,null,null,null,null,null,null,null,null,null,null,null,null,null,null,"BM"]
[105,"ON6PQ","BM125","EDGARD",null,null,null,null,null,null,null,null,null,null,null,null,null,null,null,null,"BM"]
[106,"ON4CJT","BM126","EDDY",null,null,null,null,null,null,null,null,null,null,null,null,null,null,null,null,"BM"]
[107,"ON8AM","BM127","LUC",null,null,null,null,null,null,null,null,null,null,null,null,null,null,null,null,"BM"]
[108,"OQ2F","BM127","LUC",null,null,null,null,null,null,null,null,null,null,null,null,null,null,null,null,"BM"]
[109,"ON4VHF","BM128","KARIN",null,null,null,null,null,null,null,null,null,null,null,null,null,null,null,null,"BM"]
[110,"SWL ONL306","BM129","GYSBER",null,null,null,null,null,null,null,null,null,null,null,null,null,null,null,null,"BM"]
[111,"ON4IBM","BM131","IVA",null,null,null,null,null,null,null,null,null,null,null,null,null,null,null,null,"BM"]
[112,"ON6CQ","BM132","RONNY",null,null,null,null,null,null,null,null,null,null,null,null,null,null,null,null,"BM"]
[113,"M0HEM ","BM133","OTOLE",null,null,null,null,null,null,null,null,null,null,null,null,null,null,null,null,"BM"]
[114,"K7VV","BM134","VINCENT",null,null,null,null,null,null,null,null,null,null,null,null,null,null,null,null,"BM"]
[115,"DL7DG","BM135","GENZEL",null,null,null,null,null,null,null,null,null,null,null,null,null,null,null,null,"BM"]
[116,"ON7BZ","BM136","WILLY",null,null,null,null,null,null,null,null,null,null,null,null,null,null,null,null,"BM"]
[117,"DK5FH","BM137","ARMIN",null,null,null,null,null,null,null,null,null,null,null,null,null,null,null,null,"BM"]
[118,"DB1HBA","BM138","HELENE",null,null,null,null,null,null,null,null,null,null,null,null,null,null,null,null,"BM"]
[119,"ON5CF","BM139","ROBERT",null,null,null,null,null,null,null,null,null,null,null,null,null,null,null,null,"BM"]
[120,"ON4AAK","BM142","MARC",null,null,null,null,null,null,null,null,null,null,null,null,null,null,null,null,"BM"]
[121,"ON3CAT","BM143","TUYARTS",null,null,null,null,null,null,null,null,null,null,null,null,null,null,null,null,"BM"]
[122,"ON3OPA","BM144","ANDRE",null,null,null,null,null,null,null,null,null,null,null,null,null,null,null,null,"BM"]
[123,"ON8CQ","BM145","WALTER",null,null,null,null,null,null,null,null,null,null,null,null,null,null,null,null,"BM"]
[124,"ON7STV","BM146","STEFAN",null,null,null,null,null,null,null,null,null,null,null,null,null,null,null,null,"BM"]
[125,"ON3JPA","BM147","JEAN",null,null,null,null,null,null,null,null,null,null,null,null,null,null,null,null,"BM"]
[126,"ON3MKL","BM148","MICHEL",null,null,null,null,null,null,null,null,null,null,null,null,null,null,null,null,"BM"]
[127,"ON4UQ","BM149","ETIENNE",null,null,null,null,null,null,null,null,null,null,null,null,null,null,null,null,"BM"]
[128,"ON4DA","BM151","DIRK",null,null,null,null,null,null,null,null,null,null,null,null,null,null,null,null,"BM"]
[129,"ON5DRT","BM152","STEFAN",null,null,null,null,null,null,null,null,null,null,null,null,null,null,null,null,"BM"]
[130,"OE8NIK","CA003","NIK",null,null,null,null,null,null,null,null,null,null,null,null,null,null,null,null,{"$f":"LEFT(C131,2)","v":"CA"}]
[131,"DL6BAI","CA010","OLAF",null,null,null,null,null,null,null,null,null,null,null,null,null,null,null,null,"CA"]
[132,"OE8KIK","CA013","HANS",null,null,null,null,null,null,null,null,null,null,null,null,null,null,null,null,"CA"]
[133,"OE6FYG","CA015","HERBERT",null,null,null,null,null,null,null,null,null,null,null,null,null,null,null,null,"CA"]
[134,"OE3OLC","CA017","SEPP",null,null,null,null,null,null,null,null,null,null,null,null,null,null,null,null,"CA"]
[135,"DL1EKN","CA019","HANS",null,null,null,null,null,null,null,null,null,null,null,null,null,null,null,null,"CA"]
[136,"OE4FWE","CA021","FRANZ",null,null,null,null,null,null,null,null,null,null,null,null,null,null,null,null,"CA"]
[137,"OE5DCM ","CA024","KARL",null,null,null,null,null,null,null,null,null,null,null,null,null,null,null,null,"CA"]
[138,"OE4FCD","CA026","FRANZ",null,null,null,null,null,null,null,null,null,null,null,null,null,null,null,null,"CA"]
[139,"DL4NBE","CA028","LEO",null,null,null,null,null,null,null,null,null,null,null,null,null,null,null,null,"CA"]
[140,"DL9LBQ","CA029","SIEGFRIED",null,null,null,null,null,null,null,null,null,null,null,null,null,null,null,null,"CA"]
[141,"DL2HUM","CA031","MANFRED",null,null,null,null,null,null,null,null,null,null,null,null,null,null,null,null,"CA"]
[142,"DH7AFV","CA032","JURGRN",null,null,null,null,null,null,null,null,null,null,null,null,null,null,null,null,"CA"]
[143,"DF7PM ","CA033","MARIELUISE",null,null,null,null,null,null,null,null,null,null,null,null,null,null,null,null,"CA"]
[144,"DF7QN","CA034","HERMANN",null,null,null,null,null,null,null,null,null,null,null,null,null,null,null,null,"CA"]
[145,"OE6AIG","CA035","FRANZ",null,null,null,null,null,null,null,null,null,null,null,null,null,null,null,null,"CA"]
[146,"OE5RGP","CA036","ROBERT",null,null,null,null,null,null,null,null,null,null,null,null,null,null,null,null,"CA"]
[147,"OE3KJN ","CA037","HERBERT",null,null,null,null,null,null,null,null,null,null,null,null,null,null,null,null,"CA"]
[148,"OE1GTU","CA039","GERHARD",null,null,null,null,null,null,null,null,null,null,null,null,null,null,null,null,"CA"]
[149,"OE4GTU","CA039","GERHARD",null,null,null,null,null,null,null,null,null,null,null,null,null,null,null,null,"CA"]
[150,"OE6DPG ","CA040","GERHARD",null,null,null,null,null,null,null,null,null,null,null,null,null,null,null,null,"CA"]
[151,"OE8TZK ","CA041","HERBERT",null,null,null,null,null,null,null,null,null,null,null,null,null,null,null,null,"CA"]
[152,"OE6AKD","CA042","KURT",null,null,null,null,null,null,null,null,null,null,null,null,null,null,null,null,"CA"]
[153,"OE1JJB","CA043","HANNO",null,null,null,null,null,null,null,null,null,null,null,null,null,null,null,null,"CA"]
[154,"OE3REB","CA045","RON ",null,null,null,null,null,null,null,null,null,null,null,null,null,null,null,null,"CA"]
[155,"9A5JR","CA045","RON",null,null,null,null,null,null,null,null,null,null,null,null,null,null,null,null,"CA"]
[156,"OE6KCD","CA047","ERICH",null,null,null,null,null,null,null,null,null,null,null,null,null,null,null,null,"CA"]
[157,"OE6JSE","CA048","NANS",null,null,null,null,null,null,null,null,null,null,null,null,null,null,null,null,"CA"]
[158,"OE6VYD","CA049","VERONICA",null,null,null,null,null,null,null,null,null,null,null,null,null,null,null,null,"CA"]
[159,"ON4BRN","CA050","BMARS",null,null,null,null,null,null,null,null,null,null,null,null,null,null,null,null,"CA"]
[160,"OE2DMP","CA051","MARTIN",null,null,null,null,null,null,null,null,null,null,null,null,null,null,null,null,"CA"]
[161,"DJ7AC","CA053","WOLFANG",null,null,null,null,null,null,null,null,null,null,null,null,null,null,null,null,"CA"]
[162,"PA3EBA ","CA054","JAN",null,null,null,null,null,null,null,null,null,null,null,null,null,null,null,null,"CA"]
[163,"OE1FEB","CA055","FRANZ",null,null,null,null,null,null,null,null,null,null,null,null,null,null,null,null,"CA"]
[164,"OE3RNS","CA056","ROBERT",null,null,null,null,null,null,null,null,null,null,null,null,null,null,null,null,"CA"]
[165,"OE6NFK","CA058","WERNER",null,null,null,null,null,null,null,null,null,null,null,null,null,null,null,null,"CA"]
[166,"G0FEK","CA059","BOB ",null,null,null,null,null,null,null,null,null,null,null,null,null,null,null,null,"CA"]
[167,"ON4AGV","CA062","RUDY",null,null,null,null,null,null,null,null,null,null,null,null,null,null,null,null,"CA"]
[168,"WA1HMW","CA063","BILLI",null,null,null,null,null,null,null,null,null,null,null,null,null,null,null,null,"CA"]
[169,"DL9SJ","CA066","PETER",null,null,null,null,null,null,null,null,null,null,null,null,null,null,null,null,"CA"]
[170,"DK9OS","CA068","HANS",null,null,null,null,null,null,null,null,null,null,null,null,null,null,null,null,"CA"]
[171,"DF6LI ","CA069","KLAUS",null,null,null,null,null,null,null,null,null,null,null,null,null,null,null,null,"CA"]
[172,"DL1EEW","CA071","WIN",null,null,null,null,null,null,null,null,null,null,null,null,null,null,null,null,"CA"]
[173,"DL6DCC","CA072","BRIGITTE",null,null,null,null,null,null,null,null,null,null,null,null,null,null,null,null,"CA"]
[174,"DL5XI ","CA075","HARALD",null,null,null,null,null,null,null,null,null,null,null,null,null,null,null,null,"CA"]
[175,"OE1WED","CA079","GERHARD",null,null,null,null,null,null,null,null,null,null,null,null,null,null,null,null,"CA"]
[176,"OE8WED ","CA079","GERHARD",null,null,null,null,null,null,null,null,null,null,null,null,null,null,null,null,"CA"]
[177,"OE3GGS","CA080","GUSTAV",null,null,null,null,null,null,null,null,null,null,null,null,null,null,null,null,"CA"]
[178,"F5VHQ","CA081","JOHN",null,null,null,null,null,null,null,null,null,null,null,null,null,null,null,null,"CA"]
[179,"ON4CBM","CA082","BERT",null,null,null,null,null,null,null,null,null,null,null,null,null,null,null,null,"CA"]
[180,"DL1NL ","CA083","FRED",null,null,null,null,null,null,null,null,null,null,null,null,null,null,null,null,"CA"]
[181,"ON4CBI","CA085","CHRISTI",null,null,null,null,null,null,null,null,null,null,null,null,null,null,null,null,"CA"]
[182,"DL9UAA","CA086","GUN",null,null,null,null,null,null,null,null,null,null,null,null,null,null,null,null,"CA"]
[183,"OE6FRD","CA087","PETER",null,null,null,null,null,null,null,null,null,null,null,null,null,null,null,null,"CA"]
[184,"DH1LAO ","CA090","VOLKER",null,null,null,null,null,null,null,null,null,null,null,null,null,null,null,null,"CA"]
[185,"OE1MBW ","CA091","MARTIN",null,null,null,null,null,null,null,null,null,null,null,null,null,null,null,null,"CA"]
[186,"OE6GWG ","CA092","WERNER",null,null,null,null,null,null,null,null,null,null,null,null,null,null,null,null,"CA"]
[187,"NN6N ","CA095","FRANZ",null,null,null,null,null,null,null,null,null,null,null,null,null,null,null,null,"CA"]
[188,"OE3CDS ","CA096","CHRIS",null,null,null,null,null,null,null,null,null,null,null,null,null,null,null,null,"CA"]
[189,"OE5LKL ","CA097","KLAUS",null,null,null,null,null,null,null,null,null,null,null,null,null,null,null,null,"CA"]
[190,"OE1KMB ","CA098","CHARLI",null,null,null,null,null,null,null,null,null,null,null,null,null,null,null,null,"CA"]
[191,"OE3SOB ","CA099","SIGI",null,null,null,null,null,null,null,null,null,null,null,null,null,null,null,null,"CA"]
[192,"OE6XMF ","CA100","MFCA",null,null,null,null,null,null,null,null,null,null,null,null,null,null,null,null,"CA"]
[193,"OE6NZG","CA101","GUNTRAM",null,null,null,null,null,null,null,null,null,null,null,null,null,null,null,null,"CA"]
[194,"DK9HH  ","CA104","HEINZ",null,null,null,null,null,null,null,null,null,null,null,null,null,null,null,null,{"$f":"LEFT(C195,2)","v":"CA"}]
[195,"OE6HPF","CA106","HEINZ",null,null,null,null,null,null,null,null,null,null,null,null,null,null,null,null,"CA"]
[196,"DE1GSW  ","CA108","GERD",null,null,null,null,null,null,null,null,null,null,null,null,null,null,null,null,"CA"]
[197,"OE1TKW ","CA109","HELMUT",null,null,null,null,null,null,null,null,null,null,null,null,null,null,null,null,"CA"]
[198,"ON4CKZ","CA110","PATRICK",null,null,null,null,null,null,null,null,null,null,null,null,null,null,null,null,"CA"]
[199,"HB9DAR","CA111","JOSEPH",null,null,null,null,null,null,null,null,null,null,null,null,null,null,null,null,"CA"]
[200,"OE6GKG ","CA112","KLAUS",null,null,null,null,null,null,null,null,null,null,null,null,null,null,null,null,"CA"]
[201,"OE1PZC","CA113","PETER",null,null,null,null,null,null,null,null,null,null,null,null,null,null,null,null,"CA"]
[202,"DM6PA","CA114","JOHN",null,null,null,null,null,null,null,null,null,null,null,null,null,null,null,null,"CA"]
[203,"IT9MRM","CA117","ALBERTO",null,null,null,null,null,null,null,null,null,null,null,null,null,null,null,null,"CA"]
[204,"G0ELZ ","CA119","BILL ",null,null,null,null,null,null,null,null,null,null,null,null,null,null,null,null,"CA"]
[205,"ON7CK","CA123","JAAK",null,null,null,null,null,null,null,null,null,null,null,null,null,null,null,null,"CA"]
[206,"OE5BRP","CA125","HANS",null,null,null,null,null,null,null,null,null,null,null,null,null,null,null,null,"CA"]
[207,"OE8AJK","CA126","ALFONS",null,null,null,null,null,null,null,null,null,null,null,null,null,null,null,null,"CA"]
[208,"DL7DG","CA127","DIETER",null,null,null,null,null,null,null,null,null,null,null,null,null,null,null,null,"CA"]
[209,"G3LIK ","CA129","MICK",null,null,null,null,null,null,null,null,null,null,null,null,null,null,null,null,"CA"]
[210,"OE5YDL ","CA130","BARBARA",null,null,null,null,null,null,null,null,null,null,null,null,null,null,null,null,"CA"]
[211,"OE1EOA ","CA133","ERNST",null,null,null,null,null,null,null,null,null,null,null,null,null,null,null,null,"CA"]
[212,"OE4PWW","CA135","WALTER",null,null,null,null,null,null,null,null,null,null,null,null,null,null,null,null,"CA"]
[213,"OE5OZL ","CA136","OTTO",null,null,null,null,null,null,null,null,null,null,null,null,null,null,null,null,"CA"]
[214,"OE1DPW","CA137","DIETMAR",null,null,null,null,null,null,null,null,null,null,null,null,null,null,null,null,"CA"]
[215,"OE3KJN","CA138","HERA",null,null,null,null,null,null,null,null,null,null,null,null,null,null,null,null,"CA"]
[216,"R5GM ","CA140","YURI",null,null,null,null,null,null,null,null,null,null,null,null,null,null,null,null,"CA"]
[217,"DK6LH","CA141","GUENTER",null,null,null,null,null,null,null,null,null,null,null,null,null,null,null,null,"CA"]
[218,"OE3FFC","CA143","FRANZ",null,null,null,null,null,null,null,null,null,null,null,null,null,null,null,null,"CA"]
[219,"OE9LGH","CA144","GERHARD",null,null,null,null,null,null,null,null,null,null,null,null,null,null,null,null,"CA"]
[220,"CT1CZT","CA145","ANTONIO",null,null,null,null,null,null,null,null,null,null,null,null,null,null,null,null,"CA"]
[221,"OE3RBS","CA146","REINHOLD",null,null,null,null,null,null,null,null,null,null,null,null,null,null,null,null,"CA"]
[222,"G0TOC","CA147","MARC",null,null,null,null,null,null,null,null,null,null,null,null,null,null,null,null,"CA"]
[223,"DK7FX","CA149","EDMUND",null,null,null,null,null,null,null,null,null,null,null,null,null,null,null,null,"CA"]
[224,"PI4MRC ","CA150","MARAC",null,null,null,null,null,null,null,null,null,null,null,null,null,null,null,null,"CA"]
[225,"OE1DGW","CA151","GERHARD",null,null,null,null,null,null,null,null,null,null,null,null,null,null,null,null,"CA"]
[226,"OE4DGW","CA151","GERHARD",null,null,null,null,null,null,null,null,null,null,null,null,null,null,null,null,"CA"]
[227,"DJ2IT","CA152","ERNST",null,null,null,null,null,null,null,null,null,null,null,null,null,null,null,null,"CA"]
[228,"EA6AFS","CA152","ERNST",null,null,null,null,null,null,null,null,null,null,null,null,null,null,null,null,"CA"]
[229,"OE6LUG","CA153","LOTHAR",null,null,null,null,null,null,null,null,null,null,null,null,null,null,null,null,"CA"]
[230,"OE1RHC","CA154","REINHARD",null,null,null,null,null,null,null,null,null,null,null,null,null,null,null,null,"CA"]
[231,"OE5TET","CA155","GERALD",null,null,null,null,null,null,null,null,null,null,null,null,null,null,null,null,"CA"]
[232,"OE6FTE","CA156","ALEXANDER",null,null,null,null,null,null,null,null,null,null,null,null,null,null,null,null,"CA"]
[233,"DL4BCG","CA160","PAUL",null,null,null,null,null,null,null,null,null,null,null,null,null,null,null,null,"CA"]
[234,"DL0MFM","CA200","CLUB MF",null,null,null,null,null,null,null,null,null,null,null,null,null,null,null,null,"CA"]
[235,"CS5NRA","CA250","CLUB NRA",null,null,null,null,null,null,null,null,null,null,null,null,null,null,null,null,"CA"]
[236,"DL0MKW","CA300","MK WESEL",null,null,null,null,null,null,null,null,null,null,null,null,null,null,null,null,"CA"]
[237,"OE3XHS","CA350","FHS-CLUBSTATION",null,null,null,null,null,null,null,null,null,null,null,null,null,null,null,null,"CA"]
[238,"OH1LD","FN001","ARTO",null,null,null,null,null,null,null,null,null,null,null,null,null,null,null,null,"FN"]
[239,"OH1WR ","FN002","RAUNO",null,null,null,null,null,null,null,null,null,null,null,null,null,null,null,null,"FN"]
[240,"OH1MQ ","FN003","SULO",null,null,null,null,null,null,null,null,null,null,null,null,null,null,null,null,"FN"]
[241,"OH1ZK ","FN005","JUHANI",null,null,null,null,null,null,null,null,null,null,null,null,null,null,null,null,"FN"]
[242,"OH1JM ","FN006","JAAKKO",null,null,null,null,null,null,null,null,null,null,null,null,null,null,null,null,"FN"]
[243,"OH1PP ","FN007","PEKKA",null,null,null,null,null,null,null,null,null,null,null,null,null,null,null,null,"FN"]
[244,"OH1LR ","FN008","KALLE",null,null,null,null,null,null,null,null,null,null,null,null,null,null,null,null,"FN"]
[245,"OH2BEF","FN009","RAIMO",null,null,null,null,null,null,null,null,null,null,null,null,null,null,null,null,"FN"]
[246,"OH1KW ","FN011","ANTERO",null,null,null,null,null,null,null,null,null,null,null,null,null,null,null,null,"FN"]
[247,"OH2RL","FN016","VEIKO",null,null,null,null,null,null,null,null,null,null,null,null,null,null,null,null,"FN"]
[248,"OH3RU ","FN017","HEIKKI",null,null,null,null,null,null,null,null,null,null,null,null,null,null,null,null,"FN"]
[249,"OH1FQ ","FN018","ERKKI",null,null,null,null,null,null,null,null,null,null,null,null,null,null,null,null,"FN"]
[250,"OH1CO ","FN019","JOUNI",null,null,null,null,null,null,null,null,null,null,null,null,null,null,null,null,"FN"]
[251,"OH1PE ","FN020","JUHA",null,null,null,null,null,null,null,null,null,null,null,null,null,null,null,null,"FN"]
[252,"OH1MIE","FN021","VEIKKO",null,null,null,null,null,null,null,null,null,null,null,null,null,null,null,null,"FN"]
[253,"OH1LT ","FN022","REINO",null,null,null,null,null,null,null,null,null,null,null,null,null,null,null,null,"FN"]
[254,"OH6IG ","FN024","SEPPO",null,null,null,null,null,null,null,null,null,null,null,null,null,null,null,null,"FN"]
[255,"OH1NHU","FN025","VESA",null,null,null,null,null,null,null,null,null,null,null,null,null,null,null,null,"FN"]
[256,"OH1CM ","FN026","KIMMO",null,null,null,null,null,null,null,null,null,null,null,null,null,null,null,null,"FN"]
[257,"OH1NYD","FN027","OLAVI",null,null,null,null,null,null,null,null,null,null,null,null,null,null,null,null,"FN"]
[258,"OH3GI","FN028","ASKO",null,null,null,null,null,null,null,null,null,null,null,null,null,null,null,null,{"$f":"LEFT(C259,2)","v":"FN"}]
[259,"OH1CK ","FN029","HEIKKI",null,null,null,null,null,null,null,null,null,null,null,null,null,null,null,null,"FN"]
[260,"OH6RJ ","FN030","KALEVI",null,null,null,null,null,null,null,null,null,null,null,null,null,null,null,null,"FN"]
[261,"OH1UP","FN031","ERKKI",null,null,null,null,null,null,null,null,null,null,null,null,null,null,null,null,"FN"]
[262,"OH6UP","FN031","ERKKI",null,null,null,null,null,null,null,null,null,null,null,null,null,null,null,null,"FN"]
[263,"OH1SR","FN032","RAINER",null,null,null,null,null,null,null,null,null,null,null,null,null,null,null,null,"FN"]
[264,"SM3IIB","FN033","VEIKKO",null,null,null,null,null,null,null,null,null,null,null,null,null,null,null,null,"FN"]
[265,"OH6MHN","FN034","LEEVI",null,null,null,null,null,null,null,null,null,null,null,null,null,null,null,null,"FN"]
[266,"ON4AGV","FN035","RUDI",null,null,null,null,null,null,null,null,null,null,null,null,null,null,null,null,"FN"]
[267,"OH1MVO","FN036","ESA",null,null,null,null,null,null,null,null,null,null,null,null,null,null,null,null,"FN"]
[268,"OH1KYN","FN038","ESA",null,null,null,null,null,null,null,null,null,null,null,null,null,null,null,null,"FN"]
[269,"I6HWD","FN040","DOMENICO",null,null,null,null,null,null,null,null,null,null,null,null,null,null,null,null,"FN"]
[270,"DL5XI","FN041","HARALD",null,null,null,null,null,null,null,null,null,null,null,null,null,null,null,null,"FN"]
[271,"RZ6MF","FN043","SERGEY",null,null,null,null,null,null,null,null,null,null,null,null,null,null,null,null,"FN"]
[272,"OH1KZI","FN044","JARI",null,null,null,null,null,null,null,null,null,null,null,null,null,null,null,null,"FN"]
[273,"OH1BGG","FN045","LASSE",null,null,null,null,null,null,null,null,null,null,null,null,null,null,null,null,"FN"]
[274,"OH1JX","FN046","ANTERO",null,null,null,null,null,null,null,null,null,null,null,null,null,null,null,null,"FN"]
[275,"OH2BCV","FN047","RISTO",null,null,null,null,null,null,null,null,null,null,null,null,null,null,null,null,"FN"]
[276,"OH8UL","FN048","JORMA",null,null,null,null,null,null,null,null,null,null,null,null,null,null,null,null,"FN"]
[277,"OH1UC","FN049","JAAKKO",null,null,null,null,null,null,null,null,null,null,null,null,null,null,null,null,"FN"]
[278,"OH1NM","FN050","REIJO",null,null,null,null,null,null,null,null,null,null,null,null,null,null,null,null,"FN"]
[279,"OH2NII","FN051","CARL",null,null,null,null,null,null,null,null,null,null,null,null,null,null,null,null,"FN"]
[280,"OH1NC","FN053","SEPPO",null,null,null,null,null,null,null,null,null,null,null,null,null,null,null,null,"FN"]
[281,"CT1CZT","FN054","ANTONIO",null,null,null,null,null,null,null,null,null,null,null,null,null,null,null,null,"FN"]
[282,"OH1GGJ","FN055","JOUKO",null,null,null,null,null,null,null,null,null,null,null,null,null,null,null,null,"FN"]
[283,"OH2BVB","FN056","RISTO",null,null,null,null,null,null,null,null,null,null,null,null,null,null,null,null,"FN"]
[284,"OH1EG","FN057","MERJA",null,null,null,null,null,null,null,null,null,null,null,null,null,null,null,null,"FN"]
[285,"OH1SJ","FN058","ASKO",null,null,null,null,null,null,null,null,null,null,null,null,null,null,null,null,"FN"]
[286,"OH1NPW","FN059","JYRKI",null,null,null,null,null,null,null,null,null,null,null,null,null,null,null,null,"FN"]
[287,"OH1AJ ","FN100","FNARS",null,null,null,null,null,null,null,null,null,null,null,null,null,null,null,null,"FN"]
[288,"OH1NAVY","FN150","CLUB",null,null,null,null,null,null,null,null,null,null,null,null,null,null,null,null,"FN"]
[289,"OH1AT ","FN200","FNARS",null,null,null,null,null,null,null,null,null,null,null,null,null,null,null,null,"FN"]
[290,"OI1AY ","FN300","FNARS",null,null,null,null,null,null,null,null,null,null,null,null,null,null,null,null,"FN"]
[291,"OI1AXA","FN400","MUSEUM",null,null,null,null,null,null,null,null,null,null,null,null,null,null,null,null,"FN"]
[292,"OI2HJ ","FN500","BASE",null,null,null,null,null,null,null,null,null,null,null,null,null,null,null,null,"FN"]
[293,"ON4BRN","FN600","BMARS",null,null,null,null,null,null,null,null,null,null,null,null,null,null,null,null,"FN"]
[294,"IT9PBR","IN004","PIERO",null,null,null,null,null,null,null,null,null,null,null,null,null,null,null,null,"IN"]
[295,"I0PAB","IN033","GIOVANNI",null,null,null,null,null,null,null,null,null,null,null,null,null,null,null,null,"IN"]
[296,"IZ7DJR","IN035","GAETANO",null,null,null,null,null,null,null,null,null,null,null,null,null,null,null,null,"IN"]
[297,"IC8CQF","IN036","PASQUALE",null,null,null,null,null,null,null,null,null,null,null,null,null,null,null,null,"IN"]
[298,"I1ZB","IN051","ANTONIO",null,null,null,null,null,null,null,null,null,null,null,null,null,null,null,null,"IN"]
[299,"IV3TRK","IN056","SILVIO",null,null,null,null,null,null,null,null,null,null,null,null,null,null,null,null,"IN"]
[300,"I4AND","IN065","NICOLINO",null,null,null,null,null,null,null,null,null,null,null,null,null,null,null,null,"IN"]
[301,"I5NQK","IN102","ANTONIO",null,null,null,null,null,null,null,null,null,null,null,null,null,null,null,null,"IN"]
[302,"IT9NJE","IN107","EUGENIO",null,null,null,null,null,null,null,null,null,null,null,null,null,null,null,null,"IN"]
[303,"I8SCY","IN110","GIOVANNI",null,null,null,null,null,null,null,null,null,null,null,null,null,null,null,null,"IN"]
[304,"I4CQO","IN112","GIACOMO",null,null,null,null,null,null,null,null,null,null,null,null,null,null,null,null,"IN"]
[305,"IT9JDB","IN125","ONOFRIO",null,null,null,null,null,null,null,null,null,null,null,null,null,null,null,null,"IN"]
[306,"W8KJP","IN133","DEL E.",null,null,null,null,null,null,null,null,null,null,null,null,null,null,null,null,"IN"]
[307,"IK1AUS","IN134","LUCA",null,null,null,null,null,null,null,null,null,null,null,null,null,null,null,null,"IN"]
[308,"I1FEQ","IN141","FERNANDO",null,null,null,null,null,null,null,null,null,null,null,null,null,null,null,null,"IN"]
[309,"IK1CCS","IN147","FERRUCCIO",null,null,null,null,null,null,null,null,null,null,null,null,null,null,null,null,"IN"]
[310,"DL0MF","IN160","CLUB MF",null,null,null,null,null,null,null,null,null,null,null,null,null,null,null,null,"IN"]
[311,"I3DBD","IN163","DINO",null,null,null,null,null,null,null,null,null,null,null,null,null,null,null,null,"IN"]
[312,"I3FDZ","IN168","FIORINO",null,null,null,null,null,null,null,null,null,null,null,null,null,null,null,null,"IN"]
[313,"I0UYI","IN176","ROVERTO",null,null,null,null,null,null,null,null,null,null,null,null,null,null,null,null,"IN"]
[314,"I7OEB","IN177","MAURO",null,null,null,null,null,null,null,null,null,null,null,null,null,null,null,null,"IN"]
[315,"G3LIK","IN185","MICK",null,null,null,null,null,null,null,null,null,null,null,null,null,null,null,null,"IN"]
[316,"HB9ASZ","IN191","BERNHARD",null,null,null,null,null,null,null,null,null,null,null,null,null,null,null,null,"IN"]
[317,"IK8FIQ","IN200","AGOSTINO",null,null,null,null,null,null,null,null,null,null,null,null,null,null,null,null,"IN"]
[318,"IK7IBC","IN230","GIROLAMO",null,null,null,null,null,null,null,null,null,null,null,null,null,null,null,null,"IN"]
[319,"IK6ARS","IN232","DANIELE",null,null,null,null,null,null,null,null,null,null,null,null,null,null,null,null,"IN"]
[320,"IK2ILG","IN236","NORIS",null,null,null,null,null,null,null,null,null,null,null,null,null,null,null,null,"IN"]
[321,"IK8ACR","IN240","MICHELANGELO",null,null,null,null,null,null,null,null,null,null,null,null,null,null,null,null,"IN"]
[322,"IK0AAE","IN241","DAMIANO",null,null,null,null,null,null,null,null,null,null,null,null,null,null,null,null,{"$f":"LEFT(C323,2)","v":"IN"}]
[323,"OE8NIK","IN242","NIK",null,null,null,null,null,null,null,null,null,null,null,null,null,null,null,null,"IN"]
[324,"I1FLC","IN258","LUIGI",null,null,null,null,null,null,null,null,null,null,null,null,null,null,null,null,"IN"]
[325,"IK3OGI","IN263","SALVATORE",null,null,null,null,null,null,null,null,null,null,null,null,null,null,null,null,"IN"]
[326,"IK2NUX","IN277","FRANCESCO",null,null,null,null,null,null,null,null,null,null,null,null,null,null,null,null,"IN"]
[327,"IK1QBT","IN292","ANTONIO",null,null,null,null,null,null,null,null,null,null,null,null,null,null,null,null,"IN"]
[328,"IK1DPA","IN301","ROBERTO",null,null,null,null,null,null,null,null,null,null,null,null,null,null,null,null,"IN"]
[329,"IK1PML","IN303","OTTAVIO",null,null,null,null,null,null,null,null,null,null,null,null,null,null,null,null,"IN"]
[330,"IK0AWQ","IN318","DOMENICO",null,null,null,null,null,null,null,null,null,null,null,null,null,null,null,null,"IN"]
[331,"IK2SOE","IN325","ANDREA",null,null,null,null,null,null,null,null,null,null,null,null,null,null,null,null,"IN"]
[332,"IK2UJF","IN327","ERMANNO",null,null,null,null,null,null,null,null,null,null,null,null,null,null,null,null,"IN"]
[333,"IK0UQX","IN328","LUIGI",null,null,null,null,null,null,null,null,null,null,null,null,null,null,null,null,"IN"]
[334,"IT9DSA","IN333","ANTONIO",null,null,null,null,null,null,null,null,null,null,null,null,null,null,null,null,"IN"]
[335,"I3TXQ","IN336","GIULIO",null,null,null,null,null,null,null,null,null,null,null,null,null,null,null,null,"IN"]
[336,"I6HWD","IN337","DOMENICO",null,null,null,null,null,null,null,null,null,null,null,null,null,null,null,null,"IN"]
[337,"IK0XBE","IN338","GIOVANNI",null,null,null,null,null,null,null,null,null,null,null,null,null,null,null,null,"IN"]
[338,"I6FDJ","IN342","FILIPPO",null,null,null,null,null,null,null,null,null,null,null,null,null,null,null,null,"IN"]
[339,"IK7TVE","IN348","PASQUALE",null,null,null,null,null,null,null,null,null,null,null,null,null,null,null,null,"IN"]
[340,"IK5SRJ","IN351","LORENZO",null,null,null,null,null,null,null,null,null,null,null,null,null,null,null,null,"IN"]
[341,"IK0PRH","IN364","BIAGIO",null,null,null,null,null,null,null,null,null,null,null,null,null,null,null,null,"IN"]
[342,"IM0SDX","IN366","PIERGIORGIO",null,null,null,null,null,null,null,null,null,null,null,null,null,null,null,null,"IN"]
[343,"I2XBO","IN367","ADRIANO",null,null,null,null,null,null,null,null,null,null,null,null,null,null,null,null,"IN"]
[344,"IZ6BUV","IN370","LEONARDO",null,null,null,null,null,null,null,null,null,null,null,null,null,null,null,null,"IN"]
[345,"I1OXO","IN371","UMBERTO",null,null,null,null,null,null,null,null,null,null,null,null,null,null,null,null,"IN"]
[346,"IT9ULI","IN375","FRANCESCO",null,null,null,null,null,null,null,null,null,null,null,null,null,null,null,null,"IN"]
[347,"IZ3DRU","IN385","FERNANDO",null,null,null,null,null,null,null,null,null,null,null,null,null,null,null,null,"IN"]
[348,"I1PIM","IN389","MARIO",null,null,null,null,null,null,null,null,null,null,null,null,null,null,null,null,"IN"]
[349,"IZ1CDM","IN393","ROBERTO",null,null,null,null,null,null,null,null,null,null,null,null,null,null,null,null,"IN"]
[350,"IT9DNW","IN396","SALVATORE",null,null,null,null,null,null,null,null,null,null,null,null,null,null,null,null,"IN"]
[351,"I1OFN","IN399","LAURA",null,null,null,null,null,null,null,null,null,null,null,null,null,null,null,null,"IN"]
[352,"I7OHP","IN426","OSCAR",null,null,null,null,null,null,null,null,null,null,null,null,null,null,null,null,"IN"]
[353,"IK8VRP","IN429","ANDREA",null,null,null,null,null,null,null,null,null,null,null,null,null,null,null,null,"IN"]
[354,"I0WOK","IN431","CARLO",null,null,null,null,null,null,null,null,null,null,null,null,null,null,null,null,"IN"]
[355,"IT9ULN","IN445","ANGELO",null,null,null,null,null,null,null,null,null,null,null,null,null,null,null,null,"IN"]
[356,"I0YQX","IN452","ITALO",null,null,null,null,null,null,null,null,null,null,null,null,null,null,null,null,"IN"]
[357,"IZ0AIP ","IN453","STEFANO",null,null,null,null,null,null,null,null,null,null,null,null,null,null,null,null,"IN"]
[358,"ON0AIP","IN453","STEFANO",null,null,null,null,null,null,null,null,null,null,null,null,null,null,null,null,"IN"]
[359,"IK0ZWZ","IN454","MASSIMO",null,null,null,null,null,null,null,null,null,null,null,null,null,null,null,null,"IN"]
[360,"I2CZQ","IN458","PIETRO",null,null,null,null,null,null,null,null,null,null,null,null,null,null,null,null,"IN"]
[361,"IK0ZTB","IN463","MASSIMO",null,null,null,null,null,null,null,null,null,null,null,null,null,null,null,null,"IN"]
[362,"I2QIL","IN472","ANTONIO",null,null,null,null,null,null,null,null,null,null,null,null,null,null,null,null,"IN"]
[363,"F6IIE","IN480","MAURICE",null,null,null,null,null,null,null,null,null,null,null,null,null,null,null,null,"IN"]
[364,"I2AZ","IN481","GIUSEPPE",null,null,null,null,null,null,null,null,null,null,null,null,null,null,null,null,"IN"]
[365,"IT9SIJ","IN490","GAETANO",null,null,null,null,null,null,null,null,null,null,null,null,null,null,null,null,"IN"]
[366,"IK0XKN","IN497","GIOVANNI",null,null,null,null,null,null,null,null,null,null,null,null,null,null,null,null,"IN"]
[367,"I7PXV","IN499","VINCENZO",null,null,null,null,null,null,null,null,null,null,null,null,null,null,null,null,"IN"]
[368,"IZ4AGI","IN501","MAURIZIO",null,null,null,null,null,null,null,null,null,null,null,null,null,null,null,null,"IN"]
[369,"IK1WNO","IN509","ENRICO",null,null,null,null,null,null,null,null,null,null,null,null,null,null,null,null,"IN"]
[370,"I1UP","IN511","GIORGIO",null,null,null,null,null,null,null,null,null,null,null,null,null,null,null,null,"IN"]
[371,"IZ0EHW","IN513","GAETANO",null,null,null,null,null,null,null,null,null,null,null,null,null,null,null,null,"IN"]
[372,"IK1EZC","IN516","MICHELINO",null,null,null,null,null,null,null,null,null,null,null,null,null,null,null,null,"IN"]
[373,"IK8CQH","IN519","GIOVANNI",null,null,null,null,null,null,null,null,null,null,null,null,null,null,null,null,"IN"]
[374,"IZ6FYI","IN520","GIUSEPPE",null,null,null,null,null,null,null,null,null,null,null,null,null,null,null,null,"IN"]
[375,"IS0UWX","IN528","MARCO",null,null,null,null,null,null,null,null,null,null,null,null,null,null,null,null,"IN"]
[376,"IS0HQJ","IN529","FRANCO",null,null,null,null,null,null,null,null,null,null,null,null,null,null,null,null,"IN"]
[377,"IK5SRD","IN531","ANDREA",null,null,null,null,null,null,null,null,null,null,null,null,null,null,null,null,"IN"]
[378,"IK1VEI","IN532","MARIO",null,null,null,null,null,null,null,null,null,null,null,null,null,null,null,null,"IN"]
[379,"N2DE","IN533","ULRICH",null,null,null,null,null,null,null,null,null,null,null,null,null,null,null,null,"IN"]
[380,"IK2CZQ","IN534","ANTONIO",null,null,null,null,null,null,null,null,null,null,null,null,null,null,null,null,"IN"]
[381,"I5SKK","IN536","ALESSANDRO",null,null,null,null,null,null,null,null,null,null,null,null,null,null,null,null,"IN"]
[382,"IK0BOU","IN537","PAOLO",null,null,null,null,null,null,null,null,null,null,null,null,null,null,null,null,"IN"]
[383,"9A2ZR","IN538","DUSAN",null,null,null,null,null,null,null,null,null,null,null,null,null,null,null,null,"IN"]
[384,"HB9EHV","IN538","DUSAN",null,null,null,null,null,null,null,null,null,null,null,null,null,null,null,null,"IN"]
[385,"IK4UQK","IN539","FRANCO",null,null,null,null,null,null,null,null,null,null,null,null,null,null,null,null,"IN"]
[386,"IK1YBL","IN542","PAOLO",null,null,null,null,null,null,null,null,null,null,null,null,null,null,null,null,{"$f":"LEFT(C387,2)","v":"IN"}]
[387,"IZ0DBA","IN544","GIACOMO",null,null,null,null,null,null,null,null,null,null,null,null,null,null,null,null,"IN"]
[388,"IT9NCO","IN549","ANTONIO",null,null,null,null,null,null,null,null,null,null,null,null,null,null,null,null,"IN"]
[389,"IK5TSZ","IN552","PATRIZIO",null,null,null,null,null,null,null,null,null,null,null,null,null,null,null,null,"IN"]
[390,"I1XSG","IN557","GIANFRANCO",null,null,null,null,null,null,null,null,null,null,null,null,null,null,null,null,"IN"]
[391,"I4CEA","IN559","CARLO",null,null,null,null,null,null,null,null,null,null,null,null,null,null,null,null,"IN"]
[392,"I4OYU","IN562","GABRIELLA",null,null,null,null,null,null,null,null,null,null,null,null,null,null,null,null,"IN"]
[393,"IZ3GHP","IN566","MAT",null,null,null,null,null,null,null,null,null,null,null,null,null,null,null,null,"IN"]
[394,"I6MAT","IN568","GIORGIO",null,null,null,null,null,null,null,null,null,null,null,null,null,null,null,null,"IN"]
[395,"RW3GA","IN570","YURI",null,null,null,null,null,null,null,null,null,null,null,null,null,null,null,null,"IN"]
[396,"IK3TZB","IN572","GINO",null,null,null,null,null,null,null,null,null,null,null,null,null,null,null,null,"IN"]
[397,"IK0LZR","IN573","RAUL",null,null,null,null,null,null,null,null,null,null,null,null,null,null,null,null,"IN"]
[398,"DL9CM","IN575","ROLF",null,null,null,null,null,null,null,null,null,null,null,null,null,null,null,null,"IN"]
[399,"IK2JUB","IN576","STEFANO",null,null,null,null,null,null,null,null,null,null,null,null,null,null,null,null,"IN"]
[400,"IN3FHE","IN577","HELGA",null,null,null,null,null,null,null,null,null,null,null,null,null,null,null,null,"IN"]
[401,"SV1UG","IN578","NASOS",null,null,null,null,null,null,null,null,null,null,null,null,null,null,null,null,"IN"]
[402,"UA0IDZ","IN580","IGOR",null,null,null,null,null,null,null,null,null,null,null,null,null,null,null,null,"IN"]
[403,"IK1XHN","IN582","DANILO",null,null,null,null,null,null,null,null,null,null,null,null,null,null,null,null,"IN"]
[404,"IZ4PHG","IN583","SALVATORE",null,null,null,null,null,null,null,null,null,null,null,null,null,null,null,null,"IN"]
[405,"IK5ZAA","IN584","ROBERTO",null,null,null,null,null,null,null,null,null,null,null,null,null,null,null,null,"IN"]
[406,"IT9RRU","IN585","MAURIZIO",null,null,null,null,null,null,null,null,null,null,null,null,null,null,null,null,"IN"]
[407,"I1GIS","IN586","DOBERTO",null,null,null,null,null,null,null,null,null,null,null,null,null,null,null,null,"IN"]
[408,"IZ0SPE","IN587","RINO",null,null,null,null,null,null,null,null,null,null,null,null,null,null,null,null,"IN"]
[409,"I5BYL","IN588","FRANCESCO",null,null,null,null,null,null,null,null,null,null,null,null,null,null,null,null,"IN"]
[410,"I8PXT","IN592","PIETRO",null,null,null,null,null,null,null,null,null,null,null,null,null,null,null,null,"IN"]
[411,"I2MDI","IN594","SILVANO",null,null,null,null,null,null,null,null,null,null,null,null,null,null,null,null,"IN"]
[412,"I5NXH","IN596","FABRIZIO",null,null,null,null,null,null,null,null,null,null,null,null,null,null,null,null,"IN"]
[413,"I1QII","IN600","DIEGO",null,null,null,null,null,null,null,null,null,null,null,null,null,null,null,null,"IN"]
[414,"IZ5GRS ","IN602","ANDREA",null,null,null,null,null,null,null,null,null,null,null,null,null,null,null,null,"IN"]
[415,"R7BN","IN606","VALERY",null,null,null,null,null,null,null,null,null,null,null,null,null,null,null,null,"IN"]
[416,"DL7DO","IN608","RALF",null,null,null,null,null,null,null,null,null,null,null,null,null,null,null,null,"IN"]
[417,"IS0PEV","IN609","SERGIO",null,null,null,null,null,null,null,null,null,null,null,null,null,null,null,null,"IN"]
[418,"W1ZMB","IN610","ANTONY",null,null,null,null,null,null,null,null,null,null,null,null,null,null,null,null,"IN"]
[419,"WB2LQF","IN611","STAN",null,null,null,null,null,null,null,null,null,null,null,null,null,null,null,null,"IN"]
[420,"PA7RA","IN612","RIEN",null,null,null,null,null,null,null,null,null,null,null,null,null,null,null,null,"IN"]
[421,"IZ2RBR","IN615","ESAU",null,null,null,null,null,null,null,null,null,null,null,null,null,null,null,null,"IN"]
[422,"IK2UWA","IN616","DANIELE",null,null,null,null,null,null,null,null,null,null,null,null,null,null,null,null,"IN"]
[423,"IK0TUJ","IN617","ANTONINO",null,null,null,null,null,null,null,null,null,null,null,null,null,null,null,null,"IN"]
[424,"IK6REB","IN618","SIMONE",null,null,null,null,null,null,null,null,null,null,null,null,null,null,null,null,"IN"]
[425,"IZ1VNT","IN620","ROBERTO",null,null,null,null,null,null,null,null,null,null,null,null,null,null,null,null,"IN"]
[426,"IT9BRY","IN622","AMERIGO",null,null,null,null,null,null,null,null,null,null,null,null,null,null,null,null,"IN"]
[427,"IK6DIN","IN623","ALCIDE",null,null,null,null,null,null,null,null,null,null,null,null,null,null,null,null,"IN"]
[428,"I6QON","IN624","MAURIZIO",null,null,null,null,null,null,null,null,null,null,null,null,null,null,null,null,"IN"]
[429,"IK1QAD","IN626","VALTER",null,null,null,null,null,null,null,null,null,null,null,null,null,null,null,null,"IN"]
[430,"IN3AEF","IN627","STEFANO",null,null,null,null,null,null,null,null,null,null,null,null,null,null,null,null,"IN"]
[431,"IW2MXE","IN628","DIEGO",null,null,null,null,null,null,null,null,null,null,null,null,null,null,null,null,"IN"]
[432,"IZ0TZI","IN629","GIOVANNI",null,null,null,null,null,null,null,null,null,null,null,null,null,null,null,null,"IN"]
[433,"IZ3NWT","IN631","TIZIANO",null,null,null,null,null,null,null,null,null,null,null,null,null,null,null,null,"IN"]
[434,"IK0PHU","IN632","ANTONELLO",null,null,null,null,null,null,null,null,null,null,null,null,null,null,null,null,"IN"]
[435,"IZ8NXG","IN634","RENATO",null,null,null,null,null,null,null,null,null,null,null,null,null,null,null,null,"IN"]
[436,"IK0NOJ","IN635","DANIELE",null,null,null,null,null,null,null,null,null,null,null,null,null,null,null,null,"IN"]
[437,"IZ8SWO","IN636","EVERALDO",null,null,null,null,null,null,null,null,null,null,null,null,null,null,null,null,"IN"]
[438,"I1MMN","IN638","MARIO",null,null,null,null,null,null,null,null,null,null,null,null,null,null,null,null,"IN"]
[439,"IK1RDN","IN639","PIER LUIGI",null,null,null,null,null,null,null,null,null,null,null,null,null,null,null,null,"IN"]
[440,"IZ6TGS","IN640","ADRIO",null,null,null,null,null,null,null,null,null,null,null,null,null,null,null,null,"IN"]
[441,"IT9XUA","IN643","FRANCESCO",null,null,null,null,null,null,null,null,null,null,null,null,null,null,null,null,"IN"]
[442,"I5ECW","IN645","VANNI",null,null,null,null,null,null,null,null,null,null,null,null,null,null,null,null,"IN"]
[443,"IT9IWU","IN646","ENZO",null,null,null,null,null,null,null,null,null,null,null,null,null,null,null,null,"IN"]
[444,"IC8FBU","IN647","ANTONIO",null,null,null,null,null,null,null,null,null,null,null,null,null,null,null,null,"IN"]
[445,"IK7OFI","IN648","GIUSEPPE",null,null,null,null,null,null,null,null,null,null,null,null,null,null,null,null,"IN"]
[446,"IZ4AYB","IN650","DANIELE",null,null,null,null,null,null,null,null,null,null,null,null,null,null,null,null,"IN"]
[447,"IU0AHC","IN651","FABRIZIO",null,null,null,null,null,null,null,null,null,null,null,null,null,null,null,null,"IN"]
[448,"IT9CKA","IN652","SERAFINO",null,null,null,null,null,null,null,null,null,null,null,null,null,null,null,null,"IN"]
[449,"IT9CLM","IN653","GIUSEPPE",null,null,null,null,null,null,null,null,null,null,null,null,null,null,null,null,"IN"]
[450,"IK7LSE","IN654","NICOLO'",null,null,null,null,null,null,null,null,null,null,null,null,null,null,null,null,{"$f":"LEFT(C451,2)","v":"IN"}]
[451,"IS0HMA","IN655","ANDREINO",null,null,null,null,null,null,null,null,null,null,null,null,null,null,null,null,"IN"]
[452,"IZ2FME","IN656","MICHELE",null,null,null,null,null,null,null,null,null,null,null,null,null,null,null,null,"IN"]
[453,"IZ0RGA","IN657","MANUEL",null,null,null,null,null,null,null,null,null,null,null,null,null,null,null,null,"IN"]
[454,"I1PJK","IN658","MAURIZIO",null,null,null,null,null,null,null,null,null,null,null,null,null,null,null,null,"IN"]
[455,"IU0HMB","IN659","VLADISLAV",null,null,null,null,null,null,null,null,null,null,null,null,null,null,null,null,"IN"]
[456,"IZ0KBW","IN660","LUIGI",null,null,null,null,null,null,null,null,null,null,null,null,null,null,null,null,"IN"]
[457,"PJ2VV","MA002","GERHARD",null,null,null,null,null,null,null,null,null,null,null,null,null,null,null,null,"MA"]
[458,"PA5UL","MA005","PAUL",null,null,null,null,null,null,null,null,null,null,null,null,null,null,null,null,"MA"]
[459,"PA3CWG","MA010","TESSELING",null,null,null,null,null,null,null,null,null,null,null,null,null,null,null,null,"MA"]
[460,"PD0MNF","MA011","NICO",null,null,null,null,null,null,null,null,null,null,null,null,null,null,null,null,"MA"]
[461,"PA0JAW","MA012","WIM",null,null,null,null,null,null,null,null,null,null,null,null,null,null,null,null,"MA"]
[462,"PA3CNI","MA014","VILLHEM",null,null,null,null,null,null,null,null,null,null,null,null,null,null,null,null,"MA"]
[463,"PA3DAU","MA023","AE",null,null,null,null,null,null,null,null,null,null,null,null,null,null,null,null,"MA"]
[464,"PA1D","MA024","DERK",null,null,null,null,null,null,null,null,null,null,null,null,null,null,null,null,"MA"]
[465,"PA2CHM","MA026","CH",null,null,null,null,null,null,null,null,null,null,null,null,null,null,null,null,"MA"]
[466,"PA3GXQ","MA027","BOERS",null,null,null,null,null,null,null,null,null,null,null,null,null,null,null,null,"MA"]
[467,"PD0CER","MA028","RON",null,null,null,null,null,null,null,null,null,null,null,null,null,null,null,null,"MA"]
[468,"PJ4LS","MA031","JLS",null,null,null,null,null,null,null,null,null,null,null,null,null,null,null,null,"MA"]
[469,"PA0JLS","MA031","JLS",null,null,null,null,null,null,null,null,null,null,null,null,null,null,null,null,"MA"]
[470,"PA7X","MA038","JH",null,null,null,null,null,null,null,null,null,null,null,null,null,null,null,null,"MA"]
[471,"ZS6C","MA040","JOOP",null,null,null,null,null,null,null,null,null,null,null,null,null,null,null,null,"MA"]
[472,"PD0GIP","MA047","GJA",null,null,null,null,null,null,null,null,null,null,null,null,null,null,null,null,"MA"]
[473,"PE2L0J","MA048","NN",null,null,null,null,null,null,null,null,null,null,null,null,null,null,null,null,"MA"]
[474,"PA0NAT","MA049","ZORG",null,null,null,null,null,null,null,null,null,null,null,null,null,null,null,null,"MA"]
[475,"PA0QLD","MA052","HJD",null,null,null,null,null,null,null,null,null,null,null,null,null,null,null,null,"MA"]
[476,"PA5JW","MA054","JAN",null,null,null,null,null,null,null,null,null,null,null,null,null,null,null,null,"MA"]
[477,"PA0VLA","MA055","JJN",null,null,null,null,null,null,null,null,null,null,null,null,null,null,null,null,"MA"]
[478,"PE1JBG","MA056","AE",null,null,null,null,null,null,null,null,null,null,null,null,null,null,null,null,"MA"]
[479,"DL0MF","MA060","MF",null,null,null,null,null,null,null,null,null,null,null,null,null,null,null,null,"MA"]
[480,"PA3CNK","MA070","ROOS",null,null,null,null,null,null,null,null,null,null,null,null,null,null,null,null,"MA"]
[481,"PA0TK","MA071","GJA",null,null,null,null,null,null,null,null,null,null,null,null,null,null,null,null,"MA"]
[482,"PA2HDY","MA082","DY.",null,null,null,null,null,null,null,null,null,null,null,null,null,null,null,null,"MA"]
[483,"PA3CUJ","MA083","SERRI",null,null,null,null,null,null,null,null,null,null,null,null,null,null,null,null,"MA"]
[484,"PA2JJB","MA084","JJN",null,null,null,null,null,null,null,null,null,null,null,null,null,null,null,null,"MA"]
[485,"PE1P0I","MA093","VINK",null,null,null,null,null,null,null,null,null,null,null,null,null,null,null,null,"MA"]
[486,"PD0NEM","MA094","MARIS",null,null,null,null,null,null,null,null,null,null,null,null,null,null,null,null,"MA"]
[487,"PI4MRC","MA100","MARAC",null,null,null,null,null,null,null,null,null,null,null,null,null,null,null,null,"MA"]
[488,"PA3DRA","MA105","NN",null,null,null,null,null,null,null,null,null,null,null,null,null,null,null,null,"MA"]
[489,"PD0OZN","MA111","DAVIS",null,null,null,null,null,null,null,null,null,null,null,null,null,null,null,null,"MA"]
[490,"PA3EBA","MA112","JAN",null,null,null,null,null,null,null,null,null,null,null,null,null,null,null,null,"MA"]
[491,"PA7FB","MA115","FRED",null,null,null,null,null,null,null,null,null,null,null,null,null,null,null,null,"MA"]
[492,"PA3DCQ","MA116","ROGER",null,null,null,null,null,null,null,null,null,null,null,null,null,null,null,null,"MA"]
[493,"PF9A","MA122","MARTIN",null,null,null,null,null,null,null,null,null,null,null,null,null,null,null,null,"MA"]
[494,"PE1KHR","MA129","LANGS",null,null,null,null,null,null,null,null,null,null,null,null,null,null,null,null,"MA"]
[495,"PA0ANK","MA130","MULLERS",null,null,null,null,null,null,null,null,null,null,null,null,null,null,null,null,"MA"]
[496,"PA3BWR","MA132","BIL",null,null,null,null,null,null,null,null,null,null,null,null,null,null,null,null,"MA"]
[497,"PA1LQS","MA144","NN",null,null,null,null,null,null,null,null,null,null,null,null,null,null,null,null,"MA"]
[498,"PA0BVD","MA150","VANDIJK",null,null,null,null,null,null,null,null,null,null,null,null,null,null,null,null,"MA"]
[499,"PA2REH","MA153","VAN",null,null,null,null,null,null,null,null,null,null,null,null,null,null,null,null,"MA"]
[500,"PA3EVY","MA164","WILLI",null,null,null,null,null,null,null,null,null,null,null,null,null,null,null,null,"MA"]
[501,"PA3EGH","MA173","JAN",null,null,null,null,null,null,null,null,null,null,null,null,null,null,null,null,"MA"]
[502,"PE1DMH","MA175","DORUS",null,null,null,null,null,null,null,null,null,null,null,null,null,null,null,null,"MA"]
[503,"PC2A","MA183","PETER",null,null,null,null,null,null,null,null,null,null,null,null,null,null,null,null,"MA"]
[504,"PA0ADG","MA187","GERHARD",null,null,null,null,null,null,null,null,null,null,null,null,null,null,null,null,"MA"]
[505,"PA3GKU","MA192","FAC",null,null,null,null,null,null,null,null,null,null,null,null,null,null,null,null,"MA"]
[506,"PD2PN","MA199","PETER",null,null,null,null,null,null,null,null,null,null,null,null,null,null,null,null,"MA"]
[507,"PA3EML","MA224","JT",null,null,null,null,null,null,null,null,null,null,null,null,null,null,null,null,"MA"]
[508,"PD0ORT","MA226","WILLHEM",null,null,null,null,null,null,null,null,null,null,null,null,null,null,null,null,"MA"]
[509,"PA3GNY","MA229","GJJ",null,null,null,null,null,null,null,null,null,null,null,null,null,null,null,null,"MA"]
[510,"PA0LL","MA233","AC",null,null,null,null,null,null,null,null,null,null,null,null,null,null,null,null,"MA"]
[511,"PA3BWS","MA234","AL",null,null,null,null,null,null,null,null,null,null,null,null,null,null,null,null,"MA"]
[512,"PA3DBJ","MA238","AH",null,null,null,null,null,null,null,null,null,null,null,null,null,null,null,null,"MA"]
[513,"PA3FHB","MA249","JPM",null,null,null,null,null,null,null,null,null,null,null,null,null,null,null,null,"MA"]
[514,"PA2CNR","MA255","NUIS",null,null,null,null,null,null,null,null,null,null,null,null,null,null,null,null,{"$f":"LEFT(C515,2)","v":"MA"}]
[515,"PA1ZM","MA257","WIM",null,null,null,null,null,null,null,null,null,null,null,null,null,null,null,null,"MA"]
[516,"PA0MJK","MA258","MJ",null,null,null,null,null,null,null,null,null,null,null,null,null,null,null,null,"MA"]
[517,"PA3DYP","MA262","WV",null,null,null,null,null,null,null,null,null,null,null,null,null,null,null,null,"MA"]
[518,"PA3BLP","MA265","HF",null,null,null,null,null,null,null,null,null,null,null,null,null,null,null,null,"MA"]
[519,"PA0A","MA266","JJJ",null,null,null,null,null,null,null,null,null,null,null,null,null,null,null,null,"MA"]
[520,"PD0PXX","MA267","BERT",null,null,null,null,null,null,null,null,null,null,null,null,null,null,null,null,"MA"]
[521,"OE8NIK","MA272","NIK",null,null,null,null,null,null,null,null,null,null,null,null,null,null,null,null,"MA"]
[522,"DL5XI","MA275","HARALD",null,null,null,null,null,null,null,null,null,null,null,null,null,null,null,null,"MA"]
[523,"PA3GLP","MA278","JVAN",null,null,null,null,null,null,null,null,null,null,null,null,null,null,null,null,"MA"]
[524,"PE1CEX","MA282","JW",null,null,null,null,null,null,null,null,null,null,null,null,null,null,null,null,"MA"]
[525,"PA0JBB","MA285","BERG",null,null,null,null,null,null,null,null,null,null,null,null,null,null,null,null,"MA"]
[526,"PD0DDA","MA310","JOS",null,null,null,null,null,null,null,null,null,null,null,null,null,null,null,null,"MA"]
[527,"PA3GAU","MA312","EUGENE",null,null,null,null,null,null,null,null,null,null,null,null,null,null,null,null,"MA"]
[528,"PA3B","MA313","BRAM",null,null,null,null,null,null,null,null,null,null,null,null,null,null,null,null,"MA"]
[529,"PA3EHP","MA318","AJG",null,null,null,null,null,null,null,null,null,null,null,null,null,null,null,null,"MA"]
[530,"PC7T","MA322","PETER",null,null,null,null,null,null,null,null,null,null,null,null,null,null,null,null,"MA"]
[531,"PA3CCQ","MA330","PH",null,null,null,null,null,null,null,null,null,null,null,null,null,null,null,null,"MA"]
[532,"PA3CFB","MA331","HANS",null,null,null,null,null,null,null,null,null,null,null,null,null,null,null,null,"MA"]
[533,"PD0ILD","MA336","JHM",null,null,null,null,null,null,null,null,null,null,null,null,null,null,null,null,"MA"]
[534,"PE1OHT","MA337","WELDW",null,null,null,null,null,null,null,null,null,null,null,null,null,null,null,null,"MA"]
[535,"PA0JED","MA352","ELBURG",null,null,null,null,null,null,null,null,null,null,null,null,null,null,null,null,"MA"]
[536,"PA3AVG","MA353","NN",null,null,null,null,null,null,null,null,null,null,null,null,null,null,null,null,"MA"]
[537,"PA1ALG","MA354","PIETER",null,null,null,null,null,null,null,null,null,null,null,null,null,null,null,null,"MA"]
[538,"PA3HGP","MA360","HEIJM",null,null,null,null,null,null,null,null,null,null,null,null,null,null,null,null,"MA"]
[539,"PA0JOT","MA362","JSKIPPERS",null,null,null,null,null,null,null,null,null,null,null,null,null,null,null,null,"MA"]
[540,"PA2JWY","MA365","JW",null,null,null,null,null,null,null,null,null,null,null,null,null,null,null,null,"MA"]
[541,"PA0SAN","MA366","RH",null,null,null,null,null,null,null,null,null,null,null,null,null,null,null,null,"MA"]
[542,"PE0RES","MA368","RE",null,null,null,null,null,null,null,null,null,null,null,null,null,null,null,null,"MA"]
[543,"PA3AYD","MA370","RONALD",null,null,null,null,null,null,null,null,null,null,null,null,null,null,null,null,"MA"]
[544,"PD0RON","MA371","GJ",null,null,null,null,null,null,null,null,null,null,null,null,null,null,null,null,"MA"]
[545,"PA0XAW","MA375","AGE",null,null,null,null,null,null,null,null,null,null,null,null,null,null,null,null,"MA"]
[546,"PD0RCW","MA378","NN",null,null,null,null,null,null,null,null,null,null,null,null,null,null,null,null,"MA"]
[547,"PE1PBL","MA381","LJ",null,null,null,null,null,null,null,null,null,null,null,null,null,null,null,null,"MA"]
[548,"PA3DSW","MA383","LW",null,null,null,null,null,null,null,null,null,null,null,null,null,null,null,null,"MA"]
[549,"PG7C","MA384","JAAP",null,null,null,null,null,null,null,null,null,null,null,null,null,null,null,null,"MA"]
[550,"PA3GXB","MA391","JVAN",null,null,null,null,null,null,null,null,null,null,null,null,null,null,null,null,"MA"]
[551,"PA2E","MA392","NN",null,null,null,null,null,null,null,null,null,null,null,null,null,null,null,null,"MA"]
[552,"PA0WRS","MA396","DEREGT",null,null,null,null,null,null,null,null,null,null,null,null,null,null,null,null,"MA"]
[553,"DL0MFS","MA400","CLUB",null,null,null,null,null,null,null,null,null,null,null,null,null,null,null,null,"MA"]
[554,"ON4CBM","MA401","BERT",null,null,null,null,null,null,null,null,null,null,null,null,null,null,null,null,"MA"]
[555,"VE3PA","MA405","WILLIAM",null,null,null,null,null,null,null,null,null,null,null,null,null,null,null,null,"MA"]
[556,"VE3ILE","MA405","WILLIAM",null,null,null,null,null,null,null,null,null,null,null,null,null,null,null,null,"MA"]
[557,"PA5AD","MA415","ARJAN",null,null,null,null,null,null,null,null,null,null,null,null,null,null,null,null,"MA"]
[558,"DF7QN","MA418","HERMANN",null,null,null,null,null,null,null,null,null,null,null,null,null,null,null,null,"MA"]
[559,"PA0MBD","MA422","MARTIN",null,null,null,null,null,null,null,null,null,null,null,null,null,null,null,null,"MA"]
[560,"PA1FR","MA427","FRANCIS",null,null,null,null,null,null,null,null,null,null,null,null,null,null,null,null,"MA"]
[561,"PD2MAT","MA429","NN",null,null,null,null,null,null,null,null,null,null,null,null,null,null,null,null,"MA"]
[562,"PA1BE","MA430","NN",null,null,null,null,null,null,null,null,null,null,null,null,null,null,null,null,"MA"]
[563,"DJ0PM","MA432","WIN",null,null,null,null,null,null,null,null,null,null,null,null,null,null,null,null,"MA"]
[564,"ON4CBI","MA433","CHRISTI",null,null,null,null,null,null,null,null,null,null,null,null,null,null,null,null,"MA"]
[565,"DK9OS","MA434","HANS",null,null,null,null,null,null,null,null,null,null,null,null,null,null,null,null,"MA"]
[566,"PA3EEG","MA436","H",null,null,null,null,null,null,null,null,null,null,null,null,null,null,null,null,"MA"]
[567,"DK5UR","MA438","HEINZ",null,null,null,null,null,null,null,null,null,null,null,null,null,null,null,null,"MA"]
[568,"DL1EKN","MA439","HANS",null,null,null,null,null,null,null,null,null,null,null,null,null,null,null,null,"MA"]
[569,"SM6VWG","MA442","JAN",null,null,null,null,null,null,null,null,null,null,null,null,null,null,null,null,"MA"]
[570,"PG9T","MA446","JOHN",null,null,null,null,null,null,null,null,null,null,null,null,null,null,null,null,"MA"]
[571,"PE1LNO","MA447","FABER",null,null,null,null,null,null,null,null,null,null,null,null,null,null,null,null,"MA"]
[572,"PA3ENL","MA450","PELS",null,null,null,null,null,null,null,null,null,null,null,null,null,null,null,null,"MA"]
[573,"PA5P","MA451","RINUS",null,null,null,null,null,null,null,null,null,null,null,null,null,null,null,null,"MA"]
[574,"ON4CKZ","MA453","PATRICK",null,null,null,null,null,null,null,null,null,null,null,null,null,null,null,null,"MA"]
[575,"PE2ELS","MA454","JAN",null,null,null,null,null,null,null,null,null,null,null,null,null,null,null,null,"MA"]
[576,"PB2BRU","MA456","AJ",null,null,null,null,null,null,null,null,null,null,null,null,null,null,null,null,"MA"]
[577,"PA3CW","MA457","DICK",null,null,null,null,null,null,null,null,null,null,null,null,null,null,null,null,"MA"]
[578,"PA5EDW","MA462","NN",null,null,null,null,null,null,null,null,null,null,null,null,null,null,null,null,{"$f":"LEFT(C579,2)","v":"MA"}]
[579,"PA3CYE","MA463","CMT",null,null,null,null,null,null,null,null,null,null,null,null,null,null,null,null,"MA"]
[580,"PD0LGG","MA465","WILLEM",null,null,null,null,null,null,null,null,null,null,null,null,null,null,null,null,"MA"]
[581,"F4VQK","MA466","MICHEL",null,null,null,null,null,null,null,null,null,null,null,null,null,null,null,null,"MA"]
[582,"PA1HTW","MA466","MICHEL",null,null,null,null,null,null,null,null,null,null,null,null,null,null,null,null,"MA"]
[583,"PA2PCH","MA467","AD",null,null,null,null,null,null,null,null,null,null,null,null,null,null,null,null,"MA"]
[584,"PA2MS","MA469","JAN",null,null,null,null,null,null,null,null,null,null,null,null,null,null,null,null,"MA"]
[585,"PG2WK","MA470","NN",null,null,null,null,null,null,null,null,null,null,null,null,null,null,null,null,"MA"]
[586,"PA0QRB","MA471","HAROLD",null,null,null,null,null,null,null,null,null,null,null,null,null,null,null,null,"MA"]
[587,"PD2RVH","MA474","NN",null,null,null,null,null,null,null,null,null,null,null,null,null,null,null,null,"MA"]
[588,"PA3GQY","MA475","WILL",null,null,null,null,null,null,null,null,null,null,null,null,null,null,null,null,"MA"]
[589,"PG2GP","MA476","JEFF",null,null,null,null,null,null,null,null,null,null,null,null,null,null,null,null,"MA"]
[590,"PD1DK","MA477","NICO",null,null,null,null,null,null,null,null,null,null,null,null,null,null,null,null,"MA"]
[591,"TB5ZND    ","MA477","NICO",null,null,null,null,null,null,null,null,null,null,null,null,null,null,null,null,"MA"]
[592,"PD1GB","MA478","BRAND",null,null,null,null,null,null,null,null,null,null,null,null,null,null,null,null,"MA"]
[593,"PB1SB","MA479","FRANK",null,null,null,null,null,null,null,null,null,null,null,null,null,null,null,null,"MA"]
[594,"PE1FWD","MA480","EGGENS",null,null,null,null,null,null,null,null,null,null,null,null,null,null,null,null,"MA"]
[595,"PA3PRO","MA481","NN",null,null,null,null,null,null,null,null,null,null,null,null,null,null,null,null,"MA"]
[596,"PE2HVL","MA482","HANS",null,null,null,null,null,null,null,null,null,null,null,null,null,null,null,null,"MA"]
[597,"PA3EYC","MA483","MAART",null,null,null,null,null,null,null,null,null,null,null,null,null,null,null,null,"MA"]
[598,"DK0DW","MA500","CLUB",null,null,null,null,null,null,null,null,null,null,null,null,null,null,null,null,"MA"]
[599,"PI64MRC","MA600","NN",null,null,null,null,null,null,null,null,null,null,null,null,null,null,null,null,"MA"]
[600,"PI9NHL","MA612","LIGHTSHIP",null,null,null,null,null,null,null,null,null,null,null,null,null,null,null,null,"MA"]
[601,"PI9SZR","MA615","SHIP",null,null,null,null,null,null,null,null,null,null,null,null,null,null,null,null,"MA"]
[602,"PC25MRC","MA625","MARAC",null,null,null,null,null,null,null,null,null,null,null,null,null,null,null,null,"MA"]
[603,"OE6XMF","MA700","MFCA",null,null,null,null,null,null,null,null,null,null,null,null,null,null,null,null,"MA"]
[604,"PI9MER","MA750","MERCUUR",null,null,null,null,null,null,null,null,null,null,null,null,null,null,null,null,"MA"]
[605,"ON4BRN","MA800","BMARS",null,null,null,null,null,null,null,null,null,null,null,null,null,null,null,null,"MA"]
[606,"PA6QPO","MA900","RINUS",null,null,null,null,null,null,null,null,null,null,null,null,null,null,null,null,"MA"]
[607,"PI4NAF","MA999","CLUB",null,null,null,null,null,null,null,null,null,null,null,null,null,null,null,null,"MA"]
[608,"PA6MLD","MA1000","STEFAN",null,null,null,null,null,null,null,null,null,null,null,null,null,null,null,null,"MA"]
[609,"DJ3WR","MF020",null,null,null,null,null,null,null,null,null,null,null,null,null,null,null,null,null,"MF"]
[610,"DJ9WB","MF025","EDUARD",null,null,null,null,null,null,null,null,null,null,null,null,null,null,null,null,"MF"]
[611,"DL9CJ","MF031","HEINZ",null,null,null,null,null,null,null,null,null,null,null,null,null,null,null,null,"MF"]
[612,"DJ1QV","MF032","HUBERT",null,null,null,null,null,null,null,null,null,null,null,null,null,null,null,null,"MF"]
[613,"DL9QP","MF044","ALFRED",null,null,null,null,null,null,null,null,null,null,null,null,null,null,null,null,"MF"]
[614,"DK1LR","MF052","GEORG",null,null,null,null,null,null,null,null,null,null,null,null,null,null,null,null,"MF"]
[615,"DK5VC","MF074","RAY",null,null,null,null,null,null,null,null,null,null,null,null,null,null,null,null,"MF"]
[616,"DK8DS","MF162",null,null,null,null,null,null,null,null,null,null,null,null,null,null,null,null,null,"MF"]
[617,"DF5LW","MF173","WOLFRAM",null,null,null,null,null,null,null,null,null,null,null,null,null,null,null,null,"MF"]
[618,"DF1TX","MF207","ALOIS",null,null,null,null,null,null,null,null,null,null,null,null,null,null,null,null,"MF"]
[619,"DL5XI","MF218","HARALD",null,null,null,null,null,null,null,null,null,null,null,null,null,null,null,null,"MF"]
[620,"DK4VQ","MF221",null,null,null,null,null,null,null,null,null,null,null,null,null,null,null,null,null,"MF"]
[621,"DK9HH","MF228","HEINO",null,null,null,null,null,null,null,null,null,null,null,null,null,null,null,null,"MF"]
[622,"DL8NBM","MF231","HORST",null,null,null,null,null,null,null,null,null,null,null,null,null,null,null,null,"MF"]
[623,"DF9IU","MF235","JORG",null,null,null,null,null,null,null,null,null,null,null,null,null,null,null,null,"MF"]
[624,"DL2GBH","MF255","HORST",null,null,null,null,null,null,null,null,null,null,null,null,null,null,null,null,"MF"]
[625,"DB3RZ","MF267","HEINZ",null,null,null,null,null,null,null,null,null,null,null,null,null,null,null,null,"MF"]
[626,"DL8LD","MF274","DIERK",null,null,null,null,null,null,null,null,null,null,null,null,null,null,null,null,"MF"]
[627,"DL1GBW","MF276","KLAUS",null,null,null,null,null,null,null,null,null,null,null,null,null,null,null,null,"MF"]
[628,"DL5HCS","MF308","HEINZ",null,null,null,null,null,null,null,null,null,null,null,null,null,null,null,null,"MF"]
[629,"DL9SJ","MF311","PETER",null,null,null,null,null,null,null,null,null,null,null,null,null,null,null,null,"MF"]
[630,"DL4LAX","MF320","REINHARD",null,null,null,null,null,null,null,null,null,null,null,null,null,null,null,null,"MF"]
[631,"DK7FZ","MF322","HAJO",null,null,null,null,null,null,null,null,null,null,null,null,null,null,null,null,"MF"]
[632,"DF2WZ","MF325","HARALD",null,null,null,null,null,null,null,null,null,null,null,null,null,null,null,null,"MF"]
[633,"DJ6TK","MF328","WILFRIED",null,null,null,null,null,null,null,null,null,null,null,null,null,null,null,null,"MF"]
[634,"DJ7AC","MF329","WOLF",null,null,null,null,null,null,null,null,null,null,null,null,null,null,null,null,"MF"]
[635,"DJ1IZ","MF332","EGON",null,null,null,null,null,null,null,null,null,null,null,null,null,null,null,null,"MF"]
[636,"G3LIK","MF334","MICK",null,null,null,null,null,null,null,null,null,null,null,null,null,null,null,null,"MF"]
[637,"DF2CQ","MF337","ACHIM",null,null,null,null,null,null,null,null,null,null,null,null,null,null,null,null,"MF"]
[638,"DL6BAI","MF343","OLAF",null,null,null,null,null,null,null,null,null,null,null,null,null,null,null,null,"MF"]
[639,"DL1LAL","MF346","DIETER",null,null,null,null,null,null,null,null,null,null,null,null,null,null,null,null,"MF"]
[640,"DJ7QV","MF351","ERNST",null,null,null,null,null,null,null,null,null,null,null,null,null,null,null,null,"MF"]
[641,"DF6LI","MF371","KLAUS",null,null,null,null,null,null,null,null,null,null,null,null,null,null,null,null,"MF"]
[642,"DL4HBF","MF380","HEINZ",null,null,null,null,null,null,null,null,null,null,null,null,null,null,null,null,{"$f":"LEFT(C643,2)","v":"MF"}]
[643,"DL8KAZ","MF395","DIETER",null,null,null,null,null,null,null,null,null,null,null,null,null,null,null,null,"MF"]
[644,"PI4MRC","MF400","MARAC  HQ CLUB",null,null,null,null,null,null,null,null,null,null,null,null,null,null,null,null,"MF"]
[645,"HB9ANE","MF408","JURGEN",null,null,null,null,null,null,null,null,null,null,null,null,null,null,null,null,"MF"]
[646,"DL5LAV","MF411","HEINO",null,null,null,null,null,null,null,null,null,null,null,null,null,null,null,null,"MF"]
[647,"HB9ASZ","MF419","BERNH",null,null,null,null,null,null,null,null,null,null,null,null,null,null,null,null,"MF"]
[648,"PA3EBA","MF423","JAN",null,null,null,null,null,null,null,null,null,null,null,null,null,null,null,null,"MF"]
[649,"OE8NIK","MF426","NIK",null,null,null,null,null,null,null,null,null,null,null,null,null,null,null,null,"MF"]
[650,"DL2YAG","MF440","JURGEN",null,null,null,null,null,null,null,null,null,null,null,null,null,null,null,null,"MF"]
[651,"SV0IE","MF440","JURGEN",null,null,null,null,null,null,null,null,null,null,null,null,null,null,null,null,"MF"]
[652,"DD3LM","MF451","MANFRED",null,null,null,null,null,null,null,null,null,null,null,null,null,null,null,null,"MF"]
[653,"DK9HU","MF457","KARL",null,null,null,null,null,null,null,null,null,null,null,null,null,null,null,null,"MF"]
[654,"DL4HAJ","MF458","JURGEN",null,null,null,null,null,null,null,null,null,null,null,null,null,null,null,null,"MF"]
[655,"DL1EEW","MF459","WIN",null,null,null,null,null,null,null,null,null,null,null,null,null,null,null,null,"MF"]
[656,"DL2NY","MF462","GUNTER",null,null,null,null,null,null,null,null,null,null,null,null,null,null,null,null,"MF"]
[657,"DF4DT","MF472","MICHAEL",null,null,null,null,null,null,null,null,null,null,null,null,null,null,null,null,"MF"]
[658,"DL9EE","MF475","HOLGER",null,null,null,null,null,null,null,null,null,null,null,null,null,null,null,null,"MF"]
[659,"DL1LAE","MF479","FRITZ",null,null,null,null,null,null,null,null,null,null,null,null,null,null,null,null,"MF"]
[660,"HB9BHY","MF486","WALTER",null,null,null,null,null,null,null,null,null,null,null,null,null,null,null,null,"MF"]
[661,"DL2HCB","MF490","BERT",null,null,null,null,null,null,null,null,null,null,null,null,null,null,null,null,"MF"]
[662,"DF4QP","MF493","HANS",null,null,null,null,null,null,null,null,null,null,null,null,null,null,null,null,"MF"]
[663,"UA1ADQ","MF494","VLAD",null,null,null,null,null,null,null,null,null,null,null,null,null,null,null,null,"MF"]
[664,"DJ8GY","MF496","FRIEDR",null,null,null,null,null,null,null,null,null,null,null,null,null,null,null,null,"MF"]
[665,"DJ0ZI","MF497","RACI ",null,null,null,null,null,null,null,null,null,null,null,null,null,null,null,null,"MF"]
[666,"DK5PZ","MF502","DIETER",null,null,null,null,null,null,null,null,null,null,null,null,null,null,null,null,"MF"]
[667,"DL2AMF","MF508","REINHARD",null,null,null,null,null,null,null,null,null,null,null,null,null,null,null,null,"MF"]
[668,"RA1AMW","MF513","VASILY",null,null,null,null,null,null,null,null,null,null,null,null,null,null,null,null,"MF"]
[669,"RA1AOM","MF515","VALERY",null,null,null,null,null,null,null,null,null,null,null,null,null,null,null,null,"MF"]
[670,"DL6COR","MF518","WOLF",null,null,null,null,null,null,null,null,null,null,null,null,null,null,null,null,"MF"]
[671,"DL5AMF","MF527","MANFRED",null,null,null,null,null,null,null,null,null,null,null,null,null,null,null,null,"MF"]
[672,"DL4HW","MF534","WERNER",null,null,null,null,null,null,null,null,null,null,null,null,null,null,null,null,"MF"]
[673,"DL5MET","MF539","FRANK",null,null,null,null,null,null,null,null,null,null,null,null,null,null,null,null,"MF"]
[674,"Z38D","MF539","FRANK",null,null,null,null,null,null,null,null,null,null,null,null,null,null,null,null,"MF"]
[675,"DH6JL","MF541","MICHAEL",null,null,null,null,null,null,null,null,null,null,null,null,null,null,null,null,"MF"]
[676,"DL3HRH","MF542","JURGEN",null,null,null,null,null,null,null,null,null,null,null,null,null,null,null,null,"MF"]
[677,"UY5OQ","MF546","LERY",null,null,null,null,null,null,null,null,null,null,null,null,null,null,null,null,"MF"]
[678,"DL2TG","MF547","FRED",null,null,null,null,null,null,null,null,null,null,null,null,null,null,null,null,"MF"]
[679,"DL0MFB","MF550","SCHNEICHE CLUB",null,null,null,null,null,null,null,null,null,null,null,null,null,null,null,null,"MF"]
[680,"DL6LAO","MF551","WOLF",null,null,null,null,null,null,null,null,null,null,null,null,null,null,null,null,"MF"]
[681,"DL3LAH","MF553",null,null,null,null,null,null,null,null,null,null,null,null,null,null,null,null,null,"MF"]
[682,"OK1NH","MF554","JAROSLAV",null,null,null,null,null,null,null,null,null,null,null,null,null,null,null,null,"MF"]
[683,"UA1ATI","MF555","IGOR",null,null,null,null,null,null,null,null,null,null,null,null,null,null,null,null,"MF"]
[684,"DJ1PQ","MF558","ROBERT",null,null,null,null,null,null,null,null,null,null,null,null,null,null,null,null,"MF"]
[685,"LB6BG","MF562",null,null,null,null,null,null,null,null,null,null,null,null,null,null,null,null,null,"MF"]
[686,"DL1BJA","MF568","KLAAUS",null,null,null,null,null,null,null,null,null,null,null,null,null,null,null,null,"MF"]
[687,"DL1BHM","MF570","DIETRICH",null,null,null,null,null,null,null,null,null,null,null,null,null,null,null,null,"MF"]
[688,"DL4BCG","MF571","PAUL",null,null,null,null,null,null,null,null,null,null,null,null,null,null,null,null,"MF"]
[689,"DL1BJR","MF573","JENS",null,null,null,null,null,null,null,null,null,null,null,null,null,null,null,null,"MF"]
[690,"DL3FCG","MF575","MICHA",null,null,null,null,null,null,null,null,null,null,null,null,null,null,null,null,"MF"]
[691,"DL1JHR","MF578","MICHAEL",null,null,null,null,null,null,null,null,null,null,null,null,null,null,null,null,"MF"]
[692,"DL4HJ","MF581","JONNY",null,null,null,null,null,null,null,null,null,null,null,null,null,null,null,null,"MF"]
[693,"HA2RQ","MF582","ZOLI",null,null,null,null,null,null,null,null,null,null,null,null,null,null,null,null,"MF"]
[694,"DL2JRM","MF586","RENE",null,null,null,null,null,null,null,null,null,null,null,null,null,null,null,null,"MF"]
[695,"DJ3XM","MF587","ULFERT",null,null,null,null,null,null,null,null,null,null,null,null,null,null,null,null,"MF"]
[696,"UA2FM","MF588","VICTOR",null,null,null,null,null,null,null,null,null,null,null,null,null,null,null,null,"MF"]
[697,"DK7BW","MF589",null,null,null,null,null,null,null,null,null,null,null,null,null,null,null,null,null,"MF"]
[698,"DL2NBR","MF591","DOROYHEA",null,null,null,null,null,null,null,null,null,null,null,null,null,null,null,null,"MF"]
[699,"DL1DCT","MF594","MARTIN",null,null,null,null,null,null,null,null,null,null,null,null,null,null,null,null,"MF"]
[700,"DL0MFS","MF600","SIGNAL SCH CLUB ",null,null,null,null,null,null,null,null,null,null,null,null,null,null,null,null,"MF"]
[701,"DL4VAJ","MF601","STEFAN",null,null,null,null,null,null,null,null,null,null,null,null,null,null,null,null,"MF"]
[702,"R1CC","MF603","TOIVO",null,null,null,null,null,null,null,null,null,null,null,null,null,null,null,null,"MF"]
[703,"DL1DRA","MF604","JOACHIM",null,null,null,null,null,null,null,null,null,null,null,null,null,null,null,null,"MF"]
[704,"DC0UH","MF608","KLAUS",null,null,null,null,null,null,null,null,null,null,null,null,null,null,null,null,"MF"]
[705,"DL1GQE","MF620","ERICH",null,null,null,null,null,null,null,null,null,null,null,null,null,null,null,null,"MF"]
[706,"DE1GSW","MF624","GERD",null,null,null,null,null,null,null,null,null,null,null,null,null,null,null,null,{"$f":"LEFT(C707,2)","v":"MF"}]
[707,"UY5OO","MF627","YURI",null,null,null,null,null,null,null,null,null,null,null,null,null,null,null,null,"MF"]
[708,"DL2GWR","MF633","WALTER",null,null,null,null,null,null,null,null,null,null,null,null,null,null,null,null,"MF"]
[709,"DL4NBE","MF634","LEO",null,null,null,null,null,null,null,null,null,null,null,null,null,null,null,null,"MF"]
[710,"DL2HV","MF647","HANS",null,null,null,null,null,null,null,null,null,null,null,null,null,null,null,null,"MF"]
[711,"DF0MV","MF650","CLUB",null,null,null,null,null,null,null,null,null,null,null,null,null,null,null,null,"MF"]
[712,"DL3MF","MF651","JURGEN",null,null,null,null,null,null,null,null,null,null,null,null,null,null,null,null,"MF"]
[713,"DF2FZ","MF652","PETER",null,null,null,null,null,null,null,null,null,null,null,null,null,null,null,null,"MF"]
[714,"DL2ARH","MF658","ROLF",null,null,null,null,null,null,null,null,null,null,null,null,null,null,null,null,"MF"]
[715,"R1NW","MF661","FEDOR",null,null,null,null,null,null,null,null,null,null,null,null,null,null,null,null,"MF"]
[716,"UA2DK","MF667","VICTOR",null,null,null,null,null,null,null,null,null,null,null,null,null,null,null,null,"MF"]
[717,"OH1AJ","MF676","CLUB",null,null,null,null,null,null,null,null,null,null,null,null,null,null,null,null,"MF"]
[718,"OH1WR","MF678","RAUNO",null,null,null,null,null,null,null,null,null,null,null,null,null,null,null,null,"MF"]
[719,"OH1LD","MF680","ARTO",null,null,null,null,null,null,null,null,null,null,null,null,null,null,null,null,"MF"]
[720,"DK7JS","MF682","JOHN",null,null,null,null,null,null,null,null,null,null,null,null,null,null,null,null,"MF"]
[721,"DH9FAV","MF683","HOLGER",null,null,null,null,null,null,null,null,null,null,null,null,null,null,null,null,"MF"]
[722,"DK4FR","MF684","THEO",null,null,null,null,null,null,null,null,null,null,null,null,null,null,null,null,"MF"]
[723,"DL9UAA","MF687","GUENTER",null,null,null,null,null,null,null,null,null,null,null,null,null,null,null,null,"MF"]
[724,"DL8BEL","MF689","HANS",null,null,null,null,null,null,null,null,null,null,null,null,null,null,null,null,"MF"]
[725,"DL6ME","MF690","ROLF",null,null,null,null,null,null,null,null,null,null,null,null,null,null,null,null,"MF"]
[726,"OH1PP","MF694","PEKKA",null,null,null,null,null,null,null,null,null,null,null,null,null,null,null,null,"MF"]
[727,"OH2RL","MF695","VEIKO",null,null,null,null,null,null,null,null,null,null,null,null,null,null,null,null,"MF"]
[728,"OH3VX","MF695","VEIKO",null,null,null,null,null,null,null,null,null,null,null,null,null,null,null,null,"MF"]
[729,"DH4LAP","MF703","UWE",null,null,null,null,null,null,null,null,null,null,null,null,null,null,null,null,"MF"]
[730,"DL5WC","MF705","WOLF",null,null,null,null,null,null,null,null,null,null,null,null,null,null,null,null,"MF"]
[731,"OH6RJ","MF707","KARL",null,null,null,null,null,null,null,null,null,null,null,null,null,null,null,null,"MF"]
[732,"DL4BCE","MF713","ONNO",null,null,null,null,null,null,null,null,null,null,null,null,null,null,null,null,"MF"]
[733,"DH6BAN","MF717","HANS",null,null,null,null,null,null,null,null,null,null,null,null,null,null,null,null,"MF"]
[734,"DF1RL","MF721","HELMUT",null,null,null,null,null,null,null,null,null,null,null,null,null,null,null,null,"MF"]
[735,"DL9LBQ","MF722","SIEGFRIED",null,null,null,null,null,null,null,null,null,null,null,null,null,null,null,null,"MF"]
[736,"OI1AXA","MF723","FINCLUB",null,null,null,null,null,null,null,null,null,null,null,null,null,null,null,null,"MF"]
[737,"R2MWO","MF725","CLUB",null,null,null,null,null,null,null,null,null,null,null,null,null,null,null,null,"MF"]
[738,"DH1MFF","MF727","DIETRICH",null,null,null,null,null,null,null,null,null,null,null,null,null,null,null,null,"MF"]
[739,"DL1KKH","MF728","HEINZ",null,null,null,null,null,null,null,null,null,null,null,null,null,null,null,null,"MF"]
[740,"DL7QQ","MF732","HOLGER",null,null,null,null,null,null,null,null,null,null,null,null,null,null,null,null,"MF"]
[741,"DG3YGF","MF733","THOMAS",null,null,null,null,null,null,null,null,null,null,null,null,null,null,null,null,"MF"]
[742,"DK9QD","MF734","DIETER",null,null,null,null,null,null,null,null,null,null,null,null,null,null,null,null,"MF"]
[743,"DK5BE","MF735","EBERHARD",null,null,null,null,null,null,null,null,null,null,null,null,null,null,null,null,"MF"]
[744,"DL2HUM","MF736","MANFRED",null,null,null,null,null,null,null,null,null,null,null,null,null,null,null,null,"MF"]
[745,"DL1EED","MF738","DOROTHEA",null,null,null,null,null,null,null,null,null,null,null,null,null,null,null,null,"MF"]
[746,"DK6LH","MF739","GUENTER",null,null,null,null,null,null,null,null,null,null,null,null,null,null,null,null,"MF"]
[747,"DJ7DH","MF740","KLAUS",null,null,null,null,null,null,null,null,null,null,null,null,null,null,null,null,"MF"]
[748,"DF4BV","MF742","HEINZ",null,null,null,null,null,null,null,null,null,null,null,null,null,null,null,null,"MF"]
[749,"DL6HBX","MF747","MANFRED",null,null,null,null,null,null,null,null,null,null,null,null,null,null,null,null,"MF"]
[750,"DG1MNJ","MF754","PETER",null,null,null,null,null,null,null,null,null,null,null,null,null,null,null,null,"MF"]
[751,"DJ0PM","MF755","WIN",null,null,null,null,null,null,null,null,null,null,null,null,null,null,null,null,"MF"]
[752,"ON4CBM","MF756","BERT",null,null,null,null,null,null,null,null,null,null,null,null,null,null,null,null,"MF"]
[753,"YO2DFA","MF758","OVIDIU",null,null,null,null,null,null,null,null,null,null,null,null,null,null,null,null,"MF"]
[754,"OE5BRP","MF762","HANS",null,null,null,null,null,null,null,null,null,null,null,null,null,null,null,null,"MF"]
[755,"DK6HD","MF765","GERD",null,null,null,null,null,null,null,null,null,null,null,null,null,null,null,null,"MF"]
[756,"DH1LAO","MF769",null,null,null,null,null,null,null,null,null,null,null,null,null,null,null,null,null,"MF"]
[757,"DL2CHN","MF771","JURGEN",null,null,null,null,null,null,null,null,null,null,null,null,null,null,null,null,"MF"]
[758,"DF6LP","MF776","JUTTA",null,null,null,null,null,null,null,null,null,null,null,null,null,null,null,null,"MF"]
[759,"DF7QN","MF778","HERMAN",null,null,null,null,null,null,null,null,null,null,null,null,null,null,null,null,"MF"]
[760,"DL1NL","MF779","FRED",null,null,null,null,null,null,null,null,null,null,null,null,null,null,null,null,"MF"]
[761,"DF8DX","MF780","BODO",null,null,null,null,null,null,null,null,null,null,null,null,null,null,null,null,"MF"]
[762,"HB9EHJ","MF780","BODO",null,null,null,null,null,null,null,null,null,null,null,null,null,null,null,null,"MF"]
[763,"KT3Q","MF780","BODO",null,null,null,null,null,null,null,null,null,null,null,null,null,null,null,null,"MF"]
[764,"DL9BCC","MF782","DIETER",null,null,null,null,null,null,null,null,null,null,null,null,null,null,null,null,"MF"]
[765,"DK9OS","MF787","HANS",null,null,null,null,null,null,null,null,null,null,null,null,null,null,null,null,"MF"]
[766,"DL7AHS","MF788",null,null,null,null,null,null,null,null,null,null,null,null,null,null,null,null,null,"MF"]
[767,"DL6DCC","MF790","BRIGITTE",null,null,null,null,null,null,null,null,null,null,null,null,null,null,null,null,"MF"]
[768,"DH0AAM","MF795","FRANK",null,null,null,null,null,null,null,null,null,null,null,null,null,null,null,null,"MF"]
[769,"OZ2CBA","MF795","FRANK",null,null,null,null,null,null,null,null,null,null,null,null,null,null,null,null,"MF"]
[770,"5P2BA","MF795","FRANK",null,null,null,null,null,null,null,null,null,null,null,null,null,null,null,null,{"$f":"LEFT(C771,2)","v":"MF"}]
[771,"DL6BE","MF796","WOLKERT",null,null,null,null,null,null,null,null,null,null,null,null,null,null,null,null,"MF"]
[772,"DF8LD","MF797","ALBERT",null,null,null,null,null,null,null,null,null,null,null,null,null,null,null,null,"MF"]
[773,"DJ3DK","MF798","HANS",null,null,null,null,null,null,null,null,null,null,null,null,null,null,null,null,"MF"]
[774,"DF9EU","MF806","BERND",null,null,null,null,null,null,null,null,null,null,null,null,null,null,null,null,"MF"]
[775,"DH1HA","MF808","HARALD",null,null,null,null,null,null,null,null,null,null,null,null,null,null,null,null,"MF"]
[776,"DL8HCI","MF812","JURGEN",null,null,null,null,null,null,null,null,null,null,null,null,null,null,null,null,"MF"]
[777,"DL4FBZ","MF813","HARRI",null,null,null,null,null,null,null,null,null,null,null,null,null,null,null,null,"MF"]
[778,"DK6OB","MF816",null,null,null,null,null,null,null,null,null,null,null,null,null,null,null,null,null,"MF"]
[779,"DL6UBM","MF817","FRANK",null,null,null,null,null,null,null,null,null,null,null,null,null,null,null,null,"MF"]
[780,"ON4AGV","MF819","RUDY",null,null,null,null,null,null,null,null,null,null,null,null,null,null,null,null,"MF"]
[781,"DK5OE","MF821","KLAUS",null,null,null,null,null,null,null,null,null,null,null,null,null,null,null,null,"MF"]
[782,"DF9YG","MF824","WALTER",null,null,null,null,null,null,null,null,null,null,null,null,null,null,null,null,"MF"]
[783,"ON4BRN","MF825","BRN CLUB ",null,null,null,null,null,null,null,null,null,null,null,null,null,null,null,null,"MF"]
[784,"DF2HBW","MF827","HORST",null,null,null,null,null,null,null,null,null,null,null,null,null,null,null,null,"MF"]
[785,"DF5LZ","MF829",null,null,null,null,null,null,null,null,null,null,null,null,null,null,null,null,null,"MF"]
[786,"DL3KDL","MF831","ACHIM",null,null,null,null,null,null,null,null,null,null,null,null,null,null,null,null,"MF"]
[787,"DL5ASE","MF833","MARIO",null,null,null,null,null,null,null,null,null,null,null,null,null,null,null,null,"MF"]
[788,"DL9SBO","MF834","WERNER",null,null,null,null,null,null,null,null,null,null,null,null,null,null,null,null,"MF"]
[789,"DM5LW","MF837","FREDDI",null,null,null,null,null,null,null,null,null,null,null,null,null,null,null,null,"MF"]
[790,"DF1KBM","MF838","WILFRIED",null,null,null,null,null,null,null,null,null,null,null,null,null,null,null,null,"MF"]
[791,"OE6NFK","MF841","WERNER",null,null,null,null,null,null,null,null,null,null,null,null,null,null,null,null,"MF"]
[792,"OE3OLC","MF843","SEPP",null,null,null,null,null,null,null,null,null,null,null,null,null,null,null,null,"MF"]
[793,"DL5MF ","MF845","ULRICH",null,null,null,null,null,null,null,null,null,null,null,null,null,null,null,null,"MF"]
[794,"DJ2NW","MF847","GREGOR",null,null,null,null,null,null,null,null,null,null,null,null,null,null,null,null,"MF"]
[795,"DG6BDZ","MF848","WERNER",null,null,null,null,null,null,null,null,null,null,null,null,null,null,null,null,"MF"]
[796,"DF1KAG","MF849","KARL",null,null,null,null,null,null,null,null,null,null,null,null,null,null,null,null,"MF"]
[797,"DL0MFL","MF850","MFCLUB",null,null,null,null,null,null,null,null,null,null,null,null,null,null,null,null,"MF"]
[798,"DL2VFR","MF851","ENRICO",null,null,null,null,null,null,null,null,null,null,null,null,null,null,null,null,"MF"]
[799,"SD7V","MF851","ENRICO",null,null,null,null,null,null,null,null,null,null,null,null,null,null,null,null,"MF"]
[800,"DK6XT","MF852","JOACHIM",null,null,null,null,null,null,null,null,null,null,null,null,null,null,null,null,"MF"]
[801,"DG3WY","MF865","DIETER",null,null,null,null,null,null,null,null,null,null,null,null,null,null,null,null,"MF"]
[802,"DJ1HND","MF867","ANDY",null,null,null,null,null,null,null,null,null,null,null,null,null,null,null,null,"MF"]
[803,"DL8LJ","MF868","TINO",null,null,null,null,null,null,null,null,null,null,null,null,null,null,null,null,"MF"]
[804,"DJ1TM","MF869","TERRY",null,null,null,null,null,null,null,null,null,null,null,null,null,null,null,null,"MF"]
[805,"DL8BBW","MF871","ERICH",null,null,null,null,null,null,null,null,null,null,null,null,null,null,null,null,"MF"]
[806,"G0FEK","MF874","BOB",null,null,null,null,null,null,null,null,null,null,null,null,null,null,null,null,"MF"]
[807,"DL0MFF","MF875","CLUB",null,null,null,null,null,null,null,null,null,null,null,null,null,null,null,null,"MF"]
[808,"DL1HBL","MF876","CLAUS",null,null,null,null,null,null,null,null,null,null,null,null,null,null,null,null,"MF"]
[809,"DH4BEN","MF884","BENEDICT",null,null,null,null,null,null,null,null,null,null,null,null,null,null,null,null,"MF"]
[810,"DL0MFK","MF885","KEIL CLUB ",null,null,null,null,null,null,null,null,null,null,null,null,null,null,null,null,"MF"]
[811,"OE6XMF","MF888","MFCA",null,null,null,null,null,null,null,null,null,null,null,null,null,null,null,null,"MF"]
[812,"ON4CBI","MF889","CHRISTI",null,null,null,null,null,null,null,null,null,null,null,null,null,null,null,null,"MF"]
[813,"DL2BJW","MF894","MARITA",null,null,null,null,null,null,null,null,null,null,null,null,null,null,null,null,"MF"]
[814,"DL0MFH","MF900","HAMBURG CLUB ",null,null,null,null,null,null,null,null,null,null,null,null,null,null,null,null,"MF"]
[815,"DJ6UX","MF902","EDMUND",null,null,null,null,null,null,null,null,null,null,null,null,null,null,null,null,"MF"]
[816,"DL4HO","MF903","DIETER",null,null,null,null,null,null,null,null,null,null,null,null,null,null,null,null,"MF"]
[817,"DF5FD","MF904","ANDREAS",null,null,null,null,null,null,null,null,null,null,null,null,null,null,null,null,"MF"]
[818,"DL6RDT","MF909","HARALD",null,null,null,null,null,null,null,null,null,null,null,null,null,null,null,null,"MF"]
[819,"DJ7CR","MF913","SIEGBERT",null,null,null,null,null,null,null,null,null,null,null,null,null,null,null,null,"MF"]
[820,"DL1GEO","MF914","GEORG",null,null,null,null,null,null,null,null,null,null,null,null,null,null,null,null,"MF"]
[821,"DH2RD","MF915","RALF",null,null,null,null,null,null,null,null,null,null,null,null,null,null,null,null,"MF"]
[822,"DJ2IT","MF917","ERNST",null,null,null,null,null,null,null,null,null,null,null,null,null,null,null,null,"MF"]
[823,"EA6AFS","MF917","ERNST",null,null,null,null,null,null,null,null,null,null,null,null,null,null,null,null,"MF"]
[824,"HB9KOJ","MF918","HEINZ",null,null,null,null,null,null,null,null,null,null,null,null,null,null,null,null,"MF"]
[825,"DF7VY","MF920","LUTZ",null,null,null,null,null,null,null,null,null,null,null,null,null,null,null,null,"MF"]
[826,"DL5OCC","MF921","KURT",null,null,null,null,null,null,null,null,null,null,null,null,null,null,null,null,"MF"]
[827,"DL2NFC","MF923","CHRIS",null,null,null,null,null,null,null,null,null,null,null,null,null,null,null,null,"MF"]
[828,"HB9DAR","MF928","JOSEF",null,null,null,null,null,null,null,null,null,null,null,null,null,null,null,null,"MF"]
[829,"DL5XL","MF932","FELIX",null,null,null,null,null,null,null,null,null,null,null,null,null,null,null,null,"MF"]
[830,"DL3DBN","MF933","DOROTHEA",null,null,null,null,null,null,null,null,null,null,null,null,null,null,null,null,"MF"]
[831,"4Z5LA","MF936","RUSLAN",null,null,null,null,null,null,null,null,null,null,null,null,null,null,null,null,"MF"]
[832,"PA3AYD","MF937","RONALD",null,null,null,null,null,null,null,null,null,null,null,null,null,null,null,null,"MF"]
[833,"DO5CO","MF942","SEBASTIAN",null,null,null,null,null,null,null,null,null,null,null,null,null,null,null,null,"MF"]
[834,"IT9MRM","MF943","ALBERTO",null,null,null,null,null,null,null,null,null,null,null,null,null,null,null,null,{"$f":"LEFT(C835,2)","v":"MF"}]
[835,"DL3HCV","MF944","GERHARD",null,null,null,null,null,null,null,null,null,null,null,null,null,null,null,null,"MF"]
[836,"DF6VR","MF945","GUENTER",null,null,null,null,null,null,null,null,null,null,null,null,null,null,null,null,"MF"]
[837,"DF1OLS","MF949","LEO",null,null,null,null,null,null,null,null,null,null,null,null,null,null,null,null,"MF"]
[838,"DL0MFW","MF950","WASSERS",null,null,null,null,null,null,null,null,null,null,null,null,null,null,null,null,"MF"]
[839,"DM2FEH","MF952","FRANK",null,null,null,null,null,null,null,null,null,null,null,null,null,null,null,null,"MF"]
[840,"DH2MS","MF954","MANFRED",null,null,null,null,null,null,null,null,null,null,null,null,null,null,null,null,"MF"]
[841,"DL0SMD","MF955",null,null,null,null,null,null,null,null,null,null,null,null,null,null,null,null,null,"MF"]
[842,"DL4JYT","MF956","GUENTER",null,null,null,null,null,null,null,null,null,null,null,null,null,null,null,null,"MF"]
[843,"DH5NT","MF957","ARNO",null,null,null,null,null,null,null,null,null,null,null,null,null,null,null,null,"MF"]
[844,"DK2MU","MF958","KARL",null,null,null,null,null,null,null,null,null,null,null,null,null,null,null,null,"MF"]
[845,"5P0MF","MF960","CLUB",null,null,null,null,null,null,null,null,null,null,null,null,null,null,null,null,"MF"]
[846,"OZ0MF","MF960","CLUB",null,null,null,null,null,null,null,null,null,null,null,null,null,null,null,null,"MF"]
[847,"OZ0NAVY","MF960","CLUB",null,null,null,null,null,null,null,null,null,null,null,null,null,null,null,null,"MF"]
[848,"OE3SOB","MF962","SIEGFR",null,null,null,null,null,null,null,null,null,null,null,null,null,null,null,null,"MF"]
[849,"DG6YDY","MF964","PETER",null,null,null,null,null,null,null,null,null,null,null,null,null,null,null,null,"MF"]
[850,"DL3GEG","MF965","EWALD",null,null,null,null,null,null,null,null,null,null,null,null,null,null,null,null,"MF"]
[851,"DF3GF","MF966","SIEGFRID",null,null,null,null,null,null,null,null,null,null,null,null,null,null,null,null,"MF"]
[852,"DJ6XB","MF967","RAINER",null,null,null,null,null,null,null,null,null,null,null,null,null,null,null,null,"MF"]
[853,"G0ELZ","MF969","BILLI",null,null,null,null,null,null,null,null,null,null,null,null,null,null,null,null,"MF"]
[854,"DL7LPH","MF973","PETER",null,null,null,null,null,null,null,null,null,null,null,null,null,null,null,null,"MF"]
[855,"DB7AT","MF974","HANS",null,null,null,null,null,null,null,null,null,null,null,null,null,null,null,null,"MF"]
[856,"DL0MFM","MF975","OBERNDORF CLUB ",null,null,null,null,null,null,null,null,null,null,null,null,null,null,null,null,"MF"]
[857,"PD2PN","MF976","PETER",null,null,null,null,null,null,null,null,null,null,null,null,null,null,null,null,"MF"]
[858,"DL5HAN","MF977",null,null,null,null,null,null,null,null,null,null,null,null,null,null,null,null,null,"MF"]
[859,"DF2HA","MF978","HANS",null,null,null,null,null,null,null,null,null,null,null,null,null,null,null,null,"MF"]
[860,"DH9KS","MF979","KERSTIN",null,null,null,null,null,null,null,null,null,null,null,null,null,null,null,null,"MF"]
[861,"OH9KS","MF979","KERSTIN",null,null,null,null,null,null,null,null,null,null,null,null,null,null,null,null,"MF"]
[862,"DL5SE","MF981","DANIEL",null,null,null,null,null,null,null,null,null,null,null,null,null,null,null,null,"MF"]
[863,"DL3HBZ","MF982","SIEGFRIED",null,null,null,null,null,null,null,null,null,null,null,null,null,null,null,null,"MF"]
[864,"UA0ZC","MF983","VALERY",null,null,null,null,null,null,null,null,null,null,null,null,null,null,null,null,"MF"]
[865,"DJ5LB","MF984","MICHAEL",null,null,null,null,null,null,null,null,null,null,null,null,null,null,null,null,"MF"]
[866,"DL7JSN","MF986","STEFFI",null,null,null,null,null,null,null,null,null,null,null,null,null,null,null,null,"MF"]
[867,"DK2DL","MF987","WERNER",null,null,null,null,null,null,null,null,null,null,null,null,null,null,null,null,"MF"]
[868,"DL3JST","MF988","JORG",null,null,null,null,null,null,null,null,null,null,null,null,null,null,null,null,"MF"]
[869,"DK0SN","MF990","CLUB",null,null,null,null,null,null,null,null,null,null,null,null,null,null,null,null,"MF"]
[870,"DK4ER","MF991","EWALD",null,null,null,null,null,null,null,null,null,null,null,null,null,null,null,null,"MF"]
[871,"DG6LAU","MF992","UDON",null,null,null,null,null,null,null,null,null,null,null,null,null,null,null,null,"MF"]
[872,"DM1YP","MF993","KLAUS",null,null,null,null,null,null,null,null,null,null,null,null,null,null,null,null,"MF"]
[873,"DL0DMB","MF995","CLUB",null,null,null,null,null,null,null,null,null,null,null,null,null,null,null,null,"MF"]
[874,"DB7LM","MF996","MANFRED",null,null,null,null,null,null,null,null,null,null,null,null,null,null,null,null,"MF"]
[875,"GB3RN","MF999","CLUB",null,null,null,null,null,null,null,null,null,null,null,null,null,null,null,null,"MF"]
[876,"DL0MF","MF1000","MFHQ",null,null,null,null,null,null,null,null,null,null,null,null,null,null,null,null,"MF"]
[877,"DL8HHS","MF1002","HANS",null,null,null,null,null,null,null,null,null,null,null,null,null,null,null,null,"MF"]
[878,"DK0MHD","MF1005","CLUB",null,null,null,null,null,null,null,null,null,null,null,null,null,null,null,null,"MF"]
[879,"DJ7AL","MF1006","JURGEN",null,null,null,null,null,null,null,null,null,null,null,null,null,null,null,null,"MF"]
[880,"DM5LP","MF1007","MARTIN",null,null,null,null,null,null,null,null,null,null,null,null,null,null,null,null,"MF"]
[881,"DL7SN","MF1008","JORG",null,null,null,null,null,null,null,null,null,null,null,null,null,null,null,null,"MF"]
[882,"HE9SOL","MF1009","FRANZ",null,null,null,null,null,null,null,null,null,null,null,null,null,null,null,null,"MF"]
[883,"GB2RN","MF1010","HMS",null,null,null,null,null,null,null,null,null,null,null,null,null,null,null,null,"MF"]
[884,"DH1BMV","MF1011"," RAINER",null,null,null,null,null,null,null,null,null,null,null,null,null,null,null,null,"MF"]
[885,"DL1RI","MF1012","WERNER",null,null,null,null,null,null,null,null,null,null,null,null,null,null,null,null,"MF"]
[886,"HB9XJ","MF1013","HANS",null,null,null,null,null,null,null,null,null,null,null,null,null,null,null,null,"MF"]
[887,"DL2JX","MF1017","ERICH",null,null,null,null,null,null,null,null,null,null,null,null,null,null,null,null,"MF"]
[888,"OE1WED","MF1018","GERHARD",null,null,null,null,null,null,null,null,null,null,null,null,null,null,null,null,"MF"]
[889,"DK9WE","MF1019","TIMO",null,null,null,null,null,null,null,null,null,null,null,null,null,null,null,null,"MF"]
[890,"SO1WE","MF1019","TOM",null,null,null,null,null,null,null,null,null,null,null,null,null,null,null,null,"MF"]
[891,"DH9GB","MF1021","BERND",null,null,null,null,null,null,null,null,null,null,null,null,null,null,null,null,"MF"]
[892,"DF5KW","MF1023","HEINRICH",null,null,null,null,null,null,null,null,null,null,null,null,null,null,null,null,"MF"]
[893,"DJ1TA","MF1024","WOLF",null,null,null,null,null,null,null,null,null,null,null,null,null,null,null,null,"MF"]
[894,"CT1CZT","MF1026","ANTONIO",null,null,null,null,null,null,null,null,null,null,null,null,null,null,null,null,"MF"]
[895,"UA9FGR","MF1027","KEN",null,null,null,null,null,null,null,null,null,null,null,null,null,null,null,null,"MF"]
[896,"DL1NGL","MF1028","GISELA",null,null,null,null,null,null,null,null,null,null,null,null,null,null,null,null,"MF"]
[897,"N4XAT","MF1031","ROBERT",null,null,null,null,null,null,null,null,null,null,null,null,null,null,null,null,"MF"]
[898,"CT1EGH","MF1032","ANTONIO",null,null,null,null,null,null,null,null,null,null,null,null,null,null,null,null,{"$f":"LEFT(C899,2)","v":"MF"}]
[899,"DL6CL","MF1033","CHRIS",null,null,null,null,null,null,null,null,null,null,null,null,null,null,null,null,"MF"]
[900,"OE7CMI","MF1035","MARTIN",null,null,null,null,null,null,null,null,null,null,null,null,null,null,null,null,"MF"]
[901,"DK6HT","MF1036","PETER",null,null,null,null,null,null,null,null,null,null,null,null,null,null,null,null,"MF"]
[902,"R5GM","MF1038","YURI",null,null,null,null,null,null,null,null,null,null,null,null,null,null,null,null,"MF"]
[903,"DK9XR","MF1039","RAY",null,null,null,null,null,null,null,null,null,null,null,null,null,null,null,null,"MF"]
[904,"K7VV","MF1041","VINCENT",null,null,null,null,null,null,null,null,null,null,null,null,null,null,null,null,"MF"]
[905,"DO6MF","MF1043","MONIKA",null,null,null,null,null,null,null,null,null,null,null,null,null,null,null,null,"MF"]
[906,"OE1TKW","MF1044","HELMUT",null,null,null,null,null,null,null,null,null,null,null,null,null,null,null,null,"MF"]
[907,"DL3XAQ","MF1045","GUNTER",null,null,null,null,null,null,null,null,null,null,null,null,null,null,null,null,"MF"]
[908,"DL1DAL","MF1046","WOLF",null,null,null,null,null,null,null,null,null,null,null,null,null,null,null,null,"MF"]
[909,"DF3IS","MF1051","MICHAEL",null,null,null,null,null,null,null,null,null,null,null,null,null,null,null,null,"MF"]
[910,"DJ8NU","MF1054","MARIO",null,null,null,null,null,null,null,null,null,null,null,null,null,null,null,null,"MF"]
[911,"DM3G","MF1055","MUSEUM",null,null,null,null,null,null,null,null,null,null,null,null,null,null,null,null,"MF"]
[912,"DL3RHN","MF1056","RUDIGER",null,null,null,null,null,null,null,null,null,null,null,null,null,null,null,null,"MF"]
[913,"DJ3TA","MF1057","JURGEN",null,null,null,null,null,null,null,null,null,null,null,null,null,null,null,null,"MF"]
[914,"HB9PL","MF1058","PETER",null,null,null,null,null,null,null,null,null,null,null,null,null,null,null,null,"MF"]
[915,"DF2OR","MF1059","WERNER",null,null,null,null,null,null,null,null,null,null,null,null,null,null,null,null,"MF"]
[916,"DL0MFX","MF1060","CLUB",null,null,null,null,null,null,null,null,null,null,null,null,null,null,null,null,"MF"]
[917,"OG9R","MF1062","CLUB",null,null,null,null,null,null,null,null,null,null,null,null,null,null,null,null,"MF"]
[918,"OH7QR","MF1062","ERKKI",null,null,null,null,null,null,null,null,null,null,null,null,null,null,null,null,"MF"]
[919,"DE8MHO","MF1064","MARTIN",null,null,null,null,null,null,null,null,null,null,null,null,null,null,null,null,"MF"]
[920,"DK9HE","MF1066","ANDY",null,null,null,null,null,null,null,null,null,null,null,null,null,null,null,null,"MF"]
[921,"HB9DON","MF1067","LORENZ",null,null,null,null,null,null,null,null,null,null,null,null,null,null,null,null,"MF"]
[922,"DF3LZ","MF1069","ROLAND",null,null,null,null,null,null,null,null,null,null,null,null,null,null,null,null,"MF"]
[923,"G3UFO","MF1072","DAVID",null,null,null,null,null,null,null,null,null,null,null,null,null,null,null,null,"MF"]
[924,"DL9GTI","MF1074","RALF",null,null,null,null,null,null,null,null,null,null,null,null,null,null,null,null,"MF"]
[925,"DL6OCH","MF1075","HENRIK",null,null,null,null,null,null,null,null,null,null,null,null,null,null,null,null,"MF"]
[926,"DC5CQ","MF1076","HANS",null,null,null,null,null,null,null,null,null,null,null,null,null,null,null,null,"MF"]
[927,"DL6LV","MF1077","HARRY",null,null,null,null,null,null,null,null,null,null,null,null,null,null,null,null,"MF"]
[928,"DD2KY","MF1078","CHRISTOP",null,null,null,null,null,null,null,null,null,null,null,null,null,null,null,null,"MF"]
[929,"DL7PL","MF1079","JURGEN",null,null,null,null,null,null,null,null,null,null,null,null,null,null,null,null,"MF"]
[930,"DL0SFK","MF1080","SFK",null,null,null,null,null,null,null,null,null,null,null,null,null,null,null,null,"MF"]
[931,"HB9CUI","MF1081","NORBERT",null,null,null,null,null,null,null,null,null,null,null,null,null,null,null,null,"MF"]
[932,"HB9AIQ","MF1082","ALFRED",null,null,null,null,null,null,null,null,null,null,null,null,null,null,null,null,"MF"]
[933,"DL2RPS","MF1083","KLAUS",null,null,null,null,null,null,null,null,null,null,null,null,null,null,null,null,"MF"]
[934,"DK8FA","MF1085","RALF",null,null,null,null,null,null,null,null,null,null,null,null,null,null,null,null,"MF"]
[935,"OH8XAT","MF1086","TIMO",null,null,null,null,null,null,null,null,null,null,null,null,null,null,null,null,"MF"]
[936,"DL3GC","MF1087","PASCAL",null,null,null,null,null,null,null,null,null,null,null,null,null,null,null,null,"MF"]
[937,"OE4PPW","MF1088","WALTER",null,null,null,null,null,null,null,null,null,null,null,null,null,null,null,null,"MF"]
[938,"DL0MFN","MF1090","NEUBRA",null,null,null,null,null,null,null,null,null,null,null,null,null,null,null,null,"MF"]
[939,"DL8TL","MF1091","THOMAS",null,null,null,null,null,null,null,null,null,null,null,null,null,null,null,null,"MF"]
[940,"DJ6DN","MF1092","EDGARD",null,null,null,null,null,null,null,null,null,null,null,null,null,null,null,null,"MF"]
[941,"DL1PBC","MF1093","AMO",null,null,null,null,null,null,null,null,null,null,null,null,null,null,null,null,"MF"]
[942,"DJ4BP","MF1094","FRITZ",null,null,null,null,null,null,null,null,null,null,null,null,null,null,null,null,"MF"]
[943,"DG6FDT","MF1096","DIETRIC",null,null,null,null,null,null,null,null,null,null,null,null,null,null,null,null,"MF"]
[944,"DO1SFK","MF1097","STEFFEN",null,null,null,null,null,null,null,null,null,null,null,null,null,null,null,null,"MF"]
[945,"DH3LK","MF1098","RUDOLF",null,null,null,null,null,null,null,null,null,null,null,null,null,null,null,null,"MF"]
[946,"DL3SEM","MF1099","STEFAN",null,null,null,null,null,null,null,null,null,null,null,null,null,null,null,null,"MF"]
[947,"DL5ZC","MF1101","ERNST",null,null,null,null,null,null,null,null,null,null,null,null,null,null,null,null,"MF"]
[948,"DL2BRN","MF1102","HANS",null,null,null,null,null,null,null,null,null,null,null,null,null,null,null,null,"MF"]
[949,"DO5DL","MF1103","DIANNA",null,null,null,null,null,null,null,null,null,null,null,null,null,null,null,null,"MF"]
[950,"M0BZZ","MF1104","BOB ",null,null,null,null,null,null,null,null,null,null,null,null,null,null,null,null,"MF"]
[951,"IK2CZQ","MF1105","ANTONIO",null,null,null,null,null,null,null,null,null,null,null,null,null,null,null,null,"MF"]
[952,"DF6UH","MF1106","HELMUT",null,null,null,null,null,null,null,null,null,null,null,null,null,null,null,null,"MF"]
[953,"DL8RB","MF1107","RUBEN",null,null,null,null,null,null,null,null,null,null,null,null,null,null,null,null,"MF"]
[954,"I5EFO","MF1108","EMILIO",null,null,null,null,null,null,null,null,null,null,null,null,null,null,null,null,"MF"]
[955,"DJ7FM","MF1109","FRANK",null,null,null,null,null,null,null,null,null,null,null,null,null,null,null,null,"MF"]
[956,"DL0DAN","MF1110","RADIO",null,null,null,null,null,null,null,null,null,null,null,null,null,null,null,null,"MF"]
[957,"DL4ZZ","MF1111","BERT",null,null,null,null,null,null,null,null,null,null,null,null,null,null,null,null,"MF"]
[958,"DH2OP","MF1112","JURGEN",null,null,null,null,null,null,null,null,null,null,null,null,null,null,null,null,"MF"]
[959,"DE9LKM","MF1113","KARIN",null,null,null,null,null,null,null,null,null,null,null,null,null,null,null,null,"MF"]
[960,"DL1AQU","MF1114","MICHAEL",null,null,null,null,null,null,null,null,null,null,null,null,null,null,null,null,"MF"]
[961,"SP1G","MF1115","ROMAN",null,null,null,null,null,null,null,null,null,null,null,null,null,null,null,null,"MF"]
[962,"DF6YF","MF1116","BERNHARD",null,null,null,null,null,null,null,null,null,null,null,null,null,null,null,null,{"$f":"LEFT(C963,2)","v":"MF"}]
[963,"DO2EPK","MF1117","EIGK",null,null,null,null,null,null,null,null,null,null,null,null,null,null,null,null,"MF"]
[964,"DE7WAB","MF1118",null,null,null,null,null,null,null,null,null,null,null,null,null,null,null,null,null,"MF"]
[965,"DL1BJO","MF1119",null,null,null,null,null,null,null,null,null,null,null,null,null,null,null,null,null,"MF"]
[966,"DL3RTL","MF1120",null,null,null,null,null,null,null,null,null,null,null,null,null,null,null,null,null,"MF"]
[967,"DG3BCZ","MF1121",null,null,null,null,null,null,null,null,null,null,null,null,null,null,null,null,null,"MF"]
[968,"DE8BVB","MF1122",null,null,null,null,null,null,null,null,null,null,null,null,null,null,null,null,null,"MF"]
[969,"DL8FBI","MF1123",null,null,null,null,null,null,null,null,null,null,null,null,null,null,null,null,null,"MF"]
[970,"DL1MIL","MF1124",null,null,null,null,null,null,null,null,null,null,null,null,null,null,null,null,null,"MF"]
[971,"DO6BY","MF1125",null,null,null,null,null,null,null,null,null,null,null,null,null,null,null,null,null,"MF"]
[972,"DD0CN","MF1126",null,null,null,null,null,null,null,null,null,null,null,null,null,null,null,null,null,"MF"]
[973,"DG2BAS","MF1127",null,null,null,null,null,null,null,null,null,null,null,null,null,null,null,null,null,"MF"]
[974,"DK5OPA","MF1128",null,null,null,null,null,null,null,null,null,null,null,null,null,null,null,null,null,"MF"]
[975,"DF3VM","MF1129",null,null,null,null,null,null,null,null,null,null,null,null,null,null,null,null,null,"MF"]
[976,"DM6A","MF1130",null,null,null,null,null,null,null,null,null,null,null,null,null,null,null,null,null,"MF"]
[977,"DK2YA","MF1131",null,null,null,null,null,null,null,null,null,null,null,null,null,null,null,null,null,"MF"]
[978,"DB5HN","MF1132",null,null,null,null,null,null,null,null,null,null,null,null,null,null,null,null,null,"MF"]
[979,"DL7GAR","MF1133",null,null,null,null,null,null,null,null,null,null,null,null,null,null,null,null,null,"MF"]
[980,"DK4LEH","MF1134",null,null,null,null,null,null,null,null,null,null,null,null,null,null,null,null,null,"MF"]
[981,"DL40MFR","MF1140",null,null,null,null,null,null,null,null,null,null,null,null,null,null,null,null,null,"MF"]
[982,"DL0DAO","MF1160",null,null,null,null,null,null,null,null,null,null,null,null,null,null,null,null,null,"MF"]
[983,"CS5DFG","MF1200","SHIP",null,null,null,null,null,null,null,null,null,null,null,null,null,null,null,null,"MF"]
[984,"IT9MRM","MI001","ALBERTO ",null,null,null,null,null,null,null,null,null,null,null,null,null,null,null,null,"MI"]
[985,"IT9QQL","MI002","NICOLA",null,null,null,null,null,null,null,null,null,null,null,null,null,null,null,null,"MI"]
[986,"IT9PIY","MI003","RAFFAELE ",null,null,null,null,null,null,null,null,null,null,null,null,null,null,null,null,"MI"]
[987,"IZ7ANO","MI007","LEONARDO ",null,null,null,null,null,null,null,null,null,null,null,null,null,null,null,null,"MI"]
[988,"IK2SOE","MI008","ANDREA",null,null,null,null,null,null,null,null,null,null,null,null,null,null,null,null,"MI"]
[989,"IK6IJF","MI009","ALFREDO",null,null,null,null,null,null,null,null,null,null,null,null,null,null,null,null,"MI"]
[990,"IT9WKX","MI010","VITTORIO ",null,null,null,null,null,null,null,null,null,null,null,null,null,null,null,null,"MI"]
[991,"I8XTX","MI012","PASQUALE",null,null,null,null,null,null,null,null,null,null,null,null,null,null,null,null,"MI"]
[992,"IK4WLG","MI013","LUIGI",null,null,null,null,null,null,null,null,null,null,null,null,null,null,null,null,"MI"]
[993,"IT9DTU","MI014","NUNZIO",null,null,null,null,null,null,null,null,null,null,null,null,null,null,null,null,"MI"]
[994,"IC8GVV","MI015","LUIGI",null,null,null,null,null,null,null,null,null,null,null,null,null,null,null,null,"MI"]
[995,"IK0YKK","MI016","PIERPAOLO",null,null,null,null,null,null,null,null,null,null,null,null,null,null,null,null,"MI"]
[996,"IZ2CDQ","MI017","GIOVANNI",null,null,null,null,null,null,null,null,null,null,null,null,null,null,null,null,"MI"]
[997,"IC8CQF","MI019","PASQUALE",null,null,null,null,null,null,null,null,null,null,null,null,null,null,null,null,"MI"]
[998,"IK1MVX","MI021","ANDREA",null,null,null,null,null,null,null,null,null,null,null,null,null,null,null,null,"MI"]
[999,"IK2PYX","MI022","PIERLUIGI",null,null,null,null,null,null,null,null,null,null,null,null,null,null,null,null,"MI"]
[1000,"IK8VKW","MI024","FRANCESCO",null,null,null,null,null,null,null,null,null,null,null,null,null,null,null,null,"MI"]
[1001,"IW7BWW","MI025","VINCENZO",null,null,null,null,null,null,null,null,null,null,null,null,null,null,null,null,"MI"]
[1002,"IT9YMX","MI026","CARLO",null,null,null,null,null,null,null,null,null,null,null,null,null,null,null,null,"MI"]
[1003,"IT9WDY","MI027","ALFONSO",null,null,null,null,null,null,null,null,null,null,null,null,null,null,null,null,"MI"]
[1004,"IK8YSV","MI028","MASSIMO",null,null,null,null,null,null,null,null,null,null,null,null,null,null,null,null,"MI"]
[1005,"I7TZU","MI029","FERNANDO",null,null,null,null,null,null,null,null,null,null,null,null,null,null,null,null,"MI"]
[1006,"IV3UHX","MI030","VINICIO",null,null,null,null,null,null,null,null,null,null,null,null,null,null,null,null,"MI"]
[1007,"I6HWD","MI031","DOMENICO",null,null,null,null,null,null,null,null,null,null,null,null,null,null,null,null,"MI"]
[1008,"IZ8AZC","MI032","VINCENZO",null,null,null,null,null,null,null,null,null,null,null,null,null,null,null,null,"MI"]
[1009,"IK6VHL","MI033","FABIO",null,null,null,null,null,null,null,null,null,null,null,null,null,null,null,null,"MI"]
[1010,"IZ1ELP","MI034","EDGARDO",null,null,null,null,null,null,null,null,null,null,null,null,null,null,null,null,"MI"]
[1011,"I6BQI","MI035","ANGELO",null,null,null,null,null,null,null,null,null,null,null,null,null,null,null,null,"MI"]
[1012,"II0IABB","MI036","NAVE ELETTRA",null,null,null,null,null,null,null,null,null,null,null,null,null,null,null,null,"MI"]
[1013,"IW2LRJ","MI037","ZERLINO",null,null,null,null,null,null,null,null,null,null,null,null,null,null,null,null,"MI"]
[1014,"IW2JQT","MI038","STEFANO",null,null,null,null,null,null,null,null,null,null,null,null,null,null,null,null,"MI"]
[1015,"I4JCJ","MI039","GIOVANNI",null,null,null,null,null,null,null,null,null,null,null,null,null,null,null,null,"MI"]
[1016,"I0DFY","MI040","DOMENICO",null,null,null,null,null,null,null,null,null,null,null,null,null,null,null,null,"MI"]
[1017,"IZ6EGW","MI041","ERCOLE",null,null,null,null,null,null,null,null,null,null,null,null,null,null,null,null,"MI"]
[1018,"IK0XFW","MI042","MATTEO",null,null,null,null,null,null,null,null,null,null,null,null,null,null,null,null,"MI"]
[1019,"I7WYF","MI043","FRANCO",null,null,null,null,null,null,null,null,null,null,null,null,null,null,null,null,"MI"]
[1020,"IK6IOK","MI044","WALTER",null,null,null,null,null,null,null,null,null,null,null,null,null,null,null,null,"MI"]
[1021,"IK1BES","MI045","GUIDO",null,null,null,null,null,null,null,null,null,null,null,null,null,null,null,null,"MI"]
[1022,"IW3FLC","MI047","RAFFAELE",null,null,null,null,null,null,null,null,null,null,null,null,null,null,null,null,"MI"]
[1023,"IK1DLW","MI048","GIOVANNI",null,null,null,null,null,null,null,null,null,null,null,null,null,null,null,null,"MI"]
[1024,"IK3ZBD","MI049","ANTONIO",null,null,null,null,null,null,null,null,null,null,null,null,null,null,null,null,"MI"]
[1025,"IV3ZUY","MI050","GIOVANNI",null,null,null,null,null,null,null,null,null,null,null,null,null,null,null,null,"MI"]
[1026,"IZ5ZBV","MI051","ASPASIO",null,null,null,null,null,null,null,null,null,null,null,null,null,null,null,null,{"$f":"LEFT(C1027,2)","v":"MI"}]
[1027,"IZ1CDM","MI052","ROBERTO",null,null,null,null,null,null,null,null,null,null,null,null,null,null,null,null,"MI"]
[1028,"ON4CBM","MI053","BERT",null,null,null,null,null,null,null,null,null,null,null,null,null,null,null,null,"MI"]
[1029,"IZ0DGI","MI054","GIANCARLO",null,null,null,null,null,null,null,null,null,null,null,null,null,null,null,null,"MI"]
[1030,"IK4PNE","MI056","PAOLO",null,null,null,null,null,null,null,null,null,null,null,null,null,null,null,null,"MI"]
[1031,"IK0AGH","MI057","VITTORIO",null,null,null,null,null,null,null,null,null,null,null,null,null,null,null,null,"MI"]
[1032,"I8HXG","MI058","GIUSEPPE",null,null,null,null,null,null,null,null,null,null,null,null,null,null,null,null,"MI"]
[1033,"I2AZ","MI060","GIUSEPPE",null,null,null,null,null,null,null,null,null,null,null,null,null,null,null,null,"MI"]
[1034,"IT9RUT","MI062","SEBASTIANO",null,null,null,null,null,null,null,null,null,null,null,null,null,null,null,null,"MI"]
[1035,"IW9FQJ","MI063","FABIO",null,null,null,null,null,null,null,null,null,null,null,null,null,null,null,null,"MI"]
[1036,"KE6CVH","MI064","MIKE",null,null,null,null,null,null,null,null,null,null,null,null,null,null,null,null,"MI"]
[1037,"IK6UGD","MI065","CLAUDIO",null,null,null,null,null,null,null,null,null,null,null,null,null,null,null,null,"MI"]
[1038,"IK6PUO","MI066","FILIPPO",null,null,null,null,null,null,null,null,null,null,null,null,null,null,null,null,"MI"]
[1039,"IZ8EQK","MI067","GIUSEPPE",null,null,null,null,null,null,null,null,null,null,null,null,null,null,null,null,"MI"]
[1040,"I7OXH","MI068","ALDO",null,null,null,null,null,null,null,null,null,null,null,null,null,null,null,null,"MI"]
[1041,"IW2NKY","MI069","GIUSEPPE",null,null,null,null,null,null,null,null,null,null,null,null,null,null,null,null,"MI"]
[1042,"I0AIL","MI070","GIANCARLO",null,null,null,null,null,null,null,null,null,null,null,null,null,null,null,null,"MI"]
[1043,"IW2NXN","MI071","CARLO",null,null,null,null,null,null,null,null,null,null,null,null,null,null,null,null,"MI"]
[1044,"IZ4BYD","MI072","FRANCO",null,null,null,null,null,null,null,null,null,null,null,null,null,null,null,null,"MI"]
[1045,"IZ0EGC","MI073","CARLO",null,null,null,null,null,null,null,null,null,null,null,null,null,null,null,null,"MI"]
[1046,"IV3AJZ","MI074","CLAUDIO",null,null,null,null,null,null,null,null,null,null,null,null,null,null,null,null,"MI"]
[1047,"IZ8FCN","MI075","ALESSANDRO",null,null,null,null,null,null,null,null,null,null,null,null,null,null,null,null,"MI"]
[1048,"I5NQK","MI076","ANTONIO",null,null,null,null,null,null,null,null,null,null,null,null,null,null,null,null,"MI"]
[1049,"IT9EJW","MI077","ALFIO",null,null,null,null,null,null,null,null,null,null,null,null,null,null,null,null,"MI"]
[1050,"IW2NBV","MI078","ALESSIO",null,null,null,null,null,null,null,null,null,null,null,null,null,null,null,null,"MI"]
[1051,"IW2LGL","MI079","RENATO",null,null,null,null,null,null,null,null,null,null,null,null,null,null,null,null,"MI"]
[1052,"IZ7EDQ","MI080","LEONARDO",null,null,null,null,null,null,null,null,null,null,null,null,null,null,null,null,"MI"]
[1053,"IT9MNW","MI081","GIOVANNI",null,null,null,null,null,null,null,null,null,null,null,null,null,null,null,null,"MI"]
[1054,"DL0MF","MI082","MARINEFUNKER",null,null,null,null,null,null,null,null,null,null,null,null,null,null,null,null,"MI"]
[1055,"I7HQS","MI083","GIUSEPPE",null,null,null,null,null,null,null,null,null,null,null,null,null,null,null,null,"MI"]
[1056,"IZ2NAB","MI084","GIANCARLO",null,null,null,null,null,null,null,null,null,null,null,null,null,null,null,null,"MI"]
[1057,"IK1MAJ","MI085","BRUNO",null,null,null,null,null,null,null,null,null,null,null,null,null,null,null,null,"MI"]
[1058,"IZ0AIO","MI086","ANGELO",null,null,null,null,null,null,null,null,null,null,null,null,null,null,null,null,"MI"]
[1059,"IZ7HNO","MI087","BARTOLOMEO",null,null,null,null,null,null,null,null,null,null,null,null,null,null,null,null,"MI"]
[1060,"DP1POL","MI088","FELIX",null,null,null,null,null,null,null,null,null,null,null,null,null,null,null,null,"MI"]
[1061,"IV3XYM","MI089","ALESSANDRO",null,null,null,null,null,null,null,null,null,null,null,null,null,null,null,null,"MI"]
[1062,"IK1NLZ","MI090","PAOLO",null,null,null,null,null,null,null,null,null,null,null,null,null,null,null,null,"MI"]
[1063,"IW8EHK","MI091","ALESSANDRO",null,null,null,null,null,null,null,null,null,null,null,null,null,null,null,null,"MI"]
[1064,"IK0OZB","MI092","LUIGI",null,null,null,null,null,null,null,null,null,null,null,null,null,null,null,null,"MI"]
[1065,"IW7CYA","MI093","MASSIMILIANO",null,null,null,null,null,null,null,null,null,null,null,null,null,null,null,null,"MI"]
[1066,"IV3PTU","MI094","FRANCO",null,null,null,null,null,null,null,null,null,null,null,null,null,null,null,null,"MI"]
[1067,"IM0SDX","MI095","PIERGIORGIO",null,null,null,null,null,null,null,null,null,null,null,null,null,null,null,null,"MI"]
[1068,"IW3IE","MI096","GIACOMO",null,null,null,null,null,null,null,null,null,null,null,null,null,null,null,null,"MI"]
[1069,"IZ7AUH","MI097","FRANCESCO",null,null,null,null,null,null,null,null,null,null,null,null,null,null,null,null,"MI"]
[1070,"IW3ICC","MI098","VIVIAN",null,null,null,null,null,null,null,null,null,null,null,null,null,null,null,null,"MI"]
[1071,"IK1QLD","MI100","ANGELO",null,null,null,null,null,null,null,null,null,null,null,null,null,null,null,null,"MI"]
[1072,"IW9GXT","MI101","DANIELE",null,null,null,null,null,null,null,null,null,null,null,null,null,null,null,null,"MI"]
[1073,"IK2QBA","MI102","ENRICO",null,null,null,null,null,null,null,null,null,null,null,null,null,null,null,null,"MI"]
[1074,"IW8EYM","MI103","DAVIDE",null,null,null,null,null,null,null,null,null,null,null,null,null,null,null,null,"MI"]
[1075,"IK6ZTK","MI104","MARINO",null,null,null,null,null,null,null,null,null,null,null,null,null,null,null,null,"MI"]
[1076,"IZ1GTB","MI105","CLAUDIO",null,null,null,null,null,null,null,null,null,null,null,null,null,null,null,null,"MI"]
[1077,"IK0JFS","MI106","COSMO",null,null,null,null,null,null,null,null,null,null,null,null,null,null,null,null,"MI"]
[1078,"IV3GCD","MI107","STEFANO",null,null,null,null,null,null,null,null,null,null,null,null,null,null,null,null,"MI"]
[1079,"IT9OTF","MI108","FRANCESCO",null,null,null,null,null,null,null,null,null,null,null,null,null,null,null,null,"MI"]
[1080,"SV1UG","MI109","ATHANASIOU",null,null,null,null,null,null,null,null,null,null,null,null,null,null,null,null,"MI"]
[1081,"IW9HCI","MI110","GIACOMO",null,null,null,null,null,null,null,null,null,null,null,null,null,null,null,null,"MI"]
[1082,"IK0WFZ","MI111","ROLANDO",null,null,null,null,null,null,null,null,null,null,null,null,null,null,null,null,"MI"]
[1083,"IZ1EGT","MI112","FABIO",null,null,null,null,null,null,null,null,null,null,null,null,null,null,null,null,"MI"]
[1084,"IZ1CCH","MI113","ORAZIO",null,null,null,null,null,null,null,null,null,null,null,null,null,null,null,null,"MI"]
[1085,"IZ0JSD","MI114","ALESSANDRO",null,null,null,null,null,null,null,null,null,null,null,null,null,null,null,null,"MI"]
[1086,"IW1RLR","MI116","NICOLA",null,null,null,null,null,null,null,null,null,null,null,null,null,null,null,null,"MI"]
[1087,"IK8XVA","MI117","ANTONIO",null,null,null,null,null,null,null,null,null,null,null,null,null,null,null,null,"MI"]
[1088,"IK8TEO","MI118","FRANCESCO",null,null,null,null,null,null,null,null,null,null,null,null,null,null,null,null,"MI"]
[1089,"IW1RHG","MI120","MAURO",null,null,null,null,null,null,null,null,null,null,null,null,null,null,null,null,"MI"]
[1090,"IT9PPX","MI121","GIOVANNI",null,null,null,null,null,null,null,null,null,null,null,null,null,null,null,null,{"$f":"LEFT(C1091,2)","v":"MI"}]
[1091,"IV3DVE","MI123","CORRADO",null,null,null,null,null,null,null,null,null,null,null,null,null,null,null,null,"MI"]
[1092,"IZ0FKO","MI124","STEFANO",null,null,null,null,null,null,null,null,null,null,null,null,null,null,null,null,"MI"]
[1093,"ON4CBI","MI125","CHRISTIANE",null,null,null,null,null,null,null,null,null,null,null,null,null,null,null,null,"MI"]
[1094,"IW9EFS","MI126","ANTONINO",null,null,null,null,null,null,null,null,null,null,null,null,null,null,null,null,"MI"]
[1095,"IT9YDY","MI127","CARLO",null,null,null,null,null,null,null,null,null,null,null,null,null,null,null,null,"MI"]
[1096,"IW9BMQ","MI129","MADDALENA",null,null,null,null,null,null,null,null,null,null,null,null,null,null,null,null,"MI"]
[1097,"IT9PLM","MI130","GIOVANNI",null,null,null,null,null,null,null,null,null,null,null,null,null,null,null,null,"MI"]
[1098,"IW8EYK","MI131","SERGIO",null,null,null,null,null,null,null,null,null,null,null,null,null,null,null,null,"MI"]
[1099,"I8JYK","MI132","LUIGI",null,null,null,null,null,null,null,null,null,null,null,null,null,null,null,null,"MI"]
[1100,"I6KIU","MI133","ANTONIO",null,null,null,null,null,null,null,null,null,null,null,null,null,null,null,null,"MI"]
[1101,"IW1RHR","MI134","ROBERTO",null,null,null,null,null,null,null,null,null,null,null,null,null,null,null,null,"MI"]
[1102,"IW2EJH","MI135","MARINO",null,null,null,null,null,null,null,null,null,null,null,null,null,null,null,null,"MI"]
[1103,"IW3HER","MI136","LORENZO",null,null,null,null,null,null,null,null,null,null,null,null,null,null,null,null,"MI"]
[1104,"IT9HTL","MI137","FILIPPO",null,null,null,null,null,null,null,null,null,null,null,null,null,null,null,null,"MI"]
[1105,"IZ7DOG","MI138","VITO",null,null,null,null,null,null,null,null,null,null,null,null,null,null,null,null,"MI"]
[1106,"IZ1FGY","MI139","HERVÈ",null,null,null,null,null,null,null,null,null,null,null,null,null,null,null,null,"MI"]
[1107,"IZ2GAL","MI140","SILVIO",null,null,null,null,null,null,null,null,null,null,null,null,null,null,null,null,"MI"]
[1108,"IS0RYD","MI141","MARCO",null,null,null,null,null,null,null,null,null,null,null,null,null,null,null,null,"MI"]
[1109,"IW6CZF","MI142","GIOVANNI",null,null,null,null,null,null,null,null,null,null,null,null,null,null,null,null,"MI"]
[1110,"IZ8FAV","MI143","GIORGIO",null,null,null,null,null,null,null,null,null,null,null,null,null,null,null,null,"MI"]
[1111,"IK8MFA","MI145","PIER LUIGI",null,null,null,null,null,null,null,null,null,null,null,null,null,null,null,null,"MI"]
[1112,"IK2CGH","MI146","GIOACCHINO",null,null,null,null,null,null,null,null,null,null,null,null,null,null,null,null,"MI"]
[1113,"IS0IGV","MI147","GIANNI",null,null,null,null,null,null,null,null,null,null,null,null,null,null,null,null,"MI"]
[1114,"IZ7CDE","MI148","MARCO",null,null,null,null,null,null,null,null,null,null,null,null,null,null,null,null,"MI"]
[1115,"I4IZZ","MI149","SANDRO",null,null,null,null,null,null,null,null,null,null,null,null,null,null,null,null,"MI"]
[1116,"I4RZJ","MI150","GIOVANNI",null,null,null,null,null,null,null,null,null,null,null,null,null,null,null,null,"MI"]
[1117,"IZ8EDG","MI151","CARMINE",null,null,null,null,null,null,null,null,null,null,null,null,null,null,null,null,"MI"]
[1118,"IT9JCF","MI152","GILIBERTO",null,null,null,null,null,null,null,null,null,null,null,null,null,null,null,null,"MI"]
[1119,"IZ7FUL","MI153","NICOLA",null,null,null,null,null,null,null,null,null,null,null,null,null,null,null,null,"MI"]
[1120,"I1SAF","MI154","GIULIANO",null,null,null,null,null,null,null,null,null,null,null,null,null,null,null,null,"MI"]
[1121,"IZ1FCF","MI155","FABRIZIO",null,null,null,null,null,null,null,null,null,null,null,null,null,null,null,null,"MI"]
[1122,"IW1QQV","MI156","ALESSIO",null,null,null,null,null,null,null,null,null,null,null,null,null,null,null,null,"MI"]
[1123,"IK6IHK","MI157","LUCA",null,null,null,null,null,null,null,null,null,null,null,null,null,null,null,null,"MI"]
[1124,"IW5EH","MI158","PAOLO",null,null,null,null,null,null,null,null,null,null,null,null,null,null,null,null,"MI"]
[1125,"IT9DFA","MI159","MASSIMILIANO",null,null,null,null,null,null,null,null,null,null,null,null,null,null,null,null,"MI"]
[1126,"IZ6FHZ","MI160","ROSVELDO",null,null,null,null,null,null,null,null,null,null,null,null,null,null,null,null,"MI"]
[1127,"II0IGZF","MI161","NAVE TARANTOLA",null,null,null,null,null,null,null,null,null,null,null,null,null,null,null,null,"MI"]
[1128,"IT9STX","MI162","ROBERTO",null,null,null,null,null,null,null,null,null,null,null,null,null,null,null,null,"MI"]
[1129,"IT9WMB","MI163","VINCENZO",null,null,null,null,null,null,null,null,null,null,null,null,null,null,null,null,"MI"]
[1130,"IZ6FUR","MI164","ODDONE",null,null,null,null,null,null,null,null,null,null,null,null,null,null,null,null,"MI"]
[1131,"IW0FUT","MI165","GIOVANNI",null,null,null,null,null,null,null,null,null,null,null,null,null,null,null,null,"MI"]
[1132,"IZ6FTX","MI166","GIOVANNI",null,null,null,null,null,null,null,null,null,null,null,null,null,null,null,null,"MI"]
[1133,"IT9XCV","MI167","SALVATORE",null,null,null,null,null,null,null,null,null,null,null,null,null,null,null,null,"MI"]
[1134,"IV3TWP","MI168","GIORGIO",null,null,null,null,null,null,null,null,null,null,null,null,null,null,null,null,"MI"]
[1135,"IK1XHN","MI169","DANILO",null,null,null,null,null,null,null,null,null,null,null,null,null,null,null,null,"MI"]
[1136,"IW3IAQ","MI170","STEFANO",null,null,null,null,null,null,null,null,null,null,null,null,null,null,null,null,"MI"]
[1137,"IZ2FRG","MI171","GIUSEPPE",null,null,null,null,null,null,null,null,null,null,null,null,null,null,null,null,"MI"]
[1138,"IS0MKX","MI172","GIUSEPPE",null,null,null,null,null,null,null,null,null,null,null,null,null,null,null,null,"MI"]
[1139,"IT9IJI","MI173","GIUSEPPE",null,null,null,null,null,null,null,null,null,null,null,null,null,null,null,null,"MI"]
[1140,"IK7TAM","MI174","DOMENICO",null,null,null,null,null,null,null,null,null,null,null,null,null,null,null,null,"MI"]
[1141,"IZ3HPH","MI176","GIANCARLO",null,null,null,null,null,null,null,null,null,null,null,null,null,null,null,null,"MI"]
[1142,"IT9JDB","MI177","ONOFRIO",null,null,null,null,null,null,null,null,null,null,null,null,null,null,null,null,"MI"]
[1143,"IZ8GCB","MI178","GAETANO",null,null,null,null,null,null,null,null,null,null,null,null,null,null,null,null,"MI"]
[1144,"IK2IZY","MI180","PAOLO",null,null,null,null,null,null,null,null,null,null,null,null,null,null,null,null,"MI"]
[1145,"IC8PSO","MI181","FABIEN",null,null,null,null,null,null,null,null,null,null,null,null,null,null,null,null,"MI"]
[1146,"IZ7ETP","MI182","MICHELE",null,null,null,null,null,null,null,null,null,null,null,null,null,null,null,null,"MI"]
[1147,"IV3JTG","MI183","MAURO",null,null,null,null,null,null,null,null,null,null,null,null,null,null,null,null,"MI"]
[1148,"IK7TVE","MI184","PASQUALE",null,null,null,null,null,null,null,null,null,null,null,null,null,null,null,null,"MI"]
[1149,"IZ6DWH","MI185","SALVATORE",null,null,null,null,null,null,null,null,null,null,null,null,null,null,null,null,"MI"]
[1150,"IV3HAE","MI187","FULVIO",null,null,null,null,null,null,null,null,null,null,null,null,null,null,null,null,"MI"]
[1151,"IZ1HGP","MI188","GIORGIO",null,null,null,null,null,null,null,null,null,null,null,null,null,null,null,null,"MI"]
[1152,"IW9HMA","MI189","NICOLA",null,null,null,null,null,null,null,null,null,null,null,null,null,null,null,null,"MI"]
[1153,"IW9HMB","MI190","DOMENICO",null,null,null,null,null,null,null,null,null,null,null,null,null,null,null,null,"MI"]
[1154,"IT9KPE","MI191","GIUSEPPE",null,null,null,null,null,null,null,null,null,null,null,null,null,null,null,null,{"$f":"LEFT(C1155,2)","v":"MI"}]
[1155,"IW9CBN","MI192","BENEDETTO",null,null,null,null,null,null,null,null,null,null,null,null,null,null,null,null,"MI"]
[1156,"IK0AAE","MI193","DAMIANO",null,null,null,null,null,null,null,null,null,null,null,null,null,null,null,null,"MI"]
[1157,"IW3ILA","MI194","PAOLO",null,null,null,null,null,null,null,null,null,null,null,null,null,null,null,null,"MI"]
[1158,"IW9GSP","MI195","NICOLA",null,null,null,null,null,null,null,null,null,null,null,null,null,null,null,null,"MI"]
[1159,"IW9GZI","MI196","SAVERIO",null,null,null,null,null,null,null,null,null,null,null,null,null,null,null,null,"MI"]
[1160,"IZ0GIF","MI197","ERMINIO",null,null,null,null,null,null,null,null,null,null,null,null,null,null,null,null,"MI"]
[1161,"I7HMP","MI198","PASQUALE",null,null,null,null,null,null,null,null,null,null,null,null,null,null,null,null,"MI"]
[1162,"EA8AJX","MI199","LORENZO",null,null,null,null,null,null,null,null,null,null,null,null,null,null,null,null,"MI"]
[1163,"ON4BRN","MI200","B.M.A.R.S.",null,null,null,null,null,null,null,null,null,null,null,null,null,null,null,null,"MI"]
[1164,"IW3RMV","MI201","MARCO",null,null,null,null,null,null,null,null,null,null,null,null,null,null,null,null,"MI"]
[1165,"W1QWT","MI203","BOB",null,null,null,null,null,null,null,null,null,null,null,null,null,null,null,null,"MI"]
[1166,"OE6NFK","MI204","WERNER",null,null,null,null,null,null,null,null,null,null,null,null,null,null,null,null,"MI"]
[1167,"IW2NZR","MI205","DAVIDE",null,null,null,null,null,null,null,null,null,null,null,null,null,null,null,null,"MI"]
[1168,"IZ8HNC","MI206","DOMENICO",null,null,null,null,null,null,null,null,null,null,null,null,null,null,null,null,"MI"]
[1169,"IK2WIU","MI207","CARLO",null,null,null,null,null,null,null,null,null,null,null,null,null,null,null,null,"MI"]
[1170,"IW0HPH","MI208","OSCAR",null,null,null,null,null,null,null,null,null,null,null,null,null,null,null,null,"MI"]
[1171,"IT9RYK","MI209","PIETRO",null,null,null,null,null,null,null,null,null,null,null,null,null,null,null,null,"MI"]
[1172,"G3LIK","MI210","MICK",null,null,null,null,null,null,null,null,null,null,null,null,null,null,null,null,"MI"]
[1173,"KA2ZJE","MI211","IRVING",null,null,null,null,null,null,null,null,null,null,null,null,null,null,null,null,"MI"]
[1174,"IZ1DLZ","MI212","RICCARDO",null,null,null,null,null,null,null,null,null,null,null,null,null,null,null,null,"MI"]
[1175,"IK1FVO","MI213","MASSIMO",null,null,null,null,null,null,null,null,null,null,null,null,null,null,null,null,"MI"]
[1176,"ON4CKZ","MI214","RYCKAERT",null,null,null,null,null,null,null,null,null,null,null,null,null,null,null,null,"MI"]
[1177,"IT9BQK","MI215","FABIO",null,null,null,null,null,null,null,null,null,null,null,null,null,null,null,null,"MI"]
[1178,"IW9HLX","MI216","MARCO",null,null,null,null,null,null,null,null,null,null,null,null,null,null,null,null,"MI"]
[1179,"IT9CFS","MI217","SALVATORE",null,null,null,null,null,null,null,null,null,null,null,null,null,null,null,null,"MI"]
[1180,"IT9YHT","MI218","GIANLUCA",null,null,null,null,null,null,null,null,null,null,null,null,null,null,null,null,"MI"]
[1181,"IV3EWO","MI219","STEFANO",null,null,null,null,null,null,null,null,null,null,null,null,null,null,null,null,"MI"]
[1182,"IU3CYV","MI220","TIZIANO",null,null,null,null,null,null,null,null,null,null,null,null,null,null,null,null,"MI"]
[1183,"IZ6BYS","MI221","FRANCO",null,null,null,null,null,null,null,null,null,null,null,null,null,null,null,null,"MI"]
[1184,"IV3CXS","MI222","ALESSIO",null,null,null,null,null,null,null,null,null,null,null,null,null,null,null,null,"MI"]
[1185,"I7XUW","MI224","EDOARDO",null,null,null,null,null,null,null,null,null,null,null,null,null,null,null,null,"MI"]
[1186,"IZ8JPV","MI225","GIOVANNI",null,null,null,null,null,null,null,null,null,null,null,null,null,null,null,null,"MI"]
[1187,"IW2OHM","MI226","GUIDO",null,null,null,null,null,null,null,null,null,null,null,null,null,null,null,null,"MI"]
[1188,"IW0HP","MI227","COSMO",null,null,null,null,null,null,null,null,null,null,null,null,null,null,null,null,"MI"]
[1189,"IW9HPH","MI228","GIUSEPPE",null,null,null,null,null,null,null,null,null,null,null,null,null,null,null,null,"MI"]
[1190,"IT9SPA","MI229","GIUSEPPE",null,null,null,null,null,null,null,null,null,null,null,null,null,null,null,null,"MI"]
[1191,"IV3XPP","MI230","GIULIANO",null,null,null,null,null,null,null,null,null,null,null,null,null,null,null,null,"MI"]
[1192,"IZ3GVL","MI231","CORRADO",null,null,null,null,null,null,null,null,null,null,null,null,null,null,null,null,"MI"]
[1193,"IZ0DDD","MI232","NATALE",null,null,null,null,null,null,null,null,null,null,null,null,null,null,null,null,"MI"]
[1194,"IK3AWP","MI233","ROBERTO",null,null,null,null,null,null,null,null,null,null,null,null,null,null,null,null,"MI"]
[1195,"IW9HRL","MI235","SALVATORE",null,null,null,null,null,null,null,null,null,null,null,null,null,null,null,null,"MI"]
[1196,"IW9FRA","MI236","SALVATORE",null,null,null,null,null,null,null,null,null,null,null,null,null,null,null,null,"MI"]
[1197,"I2FB","MI237","PIERLUIGI",null,null,null,null,null,null,null,null,null,null,null,null,null,null,null,null,"MI"]
[1198,"IZ0GJA","MI238","LUCA",null,null,null,null,null,null,null,null,null,null,null,null,null,null,null,null,"MI"]
[1199,"IZ0GPN","MI239","CRISTIANO",null,null,null,null,null,null,null,null,null,null,null,null,null,null,null,null,"MI"]
[1200,"IW8EPX","MI240","GIUSEPPE",null,null,null,null,null,null,null,null,null,null,null,null,null,null,null,null,"MI"]
[1201,"IZ0GZW","MI241","GIUSEPPE",null,null,null,null,null,null,null,null,null,null,null,null,null,null,null,null,"MI"]
[1202,"IK0XEZ","MI242","SALVATORE",null,null,null,null,null,null,null,null,null,null,null,null,null,null,null,null,"MI"]
[1203,"IZ0GUS","MI243","SALVATORE",null,null,null,null,null,null,null,null,null,null,null,null,null,null,null,null,"MI"]
[1204,"IK4HAQ","MI245","MARIO",null,null,null,null,null,null,null,null,null,null,null,null,null,null,null,null,"MI"]
[1205,"KM1R","MI246","MICHELE",null,null,null,null,null,null,null,null,null,null,null,null,null,null,null,null,"MI"]
[1206,"IV3YFX","MI247","MANUEL",null,null,null,null,null,null,null,null,null,null,null,null,null,null,null,null,"MI"]
[1207,"IZ8BIE","MI249","ANTONIO",null,null,null,null,null,null,null,null,null,null,null,null,null,null,null,null,"MI"]
[1208,"IS0KEB","MI250","MARCO",null,null,null,null,null,null,null,null,null,null,null,null,null,null,null,null,"MI"]
[1209,"IW0BTN","MI251","GIOVANNI",null,null,null,null,null,null,null,null,null,null,null,null,null,null,null,null,"MI"]
[1210,"IZ2YAV","MI252","PAOLO",null,null,null,null,null,null,null,null,null,null,null,null,null,null,null,null,"MI"]
[1211,"II9SUB","MI253",null,null,null,null,null,null,null,null,null,null,null,null,null,null,null,null,null,"MI"]
[1212,"I0MPX","MI255","PIETRO",null,null,null,null,null,null,null,null,null,null,null,null,null,null,null,null,"MI"]
[1213,"IW3RGT","MI256","PIETRO",null,null,null,null,null,null,null,null,null,null,null,null,null,null,null,null,"MI"]
[1214,"IZ3CAR","MI257","CESARE",null,null,null,null,null,null,null,null,null,null,null,null,null,null,null,null,"MI"]
[1215,"IW9HQZ","MI258","SALVATORE",null,null,null,null,null,null,null,null,null,null,null,null,null,null,null,null,"MI"]
[1216,"I4WJO","MI259","CLARBRUNO",null,null,null,null,null,null,null,null,null,null,null,null,null,null,null,null,"MI"]
[1217,"IW1PDP","MI260","RUBENS",null,null,null,null,null,null,null,null,null,null,null,null,null,null,null,null,"MI"]
[1218,"IZ8EZP","MI261","MARIO",null,null,null,null,null,null,null,null,null,null,null,null,null,null,null,null,{"$f":"LEFT(C1219,2)","v":"MI"}]
[1219,"IK5ZOT","MI262","MARCO",null,null,null,null,null,null,null,null,null,null,null,null,null,null,null,null,"MI"]
[1220,"I1SCL","MI264","OVIDIO",null,null,null,null,null,null,null,null,null,null,null,null,null,null,null,null,"MI"]
[1221,"IZ5GTV","MI265","PAOLO",null,null,null,null,null,null,null,null,null,null,null,null,null,null,null,null,"MI"]
[1222,"IW1RFZ","MI266","MASSIMILIANO",null,null,null,null,null,null,null,null,null,null,null,null,null,null,null,null,"MI"]
[1223,"IZ0IJC","MI267","CARLO",null,null,null,null,null,null,null,null,null,null,null,null,null,null,null,null,"MI"]
[1224,"PA5UL","MI268","PAUL",null,null,null,null,null,null,null,null,null,null,null,null,null,null,null,null,"MI"]
[1225,"I1ANP","MI269","MARIO",null,null,null,null,null,null,null,null,null,null,null,null,null,null,null,null,"MI"]
[1226,"I1ZB","MI270","ANTONIO",null,null,null,null,null,null,null,null,null,null,null,null,null,null,null,null,"MI"]
[1227,"IK2WXO","MI271","CIRO",null,null,null,null,null,null,null,null,null,null,null,null,null,null,null,null,"MI"]
[1228,"IN3VHA","MI272","SILVANO",null,null,null,null,null,null,null,null,null,null,null,null,null,null,null,null,"MI"]
[1229,"IZ5ILX","MI273","VALENTINO",null,null,null,null,null,null,null,null,null,null,null,null,null,null,null,null,"MI"]
[1230,"IZ0HSE","MI274","MASSIMO",null,null,null,null,null,null,null,null,null,null,null,null,null,null,null,null,"MI"]
[1231,"IZ0INU","MI275","ALDO",null,null,null,null,null,null,null,null,null,null,null,null,null,null,null,null,"MI"]
[1232,"I4YHH","MI276","CLAUDIO",null,null,null,null,null,null,null,null,null,null,null,null,null,null,null,null,"MI"]
[1233,"IK1UVQ","MI277","MASSIMO",null,null,null,null,null,null,null,null,null,null,null,null,null,null,null,null,"MI"]
[1234,"IZ1HIE","MI278","FRANCO",null,null,null,null,null,null,null,null,null,null,null,null,null,null,null,null,"MI"]
[1235,"IZ0KON","MI279","GIOVANNI",null,null,null,null,null,null,null,null,null,null,null,null,null,null,null,null,"MI"]
[1236,"IZ5KYZ","MI280","ROBERTO",null,null,null,null,null,null,null,null,null,null,null,null,null,null,null,null,"MI"]
[1237,"IZ0FVJ","MI281","FABRIZIO",null,null,null,null,null,null,null,null,null,null,null,null,null,null,null,null,"MI"]
[1238,"I4THX","MI283","CRISTOFORO",null,null,null,null,null,null,null,null,null,null,null,null,null,null,null,null,"MI"]
[1239,"IZ7FLL","MI284","ALESSANDRO",null,null,null,null,null,null,null,null,null,null,null,null,null,null,null,null,"MI"]
[1240,"II0IHAN","MI287","NAVE ANTEO",null,null,null,null,null,null,null,null,null,null,null,null,null,null,null,null,"MI"]
[1241,"IZ1JFK","MI288","CLAUDIO",null,null,null,null,null,null,null,null,null,null,null,null,null,null,null,null,"MI"]
[1242,"IK0TXG","MI290","FRANCESCO",null,null,null,null,null,null,null,null,null,null,null,null,null,null,null,null,"MI"]
[1243,"IN3DQU","MI292","MICHELE",null,null,null,null,null,null,null,null,null,null,null,null,null,null,null,null,"MI"]
[1244,"IZ1DXP","MI293","GAETANO",null,null,null,null,null,null,null,null,null,null,null,null,null,null,null,null,"MI"]
[1245,"IZ8JCW","MI294","FABIO",null,null,null,null,null,null,null,null,null,null,null,null,null,null,null,null,"MI"]
[1246,"I7LMR","MI295","LUCA",null,null,null,null,null,null,null,null,null,null,null,null,null,null,null,null,"MI"]
[1247,"IK1VGK","MI296","ROBERTO",null,null,null,null,null,null,null,null,null,null,null,null,null,null,null,null,"MI"]
[1248,"I1YTO","MI297","CARMELO",null,null,null,null,null,null,null,null,null,null,null,null,null,null,null,null,"MI"]
[1249,"IS0QCV","MI299","ALBINO",null,null,null,null,null,null,null,null,null,null,null,null,null,null,null,null,"MI"]
[1250,"IQ9MQ","MI300","HEADQUARTERS",null,null,null,null,null,null,null,null,null,null,null,null,null,null,null,null,"MI"]
[1251,"I5ES","MI301","EGIDIO",null,null,null,null,null,null,null,null,null,null,null,null,null,null,null,null,"MI"]
[1252,"IK6YXM","MI302","MATTEO",null,null,null,null,null,null,null,null,null,null,null,null,null,null,null,null,"MI"]
[1253,"IZ1GJK","MI303","MAURIZIO",null,null,null,null,null,null,null,null,null,null,null,null,null,null,null,null,"MI"]
[1254,"DL6LAO","MI304","WOLFGANG",null,null,null,null,null,null,null,null,null,null,null,null,null,null,null,null,"MI"]
[1255,"IZ0DBA","MI306","GIACOMO",null,null,null,null,null,null,null,null,null,null,null,null,null,null,null,null,"MI"]
[1256,"IT9YEM","MI307","MARIO",null,null,null,null,null,null,null,null,null,null,null,null,null,null,null,null,"MI"]
[1257,"IK7WDS","MI308","ANTONIO",null,null,null,null,null,null,null,null,null,null,null,null,null,null,null,null,"MI"]
[1258,"IZ0KNA","MI309","ENZO",null,null,null,null,null,null,null,null,null,null,null,null,null,null,null,null,"MI"]
[1259,"IZ0IWL","MI310","GABRIELE",null,null,null,null,null,null,null,null,null,null,null,null,null,null,null,null,"MI"]
[1260,"IT9RJQ","MI311","LORENZO",null,null,null,null,null,null,null,null,null,null,null,null,null,null,null,null,"MI"]
[1261,"HB9EDG","MI313","FRANCO",null,null,null,null,null,null,null,null,null,null,null,null,null,null,null,null,"MI"]
[1262,"II1IGGA","MI314","NAVE AQUILANTE",null,null,null,null,null,null,null,null,null,null,null,null,null,null,null,null,"MI"]
[1263,"IK4NOW","MI315","GIOVANNI",null,null,null,null,null,null,null,null,null,null,null,null,null,null,null,null,"MI"]
[1264,"IZ1LEB","MI316","MARIA",null,null,null,null,null,null,null,null,null,null,null,null,null,null,null,null,"MI"]
[1265,"DE3MKM","MI317","MICHAEL",null,null,null,null,null,null,null,null,null,null,null,null,null,null,null,null,"MI"]
[1266,"IW2CMA","MI318","GIOVANNI",null,null,null,null,null,null,null,null,null,null,null,null,null,null,null,null,"MI"]
[1267,"I6DRF","MI319","FRANCESCO",null,null,null,null,null,null,null,null,null,null,null,null,null,null,null,null,"MI"]
[1268,"IZ6BUV","MI320","LEO",null,null,null,null,null,null,null,null,null,null,null,null,null,null,null,null,"MI"]
[1269,"IZ1LRB","MI321","ANTONIO",null,null,null,null,null,null,null,null,null,null,null,null,null,null,null,null,"MI"]
[1270,"IZ7CTE","MI322","ANGELO",null,null,null,null,null,null,null,null,null,null,null,null,null,null,null,null,"MI"]
[1271,"IK7LQE","MI323","VINCENZO",null,null,null,null,null,null,null,null,null,null,null,null,null,null,null,null,"MI"]
[1272,"IW5DIB","MI324","ANTONELLO",null,null,null,null,null,null,null,null,null,null,null,null,null,null,null,null,"MI"]
[1273,"M0HEM","MI325","JOHN",null,null,null,null,null,null,null,null,null,null,null,null,null,null,null,null,"MI"]
[1274,"YO6EX","MI326","VASILE",null,null,null,null,null,null,null,null,null,null,null,null,null,null,null,null,"MI"]
[1275,"IZ0FVD","MI327","GIULIO",null,null,null,null,null,null,null,null,null,null,null,null,null,null,null,null,"MI"]
[1276,"IZ3FJJ","MI328","LARRY",null,null,null,null,null,null,null,null,null,null,null,null,null,null,null,null,"MI"]
[1277,"IZ1HKE","MI329","ALESSANDRO",null,null,null,null,null,null,null,null,null,null,null,null,null,null,null,null,"MI"]
[1278,"IZ1JJE","MI330","LUCIA",null,null,null,null,null,null,null,null,null,null,null,null,null,null,null,null,"MI"]
[1279,"IW1QN","MI331","FEDERICO",null,null,null,null,null,null,null,null,null,null,null,null,null,null,null,null,"MI"]
[1280,"IW3IKR","MI332","MAURO",null,null,null,null,null,null,null,null,null,null,null,null,null,null,null,null,"MI"]
[1281,"IZ2ELV","MI333","EMANUELA",null,null,null,null,null,null,null,null,null,null,null,null,null,null,null,null,"MI"]
[1282,"IZ2EXA","MI334","FULVIO",null,null,null,null,null,null,null,null,null,null,null,null,null,null,null,null,{"$f":"LEFT(C1283,2)","v":"MI"}]
[1283,"IZ3LHX","MI335","RAUL",null,null,null,null,null,null,null,null,null,null,null,null,null,null,null,null,"MI"]
[1284,"I8URR","MI336","ANTONIO",null,null,null,null,null,null,null,null,null,null,null,null,null,null,null,null,"MI"]
[1285,"DL6ATM","MI337","WILFRIED",null,null,null,null,null,null,null,null,null,null,null,null,null,null,null,null,"MI"]
[1286,"IS0RDY","MI338","MARIANO",null,null,null,null,null,null,null,null,null,null,null,null,null,null,null,null,"MI"]
[1287,"DE3EAR","MI339","HANS-JURGEN",null,null,null,null,null,null,null,null,null,null,null,null,null,null,null,null,"MI"]
[1288,"IZ0IMU","MI340","LAURO",null,null,null,null,null,null,null,null,null,null,null,null,null,null,null,null,"MI"]
[1289,"IZ2BQD","MI341","MARCO",null,null,null,null,null,null,null,null,null,null,null,null,null,null,null,null,"MI"]
[1290,"IZ5IOX","MI342","MICHELE",null,null,null,null,null,null,null,null,null,null,null,null,null,null,null,null,"MI"]
[1291,"IK5DEZ","MI343","MAURIZIO",null,null,null,null,null,null,null,null,null,null,null,null,null,null,null,null,"MI"]
[1292,"IZ1MLV","MI344","ERMANNO",null,null,null,null,null,null,null,null,null,null,null,null,null,null,null,null,"MI"]
[1293,"IT9COG","MI345","GIUSEPPE",null,null,null,null,null,null,null,null,null,null,null,null,null,null,null,null,"MI"]
[1294,"IZ7MFF","MI347","GIORGIO",null,null,null,null,null,null,null,null,null,null,null,null,null,null,null,null,"MI"]
[1295,"DH2MS","MI348","MANFRED",null,null,null,null,null,null,null,null,null,null,null,null,null,null,null,null,"MI"]
[1296,"IK5TBI","MI349","EMILIO",null,null,null,null,null,null,null,null,null,null,null,null,null,null,null,null,"MI"]
[1297,"IZ0EIK","MI350","ERICA",null,null,null,null,null,null,null,null,null,null,null,null,null,null,null,null,"MI"]
[1298,"IZ5MOQ","MI351","ALESSANDRO",null,null,null,null,null,null,null,null,null,null,null,null,null,null,null,null,"MI"]
[1299,"IZ8IYX","MI352","PASQUALE",null,null,null,null,null,null,null,null,null,null,null,null,null,null,null,null,"MI"]
[1300,"IT9QPZ","MI353","LEONARDO",null,null,null,null,null,null,null,null,null,null,null,null,null,null,null,null,"MI"]
[1301,"IZ7LFR","MI354","LEONARDO",null,null,null,null,null,null,null,null,null,null,null,null,null,null,null,null,"MI"]
[1302,"IZ6ASI","MI355","MARCO",null,null,null,null,null,null,null,null,null,null,null,null,null,null,null,null,"MI"]
[1303,"IZ7FLP","MI356","GIOVANNI",null,null,null,null,null,null,null,null,null,null,null,null,null,null,null,null,"MI"]
[1304,"IK1RKN","MI357","GINO",null,null,null,null,null,null,null,null,null,null,null,null,null,null,null,null,"MI"]
[1305,"IW9DBE","MI358","CLAUDIO",null,null,null,null,null,null,null,null,null,null,null,null,null,null,null,null,"MI"]
[1306,"IW9HDM","MI359","SANTI",null,null,null,null,null,null,null,null,null,null,null,null,null,null,null,null,"MI"]
[1307,"IZ8IZA","MI360","RAFFAELE",null,null,null,null,null,null,null,null,null,null,null,null,null,null,null,null,"MI"]
[1308,"IZ7NDH","MI361","MASSIMO",null,null,null,null,null,null,null,null,null,null,null,null,null,null,null,null,"MI"]
[1309,"IZ6MPZ","MI362","CRISTIANO",null,null,null,null,null,null,null,null,null,null,null,null,null,null,null,null,"MI"]
[1310,"IZ0MXW","MI363","FRANCESCO",null,null,null,null,null,null,null,null,null,null,null,null,null,null,null,null,"MI"]
[1311,"I6PMV","MI364","VITTORIO",null,null,null,null,null,null,null,null,null,null,null,null,null,null,null,null,"MI"]
[1312,"CT1CZT","MI365","ANTONIO",null,null,null,null,null,null,null,null,null,null,null,null,null,null,null,null,"MI"]
[1313,"CT1EGH","MI366","ANTONIO",null,null,null,null,null,null,null,null,null,null,null,null,null,null,null,null,"MI"]
[1314,"IZ4AGI","MI367","MAURIZIO",null,null,null,null,null,null,null,null,null,null,null,null,null,null,null,null,"MI"]
[1315,"IZ6FUQ","MI368","STEFANO",null,null,null,null,null,null,null,null,null,null,null,null,null,null,null,null,"MI"]
[1316,"SV5DKL","MI369","EFSTATHIOS",null,null,null,null,null,null,null,null,null,null,null,null,null,null,null,null,"MI"]
[1317,"HE9SOL","MI370","FRANZ",null,null,null,null,null,null,null,null,null,null,null,null,null,null,null,null,"MI"]
[1318,"I2WEQ","MI371","MARCO",null,null,null,null,null,null,null,null,null,null,null,null,null,null,null,null,"MI"]
[1319,"I1UMK","MI372","MARCO",null,null,null,null,null,null,null,null,null,null,null,null,null,null,null,null,"MI"]
[1320,"I1NVW","MI373","ANNA",null,null,null,null,null,null,null,null,null,null,null,null,null,null,null,null,"MI"]
[1321,"IK1MDF","MI374","LORENZO",null,null,null,null,null,null,null,null,null,null,null,null,null,null,null,null,"MI"]
[1322,"IW0GBU","MI375","GIOVANNI",null,null,null,null,null,null,null,null,null,null,null,null,null,null,null,null,"MI"]
[1323,"IW0HOQ","MI377","ALBERTO",null,null,null,null,null,null,null,null,null,null,null,null,null,null,null,null,"MI"]
[1324,"IZ0IVZ","MI378","ALFREDO",null,null,null,null,null,null,null,null,null,null,null,null,null,null,null,null,"MI"]
[1325,"IS0YHV","MI379","ANTONIO",null,null,null,null,null,null,null,null,null,null,null,null,null,null,null,null,"MI"]
[1326,"IN3UFW","MI380","MARCO",null,null,null,null,null,null,null,null,null,null,null,null,null,null,null,null,"MI"]
[1327,"IZ8LHE","MI381","MAURIZIO",null,null,null,null,null,null,null,null,null,null,null,null,null,null,null,null,"MI"]
[1328,"IZ0GXD","MI382","FRANCO",null,null,null,null,null,null,null,null,null,null,null,null,null,null,null,null,"MI"]
[1329,"DL0ITU","MI383","DARC",null,null,null,null,null,null,null,null,null,null,null,null,null,null,null,null,"MI"]
[1330,"I1QOD","MI383","ALBERTO",null,null,null,null,null,null,null,null,null,null,null,null,null,null,null,null,"MI"]
[1331,"CS5NRA","MI385","NUCLEO",null,null,null,null,null,null,null,null,null,null,null,null,null,null,null,null,"MI"]
[1332,"IZ0IMR","MI387","DOMENICO",null,null,null,null,null,null,null,null,null,null,null,null,null,null,null,null,"MI"]
[1333,"IZ5MXZ","MI388","LEONARDO",null,null,null,null,null,null,null,null,null,null,null,null,null,null,null,null,"MI"]
[1334,"F6BNM","MI389","STEPHANE",null,null,null,null,null,null,null,null,null,null,null,null,null,null,null,null,"MI"]
[1335,"IW9ESK","MI390","FRANCESCO",null,null,null,null,null,null,null,null,null,null,null,null,null,null,null,null,"MI"]
[1336,"IK0QDI","MI392","BENEDETTO",null,null,null,null,null,null,null,null,null,null,null,null,null,null,null,null,"MI"]
[1337,"IW8RRB","MI394","PAOLO",null,null,null,null,null,null,null,null,null,null,null,null,null,null,null,null,"MI"]
[1338,"IK2UCF","MI396","LORIS",null,null,null,null,null,null,null,null,null,null,null,null,null,null,null,null,"MI"]
[1339,"2E0RPS","MI397","RODRIGO",null,null,null,null,null,null,null,null,null,null,null,null,null,null,null,null,"MI"]
[1340,"IZ2GIL","MI398","GILBERTO",null,null,null,null,null,null,null,null,null,null,null,null,null,null,null,null,"MI"]
[1341,"I2FGT","MI399","GIULIO",null,null,null,null,null,null,null,null,null,null,null,null,null,null,null,null,"MI"]
[1342,"IY1SP","MI400","MUSEO",null,null,null,null,null,null,null,null,null,null,null,null,null,null,null,null,"MI"]
[1343,"IW2NUY","MI401","MARCO",null,null,null,null,null,null,null,null,null,null,null,null,null,null,null,null,"MI"]
[1344,"IW7CFO","MI402","IGNAZIO",null,null,null,null,null,null,null,null,null,null,null,null,null,null,null,null,"MI"]
[1345,"IZ0HPX","MI403","DINO",null,null,null,null,null,null,null,null,null,null,null,null,null,null,null,null,"MI"]
[1346,"I1CMA","MI404","MARCO",null,null,null,null,null,null,null,null,null,null,null,null,null,null,null,null,{"$f":"LEFT(C1347,2)","v":"MI"}]
[1347,"IZ5MMK","MI405","MIRKO",null,null,null,null,null,null,null,null,null,null,null,null,null,null,null,null,"MI"]
[1348,"I7IJU","MI406","CARLO",null,null,null,null,null,null,null,null,null,null,null,null,null,null,null,null,"MI"]
[1349,"IK3RBT","MI407","ARISTIDE",null,null,null,null,null,null,null,null,null,null,null,null,null,null,null,null,"MI"]
[1350,"IZ7WXI","MI408","ERNESTO",null,null,null,null,null,null,null,null,null,null,null,null,null,null,null,null,"MI"]
[1351,"IT9DQM","MI409","GIOVANNI",null,null,null,null,null,null,null,null,null,null,null,null,null,null,null,null,"MI"]
[1352,"IQ7TA","MI410","ARI",null,null,null,null,null,null,null,null,null,null,null,null,null,null,null,null,"MI"]
[1353,"IK7BPV","MI411","RAFFAELE",null,null,null,null,null,null,null,null,null,null,null,null,null,null,null,null,"MI"]
[1354,"IK7GIM","MI412","EUPREMIO",null,null,null,null,null,null,null,null,null,null,null,null,null,null,null,null,"MI"]
[1355,"IK1FXX","MI414","MASSIMO",null,null,null,null,null,null,null,null,null,null,null,null,null,null,null,null,"MI"]
[1356,"IW1FGY","MI415","FRANCO",null,null,null,null,null,null,null,null,null,null,null,null,null,null,null,null,"MI"]
[1357,"IW5EEC","MI416","GIONNJ",null,null,null,null,null,null,null,null,null,null,null,null,null,null,null,null,"MI"]
[1358,"R5GM","MI417","YURI",null,null,null,null,null,null,null,null,null,null,null,null,null,null,null,null,"MI"]
[1359,"IZ0EHW","MI418","GAETANO",null,null,null,null,null,null,null,null,null,null,null,null,null,null,null,null,"MI"]
[1360,"I0SNA","MI419","ANTONIO",null,null,null,null,null,null,null,null,null,null,null,null,null,null,null,null,"MI"]
[1361,"IK6BGJ","MI422","GIUSTINO",null,null,null,null,null,null,null,null,null,null,null,null,null,null,null,null,"MI"]
[1362,"DF4BV","MI424","HEINZ",null,null,null,null,null,null,null,null,null,null,null,null,null,null,null,null,"MI"]
[1363,"OH1NAVY","MI425","CLUBSTATION",null,null,null,null,null,null,null,null,null,null,null,null,null,null,null,null,"MI"]
[1364,"LY2MM","MI426","ALBINAS",null,null,null,null,null,null,null,null,null,null,null,null,null,null,null,null,"MI"]
[1365,"IZ4GAC","MI427","STEFANO",null,null,null,null,null,null,null,null,null,null,null,null,null,null,null,null,"MI"]
[1366,"SV1HEM","MI428","GIORGOS",null,null,null,null,null,null,null,null,null,null,null,null,null,null,null,null,"MI"]
[1367,"IZ7SGV","MI429","GIOVANNI",null,null,null,null,null,null,null,null,null,null,null,null,null,null,null,null,"MI"]
[1368,"IZ7NRJ","MI430","RAFFAELE",null,null,null,null,null,null,null,null,null,null,null,null,null,null,null,null,"MI"]
[1369,"IW3IBF","MI431","STEFANO",null,null,null,null,null,null,null,null,null,null,null,null,null,null,null,null,"MI"]
[1370,"IZ6FZS","MI432","MIRKO",null,null,null,null,null,null,null,null,null,null,null,null,null,null,null,null,"MI"]
[1371,"IK7ARK","MI433","FRANCESCO",null,null,null,null,null,null,null,null,null,null,null,null,null,null,null,null,"MI"]
[1372,"IW7CIV","MI434","VINCENZO",null,null,null,null,null,null,null,null,null,null,null,null,null,null,null,null,"MI"]
[1373,"IZ7MSJ","MI435","LUIGI",null,null,null,null,null,null,null,null,null,null,null,null,null,null,null,null,"MI"]
[1374,"IZ7NTJ","MI436","ROCCO",null,null,null,null,null,null,null,null,null,null,null,null,null,null,null,null,"MI"]
[1375,"IS0UWS","MI438","FERNANDO",null,null,null,null,null,null,null,null,null,null,null,null,null,null,null,null,"MI"]
[1376,"IK1AAS","MI439","BRUNO",null,null,null,null,null,null,null,null,null,null,null,null,null,null,null,null,"MI"]
[1377,"IZ7OJL","MI441","ENZO",null,null,null,null,null,null,null,null,null,null,null,null,null,null,null,null,"MI"]
[1378,"IS0MMM","MI442","MARCO",null,null,null,null,null,null,null,null,null,null,null,null,null,null,null,null,"MI"]
[1379,"IS0RVH","MI443","PAOLO",null,null,null,null,null,null,null,null,null,null,null,null,null,null,null,null,"MI"]
[1380,"IW1PRT","MI444","ALBERTO",null,null,null,null,null,null,null,null,null,null,null,null,null,null,null,null,"MI"]
[1381,"IK2OFR","MI446","MASSIMO",null,null,null,null,null,null,null,null,null,null,null,null,null,null,null,null,"MI"]
[1382,"IZ3NVC","MI447","CARLO",null,null,null,null,null,null,null,null,null,null,null,null,null,null,null,null,"MI"]
[1383,"IK0UAG","MI448","FRANCESCO",null,null,null,null,null,null,null,null,null,null,null,null,null,null,null,null,"MI"]
[1384,"IT9CPV","MI449","NICOLÒ",null,null,null,null,null,null,null,null,null,null,null,null,null,null,null,null,"MI"]
[1385,"II1ICS","MI450","MARITELE LA SPEZIA",null,null,null,null,null,null,null,null,null,null,null,null,null,null,null,null,"MI"]
[1386,"IT9HUV","MI451","SALVATORE",null,null,null,null,null,null,null,null,null,null,null,null,null,null,null,null,"MI"]
[1387,"IZ0DZM","MI452","STEFANIA",null,null,null,null,null,null,null,null,null,null,null,null,null,null,null,null,"MI"]
[1388,"I6CAD","MI453","PASQUALINO",null,null,null,null,null,null,null,null,null,null,null,null,null,null,null,null,"MI"]
[1389,"I1DWD","MI454","DOMENICO",null,null,null,null,null,null,null,null,null,null,null,null,null,null,null,null,"MI"]
[1390,"IQ2MI","MI455","ARI MILANO",null,null,null,null,null,null,null,null,null,null,null,null,null,null,null,null,"MI"]
[1391,"IW6PEN","MI457","LORENZO",null,null,null,null,null,null,null,null,null,null,null,null,null,null,null,null,"MI"]
[1392,"IT9VIH","MI458","SALVATORE",null,null,null,null,null,null,null,null,null,null,null,null,null,null,null,null,"MI"]
[1393,"IZ7NPH","MI459","ONOFRIO",null,null,null,null,null,null,null,null,null,null,null,null,null,null,null,null,"MI"]
[1394,"IS0MLS","MI460","ANTONELLO",null,null,null,null,null,null,null,null,null,null,null,null,null,null,null,null,"MI"]
[1395,"IS0FQK","MI461","PATRIZIO",null,null,null,null,null,null,null,null,null,null,null,null,null,null,null,null,"MI"]
[1396,"IT9ENJ","MI462","SALVATORE",null,null,null,null,null,null,null,null,null,null,null,null,null,null,null,null,"MI"]
[1397,"IS0PEV","MI464","SERGIO",null,null,null,null,null,null,null,null,null,null,null,null,null,null,null,null,"MI"]
[1398,"IZ0MJH","MI465","MARY",null,null,null,null,null,null,null,null,null,null,null,null,null,null,null,null,"MI"]
[1399,"IZ5OWZ","MI466","MARIO",null,null,null,null,null,null,null,null,null,null,null,null,null,null,null,null,"MI"]
[1400,"IZ1BZV","MI467","GIORGIO",null,null,null,null,null,null,null,null,null,null,null,null,null,null,null,null,"MI"]
[1401,"IZ1MHQ","MI468","ANDREA",null,null,null,null,null,null,null,null,null,null,null,null,null,null,null,null,"MI"]
[1402,"I1ULJ","MI469","SALVATORE",null,null,null,null,null,null,null,null,null,null,null,null,null,null,null,null,"MI"]
[1403,"IT9PBR","MI470","PIERO",null,null,null,null,null,null,null,null,null,null,null,null,null,null,null,null,"MI"]
[1404,"IZ1MHY","MI471","ANDREA",null,null,null,null,null,null,null,null,null,null,null,null,null,null,null,null,"MI"]
[1405,"IK7FBK","MI472","LUCIO",null,null,null,null,null,null,null,null,null,null,null,null,null,null,null,null,"MI"]
[1406,"IK1SLO","MI473","GABRIELE",null,null,null,null,null,null,null,null,null,null,null,null,null,null,null,null,"MI"]
[1407,"IK7EOT","MI475","FRANCESO",null,null,null,null,null,null,null,null,null,null,null,null,null,null,null,null,"MI"]
[1408,"IZ0AMM","MI477","LORENZO",null,null,null,null,null,null,null,null,null,null,null,null,null,null,null,null,"MI"]
[1409,"IK3OGI","MI478","SALVATORE",null,null,null,null,null,null,null,null,null,null,null,null,null,null,null,null,"MI"]
[1410,"IK1ZFO","MI479","LUIGI",null,null,null,null,null,null,null,null,null,null,null,null,null,null,null,null,{"$f":"LEFT(C1411,2)","v":"MI"}]
[1411,"IZ3NYS","MI480","ALESSANDRO",null,null,null,null,null,null,null,null,null,null,null,null,null,null,null,null,"MI"]
[1412,"I0YQX","MI481","ITALO",null,null,null,null,null,null,null,null,null,null,null,null,null,null,null,null,"MI"]
[1413,"S53EO","MI483","MILOS",null,null,null,null,null,null,null,null,null,null,null,null,null,null,null,null,"MI"]
[1414,"IZ8NXG","MI484","RENATO",null,null,null,null,null,null,null,null,null,null,null,null,null,null,null,null,"MI"]
[1415,"IW3IMF","MI485","DANIELE",null,null,null,null,null,null,null,null,null,null,null,null,null,null,null,null,"MI"]
[1416,"IZ1PNY","MI486","CARMELO",null,null,null,null,null,null,null,null,null,null,null,null,null,null,null,null,"MI"]
[1417,"IW3GTM","MI487","ROBERTO",null,null,null,null,null,null,null,null,null,null,null,null,null,null,null,null,"MI"]
[1418,"IK2SON","MI488","ANTONIO",null,null,null,null,null,null,null,null,null,null,null,null,null,null,null,null,"MI"]
[1419,"IZ2HDJ","MI489","GIANMICHELE",null,null,null,null,null,null,null,null,null,null,null,null,null,null,null,null,"MI"]
[1420,"IK0IXI","MI490","FABIO",null,null,null,null,null,null,null,null,null,null,null,null,null,null,null,null,"MI"]
[1421,"IW9HMQ","MI492","MAURO",null,null,null,null,null,null,null,null,null,null,null,null,null,null,null,null,"MI"]
[1422,"IZ1PIO","MI493","ANGELO",null,null,null,null,null,null,null,null,null,null,null,null,null,null,null,null,"MI"]
[1423,"IT9LYF","MI494","ACHILLE",null,null,null,null,null,null,null,null,null,null,null,null,null,null,null,null,"MI"]
[1424,"IK1OOG","MI495","GIORGIO",null,null,null,null,null,null,null,null,null,null,null,null,null,null,null,null,"MI"]
[1425,"IZ8PPI","MI496","LUIGI",null,null,null,null,null,null,null,null,null,null,null,null,null,null,null,null,"MI"]
[1426,"I1YRL","MI497","LUC",null,null,null,null,null,null,null,null,null,null,null,null,null,null,null,null,"MI"]
[1427,"IK7EJT","MI498","SIMPLICIO",null,null,null,null,null,null,null,null,null,null,null,null,null,null,null,null,"MI"]
[1428,"II0IDP","MI500","MARITELE CAGLIARI",null,null,null,null,null,null,null,null,null,null,null,null,null,null,null,null,"MI"]
[1429,"IZ8OGK","MI501","GENNARO ",null,null,null,null,null,null,null,null,null,null,null,null,null,null,null,null,"MI"]
[1430,"DL5OCC","MI502","KURT",null,null,null,null,null,null,null,null,null,null,null,null,null,null,null,null,"MI"]
[1431,"IZ4HXT","MI503","ANTONIO",null,null,null,null,null,null,null,null,null,null,null,null,null,null,null,null,"MI"]
[1432,"IW0HAQ","MI504","VITO",null,null,null,null,null,null,null,null,null,null,null,null,null,null,null,null,"MI"]
[1433,"IQ4VU","MI505","C.E.R. PIACENZA",null,null,null,null,null,null,null,null,null,null,null,null,null,null,null,null,"MI"]
[1434,"IZ7AVR","MI506","ALBERTO",null,null,null,null,null,null,null,null,null,null,null,null,null,null,null,null,"MI"]
[1435,"IZ2QGJ","MI507","CARLO",null,null,null,null,null,null,null,null,null,null,null,null,null,null,null,null,"MI"]
[1436,"IT9RRU","MI508","MAURIZIO",null,null,null,null,null,null,null,null,null,null,null,null,null,null,null,null,"MI"]
[1437,"IW5EJP","MI510","BRUNO",null,null,null,null,null,null,null,null,null,null,null,null,null,null,null,null,"MI"]
[1438,"IZ0PAU","MI511","MARCELLO",null,null,null,null,null,null,null,null,null,null,null,null,null,null,null,null,"MI"]
[1439,"IZ2HAN","MI512","FRANCO",null,null,null,null,null,null,null,null,null,null,null,null,null,null,null,null,"MI"]
[1440,"IT9AWC","MI513","SALVATORE",null,null,null,null,null,null,null,null,null,null,null,null,null,null,null,null,"MI"]
[1441,"IZ8QNX","MI514","LUCIO",null,null,null,null,null,null,null,null,null,null,null,null,null,null,null,null,"MI"]
[1442,"IZ0OVZ","MI516","ANGELO",null,null,null,null,null,null,null,null,null,null,null,null,null,null,null,null,"MI"]
[1443,"IZ8OFO","MI517","CARLO",null,null,null,null,null,null,null,null,null,null,null,null,null,null,null,null,"MI"]
[1444,"IZ3XGV","MI518","EMILIO",null,null,null,null,null,null,null,null,null,null,null,null,null,null,null,null,"MI"]
[1445,"IT9NVA","MI519","VINCENZO",null,null,null,null,null,null,null,null,null,null,null,null,null,null,null,null,"MI"]
[1446,"IT9NCO","MI520","ANTONIO",null,null,null,null,null,null,null,null,null,null,null,null,null,null,null,null,"MI"]
[1447,"IK8SOL","MI521","FRANCESCO",null,null,null,null,null,null,null,null,null,null,null,null,null,null,null,null,"MI"]
[1448,"IK0VSV","MI522","MARCO",null,null,null,null,null,null,null,null,null,null,null,null,null,null,null,null,"MI"]
[1449,"IT9APJ","MI523","MICHELE",null,null,null,null,null,null,null,null,null,null,null,null,null,null,null,null,"MI"]
[1450,"IZ7QFX","MI524","ELIGIO",null,null,null,null,null,null,null,null,null,null,null,null,null,null,null,null,"MI"]
[1451,"IZ0JOY","MI525","ANGELO",null,null,null,null,null,null,null,null,null,null,null,null,null,null,null,null,"MI"]
[1452,"IZ5QFV","MI526","MARIO",null,null,null,null,null,null,null,null,null,null,null,null,null,null,null,null,"MI"]
[1453,"IS0ISJ","MI527","GIANCARLO",null,null,null,null,null,null,null,null,null,null,null,null,null,null,null,null,"MI"]
[1454,"IS0EUJ","MI528","FRANCO",null,null,null,null,null,null,null,null,null,null,null,null,null,null,null,null,"MI"]
[1455,"IW9GUQ","MI529","GIOVANNI",null,null,null,null,null,null,null,null,null,null,null,null,null,null,null,null,"MI"]
[1456,"IZ0RGA","MI530","MANUEL",null,null,null,null,null,null,null,null,null,null,null,null,null,null,null,null,"MI"]
[1457,"I5OYY","MI531","DANIO",null,null,null,null,null,null,null,null,null,null,null,null,null,null,null,null,"MI"]
[1458,"IW5CEE","MI532","STEFANO",null,null,null,null,null,null,null,null,null,null,null,null,null,null,null,null,"MI"]
[1459,"CT5JZX","MI533","PEDRO",null,null,null,null,null,null,null,null,null,null,null,null,null,null,null,null,"MI"]
[1460,"IW2CNR","MI534","GIORDANO",null,null,null,null,null,null,null,null,null,null,null,null,null,null,null,null,"MI"]
[1461,"IK0PRH","MI535","BIAGIO",null,null,null,null,null,null,null,null,null,null,null,null,null,null,null,null,"MI"]
[1462,"IK0PHU","MI536","ANTONELLO",null,null,null,null,null,null,null,null,null,null,null,null,null,null,null,null,"MI"]
[1463,"IK7OFI","MI537","GIUSEPPE",null,null,null,null,null,null,null,null,null,null,null,null,null,null,null,null,"MI"]
[1464,"IZ1HBX","MI538","LUCA",null,null,null,null,null,null,null,null,null,null,null,null,null,null,null,null,"MI"]
[1465,"IN3EAV","MI539","GIORGIO",null,null,null,null,null,null,null,null,null,null,null,null,null,null,null,null,"MI"]
[1466,"IW8FEI","MI540","ANTONIO",null,null,null,null,null,null,null,null,null,null,null,null,null,null,null,null,"MI"]
[1467,"IZ0CHJ","MI541","BRUNO",null,null,null,null,null,null,null,null,null,null,null,null,null,null,null,null,"MI"]
[1468,"S52MZ","MI542","MARIJAN",null,null,null,null,null,null,null,null,null,null,null,null,null,null,null,null,"MI"]
[1469,"DL1HRN","MI543","JUERGEN",null,null,null,null,null,null,null,null,null,null,null,null,null,null,null,null,"MI"]
[1470,"HB9DOT","MI544","DEAN",null,null,null,null,null,null,null,null,null,null,null,null,null,null,null,null,"MI"]
[1471,"IZ1RNB","MI546","GIOVANNI",null,null,null,null,null,null,null,null,null,null,null,null,null,null,null,null,"MI"]
[1472,"IZ2KTD","MI547","GIACOMO",null,null,null,null,null,null,null,null,null,null,null,null,null,null,null,null,"MI"]
[1473,"IW0URG","MI548","SIRO",null,null,null,null,null,null,null,null,null,null,null,null,null,null,null,null,"MI"]
[1474,"IW0HOP","MI549","FRANCESCO",null,null,null,null,null,null,null,null,null,null,null,null,null,null,null,null,{"$f":"LEFT(C1475,2)","v":"MI"}]
[1475,"II0IGU","MI550","MARITELE GAETA",null,null,null,null,null,null,null,null,null,null,null,null,null,null,null,null,"MI"]
[1476,"I1PIK","MI551","PIETRO   ",null,null,null,null,null,null,null,null,null,null,null,null,null,null,null,null,"MI"]
[1477,"IK0LZR","MI552","RAUL   ",null,null,null,null,null,null,null,null,null,null,null,null,null,null,null,null,"MI"]
[1478,"IS0UNG","MI553","CASIMIRO   ",null,null,null,null,null,null,null,null,null,null,null,null,null,null,null,null,"MI"]
[1479,"IS0VSU","MI554","FRANCO   ",null,null,null,null,null,null,null,null,null,null,null,null,null,null,null,null,"MI"]
[1480,"IS0BMU","MI555","NICOLA ",null,null,null,null,null,null,null,null,null,null,null,null,null,null,null,null,"MI"]
[1481,"IZ3KVD","MI556","GIORGIO ",null,null,null,null,null,null,null,null,null,null,null,null,null,null,null,null,"MI"]
[1482,"IS0SZU","MI557","FRANCO ",null,null,null,null,null,null,null,null,null,null,null,null,null,null,null,null,"MI"]
[1483,"IZ4RTB","MI558","MARIO ",null,null,null,null,null,null,null,null,null,null,null,null,null,null,null,null,"MI"]
[1484,"IS0AEL","MI559","LUCA",null,null,null,null,null,null,null,null,null,null,null,null,null,null,null,null,"MI"]
[1485,"IS0JMA","MI560","ROBERTO",null,null,null,null,null,null,null,null,null,null,null,null,null,null,null,null,"MI"]
[1486,"IS0ILP","MI561","MASSIMO",null,null,null,null,null,null,null,null,null,null,null,null,null,null,null,null,"MI"]
[1487,"IW0UWL","MI562","ENRICO",null,null,null,null,null,null,null,null,null,null,null,null,null,null,null,null,"MI"]
[1488,"IS0BGL","MI563","DANIELE",null,null,null,null,null,null,null,null,null,null,null,null,null,null,null,null,"MI"]
[1489,"IZ0RIV","MI564","FRANCESCO",null,null,null,null,null,null,null,null,null,null,null,null,null,null,null,null,"MI"]
[1490,"IZ4BQV","MI565","LUIGI",null,null,null,null,null,null,null,null,null,null,null,null,null,null,null,null,"MI"]
[1491,"IZ1PMC","MI566","MARCO",null,null,null,null,null,null,null,null,null,null,null,null,null,null,null,null,"MI"]
[1492,"I5BYL","MI567","FRANCO",null,null,null,null,null,null,null,null,null,null,null,null,null,null,null,null,"MI"]
[1493,"IT9ECQ","MI568","VINCENZO",null,null,null,null,null,null,null,null,null,null,null,null,null,null,null,null,"MI"]
[1494,"IS0TOU","MI569","LUISA",null,null,null,null,null,null,null,null,null,null,null,null,null,null,null,null,"MI"]
[1495,"IS0UOI","MI570","VALENTINA",null,null,null,null,null,null,null,null,null,null,null,null,null,null,null,null,"MI"]
[1496,"IT9KKE","MI571","CARLO",null,null,null,null,null,null,null,null,null,null,null,null,null,null,null,null,"MI"]
[1497,"IT9JZK","MI572","MARIO",null,null,null,null,null,null,null,null,null,null,null,null,null,null,null,null,"MI"]
[1498,"IZ6OVE","MI573","BRYAN",null,null,null,null,null,null,null,null,null,null,null,null,null,null,null,null,"MI"]
[1499,"IT9GDS","MI574","VITO",null,null,null,null,null,null,null,null,null,null,null,null,null,null,null,null,"MI"]
[1500,"IT9JUP","MI575","GIOVANNI",null,null,null,null,null,null,null,null,null,null,null,null,null,null,null,null,"MI"]
[1501,"IZ3QLR","MI576","GUGLIELMO",null,null,null,null,null,null,null,null,null,null,null,null,null,null,null,null,"MI"]
[1502,"IW5ELA","MI579","ALESSANDRO",null,null,null,null,null,null,null,null,null,null,null,null,null,null,null,null,"MI"]
[1503,"IW8RUD","MI580","GIUSEPPE",null,null,null,null,null,null,null,null,null,null,null,null,null,null,null,null,"MI"]
[1504,"IZ1GZH","MI581","NICOLA",null,null,null,null,null,null,null,null,null,null,null,null,null,null,null,null,"MI"]
[1505,"IW1RIE","MI582","FABIO",null,null,null,null,null,null,null,null,null,null,null,null,null,null,null,null,"MI"]
[1506,"IW1RID","MI583","ALESSANDRO",null,null,null,null,null,null,null,null,null,null,null,null,null,null,null,null,"MI"]
[1507,"IZ1FGW","MI584","GERMANO",null,null,null,null,null,null,null,null,null,null,null,null,null,null,null,null,"MI"]
[1508,"I1RHL","MI585","ANGELO",null,null,null,null,null,null,null,null,null,null,null,null,null,null,null,null,"MI"]
[1509,"IZ1GZU","MI586","ALBERTO",null,null,null,null,null,null,null,null,null,null,null,null,null,null,null,null,"MI"]
[1510,"IK3YBX","MI587","CORRADO",null,null,null,null,null,null,null,null,null,null,null,null,null,null,null,null,"MI"]
[1511,"IK3RET","MI588","TIZIANO",null,null,null,null,null,null,null,null,null,null,null,null,null,null,null,null,"MI"]
[1512,"IK3ITV","MI589","ANDREA",null,null,null,null,null,null,null,null,null,null,null,null,null,null,null,null,"MI"]
[1513,"IQ0FM","MI590","SEZIONE",null,null,null,null,null,null,null,null,null,null,null,null,null,null,null,null,"MI"]
[1514,"IZ3APL","MI591","GIUSEPPE",null,null,null,null,null,null,null,null,null,null,null,null,null,null,null,null,"MI"]
[1515,"IK3HMB","MI592","GIORGIO",null,null,null,null,null,null,null,null,null,null,null,null,null,null,null,null,"MI"]
[1516,"IW2JSX","MI593","LUCA",null,null,null,null,null,null,null,null,null,null,null,null,null,null,null,null,"MI"]
[1517,"IK3SSW","MI594","ANTONIO",null,null,null,null,null,null,null,null,null,null,null,null,null,null,null,null,"MI"]
[1518,"IK1NPP","MI596","PIERGIOVANNI",null,null,null,null,null,null,null,null,null,null,null,null,null,null,null,null,"MI"]
[1519,"IZ5HEV","MI597","MARCO",null,null,null,null,null,null,null,null,null,null,null,null,null,null,null,null,"MI"]
[1520,"IW9GTD","MI598","DOMENICO",null,null,null,null,null,null,null,null,null,null,null,null,null,null,null,null,"MI"]
[1521,"IW1RMV","MI599","FRANCESCO",null,null,null,null,null,null,null,null,null,null,null,null,null,null,null,null,"MI"]
[1522,"II7ICT","MI600","MARITELE TARANTO",null,null,null,null,null,null,null,null,null,null,null,null,null,null,null,null,"MI"]
[1523,"IS0FDW","MI601","ANGELO",null,null,null,null,null,null,null,null,null,null,null,null,null,null,null,null,"MI"]
[1524,"IW4CXK","MI602","ANDREA",null,null,null,null,null,null,null,null,null,null,null,null,null,null,null,null,"MI"]
[1525,"IK6TOT","MI603","GIORGIO",null,null,null,null,null,null,null,null,null,null,null,null,null,null,null,null,"MI"]
[1526,"IK6TIL","MI604","PASQUALE",null,null,null,null,null,null,null,null,null,null,null,null,null,null,null,null,"MI"]
[1527,"IT9SKH","MI605","AGOSTINO",null,null,null,null,null,null,null,null,null,null,null,null,null,null,null,null,"MI"]
[1528,"IW9CTJ","MI606","CONCETTO",null,null,null,null,null,null,null,null,null,null,null,null,null,null,null,null,"MI"]
[1529,"IZ1DXV","MI607","VINCENZO",null,null,null,null,null,null,null,null,null,null,null,null,null,null,null,null,"MI"]
[1530,"I1FEQ","MI608","FERDINANDO",null,null,null,null,null,null,null,null,null,null,null,null,null,null,null,null,"MI"]
[1531,"IK1CCS","MI609","FERRUCCIO",null,null,null,null,null,null,null,null,null,null,null,null,null,null,null,null,"MI"]
[1532,"IZ1GWQ","MI610","GIOVANNI",null,null,null,null,null,null,null,null,null,null,null,null,null,null,null,null,"MI"]
[1533,"IS0UTA","MI611","ANDREA",null,null,null,null,null,null,null,null,null,null,null,null,null,null,null,null,"MI"]
[1534,"IT9BUW","MI612","SALVATORE",null,null,null,null,null,null,null,null,null,null,null,null,null,null,null,null,"MI"]
[1535,"IK2NUX","MI613","FRANCESCO",null,null,null,null,null,null,null,null,null,null,null,null,null,null,null,null,"MI"]
[1536,"IK6NUA","MI614","CORRADO",null,null,null,null,null,null,null,null,null,null,null,null,null,null,null,null,"MI"]
[1537,"IW3INQ","MI615","ALESSANDRO",null,null,null,null,null,null,null,null,null,null,null,null,null,null,null,null,"MI"]
[1538,"IZ1RFV","MI616","PAOLO",null,null,null,null,null,null,null,null,null,null,null,null,null,null,null,null,{"$f":"LEFT(C1539,2)","v":"MI"}]
[1539,"IW6CJM","MI617","SERAFINO",null,null,null,null,null,null,null,null,null,null,null,null,null,null,null,null,"MI"]
[1540,"IT9LWP","MI618","FABIO",null,null,null,null,null,null,null,null,null,null,null,null,null,null,null,null,"MI"]
[1541,"IT9GQO","MI619","GIUSEPPE",null,null,null,null,null,null,null,null,null,null,null,null,null,null,null,null,"MI"]
[1542,"IK6TOS","MI622","GIOVANNI",null,null,null,null,null,null,null,null,null,null,null,null,null,null,null,null,"MI"]
[1543,"IM0QMA","MI623","FABRIZIO",null,null,null,null,null,null,null,null,null,null,null,null,null,null,null,null,"MI"]
[1544,"IZ3QHB","MI624","LUCA",null,null,null,null,null,null,null,null,null,null,null,null,null,null,null,null,"MI"]
[1545,"IZ3ODB","MI625","PIETRO",null,null,null,null,null,null,null,null,null,null,null,null,null,null,null,null,"MI"]
[1546,"IW3IFZ","MI626","BRUNO",null,null,null,null,null,null,null,null,null,null,null,null,null,null,null,null,"MI"]
[1547,"IZ3ASA","MI627","RODOLFO",null,null,null,null,null,null,null,null,null,null,null,null,null,null,null,null,"MI"]
[1548,"IZ7QEB","MI628","ANGELO",null,null,null,null,null,null,null,null,null,null,null,null,null,null,null,null,"MI"]
[1549,"IW1PEL","MI630","SILVIO",null,null,null,null,null,null,null,null,null,null,null,null,null,null,null,null,"MI"]
[1550,"I2RGV","MI632","GIOVANNI",null,null,null,null,null,null,null,null,null,null,null,null,null,null,null,null,"MI"]
[1551,"IT9DSA","MI633","ANTONIO",null,null,null,null,null,null,null,null,null,null,null,null,null,null,null,null,"MI"]
[1552,"IT9QQO","MI634","CLAUDIO",null,null,null,null,null,null,null,null,null,null,null,null,null,null,null,null,"MI"]
[1553,"IZ8SYB","MI635","GERARDO",null,null,null,null,null,null,null,null,null,null,null,null,null,null,null,null,"MI"]
[1554,"IV3BGV","MI636","GIULIANO",null,null,null,null,null,null,null,null,null,null,null,null,null,null,null,null,"MI"]
[1555,"IW1ECD","MI637","GIAN",null,null,null,null,null,null,null,null,null,null,null,null,null,null,null,null,"MI"]
[1556,"IW5BOI","MI638","SEVERINO",null,null,null,null,null,null,null,null,null,null,null,null,null,null,null,null,"MI"]
[1557,"IZ0OSI","MI639","PATRIZIO",null,null,null,null,null,null,null,null,null,null,null,null,null,null,null,null,"MI"]
[1558,"IZ7SID","MI640","GIANFRANCO",null,null,null,null,null,null,null,null,null,null,null,null,null,null,null,null,"MI"]
[1559,"IZ8IET","MI641","VITTORIO",null,null,null,null,null,null,null,null,null,null,null,null,null,null,null,null,"MI"]
[1560,"IK0WGD","MI642","SANDRO",null,null,null,null,null,null,null,null,null,null,null,null,null,null,null,null,"MI"]
[1561,"IZ8PPJ","MI643","BRUNO",null,null,null,null,null,null,null,null,null,null,null,null,null,null,null,null,"MI"]
[1562,"IZ1RFU","MI644","ANTONIO",null,null,null,null,null,null,null,null,null,null,null,null,null,null,null,null,"MI"]
[1563,"IW0GFS","MI645","LEONE",null,null,null,null,null,null,null,null,null,null,null,null,null,null,null,null,"MI"]
[1564,"F6FNG","MI646","ALAIN",null,null,null,null,null,null,null,null,null,null,null,null,null,null,null,null,"MI"]
[1565,"IZ0FUW","MI647","MARCO",null,null,null,null,null,null,null,null,null,null,null,null,null,null,null,null,"MI"]
[1566,"IV3IXN","MI648","CLAUDIO",null,null,null,null,null,null,null,null,null,null,null,null,null,null,null,null,"MI"]
[1567,"IK8RIJ","MI649","MARCO",null,null,null,null,null,null,null,null,null,null,null,null,null,null,null,null,"MI"]
[1568,"II9ICF","MI650","MARITELE MESSINA",null,null,null,null,null,null,null,null,null,null,null,null,null,null,null,null,"MI"]
[1569,"IT9DVZ","MI652","ROBERTO",null,null,null,null,null,null,null,null,null,null,null,null,null,null,null,null,"MI"]
[1570,"IT9JPL","MI653","ANDREA",null,null,null,null,null,null,null,null,null,null,null,null,null,null,null,null,"MI"]
[1571,"IT9RDZ","MI654","DARIO",null,null,null,null,null,null,null,null,null,null,null,null,null,null,null,null,"MI"]
[1572,"IZ1PLI","MI655","GIAN",null,null,null,null,null,null,null,null,null,null,null,null,null,null,null,null,"MI"]
[1573,"I8AWN","MI656","ANTONIO",null,null,null,null,null,null,null,null,null,null,null,null,null,null,null,null,"MI"]
[1574,"IZ1GDT","MI657","ALBERTO",null,null,null,null,null,null,null,null,null,null,null,null,null,null,null,null,"MI"]
[1575,"IK1OXG","MI659","UGO",null,null,null,null,null,null,null,null,null,null,null,null,null,null,null,null,"MI"]
[1576,"WN6H","MI660","MAURIZIO",null,null,null,null,null,null,null,null,null,null,null,null,null,null,null,null,"MI"]
[1577,"IZ1RTD","MI661","UGO",null,null,null,null,null,null,null,null,null,null,null,null,null,null,null,null,"MI"]
[1578,"IZ8TFA","MI662","GIUSEPPE",null,null,null,null,null,null,null,null,null,null,null,null,null,null,null,null,"MI"]
[1579,"IK5PKF","MI663","RAFFAELE",null,null,null,null,null,null,null,null,null,null,null,null,null,null,null,null,"MI"]
[1580,"IV3BLS","MI664","GIOVANNI",null,null,null,null,null,null,null,null,null,null,null,null,null,null,null,null,"MI"]
[1581,"OH3GZ","MI665","JUKKA",null,null,null,null,null,null,null,null,null,null,null,null,null,null,null,null,"MI"]
[1582,"IZ0TBQ","MI666","ANGELO",null,null,null,null,null,null,null,null,null,null,null,null,null,null,null,null,"MI"]
[1583,"IK3JBP","MI668","AMPELIO",null,null,null,null,null,null,null,null,null,null,null,null,null,null,null,null,"MI"]
[1584,"IW3ILM","MI669","MASSIMO",null,null,null,null,null,null,null,null,null,null,null,null,null,null,null,null,"MI"]
[1585,"IV3ALF","MI670","CLAUDIO",null,null,null,null,null,null,null,null,null,null,null,null,null,null,null,null,"MI"]
[1586,"IZ0EUS","MI671","MAURO",null,null,null,null,null,null,null,null,null,null,null,null,null,null,null,null,"MI"]
[1587,"IK8CKG","MI672","SALVATORE",null,null,null,null,null,null,null,null,null,null,null,null,null,null,null,null,"MI"]
[1588,"IN3AEF","MI673","MARIO",null,null,null,null,null,null,null,null,null,null,null,null,null,null,null,null,"MI"]
[1589,"IK2AQZ","MI674","OSCAR",null,null,null,null,null,null,null,null,null,null,null,null,null,null,null,null,"MI"]
[1590,"I8PXT","MI675","PIETRO",null,null,null,null,null,null,null,null,null,null,null,null,null,null,null,null,"MI"]
[1591,"DO1TN","MI676","RALF-MICHAEL",null,null,null,null,null,null,null,null,null,null,null,null,null,null,null,null,"MI"]
[1592,"IV3BUC","MI677","GIUSEPPE",null,null,null,null,null,null,null,null,null,null,null,null,null,null,null,null,"MI"]
[1593,"IW3RUA","MI678","PIETRO",null,null,null,null,null,null,null,null,null,null,null,null,null,null,null,null,"MI"]
[1594,"IZ2SOB","MI679","DAVIDE",null,null,null,null,null,null,null,null,null,null,null,null,null,null,null,null,"MI"]
[1595,"IK5ZUJ","MI680","VALTER",null,null,null,null,null,null,null,null,null,null,null,null,null,null,null,null,"MI"]
[1596,"IK7IMQ","MI682","FELICE",null,null,null,null,null,null,null,null,null,null,null,null,null,null,null,null,"MI"]
[1597,"IZ3QCH","MI683","ALBERTO",null,null,null,null,null,null,null,null,null,null,null,null,null,null,null,null,"MI"]
[1598,"IZ8OGR","MI684","TOMMY",null,null,null,null,null,null,null,null,null,null,null,null,null,null,null,null,"MI"]
[1599,"IZ7LDC","MI685","FABRIZIO",null,null,null,null,null,null,null,null,null,null,null,null,null,null,null,null,"MI"]
[1600,"IZ3KJH","MI686","ANGELO",null,null,null,null,null,null,null,null,null,null,null,null,null,null,null,null,"MI"]
[1601,"IZ3SZQ","MI687","MARINO",null,null,null,null,null,null,null,null,null,null,null,null,null,null,null,null,"MI"]
[1602,"IK1GKH","MI688","CARLO",null,null,null,null,null,null,null,null,null,null,null,null,null,null,null,null,{"$f":"LEFT(C1603,2)","v":"MI"}]
[1603,"IM0ZKX","MI689","GIUSEPPE",null,null,null,null,null,null,null,null,null,null,null,null,null,null,null,null,"MI"]
[1604,"IZ7UAJ","MI690","PIERANTONIO",null,null,null,null,null,null,null,null,null,null,null,null,null,null,null,null,"MI"]
[1605,"IW7EGJ","MI691","LUCA",null,null,null,null,null,null,null,null,null,null,null,null,null,null,null,null,"MI"]
[1606,"IZ8LLH","MI692","LUCA",null,null,null,null,null,null,null,null,null,null,null,null,null,null,null,null,"MI"]
[1607,"IK8SDA","MI693","ALDO",null,null,null,null,null,null,null,null,null,null,null,null,null,null,null,null,"MI"]
[1608,"IZ0CDM","MI694","ROBERTO",null,null,null,null,null,null,null,null,null,null,null,null,null,null,null,null,"MI"]
[1609,"IZ8PPH","MI695","DANIELE",null,null,null,null,null,null,null,null,null,null,null,null,null,null,null,null,"MI"]
[1610,"IK8OFW","MI696","ANTONIO",null,null,null,null,null,null,null,null,null,null,null,null,null,null,null,null,"MI"]
[1611,"IK7JGI","MI697","ALFREDO",null,null,null,null,null,null,null,null,null,null,null,null,null,null,null,null,"MI"]
[1612,"IZ8JBS","MI698","NINO",null,null,null,null,null,null,null,null,null,null,null,null,null,null,null,null,"MI"]
[1613,"II9IGJ","MI700","MARITELE PALOMBARA",null,null,null,null,null,null,null,null,null,null,null,null,null,null,null,null,"MI"]
[1614,"IW7EBB","MI701","GIANLUCA ",null,null,null,null,null,null,null,null,null,null,null,null,null,null,null,null,"MI"]
[1615,"IZ0RFJ","MI703","MAURIZIO",null,null,null,null,null,null,null,null,null,null,null,null,null,null,null,null,"MI"]
[1616,"IZ1UKT","MI705","IVANO",null,null,null,null,null,null,null,null,null,null,null,null,null,null,null,null,"MI"]
[1617,"IW6PUY","MI706","FRANCESCO",null,null,null,null,null,null,null,null,null,null,null,null,null,null,null,null,"MI"]
[1618,"IZ8EYN","MI707","MARIO",null,null,null,null,null,null,null,null,null,null,null,null,null,null,null,null,"MI"]
[1619,"IZ8MEW","MI708","PIERLUIGI",null,null,null,null,null,null,null,null,null,null,null,null,null,null,null,null,"MI"]
[1620,"IK5GUO","MI709","ENNIO",null,null,null,null,null,null,null,null,null,null,null,null,null,null,null,null,"MI"]
[1621,"IZ7LFP","MI710","VINCENZO",null,null,null,null,null,null,null,null,null,null,null,null,null,null,null,null,"MI"]
[1622,"IZ0JSE","MI712","ARCHIMEDE",null,null,null,null,null,null,null,null,null,null,null,null,null,null,null,null,"MI"]
[1623,"IZ0CRQ","MI713","NICOLA",null,null,null,null,null,null,null,null,null,null,null,null,null,null,null,null,"MI"]
[1624,"IK8NFA","MI714","SALVATORE",null,null,null,null,null,null,null,null,null,null,null,null,null,null,null,null,"MI"]
[1625,"IK1VDQ","MI715","GIANNI",null,null,null,null,null,null,null,null,null,null,null,null,null,null,null,null,"MI"]
[1626,"IZ2FLX","MI716","MAURO",null,null,null,null,null,null,null,null,null,null,null,null,null,null,null,null,"MI"]
[1627,"IZ5AHB","MI717","ALBERTO",null,null,null,null,null,null,null,null,null,null,null,null,null,null,null,null,"MI"]
[1628,"IK1JFZ","MI718","VINICIO",null,null,null,null,null,null,null,null,null,null,null,null,null,null,null,null,"MI"]
[1629,"IZ5RID","MI719","ROBERTO",null,null,null,null,null,null,null,null,null,null,null,null,null,null,null,null,"MI"]
[1630,"IZ5TJB","MI720","IZABELA",null,null,null,null,null,null,null,null,null,null,null,null,null,null,null,null,"MI"]
[1631,"IZ5BRO","MI721","ROSSELLA",null,null,null,null,null,null,null,null,null,null,null,null,null,null,null,null,"MI"]
[1632,"IZ5PFQ","MI722","CIRO",null,null,null,null,null,null,null,null,null,null,null,null,null,null,null,null,"MI"]
[1633,"I5NIC","MI723","GIANFRANCO",null,null,null,null,null,null,null,null,null,null,null,null,null,null,null,null,"MI"]
[1634,"IS0ANU","MI724","STEFANO",null,null,null,null,null,null,null,null,null,null,null,null,null,null,null,null,"MI"]
[1635,"IZ8PRH","MI726","MARIO",null,null,null,null,null,null,null,null,null,null,null,null,null,null,null,null,"MI"]
[1636,"IK8WEJ","MI727","FRANCESCO",null,null,null,null,null,null,null,null,null,null,null,null,null,null,null,null,"MI"]
[1637,"IZ4UFG","MI728","LUCA",null,null,null,null,null,null,null,null,null,null,null,null,null,null,null,null,"MI"]
[1638,"IZ0AYM","MI729","CARMELO",null,null,null,null,null,null,null,null,null,null,null,null,null,null,null,null,"MI"]
[1639,"I1OOI","MI730","CLAUDIO",null,null,null,null,null,null,null,null,null,null,null,null,null,null,null,null,"MI"]
[1640,"IK7MXH","MI731","MICHELE",null,null,null,null,null,null,null,null,null,null,null,null,null,null,null,null,"MI"]
[1641,"IZ2QDQ","MI732","GIANNI",null,null,null,null,null,null,null,null,null,null,null,null,null,null,null,null,"MI"]
[1642,"IZ3JQQ","MI733","GIUSEPPE",null,null,null,null,null,null,null,null,null,null,null,null,null,null,null,null,"MI"]
[1643,"IW5CSJ","MI734","ROBERTO",null,null,null,null,null,null,null,null,null,null,null,null,null,null,null,null,"MI"]
[1644,"IZ0ROW","MI735","GIANCARLO",null,null,null,null,null,null,null,null,null,null,null,null,null,null,null,null,"MI"]
[1645,"IZ8QIN","MI736","NICOLA",null,null,null,null,null,null,null,null,null,null,null,null,null,null,null,null,"MI"]
[1646,"IK7BEF","MI737","ANTONIO",null,null,null,null,null,null,null,null,null,null,null,null,null,null,null,null,"MI"]
[1647,"I2MDI","MI738","SILVANO",null,null,null,null,null,null,null,null,null,null,null,null,null,null,null,null,"MI"]
[1648,"IZ1NFG","MI739","ATTILIO",null,null,null,null,null,null,null,null,null,null,null,null,null,null,null,null,"MI"]
[1649,"IT9OER","MI740","GIANCARLO",null,null,null,null,null,null,null,null,null,null,null,null,null,null,null,null,"MI"]
[1650,"I8YLW","MI741","VINCENZO",null,null,null,null,null,null,null,null,null,null,null,null,null,null,null,null,"MI"]
[1651,"IZ0IXN","MI742","ANTONIO",null,null,null,null,null,null,null,null,null,null,null,null,null,null,null,null,"MI"]
[1652,"IZ0ENB","MI743","ANGELO",null,null,null,null,null,null,null,null,null,null,null,null,null,null,null,null,"MI"]
[1653,"IV3TRK","MI744","SILVIO",null,null,null,null,null,null,null,null,null,null,null,null,null,null,null,null,"MI"]
[1654,"IK3GER","MI745","PAOLO",null,null,null,null,null,null,null,null,null,null,null,null,null,null,null,null,"MI"]
[1655,"I3VAD","MI746","GIANCARLO",null,null,null,null,null,null,null,null,null,null,null,null,null,null,null,null,"MI"]
[1656,"IK1JTQ","MI747","SERGIO",null,null,null,null,null,null,null,null,null,null,null,null,null,null,null,null,"MI"]
[1657,"I3XMQ","MI748","ADRIANO",null,null,null,null,null,null,null,null,null,null,null,null,null,null,null,null,"MI"]
[1658,"IS0AFM","MI749","SIMONE",null,null,null,null,null,null,null,null,null,null,null,null,null,null,null,null,"MI"]
[1659,"II1IGG","MI750","MARITELE GENOVA",null,null,null,null,null,null,null,null,null,null,null,null,null,null,null,null,"MI"]
[1660,"IZ6ITZ","MI751","FERNANDO ",null,null,null,null,null,null,null,null,null,null,null,null,null,null,null,null,"MI"]
[1661,"IW8EFO","MI752","NUNZIO ",null,null,null,null,null,null,null,null,null,null,null,null,null,null,null,null,"MI"]
[1662,"IK8ACR","MI753","MICHELANGELO ",null,null,null,null,null,null,null,null,null,null,null,null,null,null,null,null,"MI"]
[1663,"IK8URG","MI754","GIUSEPPE ",null,null,null,null,null,null,null,null,null,null,null,null,null,null,null,null,"MI"]
[1664,"IZ5RIE","MI755","MARCO ",null,null,null,null,null,null,null,null,null,null,null,null,null,null,null,null,"MI"]
[1665,"IZ4HVS","MI756","PASQUALE ",null,null,null,null,null,null,null,null,null,null,null,null,null,null,null,null,"MI"]
[1666,"EB3WH","MI757","JUAN",null,null,null,null,null,null,null,null,null,null,null,null,null,null,null,null,{"$f":"LEFT(C1667,2)","v":"MI"}]
[1667,"IK2PTB","MI758","GIANLUIGI ",null,null,null,null,null,null,null,null,null,null,null,null,null,null,null,null,"MI"]
[1668,"IZ7UEE","MI760","ASCANIO ",null,null,null,null,null,null,null,null,null,null,null,null,null,null,null,null,"MI"]
[1669,"IT9BNX","MI762","NICOLA",null,null,null,null,null,null,null,null,null,null,null,null,null,null,null,null,"MI"]
[1670,"IT9NJE","MI763","EUGENIO",null,null,null,null,null,null,null,null,null,null,null,null,null,null,null,null,"MI"]
[1671,"IK8CQH","MI764","GIOVANNI",null,null,null,null,null,null,null,null,null,null,null,null,null,null,null,null,"MI"]
[1672,"IZ5BSA","MI765","ROBERTO",null,null,null,null,null,null,null,null,null,null,null,null,null,null,null,null,"MI"]
[1673,"IZ8VGD","MI766","ALESSIO",null,null,null,null,null,null,null,null,null,null,null,null,null,null,null,null,"MI"]
[1674,"IT9UQW","MI767","GIUSEPPE",null,null,null,null,null,null,null,null,null,null,null,null,null,null,null,null,"MI"]
[1675,"I8IEM","MI768","ALFREDO",null,null,null,null,null,null,null,null,null,null,null,null,null,null,null,null,"MI"]
[1676,"IZ8EDJ","MI770","ORESTE",null,null,null,null,null,null,null,null,null,null,null,null,null,null,null,null,"MI"]
[1677,"IT9CKA","MI771","SERAFINO",null,null,null,null,null,null,null,null,null,null,null,null,null,null,null,null,"MI"]
[1678,"IZ0BTV","MI772","SIMONE",null,null,null,null,null,null,null,null,null,null,null,null,null,null,null,null,"MI"]
[1679,"IZ7FMI","MI773","GIOACCHINO",null,null,null,null,null,null,null,null,null,null,null,null,null,null,null,null,"MI"]
[1680,"IK8VMU","MI774","FRANCO",null,null,null,null,null,null,null,null,null,null,null,null,null,null,null,null,"MI"]
[1681,"IK8LVZ","MI775","GIOVANGIUSEPPE",null,null,null,null,null,null,null,null,null,null,null,null,null,null,null,null,"MI"]
[1682,"I7LGM","MI776","GELSOMINO",null,null,null,null,null,null,null,null,null,null,null,null,null,null,null,null,"MI"]
[1683,"IZ7FMM","MI777","ALESSANDRO",null,null,null,null,null,null,null,null,null,null,null,null,null,null,null,null,"MI"]
[1684,"IZ7KDX","MI778","ANTONIO",null,null,null,null,null,null,null,null,null,null,null,null,null,null,null,null,"MI"]
[1685,"IW7EBA","MI779","DAVIDE",null,null,null,null,null,null,null,null,null,null,null,null,null,null,null,null,"MI"]
[1686,"IZ7HYA","MI780","LUIGI",null,null,null,null,null,null,null,null,null,null,null,null,null,null,null,null,"MI"]
[1687,"IZ7NLZ","MI781","IVANO",null,null,null,null,null,null,null,null,null,null,null,null,null,null,null,null,"MI"]
[1688,"IZ7FLQ","MI782","FABIO",null,null,null,null,null,null,null,null,null,null,null,null,null,null,null,null,"MI"]
[1689,"IW9GDC","MI783","EMANUELE",null,null,null,null,null,null,null,null,null,null,null,null,null,null,null,null,"MI"]
[1690,"IT9AQO","MI784","JOSEPH",null,null,null,null,null,null,null,null,null,null,null,null,null,null,null,null,"MI"]
[1691,"IK8OWF","MI785","RAIMONDO",null,null,null,null,null,null,null,null,null,null,null,null,null,null,null,null,"MI"]
[1692,"IZ0PVL","MI786","LUIGI",null,null,null,null,null,null,null,null,null,null,null,null,null,null,null,null,"MI"]
[1693,"IZ3VLK","MI787","ONOFRIO",null,null,null,null,null,null,null,null,null,null,null,null,null,null,null,null,"MI"]
[1694,"IW5CSQ","MI788","STEFANO",null,null,null,null,null,null,null,null,null,null,null,null,null,null,null,null,"MI"]
[1695,"IK8GDA","MI789","ANDREA",null,null,null,null,null,null,null,null,null,null,null,null,null,null,null,null,"MI"]
[1696,"IK6IWM","MI790","WALTER",null,null,null,null,null,null,null,null,null,null,null,null,null,null,null,null,"MI"]
[1697,"IV3ZXQ","MI794","MAURIZIO",null,null,null,null,null,null,null,null,null,null,null,null,null,null,null,null,"MI"]
[1698,"IW0GHW","MI795","MASIMO",null,null,null,null,null,null,null,null,null,null,null,null,null,null,null,null,"MI"]
[1699,"IZ0TTD","MI796","UMBERTO",null,null,null,null,null,null,null,null,null,null,null,null,null,null,null,null,"MI"]
[1700,"IK7TAB","MI797","VALTER",null,null,null,null,null,null,null,null,null,null,null,null,null,null,null,null,"MI"]
[1701,"I1YOD","MI798","ANTONIO",null,null,null,null,null,null,null,null,null,null,null,null,null,null,null,null,"MI"]
[1702,"IZ1FKB","MI799","PIETRO",null,null,null,null,null,null,null,null,null,null,null,null,null,null,null,null,"MI"]
[1703,"II8ICN","MI800","MARITELE NAPOLI",null,null,null,null,null,null,null,null,null,null,null,null,null,null,null,null,"MI"]
[1704,"IK0ZME","MI801","GIANFRANCO",null,null,null,null,null,null,null,null,null,null,null,null,null,null,null,null,"MI"]
[1705,"IZ0NNI","MI802","EMILIO",null,null,null,null,null,null,null,null,null,null,null,null,null,null,null,null,"MI"]
[1706,"IW6ATQ","MI803","GIANCARLO",null,null,null,null,null,null,null,null,null,null,null,null,null,null,null,null,"MI"]
[1707,"IZ2OIF","MI804","MICHAEL",null,null,null,null,null,null,null,null,null,null,null,null,null,null,null,null,"MI"]
[1708,"IK6OCX","MI805","CAMILLO",null,null,null,null,null,null,null,null,null,null,null,null,null,null,null,null,"MI"]
[1709,"IZ0INX","MI806","FILIPPO",null,null,null,null,null,null,null,null,null,null,null,null,null,null,null,null,"MI"]
[1710,"IT9AZP","MI808","ROBERTO",null,null,null,null,null,null,null,null,null,null,null,null,null,null,null,null,"MI"]
[1711,"IZ2KLV","MI809","GENEROSO",null,null,null,null,null,null,null,null,null,null,null,null,null,null,null,null,"MI"]
[1712,"IK1RTP","MI811","ALESSANDRO",null,null,null,null,null,null,null,null,null,null,null,null,null,null,null,null,"MI"]
[1713,"IZ0TTB","MI812","DANIELA",null,null,null,null,null,null,null,null,null,null,null,null,null,null,null,null,"MI"]
[1714,"IW7CRP","MI813","LUIGI",null,null,null,null,null,null,null,null,null,null,null,null,null,null,null,null,"MI"]
[1715,"IZ0PAW","MI814","GABRIELE",null,null,null,null,null,null,null,null,null,null,null,null,null,null,null,null,"MI"]
[1716,"IZ1DFE","MI815","MARIO",null,null,null,null,null,null,null,null,null,null,null,null,null,null,null,null,"MI"]
[1717,"IZ1VWD","MI816","EMILIANO",null,null,null,null,null,null,null,null,null,null,null,null,null,null,null,null,"MI"]
[1718,"IZ8IBB","MI817","ANGELO",null,null,null,null,null,null,null,null,null,null,null,null,null,null,null,null,"MI"]
[1719,"I5NXH","MI818","FABRIZIO",null,null,null,null,null,null,null,null,null,null,null,null,null,null,null,null,"MI"]
[1720,"IZ5KID","MI820","MASSIMO",null,null,null,null,null,null,null,null,null,null,null,null,null,null,null,null,"MI"]
[1721,"IK6VXR","MI821","ANTONIO",null,null,null,null,null,null,null,null,null,null,null,null,null,null,null,null,"MI"]
[1722,"I6TIH","MI822","GIUSEPPE",null,null,null,null,null,null,null,null,null,null,null,null,null,null,null,null,"MI"]
[1723,"IZ3VEH","MI823","PAOLO",null,null,null,null,null,null,null,null,null,null,null,null,null,null,null,null,"MI"]
[1724,"IZ8IQL","MI825","ANTONIO",null,null,null,null,null,null,null,null,null,null,null,null,null,null,null,null,"MI"]
[1725,"IZ0JGE","MI826","LORENZO",null,null,null,null,null,null,null,null,null,null,null,null,null,null,null,null,"MI"]
[1726,"IW3SGT","MI827","ALESSANDRO",null,null,null,null,null,null,null,null,null,null,null,null,null,null,null,null,"MI"]
[1727,"IW1DG","MI828","GIUSEPPE",null,null,null,null,null,null,null,null,null,null,null,null,null,null,null,null,"MI"]
[1728,"IK5JWQ","MI829","GIUSEPPE",null,null,null,null,null,null,null,null,null,null,null,null,null,null,null,null,"MI"]
[1729,"IZ0FCV","MI830","FLAVIO",null,null,null,null,null,null,null,null,null,null,null,null,null,null,null,null,"MI"]
[1730,"IZ0ORT","MI831","FABRIZIO",null,null,null,null,null,null,null,null,null,null,null,null,null,null,null,null,{"$f":"LEFT(C1731,2)","v":"MI"}]
[1731,"IK6ARS","MI832","DANIELE",null,null,null,null,null,null,null,null,null,null,null,null,null,null,null,null,"MI"]
[1732,"IZ8UVQ","MI833","MASSIMO",null,null,null,null,null,null,null,null,null,null,null,null,null,null,null,null,"MI"]
[1733,"IW0HME","MI834","MARCO ",null,null,null,null,null,null,null,null,null,null,null,null,null,null,null,null,"MI"]
[1734,"IZ0DIB","MI835","BRUNO",null,null,null,null,null,null,null,null,null,null,null,null,null,null,null,null,"MI"]
[1735,"IW0CGT","MI836","CARLO",null,null,null,null,null,null,null,null,null,null,null,null,null,null,null,null,"MI"]
[1736,"IZ0KBW","MI837","LUIGI",null,null,null,null,null,null,null,null,null,null,null,null,null,null,null,null,"MI"]
[1737,"IT9ULN","MI839","ANGELO",null,null,null,null,null,null,null,null,null,null,null,null,null,null,null,null,"MI"]
[1738,"IT9ING","MI840","SAVERIO",null,null,null,null,null,null,null,null,null,null,null,null,null,null,null,null,"MI"]
[1739,"IT9CNO","MI841","GASPARE",null,null,null,null,null,null,null,null,null,null,null,null,null,null,null,null,"MI"]
[1740,"IK5YZV","MI842","ALBERTO",null,null,null,null,null,null,null,null,null,null,null,null,null,null,null,null,"MI"]
[1741,"IZ2QPZ","MI843","FULVIO",null,null,null,null,null,null,null,null,null,null,null,null,null,null,null,null,"MI"]
[1742,"IT9CLY","MI844","FRANCESCO",null,null,null,null,null,null,null,null,null,null,null,null,null,null,null,null,"MI"]
[1743,"IZ3SEV","MI845","WALTER",null,null,null,null,null,null,null,null,null,null,null,null,null,null,null,null,"MI"]
[1744,"IW4ECL","MI846","GIANCARLO",null,null,null,null,null,null,null,null,null,null,null,null,null,null,null,null,"MI"]
[1745,"IZ3OCD","MI847","MAURO",null,null,null,null,null,null,null,null,null,null,null,null,null,null,null,null,"MI"]
[1746,"IZ5RKC","MI848","ENRICO",null,null,null,null,null,null,null,null,null,null,null,null,null,null,null,null,"MI"]
[1747,"IZ3VDA","MI849","DONATO",null,null,null,null,null,null,null,null,null,null,null,null,null,null,null,null,"MI"]
[1748,"II2IGTO","MI850","SOMMERGIBILE TOTI",null,null,null,null,null,null,null,null,null,null,null,null,null,null,null,null,"MI"]
[1749,"II0IGTO","MI850","SOMMERGIBILE TOTI",null,null,null,null,null,null,null,null,null,null,null,null,null,null,null,null,"MI"]
[1750,"II3JD","MI851","SOMMERGIBILE DANDOLO",null,null,null,null,null,null,null,null,null,null,null,null,null,null,null,null,"MI"]
[1751,"II2EBE","MI852","GOLETTA EBE",null,null,null,null,null,null,null,null,null,null,null,null,null,null,null,null,"MI"]
[1752,"II1IAME","MI853","NAVE MAESTRALE",null,null,null,null,null,null,null,null,null,null,null,null,null,null,null,null,"MI"]
[1753,"IK1OUK","MI855","BRUNO",null,null,null,null,null,null,null,null,null,null,null,null,null,null,null,null,"MI"]
[1754,"II5IAFR","MI856","NAVE CANOPO",null,null,null,null,null,null,null,null,null,null,null,null,null,null,null,null,"MI"]
[1755,"IW0HPT","MI857","GIUSEPPE",null,null,null,null,null,null,null,null,null,null,null,null,null,null,null,null,"MI"]
[1756,"IZ1VNT","MI859","ROBERTO",null,null,null,null,null,null,null,null,null,null,null,null,null,null,null,null,"MI"]
[1757,"IZ2PDR","MI860","PAOLO",null,null,null,null,null,null,null,null,null,null,null,null,null,null,null,null,"MI"]
[1758,"IZ0VZR","MI861","MAURIZIO",null,null,null,null,null,null,null,null,null,null,null,null,null,null,null,null,"MI"]
[1759,"IW0GOA","MI862","GABRIELE",null,null,null,null,null,null,null,null,null,null,null,null,null,null,null,null,"MI"]
[1760,"IZ0EUX","MI865","SALVATORE",null,null,null,null,null,null,null,null,null,null,null,null,null,null,null,null,"MI"]
[1761,"IW5BNC","MI867","RODOLFO",null,null,null,null,null,null,null,null,null,null,null,null,null,null,null,null,"MI"]
[1762,"DL2HUC","MI868","ERICH",null,null,null,null,null,null,null,null,null,null,null,null,null,null,null,null,"MI"]
[1763,"I6ONE","MI869","SERGIO",null,null,null,null,null,null,null,null,null,null,null,null,null,null,null,null,"MI"]
[1764,"IZ0FKQ","MI870","RENATO",null,null,null,null,null,null,null,null,null,null,null,null,null,null,null,null,"MI"]
[1765,"IK0REM","MI871","GIANCARLO",null,null,null,null,null,null,null,null,null,null,null,null,null,null,null,null,"MI"]
[1766,"IZ3WPN","MI872","ROBERTO",null,null,null,null,null,null,null,null,null,null,null,null,null,null,null,null,"MI"]
[1767,"IZ1POA","MI873","MICHELE",null,null,null,null,null,null,null,null,null,null,null,null,null,null,null,null,"MI"]
[1768,"IK2UJF","MI874","ERMANNO",null,null,null,null,null,null,null,null,null,null,null,null,null,null,null,null,"MI"]
[1769,"IW2IGO","MI875","FRANCESCO",null,null,null,null,null,null,null,null,null,null,null,null,null,null,null,null,"MI"]
[1770,"IT9CLM","MI876","GIUSEPPE",null,null,null,null,null,null,null,null,null,null,null,null,null,null,null,null,"MI"]
[1771,"IW9HPW","MI877","MICHELE",null,null,null,null,null,null,null,null,null,null,null,null,null,null,null,null,"MI"]
[1772,"IK6DIP","MI878","CARLO",null,null,null,null,null,null,null,null,null,null,null,null,null,null,null,null,"MI"]
[1773,"IT9JSL","MI879","GIUSEPPE",null,null,null,null,null,null,null,null,null,null,null,null,null,null,null,null,"MI"]
[1774,"IT9APL","MI880","LETIZIA",null,null,null,null,null,null,null,null,null,null,null,null,null,null,null,null,"MI"]
[1775,"OK1RO","MI881","JAN",null,null,null,null,null,null,null,null,null,null,null,null,null,null,null,null,"MI"]
[1776,"IW3BQK","MI882","FRANCO",null,null,null,null,null,null,null,null,null,null,null,null,null,null,null,null,"MI"]
[1777,"IK1FEG","MI883","ROBERTO",null,null,null,null,null,null,null,null,null,null,null,null,null,null,null,null,"MI"]
[1778,"IT9CLU","MI884","SALVATORE",null,null,null,null,null,null,null,null,null,null,null,null,null,null,null,null,"MI"]
[1779,"IT9TAP","MI885","RICCARDO",null,null,null,null,null,null,null,null,null,null,null,null,null,null,null,null,"MI"]
[1780,"IW2GPM","MI886","STEFANO",null,null,null,null,null,null,null,null,null,null,null,null,null,null,null,null,"MI"]
[1781,"IW0ELT","MI887","DANILO",null,null,null,null,null,null,null,null,null,null,null,null,null,null,null,null,"MI"]
[1782,"IZ6OYT","MI888","ELIA",null,null,null,null,null,null,null,null,null,null,null,null,null,null,null,null,"MI"]
[1783,"IT9JPW","MI889","MARCO",null,null,null,null,null,null,null,null,null,null,null,null,null,null,null,null,"MI"]
[1784,"IK6TIG","MI890","NINO",null,null,null,null,null,null,null,null,null,null,null,null,null,null,null,null,"MI"]
[1785,"IW3SSD","MI891","ANDREA",null,null,null,null,null,null,null,null,null,null,null,null,null,null,null,null,"MI"]
[1786,"IW4EPO","MI894","PAOLO",null,null,null,null,null,null,null,null,null,null,null,null,null,null,null,null,"MI"]
[1787,"IZ8XTO","MI895","GENNARO",null,null,null,null,null,null,null,null,null,null,null,null,null,null,null,null,"MI"]
[1788,"IK2YHL","MI896","MARCO",null,null,null,null,null,null,null,null,null,null,null,null,null,null,null,null,"MI"]
[1789,"IT9GCG","MI897","VINCENZO",null,null,null,null,null,null,null,null,null,null,null,null,null,null,null,null,"MI"]
[1790,"II2IBCI","MI898","SS CONTE BIANCOMANO",null,null,null,null,null,null,null,null,null,null,null,null,null,null,null,null,"MI"]
[1791,"II7IAJV","MI899","NAVE V. VENETO",null,null,null,null,null,null,null,null,null,null,null,null,null,null,null,null,"MI"]
[1792,"II0IAJV","MI899","NAVE V. VENETO",null,null,null,null,null,null,null,null,null,null,null,null,null,null,null,null,"MI"]
[1793,"II1ADV","MI900","NAVE CARABINIERE",null,null,null,null,null,null,null,null,null,null,null,null,null,null,null,null,"MI"]
[1794,"II9AS","MI901","40°",null,null,null,null,null,null,null,null,null,null,null,null,null,null,null,null,{"$f":"LEFT(C1795,2)","v":"MI"}]
[1795,"IZ1CKN","MI902","CHRISTIAN",null,null,null,null,null,null,null,null,null,null,null,null,null,null,null,null,"MI"]
[1796,"IZ5RKW","MI903","FULVIO",null,null,null,null,null,null,null,null,null,null,null,null,null,null,null,null,"MI"]
[1797,"IZ5FXD","MI904","FRANCO",null,null,null,null,null,null,null,null,null,null,null,null,null,null,null,null,"MI"]
[1798,"IT9CNK","MI905","GIUSEPPE",null,null,null,null,null,null,null,null,null,null,null,null,null,null,null,null,"MI"]
[1799,"IW4CGR","MI906","LUIGI",null,null,null,null,null,null,null,null,null,null,null,null,null,null,null,null,"MI"]
[1800,"I2CZQ","MI907","PIETRO",null,null,null,null,null,null,null,null,null,null,null,null,null,null,null,null,"MI"]
[1801,"HB9EUY","MI908","MARCO",null,null,null,null,null,null,null,null,null,null,null,null,null,null,null,null,"MI"]
[1802,"IZ3KLF","MI909","SILVANO",null,null,null,null,null,null,null,null,null,null,null,null,null,null,null,null,"MI"]
[1803,"IK5IWU","MI910","CARLO",null,null,null,null,null,null,null,null,null,null,null,null,null,null,null,null,"MI"]
[1804,"IZ3KMY","MI911","FERNANDO",null,null,null,null,null,null,null,null,null,null,null,null,null,null,null,null,"MI"]
[1805,"IZ7VHF","MI913","ROBERTO",null,null,null,null,null,null,null,null,null,null,null,null,null,null,null,null,"MI"]
[1806,"IZ5HNI","MI915","MAURIZIO",null,null,null,null,null,null,null,null,null,null,null,null,null,null,null,null,"MI"]
[1807,"I3GHD","MI917","MAURIZIO",null,null,null,null,null,null,null,null,null,null,null,null,null,null,null,null,"MI"]
[1808,"I3FOM","MI918","DOMENICO",null,null,null,null,null,null,null,null,null,null,null,null,null,null,null,null,"MI"]
[1809,"IU7FKP","MI919","GIANLUCA",null,null,null,null,null,null,null,null,null,null,null,null,null,null,null,null,"MI"]
[1810,"IW1GHS","MI920","ANTONIO",null,null,null,null,null,null,null,null,null,null,null,null,null,null,null,null,"MI"]
[1811,"IZ5EBL","MI921","RICCARDO",null,null,null,null,null,null,null,null,null,null,null,null,null,null,null,null,"MI"]
[1812,"IW9FI","MI923","CARMELO",null,null,null,null,null,null,null,null,null,null,null,null,null,null,null,null,"MI"]
[1813,"IT9CGR","MI924","ROSARIO",null,null,null,null,null,null,null,null,null,null,null,null,null,null,null,null,"MI"]
[1814,"IK8YTF","MI925","ALFREDO",null,null,null,null,null,null,null,null,null,null,null,null,null,null,null,null,"MI"]
[1815,"IZ0TTE","MI926","ANTONIO",null,null,null,null,null,null,null,null,null,null,null,null,null,null,null,null,"MI"]
[1816,"IZ6WOJ","MI927","CARLO",null,null,null,null,null,null,null,null,null,null,null,null,null,null,null,null,"MI"]
[1817,"IZ8EGM","MI928","AURELIO",null,null,null,null,null,null,null,null,null,null,null,null,null,null,null,null,"MI"]
[1818,"IZ3VDU","MI929","PAOLO",null,null,null,null,null,null,null,null,null,null,null,null,null,null,null,null,"MI"]
[1819,"IZ3KRP","MI930","IRENEO",null,null,null,null,null,null,null,null,null,null,null,null,null,null,null,null,"MI"]
[1820,"IS0DZC","MI931","MIRKO",null,null,null,null,null,null,null,null,null,null,null,null,null,null,null,null,"MI"]
[1821,"IW1QIH","MI932","GIAN PAOLO",null,null,null,null,null,null,null,null,null,null,null,null,null,null,null,null,"MI"]
[1822,"IK2WAD","MI933","GIOSUE'",null,null,null,null,null,null,null,null,null,null,null,null,null,null,null,null,"MI"]
[1823,"I2XBO","MI934","ADRIANO",null,null,null,null,null,null,null,null,null,null,null,null,null,null,null,null,"MI"]
[1824,"IZ7XMX","MI935","GIOVANNI",null,null,null,null,null,null,null,null,null,null,null,null,null,null,null,null,"MI"]
[1825,"IK5AIO","MI936","ILICO",null,null,null,null,null,null,null,null,null,null,null,null,null,null,null,null,"MI"]
[1826,"IK1WKS","MI937","CARLO",null,null,null,null,null,null,null,null,null,null,null,null,null,null,null,null,"MI"]
[1827,"IZ1GVG","MI938","GIACOMO",null,null,null,null,null,null,null,null,null,null,null,null,null,null,null,null,"MI"]
[1828,"HB9ASZ","MI939","BERNHARD",null,null,null,null,null,null,null,null,null,null,null,null,null,null,null,null,"MI"]
[1829,"IK5LGM","MI940","ANTONIO",null,null,null,null,null,null,null,null,null,null,null,null,null,null,null,null,"MI"]
[1830,"IZ1CCF","MI941","ALBERTO",null,null,null,null,null,null,null,null,null,null,null,null,null,null,null,null,"MI"]
[1831,"IS0ANZ","MI942","ALESANDRO",null,null,null,null,null,null,null,null,null,null,null,null,null,null,null,null,"MI"]
[1832,"YO4DCF","MI943","MARIN",null,null,null,null,null,null,null,null,null,null,null,null,null,null,null,null,"MI"]
[1833,"IK5VLO","MI945","PAOLO",null,null,null,null,null,null,null,null,null,null,null,null,null,null,null,null,"MI"]
[1834,"IZ1TTR","MI946","FILIPPO",null,null,null,null,null,null,null,null,null,null,null,null,null,null,null,null,"MI"]
[1835,"IZ1BMI","MI947","CRISTIAN",null,null,null,null,null,null,null,null,null,null,null,null,null,null,null,null,"MI"]
[1836,"IK6REB","MI948","SIMONE",null,null,null,null,null,null,null,null,null,null,null,null,null,null,null,null,"MI"]
[1837,"I0PAB","MI949","GIOVANNI",null,null,null,null,null,null,null,null,null,null,null,null,null,null,null,null,"MI"]
[1838,"II0IDR","MI950","MARITELE ROMA",null,null,null,null,null,null,null,null,null,null,null,null,null,null,null,null,"MI"]
[1839,"II0SB","MI951","SANTA BARBARA CAGLIARI",null,null,null,null,null,null,null,null,null,null,null,null,null,null,null,null,"MI"]
[1840,"II3SB","MI952","SANTA BARBARA VENEZIA",null,null,null,null,null,null,null,null,null,null,null,null,null,null,null,null,"MI"]
[1841,"II3ICZ","MI953","MARITELE VENEZIA",null,null,null,null,null,null,null,null,null,null,null,null,null,null,null,null,"MI"]
[1842,"II2MM ","MI954","GIORNATA DELLE FF.AA. (2010)",null,null,null,null,null,null,null,null,null,null,null,null,null,null,null,null,"MI"]
[1843,"II0ICH","MI955","MARITELE LA MADDALENA",null,null,null,null,null,null,null,null,null,null,null,null,null,null,null,null,"MI"]
[1844,"II9IGA","MI956","MARITELE TRAPANI ",null,null,null,null,null,null,null,null,null,null,null,null,null,null,null,null,"MI"]
[1845,"II0IASM","MI957","NAVE CAVOUR (CIVITAVECCHIA)",null,null,null,null,null,null,null,null,null,null,null,null,null,null,null,null,"MI"]
[1846,"II7IASM","MI957","NAVE CAVOUR (TARANTO)",null,null,null,null,null,null,null,null,null,null,null,null,null,null,null,null,"MI"]
[1847,"II1IALV","MI958","SOMMERGIBILE L. DA VINCI",null,null,null,null,null,null,null,null,null,null,null,null,null,null,null,null,"MI"]
[1848,"II1IARD","MI959","NAVE ARDITO",null,null,null,null,null,null,null,null,null,null,null,null,null,null,null,null,"MI"]
[1849,"II7IARD","MI959","NAVE ARDITO",null,null,null,null,null,null,null,null,null,null,null,null,null,null,null,null,"MI"]
[1850,"II2IARD","MI959","NAVE ARDITO ",null,null,null,null,null,null,null,null,null,null,null,null,null,null,null,null,"MI"]
[1851,"II7IADU","MI960","NAVE C. DUILIO (TARANTO)",null,null,null,null,null,null,null,null,null,null,null,null,null,null,null,null,"MI"]
[1852,"II0IADU","MI960","NAVE C. DUILIO",null,null,null,null,null,null,null,null,null,null,null,null,null,null,null,null,"MI"]
[1853,"II2SB","MI961","SANTA BARBARA COMO",null,null,null,null,null,null,null,null,null,null,null,null,null,null,null,null,"MI"]
[1854,"II7IGPR","MI962","SOMMERGIBILE G.PRINI ",null,null,null,null,null,null,null,null,null,null,null,null,null,null,null,null,"MI"]
[1855,"IA7MM","MI963","150° ANNIVERSARIO MARINA MILITARE",null,null,null,null,null,null,null,null,null,null,null,null,null,null,null,null,"MI"]
[1856,"II3MM","MI964","151° ANNIVERSARIO MARINA MILITARE",null,null,null,null,null,null,null,null,null,null,null,null,null,null,null,null,"MI"]
[1857,"IP1NAVY","MI965","152° ANNIVERSARIO MARINA MILITARE",null,null,null,null,null,null,null,null,null,null,null,null,null,null,null,null,"MI"]
[1858,"II6ICA","MI966","MARITELE ANCONA",null,null,null,null,null,null,null,null,null,null,null,null,null,null,null,null,{"$f":"LEFT(C1859,2)","v":"MI"}]
[1859,"II7ICE","MI967","MARITELE BRINDISI",null,null,null,null,null,null,null,null,null,null,null,null,null,null,null,null,"MI"]
[1860,"II0ICV","MI968","MARITELE TAVOLARA",null,null,null,null,null,null,null,null,null,null,null,null,null,null,null,null,"MI"]
[1861,"II5IDK","MI969","MARITELE LIVORNO  ",null,null,null,null,null,null,null,null,null,null,null,null,null,null,null,null,"MI"]
[1862,"II9IGB","MI970","MARITELE PANTELLERIA",null,null,null,null,null,null,null,null,null,null,null,null,null,null,null,null,"MI"]
[1863,"II1NS","MI971","SOMMERGIBILE N. SAURO",null,null,null,null,null,null,null,null,null,null,null,null,null,null,null,null,"MI"]
[1864,"II7IAOI","MI972","NAVE BERGAMINI",null,null,null,null,null,null,null,null,null,null,null,null,null,null,null,null,"MI"]
[1865,"IZ0WBO","MI973","MARTINO",null,null,null,null,null,null,null,null,null,null,null,null,null,null,null,null,"MI"]
[1866,"IT9YVO","MI974","ANTONELLO",null,null,null,null,null,null,null,null,null,null,null,null,null,null,null,null,"MI"]
[1867,"II7IADO","MI975","NAVE DORIA",null,null,null,null,null,null,null,null,null,null,null,null,null,null,null,null,"MI"]
[1868,"IZ3VEN","MI976","DANIELE",null,null,null,null,null,null,null,null,null,null,null,null,null,null,null,null,"MI"]
[1869,"II0IAFM","MI977","NAVE F. MIMBELLI",null,null,null,null,null,null,null,null,null,null,null,null,null,null,null,null,"MI"]
[1870,"IK1UGX","MI978","ANGELO",null,null,null,null,null,null,null,null,null,null,null,null,null,null,null,null,"MI"]
[1871,"IT9BLI","MI979","CALOGERO",null,null,null,null,null,null,null,null,null,null,null,null,null,null,null,null,"MI"]
[1872,"IZ4YEP","MI980","ALEX",null,null,null,null,null,null,null,null,null,null,null,null,null,null,null,null,"MI"]
[1873,"IK1PCC","MI981","GIORGIO",null,null,null,null,null,null,null,null,null,null,null,null,null,null,null,null,"MI"]
[1874,"IK1OXE","MI982","MAURIZIO",null,null,null,null,null,null,null,null,null,null,null,null,null,null,null,null,"MI"]
[1875,"IZ1RDO","MI983","ANTONIO",null,null,null,null,null,null,null,null,null,null,null,null,null,null,null,null,"MI"]
[1876,"IT9CAR","MI984","STEFANO",null,null,null,null,null,null,null,null,null,null,null,null,null,null,null,null,"MI"]
[1877,"IK5VLL","MI987","ANDREA",null,null,null,null,null,null,null,null,null,null,null,null,null,null,null,null,"MI"]
[1878,"IW5ABB","MI988","MARCELLO",null,null,null,null,null,null,null,null,null,null,null,null,null,null,null,null,"MI"]
[1879,"I5UIG","MI989","GIANCARLO",null,null,null,null,null,null,null,null,null,null,null,null,null,null,null,null,"MI"]
[1880,"IQ7UJ","MI990","SEZ. ARMI TARANTO",null,null,null,null,null,null,null,null,null,null,null,null,null,null,null,null,"MI"]
[1881,"I5VNJ","MI991","GIOVANNI",null,null,null,null,null,null,null,null,null,null,null,null,null,null,null,null,"MI"]
[1882,"IZ0KMC","MI992","PASQUALE",null,null,null,null,null,null,null,null,null,null,null,null,null,null,null,null,"MI"]
[1883,"IZ3ZMJ","MI994","DARIO",null,null,null,null,null,null,null,null,null,null,null,null,null,null,null,null,"MI"]
[1884,"IW5ACI","MI995","FRANCO",null,null,null,null,null,null,null,null,null,null,null,null,null,null,null,null,"MI"]
[1885,"HB9FGG","MI997","ANTONINA",null,null,null,null,null,null,null,null,null,null,null,null,null,null,null,null,"MI"]
[1886,"IZ0LKW","MI998","CARLO",null,null,null,null,null,null,null,null,null,null,null,null,null,null,null,null,"MI"]
[1887,"I1OGN","MI999","NATALE",null,null,null,null,null,null,null,null,null,null,null,null,null,null,null,null,"MI"]
[1888,"II7ARMI","MI1000","10° ANNIVERSARIO ARMI - 1° RADUNO NAZIONALE A TARANTO",null,null,null,null,null,null,null,null,null,null,null,null,null,null,null,null,"MI"]
[1889,"II0ELET","MI1001","NAVE ELETTRA (SALARADIO) - MUSEO PT ROMA",null,null,null,null,null,null,null,null,null,null,null,null,null,null,null,null,"MI"]
[1890,"IT9ASD","MI1002","IVAN",null,null,null,null,null,null,null,null,null,null,null,null,null,null,null,null,"MI"]
[1891,"IZ3ZFF","MI1004","ANNA",null,null,null,null,null,null,null,null,null,null,null,null,null,null,null,null,"MI"]
[1892,"IT9CLN","MI1005","IVANO",null,null,null,null,null,null,null,null,null,null,null,null,null,null,null,null,"MI"]
[1893,"IK7FPV","MI1006","GIUSEPPE",null,null,null,null,null,null,null,null,null,null,null,null,null,null,null,null,"MI"]
[1894,"IW1RLE","MI1007","CARLO",null,null,null,null,null,null,null,null,null,null,null,null,null,null,null,null,"MI"]
[1895,"IZ8VNQ","MI1008","DOMENICO",null,null,null,null,null,null,null,null,null,null,null,null,null,null,null,null,"MI"]
[1896,"IT9LOL","MI1009","FRANCESCO",null,null,null,null,null,null,null,null,null,null,null,null,null,null,null,null,"MI"]
[1897,"IZ4GOL","MI1010","LUIGI",null,null,null,null,null,null,null,null,null,null,null,null,null,null,null,null,"MI"]
[1898,"IK7FPU","MI1013","ANTONIO",null,null,null,null,null,null,null,null,null,null,null,null,null,null,null,null,"MI"]
[1899,"IT9BRY","MI1014","AMERIGO",null,null,null,null,null,null,null,null,null,null,null,null,null,null,null,null,"MI"]
[1900,"IZ5ZCC","MI1015","MARCO",null,null,null,null,null,null,null,null,null,null,null,null,null,null,null,null,"MI"]
[1901,"IZ7SLZ","MI1016","DOMENICO",null,null,null,null,null,null,null,null,null,null,null,null,null,null,null,null,"MI"]
[1902,"IZ1WTM","MI1017","PIERO",null,null,null,null,null,null,null,null,null,null,null,null,null,null,null,null,"MI"]
[1903,"IZ1ZCT","MI1018","ROBERTO",null,null,null,null,null,null,null,null,null,null,null,null,null,null,null,null,"MI"]
[1904,"IW5AX","MI1019","RICCARDO",null,null,null,null,null,null,null,null,null,null,null,null,null,null,null,null,"MI"]
[1905,"HB9BQR","MI1020","ROLAND",null,null,null,null,null,null,null,null,null,null,null,null,null,null,null,null,"MI"]
[1906,"IU1AAH","MI1021","ENZO",null,null,null,null,null,null,null,null,null,null,null,null,null,null,null,null,"MI"]
[1907,"II7WARD","MI1022","WORLD AMATEUR RADIO DAY",null,null,null,null,null,null,null,null,null,null,null,null,null,null,null,null,"MI"]
[1908,"IZ0TKD","MI1024","MASSIMO",null,null,null,null,null,null,null,null,null,null,null,null,null,null,null,null,"MI"]
[1909,"IZ3YKV","MI1025","ROBERTO",null,null,null,null,null,null,null,null,null,null,null,null,null,null,null,null,"MI"]
[1910,"IZ3LCK","MI1026","GIULIO",null,null,null,null,null,null,null,null,null,null,null,null,null,null,null,null,"MI"]
[1911,"IZ0WIG","MI1027","MARCO",null,null,null,null,null,null,null,null,null,null,null,null,null,null,null,null,"MI"]
[1912,"IT9OZS","MI1028","SALVATORE",null,null,null,null,null,null,null,null,null,null,null,null,null,null,null,null,"MI"]
[1913,"IT9ARZ","MI1029","GIUSEPPE",null,null,null,null,null,null,null,null,null,null,null,null,null,null,null,null,"MI"]
[1914,"IW9FNV","MI1030","SALVATORE",null,null,null,null,null,null,null,null,null,null,null,null,null,null,null,null,"MI"]
[1915,"II1IARU","MI1031","NAVE AUDACE",null,null,null,null,null,null,null,null,null,null,null,null,null,null,null,null,"MI"]
[1916,"II3IARU","MI1031","NAVE AUDACE",null,null,null,null,null,null,null,null,null,null,null,null,null,null,null,null,"MI"]
[1917,"IT9CBR","MI1033","SALVATORE",null,null,null,null,null,null,null,null,null,null,null,null,null,null,null,null,"MI"]
[1918,"II9IACR","MI1034","NAVE PIETRO DE CRISTOFORO",null,null,null,null,null,null,null,null,null,null,null,null,null,null,null,null,"MI"]
[1919,"IK6MNB","MI1035","CLAUDIO",null,null,null,null,null,null,null,null,null,null,null,null,null,null,null,null,"MI"]
[1920,"IU1DUK","MI1036","GIOVANNI",null,null,null,null,null,null,null,null,null,null,null,null,null,null,null,null,"MI"]
[1921,"AG6SH","MI1037","MARK",null,null,null,null,null,null,null,null,null,null,null,null,null,null,null,null,"MI"]
[1922,"II0IABJ","MI1038","NAVE AMERIGO VESPUCCI",null,null,null,null,null,null,null,null,null,null,null,null,null,null,null,null,{"$f":"LEFT(C1923,2)","v":"MI"}]
[1923,"IV3FHS","MI1039","ANTONIO",null,null,null,null,null,null,null,null,null,null,null,null,null,null,null,null,"MI"]
[1924,"II9IAGM","MI1040","SOMMERGIBILE MARCONI",null,null,null,null,null,null,null,null,null,null,null,null,null,null,null,null,"MI"]
[1925,"IZ5GRS","MI1041","ANDREA ",null,null,null,null,null,null,null,null,null,null,null,null,null,null,null,null,"MI"]
[1926,"IZ5ZEB","MI1042","ELISA",null,null,null,null,null,null,null,null,null,null,null,null,null,null,null,null,"MI"]
[1927,"IU5AJQ","MI1043","MARCO",null,null,null,null,null,null,null,null,null,null,null,null,null,null,null,null,"MI"]
[1928,"IZ0WPA","MI1044","PAOLO",null,null,null,null,null,null,null,null,null,null,null,null,null,null,null,null,"MI"]
[1929,"IZ4IPJ","MI1045","ROSSANO",null,null,null,null,null,null,null,null,null,null,null,null,null,null,null,null,"MI"]
[1930,"IZ0HQN","MI1046","CRISTIANO",null,null,null,null,null,null,null,null,null,null,null,null,null,null,null,null,"MI"]
[1931,"IW9FRB","MI1047","FILIPPO",null,null,null,null,null,null,null,null,null,null,null,null,null,null,null,null,"MI"]
[1932,"IT9DBF","MI1048","ORAZIO",null,null,null,null,null,null,null,null,null,null,null,null,null,null,null,null,"MI"]
[1933,"II9IADP","MI1049","NAVE DURAND DE LA PENNE",null,null,null,null,null,null,null,null,null,null,null,null,null,null,null,null,"MI"]
[1934,"II0IAML","MI1050","NAVE IMPAVIDO",null,null,null,null,null,null,null,null,null,null,null,null,null,null,null,null,"MI"]
[1935,"IW1BCO","MI1052","MARCO",null,null,null,null,null,null,null,null,null,null,null,null,null,null,null,null,"MI"]
[1936,"IZ5CMG","MI1053","ROBERTO",null,null,null,null,null,null,null,null,null,null,null,null,null,null,null,null,"MI"]
[1937,"IZ7FMJ","MI1054","LUCIANO",null,null,null,null,null,null,null,null,null,null,null,null,null,null,null,null,"MI"]
[1938,"IZ1ELQ","MI1055","PAOLO",null,null,null,null,null,null,null,null,null,null,null,null,null,null,null,null,"MI"]
[1939,"IK8PXZ","MI1056","VITTORIO",null,null,null,null,null,null,null,null,null,null,null,null,null,null,null,null,"MI"]
[1940,"IZ7XVG","MI1058","VITTORIO",null,null,null,null,null,null,null,null,null,null,null,null,null,null,null,null,"MI"]
[1941,"IZ4WBA","MI1059","DAVIDE",null,null,null,null,null,null,null,null,null,null,null,null,null,null,null,null,"MI"]
[1942,"IZ7ATN","MI1060","SIMON",null,null,null,null,null,null,null,null,null,null,null,null,null,null,null,null,"MI"]
[1943,"IW4DXO","MI1061","LORENZO",null,null,null,null,null,null,null,null,null,null,null,null,null,null,null,null,"MI"]
[1944,"IW0HLE","MI1062","GIANNI",null,null,null,null,null,null,null,null,null,null,null,null,null,null,null,null,"MI"]
[1945,"IV3ALL","MI1063","GAETANO",null,null,null,null,null,null,null,null,null,null,null,null,null,null,null,null,"MI"]
[1946,"IV3AZV","MI1064","MAURO",null,null,null,null,null,null,null,null,null,null,null,null,null,null,null,null,"MI"]
[1947,"IV3BBZ","MI1065","SERGIO",null,null,null,null,null,null,null,null,null,null,null,null,null,null,null,null,"MI"]
[1948,"IV3BCA","MI1066","PAOLO",null,null,null,null,null,null,null,null,null,null,null,null,null,null,null,null,"MI"]
[1949,"IV3BCM","MI1067","OSCAR",null,null,null,null,null,null,null,null,null,null,null,null,null,null,null,null,"MI"]
[1950,"IV3CNZ","MI1068","ANGELO",null,null,null,null,null,null,null,null,null,null,null,null,null,null,null,null,"MI"]
[1951,"IV3DDN","MI1069","STEFANO",null,null,null,null,null,null,null,null,null,null,null,null,null,null,null,null,"MI"]
[1952,"IV3GFL","MI1070","MARIA",null,null,null,null,null,null,null,null,null,null,null,null,null,null,null,null,"MI"]
[1953,"IV3UTV","MI1071","MAURIZIO",null,null,null,null,null,null,null,null,null,null,null,null,null,null,null,null,"MI"]
[1954,"IZ5VVA","MI1072","RICCARDO",null,null,null,null,null,null,null,null,null,null,null,null,null,null,null,null,"MI"]
[1955,"IZ5XGQ","MI1073","SALVATORE",null,null,null,null,null,null,null,null,null,null,null,null,null,null,null,null,"MI"]
[1956,"IZ3YGA","MI1074","PAOLO",null,null,null,null,null,null,null,null,null,null,null,null,null,null,null,null,"MI"]
[1957,"IW0HQG","MI1075","FERNANDO",null,null,null,null,null,null,null,null,null,null,null,null,null,null,null,null,"MI"]
[1958,"IK1NDD","MI1077","CARLO",null,null,null,null,null,null,null,null,null,null,null,null,null,null,null,null,"MI"]
[1959,"IZ1ASM","MI1078","NICOLA",null,null,null,null,null,null,null,null,null,null,null,null,null,null,null,null,"MI"]
[1960,"IU1BEL","MI1079","GIANPAOLO",null,null,null,null,null,null,null,null,null,null,null,null,null,null,null,null,"MI"]
[1961,"HZ1PS","MI1080","PETER",null,null,null,null,null,null,null,null,null,null,null,null,null,null,null,null,"MI"]
[1962,"IZ7QEN","MI1082","TOMMASO",null,null,null,null,null,null,null,null,null,null,null,null,null,null,null,null,"MI"]
[1963,"IZ1WJF","MI1083","ROCCO",null,null,null,null,null,null,null,null,null,null,null,null,null,null,null,null,"MI"]
[1964,"IZ7BRC","MI1084","ANTONIO",null,null,null,null,null,null,null,null,null,null,null,null,null,null,null,null,"MI"]
[1965,"RK3SWB","MI1085","RYAZAN",null,null,null,null,null,null,null,null,null,null,null,null,null,null,null,null,"MI"]
[1966,"IN3DQW","MI1086","GIANCARLO",null,null,null,null,null,null,null,null,null,null,null,null,null,null,null,null,"MI"]
[1967,"IS0DZM","MI1087","STEFANO",null,null,null,null,null,null,null,null,null,null,null,null,null,null,null,null,"MI"]
[1968,"DL2NAI","MI1088","ISRAEL",null,null,null,null,null,null,null,null,null,null,null,null,null,null,null,null,"MI"]
[1969,"OE1GTU","MI1089","GERHARD",null,null,null,null,null,null,null,null,null,null,null,null,null,null,null,null,"MI"]
[1970,"EA3ERD","MI1090","ERNESTO",null,null,null,null,null,null,null,null,null,null,null,null,null,null,null,null,"MI"]
[1971,"LZ3QC","MI1091","IVAYLO",null,null,null,null,null,null,null,null,null,null,null,null,null,null,null,null,"MI"]
[1972,"IZ1WEZ","MI1092","GIORGIO",null,null,null,null,null,null,null,null,null,null,null,null,null,null,null,null,"MI"]
[1973,"I0FTB","MI1093","FRANCESCO",null,null,null,null,null,null,null,null,null,null,null,null,null,null,null,null,"MI"]
[1974,"IT9DWF","MI1094","DOMENICO",null,null,null,null,null,null,null,null,null,null,null,null,null,null,null,null,"MI"]
[1975,"IZ8SWO","MI1095","EVERALDO",null,null,null,null,null,null,null,null,null,null,null,null,null,null,null,null,"MI"]
[1976,"IZ1VZG","MI1096","MORENO",null,null,null,null,null,null,null,null,null,null,null,null,null,null,null,null,"MI"]
[1977,"HA1XU","MI1097","JANOS",null,null,null,null,null,null,null,null,null,null,null,null,null,null,null,null,"MI"]
[1978,"IU5AVW","MI1098","ANTONINO",null,null,null,null,null,null,null,null,null,null,null,null,null,null,null,null,"MI"]
[1979,"IU1ATD","MI1099","ANTONIO",null,null,null,null,null,null,null,null,null,null,null,null,null,null,null,null,"MI"]
[1980,"II0ROMA","MI1100","REGIA NAVE ROMA (SARDEGNA)",null,null,null,null,null,null,null,null,null,null,null,null,null,null,null,null,"MI"]
[1981,"II1ROMA","MI1100","REGIA NAVE ROMA (LA SPEZIA)",null,null,null,null,null,null,null,null,null,null,null,null,null,null,null,null,"MI"]
[1982,"IR1OMA","MI1100","REGIA NAVE ROMA (GENOVA",null,null,null,null,null,null,null,null,null,null,null,null,null,null,null,null,"MI"]
[1983,"IR0MA","MI1100","REGIA NAVE ROMA (ROMA)",null,null,null,null,null,null,null,null,null,null,null,null,null,null,null,null,"MI"]
[1984,"II3ROMA","MI1100","REGIA NAVE ROMA (MONFALCONE)",null,null,null,null,null,null,null,null,null,null,null,null,null,null,null,null,"MI"]
[1985,"II7ROMA","MI1100","REGIA NAVE ROMA (TARANTO)",null,null,null,null,null,null,null,null,null,null,null,null,null,null,null,null,"MI"]
[1986,"II3CW","MI1101","TELEGRAPHY HERITAGE HUMANITY",null,null,null,null,null,null,null,null,null,null,null,null,null,null,null,null,{"$f":"LEFT(C1987,2)","v":"MI"}]
[1987,"IK4YFQ","MI1102","MARCELLO",null,null,null,null,null,null,null,null,null,null,null,null,null,null,null,null,"MI"]
[1988,"IT9CFP","MI1103","GIUSEPPE",null,null,null,null,null,null,null,null,null,null,null,null,null,null,null,null,"MI"]
[1989,"IZ8GUN","MI1105","GIOVANNI",null,null,null,null,null,null,null,null,null,null,null,null,null,null,null,null,"MI"]
[1990,"IZ2ZPH","MI1106","PAOLO",null,null,null,null,null,null,null,null,null,null,null,null,null,null,null,null,"MI"]
[1991,"IT9IFI","MI1107","SERGIO",null,null,null,null,null,null,null,null,null,null,null,null,null,null,null,null,"MI"]
[1992,"IK1BUW","MI1109","VINCENZO",null,null,null,null,null,null,null,null,null,null,null,null,null,null,null,null,"MI"]
[1993,"II1IAST","MI1110","NAVE TODARO",null,null,null,null,null,null,null,null,null,null,null,null,null,null,null,null,"MI"]
[1994,"II7LDP","MI1111","CENTENARIO DELLA NASCITA DI L.D.LA PENNE 1914-2014",null,null,null,null,null,null,null,null,null,null,null,null,null,null,null,null,"MI"]
[1995,"IZ7JYG","MI1112","NICOLA",null,null,null,null,null,null,null,null,null,null,null,null,null,null,null,null,"MI"]
[1996,"IU2CBI","MI1114","MARCO",null,null,null,null,null,null,null,null,null,null,null,null,null,null,null,null,"MI"]
[1997,"IT9CEL","MI1116","SANTO",null,null,null,null,null,null,null,null,null,null,null,null,null,null,null,null,"MI"]
[1998,"IS0MNR","MI1117","VALENTE",null,null,null,null,null,null,null,null,null,null,null,null,null,null,null,null,"MI"]
[1999,"IS0HFE","MI1118","SIMONE",null,null,null,null,null,null,null,null,null,null,null,null,null,null,null,null,"MI"]
[2000,"IT9ZZO","MI1119","DARIO",null,null,null,null,null,null,null,null,null,null,null,null,null,null,null,null,"MI"]
[2001,"IU7BTO","MI1120","GIUSEPPE",null,null,null,null,null,null,null,null,null,null,null,null,null,null,null,null,"MI"]
[2002,"CT1ELF","MI1121","FERNANDO",null,null,null,null,null,null,null,null,null,null,null,null,null,null,null,null,"MI"]
[2003,"IZ8QIH","MI1122","FERNANDO",null,null,null,null,null,null,null,null,null,null,null,null,null,null,null,null,"MI"]
[2005,"IS0DZU","MI1124","PAOLA",null,null,null,null,null,null,null,null,null,null,null,null,null,null,null,null,"MI"]
[2006,"IT9DQT","MI1125","ALEX ",null,null,null,null,null,null,null,null,null,null,null,null,null,null,null,null,"MI"]
[2007,"I1FX","MI1126","FRANCESCO",null,null,null,null,null,null,null,null,null,null,null,null,null,null,null,null,"MI"]
[2008,"I3JYL","MI1127","LINO",null,null,null,null,null,null,null,null,null,null,null,null,null,null,null,null,"MI"]
[2010,"IK7XNA","MI1130","SERGIO",null,null,null,null,null,null,null,null,null,null,null,null,null,null,null,null,"MI"]
[2011,"II0IAET","MI1131","NAVE ETNA",null,null,null,null,null,null,null,null,null,null,null,null,null,null,null,null,"MI"]
[2012,"IT9FBT","MI1132","GIUSEPPE",null,null,null,null,null,null,null,null,null,null,null,null,null,null,null,null,"MI"]
[2013,"IS0PAH","MI1133","SALVATORE",null,null,null,null,null,null,null,null,null,null,null,null,null,null,null,null,"MI"]
[2015,"II5IHLP","MI1135","NAVE PLATANO",null,null,null,null,null,null,null,null,null,null,null,null,null,null,null,null,"MI"]
[2016,"II1IBFL","MI1136","MEMORIAL",null,null,null,null,null,null,null,null,null,null,null,null,null,null,null,null,"MI"]
[2017,"IZ7ZKS","MI1138","EMANUELE",null,null,null,null,null,null,null,null,null,null,null,null,null,null,null,null,"MI"]
[2018,"IT9DGZ","MI1139","PIETRO",null,null,null,null,null,null,null,null,null,null,null,null,null,null,null,null,"MI"]
[2020,"II9IAIQ","MI1141","NAVE GARIBALDI",null,null,null,null,null,null,null,null,null,null,null,null,null,null,null,null,"MI"]
[2021,"IZ5IXJ","MI1142","CARLO",null,null,null,null,null,null,null,null,null,null,null,null,null,null,null,null,"MI"]
[2022,"IK3JLV","MI1143","GIOVANNI",null,null,null,null,null,null,null,null,null,null,null,null,null,null,null,null,"MI"]
[2023,"IZ4ZBN","MI1144","URIA",null,null,null,null,null,null,null,null,null,null,null,null,null,null,null,null,"MI"]
[2025,"IS0DRF","MI1146","ANDREA",null,null,null,null,null,null,null,null,null,null,null,null,null,null,null,null,"MI"]
[2026,"IZ2WYA","MI1147","CHRISTIAN",null,null,null,null,null,null,null,null,null,null,null,null,null,null,null,null,"MI"]
[2027,"IT9YBL","MI1148","ANDREA",null,null,null,null,null,null,null,null,null,null,null,null,null,null,null,null,"MI"]
[2028,"IZ1SCM","MI1149","RODOLFO",null,null,null,null,null,null,null,null,null,null,null,null,null,null,null,null,"MI"]
[2030,"I5SOD","MI1151","GIANCARLO",null,null,null,null,null,null,null,null,null,null,null,null,null,null,null,null,"MI"]
[2031,"IT9ELT","MI1152","SALVATORE",null,null,null,null,null,null,null,null,null,null,null,null,null,null,null,null,"MI"]
[2032,"IU8CEZ","MI1154","GIUSEPPE",null,null,null,null,null,null,null,null,null,null,null,null,null,null,null,null,"MI"]
[2033,"DK6LH","MI1155","GUENTER",null,null,null,null,null,null,null,null,null,null,null,null,null,null,null,null,"MI"]
[2035,"IT9EYV","MI1157","MARIO",null,null,null,null,null,null,null,null,null,null,null,null,null,null,null,null,"MI"]
[2036,"IW8ENL","MI1158","FRANCESCO",null,null,null,null,null,null,null,null,null,null,null,null,null,null,null,null,"MI"]
[2037,"IZ6ZFM","MI1159","GILBERTO",null,null,null,null,null,null,null,null,null,null,null,null,null,null,null,null,"MI"]
[2038,"IW3RWZ","MI1160","GIUSEPPE",null,null,null,null,null,null,null,null,null,null,null,null,null,null,null,null,"MI"]
[2040,"IS0FFR","MI1162","LOREDANA",null,null,null,null,null,null,null,null,null,null,null,null,null,null,null,null,"MI"]
[2041,"IZ1YCL","MI1163","ANDREA",null,null,null,null,null,null,null,null,null,null,null,null,null,null,null,null,"MI"]
[2042,"IZ7ZKC","MI1165","FRANCESCO",null,null,null,null,null,null,null,null,null,null,null,null,null,null,null,null,"MI"]
[2043,"IS0FEZ","MI1166","MARIO",null,null,null,null,null,null,null,null,null,null,null,null,null,null,null,null,"MI"]
[2045,"IU0BVT","MI1168","ARMANDO",null,null,null,null,null,null,null,null,null,null,null,null,null,null,null,null,"MI"]
[2046,"IU1DEI","MI1169","PIETRO",null,null,null,null,null,null,null,null,null,null,null,null,null,null,null,null,"MI"]
[2047,"IS0FFV","MI1170","MASSIMILIANO",null,null,null,null,null,null,null,null,null,null,null,null,null,null,null,null,"MI"]
[2048,"IS0DJA","MI1171","LUCA",null,null,null,null,null,null,null,null,null,null,null,null,null,null,null,null,"MI"]
[2050,"IV3JWY","MI1173","BRUNO",null,null,null,null,null,null,null,null,null,null,null,null,null,null,null,null,{"$f":"LEFT(C2051,2)","v":"MI"}]
[2051,"IS0AGY","MI1174","AMPELIO",null,null,null,null,null,null,null,null,null,null,null,null,null,null,null,null,"MI"]
[2052,"IW0CPJ","MI1176","CLAUDIO",null,null,null,null,null,null,null,null,null,null,null,null,null,null,null,null,"MI"]
[2053,"IU8CEU","MI1177","MICHELE",null,null,null,null,null,null,null,null,null,null,null,null,null,null,null,null,"MI"]
[2055,"IS0CVH","MI1180","MATTEO",null,null,null,null,null,null,null,null,null,null,null,null,null,null,null,null,"MI"]
[2056,"I2QIL","MI1181","ANTONIO",null,null,null,null,null,null,null,null,null,null,null,null,null,null,null,null,"MI"]
[2057,"IK0PRD","MI1182","CLAUDIO",null,null,null,null,null,null,null,null,null,null,null,null,null,null,null,null,"MI"]
[2058,"IZ8KZN","MI1183","ANGELO",null,null,null,null,null,null,null,null,null,null,null,null,null,null,null,null,"MI"]
[2060,"PA9IGB","MI1185","GIUSEPPE",null,null,null,null,null,null,null,null,null,null,null,null,null,null,null,null,"MI"]
[2061,"IZ0YIM","MI1186","ERMES",null,null,null,null,null,null,null,null,null,null,null,null,null,null,null,null,"MI"]
[2062,"SQ5JBO","MI1187","ARTUR",null,null,null,null,null,null,null,null,null,null,null,null,null,null,null,null,"MI"]
[2063,"IW0GWT","MI1188","PAOLO",null,null,null,null,null,null,null,null,null,null,null,null,null,null,null,null,"MI"]
[2065,"IZ0RUS","MI1190","VINCENZO",null,null,null,null,null,null,null,null,null,null,null,null,null,null,null,null,"MI"]
[2066,"IZ0CUX","MI1191","PAOLO",null,null,null,null,null,null,null,null,null,null,null,null,null,null,null,null,"MI"]
[2067,"IZ3ZUS","MI1192","ANDREA",null,null,null,null,null,null,null,null,null,null,null,null,null,null,null,null,"MI"]
[2068,"II1IGJ","MI1193","NAVE CITTA DI MILANO",null,null,null,null,null,null,null,null,null,null,null,null,null,null,null,null,"MI"]
[2070,"IU8EDV","MI1196","SALVATORE",null,null,null,null,null,null,null,null,null,null,null,null,null,null,null,null,"MI"]
[2071,"IW2CTQ","MI1197","MAURIZIO",null,null,null,null,null,null,null,null,null,null,null,null,null,null,null,null,"MI"]
[2072,"IZ8FPF","MI1198","ROBERTO",null,null,null,null,null,null,null,null,null,null,null,null,null,null,null,null,"MI"]
[2073,"IK8FIQ","MI1199","AGOSTINO",null,null,null,null,null,null,null,null,null,null,null,null,null,null,null,null,"MI"]
[2075,"IV3DBT","MI1201","LUCIANO",null,null,null,null,null,null,null,null,null,null,null,null,null,null,null,null,"MI"]
[2076,"I3SBB","MI1202","GIUSEPPE",null,null,null,null,null,null,null,null,null,null,null,null,null,null,null,null,"MI"]
[2077,"II1SAP","MI1203","REGIO SOMMERGIBILE PROVANA",null,null,null,null,null,null,null,null,null,null,null,null,null,null,null,null,"MI"]
[2078,"IZ6FCK","MI1204","GIANPIERO",null,null,null,null,null,null,null,null,null,null,null,null,null,null,null,null,"MI"]
[2080,"I1PJK","MI1206","MAURIZIO",null,null,null,null,null,null,null,null,null,null,null,null,null,null,null,null,"MI"]
[2081,"IK8MFJ","MI1207","MICHELE",null,null,null,null,null,null,null,null,null,null,null,null,null,null,null,null,"MI"]
[2082,"IT9JQL","MI1209","GIUSEPPE",null,null,null,null,null,null,null,null,null,null,null,null,null,null,null,null,"MI"]
[2083,"II2IAOG","MI1210","NAVE FENICE",null,null,null,null,null,null,null,null,null,null,null,null,null,null,null,null,"MI"]
[2085,"II9IAVE","MI1212","NAVE VISINTINI",null,null,null,null,null,null,null,null,null,null,null,null,null,null,null,null,"MI"]
[2086,"II1IAMN","MI1213","NAVE RIZZO",null,null,null,null,null,null,null,null,null,null,null,null,null,null,null,null,"MI"]
[2087,"IK2ILG","MI1214","FERMO",null,null,null,null,null,null,null,null,null,null,null,null,null,null,null,null,"MI"]
[2088,"II1IAFC","MI1215","SOMMERGIBILE DI COSSATO",null,null,null,null,null,null,null,null,null,null,null,null,null,null,null,null,"MI"]
[2090,"IU7EHF","MI1217","ALESSIO",null,null,null,null,null,null,null,null,null,null,null,null,null,null,null,null,"MI"]
[2091,"IQ2IR","MI1218","INSUBRIA RADIO CLUB",null,null,null,null,null,null,null,null,null,null,null,null,null,null,null,null,"MI"]
[2092,"IS0FXJ","MI1219","DAVIDE",null,null,null,null,null,null,null,null,null,null,null,null,null,null,null,null,"MI"]
[2093,"II1BRT","MI1220","BIAGI RED TENT",null,null,null,null,null,null,null,null,null,null,null,null,null,null,null,null,"MI"]
[2095,"IV3DSB","MI1222","ROBERTO",null,null,null,null,null,null,null,null,null,null,null,null,null,null,null,null,"MI"]
[2096,"IK7QBS","MI1223","GIOVANNI",null,null,null,null,null,null,null,null,null,null,null,null,null,null,null,null,"MI"]
[2097,"IV3FNR","MI1224","GIANNINO",null,null,null,null,null,null,null,null,null,null,null,null,null,null,null,null,"MI"]
[2098,"IK7FMQ","MI1225","GABRIELE",null,null,null,null,null,null,null,null,null,null,null,null,null,null,null,null,"MI"]
[2100,"IS0FWY","MI1227","SERGIO",null,null,null,null,null,null,null,null,null,null,null,null,null,null,null,null,"MI"]
[2101,"IV3BSL","MI1228","ALESSANDRA",null,null,null,null,null,null,null,null,null,null,null,null,null,null,null,null,"MI"]
[2102,"IW2JJS","MI1229","GIORGIO",null,null,null,null,null,null,null,null,null,null,null,null,null,null,null,null,"MI"]
[2103,"IZ1ZYB","MI1230","MARCO",null,null,null,null,null,null,null,null,null,null,null,null,null,null,null,null,"MI"]
[2105,"IZ1WWX","MI1232","MARCO",null,null,null,null,null,null,null,null,null,null,null,null,null,null,null,null,"MI"]
[2106,"IW6CAE","MI1233","SIMONE",null,null,null,null,null,null,null,null,null,null,null,null,null,null,null,null,"MI"]
[2107,"IZ7XWO","MI1234","FERDINANDO",null,null,null,null,null,null,null,null,null,null,null,null,null,null,null,null,"MI"]
[2108,"IK3GLF","MI1235","NICOLA",null,null,null,null,null,null,null,null,null,null,null,null,null,null,null,null,"MI"]
[2110,"IZ3ZMC","MI1237","LUIGI",null,null,null,null,null,null,null,null,null,null,null,null,null,null,null,null,"MI"]
[2111,"IZ4EKI","MI1238","TOMASO",null,null,null,null,null,null,null,null,null,null,null,null,null,null,null,null,"MI"]
[2112,"IZ5UFM","MI1239","ROBERTO",null,null,null,null,null,null,null,null,null,null,null,null,null,null,null,null,"MI"]
[2113,"IS0FFQ","MI1240","ELIO",null,null,null,null,null,null,null,null,null,null,null,null,null,null,null,null,"MI"]
[2115,"IK7XTA","MI1242","DOMENICO",null,null,null,null,null,null,null,null,null,null,null,null,null,null,null,null,"MI"]
[2116,"IT9GCJ","MI1243","FABIO",null,null,null,null,null,null,null,null,null,null,null,null,null,null,null,null,"MI"]
[2117,"IF9ZWA","MI1244","MICHELE",null,null,null,null,null,null,null,null,null,null,null,null,null,null,null,null,"MI"]
[2118,"IS0BZR","MI1245","FRANCO",null,null,null,null,null,null,null,null,null,null,null,null,null,null,null,null,"MI"]
[2120,"DL9LBR","MI1247","REIMER",null,null,null,null,null,null,null,null,null,null,null,null,null,null,null,null,"MI"]
[2121,"IN3EYM","MI1248","FABIO",null,null,null,null,null,null,null,null,null,null,null,null,null,null,null,null,"MI"]
[2122,"IU8ERA","MI1249","ANTONIO",null,null,null,null,null,null,null,null,null,null,null,null,null,null,null,null,"MI"]
[2123,"IS0XBS","MI1250","BRUNO",null,null,null,null,null,null,null,null,null,null,null,null,null,null,null,null,"MI"]
[2125,"IU4DEG","MI1252","ANDREA",null,null,null,null,null,null,null,null,null,null,null,null,null,null,null,null,"MI"]
[2126,"IM0DTF","MI1253","AURELIO",null,null,null,null,null,null,null,null,null,null,null,null,null,null,null,null,"MI"]
[2127,"IZ5MMQ","MI1254","MARIO",null,null,null,null,null,null,null,null,null,null,null,null,null,null,null,null,"MI"]
[2128,"IT9FTU","MI1255","FRANCESCO",null,null,null,null,null,null,null,null,null,null,null,null,null,null,null,null,"MI"]
[2130,"IU8FSU","MI1257","PIETRO",null,null,null,null,null,null,null,null,null,null,null,null,null,null,null,null,"MI"]
[2131,"II1IYBJ","MI1258","MV SAN GIUSEPPE DUE",null,null,null,null,null,null,null,null,null,null,null,null,null,null,null,null,"MI"]
[2132,"II0IHMW","MI1259","NAVE VIAREGGIO",null,null,null,null,null,null,null,null,null,null,null,null,null,null,null,null,"MI"]
[2133,"IZ8FOM","MI1260","GAETANO",null,null,null,null,null,null,null,null,null,null,null,null,null,null,null,null,"MI"]
[2135,"IZ8EZL","MI1262","CARMELO",null,null,null,null,null,null,null,null,null,null,null,null,null,null,null,null,"MI"]
[2136,"IK8LMW","MI1263","GIACOMO",null,null,null,null,null,null,null,null,null,null,null,null,null,null,null,null,"MI"]
[2137,"IU0AZQ","MI1264","PAOLO",null,null,null,null,null,null,null,null,null,null,null,null,null,null,null,null,"MI"]
[2138,"IK8MJP","MI1265","VINCENZO",null,null,null,null,null,null,null,null,null,null,null,null,null,null,null,null,"MI"]
[2140,"IZ5RAQ","MI1267","FABRIZIO",null,null,null,null,null,null,null,null,null,null,null,null,null,null,null,null,"MI"]
[2141,"IV3DRZ","MI1269","MAURO",null,null,null,null,null,null,null,null,null,null,null,null,null,null,null,null,"MI"]
[2142,"IQ8XS","MI1270","ARMI CALVI RISORTA",null,null,null,null,null,null,null,null,null,null,null,null,null,null,null,null,"MI"]
[2143,"IZ5JNS","MI1271","MARCO",null,null,null,null,null,null,null,null,null,null,null,null,null,null,null,null,"MI"]
[2145,"IU1CYA","MI1273","GIUSEPPE",null,null,null,null,null,null,null,null,null,null,null,null,null,null,null,null,"MI"]
[2146,"IZ1GKS","MI1274","BERNARDO",null,null,null,null,null,null,null,null,null,null,null,null,null,null,null,null,"MI"]
[2147,"ON8SGA","MI1275","GENNARO",null,null,null,null,null,null,null,null,null,null,null,null,null,null,null,null,"MI"]
[2148,"DL2AMM","MI1276","MANFRED",null,null,null,null,null,null,null,null,null,null,null,null,null,null,null,null,"MI"]
[2150,"IU8CEE","MI1278","FRANCESCO",null,null,null,null,null,null,null,null,null,null,null,null,null,null,null,null,"MI"]
[2151,"IZ8XXE","MI1279","DOMENICO",null,null,null,null,null,null,null,null,null,null,null,null,null,null,null,null,"MI"]
[2152,"IZ8YAA","MI1281","AURELIO",null,null,null,null,null,null,null,null,null,null,null,null,null,null,null,null,"MI"]
[2153,"IK8GGD","MI1282","NICOLINO",null,null,null,null,null,null,null,null,null,null,null,null,null,null,null,null,"MI"]
[2155,"IS0GGA","MI1285","MASSIMO",null,null,null,null,null,null,null,null,null,null,null,null,null,null,null,null,"MI"]
[2156,"IS0GFR","MI1286","MAURIZIO",null,null,null,null,null,null,null,null,null,null,null,null,null,null,null,null,"MI"]
[2157,"IU0GJB","MI1287","PIETRO",null,null,null,null,null,null,null,null,null,null,null,null,null,null,null,null,"MI"]
[2158,"IU8CPT","MI1288","CARLO",null,null,null,null,null,null,null,null,null,null,null,null,null,null,null,null,"MI"]
[2160,"IN3IJL","MI1290","GIANCARLO",null,null,null,null,null,null,null,null,null,null,null,null,null,null,null,null,"MI"]
[2161,"IW1RIK","MI1291","MARCO",null,null,null,null,null,null,null,null,null,null,null,null,null,null,null,null,"MI"]
[2162,"IT9GDY","MI1292","SALVATORE",null,null,null,null,null,null,null,null,null,null,null,null,null,null,null,null,"MI"]
[2163,"IT9AVP","MI1293","GIUSEPPE",null,null,null,null,null,null,null,null,null,null,null,null,null,null,null,null,"MI"]
[2165,"IT9ZMV","MI1295","SALVATORE",null,null,null,null,null,null,null,null,null,null,null,null,null,null,null,null,"MI"]
[2166,"IZ0MQV","MI1296","BRUNO",null,null,null,null,null,null,null,null,null,null,null,null,null,null,null,null,"MI"]
[2167,"IZ1TEJ","MI1297","GIANLUCA",null,null,null,null,null,null,null,null,null,null,null,null,null,null,null,null,"MI"]
[2168,"IZ1HLU","MI1298","SANDRO",null,null,null,null,null,null,null,null,null,null,null,null,null,null,null,null,"MI"]
[2170,"II8IHBC","MI1300","NAVE VESUVIO",null,null,null,null,null,null,null,null,null,null,null,null,null,null,null,null,"MI"]
[2171,"I1GEI","MI1301","GIUSEPPE",null,null,null,null,null,null,null,null,null,null,null,null,null,null,null,null,"MI"]
[2172,"IW5BBV","MI1301","BRUNO",null,null,null,null,null,null,null,null,null,null,null,null,null,null,null,null,"MI"]
[2173,"IS0DSW","MI1303","STEFANO",null,null,null,null,null,null,null,null,null,null,null,null,null,null,null,null,"MI"]
[2175,"IU8GUZ","MI1305","AGOSTINO",null,null,null,null,null,null,null,null,null,null,null,null,null,null,null,null,"MI"]
[2176,"IK7RVV","MI1306","EMANUELE",null,null,null,null,null,null,null,null,null,null,null,null,null,null,null,null,"MI"]
[2177,"IW7AZG","MI1307","LORENZO",null,null,null,null,null,null,null,null,null,null,null,null,null,null,null,null,"MI"]
[2178,"IK7QME","MI1308","DOMENICO",null,null,null,null,null,null,null,null,null,null,null,null,null,null,null,null,{"$f":"LEFT(C2179,2)","v":"MI"}]
[2180,"IQ8NB","MI1310","ERA PAOLA",null,null,null,null,null,null,null,null,null,null,null,null,null,null,null,null,"MI"]
[2181,"IU3GPT","MI1311","CARMELO",null,null,null,null,null,null,null,null,null,null,null,null,null,null,null,null,"MI"]
[2182,"YO2DGR","MI1312","NICUSOR",null,null,null,null,null,null,null,null,null,null,null,null,null,null,null,null,"MI"]
[2183,"IZ8VBI","MI1313","GIUSEPPE",null,null,null,null,null,null,null,null,null,null,null,null,null,null,null,null,"MI"]
[2185,"II0IATO","MI1315","SMG TODARO",null,null,null,null,null,null,null,null,null,null,null,null,null,null,null,null,"MI"]
[2186,"II5IACF","MI1316","NAVE ALPINO",null,null,null,null,null,null,null,null,null,null,null,null,null,null,null,null,"MI"]
[2187,"IU1FIV","MI1317","CAMILLO",null,null,null,null,null,null,null,null,null,null,null,null,null,null,null,null,"MI"]
[2188,"IZ8IJO","MI1318","ANTONIO",null,null,null,null,null,null,null,null,null,null,null,null,null,null,null,null,"MI"]
[2190,"IZ8SUI","MI1320","GIANLUCA",null,null,null,null,null,null,null,null,null,null,null,null,null,null,null,null,"MI"]
[2191,"IC8FJX","MI1321","CAMILLO",null,null,null,null,null,null,null,null,null,null,null,null,null,null,null,null,"MI"]
[2192,"IZ8XTX","MI1322","ARTURO",null,null,null,null,null,null,null,null,null,null,null,null,null,null,null,null,"MI"]
[2193,"IZ8GNR","MI1323","CARLO",null,null,null,null,null,null,null,null,null,null,null,null,null,null,null,null,"MI"]
[2195,"IZ8LFI","MI1325","VINCENZO",null,null,null,null,null,null,null,null,null,null,null,null,null,null,null,null,"MI"]
[2196,"IW0HIQ","MI1327","DAVID",null,null,null,null,null,null,null,null,null,null,null,null,null,null,null,null,"MI"]
[2197,"IN3GIN","MI1329","ROBERTO",null,null,null,null,null,null,null,null,null,null,null,null,null,null,null,null,"MI"]
[2198,"II9IABA","MI1330","NAVE ARETUSA",null,null,null,null,null,null,null,null,null,null,null,null,null,null,null,null,"MI"]
[2200,"IS0UMP","MI1332","ANTONELLO",null,null,null,null,null,null,null,null,null,null,null,null,null,null,null,null,"MI"]
[2201,"II9IHPM","MI1333","NAVE ALBATROS",null,null,null,null,null,null,null,null,null,null,null,null,null,null,null,null,"MI"]
[2202,"M6GVF","MI1334","GIOVANNI",null,null,null,null,null,null,null,null,null,null,null,null,null,null,null,null,"MI"]
[2203,"IU4DTT","MI1335","CLAUDIO",null,null,null,null,null,null,null,null,null,null,null,null,null,null,null,null,"MI"]
[2205,"IV3FYV","MI1337","ERVINO",null,null,null,null,null,null,null,null,null,null,null,null,null,null,null,null,"MI"]
[2206,"I6CXB","MI1338","FABIO",null,null,null,null,null,null,null,null,null,null,null,null,null,null,null,null,"MI"]
[2207,"IZ3LMO","MI1339","BRUNO",null,null,null,null,null,null,null,null,null,null,null,null,null,null,null,null,"MI"]
[2208,"IQ7QN","MI1340","ARMI SUD SALENTO",null,null,null,null,null,null,null,null,null,null,null,null,null,null,null,null,"MI"]
[2210,"IU2DOZ","MI1342","GIUSEPPE",null,null,null,null,null,null,null,null,null,null,null,null,null,null,null,null,"MI"]
[2211,"IU8BBO","MI1343","CIRO",null,null,null,null,null,null,null,null,null,null,null,null,null,null,null,null,"MI"]
[2212,"YU1WAT","MI1344","VINKO",null,null,null,null,null,null,null,null,null,null,null,null,null,null,null,null,"MI"]
[2213,"IK8UDH","MI1345","NICOLAE",null,null,null,null,null,null,null,null,null,null,null,null,null,null,null,null,"MI"]
[2215,"IU8FRE","MI1347","LUCA",null,null,null,null,null,null,null,null,null,null,null,null,null,null,null,null,"MI"]
[2216,"IU8CNF","MI1348","PASQUALE",null,null,null,null,null,null,null,null,null,null,null,null,null,null,null,null,"MI"]
[2217,"IU8CPQ","MI1349","MARIO",null,null,null,null,null,null,null,null,null,null,null,null,null,null,null,null,"MI"]
[2218,"IZ8ALA","MI1350","GIANCARLO",null,null,null,null,null,null,null,null,null,null,null,null,null,null,null,null,"MI"]
[2220,"IZ8DFO","MI1352","ALDO",null,null,null,null,null,null,null,null,null,null,null,null,null,null,null,null,"MI"]
[2221,"IK1WVR","MI1353","MIRCO",null,null,null,null,null,null,null,null,null,null,null,null,null,null,null,null,"MI"]
[2222,"IZ8LLQ","MI1354","GENNARO",null,null,null,null,null,null,null,null,null,null,null,null,null,null,null,null,"MI"]
[2223,"IW8ELS","MI1355","MICHELE",null,null,null,null,null,null,null,null,null,null,null,null,null,null,null,null,"MI"]
[2225,"IK0JJX","MI1357","PIETRO",null,null,null,null,null,null,null,null,null,null,null,null,null,null,null,null,"MI"]
[2226,"IK8WEI","MI1358","FRANCESCO",null,null,null,null,null,null,null,null,null,null,null,null,null,null,null,null,"MI"]
[2227,"IU1HGN","MI1359","ANGELO",null,null,null,null,null,null,null,null,null,null,null,null,null,null,null,null,"MI"]
[2228,"IZ1GUP","MI1360","MARIO FERNANDO",null,null,null,null,null,null,null,null,null,null,null,null,null,null,null,null,"MI"]
[2230,"IZ1HVD","MI1362","DANILO",null,null,null,null,null,null,null,null,null,null,null,null,null,null,null,null,"MI"]
[2231,"IQ1IG","MI1363","AIRS VALLI DI LANZO",null,null,null,null,null,null,null,null,null,null,null,null,null,null,null,null,"MI"]
[2232,"IN3GTV","MI1364","ALISA",null,null,null,null,null,null,null,null,null,null,null,null,null,null,null,null,"MI"]
[2233,"IU2ECV","MI1365","MARCO",null,null,null,null,null,null,null,null,null,null,null,null,null,null,null,null,"MI"]
[2235,"IS0HSL","MI1367","STEFANO",null,null,null,null,null,null,null,null,null,null,null,null,null,null,null,null,"MI"]
[2236,"IZ8KVW","MI1368","GUGLIELMO",null,null,null,null,null,null,null,null,null,null,null,null,null,null,null,null,"MI"]
[2237,"SY1BXD","MI1369","CHIONIS",null,null,null,null,null,null,null,null,null,null,null,null,null,null,null,null,"MI"]
[2238,"IS0CJV","MI1370","ANTONIO SALVATORE",null,null,null,null,null,null,null,null,null,null,null,null,null,null,null,null,"MI"]
[2240,"IW5DAB","MI1372","UBALDO",null,null,null,null,null,null,null,null,null,null,null,null,null,null,null,null,"MI"]
[2241,"IU4HEV","MI1373","STEFANO",null,null,null,null,null,null,null,null,null,null,null,null,null,null,null,null,"MI"]
[2242,"IU8FRF","MI1374","ANGELO",null,null,null,null,null,null,null,null,null,null,null,null,null,null,null,null,{"$f":"LEFT(C2243,2)","v":"MI"}]
[2243,"IK1YB","MI1375","PAOLO",null,null,null,null,null,null,null,null,null,null,null,null,null,null,null,null,"MI"]
[2245,"IS0AIT","MI1377","RALPH",null,null,null,null,null,null,null,null,null,null,null,null,null,null,null,null,"MI"]
[2246,"IS0GOK","MI1378","DANIELE",null,null,null,null,null,null,null,null,null,null,null,null,null,null,null,null,"MI"]
[2247,"TA2DA","MI1379","M. SABRI",null,null,null,null,null,null,null,null,null,null,null,null,null,null,null,null,"MI"]
[2248,"SV8GGI","MI1380","KONSTATINOS",null,null,null,null,null,null,null,null,null,null,null,null,null,null,null,null,"MI"]
[2250,"IU8HYJ","MI1382","ANTONIO",null,null,null,null,null,null,null,null,null,null,null,null,null,null,null,null,"MI"]
[2251,"IK4FFS","MI1383","GIUSEPPE",null,null,null,null,null,null,null,null,null,null,null,null,null,null,null,null,"MI"]
[2252,"IU8EPK","MI1384","FRANCESCO",null,null,null,null,null,null,null,null,null,null,null,null,null,null,null,null,"MI"]
[2253,"IK0ZWZ","MI1385","MASSIMO",null,null,null,null,null,null,null,null,null,null,null,null,null,null,null,null,"MI"]
[2255,"IT9BMO","MI1387","CARMELO",null,null,null,null,null,null,null,null,null,null,null,null,null,null,null,null,"MI"]
[2256,"IT9CSF","MI1388","ANTONIO",null,null,null,null,null,null,null,null,null,null,null,null,null,null,null,null,"MI"]
[2257,"IU8HVA","MI1389","GIOVANNI",null,null,null,null,null,null,null,null,null,null,null,null,null,null,null,null,"MI"]
[2258,"IZ8QNF","MI1390","PAOLO",null,null,null,null,null,null,null,null,null,null,null,null,null,null,null,null,"MI"]
[2260,"IK2GPQ","MI1392","MICHELE",null,null,null,null,null,null,null,null,null,null,null,null,null,null,null,null,"MI"]
[2261,"IK2ECC","MI1393","CARLO",null,null,null,null,null,null,null,null,null,null,null,null,null,null,null,null,"MI"]
[2262,"IZ0XZD","MI1394","ANTONINO",null,null,null,null,null,null,null,null,null,null,null,null,null,null,null,null,"MI"]
[2263,"IT9UDQ","MI1395","NICOLO'",null,null,null,null,null,null,null,null,null,null,null,null,null,null,null,null,"MI"]
[2265,"IS0HXK","MI1397","GIUSEPPE",null,null,null,null,null,null,null,null,null,null,null,null,null,null,null,null,"MI"]
[2266,"IT9FIP","MI1398","GAETANO",null,null,null,null,null,null,null,null,null,null,null,null,null,null,null,null,"MI"]
[2267,"IZ1VLS","MI1399","ALESSANDRO",null,null,null,null,null,null,null,null,null,null,null,null,null,null,null,null,"MI"]
[2268,"II0IDO","MI1400","STG ROMA SAN PAOLO",null,null,null,null,null,null,null,null,null,null,null,null,null,null,null,null,"MI"]
[2270,"IU3CMD","MI1402","FRANCO",null,null,null,null,null,null,null,null,null,null,null,null,null,null,null,null,"MI"]
[2271,"HA5BI","MI1403","ISTVAN",null,null,null,null,null,null,null,null,null,null,null,null,null,null,null,null,"MI"]
[2272,"UR8GH","MI1404","ANATOLY",null,null,null,null,null,null,null,null,null,null,null,null,null,null,null,null,"MI"]
[2273,"IU2FZA","MI1405","ELIO",null,null,null,null,null,null,null,null,null,null,null,null,null,null,null,null,"MI"]
[2275,"IZ4YGS","MI1407","MATTEO",null,null,null,null,null,null,null,null,null,null,null,null,null,null,null,null,"MI"]
[2276,"IZ7ATA","MI1408","DAVIDE",null,null,null,null,null,null,null,null,null,null,null,null,null,null,null,null,"MI"]
[2277,"PD1GB","MI1409","GERRIT",null,null,null,null,null,null,null,null,null,null,null,null,null,null,null,null,"MI"]
[2278,"SV1CDP","MI1410","STEFANOS",null,null,null,null,null,null,null,null,null,null,null,null,null,null,null,null,"MI"]
[2280,"IK1MTV","MI1412","VALERIO",null,null,null,null,null,null,null,null,null,null,null,null,null,null,null,null,"MI"]
[2281,"IZ5VUT","MI1413","GUIDO",null,null,null,null,null,null,null,null,null,null,null,null,null,null,null,null,"MI"]
[2282,"IK2SYK","MI1414","LUCA",null,null,null,null,null,null,null,null,null,null,null,null,null,null,null,null,"MI"]
[2283,"IZ8ZAN","MI1415","VITO",null,null,null,null,null,null,null,null,null,null,null,null,null,null,null,null,"MI"]
[2285,"IN3FXP","MI1417","RENATO",null,null,null,null,null,null,null,null,null,null,null,null,null,null,null,null,"MI"]
[2286,"IK4UPX","MI1418","MAURIZIO",null,null,null,null,null,null,null,null,null,null,null,null,null,null,null,null,"MI"]
[2287,"IK8TRJ","MI1419","DOMENICO",null,null,null,null,null,null,null,null,null,null,null,null,null,null,null,null,"MI"]
[2288,"IU1ITZ","MI1421","PAOLO",null,null,null,null,null,null,null,null,null,null,null,null,null,null,null,null,"MI"]
[2290,"I0LYO","MI1423","STEFANO",null,null,null,null,null,null,null,null,null,null,null,null,null,null,null,null,"MI"]
[2291,"IK4XNB","MI1424","MARCO",null,null,null,null,null,null,null,null,null,null,null,null,null,null,null,null,"MI"]
[2292,"IK1DPA","MI1425","ROBERTO",null,null,null,null,null,null,null,null,null,null,null,null,null,null,null,null,"MI"]
[2293,"IZ2ZQG","MI1426","ANDREA",null,null,null,null,null,null,null,null,null,null,null,null,null,null,null,null,"MI"]
[2295,"IT9MZN","MI1428","SALVATORE",null,null,null,null,null,null,null,null,null,null,null,null,null,null,null,null,"MI"]
[2296,"IZ8DWS","MI1429","ANTONIO",null,null,null,null,null,null,null,null,null,null,null,null,null,null,null,null,"MI"]
[2297,"IU0JBC","MI1430","ANGELO",null,null,null,null,null,null,null,null,null,null,null,null,null,null,null,null,"MI"]
[2298,"IZ3PZI","MI1431","GIULIANO",null,null,null,null,null,null,null,null,null,null,null,null,null,null,null,null,"MI"]
[2300,"IK3RJO","MI1433","LUCIANO",null,null,null,null,null,null,null,null,null,null,null,null,null,null,null,null,"MI"]
[2301,"IQ9ZI","MI1434","SEZ. URI PEDARA",null,null,null,null,null,null,null,null,null,null,null,null,null,null,null,null,"MI"]
[2302,"IU6EVN","MI1435","MARCO",null,null,null,null,null,null,null,null,null,null,null,null,null,null,null,null,"MI"]
[2303,"IU8ACL","MI1436","LUIGI",null,null,null,null,null,null,null,null,null,null,null,null,null,null,null,null,"MI"]
[2305,"IU8DIP","MI1438","CARLO",null,null,null,null,null,null,null,null,null,null,null,null,null,null,null,null,"MI"]
[2306,"IU1GAS","MI1439","ALESSANDRO",null,null,null,null,null,null,null,null,null,null,null,null,null,null,null,null,{"$f":"LEFT(C2307,2)","v":"MI"}]
[2307,"IU8EOF","MI1440","MAURO",null,null,null,null,null,null,null,null,null,null,null,null,null,null,null,null,"MI"]
[2308,"IU5JRO","MI1441","ALESSIO",null,null,null,null,null,null,null,null,null,null,null,null,null,null,null,null,"MI"]
[2310,"IZ7NCT","MI1443","ANTONIO",null,null,null,null,null,null,null,null,null,null,null,null,null,null,null,null,"MI"]
[2311,"IU5BUY","MI1444","BARTOLOMEO",null,null,null,null,null,null,null,null,null,null,null,null,null,null,null,null,"MI"]
[2312,"IU0HMB","MI1445","VLADISLAV",null,null,null,null,null,null,null,null,null,null,null,null,null,null,null,null,"MI"]
[2313,"IU5HIV","MI1445","MAURIZIO",null,null,null,null,null,null,null,null,null,null,null,null,null,null,null,null,"MI"]
[2315,"IQ3GA","MI1448","SEZ. ARI MARCON",null,null,null,null,null,null,null,null,null,null,null,null,null,null,null,null,"MI"]
[2316,"IU7GSR","MI1449","LUIGI",null,null,null,null,null,null,null,null,null,null,null,null,null,null,null,null,"MI"]
[2317,"IZ5RKX","MI1450","FILIPPO",null,null,null,null,null,null,null,null,null,null,null,null,null,null,null,null,"MI"]
[2318,"IK2WSO","MI1451","COSTANTINO",null,null,null,null,null,null,null,null,null,null,null,null,null,null,null,null,"MI"]
[2320,"IU1GQD","MI1453","SABINO",null,null,null,null,null,null,null,null,null,null,null,null,null,null,null,null,"MI"]
[2321,"IS0ACU","MI1455","CIRO",null,null,null,null,null,null,null,null,null,null,null,null,null,null,null,null,"MI"]
[2322,"YV5OIE","MI1456","ANTONIO",null,null,null,null,null,null,null,null,null,null,null,null,null,null,null,null,"MI"]
[2323,"YV5JGO","MI1457","FRANK",null,null,null,null,null,null,null,null,null,null,null,null,null,null,null,null,"MI"]
[2325,"IT9QAU","MI1459","FERDINANDO",null,null,null,null,null,null,null,null,null,null,null,null,null,null,null,null,"MI"]
[2326,"IK1VHX","MI1460","BRUNO",null,null,null,null,null,null,null,null,null,null,null,null,null,null,null,null,"MI"]
[2327,"YV5HNJ","MI1461","RAMON",null,null,null,null,null,null,null,null,null,null,null,null,null,null,null,null,"MI"]
[2328,"IK2AVH","MI1462","GIAMPIETRO",null,null,null,null,null,null,null,null,null,null,null,null,null,null,null,null,"MI"]
[2330,"IU4FIS","MI1464","PAOLO",null,null,null,null,null,null,null,null,null,null,null,null,null,null,null,null,"MI"]
[2331,"IT9OUY","MI1465","GIANFRANCESCO",null,null,null,null,null,null,null,null,null,null,null,null,null,null,null,null,"MI"]
[2332,"IZ2FNH","MI1466","ALBERTO",null,null,null,null,null,null,null,null,null,null,null,null,null,null,null,null,"MI"]
[2333,"EA3DN","MI1467","JORDI",null,null,null,null,null,null,null,null,null,null,null,null,null,null,null,null,"MI"]
[2335,"IK8TMF","MI1469","PAOLO",null,null,null,null,null,null,null,null,null,null,null,null,null,null,null,null,"MI"]
[2336,"I0QMY","MI1470","MAURIZIO",null,null,null,null,null,null,null,null,null,null,null,null,null,null,null,null,"MI"]
[2337,"IT9HHL","MI1471","MICHELE",null,null,null,null,null,null,null,null,null,null,null,null,null,null,null,null,"MI"]
[2338,"OE6FTE","MI1472","ALEXANDER",null,null,null,null,null,null,null,null,null,null,null,null,null,null,null,null,"MI"]
[2340,"IW8RC","MI1474","SALVATORE",null,null,null,null,null,null,null,null,null,null,null,null,null,null,null,null,"MI"]
[2341,"II0IANI","MI1475","NAVE NIBBIO",null,null,null,null,null,null,null,null,null,null,null,null,null,null,null,null,"MI"]
[2342,"EA3BCB","MI1476","EDUARDO HERNANDO",null,null,null,null,null,null,null,null,null,null,null,null,null,null,null,null,"MI"]
[2343,"IU5KUH","MI1477","SIMONE",null,null,null,null,null,null,null,null,null,null,null,null,null,null,null,null,"MI"]
[2345,"II0ITAL","MI1479","III RADUNO INTERFORZE",null,null,null,null,null,null,null,null,null,null,null,null,null,null,null,null,"MI"]
[2346,"HA8TG","MI1480","TAGAI",null,null,null,null,null,null,null,null,null,null,null,null,null,null,null,null,"MI"]
[2347,"IU0JIW","MI1481","DANIELE",null,null,null,null,null,null,null,null,null,null,null,null,null,null,null,null,"MI"]
[2348,"IZ1ONW","MI1482","GIULIO",null,null,null,null,null,null,null,null,null,null,null,null,null,null,null,null,"MI"]
[2350,"IU4FLT","MI1484","GIOVANNI",null,null,null,null,null,null,null,null,null,null,null,null,null,null,null,null,"MI"]
[2351,"IS0HLJ","MI1485","MARIO",null,null,null,null,null,null,null,null,null,null,null,null,null,null,null,null,"MI"]
[2352,"I0-6578","MI1486","MARIO",null,null,null,null,null,null,null,null,null,null,null,null,null,null,null,null,"MI"]
[2353,"IK1YRA","MI1487","CARLOS",null,null,null,null,null,null,null,null,null,null,null,null,null,null,null,null,"MI"]
[2355,"IU8GWH","MI1489","MARIA",null,null,null,null,null,null,null,null,null,null,null,null,null,null,null,null,"MI"]
[2356,"II9IASG","MI1490","NAVESAN GIUSTO",null,null,null,null,null,null,null,null,null,null,null,null,null,null,null,null,"MI"]
[2357,"IZ0FYS","MI1491","MANUELE",null,null,null,null,null,null,null,null,null,null,null,null,null,null,null,null,"MI"]
[2358,"IZ0DRB","MI1492","VINCENZO",null,null,null,null,null,null,null,null,null,null,null,null,null,null,null,null,"MI"]
[2360,"IS0HMQ","MI1494","NICOLA",null,null,null,null,null,null,null,null,null,null,null,null,null,null,null,null,"MI"]
[2361,"IZ5TLE","MI1495","MILCO",null,null,null,null,null,null,null,null,null,null,null,null,null,null,null,null,"MI"]
[2362,"IQ0XH","MI1499","SEZ. ARMI ANZIO-OSTIA",null,null,null,null,null,null,null,null,null,null,null,null,null,null,null,null,"MI"]
[2363,"II0PN","MI1500","SPEDIZIONE POLO NORD AISE2018",null,null,null,null,null,null,null,null,null,null,null,null,null,null,null,null,"MI"]
[2365,"IZ0RQD","MI1502","OMBRETTA",null,null,null,null,null,null,null,null,null,null,null,null,null,null,null,null,"MI"]
[2366,"IZ1RWC","MI1503","GIUSEPPE",null,null,null,null,null,null,null,null,null,null,null,null,null,null,null,null,"MI"]
[2367,"IU5LAA","MI1504","ALESSANDRO",null,null,null,null,null,null,null,null,null,null,null,null,null,null,null,null,"MI"]
[2368,"IZ3GGR","MI1505","ALESSANDRO",null,null,null,null,null,null,null,null,null,null,null,null,null,null,null,null,"MI"]
[2370,"F4HMT","MI1507","FRANÇOIS",null,null,null,null,null,null,null,null,null,null,null,null,null,null,null,null,{"$f":"LEFT(C2371,2)","v":"MI"}]
[2371,"IZ3ZLK","MI1508","LUCIANO",null,null,null,null,null,null,null,null,null,null,null,null,null,null,null,null,"MI"]
[2372,"I1-201813UD","MI1509","LAURA",null,null,null,null,null,null,null,null,null,null,null,null,null,null,null,null,"MI"]
[2373,"IT9MEW","MI1510","MARCO",null,null,null,null,null,null,null,null,null,null,null,null,null,null,null,null,"MI"]
[2375,"DJ1TA","MI1512","WOLFGANG",null,null,null,null,null,null,null,null,null,null,null,null,null,null,null,null,"MI"]
[2376,"IU7TGS","MI1513","TIBERIO",null,null,null,null,null,null,null,null,null,null,null,null,null,null,null,null,"MI"]
[2377,"IU8CUK","MI1514","ANTONIO",null,null,null,null,null,null,null,null,null,null,null,null,null,null,null,null,"MI"]
[2378,"EA4BXO","MI1515","JOSÉ LIMÓN",null,null,null,null,null,null,null,null,null,null,null,null,null,null,null,null,"MI"]
[2380,"IQ9QV","MI1517","SEZ. URI",null,null,null,null,null,null,null,null,null,null,null,null,null,null,null,null,"MI"]
[2381,"OK1LV","MI1518","LADISLAV",null,null,null,null,null,null,null,null,null,null,null,null,null,null,null,null,"MI"]
[2382,"IS0HMZ","MI1519","LUCA",null,null,null,null,null,null,null,null,null,null,null,null,null,null,null,null,"MI"]
[2383,"IS0GVH","MI1520","LUCA",null,null,null,null,null,null,null,null,null,null,null,null,null,null,null,null,"MI"]
[2385,"IS0IQZ","MI1522","STEFANO",null,null,null,null,null,null,null,null,null,null,null,null,null,null,null,null,"MI"]
[2386,"IU3LPF","MI1523","LUCA",null,null,null,null,null,null,null,null,null,null,null,null,null,null,null,null,"MI"]
[2387,"IV3HJB","MI1524","MICHELE",null,null,null,null,null,null,null,null,null,null,null,null,null,null,null,null,"MI"]
[2388,"IS0NHS","MI1525","ANDREA",null,null,null,null,null,null,null,null,null,null,null,null,null,null,null,null,"MI"]
[2390,"IU1CZH","MI1527","GIUSEPPE",null,null,null,null,null,null,null,null,null,null,null,null,null,null,null,null,"MI"]
[2391,"IT9FRD","MI1528","CHRISTIAN",null,null,null,null,null,null,null,null,null,null,null,null,null,null,null,null,"MI"]
[2392,"IS0GQX","MI1529","BRUNO",null,null,null,null,null,null,null,null,null,null,null,null,null,null,null,null,"MI"]
[2393,"IU4FMR","MI1530","GIANLUCA",null,null,null,null,null,null,null,null,null,null,null,null,null,null,null,null,"MI"]
[2395,"IT9JPS","MI1532","PAOLO",null,null,null,null,null,null,null,null,null,null,null,null,null,null,null,null,"MI"]
[2396,"IS0HNA","MI1533","GIAMPIETRO",null,null,null,null,null,null,null,null,null,null,null,null,null,null,null,null,"MI"]
[2397,"DL3RHN","MI1534","RÜDIGER",null,null,null,null,null,null,null,null,null,null,null,null,null,null,null,null,"MI"]
[2398,"IZ0YZP","MI1535","DANILO",null,null,null,null,null,null,null,null,null,null,null,null,null,null,null,null,"MI"]
[2400,"IV3HIN","MI1537","GIANLUCA",null,null,null,null,null,null,null,null,null,null,null,null,null,null,null,null,"MI"]
[2401,"I0-532-LT","MI1538","ANDREA",null,null,null,null,null,null,null,null,null,null,null,null,null,null,null,null,"MI"]
[2402,"IS0QLX","MI1539","STEFANO",null,null,null,null,null,null,null,null,null,null,null,null,null,null,null,null,"MI"]
[2403,"IU0KSB","MI1540","SILVANO",null,null,null,null,null,null,null,null,null,null,null,null,null,null,null,null,"MI"]
[2405,"IZ0QAW","MI1542","VALTER",null,null,null,null,null,null,null,null,null,null,null,null,null,null,null,null,"MI"]
[2406,"IZ0NPM","MI1543","FRANCESCO",null,null,null,null,null,null,null,null,null,null,null,null,null,null,null,null,"MI"]
[2407,"W6EID","MI1544","PHIL",null,null,null,null,null,null,null,null,null,null,null,null,null,null,null,null,"MI"]
[2408,"IK2LNC","MI1545","ANTONIO",null,null,null,null,null,null,null,null,null,null,null,null,null,null,null,null,"MI"]
[2410,"IZ0SFY","MI1547","ANGELO",null,null,null,null,null,null,null,null,null,null,null,null,null,null,null,null,"MI"]
[2411,"IK8IJN","MI1548","BRUNO",null,null,null,null,null,null,null,null,null,null,null,null,null,null,null,null,"MI"]
[2412,"IU0LRV","MI1549","ALESSANDRO",null,null,null,null,null,null,null,null,null,null,null,null,null,null,null,null,"MI"]
[2413,"SWL","MI1550","ARMANDO",null,null,null,null,null,null,null,null,null,null,null,null,null,null,null,null,"MI"]
[2415,"I0-632-RM","MI1552","DANIELE",null,null,null,null,null,null,null,null,null,null,null,null,null,null,null,null,"MI"]
[2416,"IU5AAD","MI1553","GRAZIANO",null,null,null,null,null,null,null,null,null,null,null,null,null,null,null,null,"MI"]
[2417,"IV3HCP","MI1554","MARCO",null,null,null,null,null,null,null,null,null,null,null,null,null,null,null,null,"MI"]
[2418,"VE7YTB","MI1555","DALE",null,null,null,null,null,null,null,null,null,null,null,null,null,null,null,null,"MI"]
[2420,"IU8CFS","MI1557","MARIA",null,null,null,null,null,null,null,null,null,null,null,null,null,null,null,null,"MI"]
[2421,"IK0VAJ","MI1558","MASSIMO",null,null,null,null,null,null,null,null,null,null,null,null,null,null,null,null,"MI"]
[2422,"IU0LOS","MI1559","GINA",null,null,null,null,null,null,null,null,null,null,null,null,null,null,null,null,"MI"]
[2423,"IZ0VXB","MI1560","STEFANO",null,null,null,null,null,null,null,null,null,null,null,null,null,null,null,null,"MI"]
[2425,"IZ8VKX","MI1562","PAOLO",null,null,null,null,null,null,null,null,null,null,null,null,null,null,null,null,"MI"]
[2426,"IZ0LNP","MI1563","GIUSEPPE",null,null,null,null,null,null,null,null,null,null,null,null,null,null,null,null,"MI"]
[2427,"IU0HCI","MI1564","GIORGIO",null,null,null,null,null,null,null,null,null,null,null,null,null,null,null,null,"MI"]
[2428,"IZ0RJR","MI1565","FRANCO",null,null,null,null,null,null,null,null,null,null,null,null,null,null,null,null,"MI"]
[2430,"IK8HEE","MI1567","ANTONIO",null,null,null,null,null,null,null,null,null,null,null,null,null,null,null,null,"MI"]
[2431,"IX1BFL","MI1568","SALVATORE",null,null,null,null,null,null,null,null,null,null,null,null,null,null,null,null,"MI"]
[2432,"IU8FQJ","MI1569","ANTONELLO",null,null,null,null,null,null,null,null,null,null,null,null,null,null,null,null,"MI"]
[2433,"IU8FYU","MI1570","VINCENZO",null,null,null,null,null,null,null,null,null,null,null,null,null,null,null,null,"MI"]
[2435,"DL7NDS","MI1572","DENIS",null,null,null,null,null,null,null,null,null,null,null,null,null,null,null,null,"MI"]
[2436,"IS0SRN","MI1573","ANDREA",null,null,null,null,null,null,null,null,null,null,null,null,null,null,null,null,"MI"]
[2437,"IK5AEQ","MI1574","LUCA S.",null,null,null,null,null,null,null,null,null,null,null,null,null,null,null,null,"MI"]
[2438,"IZ0ARL","MI1575","MAURIZIO",null,null,null,null,null,null,null,null,null,null,null,null,null,null,null,null,"MI"]
[2440,"IU7LUU","MI1577","ANTONIO",null,null,null,null,null,null,null,null,null,null,null,null,null,null,null,null,"MI"]
[2441,"IZTHX","MI1578","GIUSEPPE",null,null,null,null,null,null,null,null,null,null,null,null,null,null,null,null,"MI"]
[2442,"IZANF","MI1579","EMANUELE",null,null,null,null,null,null,null,null,null,null,null,null,null,null,null,null,"MI"]
[2443,"IZ1RSS","MI1581","MARIO",null,null,null,null,null,null,null,null,null,null,null,null,null,null,null,null,"MI"]
[2445,"ISHZE","MI1583","LUCA",null,null,null,null,null,null,null,null,null,null,null,null,null,null,null,null,"MI"]
[2446,"IN3GYO","MI1584","PIETRO",null,null,null,null,null,null,null,null,null,null,null,null,null,null,null,null,"MI"]
[2447,"F5MGS","MI1585","JEAN LOUIS",null,null,null,null,null,null,null,null,null,null,null,null,null,null,null,null,"MI"]
[2448,"IU7MZC","MI1586","TIZIANO",null,null,null,null,null,null,null,null,null,null,null,null,null,null,null,null,"MI"]
[2450,"IU6IBX","MI1588","GIANNI",null,null,null,null,null,null,null,null,null,null,null,null,null,null,null,null,"MI"]
[2451,"IZ8UYZ","MI1589","GERARDO",null,null,null,null,null,null,null,null,null,null,null,null,null,null,null,null,"MI"]
[2452,"IZ0WPW","MI1590","CHRISTIAN",null,null,null,null,null,null,null,null,null,null,null,null,null,null,null,null,"MI"]
[2453,"CT1CZT","PN001","ANTONIO",null,null,null,null,null,null,null,null,null,null,null,null,null,null,null,null,"PN"]
[2455,"CT2ENW","PN004","HELIO",null,null,null,null,null,null,null,null,null,null,null,null,null,null,null,null,"PN"]
[2456,"CT1FOG","PN005","ALVARO",null,null,null,null,null,null,null,null,null,null,null,null,null,null,null,null,"PN"]
[2457,"CT1FOA","PN006","FLORINDO",null,null,null,null,null,null,null,null,null,null,null,null,null,null,null,null,"PN"]
[2458,"CT1FKX","PN007","MANUEL",null,null,null,null,null,null,null,null,null,null,null,null,null,null,null,null,"PN"]
[2460,"CT2GPU","PN009","ARTUR",null,null,null,null,null,null,null,null,null,null,null,null,null,null,null,null,"PN"]
[2461,"CT1EKY","PN010","PEDRO",null,null,null,null,null,null,null,null,null,null,null,null,null,null,null,null,"PN"]
[2462,"CT1FAN","PN011","CARLOS",null,null,null,null,null,null,null,null,null,null,null,null,null,null,null,null,"PN"]
[2463,"CT1FHZ","PN012","FRANCISCO",null,null,null,null,null,null,null,null,null,null,null,null,null,null,null,null,"PN"]
[2465,"CT1BYQ","PN014","JHOAQUIN",null,null,null,null,null,null,null,null,null,null,null,null,null,null,null,null,"PN"]
[2466,"CT1ELX","PN017","ANTONIO",null,null,null,null,null,null,null,null,null,null,null,null,null,null,null,null,"PN"]
[2467,"CT1FGX","PN018","JOSE",null,null,null,null,null,null,null,null,null,null,null,null,null,null,null,null,"PN"]
[2468,"CT1EWL","PN019","ANTONIO",null,null,null,null,null,null,null,null,null,null,null,null,null,null,null,null,"PN"]
[2470,"CT1GXC","PN021","CARLOS",null,null,null,null,null,null,null,null,null,null,null,null,null,null,null,null,"PN"]
[2471,"CT1FKA","PN022","MANUEL",null,null,null,null,null,null,null,null,null,null,null,null,null,null,null,null,"PN"]
[2472,"CU3DI","PN023","PEDRO",null,null,null,null,null,null,null,null,null,null,null,null,null,null,null,null,"PN"]
[2473,"CT1AKJ","PN024","JOAQUIN",null,null,null,null,null,null,null,null,null,null,null,null,null,null,null,null,"PN"]
[2475,"CT1FYY","PN027","JOSE",null,null,null,null,null,null,null,null,null,null,null,null,null,null,null,null,"PN"]
[2476,"CT2IAS","PN028","DAVID",null,null,null,null,null,null,null,null,null,null,null,null,null,null,null,null,"PN"]
[2477,"CT1CRO","PN029","ALBERTO",null,null,null,null,null,null,null,null,null,null,null,null,null,null,null,null,"PN"]
[2478,"CT1FLH","PN030","CARLOS",null,null,null,null,null,null,null,null,null,null,null,null,null,null,null,null,"PN"]
[2480,"CT1FKN","PN032","JOSE",null,null,null,null,null,null,null,null,null,null,null,null,null,null,null,null,"PN"]
[2481,"CT1HVL","PN033","NO NAME",null,null,null,null,null,null,null,null,null,null,null,null,null,null,null,null,"PN"]
[2482,"CT1JQC","PN034","PEDRO",null,null,null,null,null,null,null,null,null,null,null,null,null,null,null,null,"PN"]
[2483,"C31PP","PN035","PEDRO",null,null,null,null,null,null,null,null,null,null,null,null,null,null,null,null,"PN"]
[2485,"CT1DYV","PN037","ALBANO",null,null,null,null,null,null,null,null,null,null,null,null,null,null,null,null,"PN"]
[2486,"CT1AGC","PN038","JOSE",null,null,null,null,null,null,null,null,null,null,null,null,null,null,null,null,"PN"]
[2487,"CT2GOY","PN039","JOSE",null,null,null,null,null,null,null,null,null,null,null,null,null,null,null,null,"PN"]
[2488,"CT1VV","PN040","ALBERTO",null,null,null,null,null,null,null,null,null,null,null,null,null,null,null,null,"PN"]
[2490,"EA1LQ","PN042","ERNESTO",null,null,null,null,null,null,null,null,null,null,null,null,null,null,null,null,"PN"]
[2491,"CT1DOV","PN043","JOAO",null,null,null,null,null,null,null,null,null,null,null,null,null,null,null,null,"PN"]
[2492,"CT1DRB","PN044","DAVID",null,null,null,null,null,null,null,null,null,null,null,null,null,null,null,null,"PN"]
[2493,"IT9MRM","PN046","ALBERTO",null,null,null,null,null,null,null,null,null,null,null,null,null,null,null,null,"PN"]
[2495,"DL1NL","PN048","FRED",null,null,null,null,null,null,null,null,null,null,null,null,null,null,null,null,"PN"]
[2496,"DF7PM","PN049","MARY",null,null,null,null,null,null,null,null,null,null,null,null,null,null,null,null,"PN"]
[2497,"DF7QN","PN050","HERMANN",null,null,null,null,null,null,null,null,null,null,null,null,null,null,null,null,"PN"]
[2498,"EA1TF","PN051","JUAN",null,null,null,null,null,null,null,null,null,null,null,null,null,null,null,null,{"$f":"LEFT(C2499,2)","v":"PN"}]
[2500,"CT1BWW","PN053","MANUEÒ",null,null,null,null,null,null,null,null,null,null,null,null,null,null,null,null,"PN"]
[2501,"CT2IIT","PN054","VITOR",null,null,null,null,null,null,null,null,null,null,null,null,null,null,null,null,"PN"]
[2502,"CT1EHK","PN055","CARLOS",null,null,null,null,null,null,null,null,null,null,null,null,null,null,null,null,"PN"]
[2503,"PT7ZT","PN056","CARLOS",null,null,null,null,null,null,null,null,null,null,null,null,null,null,null,null,"PN"]
[2505,"CT1ETL","PN058","MIGUEÒ",null,null,null,null,null,null,null,null,null,null,null,null,null,null,null,null,"PN"]
[2506,"IK1CCS","PN059","FERRUCCIO",null,null,null,null,null,null,null,null,null,null,null,null,null,null,null,null,"PN"]
[2507,"R5GM","PN060","YURI",null,null,null,null,null,null,null,null,null,null,null,null,null,null,null,null,"PN"]
[2508,"CT1ALP","PN061","CARLOS",null,null,null,null,null,null,null,null,null,null,null,null,null,null,null,null,"PN"]
[2510,"CT5JZX","PN063","PEDRO",null,null,null,null,null,null,null,null,null,null,null,null,null,null,null,null,"PN"]
[2511,"CT2HPS","PN064","JOAO",null,null,null,null,null,null,null,null,null,null,null,null,null,null,null,null,"PN"]
[2512,"CT2YTY","PN065","MARIA",null,null,null,null,null,null,null,null,null,null,null,null,null,null,null,null,"PN"]
[2513,"CT1FFU","PN066","TONY",null,null,null,null,null,null,null,null,null,null,null,null,null,null,null,null,"PN"]
[2515,"F8ATS","PN068","TONI",null,null,null,null,null,null,null,null,null,null,null,null,null,null,null,null,"PN"]
[2516,"CT1IPB","PN069","CARLOS",null,null,null,null,null,null,null,null,null,null,null,null,null,null,null,null,"PN"]
[2517,"CT1ELZ","PN070","MANUEL",null,null,null,null,null,null,null,null,null,null,null,null,null,null,null,null,"PN"]
[2518,"CT2FTD","PN071","JOSE",null,null,null,null,null,null,null,null,null,null,null,null,null,null,null,null,"PN"]
[2520,"CT1JQK","PN073","ALCIDE",null,null,null,null,null,null,null,null,null,null,null,null,null,null,null,null,"PN"]
[2521,"CT1JPV","PN074","JOAO",null,null,null,null,null,null,null,null,null,null,null,null,null,null,null,null,"PN"]
[2522,"EA1AQ","PN075","JUAN",null,null,null,null,null,null,null,null,null,null,null,null,null,null,null,null,"PN"]
[2523,"CT1HIX","PN076","GOMEZ",null,null,null,null,null,null,null,null,null,null,null,null,null,null,null,null,"PN"]
[2525,"CR7AHW","PN078","JAOQUIN",null,null,null,null,null,null,null,null,null,null,null,null,null,null,null,null,"PN"]
[2526,"CR7000","PN079","NO NAME",null,null,null,null,null,null,null,null,null,null,null,null,null,null,null,null,"PN"]
[2527,"CR7AJL","PN080","HELDER",null,null,null,null,null,null,null,null,null,null,null,null,null,null,null,null,"PN"]
[2528,"CS7ABF","PN081","ANTONIO",null,null,null,null,null,null,null,null,null,null,null,null,null,null,null,null,"PN"]
[2530,"CR7ALB","PN083","RUI",null,null,null,null,null,null,null,null,null,null,null,null,null,null,null,null,"PN"]
[2531,"CR7000","PN084",null,null,null,null,null,null,null,null,null,null,null,null,null,null,null,null,null,"PN"]
[2532,"CT2HQV","PN085","PEDRO",null,null,null,null,null,null,null,null,null,null,null,null,null,null,null,null,"PN"]
[2533,"CS5NRA","PN100","NRA",null,null,null,null,null,null,null,null,null,null,null,null,null,null,null,null,"PN"]
[2535,"OH1KW","PN102","ANTERO",null,null,null,null,null,null,null,null,null,null,null,null,null,null,null,null,"PN"]
[2536,"ON4AGV","PN103","RUDY",null,null,null,null,null,null,null,null,null,null,null,null,null,null,null,null,"PN"]
[2537,"DL0MF","PN110","MF",null,null,null,null,null,null,null,null,null,null,null,null,null,null,null,null,"PN"]
[2538,"CQ7GIL","PN120","HOSPITAL",null,null,null,null,null,null,null,null,null,null,null,null,null,null,null,null,"PN"]
[2540,"IQ9MQ","PN140","ARMI",null,null,null,null,null,null,null,null,null,null,null,null,null,null,null,null,"PN"]
[2541,"CS5DFG","PN150","FERNANDO",null,null,null,null,null,null,null,null,null,null,null,null,null,null,null,null,"PN"]
[2542,"ON4BRN","PN160","BMARS",null,null,null,null,null,null,null,null,null,null,null,null,null,null,null,null,"PN"]
[2543,"OH1AJ","PN170","FNARS",null,null,null,null,null,null,null,null,null,null,null,null,null,null,null,null,"PN"]
[2545,"G1BZU","RN0001","H.Q. STN",null,null,null,null,null,null,null,null,null,null,null,null,null,null,null,null,"RN"]
[2546,"GB3RN","RN0001","H.Q.",null,null,null,null,null,null,null,null,null,null,null,null,null,null,null,null,"RN"]
[2547,"G3LIK","RN0004","MICK",null,null,null,null,null,null,null,null,null,null,null,null,null,null,null,null,"RN"]
[2548,"GB4RN","RN0004","MICK",null,null,null,null,null,null,null,null,null,null,null,null,null,null,null,null,"RN"]
[2550,"GB2BP","RN0011","CLUB",null,null,null,null,null,null,null,null,null,null,null,null,null,null,null,null,"RN"]
[2551,"VK2AYD","RN0013","DAVE",null,null,null,null,null,null,null,null,null,null,null,null,null,null,null,null,"RN"]
[2552,"ON4BRN","RN0020","BMARS",null,null,null,null,null,null,null,null,null,null,null,null,null,null,null,null,"RN"]
[2553,"G3MTP","RN0021","PETER",null,null,null,null,null,null,null,null,null,null,null,null,null,null,null,null,"RN"]
[2555,"G3MRC","RN0033","JOE",null,null,null,null,null,null,null,null,null,null,null,null,null,null,null,null,"RN"]
[2556,"GB2RN","RN0034","HMS BELFAST",null,null,null,null,null,null,null,null,null,null,null,null,null,null,null,null,"RN"]
[2557,"G3LCS","RN0038","DES",null,null,null,null,null,null,null,null,null,null,null,null,null,null,null,null,"RN"]
[2558,"G3KEL","RN0053","ROD",null,null,null,null,null,null,null,null,null,null,null,null,null,null,null,null,"RN"]
[2560,"G3OPQ","RN0084","GEOFF",null,null,null,null,null,null,null,null,null,null,null,null,null,null,null,null,"RN"]
[2561,"VK2UG","RN0091","IAN",null,null,null,null,null,null,null,null,null,null,null,null,null,null,null,null,"RN"]
[2562,"G0CWF","RN0092","MICKEL",null,null,null,null,null,null,null,null,null,null,null,null,null,null,null,null,{"$f":"LEFT(C2563,2)","v":"RN"}]
[2563,"G3NIR","RN0111","GEORGE",null,null,null,null,null,null,null,null,null,null,null,null,null,null,null,null,"RN"]
[2565,"GM4AGL","RN0123","BILL",null,null,null,null,null,null,null,null,null,null,null,null,null,null,null,null,"RN"]
[2566,"G3LME","RN0129","KEN",null,null,null,null,null,null,null,null,null,null,null,null,null,null,null,null,"RN"]
[2567,"G3NXV","RN0139","BOB",null,null,null,null,null,null,null,null,null,null,null,null,null,null,null,null,"RN"]
[2568,"VE6BF","RN0142","BILL",null,null,null,null,null,null,null,null,null,null,null,null,null,null,null,null,"RN"]
[2570,"GI3OBO","RN0150","DAVID",null,null,null,null,null,null,null,null,null,null,null,null,null,null,null,null,"RN"]
[2571,"G3RFH","RN0175","KEN",null,null,null,null,null,null,null,null,null,null,null,null,null,null,null,null,"RN"]
[2572,"G4CJY","RN0176","BRIAN",null,null,null,null,null,null,null,null,null,null,null,null,null,null,null,null,"RN"]
[2573,"G3LXQ","RN0180","DAVE",null,null,null,null,null,null,null,null,null,null,null,null,null,null,null,null,"RN"]
[2575,"G3RYZ","RN0186","MICK",null,null,null,null,null,null,null,null,null,null,null,null,null,null,null,null,"RN"]
[2576,"ZL2TX","RN0200","NIGEL",null,null,null,null,null,null,null,null,null,null,null,null,null,null,null,null,"RN"]
[2577,"G3TVI","RN0210","ROD",null,null,null,null,null,null,null,null,null,null,null,null,null,null,null,null,"RN"]
[2578,"G3THU","RN0239","BILL",null,null,null,null,null,null,null,null,null,null,null,null,null,null,null,null,"RN"]
[2580,"G3VNH","RN0292","PETER",null,null,null,null,null,null,null,null,null,null,null,null,null,null,null,null,"RN"]
[2581,"G4BOI","RN0297","BERT",null,null,null,null,null,null,null,null,null,null,null,null,null,null,null,null,"RN"]
[2582,"G3TIX","RN0298","DICK",null,null,null,null,null,null,null,null,null,null,null,null,null,null,null,null,"RN"]
[2583,"G0JKV","RN0306","LEN",null,null,null,null,null,null,null,null,null,null,null,null,null,null,null,null,"RN"]
[2585,"G3LET","RN0318","PETER",null,null,null,null,null,null,null,null,null,null,null,null,null,null,null,null,"RN"]
[2586,"G3VRY","RN0326","JIM",null,null,null,null,null,null,null,null,null,null,null,null,null,null,null,null,"RN"]
[2587,"G3VCN","RN0327","PAUL",null,null,null,null,null,null,null,null,null,null,null,null,null,null,null,null,"RN"]
[2588,"9H1BX","RN0328","BILL",null,null,null,null,null,null,null,null,null,null,null,null,null,null,null,null,"RN"]
[2590,"G6PMT","RN0332","PETER",null,null,null,null,null,null,null,null,null,null,null,null,null,null,null,null,"RN"]
[2591,"G3VCM","RN0343","IAN",null,null,null,null,null,null,null,null,null,null,null,null,null,null,null,null,"RN"]
[2592,"W4/G3VCM","RN0343","IAN",null,null,null,null,null,null,null,null,null,null,null,null,null,null,null,null,"RN"]
[2593,"G3UVS","RN0356","CHAS",null,null,null,null,null,null,null,null,null,null,null,null,null,null,null,null,"RN"]
[2595,"G3YLR","RN0364","RON",null,null,null,null,null,null,null,null,null,null,null,null,null,null,null,null,"RN"]
[2596,"G4KNM","RN0378","CHRIS",null,null,null,null,null,null,null,null,null,null,null,null,null,null,null,null,"RN"]
[2597,"G4DIU","RN0391","WALLY",null,null,null,null,null,null,null,null,null,null,null,null,null,null,null,null,"RN"]
[2598,"G3VNU","RN0393","JOHN",null,null,null,null,null,null,null,null,null,null,null,null,null,null,null,null,"RN"]
[2600,"G3SWH","RN0409","PHIL",null,null,null,null,null,null,null,null,null,null,null,null,null,null,null,null,"RN"]
[2601,"G3VXM","RN0433","DAVE",null,null,null,null,null,null,null,null,null,null,null,null,null,null,null,null,"RN"]
[2602,"G4JBE","RN0434","DAVE",null,null,null,null,null,null,null,null,null,null,null,null,null,null,null,null,"RN"]
[2603,"G3ZYY","RN0436","TREVOR",null,null,null,null,null,null,null,null,null,null,null,null,null,null,null,null,"RN"]
[2605,"G3OOK","RN0437","JOHN",null,null,null,null,null,null,null,null,null,null,null,null,null,null,null,null,"RN"]
[2606,"GM3OOK","RN0437","JOHN",null,null,null,null,null,null,null,null,null,null,null,null,null,null,null,null,"RN"]
[2607,"G3IZD","RN0450","IVAN",null,null,null,null,null,null,null,null,null,null,null,null,null,null,null,null,"RN"]
[2608,"GM3NCS","RN0453","DON",null,null,null,null,null,null,null,null,null,null,null,null,null,null,null,null,"RN"]
[2610,"G3ZUN","RN0459","DANNY",null,null,null,null,null,null,null,null,null,null,null,null,null,null,null,null,"RN"]
[2611,"G4JYL","RN0463","GWEN",null,null,null,null,null,null,null,null,null,null,null,null,null,null,null,null,"RN"]
[2612,"G3ZBP","RN0466","MARTIN",null,null,null,null,null,null,null,null,null,null,null,null,null,null,null,null,"RN"]
[2613,"GM0OWM","RN0468","MUSEUM",null,null,null,null,null,null,null,null,null,null,null,null,null,null,null,null,"RN"]
[2615,"G3TZL","RN0480","PETER",null,null,null,null,null,null,null,null,null,null,null,null,null,null,null,null,"RN"]
[2616,"G4WZI","RN0483","DICK",null,null,null,null,null,null,null,null,null,null,null,null,null,null,null,null,"RN"]
[2617,"G3AQB","RN0486","BILL",null,null,null,null,null,null,null,null,null,null,null,null,null,null,null,null,"RN"]
[2618,"ZC4HMS","RN0493","LYNN",null,null,null,null,null,null,null,null,null,null,null,null,null,null,null,null,"RN"]
[2620,"G3RSP","RN0510","ALLAN",null,null,null,null,null,null,null,null,null,null,null,null,null,null,null,null,"RN"]
[2621,"G4ABG","RN0511","NIGEL",null,null,null,null,null,null,null,null,null,null,null,null,null,null,null,null,"RN"]
[2622,"G3ZGI","RN0514","TERRY",null,null,null,null,null,null,null,null,null,null,null,null,null,null,null,null,"RN"]
[2623,"G3KMY","RN0520","DENNIS",null,null,null,null,null,null,null,null,null,null,null,null,null,null,null,null,"RN"]
[2625,"G4FKY","RN0526","BOB",null,null,null,null,null,null,null,null,null,null,null,null,null,null,null,null,"RN"]
[2626,"G4BUL","RN0559","DES",null,null,null,null,null,null,null,null,null,null,null,null,null,null,null,null,{"$f":"LEFT(C2627,2)","v":"RN"}]
[2628,"G4DII","RN0571","ALVA",null,null,null,null,null,null,null,null,null,null,null,null,null,null,null,null,"RN"]
[2629,"G3ZDF","RN0585","JOE",null,null,null,null,null,null,null,null,null,null,null,null,null,null,null,null,"RN"]
[2630,"G4HJE","RN0592","STEVE",null,null,null,null,null,null,null,null,null,null,null,null,null,null,null,null,"RN"]
[2631,"G3KOJ","RN0594","RAY",null,null,null,null,null,null,null,null,null,null,null,null,null,null,null,null,"RN"]
[2633,"G4ASK","RN0603","ERNIE",null,null,null,null,null,null,null,null,null,null,null,null,null,null,null,null,"RN"]
[2634,"GI3GTR","RN0605","ROY",null,null,null,null,null,null,null,null,null,null,null,null,null,null,null,null,"RN"]
[2635,"G4DIE","RN0612","IAN",null,null,null,null,null,null,null,null,null,null,null,null,null,null,null,null,"RN"]
[2636,"VK6DV","RN0615","CHRIS",null,null,null,null,null,null,null,null,null,null,null,null,null,null,null,null,"RN"]
[2638,"EA5/G3VFI","RN0618","JA",null,null,null,null,null,null,null,null,null,null,null,null,null,null,null,null,"RN"]
[2639,"G4BEQ","RN0626","DOUG",null,null,null,null,null,null,null,null,null,null,null,null,null,null,null,null,"RN"]
[2640,"G4BKF","RN0638","TOM",null,null,null,null,null,null,null,null,null,null,null,null,null,null,null,null,"RN"]
[2641,"VK6PK","RN0658","PETER",null,null,null,null,null,null,null,null,null,null,null,null,null,null,null,null,"RN"]
[2643,"GW3YSF","RN0695","CHAS",null,null,null,null,null,null,null,null,null,null,null,null,null,null,null,null,"RN"]
[2644,"G3ZTI","RN0708","KEN",null,null,null,null,null,null,null,null,null,null,null,null,null,null,null,null,"RN"]
[2645,"G4CNH","RN0714","LES",null,null,null,null,null,null,null,null,null,null,null,null,null,null,null,null,"RN"]
[2646,"G3UJA","RN0730","BARRY",null,null,null,null,null,null,null,null,null,null,null,null,null,null,null,null,"RN"]
[2648,"G3XUF","RN0745","JACK",null,null,null,null,null,null,null,null,null,null,null,null,null,null,null,null,"RN"]
[2649,"G3ZUC","RN0763","DI",null,null,null,null,null,null,null,null,null,null,null,null,null,null,null,null,"RN"]
[2650,"G4DJN","RN0767","JOHN",null,null,null,null,null,null,null,null,null,null,null,null,null,null,null,null,"RN"]
[2651,"VE6DXX","RN0772","DAVID",null,null,null,null,null,null,null,null,null,null,null,null,null,null,null,null,"RN"]
[2653,"G4HAB","RN0790","REG",null,null,null,null,null,null,null,null,null,null,null,null,null,null,null,null,"RN"]
[2654,"G0RIZ","RN0794","BRIAN",null,null,null,null,null,null,null,null,null,null,null,null,null,null,null,null,"RN"]
[2655,"GM3CFS","RN0803","JIM",null,null,null,null,null,null,null,null,null,null,null,null,null,null,null,null,"RN"]
[2656,"GM4DPC","RN0808","TOM",null,null,null,null,null,null,null,null,null,null,null,null,null,null,null,null,"RN"]
[2658,"GM4GIF","RN0852","BARRY",null,null,null,null,null,null,null,null,null,null,null,null,null,null,null,null,"RN"]
[2659,"G0HHF","RN0860","TERRY",null,null,null,null,null,null,null,null,null,null,null,null,null,null,null,null,"RN"]
[2660,"HS0/G0HHF","RN0860","TERRY",null,null,null,null,null,null,null,null,null,null,null,null,null,null,null,null,"RN"]
[2661,"G8HRR","RN0862","PAUL",null,null,null,null,null,null,null,null,null,null,null,null,null,null,null,null,"RN"]
[2663,"GM4FIB","RN0883","BOB",null,null,null,null,null,null,null,null,null,null,null,null,null,null,null,null,"RN"]
[2664,"GW7EUL","RN0890","MIKE",null,null,null,null,null,null,null,null,null,null,null,null,null,null,null,null,"RN"]
[2665,"GM4ELV","RN0901","DAVE",null,null,null,null,null,null,null,null,null,null,null,null,null,null,null,null,"RN"]
[2666,"G4DDH","RN0903","MIKE",null,null,null,null,null,null,null,null,null,null,null,null,null,null,null,null,"RN"]
[2668,"GM3IBU","RN0920","BILL",null,null,null,null,null,null,null,null,null,null,null,null,null,null,null,null,"RN"]
[2669,"WA1HMW","RN0926","BILL",null,null,null,null,null,null,null,null,null,null,null,null,null,null,null,null,"RN"]
[2670,"G3ZIN","RN0930","STAN",null,null,null,null,null,null,null,null,null,null,null,null,null,null,null,null,"RN"]
[2671,"PA0VLA","RN0944","JO",null,null,null,null,null,null,null,null,null,null,null,null,null,null,null,null,"RN"]
[2673,"G8OIH","RN0958","MICKEY",null,null,null,null,null,null,null,null,null,null,null,null,null,null,null,null,"RN"]
[2674,"MX0SBV","RN0960","BLIND",null,null,null,null,null,null,null,null,null,null,null,null,null,null,null,null,"RN"]
[2675,"G3TSZ","RN0962","PETER",null,null,null,null,null,null,null,null,null,null,null,null,null,null,null,null,"RN"]
[2676,"G4EMM","RN0968","NEIL",null,null,null,null,null,null,null,null,null,null,null,null,null,null,null,null,"RN"]
[2678,"G4IFO","RN0973","JOHN",null,null,null,null,null,null,null,null,null,null,null,null,null,null,null,null,"RN"]
[2679,"G3OKH","RN0976","GEOFF",null,null,null,null,null,null,null,null,null,null,null,null,null,null,null,null,"RN"]
[2680,"G4IWQ","RN0986","DAVE",null,null,null,null,null,null,null,null,null,null,null,null,null,null,null,null,"RN"]
[2681,"G4JMJ","RN0992","BOB",null,null,null,null,null,null,null,null,null,null,null,null,null,null,null,null,"RN"]
[2683,"G4ELG","RN1023","DON",null,null,null,null,null,null,null,null,null,null,null,null,null,null,null,null,"RN"]
[2684,"HB9ASX","RN1033","ULY",null,null,null,null,null,null,null,null,null,null,null,null,null,null,null,null,"RN"]
[2685,"GM3WIJ","RN1034","NORMAN",null,null,null,null,null,null,null,null,null,null,null,null,null,null,null,null,"RN"]
[2686,"G4LDI","RN1041","MICK",null,null,null,null,null,null,null,null,null,null,null,null,null,null,null,null,"RN"]
[2688,"G4GJY","RN1042","SID",null,null,null,null,null,null,null,null,null,null,null,null,null,null,null,null,"RN"]
[2689,"G4GXK","RN1043","SALTASH",null,null,null,null,null,null,null,null,null,null,null,null,null,null,null,null,"RN"]
[2690,"G8SAL","RN1043","KEVIN",null,null,null,null,null,null,null,null,null,null,null,null,null,null,null,null,{"$f":"LEFT(C2691,2)","v":"RN"}]
[2691,"G8TKR","RN1052","PAUL",null,null,null,null,null,null,null,null,null,null,null,null,null,null,null,null,"RN"]
[2693,"G4CRW","RN1087","ALAN",null,null,null,null,null,null,null,null,null,null,null,null,null,null,null,null,"RN"]
[2694,"G0BWG","RN1092","JOHN",null,null,null,null,null,null,null,null,null,null,null,null,null,null,null,null,"RN"]
[2695,"G3ZBA","RN1099","SYD",null,null,null,null,null,null,null,null,null,null,null,null,null,null,null,null,"RN"]
[2696,"GM0IMH","RN1109","GRAHAM",null,null,null,null,null,null,null,null,null,null,null,null,null,null,null,null,"RN"]
[2698,"G4GXD","RN1124","DON",null,null,null,null,null,null,null,null,null,null,null,null,null,null,null,null,"RN"]
[2699,"G3KQF","RN1132","JACK",null,null,null,null,null,null,null,null,null,null,null,null,null,null,null,null,"RN"]
[2700,"G0UUG","RN1134","MAC",null,null,null,null,null,null,null,null,null,null,null,null,null,null,null,null,"RN"]
[2701,"G2IV","RN1136","FRED",null,null,null,null,null,null,null,null,null,null,null,null,null,null,null,null,"RN"]
[2703,"G4GIG","RN1164","JANE",null,null,null,null,null,null,null,null,null,null,null,null,null,null,null,null,"RN"]
[2704,"G3GB","RN1199","HENRY",null,null,null,null,null,null,null,null,null,null,null,null,null,null,null,null,"RN"]
[2705,"G0LCT","RN1206","GORDON",null,null,null,null,null,null,null,null,null,null,null,null,null,null,null,null,"RN"]
[2706,"VK7BC","RN1209","FRANK",null,null,null,null,null,null,null,null,null,null,null,null,null,null,null,null,"RN"]
[2708,"G4FMA","RN1217","KEITH",null,null,null,null,null,null,null,null,null,null,null,null,null,null,null,null,"RN"]
[2709,"G4DVJ","RN1223","ROBIN",null,null,null,null,null,null,null,null,null,null,null,null,null,null,null,null,"RN"]
[2710,"PA0HIS","RN1242","HANS",null,null,null,null,null,null,null,null,null,null,null,null,null,null,null,null,"RN"]
[2711,"VK6YV","RN1271","PETER",null,null,null,null,null,null,null,null,null,null,null,null,null,null,null,null,"RN"]
[2713,"ON6WR","RN1282","ROGER",null,null,null,null,null,null,null,null,null,null,null,null,null,null,null,null,"RN"]
[2714,"VK2NCE","RN1283","JOHN",null,null,null,null,null,null,null,null,null,null,null,null,null,null,null,null,"RN"]
[2715,"G4IZU","RN1295","DENNIS",null,null,null,null,null,null,null,null,null,null,null,null,null,null,null,null,"RN"]
[2716,"G3VXF","RN1330","BRIAN",null,null,null,null,null,null,null,null,null,null,null,null,null,null,null,null,"RN"]
[2718,"G4JFO","RN1352","ALAN",null,null,null,null,null,null,null,null,null,null,null,null,null,null,null,null,"RN"]
[2719,"G3PFZ","RN1359","EDDIE",null,null,null,null,null,null,null,null,null,null,null,null,null,null,null,null,"RN"]
[2720,"G4KGT","RN1364","JOHN",null,null,null,null,null,null,null,null,null,null,null,null,null,null,null,null,"RN"]
[2721,"G4LNR","RN1381","RON",null,null,null,null,null,null,null,null,null,null,null,null,null,null,null,null,"RN"]
[2723,"ZL2JK","RN1396","DAVE",null,null,null,null,null,null,null,null,null,null,null,null,null,null,null,null,"RN"]
[2724,"G4HWK","RN1402","FRED",null,null,null,null,null,null,null,null,null,null,null,null,null,null,null,null,"RN"]
[2725,"G4SKS","RN1404","BRAD",null,null,null,null,null,null,null,null,null,null,null,null,null,null,null,null,"RN"]
[2726,"GM4GVJ","RN1409","GAVIN",null,null,null,null,null,null,null,null,null,null,null,null,null,null,null,null,"RN"]
[2728,"G3CXP","RN1413","BOB",null,null,null,null,null,null,null,null,null,null,null,null,null,null,null,null,"RN"]
[2729,"GM4BKV","RN1418","STAN",null,null,null,null,null,null,null,null,null,null,null,null,null,null,null,null,"RN"]
[2730,"VK3QU","RN1423","MARGARET",null,null,null,null,null,null,null,null,null,null,null,null,null,null,null,null,"RN"]
[2731,"G3ZJW","RN1438","BRIAN",null,null,null,null,null,null,null,null,null,null,null,null,null,null,null,null,"RN"]
[2733,"VK6APW","RN1440","PETER",null,null,null,null,null,null,null,null,null,null,null,null,null,null,null,null,"RN"]
[2734,"G0ICW","RN1444","MARK",null,null,null,null,null,null,null,null,null,null,null,null,null,null,null,null,"RN"]
[2735,"K8BBT","RN1467","CARL",null,null,null,null,null,null,null,null,null,null,null,null,null,null,null,null,"RN"]
[2736,"ON4WD","RN1492","JULES",null,null,null,null,null,null,null,null,null,null,null,null,null,null,null,null,"RN"]
[2738,"M0IMJ","RN1532","IVOR",null,null,null,null,null,null,null,null,null,null,null,null,null,null,null,null,"RN"]
[2739,"G4NMD","RN1535","GRAHAM",null,null,null,null,null,null,null,null,null,null,null,null,null,null,null,null,"RN"]
[2740,"G4JRN","RN1541","LARRY",null,null,null,null,null,null,null,null,null,null,null,null,null,null,null,null,"RN"]
[2741,"VK6JP","RN1544","JIM",null,null,null,null,null,null,null,null,null,null,null,null,null,null,null,null,"RN"]
[2743,"VK5NP","RN1563","ALAN",null,null,null,null,null,null,null,null,null,null,null,null,null,null,null,null,"RN"]
[2744,"G4LEC","RN1566","ALAN",null,null,null,null,null,null,null,null,null,null,null,null,null,null,null,null,"RN"]
[2745,"GM4TQ","RN1568","TONY",null,null,null,null,null,null,null,null,null,null,null,null,null,null,null,null,"RN"]
[2746,"G3XKQ","RN1575","PAUL",null,null,null,null,null,null,null,null,null,null,null,null,null,null,null,null,"RN"]
[2748,"GM4FGD","RN1581","ARCHIE",null,null,null,null,null,null,null,null,null,null,null,null,null,null,null,null,"RN"]
[2749,"G4NNP","RN1584","DON",null,null,null,null,null,null,null,null,null,null,null,null,null,null,null,null,"RN"]
[2750,"W6BNJ","RN1604","KYLE",null,null,null,null,null,null,null,null,null,null,null,null,null,null,null,null,"RN"]
[2751,"G4IPV","RN1625","GORDON",null,null,null,null,null,null,null,null,null,null,null,null,null,null,null,null,"RN"]
[2753,"G3CRS","RN1636","HMS",null,null,null,null,null,null,null,null,null,null,null,null,null,null,null,null,"RN"]
[2754,"G4KNR","RN1639","STAN",null,null,null,null,null,null,null,null,null,null,null,null,null,null,null,null,{"$f":"LEFT(C2755,2)","v":"RN"}]
[2755,"G4KKZ","RN1642","KEITH",null,null,null,null,null,null,null,null,null,null,null,null,null,null,null,null,"RN"]
[2756,"VK9NL","RN1650","KIRSTI",null,null,null,null,null,null,null,null,null,null,null,null,null,null,null,null,"RN"]
[2758,"VA3ICC","RN1673","IAN",null,null,null,null,null,null,null,null,null,null,null,null,null,null,null,null,"RN"]
[2759,"G4LEG","RN1680","PETE",null,null,null,null,null,null,null,null,null,null,null,null,null,null,null,null,"RN"]
[2760,"G4KLD","RN1681","COLIN",null,null,null,null,null,null,null,null,null,null,null,null,null,null,null,null,"RN"]
[2761,"G4NXG","RN1684","ALAN",null,null,null,null,null,null,null,null,null,null,null,null,null,null,null,null,"RN"]
[2763,"G0JSC","RN1702","JOHN",null,null,null,null,null,null,null,null,null,null,null,null,null,null,null,null,"RN"]
[2764,"G4KJD","RN1708","IAN",null,null,null,null,null,null,null,null,null,null,null,null,null,null,null,null,"RN"]
[2765,"G4FVG","RN1722","MIKE",null,null,null,null,null,null,null,null,null,null,null,null,null,null,null,null,"RN"]
[2766,"G3YEC","RN1727","RICK",null,null,null,null,null,null,null,null,null,null,null,null,null,null,null,null,"RN"]
[2768,"W8TP","RN1779","TED",null,null,null,null,null,null,null,null,null,null,null,null,null,null,null,null,"RN"]
[2769,"EA5GGV","RN1820","THOR",null,null,null,null,null,null,null,null,null,null,null,null,null,null,null,null,"RN"]
[2770,"G4TKF","RN1837","PETE",null,null,null,null,null,null,null,null,null,null,null,null,null,null,null,null,"RN"]
[2771,"GM4GZQ","RN1856","JOHN",null,null,null,null,null,null,null,null,null,null,null,null,null,null,null,null,"RN"]
[2773,"G4CQI","RN1867","DENNIS",null,null,null,null,null,null,null,null,null,null,null,null,null,null,null,null,"RN"]
[2774,"GM6HGW","RN1870","COLIN",null,null,null,null,null,null,null,null,null,null,null,null,null,null,null,null,"RN"]
[2775,"GM8HCN","RN1870","COLIN",null,null,null,null,null,null,null,null,null,null,null,null,null,null,null,null,"RN"]
[2776,"N2BAT","RN1873","DON",null,null,null,null,null,null,null,null,null,null,null,null,null,null,null,null,"RN"]
[2778,"G4MPI","RN1897","BILL",null,null,null,null,null,null,null,null,null,null,null,null,null,null,null,null,"RN"]
[2779,"G3JSU","RN1903","LES",null,null,null,null,null,null,null,null,null,null,null,null,null,null,null,null,"RN"]
[2780,"G3LSU","RN1903","LES",null,null,null,null,null,null,null,null,null,null,null,null,null,null,null,null,"RN"]
[2781,"GM3YTS","RN1907","ROB",null,null,null,null,null,null,null,null,null,null,null,null,null,null,null,null,"RN"]
[2783,"VE3IQ","RN1909","JIM",null,null,null,null,null,null,null,null,null,null,null,null,null,null,null,null,"RN"]
[2784,"G3PEM","RN1917","CARL",null,null,null,null,null,null,null,null,null,null,null,null,null,null,null,null,"RN"]
[2785,"G4MZL","RN1923","EDDIE",null,null,null,null,null,null,null,null,null,null,null,null,null,null,null,null,"RN"]
[2786,"G4UJR","RN1929","CLIFF",null,null,null,null,null,null,null,null,null,null,null,null,null,null,null,null,"RN"]
[2788,"DL0MF","RN1942","MF",null,null,null,null,null,null,null,null,null,null,null,null,null,null,null,null,"RN"]
[2789,"G4FBS","RN1944","CLUB",null,null,null,null,null,null,null,null,null,null,null,null,null,null,null,null,"RN"]
[2790,"G3UAZ","RN1962","ERNIE",null,null,null,null,null,null,null,null,null,null,null,null,null,null,null,null,"RN"]
[2791,"M0GMI","RN1962","ROBIN",null,null,null,null,null,null,null,null,null,null,null,null,null,null,null,null,"RN"]
[2793,"G4PEA","RN1975","RON",null,null,null,null,null,null,null,null,null,null,null,null,null,null,null,null,"RN"]
[2794,"G4PSA","RN1978","SHEILA",null,null,null,null,null,null,null,null,null,null,null,null,null,null,null,null,"RN"]
[2795,"G4MJC","RN1982","FLEMM",null,null,null,null,null,null,null,null,null,null,null,null,null,null,null,null,"RN"]
[2796,"G4NFT","RN1990","GEORGE",null,null,null,null,null,null,null,null,null,null,null,null,null,null,null,null,"RN"]
[2798,"G4PTE","RN2008","KEN",null,null,null,null,null,null,null,null,null,null,null,null,null,null,null,null,"RN"]
[2799,"G4RTH","RN2011","RON",null,null,null,null,null,null,null,null,null,null,null,null,null,null,null,null,"RN"]
[2800,"GM4LFL","RN2015","JOHN",null,null,null,null,null,null,null,null,null,null,null,null,null,null,null,null,"RN"]
[2801,"G4UPT","RN2032","DAVE",null,null,null,null,null,null,null,null,null,null,null,null,null,null,null,null,"RN"]
[2803,"GD3LSF","RN2049","STAN",null,null,null,null,null,null,null,null,null,null,null,null,null,null,null,null,"RN"]
[2804,"G4BUW","RN2053","KEV",null,null,null,null,null,null,null,null,null,null,null,null,null,null,null,null,"RN"]
[2805,"G4LNA","RN2069","PAUL",null,null,null,null,null,null,null,null,null,null,null,null,null,null,null,null,"RN"]
[2806,"G0SJQ","RN2075","LEN",null,null,null,null,null,null,null,null,null,null,null,null,null,null,null,null,"RN"]
[2808,"OZ1FJB","RN2087","LASSE",null,null,null,null,null,null,null,null,null,null,null,null,null,null,null,null,"RN"]
[2809,"G4ZIY","RN2122","MAL",null,null,null,null,null,null,null,null,null,null,null,null,null,null,null,null,"RN"]
[2810,"G4WWP","RN2126","DEREK",null,null,null,null,null,null,null,null,null,null,null,null,null,null,null,null,"RN"]
[2811,"G4UZJ","RN2136","ARTHUR",null,null,null,null,null,null,null,null,null,null,null,null,null,null,null,null,"RN"]
[2813,"G4RNR","RN2145","JIM",null,null,null,null,null,null,null,null,null,null,null,null,null,null,null,null,"RN"]
[2814,"G0AFN","RN2151","PETE",null,null,null,null,null,null,null,null,null,null,null,null,null,null,null,null,"RN"]
[2815,"OZ1ANE","RN2153","TOM",null,null,null,null,null,null,null,null,null,null,null,null,null,null,null,null,"RN"]
[2816,"G4ALY","RN2154","RALPH",null,null,null,null,null,null,null,null,null,null,null,null,null,null,null,null,"RN"]
[2818,"G4TMW","RN2181","STEVE",null,null,null,null,null,null,null,null,null,null,null,null,null,null,null,null,{"$f":"LEFT(C2819,2)","v":"RN"}]
[2819,"G0FEK","RN2182","BOB",null,null,null,null,null,null,null,null,null,null,null,null,null,null,null,null,"RN"]
[2820,"G6NVA","RN2191","TERRY",null,null,null,null,null,null,null,null,null,null,null,null,null,null,null,null,"RN"]
[2821,"G4XZS","RN2194","ROBIN",null,null,null,null,null,null,null,null,null,null,null,null,null,null,null,null,"RN"]
[2823,"G4MWL","RN2215","ALAN",null,null,null,null,null,null,null,null,null,null,null,null,null,null,null,null,"RN"]
[2824,"G4SJJ","RN2217","TOM",null,null,null,null,null,null,null,null,null,null,null,null,null,null,null,null,"RN"]
[2825,"G4TUO","RN2218","TED",null,null,null,null,null,null,null,null,null,null,null,null,null,null,null,null,"RN"]
[2826,"EI3ER","RN2234","TOM",null,null,null,null,null,null,null,null,null,null,null,null,null,null,null,null,"RN"]
[2828,"GM4GJS","RN2243","BILL",null,null,null,null,null,null,null,null,null,null,null,null,null,null,null,null,"RN"]
[2829,"G4ZQJ","RN2249","TONY",null,null,null,null,null,null,null,null,null,null,null,null,null,null,null,null,"RN"]
[2830,"G4AST","RN2251","MIKE",null,null,null,null,null,null,null,null,null,null,null,null,null,null,null,null,"RN"]
[2831,"GM4RXW","RN2254","NINA",null,null,null,null,null,null,null,null,null,null,null,null,null,null,null,null,"RN"]
[2833,"GM4RJF","RN2281","JIM",null,null,null,null,null,null,null,null,null,null,null,null,null,null,null,null,"RN"]
[2834,"GD3JIU","RN2288","MIKE",null,null,null,null,null,null,null,null,null,null,null,null,null,null,null,null,"RN"]
[2835,"G4TNI","RN2294","DEL",null,null,null,null,null,null,null,null,null,null,null,null,null,null,null,null,"RN"]
[2836,"G0CAU","RN2302","PETER",null,null,null,null,null,null,null,null,null,null,null,null,null,null,null,null,"RN"]
[2838,"9J2DR","RN2328","RICHARD",null,null,null,null,null,null,null,null,null,null,null,null,null,null,null,null,"RN"]
[2839,"F8LPX","RN2328","RICHARD",null,null,null,null,null,null,null,null,null,null,null,null,null,null,null,null,"RN"]
[2840,"GM0OPS","RN2333","JOHN",null,null,null,null,null,null,null,null,null,null,null,null,null,null,null,null,"RN"]
[2841,"G4JOA","RN2336","KEVIN",null,null,null,null,null,null,null,null,null,null,null,null,null,null,null,null,"RN"]
[2843,"G4UNM","RN2346","BOB",null,null,null,null,null,null,null,null,null,null,null,null,null,null,null,null,"RN"]
[2844,"G4UMW","RN2369","ROB",null,null,null,null,null,null,null,null,null,null,null,null,null,null,null,null,"RN"]
[2845,"GW4SPL","RN2400","PAUL",null,null,null,null,null,null,null,null,null,null,null,null,null,null,null,null,"RN"]
[2846,"DL8LD","RN2402","DIERK",null,null,null,null,null,null,null,null,null,null,null,null,null,null,null,null,"RN"]
[2848,"G6ION","RN2432","BOB",null,null,null,null,null,null,null,null,null,null,null,null,null,null,null,null,"RN"]
[2849,"GM0EQS","RN2436","STEPHEN",null,null,null,null,null,null,null,null,null,null,null,null,null,null,null,null,"RN"]
[2850,"G0VEP","RN2447","PAUL",null,null,null,null,null,null,null,null,null,null,null,null,null,null,null,null,"RN"]
[2851,"G4VVL","RN2450","KEN",null,null,null,null,null,null,null,null,null,null,null,null,null,null,null,null,"RN"]
[2853,"G4ZAW","RN2462","BARRIE",null,null,null,null,null,null,null,null,null,null,null,null,null,null,null,null,"RN"]
[2854,"ON4AGV","RN2464","RUDY",null,null,null,null,null,null,null,null,null,null,null,null,null,null,null,null,"RN"]
[2855,"G4DAQ","RN2487","ANDY",null,null,null,null,null,null,null,null,null,null,null,null,null,null,null,null,"RN"]
[2856,"GM8YUI","RN2493","GEORGE",null,null,null,null,null,null,null,null,null,null,null,null,null,null,null,null,"RN"]
[2858,"G4WKW","RN2503","RICHARD",null,null,null,null,null,null,null,null,null,null,null,null,null,null,null,null,"RN"]
[2859,"DK4VQ","RN2508","HANS",null,null,null,null,null,null,null,null,null,null,null,null,null,null,null,null,"RN"]
[2860,"G4JZC","RN2509","TONY",null,null,null,null,null,null,null,null,null,null,null,null,null,null,null,null,"RN"]
[2861,"G4UDO","RN2513","RONNIE",null,null,null,null,null,null,null,null,null,null,null,null,null,null,null,null,"RN"]
[2863,"G0LEH","RN2529","GRAHAM",null,null,null,null,null,null,null,null,null,null,null,null,null,null,null,null,"RN"]
[2864,"G2CHI","RN2531","BILL",null,null,null,null,null,null,null,null,null,null,null,null,null,null,null,null,"RN"]
[2865,"G4UYR","RN2532","RAY",null,null,null,null,null,null,null,null,null,null,null,null,null,null,null,null,"RN"]
[2866,"HB9ASZ","RN2539","BERNIE",null,null,null,null,null,null,null,null,null,null,null,null,null,null,null,null,"RN"]
[2868,"G4ZMP","RN2616","DAVE",null,null,null,null,null,null,null,null,null,null,null,null,null,null,null,null,"RN"]
[2869,"GW4GJT","RN2617","CLIFF",null,null,null,null,null,null,null,null,null,null,null,null,null,null,null,null,"RN"]
[2870,"G4SJY","RN2648","JOHN",null,null,null,null,null,null,null,null,null,null,null,null,null,null,null,null,"RN"]
[2871,"DL1JE","RN2657","KLAUS",null,null,null,null,null,null,null,null,null,null,null,null,null,null,null,null,"RN"]
[2873,"G0IEY","RN2662","SIMON",null,null,null,null,null,null,null,null,null,null,null,null,null,null,null,null,"RN"]
[2874,"G4XBU","RN2665","BRIAN",null,null,null,null,null,null,null,null,null,null,null,null,null,null,null,null,"RN"]
[2875,"G4OYF","RN2669","MARK",null,null,null,null,null,null,null,null,null,null,null,null,null,null,null,null,"RN"]
[2876,"OZ1EHC","RN2673","JORN",null,null,null,null,null,null,null,null,null,null,null,null,null,null,null,null,"RN"]
[2878,"GI4OYI","RN2694","DAVID",null,null,null,null,null,null,null,null,null,null,null,null,null,null,null,null,"RN"]
[2879,"G4EBN","RN2705","MALCOM",null,null,null,null,null,null,null,null,null,null,null,null,null,null,null,null,"RN"]
[2880,"MW0CLU","RN2726","LES",null,null,null,null,null,null,null,null,null,null,null,null,null,null,null,null,"RN"]
[2881,"GM0KTJ","RN2738","KEN",null,null,null,null,null,null,null,null,null,null,null,null,null,null,null,null,"RN"]
[2883,"G4YZC","RN2754","ERNIE",null,null,null,null,null,null,null,null,null,null,null,null,null,null,null,null,"RN"]
[2884,"G4EZF","RN2761","DAVE",null,null,null,null,null,null,null,null,null,null,null,null,null,null,null,null,"RN"]
[2885,"OZ2JI","RN2765","JENS",null,null,null,null,null,null,null,null,null,null,null,null,null,null,null,null,"RN"]
[2886,"G4SSH","RN2770","ROY",null,null,null,null,null,null,null,null,null,null,null,null,null,null,null,null,"RN"]
[2888,"G3NCB","RN2799","HAROLD",null,null,null,null,null,null,null,null,null,null,null,null,null,null,null,null,"RN"]
[2889,"G4COF","RN2808","KELLY",null,null,null,null,null,null,null,null,null,null,null,null,null,null,null,null,"RN"]
[2890,"G8WSG","RN2813","SHEILA",null,null,null,null,null,null,null,null,null,null,null,null,null,null,null,null,"RN"]
[2891,"G3BBR","RN2817","KEN",null,null,null,null,null,null,null,null,null,null,null,null,null,null,null,null,"RN"]
[2893,"GM3AHR","RN2834","ALEX",null,null,null,null,null,null,null,null,null,null,null,null,null,null,null,null,"RN"]
[2894,"GU0ALD","RN2868","OWEN",null,null,null,null,null,null,null,null,null,null,null,null,null,null,null,null,"RN"]
[2895,"PA1D","RN2870","DEREK",null,null,null,null,null,null,null,null,null,null,null,null,null,null,null,null,"RN"]
[2896,"GW0ANA","RN2877","GLYN",null,null,null,null,null,null,null,null,null,null,null,null,null,null,null,null,"RN"]
[2898,"G0KHN","RN2884","SID",null,null,null,null,null,null,null,null,null,null,null,null,null,null,null,null,"RN"]
[2899,"PA0HRM","RN2885","HANS",null,null,null,null,null,null,null,null,null,null,null,null,null,null,null,null,"RN"]
[2900,"PF9A","RN2887","MARTIN",null,null,null,null,null,null,null,null,null,null,null,null,null,null,null,null,"RN"]
[2901,"G4LUN","RN2891","TONY",null,null,null,null,null,null,null,null,null,null,null,null,null,null,null,null,"RN"]
[2903,"G7IIO","RN2899","BRIAN",null,null,null,null,null,null,null,null,null,null,null,null,null,null,null,null,"RN"]
[2904,"G4VSR","RN2906","STAN",null,null,null,null,null,null,null,null,null,null,null,null,null,null,null,null,"RN"]
[2905,"VK6VE","RN2907","HUGH",null,null,null,null,null,null,null,null,null,null,null,null,null,null,null,null,"RN"]
[2906,"G3TFV","RN2909","EDGAR",null,null,null,null,null,null,null,null,null,null,null,null,null,null,null,null,"RN"]
[2908,"G4MZS","RN2923","TOM",null,null,null,null,null,null,null,null,null,null,null,null,null,null,null,null,"RN"]
[2909,"G4HQQ","RN2926","PHIL",null,null,null,null,null,null,null,null,null,null,null,null,null,null,null,null,"RN"]
[2910,"VK4RAN","RN2930","DIAMANTINA",null,null,null,null,null,null,null,null,null,null,null,null,null,null,null,null,"RN"]
[2911,"G0FEO","RN2935","TONY",null,null,null,null,null,null,null,null,null,null,null,null,null,null,null,null,"RN"]
[2913,"G4USW","RN2942","BILL",null,null,null,null,null,null,null,null,null,null,null,null,null,null,null,null,"RN"]
[2914,"G0FUE","RN2944","BILL",null,null,null,null,null,null,null,null,null,null,null,null,null,null,null,null,"RN"]
[2915,"G3XGE","RN2951","PETER",null,null,null,null,null,null,null,null,null,null,null,null,null,null,null,null,"RN"]
[2916,"G1LKJ","RN2954","PHIL",null,null,null,null,null,null,null,null,null,null,null,null,null,null,null,null,"RN"]
[2918,"GW0OHJ","RN2981","DAVE",null,null,null,null,null,null,null,null,null,null,null,null,null,null,null,null,"RN"]
[2919,"G0EHO","RN2988","BOB",null,null,null,null,null,null,null,null,null,null,null,null,null,null,null,null,"RN"]
[2920,"G0LFW","RN2994","PAUL",null,null,null,null,null,null,null,null,null,null,null,null,null,null,null,null,"RN"]
[2921,"PA3EBA","RN2999","JAN",null,null,null,null,null,null,null,null,null,null,null,null,null,null,null,null,"RN"]
[2923,"G1VYK","RN3030","MARTIN",null,null,null,null,null,null,null,null,null,null,null,null,null,null,null,null,"RN"]
[2924,"GM0DJI","RN3031","DANNIE",null,null,null,null,null,null,null,null,null,null,null,null,null,null,null,null,"RN"]
[2925,"G0CWK","RN3035","JOHN",null,null,null,null,null,null,null,null,null,null,null,null,null,null,null,null,"RN"]
[2926,"G3LPT","RN3039","GEO",null,null,null,null,null,null,null,null,null,null,null,null,null,null,null,null,"RN"]
[2928,"G0EBR","RN3052","BILL",null,null,null,null,null,null,null,null,null,null,null,null,null,null,null,null,"RN"]
[2929,"GM4WCE","RN3077","PETER",null,null,null,null,null,null,null,null,null,null,null,null,null,null,null,null,"RN"]
[2930,"G1OCN","RN3085","DAVID",null,null,null,null,null,null,null,null,null,null,null,null,null,null,null,null,"RN"]
[2931,"G0ISJ","RN3108","GEORGE",null,null,null,null,null,null,null,null,null,null,null,null,null,null,null,null,"RN"]
[2933,"G0BUW","RN3116","PAUL",null,null,null,null,null,null,null,null,null,null,null,null,null,null,null,null,"RN"]
[2934,"G1SSS","RN3117","JOHN",null,null,null,null,null,null,null,null,null,null,null,null,null,null,null,null,"RN"]
[2935,"G0FQT","RN3139","RAY",null,null,null,null,null,null,null,null,null,null,null,null,null,null,null,null,"RN"]
[2936,"VE1CYO","RN3148","MIKE",null,null,null,null,null,null,null,null,null,null,null,null,null,null,null,null,"RN"]
[2938,"GM0FRQ","RN3152","PETER",null,null,null,null,null,null,null,null,null,null,null,null,null,null,null,null,"RN"]
[2939,"PA3DSJ","RN3164","HUIB",null,null,null,null,null,null,null,null,null,null,null,null,null,null,null,null,"RN"]
[2940,"G0FOD","RN3170","NEVILLE",null,null,null,null,null,null,null,null,null,null,null,null,null,null,null,null,"RN"]
[2941,"G3LCI","RN3175","VERNON",null,null,null,null,null,null,null,null,null,null,null,null,null,null,null,null,"RN"]
[2943,"G1VGM","RN3184","SIMON",null,null,null,null,null,null,null,null,null,null,null,null,null,null,null,null,"RN"]
[2944,"G0ITS","RN3191","ROY",null,null,null,null,null,null,null,null,null,null,null,null,null,null,null,null,"RN"]
[2945,"GI4BTG","RN3218","BRIAN",null,null,null,null,null,null,null,null,null,null,null,null,null,null,null,null,"RN"]
[2946,"G0GUF","RN3227","JOHN",null,null,null,null,null,null,null,null,null,null,null,null,null,null,null,null,{"$f":"LEFT(C2947,2)","v":"RN"}]
[2948,"G0OVI","RN3231","JOHN",null,null,null,null,null,null,null,null,null,null,null,null,null,null,null,null,"RN"]
[2949,"G3WWS","RN3233","MIKE",null,null,null,null,null,null,null,null,null,null,null,null,null,null,null,null,"RN"]
[2950,"G1ORK","RN3243","DAVE",null,null,null,null,null,null,null,null,null,null,null,null,null,null,null,null,"RN"]
[2951,"G4KLF","RN3246","TONY",null,null,null,null,null,null,null,null,null,null,null,null,null,null,null,null,"RN"]
[2953,"G0GRY","RN3256","PETER",null,null,null,null,null,null,null,null,null,null,null,null,null,null,null,null,"RN"]
[2954,"GM0CDV","RN3268","RAY",null,null,null,null,null,null,null,null,null,null,null,null,null,null,null,null,"RN"]
[2955,"G0GEZ","RN3278","DENNIS",null,null,null,null,null,null,null,null,null,null,null,null,null,null,null,null,"RN"]
[2956,"G0SWS","RN3286","TERRY",null,null,null,null,null,null,null,null,null,null,null,null,null,null,null,null,"RN"]
[2958,"G1RXC","RN3307","JOHN",null,null,null,null,null,null,null,null,null,null,null,null,null,null,null,null,"RN"]
[2959,"G0IBN","RN3314","ANDY",null,null,null,null,null,null,null,null,null,null,null,null,null,null,null,null,"RN"]
[2960,"GW4ZAR","RN3325","DAVE",null,null,null,null,null,null,null,null,null,null,null,null,null,null,null,null,"RN"]
[2961,"DJ7AC","RN3328","WOLF",null,null,null,null,null,null,null,null,null,null,null,null,null,null,null,null,"RN"]
[2963,"9H1RN","RN3355","JIM",null,null,null,null,null,null,null,null,null,null,null,null,null,null,null,null,"RN"]
[2964,"G4TDS","RN3355","JIM",null,null,null,null,null,null,null,null,null,null,null,null,null,null,null,null,"RN"]
[2965,"GM0KBC","RN3363","NEIL",null,null,null,null,null,null,null,null,null,null,null,null,null,null,null,null,"RN"]
[2966,"G1IIO","RN3372","BRYAN",null,null,null,null,null,null,null,null,null,null,null,null,null,null,null,null,"RN"]
[2968,"G3YAJ","RN3384","DICK",null,null,null,null,null,null,null,null,null,null,null,null,null,null,null,null,"RN"]
[2969,"G0MPI","RN3401","STEVE",null,null,null,null,null,null,null,null,null,null,null,null,null,null,null,null,"RN"]
[2970,"G0KQS","RN3406","GRAEME",null,null,null,null,null,null,null,null,null,null,null,null,null,null,null,null,"RN"]
[2971,"G0SUB","RN3408","CLUB",null,null,null,null,null,null,null,null,null,null,null,null,null,null,null,null,"RN"]
[2973,"GM0HCQ","RN3455","MIKE",null,null,null,null,null,null,null,null,null,null,null,null,null,null,null,null,"RN"]
[2974,"VP8CMH","RN3455","MIKE",null,null,null,null,null,null,null,null,null,null,null,null,null,null,null,null,"RN"]
[2975,"G0CHV","RN3460","MIKE",null,null,null,null,null,null,null,null,null,null,null,null,null,null,null,null,"RN"]
[2976,"G4LOI","RN3472","BARRY",null,null,null,null,null,null,null,null,null,null,null,null,null,null,null,null,"RN"]
[2978,"G0GBI","RN3481","GLENN",null,null,null,null,null,null,null,null,null,null,null,null,null,null,null,null,"RN"]
[2979,"G3BKJ","RN3482","BRIAN",null,null,null,null,null,null,null,null,null,null,null,null,null,null,null,null,"RN"]
[2980,"HB9ANE","RN3493","JURGEN",null,null,null,null,null,null,null,null,null,null,null,null,null,null,null,null,"RN"]
[2981,"G4UST","RN3527","AYJAY",null,null,null,null,null,null,null,null,null,null,null,null,null,null,null,null,"RN"]
[2983,"G0MFB","RN3530","JOHN",null,null,null,null,null,null,null,null,null,null,null,null,null,null,null,null,"RN"]
[2984,"G4PIJ","RN3532","JACK",null,null,null,null,null,null,null,null,null,null,null,null,null,null,null,null,"RN"]
[2985,"G7ARJ","RN3535","JIM",null,null,null,null,null,null,null,null,null,null,null,null,null,null,null,null,"RN"]
[2986,"G0BMH","RN3544","IAN",null,null,null,null,null,null,null,null,null,null,null,null,null,null,null,null,"RN"]
[2988,"GM0KDF","RN3560","ROBIN",null,null,null,null,null,null,null,null,null,null,null,null,null,null,null,null,"RN"]
[2989,"G4SMU","RN3561","MARTIN",null,null,null,null,null,null,null,null,null,null,null,null,null,null,null,null,"RN"]
[2990,"ZL4QO","RN3567","DON",null,null,null,null,null,null,null,null,null,null,null,null,null,null,null,null,"RN"]
[2991,"G3MXJ","RN3570","DEN",null,null,null,null,null,null,null,null,null,null,null,null,null,null,null,null,"RN"]
[2993,"G7EYR","RN3583","PAT (YL)",null,null,null,null,null,null,null,null,null,null,null,null,null,null,null,null,"RN"]
[2994,"EI6HD","RN3598","PADDY",null,null,null,null,null,null,null,null,null,null,null,null,null,null,null,null,"RN"]
[2995,"G3KKJ","RN3601","ALEX",null,null,null,null,null,null,null,null,null,null,null,null,null,null,null,null,"RN"]
[2996,"G0MIU","RN3606","DOUGLAS",null,null,null,null,null,null,null,null,null,null,null,null,null,null,null,null,"RN"]
[2998,"KB8APS","RN3628","SCOTTY",null,null,null,null,null,null,null,null,null,null,null,null,null,null,null,null,"RN"]
[2999,"G0JJD","RN3638","GORDON",null,null,null,null,null,null,null,null,null,null,null,null,null,null,null,null,"RN"]
[3000,"G0ETL","RN3673","GEOFF",null,null,null,null,null,null,null,null,null,null,null,null,null,null,null,null,"RN"]
[3001,"G0WNT","RN3674","NORMAN",null,null,null,null,null,null,null,null,null,null,null,null,null,null,null,null,"RN"]
[3003,"G0NII","RN3684","JOHN",null,null,null,null,null,null,null,null,null,null,null,null,null,null,null,null,"RN"]
[3004,"G0LDJ","RN3686","DOUG",null,null,null,null,null,null,null,null,null,null,null,null,null,null,null,null,"RN"]
[3005,"G4NCZ","RN3688","JOHN",null,null,null,null,null,null,null,null,null,null,null,null,null,null,null,null,"RN"]
[3006,"G0OPD","RN3689","NOBBY",null,null,null,null,null,null,null,null,null,null,null,null,null,null,null,null,"RN"]
[3008,"G0RDO","RN3703","JOHN",null,null,null,null,null,null,null,null,null,null,null,null,null,null,null,null,"RN"]
[3009,"G4ZKE","RN3715","MICK",null,null,null,null,null,null,null,null,null,null,null,null,null,null,null,null,"RN"]
[3010,"G1YCM","RN3731","ARTHUR",null,null,null,null,null,null,null,null,null,null,null,null,null,null,null,null,{"$f":"LEFT(C3011,2)","v":"RN"}]
[3011,"G0GQJ","RN3751","TOM",null,null,null,null,null,null,null,null,null,null,null,null,null,null,null,null,"RN"]
[3013,"G0SCY","RN3780","BILL",null,null,null,null,null,null,null,null,null,null,null,null,null,null,null,null,"RN"]
[3014,"HB9BHS","RN3786","BRUNO",null,null,null,null,null,null,null,null,null,null,null,null,null,null,null,null,"RN"]
[3015,"GM4ARJ","RN3799","IAN",null,null,null,null,null,null,null,null,null,null,null,null,null,null,null,null,"RN"]
[3016,"G4UXC","RN3805","MIKE",null,null,null,null,null,null,null,null,null,null,null,null,null,null,null,null,"RN"]
[3018,"NK3R","RN3831","CREG",null,null,null,null,null,null,null,null,null,null,null,null,null,null,null,null,"RN"]
[3019,"G0UED","RN3842","IAN",null,null,null,null,null,null,null,null,null,null,null,null,null,null,null,null,"RN"]
[3020,"G0WVM","RN3854","NIKE",null,null,null,null,null,null,null,null,null,null,null,null,null,null,null,null,"RN"]
[3021,"G0SLP","RN3861","MARK",null,null,null,null,null,null,null,null,null,null,null,null,null,null,null,null,"RN"]
[3023,"VK2CNI","RN3890","NEALE",null,null,null,null,null,null,null,null,null,null,null,null,null,null,null,null,"RN"]
[3024,"G7KDJ","RN3904","ANDY",null,null,null,null,null,null,null,null,null,null,null,null,null,null,null,null,"RN"]
[3025,"2E0TDC","RN3909","TONY",null,null,null,null,null,null,null,null,null,null,null,null,null,null,null,null,"RN"]
[3026,"N8NAV","RN3913","JIM",null,null,null,null,null,null,null,null,null,null,null,null,null,null,null,null,"RN"]
[3028,"G4XHK","RN3917","LAURIE",null,null,null,null,null,null,null,null,null,null,null,null,null,null,null,null,"RN"]
[3029,"GW0SFI","RN3919","BAZ",null,null,null,null,null,null,null,null,null,null,null,null,null,null,null,null,"RN"]
[3030,"M0DBT","RN3922","CLIFF",null,null,null,null,null,null,null,null,null,null,null,null,null,null,null,null,"RN"]
[3031,"ON6KN","RN3933","SWA",null,null,null,null,null,null,null,null,null,null,null,null,null,null,null,null,"RN"]
[3033,"G3ZOU","RN3953","ROY",null,null,null,null,null,null,null,null,null,null,null,null,null,null,null,null,"RN"]
[3034,"G7KES","RN3961","PAUL",null,null,null,null,null,null,null,null,null,null,null,null,null,null,null,null,"RN"]
[3035,"G3WQG","RN3966","DAVE",null,null,null,null,null,null,null,null,null,null,null,null,null,null,null,null,"RN"]
[3036,"VE3CGJ","RN3977","HAIDA",null,null,null,null,null,null,null,null,null,null,null,null,null,null,null,null,"RN"]
[3038,"GM4UFD","RN3983","BOB",null,null,null,null,null,null,null,null,null,null,null,null,null,null,null,null,"RN"]
[3039,"G8CVF","RN3991","PETER",null,null,null,null,null,null,null,null,null,null,null,null,null,null,null,null,"RN"]
[3040,"G0UMI","RN4001","TED",null,null,null,null,null,null,null,null,null,null,null,null,null,null,null,null,"RN"]
[3041,"M0JMP","RN4003","JANET",null,null,null,null,null,null,null,null,null,null,null,null,null,null,null,null,"RN"]
[3043,"AA6NM","RN4042","BRIAN",null,null,null,null,null,null,null,null,null,null,null,null,null,null,null,null,"RN"]
[3044,"G3DCO","RN4042","BRIAN",null,null,null,null,null,null,null,null,null,null,null,null,null,null,null,null,"RN"]
[3045,"G0TBC","RN4050","SHIRLEY",null,null,null,null,null,null,null,null,null,null,null,null,null,null,null,null,"RN"]
[3046,"GM0SRD","RN4053","ADRIAN",null,null,null,null,null,null,null,null,null,null,null,null,null,null,null,null,"RN"]
[3048,"G7OJH","RN4067","NORMAN",null,null,null,null,null,null,null,null,null,null,null,null,null,null,null,null,"RN"]
[3049,"G8TTU","RN4075","BILL",null,null,null,null,null,null,null,null,null,null,null,null,null,null,null,null,"RN"]
[3050,"G0UTP","RN4085","TONY",null,null,null,null,null,null,null,null,null,null,null,null,null,null,null,null,"RN"]
[3051,"G0TKZ","RN4086","RUPERT",null,null,null,null,null,null,null,null,null,null,null,null,null,null,null,null,"RN"]
[3053,"MM0DYX","RN4097","DAVID",null,null,null,null,null,null,null,null,null,null,null,null,null,null,null,null,"RN"]
[3054,"G0TZE","RN4100","MICK",null,null,null,null,null,null,null,null,null,null,null,null,null,null,null,null,"RN"]
[3055,"G0TZK","RN4101","TOM",null,null,null,null,null,null,null,null,null,null,null,null,null,null,null,null,"RN"]
[3056,"DL1DRA","RN4123","JOACHIM",null,null,null,null,null,null,null,null,null,null,null,null,null,null,null,null,"RN"]
[3058,"G0KDL","RN4134","BILL",null,null,null,null,null,null,null,null,null,null,null,null,null,null,null,null,"RN"]
[3059,"G0CEP","RN4138","DAVID",null,null,null,null,null,null,null,null,null,null,null,null,null,null,null,null,"RN"]
[3060,"9H1ZY","RN4152","JOHN",null,null,null,null,null,null,null,null,null,null,null,null,null,null,null,null,"RN"]
[3061,"GM0RYD","RN4152","JOHN",null,null,null,null,null,null,null,null,null,null,null,null,null,null,null,null,"RN"]
[3063,"ON4ARJ","RN4163","PATRICK",null,null,null,null,null,null,null,null,null,null,null,null,null,null,null,null,"RN"]
[3064,"G7USQ","RN4176","BRYAN",null,null,null,null,null,null,null,null,null,null,null,null,null,null,null,null,"RN"]
[3065,"GM0SYY","RN4182","JIM",null,null,null,null,null,null,null,null,null,null,null,null,null,null,null,null,"RN"]
[3066,"MW1AXV","RN4188","DAVID",null,null,null,null,null,null,null,null,null,null,null,null,null,null,null,null,"RN"]
[3068,"G7EIE","RN4196","TIM",null,null,null,null,null,null,null,null,null,null,null,null,null,null,null,null,"RN"]
[3069,"OE8NIK","RN4198","NIK",null,null,null,null,null,null,null,null,null,null,null,null,null,null,null,null,"RN"]
[3070,"G0VCV","RN4208","JOHN",null,null,null,null,null,null,null,null,null,null,null,null,null,null,null,null,"RN"]
[3071,"W1MXI","RN4217","BOB",null,null,null,null,null,null,null,null,null,null,null,null,null,null,null,null,"RN"]
[3073,"ON4CAB","RN4234","BART",null,null,null,null,null,null,null,null,null,null,null,null,null,null,null,null,"RN"]
[3074,"G1GGK","RN4236","BILL",null,null,null,null,null,null,null,null,null,null,null,null,null,null,null,null,{"$f":"LEFT(C3075,2)","v":"RN"}]
[3075,"GW0VSW","RN4238","CARL",null,null,null,null,null,null,null,null,null,null,null,null,null,null,null,null,"RN"]
[3076,"EA8CN","RN4240","ANDY",null,null,null,null,null,null,null,null,null,null,null,null,null,null,null,null,"RN"]
[3078,"G0WAE","RN4254","DAVID",null,null,null,null,null,null,null,null,null,null,null,null,null,null,null,null,"RN"]
[3079,"RN1NW","RN4263","TED",null,null,null,null,null,null,null,null,null,null,null,null,null,null,null,null,"RN"]
[3080,"G3YCH","RN4271","ALAN",null,null,null,null,null,null,null,null,null,null,null,null,null,null,null,null,"RN"]
[3081,"G4BYJ","RN4274","HASSO",null,null,null,null,null,null,null,null,null,null,null,null,null,null,null,null,"RN"]
[3083,"M1AFM","RN4295","TONI",null,null,null,null,null,null,null,null,null,null,null,null,null,null,null,null,"RN"]
[3084,"G7MAR","RN4298","JOHN",null,null,null,null,null,null,null,null,null,null,null,null,null,null,null,null,"RN"]
[3085,"G1IND","RN4302","VIC",null,null,null,null,null,null,null,null,null,null,null,null,null,null,null,null,"RN"]
[3086,"G3PLE","RN4304","DUKE",null,null,null,null,null,null,null,null,null,null,null,null,null,null,null,null,"RN"]
[3088,"GW7VHD","RN4310","ARTHUR",null,null,null,null,null,null,null,null,null,null,null,null,null,null,null,null,"RN"]
[3089,"G4OVD","RN4311","GEORGE",null,null,null,null,null,null,null,null,null,null,null,null,null,null,null,null,"RN"]
[3090,"G7AFS","RN4315","MAL",null,null,null,null,null,null,null,null,null,null,null,null,null,null,null,null,"RN"]
[3091,"G0VIX","RN4322","MIKE",null,null,null,null,null,null,null,null,null,null,null,null,null,null,null,null,"RN"]
[3093,"ON4UK","RN4327","JOHAN",null,null,null,null,null,null,null,null,null,null,null,null,null,null,null,null,"RN"]
[3094,"G4PRI","RN4328","DAVE",null,null,null,null,null,null,null,null,null,null,null,null,null,null,null,null,"RN"]
[3095,"ON4CBM","RN4334","BERT",null,null,null,null,null,null,null,null,null,null,null,null,null,null,null,null,"RN"]
[3096,"G0WEN","RN4341","KEITH",null,null,null,null,null,null,null,null,null,null,null,null,null,null,null,null,"RN"]
[3098,"ON4TJ","RN4347","GEO",null,null,null,null,null,null,null,null,null,null,null,null,null,null,null,null,"RN"]
[3099,"G3RMZ","RN4349","ALAN",null,null,null,null,null,null,null,null,null,null,null,null,null,null,null,null,"RN"]
[3100,"GM3XGX","RN4352","JIMMY",null,null,null,null,null,null,null,null,null,null,null,null,null,null,null,null,"RN"]
[3101,"GW0WWQ","RN4367","HUGH",null,null,null,null,null,null,null,null,null,null,null,null,null,null,null,null,"RN"]
[3103,"G3WBB","RN4372","TED",null,null,null,null,null,null,null,null,null,null,null,null,null,null,null,null,"RN"]
[3104,"OH1UP","RN4390","ERKKI",null,null,null,null,null,null,null,null,null,null,null,null,null,null,null,null,"RN"]
[3105,"VE3WEL","RN4395","ANDREW",null,null,null,null,null,null,null,null,null,null,null,null,null,null,null,null,"RN"]
[3106,"GD3TNS","RN4410","ARTHUR",null,null,null,null,null,null,null,null,null,null,null,null,null,null,null,null,"RN"]
[3108,"G0WKH","RN4416","MIKE",null,null,null,null,null,null,null,null,null,null,null,null,null,null,null,null,"RN"]
[3109,"EA5AOR","RN4419","DAN",null,null,null,null,null,null,null,null,null,null,null,null,null,null,null,null,"RN"]
[3110,"GM4BBF","RN4419","DAN",null,null,null,null,null,null,null,null,null,null,null,null,null,null,null,null,"RN"]
[3111,"G4BNU","RN4421","PAUL",null,null,null,null,null,null,null,null,null,null,null,null,null,null,null,null,"RN"]
[3113,"M1ACJ","RN4432","STEVE",null,null,null,null,null,null,null,null,null,null,null,null,null,null,null,null,"RN"]
[3114,"VK7CAJ","RN4444","TONY",null,null,null,null,null,null,null,null,null,null,null,null,null,null,null,null,"RN"]
[3115,"G4PZV","RN4449","AL",null,null,null,null,null,null,null,null,null,null,null,null,null,null,null,null,"RN"]
[3116,"MI0ABD","RN4451","JOE",null,null,null,null,null,null,null,null,null,null,null,null,null,null,null,null,"RN"]
[3118,"OH1SR","RN4458","RAINER",null,null,null,null,null,null,null,null,null,null,null,null,null,null,null,null,"RN"]
[3119,"M0BHC","RN4468","HAST",null,null,null,null,null,null,null,null,null,null,null,null,null,null,null,null,"RN"]
[3120,"G8BIX","RN4472","TONY",null,null,null,null,null,null,null,null,null,null,null,null,null,null,null,null,"RN"]
[3121,"2E0COL","RN4474","STEVEN",null,null,null,null,null,null,null,null,null,null,null,null,null,null,null,null,"RN"]
[3123,"M0BUY","RN4477","JOHN",null,null,null,null,null,null,null,null,null,null,null,null,null,null,null,null,"RN"]
[3124,"SM3AHM","RN4485","KARL",null,null,null,null,null,null,null,null,null,null,null,null,null,null,null,null,"RN"]
[3125,"MM0BED","RN4486","JAMES",null,null,null,null,null,null,null,null,null,null,null,null,null,null,null,null,"RN"]
[3126,"G1GXB","RN4490","KEITH",null,null,null,null,null,null,null,null,null,null,null,null,null,null,null,null,"RN"]
[3128,"GM0VYL","RN4497","PETER",null,null,null,null,null,null,null,null,null,null,null,null,null,null,null,null,"RN"]
[3129,"G4TNN","RN4501","PETER",null,null,null,null,null,null,null,null,null,null,null,null,null,null,null,null,"RN"]
[3130,"GM3WED","RN4505","ALASTAIR",null,null,null,null,null,null,null,null,null,null,null,null,null,null,null,null,"RN"]
[3131,"GW4TUC","RN4506","DAVID",null,null,null,null,null,null,null,null,null,null,null,null,null,null,null,null,"RN"]
[3133,"G4AFR","RN4509","FRANK",null,null,null,null,null,null,null,null,null,null,null,null,null,null,null,null,"RN"]
[3134,"GM0FHS","RN4512","SIMON",null,null,null,null,null,null,null,null,null,null,null,null,null,null,null,null,"RN"]
[3135,"G3CCO","RN4514","DAVE",null,null,null,null,null,null,null,null,null,null,null,null,null,null,null,null,"RN"]
[3136,"G0VPF","RN4520","PETER",null,null,null,null,null,null,null,null,null,null,null,null,null,null,null,null,"RN"]
[3138,"M0BTY","RN4536","PETER",null,null,null,null,null,null,null,null,null,null,null,null,null,null,null,null,{"$f":"LEFT(C3139,2)","v":"RN"}]
[3139,"G0WZH","RN4537","SIMON",null,null,null,null,null,null,null,null,null,null,null,null,null,null,null,null,"RN"]
[3140,"M0CSE","RN4540","FRANK",null,null,null,null,null,null,null,null,null,null,null,null,null,null,null,null,"RN"]
[3141,"VK6BQ","RN4552","COLIN",null,null,null,null,null,null,null,null,null,null,null,null,null,null,null,null,"RN"]
[3143,"G0RPX","RN4557","DICK",null,null,null,null,null,null,null,null,null,null,null,null,null,null,null,null,"RN"]
[3144,"M0RYA","RN4563","JOHN",null,null,null,null,null,null,null,null,null,null,null,null,null,null,null,null,"RN"]
[3145,"M5JGP","RN4563","JOHN",null,null,null,null,null,null,null,null,null,null,null,null,null,null,null,null,"RN"]
[3146,"M1CNH","RN4564","JAMES",null,null,null,null,null,null,null,null,null,null,null,null,null,null,null,null,"RN"]
[3148,"M0LLE","RN4567","JACK",null,null,null,null,null,null,null,null,null,null,null,null,null,null,null,null,"RN"]
[3149,"K7VV","RN4571","VINCE",null,null,null,null,null,null,null,null,null,null,null,null,null,null,null,null,"RN"]
[3150,"M0CVJ","RN4578","ROY",null,null,null,null,null,null,null,null,null,null,null,null,null,null,null,null,"RN"]
[3151,"G3WNQ","RN4581","EDDIE",null,null,null,null,null,null,null,null,null,null,null,null,null,null,null,null,"RN"]
[3153,"DF7QN","RN4583","HERMAN",null,null,null,null,null,null,null,null,null,null,null,null,null,null,null,null,"RN"]
[3154,"DF7PM","RN4584","MARY",null,null,null,null,null,null,null,null,null,null,null,null,null,null,null,null,"RN"]
[3155,"OR0OST","RN4585","BMARS",null,null,null,null,null,null,null,null,null,null,null,null,null,null,null,null,"RN"]
[3156,"DG5BKA","RN4589","HANS",null,null,null,null,null,null,null,null,null,null,null,null,null,null,null,null,"RN"]
[3158,"2E0CTS","RN4591","ROD",null,null,null,null,null,null,null,null,null,null,null,null,null,null,null,null,"RN"]
[3159,"MM0CJF","RN4593","JIMMY",null,null,null,null,null,null,null,null,null,null,null,null,null,null,null,null,"RN"]
[3160,"ZL1VA","RN4594","VERNON",null,null,null,null,null,null,null,null,null,null,null,null,null,null,null,null,"RN"]
[3161,"G0MYP","RN4596","DAVE",null,null,null,null,null,null,null,null,null,null,null,null,null,null,null,null,"RN"]
[3163,"DL6LAO","RN4603","WOLF",null,null,null,null,null,null,null,null,null,null,null,null,null,null,null,null,"RN"]
[3164,"M0CPH","RN4604","LESTER",null,null,null,null,null,null,null,null,null,null,null,null,null,null,null,null,"RN"]
[3165,"G3GUR","RN4606","JOHN",null,null,null,null,null,null,null,null,null,null,null,null,null,null,null,null,"RN"]
[3166,"M0RNR","RN4613","BRIAN",null,null,null,null,null,null,null,null,null,null,null,null,null,null,null,null,"RN"]
[3168,"I6FDJ","RN4620","FILIPPO",null,null,null,null,null,null,null,null,null,null,null,null,null,null,null,null,"RN"]
[3169,"W0TUT","RN4622","JOE",null,null,null,null,null,null,null,null,null,null,null,null,null,null,null,null,"RN"]
[3170,"M0CVR","RN4626","DAN",null,null,null,null,null,null,null,null,null,null,null,null,null,null,null,null,"RN"]
[3171,"G3LAA","RN4630","TONY",null,null,null,null,null,null,null,null,null,null,null,null,null,null,null,null,"RN"]
[3173,"G2FSH","RN4633","BRIAN",null,null,null,null,null,null,null,null,null,null,null,null,null,null,null,null,"RN"]
[3174,"DK6OS","RN4636","JACK",null,null,null,null,null,null,null,null,null,null,null,null,null,null,null,null,"RN"]
[3175,"ON4CBI","RN4637","CHRISTI",null,null,null,null,null,null,null,null,null,null,null,null,null,null,null,null,"RN"]
[3176,"OK1FCA","RN4639","STAN",null,null,null,null,null,null,null,null,null,null,null,null,null,null,null,null,"RN"]
[3178,"SM5VWG","RN4644","JAN",null,null,null,null,null,null,null,null,null,null,null,null,null,null,null,null,"RN"]
[3179,"G7BLX","RN4651","MIKE",null,null,null,null,null,null,null,null,null,null,null,null,null,null,null,null,"RN"]
[3180,"DL1EKN","RN4659","HANS",null,null,null,null,null,null,null,null,null,null,null,null,null,null,null,null,"RN"]
[3181,"I7OEB","RN4666","MAURO",null,null,null,null,null,null,null,null,null,null,null,null,null,null,null,null,"RN"]
[3183,"G3PDH","RN4672","MALCOM",null,null,null,null,null,null,null,null,null,null,null,null,null,null,null,null,"RN"]
[3184,"OE3OLC","RN4675","SEPP",null,null,null,null,null,null,null,null,null,null,null,null,null,null,null,null,"RN"]
[3185,"M0ETY","RN4684","STEVE",null,null,null,null,null,null,null,null,null,null,null,null,null,null,null,null,"RN"]
[3186,"G7ESM","RN4692","HOWARD",null,null,null,null,null,null,null,null,null,null,null,null,null,null,null,null,"RN"]
[3188,"DK3UZ","RN4695","EDDIE",null,null,null,null,null,null,null,null,null,null,null,null,null,null,null,null,"RN"]
[3189,"2E1ILH","RN4698","DEAN",null,null,null,null,null,null,null,null,null,null,null,null,null,null,null,null,"RN"]
[3190,"M0VNG","RN4701","MAX",null,null,null,null,null,null,null,null,null,null,null,null,null,null,null,null,"RN"]
[3191,"M0STS","RN4708","GORDON",null,null,null,null,null,null,null,null,null,null,null,null,null,null,null,null,"RN"]
[3193,"2E0MUW","RN4713","JON",null,null,null,null,null,null,null,null,null,null,null,null,null,null,null,null,"RN"]
[3194,"DL8BEL","RN4715","PETER",null,null,null,null,null,null,null,null,null,null,null,null,null,null,null,null,"RN"]
[3195,"2E0BYC","RN4718","MICK",null,null,null,null,null,null,null,null,null,null,null,null,null,null,null,null,"RN"]
[3196,"M0ROA","RN4719","ROARS",null,null,null,null,null,null,null,null,null,null,null,null,null,null,null,null,"RN"]
[3198,"G3XVF","RN4737","RICHARD",null,null,null,null,null,null,null,null,null,null,null,null,null,null,null,null,"RN"]
[3199,"DF4QP","RN4738","HANS",null,null,null,null,null,null,null,null,null,null,null,null,null,null,null,null,"RN"]
[3200,"DL3HRH","RN4739","JUERGEN",null,null,null,null,null,null,null,null,null,null,null,null,null,null,null,null,"RN"]
[3201,"2E0PLE","RN4742","GIL",null,null,null,null,null,null,null,null,null,null,null,null,null,null,null,null,"RN"]
[3203,"MI0XMN","RN4745","BILL",null,null,null,null,null,null,null,null,null,null,null,null,null,null,null,null,"RN"]
[3204,"MU3NTH","RN4749","NATHAN",null,null,null,null,null,null,null,null,null,null,null,null,null,null,null,null,"RN"]
[3205,"M0MOL","RN4754","GARETH",null,null,null,null,null,null,null,null,null,null,null,null,null,null,null,null,"RN"]
[3206,"AA1XX","RN4755","JERRY",null,null,null,null,null,null,null,null,null,null,null,null,null,null,null,null,"RN"]
[3208,"PA5PD","RN4760","ARJAN",null,null,null,null,null,null,null,null,null,null,null,null,null,null,null,null,"RN"]
[3209,"M0CNU","RN4764","TOM",null,null,null,null,null,null,null,null,null,null,null,null,null,null,null,null,"RN"]
[3210,"G3XRN","RN4768","GEOFF",null,null,null,null,null,null,null,null,null,null,null,null,null,null,null,null,"RN"]
[3211,"DL0MFH","RN4772","CLUB",null,null,null,null,null,null,null,null,null,null,null,null,null,null,null,null,"RN"]
[3213,"M0PSW","RN4778","PAUL",null,null,null,null,null,null,null,null,null,null,null,null,null,null,null,null,"RN"]
[3214,"M3PPG","RN4778","PAUL",null,null,null,null,null,null,null,null,null,null,null,null,null,null,null,null,"RN"]
[3215,"M0BZZ","RN4779","BOB",null,null,null,null,null,null,null,null,null,null,null,null,null,null,null,null,"RN"]
[3216,"G4TAD","RN4780","MARVYN",null,null,null,null,null,null,null,null,null,null,null,null,null,null,null,null,"RN"]
[3218,"N4XAT","RN4783","BOB",null,null,null,null,null,null,null,null,null,null,null,null,null,null,null,null,"RN"]
[3219,"WW2DD","RN4785","USS CASSIN",null,null,null,null,null,null,null,null,null,null,null,null,null,null,null,null,"RN"]
[3220,"G6YGP","RN4788","DAVE",null,null,null,null,null,null,null,null,null,null,null,null,null,null,null,null,"RN"]
[3221,"M0VBY","RN4789","DAVE",null,null,null,null,null,null,null,null,null,null,null,null,null,null,null,null,"RN"]
[3223,"G4GSL","RN4792","JOHN",null,null,null,null,null,null,null,null,null,null,null,null,null,null,null,null,"RN"]
[3224,"M3OSP","RN4795","PETER",null,null,null,null,null,null,null,null,null,null,null,null,null,null,null,null,"RN"]
[3225,"MW0EAT","RN4798","JOHN",null,null,null,null,null,null,null,null,null,null,null,null,null,null,null,null,"RN"]
[3226,"MM0DUC","RN4800","SANDY",null,null,null,null,null,null,null,null,null,null,null,null,null,null,null,null,"RN"]
[3228,"GW3LNR","RN4809","ARTHUR",null,null,null,null,null,null,null,null,null,null,null,null,null,null,null,null,"RN"]
[3229,"SM3CIQ","RN4810","ULF",null,null,null,null,null,null,null,null,null,null,null,null,null,null,null,null,"RN"]
[3230,"G0OAK","RN4811","BRIAN",null,null,null,null,null,null,null,null,null,null,null,null,null,null,null,null,"RN"]
[3231,"M5PSL","RN4813","PETER",null,null,null,null,null,null,null,null,null,null,null,null,null,null,null,null,"RN"]
[3233,"G4ZUQ","RN4816","BRIAN",null,null,null,null,null,null,null,null,null,null,null,null,null,null,null,null,"RN"]
[3234,"M0HJO","RN4819","JOHN",null,null,null,null,null,null,null,null,null,null,null,null,null,null,null,null,"RN"]
[3235,"G3KDW","RN4823","HARRY",null,null,null,null,null,null,null,null,null,null,null,null,null,null,null,null,"RN"]
[3236,"2M0BZZ","RN4824","BILL",null,null,null,null,null,null,null,null,null,null,null,null,null,null,null,null,"RN"]
[3238,"GB2CAV","RN4828","HMS CAVALIER",null,null,null,null,null,null,null,null,null,null,null,null,null,null,null,null,"RN"]
[3239,"G3FNZ","RN4829","JOHN",null,null,null,null,null,null,null,null,null,null,null,null,null,null,null,null,"RN"]
[3240,"2E0JJR","RN4833","REG",null,null,null,null,null,null,null,null,null,null,null,null,null,null,null,null,"RN"]
[3241,"2E0DTO","RN4834","ERIC",null,null,null,null,null,null,null,null,null,null,null,null,null,null,null,null,"RN"]
[3243,"2E0RPS","RN4835","ROD",null,null,null,null,null,null,null,null,null,null,null,null,null,null,null,null,"RN"]
[3244,"M3WYW","RN4837","MAC",null,null,null,null,null,null,null,null,null,null,null,null,null,null,null,null,"RN"]
[3245,"N9SBQ","RN4839","CHRIS",null,null,null,null,null,null,null,null,null,null,null,null,null,null,null,null,"RN"]
[3246,"M0MGF","RN4842","JASON",null,null,null,null,null,null,null,null,null,null,null,null,null,null,null,null,"RN"]
[3248,"8P9GK","RN4848","GAVIN",null,null,null,null,null,null,null,null,null,null,null,null,null,null,null,null,"RN"]
[3249,"G6DGK","RN4848","GAVIN",null,null,null,null,null,null,null,null,null,null,null,null,null,null,null,null,"RN"]
[3250,"G0BUX","RN4849","BOB",null,null,null,null,null,null,null,null,null,null,null,null,null,null,null,null,"RN"]
[3251,"W0BUX","RN4849","BOB",null,null,null,null,null,null,null,null,null,null,null,null,null,null,null,null,"RN"]
[3253,"K1USN","RN4862","USS SALEM",null,null,null,null,null,null,null,null,null,null,null,null,null,null,null,null,"RN"]
[3254,"VK3MRH","RN4864","RON",null,null,null,null,null,null,null,null,null,null,null,null,null,null,null,null,"RN"]
[3255,"DL0DMB","RN4865","CLUB",null,null,null,null,null,null,null,null,null,null,null,null,null,null,null,null,"RN"]
[3256,"M3MUB","RN4866","STAN",null,null,null,null,null,null,null,null,null,null,null,null,null,null,null,null,"RN"]
[3258,"M0SNT","RN4868","ALAN",null,null,null,null,null,null,null,null,null,null,null,null,null,null,null,null,"RN"]
[3259,"M5ALG","RN4869","ANDY",null,null,null,null,null,null,null,null,null,null,null,null,null,null,null,null,"RN"]
[3260,"M0MTA","RN4871","MARK",null,null,null,null,null,null,null,null,null,null,null,null,null,null,null,null,"RN"]
[3261,"K3ORS","RN4872","DICK",null,null,null,null,null,null,null,null,null,null,null,null,null,null,null,null,"RN"]
[3263,"2E0JVM","RN4875","ADRIAN",null,null,null,null,null,null,null,null,null,null,null,null,null,null,null,null,"RN"]
[3264,"G0TOC","RN4876","MARC",null,null,null,null,null,null,null,null,null,null,null,null,null,null,null,null,"RN"]
[3265,"G4HOF","RN4878","PATRICK",null,null,null,null,null,null,null,null,null,null,null,null,null,null,null,null,"RN"]
[3266,"M5AEC","RN4880","BARRIE",null,null,null,null,null,null,null,null,null,null,null,null,null,null,null,null,{"$f":"LEFT(C3267,2)","v":"RN"}]
[3268,"KC2TFI","RN4883","BOB",null,null,null,null,null,null,null,null,null,null,null,null,null,null,null,null,"RN"]
[3269,"M6RSB","RN4884","BOB",null,null,null,null,null,null,null,null,null,null,null,null,null,null,null,null,"RN"]
[3270,"G0RVT","RN4885","DAVE",null,null,null,null,null,null,null,null,null,null,null,null,null,null,null,null,"RN"]
[3271,"M0WAH","RN4886","ALAN",null,null,null,null,null,null,null,null,null,null,null,null,null,null,null,null,"RN"]
[3273,"G3WMZ","RN4888","LES",null,null,null,null,null,null,null,null,null,null,null,null,null,null,null,null,"RN"]
[3274,"2E0TRW","RN4889","CHRIS",null,null,null,null,null,null,null,null,null,null,null,null,null,null,null,null,"RN"]
[3275,"2E0AZK","RN4890","BERT",null,null,null,null,null,null,null,null,null,null,null,null,null,null,null,null,"RN"]
[3276,"G0LFI","RN4891","FRANK",null,null,null,null,null,null,null,null,null,null,null,null,null,null,null,null,"RN"]
[3278,"G1AYH","RN4893","MARK",null,null,null,null,null,null,null,null,null,null,null,null,null,null,null,null,"RN"]
[3279,"2E0KN","RN4894","RON",null,null,null,null,null,null,null,null,null,null,null,null,null,null,null,null,"RN"]
[3280,"M0JAD","RN4895","JOHN",null,null,null,null,null,null,null,null,null,null,null,null,null,null,null,null,"RN"]
[3281,"G4LEL","RN4896","DAVID",null,null,null,null,null,null,null,null,null,null,null,null,null,null,null,null,"RN"]
[3283,"9H1SF","RN4898","STEVEN",null,null,null,null,null,null,null,null,null,null,null,null,null,null,null,null,"RN"]
[3284,"M3TRC","RN4899","PETER",null,null,null,null,null,null,null,null,null,null,null,null,null,null,null,null,"RN"]
[3285,"G0UZJ","RN4900","KEVIN",null,null,null,null,null,null,null,null,null,null,null,null,null,null,null,null,"RN"]
[3286,"G3RJS","RN4901","PAUL",null,null,null,null,null,null,null,null,null,null,null,null,null,null,null,null,"RN"]
[3288,"G7DSU","RN4904","CHRIS",null,null,null,null,null,null,null,null,null,null,null,null,null,null,null,null,"RN"]
[3289,"GW3OQK","RN4905","ANDREW",null,null,null,null,null,null,null,null,null,null,null,null,null,null,null,null,"RN"]
[3290,"G0IUY","RN4908","JULIA",null,null,null,null,null,null,null,null,null,null,null,null,null,null,null,null,"RN"]
[3291,"2E0PIL","RN4909","PETER",null,null,null,null,null,null,null,null,null,null,null,null,null,null,null,null,"RN"]
[3293,"2E0CSH","RN4912","GRAHAM",null,null,null,null,null,null,null,null,null,null,null,null,null,null,null,null,"RN"]
[3294,"M0KJB","RN4913","KEITH",null,null,null,null,null,null,null,null,null,null,null,null,null,null,null,null,"RN"]
[3295,"IK0AAE ","RN4914","DAMIANO",null,null,null,null,null,null,null,null,null,null,null,null,null,null,null,null,"RN"]
[3296,"M0XIG","RN4915","JOHN",null,null,null,null,null,null,null,null,null,null,null,null,null,null,null,null,"RN"]
[3298,"M6BRZ","RN4917","BADGER",null,null,null,null,null,null,null,null,null,null,null,null,null,null,null,null,"RN"]
[3299,"2E0GEF","RN4918","GEOFF",null,null,null,null,null,null,null,null,null,null,null,null,null,null,null,null,"RN"]
[3300,"2E0RNO","RN4919","JERRY",null,null,null,null,null,null,null,null,null,null,null,null,null,null,null,null,"RN"]
[3301,"M0VIT","RN4919","JERRY",null,null,null,null,null,null,null,null,null,null,null,null,null,null,null,null,"RN"]
[3303,"G4TZA","RN4922","CHRIS",null,null,null,null,null,null,null,null,null,null,null,null,null,null,null,null,"RN"]
[3304,"2E1RAF","RN4923","ROY",null,null,null,null,null,null,null,null,null,null,null,null,null,null,null,null,"RN"]
[3305,"M0HFM","RN4925","BILL",null,null,null,null,null,null,null,null,null,null,null,null,null,null,null,null,"RN"]
[3306,"G3PYB","RN4926","PETER",null,null,null,null,null,null,null,null,null,null,null,null,null,null,null,null,"RN"]
[3308,"2E0SBS","RN4929","TONY",null,null,null,null,null,null,null,null,null,null,null,null,null,null,null,null,"RN"]
[3309,"G0EYJ","RN4930","FRED",null,null,null,null,null,null,null,null,null,null,null,null,null,null,null,null,"RN"]
[3310,"M3LDS","RN4931","REG",null,null,null,null,null,null,null,null,null,null,null,null,null,null,null,null,"RN"]
[3311,"G4JVJ","RN4933","ROD",null,null,null,null,null,null,null,null,null,null,null,null,null,null,null,null,"RN"]
[3313,"VK1DE","RN4936","ROBERT",null,null,null,null,null,null,null,null,null,null,null,null,null,null,null,null,"RN"]
[3314,"9H1MRC","RN4937","MARCONI",null,null,null,null,null,null,null,null,null,null,null,null,null,null,null,null,"RN"]
[3315,"MM6SZA","RN4938","GAIL",null,null,null,null,null,null,null,null,null,null,null,null,null,null,null,null,"RN"]
[3316,"G4HQA","RN4939","RICK",null,null,null,null,null,null,null,null,null,null,null,null,null,null,null,null,"RN"]
[3318,"2E0DFF","RN4942","MIKE",null,null,null,null,null,null,null,null,null,null,null,null,null,null,null,null,"RN"]
[3319,"2E0INF","RN4943","NATHAN",null,null,null,null,null,null,null,null,null,null,null,null,null,null,null,null,"RN"]
[3320,"2E0JLB","RN4944","JAMES",null,null,null,null,null,null,null,null,null,null,null,null,null,null,null,null,"RN"]
[3321,"DK9MOS","RN4946","MAREN",null,null,null,null,null,null,null,null,null,null,null,null,null,null,null,null,"RN"]
[3323,"M0HTE","RN4957","JOHN",null,null,null,null,null,null,null,null,null,null,null,null,null,null,null,null,"RN"]
[3324,"G3OSR","RN4958","PAUL",null,null,null,null,null,null,null,null,null,null,null,null,null,null,null,null,"RN"]
[3325,"MI6AHO","RN4959","ADRIAN",null,null,null,null,null,null,null,null,null,null,null,null,null,null,null,null,"RN"]
[3326,"MW3VJN","RN4960","TRISTAN",null,null,null,null,null,null,null,null,null,null,null,null,null,null,null,null,"RN"]
[3328,"2E0PPO","RN4963","JOHN",null,null,null,null,null,null,null,null,null,null,null,null,null,null,null,null,"RN"]
[3329,"M6RNS","RN4963","JOHN",null,null,null,null,null,null,null,null,null,null,null,null,null,null,null,null,"RN"]
[3330,"G0DAE","RN4964","CHRIS",null,null,null,null,null,null,null,null,null,null,null,null,null,null,null,null,{"$f":"LEFT(C3331,2)","v":"RN"}]
[3331,"G3XVL","RN4967","CHRIS",null,null,null,null,null,null,null,null,null,null,null,null,null,null,null,null,"RN"]
[3333,"M0OJO","RN4970","NICK",null,null,null,null,null,null,null,null,null,null,null,null,null,null,null,null,"RN"]
[3334,"M0NAY","RN4971","CHRIS",null,null,null,null,null,null,null,null,null,null,null,null,null,null,null,null,"RN"]
[3335,"G7SCC","RN4972","TS DRAGON",null,null,null,null,null,null,null,null,null,null,null,null,null,null,null,null,"RN"]
[3336,"VK6MMB","RN4973","MICHAEL",null,null,null,null,null,null,null,null,null,null,null,null,null,null,null,null,"RN"]
[3338,"G3CNO","RN4976","FOT PUBROOK ARC",null,null,null,null,null,null,null,null,null,null,null,null,null,null,null,null,"RN"]
[3339,"DL3NSM","RN4978","FRANK",null,null,null,null,null,null,null,null,null,null,null,null,null,null,null,null,"RN"]
[3340,"M6DHO","RN4979","LESLIE",null,null,null,null,null,null,null,null,null,null,null,null,null,null,null,null,"RN"]
[3341,"M0JTR","RN4980","JOHN",null,null,null,null,null,null,null,null,null,null,null,null,null,null,null,null,"RN"]
[3343,"G4GQL","RN4984","ALAN",null,null,null,null,null,null,null,null,null,null,null,null,null,null,null,null,"RN"]
[3344,"M6GNI","RN4985","JOHN",null,null,null,null,null,null,null,null,null,null,null,null,null,null,null,null,"RN"]
[3345,"M6XTT","RN4986","TAFF",null,null,null,null,null,null,null,null,null,null,null,null,null,null,null,null,"RN"]
[3346,"G1INF","RN4987","PETER",null,null,null,null,null,null,null,null,null,null,null,null,null,null,null,null,"RN"]
[3348,"MW1CFN","RN4989","JOHN",null,null,null,null,null,null,null,null,null,null,null,null,null,null,null,null,"RN"]
[3349,"M6FUW","RN4990","CHRIS",null,null,null,null,null,null,null,null,null,null,null,null,null,null,null,null,"RN"]
[3350,"M0VVV","RN4991","TONY",null,null,null,null,null,null,null,null,null,null,null,null,null,null,null,null,"RN"]
[3351,"G0LUH","RN4992","TONY",null,null,null,null,null,null,null,null,null,null,null,null,null,null,null,null,"RN"]
[3353,"2E0TPE","RN4995","BEN",null,null,null,null,null,null,null,null,null,null,null,null,null,null,null,null,"RN"]
[3354,"N7GJW","RN4996","SCOT",null,null,null,null,null,null,null,null,null,null,null,null,null,null,null,null,"RN"]
[3355,"MM6ZFT","RN4997","ROBERT",null,null,null,null,null,null,null,null,null,null,null,null,null,null,null,null,"RN"]
[3356,"MM6ZWT","RN4997","ROBERT",null,null,null,null,null,null,null,null,null,null,null,null,null,null,null,null,"RN"]
[3358,"G4SPS","RN4999","ROD",null,null,null,null,null,null,null,null,null,null,null,null,null,null,null,null,"RN"]
[3359,"M6SRE","RN5001","STEVE",null,null,null,null,null,null,null,null,null,null,null,null,null,null,null,null,"RN"]
[3360,"M0HSU","RN5002","STEWART",null,null,null,null,null,null,null,null,null,null,null,null,null,null,null,null,"RN"]
[3361,"M6IHH","RN5003","HUTCH",null,null,null,null,null,null,null,null,null,null,null,null,null,null,null,null,"RN"]
[3363,"M0HHM","RN5005","WILLIAM",null,null,null,null,null,null,null,null,null,null,null,null,null,null,null,null,"RN"]
[3364,"M6RZP","RN5006","RICHARD",null,null,null,null,null,null,null,null,null,null,null,null,null,null,null,null,"RN"]
[3365,"M6GZG","RN5008","JOHN",null,null,null,null,null,null,null,null,null,null,null,null,null,null,null,null,"RN"]
[3366,"DU7ET","RN5009","ROBERT",null,null,null,null,null,null,null,null,null,null,null,null,null,null,null,null,"RN"]
[3368,"G6SUV","RN5012","JOSH",null,null,null,null,null,null,null,null,null,null,null,null,null,null,null,null,"RN"]
[3369,"G1BHE","RN5013","TONY",null,null,null,null,null,null,null,null,null,null,null,null,null,null,null,null,"RN"]
[3370,"M6LFM","RN5015","ALAN",null,null,null,null,null,null,null,null,null,null,null,null,null,null,null,null,"RN"]
[3371,"2E0REE","RN5016","ANDREW",null,null,null,null,null,null,null,null,null,null,null,null,null,null,null,null,"RN"]
[3373,"EI5DD","RN5020","STEPHEN",null,null,null,null,null,null,null,null,null,null,null,null,null,null,null,null,"RN"]
[3374,"G1ZSE","RN5021","KELVIN",null,null,null,null,null,null,null,null,null,null,null,null,null,null,null,null,"RN"]
[3375,"YO3AAJ","YO003","VASILE",null,null,null,null,null,null,null,null,null,null,null,null,null,null,null,null,"YO"]
[3376,"YO4WI","YO004","NICOLAE",null,null,null,null,null,null,null,null,null,null,null,null,null,null,null,null,"YO"]
[3378,"YO4WQ","YO009","MIRCEA",null,null,null,null,null,null,null,null,null,null,null,null,null,null,null,null,"YO"]
[3379,"YO4AUL","YO010","CORNEL",null,null,null,null,null,null,null,null,null,null,null,null,null,null,null,null,"YO"]
[3380,"YO4UC","YO011","SORIN",null,null,null,null,null,null,null,null,null,null,null,null,null,null,null,null,"YO"]
[3381,"YO4CSG","YO012","GEORGE",null,null,null,null,null,null,null,null,null,null,null,null,null,null,null,null,"YO"]
[3383,"YO9DML","YO014","MIHAI",null,null,null,null,null,null,null,null,null,null,null,null,null,null,null,null,"YO"]
[3384,"YO4BTB","YO015","VIRGIL",null,null,null,null,null,null,null,null,null,null,null,null,null,null,null,null,"YO"]
[3385,"YO4DW","YO016","CORNELIUS",null,null,null,null,null,null,null,null,null,null,null,null,null,null,null,null,"YO"]
[3386,"YO4DCY","YO017","MARIAN",null,null,null,null,null,null,null,null,null,null,null,null,null,null,null,null,"YO"]
[3388,"YO4GDG","YO019","EMANOIL",null,null,null,null,null,null,null,null,null,null,null,null,null,null,null,null,"YO"]
[3389,"YO4FGW","YO020","VIOREL",null,null,null,null,null,null,null,null,null,null,null,null,null,null,null,null,"YO"]
[3390,"YO4DCF","YO021","MARIN",null,null,null,null,null,null,null,null,null,null,null,null,null,null,null,null,"YO"]
[3391,"YO4DKY","YO022","AUREL",null,null,null,null,null,null,null,null,null,null,null,null,null,null,null,null,"YO"]
[3393,"YO2DFA","YO024","OVIDIU",null,null,null,null,null,null,null,null,null,null,null,null,null,null,null,null,"YO"]
[3394,"YO4AAC","YO025","GEORGE",null,null,null,null,null,null,null,null,null,null,null,null,null,null,null,null,{"$f":"LEFT(C3395,2)","v":"YO"}]
[3395,"YO7BKU","YO026","EUGENIU",null,null,null,null,null,null,null,null,null,null,null,null,null,null,null,null,"YO"]
[3396,"YO4CSE","YO027","COSTY",null,null,null,null,null,null,null,null,null,null,null,null,null,null,null,null,"YO"]
[3398,"YO9CNZ","YO029","VALI",null,null,null,null,null,null,null,null,null,null,null,null,null,null,null,null,"YO"]
[3399,"YO4DEU","YO030","NELU",null,null,null,null,null,null,null,null,null,null,null,null,null,null,null,null,"YO"]
[3400,"YO4FHQ","YO031","NICOLAE",null,null,null,null,null,null,null,null,null,null,null,null,null,null,null,null,"YO"]
[3401,"YO5LU","YO032","OVIDIU",null,null,null,null,null,null,null,null,null,null,null,null,null,null,null,null,"YO"]
[3403,"YO4KCP","YO034","ACADEMY",null,null,null,null,null,null,null,null,null,null,null,null,null,null,null,null,"YO"]
[3404,"YO4FUM","YO035","VALENTIN",null,null,null,null,null,null,null,null,null,null,null,null,null,null,null,null,"YO"]
[3405,"YO4FPF","YO036","DAN",null,null,null,null,null,null,null,null,null,null,null,null,null,null,null,null,"YO"]
[3406,"YO6GO","YO037","MIRCEA",null,null,null,null,null,null,null,null,null,null,null,null,null,null,null,null,"YO"]
[3408,"YO4FYJ","YO040","CIPRIAN",null,null,null,null,null,null,null,null,null,null,null,null,null,null,null,null,"YO"]
[3409,"YO9CFR","YO041","ROMEO",null,null,null,null,null,null,null,null,null,null,null,null,null,null,null,null,"YO"]
[3410,"YO9FLG","YO042","LIONEL",null,null,null,null,null,null,null,null,null,null,null,null,null,null,null,null,"YO"]
[3411,"YO4FRF","YO043","COSTEL",null,null,null,null,null,null,null,null,null,null,null,null,null,null,null,null,"YO"]
[3413,"YO4FZT","YO047","MARIAN",null,null,null,null,null,null,null,null,null,null,null,null,null,null,null,null,"YO"]
[3414,"YO8RIX","YO048","CATALIN",null,null,null,null,null,null,null,null,null,null,null,null,null,null,null,null,"YO"]
[3415,"G3HZL/EI4HM","YO049","DON",null,null,null,null,null,null,null,null,null,null,null,null,null,null,null,null,"YO"]
[3416,"YO4KMR","YO050","NO NAME",null,null,null,null,null,null,null,null,null,null,null,null,null,null,null,null,"YO"]
[3418,"YO4GIY","YO052","ION",null,null,null,null,null,null,null,null,null,null,null,null,null,null,null,null,"YO"]
[3419,"YO2LDE","YO053","DANIEL",null,null,null,null,null,null,null,null,null,null,null,null,null,null,null,null,"YO"]
[3420,"I7OEB","YO055","MAURO",null,null,null,null,null,null,null,null,null,null,null,null,null,null,null,null,"YO"]
[3421,"YO4FPS","YO056","DANIEL",null,null,null,null,null,null,null,null,null,null,null,null,null,null,null,null,"YO"]
[3423,"YO4FKO","YO059","REMO",null,null,null,null,null,null,null,null,null,null,null,null,null,null,null,null,"YO"]
[3424,"YO4XZ","YO061","NICU",null,null,null,null,null,null,null,null,null,null,null,null,null,null,null,null,"YO"]
[3425,"YO4KRF","YO064","BORCEA",null,null,null,null,null,null,null,null,null,null,null,null,null,null,null,null,"YO"]
[3426,"YO4AH","YO065","BORIS",null,null,null,null,null,null,null,null,null,null,null,null,null,null,null,null,"YO"]
[3428,"YO4RDN","YO067","VALERIU",null,null,null,null,null,null,null,null,null,null,null,null,null,null,null,null,"YO"]
[3429,"YO4RFV","YO068","EUGEN",null,null,null,null,null,null,null,null,null,null,null,null,null,null,null,null,"YO"]
[3430,"YO4RXX","YO069","FLORIN",null,null,null,null,null,null,null,null,null,null,null,null,null,null,null,null,"YO"]
[3431,"YO4RIU","YO070","BOGDAN",null,null,null,null,null,null,null,null,null,null,null,null,null,null,null,null,"YO"]
[3433,"YO4DEQ","YO072","PETRU",null,null,null,null,null,null,null,null,null,null,null,null,null,null,null,null,"YO"]
[3434,"YO4WJ","YO075","MIHAI",null,null,null,null,null,null,null,null,null,null,null,null,null,null,null,null,"YO"]
[3435,"YO4GAV","YO076","NICU",null,null,null,null,null,null,null,null,null,null,null,null,null,null,null,null,"YO"]
[3436,"YO4BXT","YO078","AUREL",null,null,null,null,null,null,null,null,null,null,null,null,null,null,null,null,"YO"]
[3438,"YO4CTO","YO080","ROMEL",null,null,null,null,null,null,null,null,null,null,null,null,null,null,null,null,"YO"]
[3439,"YO4FYK","YO081","RADU",null,null,null,null,null,null,null,null,null,null,null,null,null,null,null,null,"YO"]
[3440,"YO4GPA","YO082","AUREL",null,null,null,null,null,null,null,null,null,null,null,null,null,null,null,null,"YO"]
[3441,"YO4LHR","YO083","NICUSOR",null,null,null,null,null,null,null,null,null,null,null,null,null,null,null,null,"YO"]
[3443,"YO4BBH","YO085","MACK",null,null,null,null,null,null,null,null,null,null,null,null,null,null,null,null,"YO"]
[3444,"YO4GHL","YO086","CORNEL",null,null,null,null,null,null,null,null,null,null,null,null,null,null,null,null,"YO"]
[3445,"K1BV","YO087","TED",null,null,null,null,null,null,null,null,null,null,null,null,null,null,null,null,"YO"]
[3446,"YO4FEI","YO088","BOB",null,null,null,null,null,null,null,null,null,null,null,null,null,null,null,null,"YO"]
[3448,"YO9OC","YO090","MIHAI",null,null,null,null,null,null,null,null,null,null,null,null,null,null,null,null,"YO"]
[3449,"YO4RDJ","YO091","MARIAN",null,null,null,null,null,null,null,null,null,null,null,null,null,null,null,null,"YO"]
[3450,"G4DIU","YO092","WALLY",null,null,null,null,null,null,null,null,null,null,null,null,null,null,null,null,"YO"]
[3451,"YO4BSZ","YO093","DAN",null,null,null,null,null,null,null,null,null,null,null,null,null,null,null,null,"YO"]
[3453,"YO4GGA","YO095","LUCIAN",null,null,null,null,null,null,null,null,null,null,null,null,null,null,null,null,"YO"]
[3454,"YO4BQV","YO096","GEORGE",null,null,null,null,null,null,null,null,null,null,null,null,null,null,null,null,"YO"]
[3455,"YO4WA","YO097","GEORGE",null,null,null,null,null,null,null,null,null,null,null,null,null,null,null,null,"YO"]
[3456,"YO4BGW","YO098","VASILE",null,null,null,null,null,null,null,null,null,null,null,null,null,null,null,null,"YO"]
[3458,"YO4CP/MM","YO100","MV CIRCEA",null,null,null,null,null,null,null,null,null,null,null,null,null,null,null,null,{"$f":"LEFT(C3459,2)","v":"YO"}]
[3459,"YO3AIS","YO101","NICO",null,null,null,null,null,null,null,null,null,null,null,null,null,null,null,null,"YO"]
[3460,"YV6QD","YO102","MARCEL",null,null,null,null,null,null,null,null,null,null,null,null,null,null,null,null,"YO"]
[3461,"YO4PZ","YO103","NINO",null,null,null,null,null,null,null,null,null,null,null,null,null,null,null,null,"YO"]
[3463,"YO4RTW","YO105","VILI",null,null,null,null,null,null,null,null,null,null,null,null,null,null,null,null,"YO"]
[3464,"YO4FZQ","YO106","LIVIU",null,null,null,null,null,null,null,null,null,null,null,null,null,null,null,null,"YO"]
[3465,"YO4ASD","YO107","IONEL",null,null,null,null,null,null,null,null,null,null,null,null,null,null,null,null,"YO"]
[3466,"YO4ADL","YO108","MIRCEA",null,null,null,null,null,null,null,null,null,null,null,null,null,null,null,null,"YO"]
[3468,"YO4NA","YO112","CORNEL",null,null,null,null,null,null,null,null,null,null,null,null,null,null,null,null,"YO"]
[3469,"YO4CIS","YO113","LUCIAN",null,null,null,null,null,null,null,null,null,null,null,null,null,null,null,null,"YO"]
[3470,"YO4WP","YO114","FELIX",null,null,null,null,null,null,null,null,null,null,null,null,null,null,null,null,"YO"]
[3471,"YO4FVP","YO115","RAZVAN",null,null,null,null,null,null,null,null,null,null,null,null,null,null,null,null,"YO"]
[3473,"YO4BGJ","YO118","SANDU",null,null,null,null,null,null,null,null,null,null,null,null,null,null,null,null,"YO"]
[3474,"YO2LDK","YO120","SANDU",null,null,null,null,null,null,null,null,null,null,null,null,null,null,null,null,"YO"]
[3475,"YO4CAH","YO122","DAN",null,null,null,null,null,null,null,null,null,null,null,null,null,null,null,null,"YO"]
[3476,"9M8FC","YO125","JOSEPH",null,null,null,null,null,null,null,null,null,null,null,null,null,null,null,null,"YO"]
[3478,"YO4FZV","YO127","LAUR",null,null,null,null,null,null,null,null,null,null,null,null,null,null,null,null,"YO"]
[3479,"ON4CBM","YO128","BERT",null,null,null,null,null,null,null,null,null,null,null,null,null,null,null,null,"YO"]
[3480,"YO5BJA","YO129","IOSIF",null,null,null,null,null,null,null,null,null,null,null,null,null,null,null,null,"YO"]
[3481,null,null,null,null,null,null,null,null,null,null,null,null,null,null,null,null,null,null,null,""]
[3483,null,null,null,null,null,null,null,null,null,null,null,null,null,null,null,null,null,null,null,""]
[3484,null,null,null,null,null,null,null,null,null,null,null,null,null,null,null,null,null,null,null,""]
[3485,null,null,null,null,null,null,null,null,null,null,null,null,null,null,null,null,null,null,null,""]
[3486,null,null,null,null,null,null,null,null,null,null,null,null,null,null,null,null,null,null,null,""]
[3488,null,null,null,null,null,null,null,null,null,null,null,null,null,null,null,null,null,null,null,""]
[3489,null,null,null,null,null,null,null,null,null,null,null,null,null,null,null,null,null,null,null,""]
[3490,null,null,null,null,null,null,null,null,null,null,null,null,null,null,null,null,null,null,null,""]
[3491,null,null,null,null,null,null,null,null,null,null,null,null,null,null,null,null,null,null,null,""]
[3493,null,null,null,null,null,null,null,null,null,null,null,null,null,null,null,null,null,null,null,""]
[3494,null,null,null,null,null,null,null,null,null,null,null,null,null,null,null,null,null,null,null,""]
[3495,null,null,null,null,null,null,null,null,null,null,null,null,null,null,null,null,null,null,null,""]
[3496,null,null,null,null,null,null,null,null,null,null,null,null,null,null,null,null,null,null,null,""]
[3498,null,null,null,null,null,null,null,null,null,null,null,null,null,null,null,null,null,null,null,""]
[3499,null,null,null,null,null,null,null,null,null,null,null,null,null,null,null,null,null,null,null,""]
[3500,null,null,null,null,null,null,null,null,null,null,null,null,null,null,null,null,null,null,null,""]
[3501,null,null,null,null,null,null,null,null,null,null,null,null,null,null,null,null,null,null,null,""]
[3503,null,null,null,null,null,null,null,null,null,null,null,null,null,null,null,null,null,null,null,""]
[3504,null,null,null,null,null,null,null,null,null,null,null,null,null,null,null,null,null,null,null,""]
[3505,null,null,null,null,null,null,null,null,null,null,null,null,null,null,null,null,null,null,null,""]
[3506,null,null,null,null,null,null,null,null,null,null,null,null,null,null,null,null,null,null,null,""]
[3508,null,null,null,null,null,null,null,null,null,null,null,null,null,null,null,null,null,null,null,""]
[3509,null,null,null,null,null,null,null,null,null,null,null,null,null,null,null,null,null,null,null,""]
[3510,null,null,null,null,null,null,null,null,null,null,null,null,null,null,null,null,null,null,null,""]
[3511,null,null,null,null,null,null,null,null,null,null,null,null,null,null,null,null,null,null,null,""]
[3513,null,null,null,null,null,null,null,null,null,null,null,null,null,null,null,null,null,null,null,""]
[3514,null,null,null,null,null,null,null,null,null,null,null,null,null,null,null,null,null,null,null,""]
[3515,null,null,null,null,null,null,null,null,null,null,null,null,null,null,null,null,null,null,null,""]
[3516,null,null,null,null,null,null,null,null,null,null,null,null,null,null,null,null,null,null,null,""]
[3518,null,null,null,null,null,null,null,null,null,null,null,null,null,null,null,null,null,null,null,""]
[3519,null,null,null,null,null,null,null,null,null,null,null,null,null,null,null,null,null,null,null,""]
[3520,null,null,null,null,null,null,null,null,null,null,null,null,null,null,null,null,null,null,null,""]
[3521,null,null,null,null,null,null,null,null,null,null,null,null,null,null,null,null,null,null,null,""]
[3523,null,null,null,null,null,null,null,null,null,null,null,null,null,null,null,null,null,null,null,""]
[3524,null,null,null,null,null,null,null,null,null,null,null,null,null,null,null,null,null,null,null,""]
[3525,null,null,null,null,null,null,null,null,null,null,null,null,null,null,null,null,null,null,null,""]
[3526,null,null,null,null,null,null,null,null,null,null,null,null,null,null,null,null,null,null,null,""]
[3528,null,null,null,null,null,null,null,null,null,null,null,null,null,null,null,null,null,null,null,""]
[3529,null,null,null,null,null,null,null,null,null,null,null,null,null,null,null,null,null,null,null,""]
[3530,null,null,null,null,null,null,null,null,null,null,null,null,null,null,null,null,null,null,null,""]
[3531,null,null,null,null,null,null,null,null,null,null,null,null,null,null,null,null,null,null,null,""]
[3533,null,null,null,null,null,null,null,null,null,null,null,null,null,null,null,null,null,null,null,""]
[3534,null,null,null,null,null,null,null,null,null,null,null,null,null,null,null,null,null,null,null,""]
[3535,null,null,null,null,null,null,null,null,null,null,null,null,null,null,null,null,null,null,null,""]
[3536,null,null,null,null,null,null,null,null,null,null,null,null,null,null,null,null,null,null,null,""]
[3538,null,null,null,null,null,null,null,null,null,null,null,null,null,null,null,null,null,null,null,""]
[3539,null,null,null,null,null,null,null,null,null,null,null,null,null,null,null,null,null,null,null,""]
[3540,null,null,null,null,null,null,null,null,null,null,null,null,null,null,null,null,null,null,null,""]
[3541,null,null,null,null,null,null,null,null,null,null,null,null,null,null,null,null,null,null,null,""]
[3543,null,null,null,null,null,null,null,null,null,null,null,null,null,null,null,null,null,null,null,""]
[3544,null,null,null,null,null,null,null,null,null,null,null,null,null,null,null,null,null,null,null,""]
[3545,null,null,null,null,null,null,null,null,null,null,null,null,null,null,null,null,null,null,null,""]
[3546,null,null,null,null,null,null,null,null,null,null,null,null,null,null,null,null,null,null,null,""]
[3548,null,null,null,null,null,null,null,null,null,null,null,null,null,null,null,null,null,null,null,""]
[3549,null,null,null,null,null,null,null,null,null,null,null,null,null,null,null,null,null,null,null,""]
[3550,null,null,null,null,null,null,null,null,null,null,null,null,null,null,null,null,null,null,null,""]
[3551,null,null,null,null,null,null,null,null,null,null,null,null,null,null,null,null,null,null,null,""]
[3553,null,null,null,null,null,null,null,null,null,null,null,null,null,null,null,null,null,null,null,""]
[3554,null,null,null,null,null,null,null,null,null,null,null,null,null,null,null,null,null,null,null,""]
[3555,null,null,null,null,null,null,null,null,null,null,null,null,null,null,null,null,null,null,null,""]
[3556,null,null,null,null,null,null,null,null,null,null,null,null,null,null,null,null,null,null,null,""]
[3558,null,null,null,null,null,null,null,null,null,null,null,null,null,null,null,null,null,null,null,""]
[3559,null,null,null,null,null,null,null,null,null,null,null,null,null,null,null,null,null,null,null,""]
[3560,null,null,null,null,null,null,null,null,null,null,null,null,null,null,null,null,null,null,null,""]
[3561,null,null,null,null,null,null,null,null,null,null,null,null,null,null,null,null,null,null,null,""]
[3563,null,null,null,null,null,null,null,null,null,null,null,null,null,null,null,null,null,null,null,""]
[3564,null,null,null,null,null,null,null,null,null,null,null,null,null,null,null,null,null,null,null,""]
[3565,null,null,null,null,null,null,null,null,null,null,null,null,null,null,null,null,null,null,null,""]
[3566,null,null,null,null,null,null,null,null,null,null,null,null,null,null,null,null,null,null,null,""]
[3568,null,null,null,null,null,null,null,null,null,null,null,null,null,null,null,null,null,null,null,""]
[3569,null,null,null,null,null,null,null,null,null,null,null,null,null,null,null,null,null,null,null,""]
[3570,null,null,null,null,null,null,null,null,null,null,null,null,null,null,null,null,null,null,null,""]
[3571,null,null,null,null,null,null,null,null,null,null,null,null,null,null,null,null,null,null,null,""]
[3573,null,null,null,null,null,null,null,null,null,null,null,null,null,null,null,null,null,null,null,""]
[3574,null,null,null,null,null,null,null,null,null,null,null,null,null,null,null,null,null,null,null,""]
[3575,null,null,null,null,null,null,null,null,null,null,null,null,null,null,null,null,null,null,null,""]
[3576,null,null,null,null,null,null,null,null,null,null,null,null,null,null,null,null,null,null,null,""]
[3578,null,null,null,null,null,null,null,null,null,null,null,null,null,null,null,null,null,null,null,""]
[3579,null,null,null,null,null,null,null,null,null,null,null,null,null,null,null,null,null,null,null,""]
[3580,null,null,null,null,null,null,null,null,null,null,null,null,null,null,null,null,null,null,null,""]
[3581,null,null,null,null,null,null,null,null,null,null,null,null,null,null,null,null,null,null,null,""]
[3583,null,null,null,null,null,null,null,null,null,null,null,null,null,null,null,null,null,null,null,""]
[3584,null,null,null,null,null,null,null,null,null,null,null,null,null,null,null,null,null,null,null,""]
[3585,null,null,null,null,null,null,null,null,null,null,null,null,null,null,null,null,null,null,null,""]
[3586,null,null,null,null,null,null,null,null,null,null,null,null,null,null,null,null,null,null,null,{"$f":"LEFT(C3587,2)","v":""}]
[3588,null,null,null,null,null,null,null,null,null,null,null,null,null,null,null,null,null,null,null,""]
[3589,null,null,null,null,null,null,null,null,null,null,null,null,null,null,null,null,null,null,null,""]
[3590,null,null,null,null,null,null,null,null,null,null,null,null,null,null,null,null,null,null,null,""]
[3591,null,null,null,null,null,null,null,null,null,null,null,null,null,null,null,null,null,null,null,""]
[3593,null,null,null,null,null,null,null,null,null,null,null,null,null,null,null,null,null,null,null,""]
[3594,null,null,null,null,null,null,null,null,null,null,null,null,null,null,null,null,null,null,null,""]
[3595,null,null,null,null,null,null,null,null,null,null,null,null,null,null,null,null,null,null,null,""]
[3596,null,null,null,null,null,null,null,null,null,null,null,null,null,null,null,null,null,null,null,""]
[3598,null,null,null,null,null,null,null,null,null,null,null,null,null,null,null,null,null,null,null,""]
[3599,null,null,null,null,null,null,null,null,null,null,null,null,null,null,null,null,null,null,null,""]
[3600,null,null,null,null,null,null,null,null,null,null,null,null,null,null,null,null,null,null,null,""]
[3601,null,null,null,null,null,null,null,null,null,null,null,null,null,null,null,null,null,null,null,""]
[3603,null,null,null,null,null,null,null,null,null,null,null,null,null,null,null,null,null,null,null,""]
[3604,null,null,null,null,null,null,null,null,null,null,null,null,null,null,null,null,null,null,null,""]
[3605,null,null,null,null,null,null,null,null,null,null,null,null,null,null,null,null,null,null,null,""]
[3606,null,null,null,null,null,null,null,null,null,null,null,null,null,null,null,null,null,null,null,""]
[3608,null,null,null,null,null,null,null,null,null,null,null,null,null,null,null,null,null,null,null,""]
[3609,null,null,null,null,null,null,null,null,null,null,null,null,null,null,null,null,null,null,null,""]
[3610,null,null,null,null,null,null,null,null,null,null,null,null,null,null,null,null,null,null,null,""]
[3611,null,null,null,null,null,null,null,null,null,null,null,null,null,null,null,null,null,null,null,""]
[3613,null,null,null,null,null,null,null,null,null,null,null,null,null,null,null,null,null,null,null,""]
[3614,null,null,null,null,null,null,null,null,null,null,null,null,null,null,null,null,null,null,null,""]
[3615,null,null,null,null,null,null,null,null,null,null,null,null,null,null,null,null,null,null,null,""]
[3616,null,null,null,null,null,null,null,null,null,null,null,null,null,null,null,null,null,null,null,""]
[3618,null,null,null,null,null,null,null,null,null,null,null,null,null,null,null,null,null,null,null,""]
[3619,null,null,null,null,null,null,null,null,null,null,null,null,null,null,null,null,null,null,null,""]
[3620,null,null,null,null,null,null,null,null,null,null,null,null,null,null,null,null,null,null,null,""]
[3621,null,null,null,null,null,null,null,null,null,null,null,null,null,null,null,null,null,null,null,""]
[3623,null,null,null,null,null,null,null,null,null,null,null,null,null,null,null,null,null,null,null,""]
[3624,null,null,null,null,null,null,null,null,null,null,null,null,null,null,null,null,null,null,null,""]
[3625,null,null,null,null,null,null,null,null,null,null,null,null,null,null,null,null,null,null,null,""]
[3626,null,null,null,null,null,null,null,null,null,null,null,null,null,null,null,null,null,null,null,""]
[3628,null,null,null,null,null,null,null,null,null,null,null,null,null,null,null,null,null,null,null,""]
[3629,null,null,null,null,null,null,null,null,null,null,null,null,null,null,null,null,null,null,null,""]
[3630,null,null,null,null,null,null,null,null,null,null,null,null,null,null,null,null,null,null,null,""]
[3631,null,null,null,null,null,null,null,null,null,null,null,null,null,null,null,null,null,null,null,""]
[3633,null,null,null,null,null,null,null,null,null,null,null,null,null,null,null,null,null,null,null,""]
[3634,null,null,null,null,null,null,null,null,null,null,null,null,null,null,null,null,null,null,null,""]
[3635,null,null,null,null,null,null,null,null,null,null,null,null,null,null,null,null,null,null,null,""]
[3636,null,null,null,null,null,null,null,null,null,null,null,null,null,null,null,null,null,null,null,""]
[3638,null,null,null,null,null,null,null,null,null,null,null,null,null,null,null,null,null,null,null,""]
[3639,null,null,null,null,null,null,null,null,null,null,null,null,null,null,null,null,null,null,null,""]
[3640,null,null,null,null,null,null,null,null,null,null,null,null,null,null,null,null,null,null,null,""]
[3641,null,null,null,null,null,null,null,null,null,null,null,null,null,null,null,null,null,null,null,""]
[3643,null,null,null,null,null,null,null,null,null,null,null,null,null,null,null,null,null,null,null,""]
[3644,null,null,null,null,null,null,null,null,null,null,null,null,null,null,null,null,null,null,null,""]
[3645,null,null,null,null,null,null,null,null,null,null,null,null,null,null,null,null,null,null,null,""]
[3646,null,null,null,null,null,null,null,null,null,null,null,null,null,null,null,null,null,null,null,""]
[3648,null,null,null,null,null,null,null,null,null,null,null,null,null,null,null,null,null,null,null,""]
[3649,null,null,null,null,null,null,null,null,null,null,null,null,null,null,null,null,null,null,null,""]
[3650,null,null,null,null,null,null,null,null,null,null,null,null,null,null,null,null,null,null,null,{"$f":"LEFT(C3651,2)","v":""}]
[3651,null,null,null,null,null,null,null,null,null,null,null,null,null,null,null,null,null,null,null,""]
[3653,null,null,null,null,null,null,null,null,null,null,null,null,null,null,null,null,null,null,null,""]
[3654,null,null,null,null,null,null,null,null,null,null,null,null,null,null,null,null,null,null,null,""]
[3655,null,null,null,null,null,null,null,null,null,null,null,null,null,null,null,null,null,null,null,""]
[3656,null,null,null,null,null,null,null,null,null,null,null,null,null,null,null,null,null,null,null,""]
[3658,null,null,null,null,null,null,null,null,null,null,null,null,null,null,null,null,null,null,null,""]
[3659,null,null,null,null,null,null,null,null,null,null,null,null,null,null,null,null,null,null,null,""]
[3660,null,null,null,null,null,null,null,null,null,null,null,null,null,null,null,null,null,null,null,""]
[3661,null,null,null,null,null,null,null,null,null,null,null,null,null,null,null,null,null,null,null,""]
[3663,null,null,null,null,null,null,null,null,null,null,null,null,null,null,null,null,null,null,null,""]
[3664,null,null,null,null,null,null,null,null,null,null,null,null,null,null,null,null,null,null,null,""]
[3665,null,null,null,null,null,null,null,null,null,null,null,null,null,null,null,null,null,null,null,""]
[3666,null,null,null,null,null,null,null,null,null,null,null,null,null,null,null,null,null,null,null,""]
[3668,null,null,null,null,null,null,null,null,null,null,null,null,null,null,null,null,null,null,null,""]
[3669,null,null,null,null,null,null,null,null,null,null,null,null,null,null,null,null,null,null,null,""]
[3670,null,null,null,null,null,null,null,null,null,null,null,null,null,null,null,null,null,null,null,""]
[3671,null,null,null,null,null,null,null,null,null,null,null,null,null,null,null,null,null,null,null,""]
[3673,null,null,null,null,null,null,null,null,null,null,null,null,null,null,null,null,null,null,null,""]
[3674,null,null,null,null,null,null,null,null,null,null,null,null,null,null,null,null,null,null,null,""]
[3675,null,null,null,null,null,null,null,null,null,null,null,null,null,null,null,null,null,null,null,""]
[3676,null,null,null,null,null,null,null,null,null,null,null,null,null,null,null,null,null,null,null,""]
[3678,null,null,null,null,null,null,null,null,null,null,null,null,null,null,null,null,null,null,null,""]
[3679,null,null,null,null,null,null,null,null,null,null,null,null,null,null,null,null,null,null,null,""]
[3680,null,null,null,null,null,null,null,null,null,null,null,null,null,null,null,null,null,null,null,""]
[3681,null,null,null,null,null,null,null,null,null,null,null,null,null,null,null,null,null,null,null,""]
[3683,null,null,null,null,null,null,null,null,null,null,null,null,null,null,null,null,null,null,null,""]
[3684,null,null,null,null,null,null,null,null,null,null,null,null,null,null,null,null,null,null,null,""]
[3685,null,null,null,null,null,null,null,null,null,null,null,null,null,null,null,null,null,null,null,""]
[3686,null,null,null,null,null,null,null,null,null,null,null,null,null,null,null,null,null,null,null,""]
[3688,null,null,null,null,null,null,null,null,null,null,null,null,null,null,null,null,null,null,null,""]
[3689,null,null,null,null,null,null,null,null,null,null,null,null,null,null,null,null,null,null,null,""]
[3690,null,null,null,null,null,null,null,null,null,null,null,null,null,null,null,null,null,null,null,""]
[3691,null,null,null,null,null,null,null,null,null,null,null,null,null,null,null,null,null,null,null,""]
[3693,null,null,null,null,null,null,null,null,null,null,null,null,null,null,null,null,null,null,null,""]
[3694,null,null,null,null,null,null,null,null,null,null,null,null,null,null,null,null,null,null,null,""]
[3695,null,null,null,null,null,null,null,null,null,null,null,null,null,null,null,null,null,null,null,""]
[3696,null,null,null,null,null,null,null,null,null,null,null,null,null,null,null,null,null,null,null,""]
[3698,null,null,null,null,null,null,null,null,null,null,null,null,null,null,null,null,null,null,null,""]
[3699,null,null,null,null,null,null,null,null,null,null,null,null,null,null,null,null,null,null,null,""]
[3700,null,null,null,null,null,null,null,null,null,null,null,null,null,null,null,null,null,null,null,""]
[3701,null,null,null,null,null,null,null,null,null,null,null,null,null,null,null,null,null,null,null,""]
[3703,null,null,null,null,null,null,null,null,null,null,null,null,null,null,null,null,null,null,null,""]
[3704,null,null,null,null,null,null,null,null,null,null,null,null,null,null,null,null,null,null,null,""]
[3705,null,null,null,null,null,null,null,null,null,null,null,null,null,null,null,null,null,null,null,""]
[3706,null,null,null,null,null,null,null,null,null,null,null,null,null,null,null,null,null,null,null,""]
[3708,null,null,null,null,null,null,null,null,null,null,null,null,null,null,null,null,null,null,null,""]
[3709,null,null,null,null,null,null,null,null,null,null,null,null,null,null,null,null,null,null,null,""]
[3710,null,null,null,null,null,null,null,null,null,null,null,null,null,null,null,null,null,null,null,""]
[3711,null,null,null,null,null,null,null,null,null,null,null,null,null,null,null,null,null,null,null,""]
[3713,null,null,null,null,null,null,null,null,null,null,null,null,null,null,null,null,null,null,null,""]
[3714,null,null,null,null,null,null,null,null,null,null,null,null,null,null,null,null,null,null,null,{"$f":"LEFT(C3715,2)","v":""}]
[3715,null,null,null,null,null,null,null,null,null,null,null,null,null,null,null,null,null,null,null,""]
[3716,null,null,null,null,null,null,null,null,null,null,null,null,null,null,null,null,null,null,null,""]
[3718,null,null,null,null,null,null,null,null,null,null,null,null,null,null,null,null,null,null,null,""]
[3719,null,null,null,null,null,null,null,null,null,null,null,null,null,null,null,null,null,null,null,""]
[3720,null,null,null,null,null,null,null,null,null,null,null,null,null,null,null,null,null,null,null,""]
[3721,null,null,null,null,null,null,null,null,null,null,null,null,null,null,null,null,null,null,null,""]
[3723,null,null,null,null,null,null,null,null,null,null,null,null,null,null,null,null,null,null,null,""]
[3724,null,null,null,null,null,null,null,null,null,null,null,null,null,null,null,null,null,null,null,""]
[3725,null,null,null,null,null,null,null,null,null,null,null,null,null,null,null,null,null,null,null,""]
[3726,null,null,null,null,null,null,null,null,null,null,null,null,null,null,null,null,null,null,null,""]
[3728,null,null,null,null,null,null,null,null,null,null,null,null,null,null,null,null,null,null,null,""]
[3729,null,null,null,null,null,null,null,null,null,null,null,null,null,null,null,null,null,null,null,""]
[3730,null,null,null,null,null,null,null,null,null,null,null,null,null,null,null,null,null,null,null,""]
[3731,null,null,null,null,null,null,null,null,null,null,null,null,null,null,null,null,null,null,null,""]
[3733,null,null,null,null,null,null,null,null,null,null,null,null,null,null,null,null,null,null,null,""]
[3734,null,null,null,null,null,null,null,null,null,null,null,null,null,null,null,null,null,null,null,""]
[3735,null,null,null,null,null,null,null,null,null,null,null,null,null,null,null,null,null,null,null,""]
[3736,null,null,null,null,null,null,null,null,null,null,null,null,null,null,null,null,null,null,null,""]
[3738,null,null,null,null,null,null,null,null,null,null,null,null,null,null,null,null,null,null,null,""]
[3739,null,null,null,null,null,null,null,null,null,null,null,null,null,null,null,null,null,null,null,""]
[3740,null,null,null,null,null,null,null,null,null,null,null,null,null,null,null,null,null,null,null,""]
[3741,null,null,null,null,null,null,null,null,null,null,null,null,null,null,null,null,null,null,null,""]
[3743,null,null,null,null,null,null,null,null,null,null,null,null,null,null,null,null,null,null,null,""]
[3744,null,null,null,null,null,null,null,null,null,null,null,null,null,null,null,null,null,null,null,""]
[3745,null,null,null,null,null,null,null,null,null,null,null,null,null,null,null,null,null,null,null,""]
[3746,null,null,null,null,null,null,null,null,null,null,null,null,null,null,null,null,null,null,null,""]
[3748,null,null,null,null,null,null,null,null,null,null,null,null,null,null,null,null,null,null,null,""]
[3749,null,null,null,null,null,null,null,null,null,null,null,null,null,null,null,null,null,null,null,""]
[3750,null,null,null,null,null,null,null,null,null,null,null,null,null,null,null,null,null,null,null,""]
[3751,null,null,null,null,null,null,null,null,null,null,null,null,null,null,null,null,null,null,null,""]
[3753,null,null,null,null,null,null,null,null,null,null,null,null,null,null,null,null,null,null,null,""]
[3754,null,null,null,null,null,null,null,null,null,null,null,null,null,null,null,null,null,null,null,""]
[3755,null,null,null,null,null,null,null,null,null,null,null,null,null,null,null,null,null,null,null,""]
[3756,null,null,null,null,null,null,null,null,null,null,null,null,null,null,null,null,null,null,null,""]
[3758,null,null,null,null,null,null,null,null,null,null,null,null,null,null,null,null,null,null,null,""]
[3759,null,null,null,null,null,null,null,null,null,null,null,null,null,null,null,null,null,null,null,""]
[3760,null,null,null,null,null,null,null,null,null,null,null,null,null,null,null,null,null,null,null,""]
[3761,null,null,null,null,null,null,null,null,null,null,null,null,null,null,null,null,null,null,null,""]
[3763,null,null,null,null,null,null,null,null,null,null,null,null,null,null,null,null,null,null,null,""]
[3764,null,null,null,null,null,null,null,null,null,null,null,null,null,null,null,null,null,null,null,""]
[3765,null,null,null,null,null,null,null,null,null,null,null,null,null,null,null,null,null,null,null,""]
[3766,null,null,null,null,null,null,null,null,null,null,null,null,null,null,null,null,null,null,null,""]
[3768,null,null,null,null,null,null,null,null,null,null,null,null,null,null,null,null,null,null,null,""]
[3769,null,null,null,null,null,null,null,null,null,null,null,null,null,null,null,null,null,null,null,""]
[3770,null,null,null,null,null,null,null,null,null,null,null,null,null,null,null,null,null,null,null,""]
[3771,null,null,null,null,null,null,null,null,null,null,null,null,null,null,null,null,null,null,null,""]
[3773,null,null,null,null,null,null,null,null,null,null,null,null,null,null,null,null,null,null,null,""]
[3774,null,null,null,null,null,null,null,null,null,null,null,null,null,null,null,null,null,null,null,""]
[3775,null,null,null,null,null,null,null,null,null,null,null,null,null,null,null,null,null,null,null,""]
[3776,null,null,null,null,null,null,null,null,null,null,null,null,null,null,null,null,null,null,null,""]
[3778,null,null,null,null,null,null,null,null,null,null,null,null,null,null,null,null,null,null,null,{"$f":"LEFT(C3779,2)","v":""}]
[3779,null,null,null,null,null,null,null,null,null,null,null,null,null,null,null,null,null,null,null,""]
[3780,null,null,null,null,null,null,null,null,null,null,null,null,null,null,null,null,null,null,null,""]
[3781,null,null,null,null,null,null,null,null,null,null,null,null,null,null,null,null,null,null,null,""]
[3783,null,null,null,null,null,null,null,null,null,null,null,null,null,null,null,null,null,null,null,""]
[3784,null,null,null,null,null,null,null,null,null,null,null,null,null,null,null,null,null,null,null,""]
[3785,null,null,null,null,null,null,null,null,null,null,null,null,null,null,null,null,null,null,null,""]
[3786,null,null,null,null,null,null,null,null,null,null,null,null,null,null,null,null,null,null,null,""]
[3788,null,null,null,null,null,null,null,null,null,null,null,null,null,null,null,null,null,null,null,""]
[3789,null,null,null,null,null,null,null,null,null,null,null,null,null,null,null,null,null,null,null,""]
[3790,null,null,null,null,null,null,null,null,null,null,null,null,null,null,null,null,null,null,null,""]
[3791,null,null,null,null,null,null,null,null,null,null,null,null,null,null,null,null,null,null,null,""]
[3793,null,null,null,null,null,null,null,null,null,null,null,null,null,null,null,null,null,null,null,""]
[3794,null,null,null,null,null,null,null,null,null,null,null,null,null,null,null,null,null,null,null,""]
[3795,null,null,null,null,null,null,null,null,null,null,null,null,null,null,null,null,null,null,null,""]
[3796,null,null,null,null,null,null,null,null,null,null,null,null,null,null,null,null,null,null,null,""]
[3798,null,null,null,null,null,null,null,null,null,null,null,null,null,null,null,null,null,null,null,""]
[3799,null,null,null,null,null,null,null,null,null,null,null,null,null,null,null,null,null,null,null,""]
[3800,null,null,null,null,null,null,null,null,null,null,null,null,null,null,null,null,null,null,null,""]
[3801,null,null,null,null,null,null,null,null,null,null,null,null,null,null,null,null,null,null,null,""]
[3803,null,null,null,null,null,null,null,null,null,null,null,null,null,null,null,null,null,null,null,""]
[3804,null,null,null,null,null,null,null,null,null,null,null,null,null,null,null,null,null,null,null,""]
[3805,null,null,null,null,null,null,null,null,null,null,null,null,null,null,null,null,null,null,null,""]
[3806,null,null,null,null,null,null,null,null,null,null,null,null,null,null,null,null,null,null,null,""]
[3808,null,null,null,null,null,null,null,null,null,null,null,null,null,null,null,null,null,null,null,""]
[3809,null,null,null,null,null,null,null,null,null,null,null,null,null,null,null,null,null,null,null,""]
[3810,null,null,null,null,null,null,null,null,null,null,null,null,null,null,null,null,null,null,null,""]
[3811,null,null,null,null,null,null,null,null,null,null,null,null,null,null,null,null,null,null,null,""]
[3813,null,null,null,null,null,null,null,null,null,null,null,null,null,null,null,null,null,null,null,""]
[3814,null,null,null,null,null,null,null,null,null,null,null,null,null,null,null,null,null,null,null,""]
[3815,null,null,null,null,null,null,null,null,null,null,null,null,null,null,null,null,null,null,null,""]
[3816,null,null,null,null,null,null,null,null,null,null,null,null,null,null,null,null,null,null,null,""]
[3818,null,null,null,null,null,null,null,null,null,null,null,null,null,null,null,null,null,null,null,""]
[3819,null,null,null,null,null,null,null,null,null,null,null,null,null,null,null,null,null,null,null,""]
[3820,null,null,null,null,null,null,null,null,null,null,null,null,null,null,null,null,null,null,null,""]
[3821,null,null,null,null,null,null,null,null,null,null,null,null,null,null,null,null,null,null,null,""]
[3823,null,null,null,null,null,null,null,null,null,null,null,null,null,null,null,null,null,null,null,""]
[3824,null,null,null,null,null,null,null,null,null,null,null,null,null,null,null,null,null,null,null,""]
[3825,null,null,null,null,null,null,null,null,null,null,null,null,null,null,null,null,null,null,null,""]
[3826,null,null,null,null,null,null,null,null,null,null,null,null,null,null,null,null,null,null,null,""]
[3828,null,null,null,null,null,null,null,null,null,null,null,null,null,null,null,null,null,null,null,""]
[3829,null,null,null,null,null,null,null,null,null,null,null,null,null,null,null,null,null,null,null,""]
[3830,null,null,null,null,null,null,null,null,null,null,null,null,null,null,null,null,null,null,null,""]
[3831,null,null,null,null,null,null,null,null,null,null,null,null,null,null,null,null,null,null,null,""]
[3833,null,null,null,null,null,null,null,null,null,null,null,null,null,null,null,null,null,null,null,""]
[3834,null,null,null,null,null,null,null,null,null,null,null,null,null,null,null,null,null,null,null,""]
[3835,null,null,null,null,null,null,null,null,null,null,null,null,null,null,null,null,null,null,null,""]
[3836,null,null,null,null,null,null,null,null,null,null,null,null,null,null,null,null,null,null,null,""]
[3838,null,null,null,null,null,null,null,null,null,null,null,null,null,null,null,null,null,null,null,""]
[3839,null,null,null,null,null,null,null,null,null,null,null,null,null,null,null,null,null,null,null,""]
[3840,null,null,null,null,null,null,null,null,null,null,null,null,null,null,null,null,null,null,null,""]
[3841,null,null,null,null,null,null,null,null,null,null,null,null,null,null,null,null,null,null,null,""]
[3843,null,null,null,null,null,null,null,null,null,null,null,null,null,null,null,null,null,null,null,""]
[3844,null,null,null,null,null,null,null,null,null,null,null,null,null,null,null,null,null,null,null,""]
[3845,null,null,null,null,null,null,null,null,null,null,null,null,null,null,null,null,null,null,null,""]
[3846,null,null,null,null,null,null,null,null,null,null,null,null,null,null,null,null,null,null,null,""]
[3848,null,null,null,null,null,null,null,null,null,null,null,null,null,null,null,null,null,null,null,""]
[3849,null,null,null,null,null,null,null,null,null,null,null,null,null,null,null,null,null,null,null,""]
[3850,null,null,null,null,null,null,null,null,null,null,null,null,null,null,null,null,null,null,null,""]
[3851,null,null,null,null,null,null,null,null,null,null,null,null,null,null,null,null,null,null,null,""]
[3853,null,null,null,null,null,null,null,null,null,null,null,null,null,null,null,null,null,null,null,""]
[3854,null,null,null,null,null,null,null,null,null,null,null,null,null,null,null,null,null,null,null,""]
[3855,null,null,null,null,null,null,null,null,null,null,null,null,null,null,null,null,null,null,null,""]
[3856,null,null,null,null,null,null,null,null,null,null,null,null,null,null,null,null,null,null,null,""]
[3858,null,null,null,null,null,null,null,null,null,null,null,null,null,null,null,null,null,null,null,""]
[3859,null,null,null,null,null,null,null,null,null,null,null,null,null,null,null,null,null,null,null,""]
[3860,null,null,null,null,null,null,null,null,null,null,null,null,null,null,null,null,null,null,null,""]
[3861,null,null,null,null,null,null,null,null,null,null,null,null,null,null,null,null,null,null,null,""]
[3863,null,null,null,null,null,null,null,null,null,null,null,null,null,null,null,null,null,null,null,""]
[3864,null,null,null,null,null,null,null,null,null,null,null,null,null,null,null,null,null,null,null,""]
[3865,null,null,null,null,null,null,null,null,null,null,null,null,null,null,null,null,null,null,null,""]
[3866,null,null,null,null,null,null,null,null,null,null,null,null,null,null,null,null,null,null,null,""]
[3868,null,null,null,null,null,null,null,null,null,null,null,null,null,null,null,null,null,null,null,""]
[3869,null,null,null,null,null,null,null,null,null,null,null,null,null,null,null,null,null,null,null,""]
[3870,null,null,null,null,null,null,null,null,null,null,null,null,null,null,null,null,null,null,null,""]
[3871,null,null,null,null,null,null,null,null,null,null,null,null,null,null,null,null,null,null,null,""]
[3873,null,null,null,null,null,null,null,null,null,null,null,null,null,null,null,null,null,null,null,""]
[3874,null,null,null,null,null,null,null,null,null,null,null,null,null,null,null,null,null,null,null,""]
[3876,null,null,null,null,null,null,null,null,null,null,null,null,null,null,null,null,null,null,null,""]
[3877,null,null,null,null,null,null,null,null,null,null,null,null,null,null,null,null,null,null,null,""]
[3878,null,null,null,null,null,null,null,null,null,null,null,null,null,null,null,null,null,null,null,""]
[3879,null,null,null,null,null,null,null,null,null,null,null,null,null,null,null,null,null,null,null,""]
[3881,null,null,null,null,null,null,null,null,null,null,null,null,null,null,null,null,null,null,null,""]
[3882,null,null,null,null,null,null,null,null,null,null,null,null,null,null,null,null,null,null,null,""]
[3883,null,null,null,null,null,null,null,null,null,null,null,null,null,null,null,null,null,null,null,""]
[3884,null,null,null,null,null,null,null,null,null,null,null,null,null,null,null,null,null,null,null,""]
[3886,null,null,null,null,null,null,null,null,null,null,null,null,null,null,null,null,null,null,null,""]
[3887,null,null,null,null,null,null,null,null,null,null,null,null,null,null,null,null,null,null,null,""]
[3888,null,null,null,null,null,null,null,null,null,null,null,null,null,null,null,null,null,null,null,""]
[3889,null,null,null,null,null,null,null,null,null,null,null,null,null,null,null,null,null,null,null,""]
[3891,null,null,null,null,null,null,null,null,null,null,null,null,null,null,null,null,null,null,null,""]
[3892,null,null,null,null,null,null,null,null,null,null,null,null,null,null,null,null,null,null,null,""]
[3893,null,null,null,null,null,null,null,null,null,null,null,null,null,null,null,null,null,null,null,""]
[3894,null,null,null,null,null,null,null,null,null,null,null,null,null,null,null,null,null,null,null,""]
[3896,null,null,null,null,null,null,null,null,null,null,null,null,null,null,null,null,null,null,null,""]
[3897,null,null,null,null,null,null,null,null,null,null,null,null,null,null,null,null,null,null,null,""]
[3898,null,null,null,null,null,null,null,null,null,null,null,null,null,null,null,null,null,null,null,""]
[3899,null,null,null,null,null,null,null,null,null,null,null,null,null,null,null,null,null,null,null,""]
[3901,null,null,null,null,null,null,null,null,null,null,null,null,null,null,null,null,null,null,null,""]
[3902,null,null,null,null,null,null,null,null,null,null,null,null,null,null,null,null,null,null,null,""]
[3903,null,null,null,null,null,null,null,null,null,null,null,null,null,null,null,null,null,null,null,""]
[3904,null,null,null,null,null,null,null,null,null,null,null,null,null,null,null,null,null,null,null,""]
[3906,null,null,null,null,null,null,null,null,null,null,null,null,null,null,null,null,null,null,null,{"$f":"LEFT(C3907,2)","v":""}]
[3907,null,null,null,null,null,null,null,null,null,null,null,null,null,null,null,null,null,null,null,""]
[3908,null,null,null,null,null,null,null,null,null,null,null,null,null,null,null,null,null,null,null,""]
[3909,null,null,null,null,null,null,null,null,null,null,null,null,null,null,null,null,null,null,null,""]
[3911,null,null,null,null,null,null,null,null,null,null,null,null,null,null,null,null,null,null,null,""]
[3912,null,null,null,null,null,null,null,null,null,null,null,null,null,null,null,null,null,null,null,""]
[3913,null,null,null,null,null,null,null,null,null,null,null,null,null,null,null,null,null,null,null,""]
[3914,null,null,null,null,null,null,null,null,null,null,null,null,null,null,null,null,null,null,null,""]
[3916,null,null,null,null,null,null,null,null,null,null,null,null,null,null,null,null,null,null,null,""]
[3917,null,null,null,null,null,null,null,null,null,null,null,null,null,null,null,null,null,null,null,""]
[3918,null,null,null,null,null,null,null,null,null,null,null,null,null,null,null,null,null,null,null,""]
[3919,null,null,null,null,null,null,null,null,null,null,null,null,null,null,null,null,null,null,null,""]
[3921,null,null,null,null,null,null,null,null,null,null,null,null,null,null,null,null,null,null,null,""]
[3922,null,null,null,null,null,null,null,null,null,null,null,null,null,null,null,null,null,null,null,""]
[3923,null,null,null,null,null,null,null,null,null,null,null,null,null,null,null,null,null,null,null,""]
[3924,null,null,null,null,null,null,null,null,null,null,null,null,null,null,null,null,null,null,null,""]
[3926,null,null,null,null,null,null,null,null,null,null,null,null,null,null,null,null,null,null,null,""]
[3927,null,null,null,null,null,null,null,null,null,null,null,null,null,null,null,null,null,null,null,""]
[3928,null,null,null,null,null,null,null,null,null,null,null,null,null,null,null,null,null,null,null,""]
[3929,null,null,null,null,null,null,null,null,null,null,null,null,null,null,null,null,null,null,null,""]
[3931,null,null,null,null,null,null,null,null,null,null,null,null,null,null,null,null,null,null,null,""]
[3932,null,null,null,null,null,null,null,null,null,null,null,null,null,null,null,null,null,null,null,""]
[3933,null,null,null,null,null,null,null,null,null,null,null,null,null,null,null,null,null,null,null,""]
[3934,null,null,null,null,null,null,null,null,null,null,null,null,null,null,null,null,null,null,null,""]
[3936,null,null,null,null,null,null,null,null,null,null,null,null,null,null,null,null,null,null,null,""]
[3937,null,null,null,null,null,null,null,null,null,null,null,null,null,null,null,null,null,null,null,""]
[3938,null,null,null,null,null,null,null,null,null,null,null,null,null,null,null,null,null,null,null,""]
[3939,null,null,null,null,null,null,null,null,null,null,null,null,null,null,null,null,null,null,null,""]
[3941,null,null,null,null,null,null,null,null,null,null,null,null,null,null,null,null,null,null,null,""]
[3942,null,null,null,null,null,null,null,null,null,null,null,null,null,null,null,null,null,null,null,""]
[3943,null,null,null,null,null,null,null,null,null,null,null,null,null,null,null,null,null,null,null,""]
[3944,null,null,null,null,null,null,null,null,null,null,null,null,null,null,null,null,null,null,null,""]
[3946,null,null,null,null,null,null,null,null,null,null,null,null,null,null,null,null,null,null,null,""]
[3947,null,null,null,null,null,null,null,null,null,null,null,null,null,null,null,null,null,null,null,""]
[3948,null,null,null,null,null,null,null,null,null,null,null,null,null,null,null,null,null,null,null,""]
[3949,null,null,null,null,null,null,null,null,null,null,null,null,null,null,null,null,null,null,null,""]
[3951,null,null,null,null,null,null,null,null,null,null,null,null,null,null,null,null,null,null,null,""]
[3952,null,null,null,null,null,null,null,null,null,null,null,null,null,null,null,null,null,null,null,""]
[3953,null,null,null,null,null,null,null,null,null,null,null,null,null,null,null,null,null,null,null,""]
[3954,null,null,null,null,null,null,null,null,null,null,null,null,null,null,null,null,null,null,null,""]
[3956,null,null,null,null,null,null,null,null,null,null,null,null,null,null,null,null,null,null,null,""]
[3957,null,null,null,null,null,null,null,null,null,null,null,null,null,null,null,null,null,null,null,""]
[3958,null,null,null,null,null,null,null,null,null,null,null,null,null,null,null,null,null,null,null,""]
[3959,null,null,null,null,null,null,null,null,null,null,null,null,null,null,null,null,null,null,null,""]
[3961,null,null,null,null,null,null,null,null,null,null,null,null,null,null,null,null,null,null,null,""]
[3962,null,null,null,null,null,null,null,null,null,null,null,null,null,null,null,null,null,null,null,""]
[3963,null,null,null,null,null,null,null,null,null,null,null,null,null,null,null,null,null,null,null,""]
[3964,null,null,null,null,null,null,null,null,null,null,null,null,null,null,null,null,null,null,null,""]
[3966,null,null,null,null,null,null,null,null,null,null,null,null,null,null,null,null,null,null,null,""]
[3967,null,null,null,null,null,null,null,null,null,null,null,null,null,null,null,null,null,null,null,""]
[3968,null,null,null,null,null,null,null,null,null,null,null,null,null,null,null,null,null,null,null,""]
[3969,null,null,null,null,null,null,null,null,null,null,null,null,null,null,null,null,null,null,null,""]
[3971,null,null,null,null,null,null,null,null,null,null,null,null,null,null,null,null,null,null,null,""]
[3972,null,null,null,null,null,null,null,null,null,null,null,null,null,null,null,null,null,null,null,""]
[3973,null,null,null,null,null,null,null,null,null,null,null,null,null,null,null,null,null,null,null,""]
[3974,null,null,null,null,null,null,null,null,null,null,null,null,null,null,null,null,null,null,null,""]
[3976,null,null,null,null,null,null,null,null,null,null,null,null,null,null,null,null,null,null,null,""]
[3977,null,null,null,null,null,null,null,null,null,null,null,null,null,null,null,null,null,null,null,""]
[3978,null,null,null,null,null,null,null,null,null,null,null,null,null,null,null,null,null,null,null,""]
[3979,null,null,null,null,null,null,null,null,null,null,null,null,null,null,null,null,null,null,null,""]
[3981,null,null,null,null,null,null,null,null,null,null,null,null,null,null,null,null,null,null,null,""]
[3982,null,null,null,null,null,null,null,null,null,null,null,null,null,null,null,null,null,null,null,""]
[3983,null,null,null,null,null,null,null,null,null,null,null,null,null,null,null,null,null,null,null,""]
[3984,null,null,null,null,null,null,null,null,null,null,null,null,null,null,null,null,null,null,null,""]
[3986,null,null,null,null,null,null,null,null,null,null,null,null,null,null,null,null,null,null,null,""]
[3987,null,null,null,null,null,null,null,null,null,null,null,null,null,null,null,null,null,null,null,""]
[3988,null,null,null,null,null,null,null,null,null,null,null,null,null,null,null,null,null,null,null,""]
[3989,null,null,null,null,null,null,null,null,null,null,null,null,null,null,null,null,null,null,null,""]
[3991,null,null,null,null,null,null,null,null,null,null,null,null,null,null,null,null,null,null,null,""]
[3992,null,null,null,null,null,null,null,null,null,null,null,null,null,null,null,null,null,null,null,""]
[3993,null,null,null,null,null,null,null,null,null,null,null,null,null,null,null,null,null,null,null,""]
[3994,null,null,null,null,null,null,null,null,null,null,null,null,null,null,null,null,null,null,null,""]
[3996,null,null,null,null,null,null,null,null,null,null,null,null,null,null,null,null,null,null,null,""]
[3997,null,null,null,null,null,null,null,null,null,null,null,null,null,null,null,null,null,null,null,""]
[3998,null,null,null,null,null,null,null,null,null,null,null,null,null,null,null,null,null,null,null,""]
[3999,null,null,null,null,null,null,null,null,null,null,null,null,null,null,null,null,null,null,null,""]
[4001,null,null,null,null,null,null,null,null,null,null,null,null,null,null,null,null,null,null,null,""]
[4002,null,null,null,null,null,null,null,null,null,null,null,null,null,null,null,null,null,null,null,""]
[4003,null,null,null,null,null,null,null,null,null,null,null,null,null,null,null,null,null,null,null,""]
[4004,null,null,null,null,null,null,null,null,null,null,null,null,null,null,null,null,null,null,null,""]
[4006,null,null,null,null,null,null,null,null,null,null,null,null,null,null,null,null,null,null,null,""]
[4007,null,null,null,null,null,null,null,null,null,null,null,null,null,null,null,null,null,null,null,""]
[4008,null,null,null,null,null,null,null,null,null,null,null,null,null,null,null,null,null,null,null,""]
[4009,null,null,null,null,null,null,null,null,null,null,null,null,null,null,null,null,null,null,null,""]
[4011,null,null,null,null,null,null,null,null,null,null,null,null,null,null,null,null,null,null,null,""]
[4012,null,null,null,null,null,null,null,null,null,null,null,null,null,null,null,null,null,null,null,""]
[4013,null,null,null,null,null,null,null,null,null,null,null,null,null,null,null,null,null,null,null,""]
[4014,null,null,null,null,null,null,null,null,null,null,null,null,null,null,null,null,null,null,null,""]
[4016,null,null,null,null,null,null,null,null,null,null,null,null,null,null,null,null,null,null,null,""]
[4017,null,null,null,null,null,null,null,null,null,null,null,null,null,null,null,null,null,null,null,""]
[4018,null,null,null,null,null,null,null,null,null,null,null,null,null,null,null,null,null,null,null,""]
[4019,null,null,null,null,null,null,null,null,null,null,null,null,null,null,null,null,null,null,null,""]
[4021,null,null,null,null,null,null,null,null,null,null,null,null,null,null,null,null,null,null,null,""]
[4022,null,null,null,null,null,null,null,null,null,null,null,null,null,null,null,null,null,null,null,""]
[4023,null,null,null,null,null,null,null,null,null,null,null,null,null,null,null,null,null,null,null,""]
[4024,null,null,null,null,null,null,null,null,null,null,null,null,null,null,null,null,null,null,null,""]
[4026,null,null,null,null,null,null,null,null,null,null,null,null,null,null,null,null,null,null,null,""]
[4027,null,null,null,null,null,null,null,null,null,null,null,null,null,null,null,null,null,null,null,""]
[4028,null,null,null,null,null,null,null,null,null,null,null,null,null,null,null,null,null,null,null,""]
[4029,null,null,null,null,null,null,null,null,null,null,null,null,null,null,null,null,null,null,null,""]
[4031,null,null,null,null,null,null,null,null,null,null,null,null,null,null,null,null,null,null,null,""]
[4032,null,null,null,null,null,null,null,null,null,null,null,null,null,null,null,null,null,null,null,""]
[4033,null,null,null,null,null,null,null,null,null,null,null,null,null,null,null,null,null,null,null,""]
[4034,null,null,null,null,null,null,null,null,null,null,null,null,null,null,null,null,null,null,null,{"$f":"LEFT(C4035,2)","v":""}]
[4036,null,null,null,null,null,null,null,null,null,null,null,null,null,null,null,null,null,null,null,""]
[4037,null,null,null,null,null,null,null,null,null,null,null,null,null,null,null,null,null,null,null,""]
[4038,null,null,null,null,null,null,null,null,null,null,null,null,null,null,null,null,null,null,null,""]
[4039,null,null,null,null,null,null,null,null,null,null,null,null,null,null,null,null,null,null,null,""]
[4041,null,null,null,null,null,null,null,null,null,null,null,null,null,null,null,null,null,null,null,""]
[4042,null,null,null,null,null,null,null,null,null,null,null,null,null,null,null,null,null,null,null,""]
[4043,null,null,null,null,null,null,null,null,null,null,null,null,null,null,null,null,null,null,null,""]
[4044,null,null,null,null,null,null,null,null,null,null,null,null,null,null,null,null,null,null,null,""]
[4046,null,null,null,null,null,null,null,null,null,null,null,null,null,null,null,null,null,null,null,""]
[4047,null,null,null,null,null,null,null,null,null,null,null,null,null,null,null,null,null,null,null,""]
[4048,null,null,null,null,null,null,null,null,null,null,null,null,null,null,null,null,null,null,null,""]
[4049,null,null,null,null,null,null,null,null,null,null,null,null,null,null,null,null,null,null,null,""]
[4051,null,null,null,null,null,null,null,null,null,null,null,null,null,null,null,null,null,null,null,""]
[4052,null,null,null,null,null,null,null,null,null,null,null,null,null,null,null,null,null,null,null,""]
[4053,null,null,null,null,null,null,null,null,null,null,null,null,null,null,null,null,null,null,null,""]
[4054,null,null,null,null,null,null,null,null,null,null,null,null,null,null,null,null,null,null,null,""]
[4056,null,null,null,null,null,null,null,null,null,null,null,null,null,null,null,null,null,null,null,""]
[4057,null,null,null,null,null,null,null,null,null,null,null,null,null,null,null,null,null,null,null,""]
[4058,null,null,null,null,null,null,null,null,null,null,null,null,null,null,null,null,null,null,null,""]
[4059,null,null,null,null,null,null,null,null,null,null,null,null,null,null,null,null,null,null,null,""]
[4061,null,null,null,null,null,null,null,null,null,null,null,null,null,null,null,null,null,null,null,""]
[4062,null,null,null,null,null,null,null,null,null,null,null,null,null,null,null,null,null,null,null,""]
[4063,null,null,null,null,null,null,null,null,null,null,null,null,null,null,null,null,null,null,null,""]
[4064,null,null,null,null,null,null,null,null,null,null,null,null,null,null,null,null,null,null,null,""]
[4066,null,null,null,null,null,null,null,null,null,null,null,null,null,null,null,null,null,null,null,""]
[4067,null,null,null,null,null,null,null,null,null,null,null,null,null,null,null,null,null,null,null,""]
[4068,null,null,null,null,null,null,null,null,null,null,null,null,null,null,null,null,null,null,null,""]
[4069,null,null,null,null,null,null,null,null,null,null,null,null,null,null,null,null,null,null,null,""]
[4071,null,null,null,null,null,null,null,null,null,null,null,null,null,null,null,null,null,null,null,""]
[4072,null,null,null,null,null,null,null,null,null,null,null,null,null,null,null,null,null,null,null,""]
[4073,null,null,null,null,null,null,null,null,null,null,null,null,null,null,null,null,null,null,null,""]
[4074,null,null,null,null,null,null,null,null,null,null,null,null,null,null,null,null,null,null,null,""]
[4076,null,null,null,null,null,null,null,null,null,null,null,null,null,null,null,null,null,null,null,""]
[4077,null,null,null,null,null,null,null,null,null,null,null,null,null,null,null,null,null,null,null,""]
[4078,null,null,null,null,null,null,null,null,null,null,null,null,null,null,null,null,null,null,null,""]
[4079,null,null,null,null,null,null,null,null,null,null,null,null,null,null,null,null,null,null,null,""]
[4081,null,null,null,null,null,null,null,null,null,null,null,null,null,null,null,null,null,null,null,""]
[4082,null,null,null,null,null,null,null,null,null,null,null,null,null,null,null,null,null,null,null,""]
[4083,null,null,null,null,null,null,null,null,null,null,null,null,null,null,null,null,null,null,null,""]
[4084,null,null,null,null,null,null,null,null,null,null,null,null,null,null,null,null,null,null,null,""]
[4086,null,null,null,null,null,null,null,null,null,null,null,null,null,null,null,null,null,null,null,""]
[4087,null,null,null,null,null,null,null,null,null,null,null,null,null,null,null,null,null,null,null,""]
[4088,null,null,null,null,null,null,null,null,null,null,null,null,null,null,null,null,null,null,null,""]
[4089,null,null,null,null,null,null,null,null,null,null,null,null,null,null,null,null,null,null,null,""]
[4091,null,null,null,null,null,null,null,null,null,null,null,null,null,null,null,null,null,null,null,""]
[4092,null,null,null,null,null,null,null,null,null,null,null,null,null,null,null,null,null,null,null,""]
[4093,null,null,null,null,null,null,null,null,null,null,null,null,null,null,null,null,null,null,null,""]
[4094,null,null,null,null,null,null,null,null,null,null,null,null,null,null,null,null,null,null,null,""]
[4096,null,null,null,null,null,null,null,null,null,null,null,null,null,null,null,null,null,null,null,""]
[4097,null,null,null,null,null,null,null,null,null,null,null,null,null,null,null,null,null,null,null,""]
[4098,null,null,null,null,null,null,null,null,null,null,null,null,null,null,null,null,null,null,null,{"$f":"LEFT(C4099,2)","v":""}]
[4099,null,null,null,null,null,null,null,null,null,null,null,null,null,null,null,null,null,null,null,""]
[4101,null,null,null,null,null,null,null,null,null,null,null,null,null,null,null,null,null,null,null,""]
[4102,null,null,null,null,null,null,null,null,null,null,null,null,null,null,null,null,null,null,null,""]
[4103,null,null,null,null,null,null,null,null,null,null,null,null,null,null,null,null,null,null,null,""]
[4104,null,null,null,null,null,null,null,null,null,null,null,null,null,null,null,null,null,null,null,""]
[4106,null,null,null,null,null,null,null,null,null,null,null,null,null,null,null,null,null,null,null,""]
[4107,null,null,null,null,null,null,null,null,null,null,null,null,null,null,null,null,null,null,null,""]
[4108,null,null,null,null,null,null,null,null,null,null,null,null,null,null,null,null,null,null,null,""]
[4109,null,null,null,null,null,null,null,null,null,null,null,null,null,null,null,null,null,null,null,""]
[4111,null,null,null,null,null,null,null,null,null,null,null,null,null,null,null,null,null,null,null,""]
[4112,null,null,null,null,null,null,null,null,null,null,null,null,null,null,null,null,null,null,null,""]
[4113,null,null,null,null,null,null,null,null,null,null,null,null,null,null,null,null,null,null,null,""]
[4114,null,null,null,null,null,null,null,null,null,null,null,null,null,null,null,null,null,null,null,""]
[4116,null,null,null,null,null,null,null,null,null,null,null,null,null,null,null,null,null,null,null,""]
[4117,null,null,null,null,null,null,null,null,null,null,null,null,null,null,null,null,null,null,null,""]
[4118,null,null,null,null,null,null,null,null,null,null,null,null,null,null,null,null,null,null,null,""]
[4119,null,null,null,null,null,null,null,null,null,null,null,null,null,null,null,null,null,null,null,""]
[4121,null,null,null,null,null,null,null,null,null,null,null,null,null,null,null,null,null,null,null,""]
[4122,null,null,null,null,null,null,null,null,null,null,null,null,null,null,null,null,null,null,null,""]
[4123,null,null,null,null,null,null,null,null,null,null,null,null,null,null,null,null,null,null,null,""]
[4124,null,null,null,null,null,null,null,null,null,null,null,null,null,null,null,null,null,null,null,""]
[4126,null,null,null,null,null,null,null,null,null,null,null,null,null,null,null,null,null,null,null,""]
[4127,null,null,null,null,null,null,null,null,null,null,null,null,null,null,null,null,null,null,null,""]
[4128,null,null,null,null,null,null,null,null,null,null,null,null,null,null,null,null,null,null,null,""]
[4129,null,null,null,null,null,null,null,null,null,null,null,null,null,null,null,null,null,null,null,""]
[4131,null,null,null,null,null,null,null,null,null,null,null,null,null,null,null,null,null,null,null,""]
[4132,null,null,null,null,null,null,null,null,null,null,null,null,null,null,null,null,null,null,null,""]
[4133,null,null,null,null,null,null,null,null,null,null,null,null,null,null,null,null,null,null,null,""]
[4134,null,null,null,null,null,null,null,null,null,null,null,null,null,null,null,null,null,null,null,""]
[4136,null,null,null,null,null,null,null,null,null,null,null,null,null,null,null,null,null,null,null,""]
[4137,null,null,null,null,null,null,null,null,null,null,null,null,null,null,null,null,null,null,null,""]
[4138,null,null,null,null,null,null,null,null,null,null,null,null,null,null,null,null,null,null,null,""]
[4139,null,null,null,null,null,null,null,null,null,null,null,null,null,null,null,null,null,null,null,""]
[4141,null,null,null,null,null,null,null,null,null,null,null,null,null,null,null,null,null,null,null,""]
[4142,null,null,null,null,null,null,null,null,null,null,null,null,null,null,null,null,null,null,null,""]
[4143,null,null,null,null,null,null,null,null,null,null,null,null,null,null,null,null,null,null,null,""]
[4144,null,null,null,null,null,null,null,null,null,null,null,null,null,null,null,null,null,null,null,""]
[4146,null,null,null,null,null,null,null,null,null,null,null,null,null,null,null,null,null,null,null,""]
[4147,null,null,null,null,null,null,null,null,null,null,null,null,null,null,null,null,null,null,null,""]
[4148,null,null,null,null,null,null,null,null,null,null,null,null,null,null,null,null,null,null,null,""]
[4149,null,null,null,null,null,null,null,null,null,null,null,null,null,null,null,null,null,null,null,""]
[4151,null,null,null,null,null,null,null,null,null,null,null,null,null,null,null,null,null,null,null,""]
[4152,null,null,null,null,null,null,null,null,null,null,null,null,null,null,null,null,null,null,null,""]
[4153,null,null,null,null,null,null,null,null,null,null,null,null,null,null,null,null,null,null,null,""]
[4154,null,null,null,null,null,null,null,null,null,null,null,null,null,null,null,null,null,null,null,""]
[4156,null,null,null,null,null,null,null,null,null,null,null,null,null,null,null,null,null,null,null,""]
[4157,null,null,null,null,null,null,null,null,null,null,null,null,null,null,null,null,null,null,null,""]
[4158,null,null,null,null,null,null,null,null,null,null,null,null,null,null,null,null,null,null,null,""]
[4159,null,null,null,null,null,null,null,null,null,null,null,null,null,null,null,null,null,null,null,""]
[4161,null,null,null,null,null,null,null,null,null,null,null,null,null,null,null,null,null,null,null,""]
[4162,null,null,null,null,null,null,null,null,null,null,null,null,null,null,null,null,null,null,null,{"$f":"LEFT(C4163,2)","v":""}]
[4163,null,null,null,null,null,null,null,null,null,null,null,null,null,null,null,null,null,null,null,""]
[4164,null,null,null,null,null,null,null,null,null,null,null,null,null,null,null,null,null,null,null,""]
[4166,null,null,null,null,null,null,null,null,null,null,null,null,null,null,null,null,null,null,null,""]
[4167,null,null,null,null,null,null,null,null,null,null,null,null,null,null,null,null,null,null,null,""]
[4168,null,null,null,null,null,null,null,null,null,null,null,null,null,null,null,null,null,null,null,""]
[4169,null,null,null,null,null,null,null,null,null,null,null,null,null,null,null,null,null,null,null,""]
[4171,null,null,null,null,null,null,null,null,null,null,null,null,null,null,null,null,null,null,null,""]
[4172,null,null,null,null,null,null,null,null,null,null,null,null,null,null,null,null,null,null,null,""]
[4173,null,null,null,null,null,null,null,null,null,null,null,null,null,null,null,null,null,null,null,""]
[4174,null,null,null,null,null,null,null,null,null,null,null,null,null,null,null,null,null,null,null,""]
[4176,null,null,null,null,null,null,null,null,null,null,null,null,null,null,null,null,null,null,null,""]
[4177,null,null,null,null,null,null,null,null,null,null,null,null,null,null,null,null,null,null,null,""]
[4178,null,null,null,null,null,null,null,null,null,null,null,null,null,null,null,null,null,null,null,""]
[4179,null,null,null,null,null,null,null,null,null,null,null,null,null,null,null,null,null,null,null,""]
[4181,null,null,null,null,null,null,null,null,null,null,null,null,null,null,null,null,null,null,null,""]
[4182,null,null,null,null,null,null,null,null,null,null,null,null,null,null,null,null,null,null,null,""]
[4183,null,null,null,null,null,null,null,null,null,null,null,null,null,null,null,null,null,null,null,""]
[4184,null,null,null,null,null,null,null,null,null,null,null,null,null,null,null,null,null,null,null,""]
[4186,null,null,null,null,null,null,null,null,null,null,null,null,null,null,null,null,null,null,null,""]
[4187,null,null,null,null,null,null,null,null,null,null,null,null,null,null,null,null,null,null,null,""]
[4188,null,null,null,null,null,null,null,null,null,null,null,null,null,null,null,null,null,null,null,""]
[4189,null,null,null,null,null,null,null,null,null,null,null,null,null,null,null,null,null,null,null,""]
[4191,null,null,null,null,null,null,null,null,null,null,null,null,null,null,null,null,null,null,null,""]
[4192,null,null,null,null,null,null,null,null,null,null,null,null,null,null,null,null,null,null,null,""]
[4193,null,null,null,null,null,null,null,null,null,null,null,null,null,null,null,null,null,null,null,""]
[4194,null,null,null,null,null,null,null,null,null,null,null,null,null,null,null,null,null,null,null,""]
[4196,null,null,null,null,null,null,null,null,null,null,null,null,null,null,null,null,null,null,null,""]
[4197,null,null,null,null,null,null,null,null,null,null,null,null,null,null,null,null,null,null,null,""]
[4198,null,null,null,null,null,null,null,null,null,null,null,null,null,null,null,null,null,null,null,""]
[4199,null,null,null,null,null,null,null,null,null,null,null,null,null,null,null,null,null,null,null,""]
[4201,null,null,null,null,null,null,null,null,null,null,null,null,null,null,null,null,null,null,null,""]
[4202,null,null,null,null,null,null,null,null,null,null,null,null,null,null,null,null,null,null,null,""]
[4203,null,null,null,null,null,null,null,null,null,null,null,null,null,null,null,null,null,null,null,""]
[4204,null,null,null,null,null,null,null,null,null,null,null,null,null,null,null,null,null,null,null,""]
[4206,null,null,null,null,null,null,null,null,null,null,null,null,null,null,null,null,null,null,null,""]
[4207,null,null,null,null,null,null,null,null,null,null,null,null,null,null,null,null,null,null,null,""]
[4208,null,null,null,null,null,null,null,null,null,null,null,null,null,null,null,null,null,null,null,""]
[4209,null,null,null,null,null,null,null,null,null,null,null,null,null,null,null,null,null,null,null,""]
[4211,null,null,null,null,null,null,null,null,null,null,null,null,null,null,null,null,null,null,null,""]
[4212,null,null,null,null,null,null,null,null,null,null,null,null,null,null,null,null,null,null,null,""]
[4213,null,null,null,null,null,null,null,null,null,null,null,null,null,null,null,null,null,null,null,""]
[4214,null,null,null,null,null,null,null,null,null,null,null,null,null,null,null,null,null,null,null,""]
[4216,null,null,null,null,null,null,null,null,null,null,null,null,null,null,null,null,null,null,null,""]
[4217,null,null,null,null,null,null,null,null,null,null,null,null,null,null,null,null,null,null,null,""]
[4218,null,null,null,null,null,null,null,null,null,null,null,null,null,null,null,null,null,null,null,""]
[4219,null,null,null,null,null,null,null,null,null,null,null,null,null,null,null,null,null,null,null,""]
[4221,null,null,null,null,null,null,null,null,null,null,null,null,null,null,null,null,null,null,null,""]
[4222,null,null,null,null,null,null,null,null,null,null,null,null,null,null,null,null,null,null,null,""]
[4223,null,null,null,null,null,null,null,null,null,null,null,null,null,null,null,null,null,null,null,""]
[4224,null,null,null,null,null,null,null,null,null,null,null,null,null,null,null,null,null,null,null,""]
[4226,null,null,null,null,null,null,null,null,null,null,null,null,null,null,null,null,null,null,null,{"$f":"LEFT(C4227,2)","v":""}]
[4227,null,null,null,null,null,null,null,null,null,null,null,null,null,null,null,null,null,null,null,""]
[4228,null,null,null,null,null,null,null,null,null,null,null,null,null,null,null,null,null,null,null,""]
[4229,null,null,null,null,null,null,null,null,null,null,null,null,null,null,null,null,null,null,null,""]
[4231,null,null,null,null,null,null,null,null,null,null,null,null,null,null,null,null,null,null,null,""]
[4232,null,null,null,null,null,null,null,null,null,null,null,null,null,null,null,null,null,null,null,""]
[4233,null,null,null,null,null,null,null,null,null,null,null,null,null,null,null,null,null,null,null,""]
[4234,null,null,null,null,null,null,null,null,null,null,null,null,null,null,null,null,null,null,null,""]
[4236,null,null,null,null,null,null,null,null,null,null,null,null,null,null,null,null,null,null,null,""]
[4237,null,null,null,null,null,null,null,null,null,null,null,null,null,null,null,null,null,null,null,""]
[4238,null,null,null,null,null,null,null,null,null,null,null,null,null,null,null,null,null,null,null,""]
[4239,null,null,null,null,null,null,null,null,null,null,null,null,null,null,null,null,null,null,null,""]
[4241,null,null,null,null,null,null,null,null,null,null,null,null,null,null,null,null,null,null,null,""]
[4242,null,null,null,null,null,null,null,null,null,null,null,null,null,null,null,null,null,null,null,""]
[4243,null,null,null,null,null,null,null,null,null,null,null,null,null,null,null,null,null,null,null,""]
[4244,null,null,null,null,null,null,null,null,null,null,null,null,null,null,null,null,null,null,null,""]
[4246,null,null,null,null,null,null,null,null,null,null,null,null,null,null,null,null,null,null,null,""]
[4247,null,null,null,null,null,null,null,null,null,null,null,null,null,null,null,null,null,null,null,""]
[4248,null,null,null,null,null,null,null,null,null,null,null,null,null,null,null,null,null,null,null,""]
[4249,null,null,null,null,null,null,null,null,null,null,null,null,null,null,null,null,null,null,null,""]
[4251,null,null,null,null,null,null,null,null,null,null,null,null,null,null,null,null,null,null,null,""]
[4252,null,null,null,null,null,null,null,null,null,null,null,null,null,null,null,null,null,null,null,""]
[4253,null,null,null,null,null,null,null,null,null,null,null,null,null,null,null,null,null,null,null,""]
[4254,null,null,null,null,null,null,null,null,null,null,null,null,null,null,null,null,null,null,null,""]
[4256,null,null,null,null,null,null,null,null,null,null,null,null,null,null,null,null,null,null,null,""]
[4257,null,null,null,null,null,null,null,null,null,null,null,null,null,null,null,null,null,null,null,""]
[4258,null,null,null,null,null,null,null,null,null,null,null,null,null,null,null,null,null,null,null,""]
[4259,null,null,null,null,null,null,null,null,null,null,null,null,null,null,null,null,null,null,null,""]
[4261,null,null,null,null,null,null,null,null,null,null,null,null,null,null,null,null,null,null,null,""]
[4262,null,null,null,null,null,null,null,null,null,null,null,null,null,null,null,null,null,null,null,""]
[4263,null,null,null,null,null,null,null,null,null,null,null,null,null,null,null,null,null,null,null,""]
[4264,null,null,null,null,null,null,null,null,null,null,null,null,null,null,null,null,null,null,null,""]
[4266,null,null,null,null,null,null,null,null,null,null,null,null,null,null,null,null,null,null,null,""]
[4267,null,null,null,null,null,null,null,null,null,null,null,null,null,null,null,null,null,null,null,""]
[4268,null,null,null,null,null,null,null,null,null,null,null,null,null,null,null,null,null,null,null,""]
[4269,null,null,null,null,null,null,null,null,null,null,null,null,null,null,null,null,null,null,null,""]
[4271,null,null,null,null,null,null,null,null,null,null,null,null,null,null,null,null,null,null,null,""]
[4272,null,null,null,null,null,null,null,null,null,null,null,null,null,null,null,null,null,null,null,""]
[4273,null,null,null,null,null,null,null,null,null,null,null,null,null,null,null,null,null,null,null,""]
[4274,null,null,null,null,null,null,null,null,null,null,null,null,null,null,null,null,null,null,null,""]
[4276,null,null,null,null,null,null,null,null,null,null,null,null,null,null,null,null,null,null,null,""]
[4277,null,null,null,null,null,null,null,null,null,null,null,null,null,null,null,null,null,null,null,""]
[4278,null,null,null,null,null,null,null,null,null,null,null,null,null,null,null,null,null,null,null,""]
[4279,null,null,null,null,null,null,null,null,null,null,null,null,null,null,null,null,null,null,null,""]
[4281,null,null,null,null,null,null,null,null,null,null,null,null,null,null,null,null,null,null,null,""]
[4282,null,null,null,null,null,null,null,null,null,null,null,null,null,null,null,null,null,null,null,""]
[4283,null,null,null,null,null,null,null,null,null,null,null,null,null,null,null,null,null,null,null,""]
[4284,null,null,null,null,null,null,null,null,null,null,null,null,null,null,null,null,null,null,null,""]
[4286,null,null,null,null,null,null,null,null,null,null,null,null,null,null,null,null,null,null,null,""]
[4287,null,null,null,null,null,null,null,null,null,null,null,null,null,null,null,null,null,null,null,""]
[4288,null,null,null,null,null,null,null,null,null,null,null,null,null,null,null,null,null,null,null,""]
[4289,null,null,null,null,null,null,null,null,null,null,null,null,null,null,null,null,null,null,null,""]
[4291,null,null,null,null,null,null,null,null,null,null,null,null,null,null,null,null,null,null,null,""]
[4292,null,null,null,null,null,null,null,null,null,null,null,null,null,null,null,null,null,null,null,""]
[4293,null,null,null,null,null,null,null,null,null,null,null,null,null,null,null,null,null,null,null,""]
[4294,null,null,null,null,null,null,null,null,null,null,null,null,null,null,null,null,null,null,null,""]
[4296,null,null,null,null,null,null,null,null,null,null,null,null,null,null,null,null,null,null,null,""]
[4297,null,null,null,null,null,null,null,null,null,null,null,null,null,null,null,null,null,null,null,""]
[4298,null,null,null,null,null,null,null,null,null,null,null,null,null,null,null,null,null,null,null,""]
[4299,null,null,null,null,null,null,null,null,null,null,null,null,null,null,null,null,null,null,null,""]
[4301,null,null,null,null,null,null,null,null,null,null,null,null,null,null,null,null,null,null,null,""]
[4302,null,null,null,null,null,null,null,null,null,null,null,null,null,null,null,null,null,null,null,""]
[4303,null,null,null,null,null,null,null,null,null,null,null,null,null,null,null,null,null,null,null,""]
[4304,null,null,null,null,null,null,null,null,null,null,null,null,null,null,null,null,null,null,null,""]
[4306,null,null,null,null,null,null,null,null,null,null,null,null,null,null,null,null,null,null,null,""]
[4307,null,null,null,null,null,null,null,null,null,null,null,null,null,null,null,null,null,null,null,""]
[4308,null,null,null,null,null,null,null,null,null,null,null,null,null,null,null,null,null,null,null,""]
[4309,null,null,null,null,null,null,null,null,null,null,null,null,null,null,null,null,null,null,null,""]
[4311,null,null,null,null,null,null,null,null,null,null,null,null,null,null,null,null,null,null,null,""]
[4312,null,null,null,null,null,null,null,null,null,null,null,null,null,null,null,null,null,null,null,""]
[4313,null,null,null,null,null,null,null,null,null,null,null,null,null,null,null,null,null,null,null,""]
[4314,null,null,null,null,null,null,null,null,null,null,null,null,null,null,null,null,null,null,null,""]
[4316,null,null,null,null,null,null,null,null,null,null,null,null,null,null,null,null,null,null,null,""]
[4317,null,null,null,null,null,null,null,null,null,null,null,null,null,null,null,null,null,null,null,""]
[4318,null,null,null,null,null,null,null,null,null,null,null,null,null,null,null,null,null,null,null,""]
[4319,null,null,null,null,null,null,null,null,null,null,null,null,null,null,null,null,null,null,null,""]
[4321,null,null,null,null,null,null,null,null,null,null,null,null,null,null,null,null,null,null,null,""]
[4322,null,null,null,null,null,null,null,null,null,null,null,null,null,null,null,null,null,null,null,""]
[4323,null,null,null,null,null,null,null,null,null,null,null,null,null,null,null,null,null,null,null,""]
[4324,null,null,null,null,null,null,null,null,null,null,null,null,null,null,null,null,null,null,null,""]
[4326,null,null,null,null,null,null,null,null,null,null,null,null,null,null,null,null,null,null,null,""]
[4327,null,null,null,null,null,null,null,null,null,null,null,null,null,null,null,null,null,null,null,""]
[4328,null,null,null,null,null,null,null,null,null,null,null,null,null,null,null,null,null,null,null,""]
[4329,null,null,null,null,null,null,null,null,null,null,null,null,null,null,null,null,null,null,null,""]
[4331,null,null,null,null,null,null,null,null,null,null,null,null,null,null,null,null,null,null,null,""]
[4332,null,null,null,null,null,null,null,null,null,null,null,null,null,null,null,null,null,null,null,""]
[4333,null,null,null,null,null,null,null,null,null,null,null,null,null,null,null,null,null,null,null,""]
[4334,null,null,null,null,null,null,null,null,null,null,null,null,null,null,null,null,null,null,null,""]
[4336,null,null,null,null,null,null,null,null,null,null,null,null,null,null,null,null,null,null,null,""]
[4337,null,null,null,null,null,null,null,null,null,null,null,null,null,null,null,null,null,null,null,""]
[4338,null,null,null,null,null,null,null,null,null,null,null,null,null,null,null,null,null,null,null,""]
[4339,null,null,null,null,null,null,null,null,null,null,null,null,null,null,null,null,null,null,null,""]
[4341,null,null,null,null,null,null,null,null,null,null,null,null,null,null,null,null,null,null,null,""]
[4342,null,null,null,null,null,null,null,null,null,null,null,null,null,null,null,null,null,null,null,""]
[4343,null,null,null,null,null,null,null,null,null,null,null,null,null,null,null,null,null,null,null,""]
[4344,null,null,null,null,null,null,null,null,null,null,null,null,null,null,null,null,null,null,null,""]
[4346,null,null,null,null,null,null,null,null,null,null,null,null,null,null,null,null,null,null,null,""]
[4347,null,null,null,null,null,null,null,null,null,null,null,null,null,null,null,null,null,null,null,""]
[4348,null,null,null,null,null,null,null,null,null,null,null,null,null,null,null,null,null,null,null,""]
[4349,null,null,null,null,null,null,null,null,null,null,null,null,null,null,null,null,null,null,null,""]
[4351,null,null,null,null,null,null,null,null,null,null,null,null,null,null,null,null,null,null,null,""]
[4352,null,null,null,null,null,null,null,null,null,null,null,null,null,null,null,null,null,null,null,""]
[4353,null,null,null,null,null,null,null,null,null,null,null,null,null,null,null,null,null,null,null,""]
[4354,null,null,null,null,null,null,null,null,null,null,null,null,null,null,null,null,null,null,null,{"$f":"LEFT(C4355,2)","v":""}]
[4356,null,null,null,null,null,null,null,null,null,null,null,null,null,null,null,null,null,null,null,""]
[4357,null,null,null,null,null,null,null,null,null,null,null,null,null,null,null,null,null,null,null,""]
[4358,null,null,null,null,null,null,null,null,null,null,null,null,null,null,null,null,null,null,null,""]
[4359,null,null,null,null,null,null,null,null,null,null,null,null,null,null,null,null,null,null,null,""]
[4361,null,null,null,null,null,null,null,null,null,null,null,null,null,null,null,null,null,null,null,""]
[4362,null,null,null,null,null,null,null,null,null,null,null,null,null,null,null,null,null,null,null,""]
[4363,null,null,null,null,null,null,null,null,null,null,null,null,null,null,null,null,null,null,null,""]
[4364,null,null,null,null,null,null,null,null,null,null,null,null,null,null,null,null,null,null,null,""]
[4366,null,null,null,null,null,null,null,null,null,null,null,null,null,null,null,null,null,null,null,""]
[4367,null,null,null,null,null,null,null,null,null,null,null,null,null,null,null,null,null,null,null,""]
[4368,null,null,null,null,null,null,null,null,null,null,null,null,null,null,null,null,null,null,null,""]
[4369,null,null,null,null,null,null,null,null,null,null,null,null,null,null,null,null,null,null,null,""]
[4371,null,null,null,null,null,null,null,null,null,null,null,null,null,null,null,null,null,null,null,""]
[4372,null,null,null,null,null,null,null,null,null,null,null,null,null,null,null,null,null,null,null,""]
[4373,null,null,null,null,null,null,null,null,null,null,null,null,null,null,null,null,null,null,null,""]
[4374,null,null,null,null,null,null,null,null,null,null,null,null,null,null,null,null,null,null,null,""]
[4376,null,null,null,null,null,null,null,null,null,null,null,null,null,null,null,null,null,null,null,""]
[4377,null,null,null,null,null,null,null,null,null,null,null,null,null,null,null,null,null,null,null,""]
[4378,null,null,null,null,null,null,null,null,null,null,null,null,null,null,null,null,null,null,null,""]
[4379,null,null,null,null,null,null,null,null,null,null,null,null,null,null,null,null,null,null,null,""]
[4381,null,null,null,null,null,null,null,null,null,null,null,null,null,null,null,null,null,null,null,""]
[4382,null,null,null,null,null,null,null,null,null,null,null,null,null,null,null,null,null,null,null,""]
[4383,null,null,null,null,null,null,null,null,null,null,null,null,null,null,null,null,null,null,null,""]
[4384,null,null,null,null,null,null,null,null,null,null,null,null,null,null,null,null,null,null,null,""]
[4386,null,null,null,null,null,null,null,null,null,null,null,null,null,null,null,null,null,null,null,""]
[4387,null,null,null,null,null,null,null,null,null,null,null,null,null,null,null,null,null,null,null,""]
[4388,null,null,null,null,null,null,null,null,null,null,null,null,null,null,null,null,null,null,null,""]
[4389,null,null,null,null,null,null,null,null,null,null,null,null,null,null,null,null,null,null,null,""]
[4391,null,null,null,null,null,null,null,null,null,null,null,null,null,null,null,null,null,null,null,""]
[4392,null,null,null,null,null,null,null,null,null,null,null,null,null,null,null,null,null,null,null,""]
[4393,null,null,null,null,null,null,null,null,null,null,null,null,null,null,null,null,null,null,null,""]
[4394,null,null,null,null,null,null,null,null,null,null,null,null,null,null,null,null,null,null,null,""]
[4396,null,null,null,null,null,null,null,null,null,null,null,null,null,null,null,null,null,null,null,""]
[4397,null,null,null,null,null,null,null,null,null,null,null,null,null,null,null,null,null,null,null,""]
[4398,null,null,null,null,null,null,null,null,null,null,null,null,null,null,null,null,null,null,null,""]
[4399,null,null,null,null,null,null,null,null,null,null,null,null,null,null,null,null,null,null,null,""]
[4401,null,null,null,null,null,null,null,null,null,null,null,null,null,null,null,null,null,null,null,""]
[4402,null,null,null,null,null,null,null,null,null,null,null,null,null,null,null,null,null,null,null,""]
[4403,null,null,null,null,null,null,null,null,null,null,null,null,null,null,null,null,null,null,null,""]
[4404,null,null,null,null,null,null,null,null,null,null,null,null,null,null,null,null,null,null,null,""]
[4406,null,null,null,null,null,null,null,null,null,null,null,null,null,null,null,null,null,null,null,""]
[4407,null,null,null,null,null,null,null,null,null,null,null,null,null,null,null,null,null,null,null,""]
[4408,null,null,null,null,null,null,null,null,null,null,null,null,null,null,null,null,null,null,null,""]
[4409,null,null,null,null,null,null,null,null,null,null,null,null,null,null,null,null,null,null,null,""]
[4411,null,null,null,null,null,null,null,null,null,null,null,null,null,null,null,null,null,null,null,""]
[4412,null,null,null,null,null,null,null,null,null,null,null,null,null,null,null,null,null,null,null,""]
[4413,null,null,null,null,null,null,null,null,null,null,null,null,null,null,null,null,null,null,null,""]
[4414,null,null,null,null,null,null,null,null,null,null,null,null,null,null,null,null,null,null,null,""]
[4416,null,null,null,null,null,null,null,null,null,null,null,null,null,null,null,null,null,null,null,""]
[4417,null,null,null,null,null,null,null,null,null,null,null,null,null,null,null,null,null,null,null,""]
[4418,null,null,null,null,null,null,null,null,null,null,null,null,null,null,null,null,null,null,null,{"$f":"LEFT(C4419,2)","v":""}]
[4419,null,null,null,null,null,null,null,null,null,null,null,null,null,null,null,null,null,null,null,""]
[4421,null,null,null,null,null,null,null,null,null,null,null,null,null,null,null,null,null,null,null,""]
[4422,null,null,null,null,null,null,null,null,null,null,null,null,null,null,null,null,null,null,null,""]
[4423,null,null,null,null,null,null,null,null,null,null,null,null,null,null,null,null,null,null,null,""]
[4424,null,null,null,null,null,null,null,null,null,null,null,null,null,null,null,null,null,null,null,""]
[4426,null,null,null,null,null,null,null,null,null,null,null,null,null,null,null,null,null,null,null,""]
[4427,null,null,null,null,null,null,null,null,null,null,null,null,null,null,null,null,null,null,null,""]
[4428,null,null,null,null,null,null,null,null,null,null,null,null,null,null,null,null,null,null,null,""]
[4429,null,null,null,null,null,null,null,null,null,null,null,null,null,null,null,null,null,null,null,""]
[4431,null,null,null,null,null,null,null,null,null,null,null,null,null,null,null,null,null,null,null,""]
[4432,null,null,null,null,null,null,null,null,null,null,null,null,null,null,null,null,null,null,null,""]
[4433,null,null,null,null,null,null,null,null,null,null,null,null,null,null,null,null,null,null,null,""]
[4434,null,null,null,null,null,null,null,null,null,null,null,null,null,null,null,null,null,null,null,""]
[4436,null,null,null,null,null,null,null,null,null,null,null,null,null,null,null,null,null,null,null,""]
[4437,null,null,null,null,null,null,null,null,null,null,null,null,null,null,null,null,null,null,null,""]
[4438,null,null,null,null,null,null,null,null,null,null,null,null,null,null,null,null,null,null,null,""]
[4439,null,null,null,null,null,null,null,null,null,null,null,null,null,null,null,null,null,null,null,""]
[4441,null,null,null,null,null,null,null,null,null,null,null,null,null,null,null,null,null,null,null,""]
[4442,null,null,null,null,null,null,null,null,null,null,null,null,null,null,null,null,null,null,null,""]
[4443,null,null,null,null,null,null,null,null,null,null,null,null,null,null,null,null,null,null,null,""]
[4444,null,null,null,null,null,null,null,null,null,null,null,null,null,null,null,null,null,null,null,""]
[4446,null,null,null,null,null,null,null,null,null,null,null,null,null,null,null,null,null,null,null,""]
[4447,null,null,null,null,null,null,null,null,null,null,null,null,null,null,null,null,null,null,null,""]
[4448,null,null,null,null,null,null,null,null,null,null,null,null,null,null,null,null,null,null,null,""]
[4449,null,null,null,null,null,null,null,null,null,null,null,null,null,null,null,null,null,null,null,""]
[4451,null,null,null,null,null,null,null,null,null,null,null,null,null,null,null,null,null,null,null,""]
[4452,null,null,null,null,null,null,null,null,null,null,null,null,null,null,null,null,null,null,null,""]
[4453,null,null,null,null,null,null,null,null,null,null,null,null,null,null,null,null,null,null,null,""]
[4454,null,null,null,null,null,null,null,null,null,null,null,null,null,null,null,null,null,null,null,""]
[4456,null,null,null,null,null,null,null,null,null,null,null,null,null,null,null,null,null,null,null,""]
[4457,null,null,null,null,null,null,null,null,null,null,null,null,null,null,null,null,null,null,null,""]
[4458,null,null,null,null,null,null,null,null,null,null,null,null,null,null,null,null,null,null,null,""]
[4459,null,null,null,null,null,null,null,null,null,null,null,null,null,null,null,null,null,null,null,""]
[4461,null,null,null,null,null,null,null,null,null,null,null,null,null,null,null,null,null,null,null,""]
[4462,null,null,null,null,null,null,null,null,null,null,null,null,null,null,null,null,null,null,null,""]
[4463,null,null,null,null,null,null,null,null,null,null,null,null,null,null,null,null,null,null,null,""]
[4464,null,null,null,null,null,null,null,null,null,null,null,null,null,null,null,null,null,null,null,""]
[4466,null,null,null,null,null,null,null,null,null,null,null,null,null,null,null,null,null,null,null,""]
[4467,null,null,null,null,null,null,null,null,null,null,null,null,null,null,null,null,null,null,null,""]
[4468,null,null,null,null,null,null,null,null,null,null,null,null,null,null,null,null,null,null,null,""]
[4469,null,null,null,null,null,null,null,null,null,null,null,null,null,null,null,null,null,null,null,""]
[4471,null,null,null,null,null,null,null,null,null,null,null,null,null,null,null,null,null,null,null,""]
[4472,null,null,null,null,null,null,null,null,null,null,null,null,null,null,null,null,null,null,null,""]
[4473,null,null,null,null,null,null,null,null,null,null,null,null,null,null,null,null,null,null,null,""]
[4474,null,null,null,null,null,null,null,null,null,null,null,null,null,null,null,null,null,null,null,""]
[4476,null,null,null,null,null,null,null,null,null,null,null,null,null,null,null,null,null,null,null,""]
[4477,null,null,null,null,null,null,null,null,null,null,null,null,null,null,null,null,null,null,null,""]
[4478,null,null,null,null,null,null,null,null,null,null,null,null,null,null,null,null,null,null,null,""]
[4479,null,null,null,null,null,null,null,null,null,null,null,null,null,null,null,null,null,null,null,""]
[4481,null,null,null,null,null,null,null,null,null,null,null,null,null,null,null,null,null,null,null,""]
[4482,null,null,null,null,null,null,null,null,null,null,null,null,null,null,null,null,null,null,null,{"$f":"LEFT(C4483,2)","v":""}]
[4483,null,null,null,null,null,null,null,null,null,null,null,null,null,null,null,null,null,null,null,""]
[4484,null,null,null,null,null,null,null,null,null,null,null,null,null,null,null,null,null,null,null,""]
[4486,null,null,null,null,null,null,null,null,null,null,null,null,null,null,null,null,null,null,null,""]
[4487,null,null,null,null,null,null,null,null,null,null,null,null,null,null,null,null,null,null,null,""]
[4488,null,null,null,null,null,null,null,null,null,null,null,null,null,null,null,null,null,null,null,""]
[4489,null,null,null,null,null,null,null,null,null,null,null,null,null,null,null,null,null,null,null,""]
[4491,null,null,null,null,null,null,null,null,null,null,null,null,null,null,null,null,null,null,null,""]
[4492,null,null,null,null,null,null,null,null,null,null,null,null,null,null,null,null,null,null,null,""]
[4493,null,null,null,null,null,null,null,null,null,null,null,null,null,null,null,null,null,null,null,""]
[4494,null,null,null,null,null,null,null,null,null,null,null,null,null,null,null,null,null,null,null,""]
[4496,null,null,null,null,null,null,null,null,null,null,null,null,null,null,null,null,null,null,null,""]
[4497,null,null,null,null,null,null,null,null,null,null,null,null,null,null,null,null,null,null,null,""]
[4498,null,null,null,null,null,null,null,null,null,null,null,null,null,null,null,null,null,null,null,""]
[4499,null,null,null,null,null,null,null,null,null,null,null,null,null,null,null,null,null,null,null,""]
[4501,null,null,null,null,null,null,null,null,null,null,null,null,null,null,null,null,null,null,null,""]
[4502,null,null,null,null,null,null,null,null,null,null,null,null,null,null,null,null,null,null,null,""]
[4503,null,null,null,null,null,null,null,null,null,null,null,null,null,null,null,null,null,null,null,""]
[4504,null,null,null,null,null,null,null,null,null,null,null,null,null,null,null,null,null,null,null,""]
[4505,null,null,null,null,null,null,null,null,null,null,null,null,null,null,null,null,null,null,null,""]
[4506,null,null,null,null,null,null,null,null,null,null,null,null,null,null,null,null,null,null,null,""]
[4507,null,null,null,null,null,null,null,null,null,null,null,null,null,null,null,null,null,null,null,""]
[4508,null,null,null,null,null,null,null,null,null,null,null,null,null,null,null,null,null,null,null,""]
[4509,null,null,null,null,null,null,null,null,null,null,null,null,null,null,null,null,null,null,null,""]
[4510,null,null,null,null,null,null,null,null,null,null,null,null,null,null,null,null,null,null,null,""]
[4511,null,null,null,null,null,null,null,null,null,null,null,null,null,null,null,null,null,null,null,""]
[4512,null,null,null,null,null,null,null,null,null,null,null,null,null,null,null,null,null,null,null,""]
[4513,null,null,null,null,null,null,null,null,null,null,null,null,null,null,null,null,null,null,null,""]
[4514,null,null,null,null,null,null,null,null,null,null,null,null,null,null,null,null,null,null,null,""]
[4515,null,null,null,null,null,null,null,null,null,null,null,null,null,null,null,null,null,null,null,""]
[4516,null,null,null,null,null,null,null,null,null,null,null,null,null,null,null,null,null,null,null,""]
[4517,null,null,null,null,null,null,null,null,null,null,null,null,null,null,null,null,null,null,null,""]
[4518,null,null,null,null,null,null,null,null,null,null,null,null,null,null,null,null,null,null,null,""]
[4519,null,null,null,null,null,null,null,null,null,null,null,null,null,null,null,null,null,null,null,""]
[4520,null,null,null,null,null,null,null,null,null,null,null,null,null,null,null,null,null,null,null,""]
[4521,null,null,null,null,null,null,null,null,null,null,null,null,null,null,null,null,null,null,null,""]
[4522,null,null,null,null,null,null,null,null,null,null,null,null,null,null,null,null,null,null,null,""]
[4523,null,null,null,null,null,null,null,null,null,null,null,null,null,null,null,null,null,null,null,""]
[4524,null,null,null,null,null,null,null,null,null,null,null,null,null,null,null,null,null,null,null,""]
[4525,null,null,null,null,null,null,null,null,null,null,null,null,null,null,null,null,null,null,null,""]
[4526,null,null,null,null,null,null,null,null,null,null,null,null,null,null,null,null,null,null,null,""]
[4527,null,null,null,null,null,null,null,null,null,null,null,null,null,null,null,null,null,null,null,""]
[4528,null,null,null,null,null,null,null,null,null,null,null,null,null,null,null,null,null,null,null,""]
[4529,null,null,null,null,null,null,null,null,null,null,null,null,null,null,null,null,null,null,null,""]
[4530,null,null,null,null,null,null,null,null,null,null,null,null,null,null,null,null,null,null,null,""]
[4531,null,null,null,null,null,null,null,null,null,null,null,null,null,null,null,null,null,null,null,""]
[4532,null,null,null,null,null,null,null,null,null,null,null,null,null,null,null,null,null,null,null,""]
[4533,null,null,null,null,null,null,null,null,null,null,null,null,null,null,null,null,null,null,null,""]
[4534,null,null,null,null,null,null,null,null,null,null,null,null,null,null,null,null,null,null,null,""]
[4535,null,null,null,null,null,null,null,null,null,null,null,null,null,null,null,null,null,null,null,""]
[4536,null,null,null,null,null,null,null,null,null,null,null,null,null,null,null,null,null,null,null,""]
[4537,null,null,null,null,null,null,null,null,null,null,null,null,null,null,null,null,null,null,null,""]
[4538,null,null,null,null,null,null,null,null,null,null,null,null,null,null,null,null,null,null,null,""]
[4539,null,null,null,null,null,null,null,null,null,null,null,null,null,null,null,null,null,null,null,""]
[4540,null,null,null,null,null,null,null,null,null,null,null,null,null,null,null,null,null,null,null,""]
[4541,null,null,null,null,null,null,null,null,null,null,null,null,null,null,null,null,null,null,null,""]
[4542,null,null,null,null,null,null,null,null,null,null,null,null,null,null,null,null,null,null,null,""]
[4543,null,null,null,null,null,null,null,null,null,null,null,null,null,null,null,null,null,null,null,""]
[4544,null,null,null,null,null,null,null,null,null,null,null,null,null,null,null,null,null,null,null,""]
[4545,null,null,null,null,null,null,null,null,null,null,null,null,null,null,null,null,null,null,null,""]
[4546,null,null,null,null,null,null,null,null,null,null,null,null,null,null,null,null,null,null,null,{"$f":"LEFT(C4547,2)","v":""}]
[4547,null,null,null,null,null,null,null,null,null,null,null,null,null,null,null,null,null,null,null,""]
[4548,null,null,null,null,null,null,null,null,null,null,null,null,null,null,null,null,null,null,null,""]
[4549,null,null,null,null,null,null,null,null,null,null,null,null,null,null,null,null,null,null,null,""]
[4550,null,null,null,null,null,null,null,null,null,null,null,null,null,null,null,null,null,null,null,""]
[4551,null,null,null,null,null,null,null,null,null,null,null,null,null,null,null,null,null,null,null,""]
[4552,null,null,null,null,null,null,null,null,null,null,null,null,null,null,null,null,null,null,null,""]
[4553,null,null,null,null,null,null,null,null,null,null,null,null,null,null,null,null,null,null,null,""]
[4554,null,null,null,null,null,null,null,null,null,null,null,null,null,null,null,null,null,null,null,""]
[4555,null,null,null,null,null,null,null,null,null,null,null,null,null,null,null,null,null,null,null,""]
[4556,null,null,null,null,null,null,null,null,null,null,null,null,null,null,null,null,null,null,null,""]
[4557,null,null,null,null,null,null,null,null,null,null,null,null,null,null,null,null,null,null,null,""]
[4558,null,null,null,null,null,null,null,null,null,null,null,null,null,null,null,null,null,null,null,""]
[4559,null,null,null,null,null,null,null,null,null,null,null,null,null,null,null,null,null,null,null,""]
[4560,null,null,null,null,null,null,null,null,null,null,null,null,null,null,null,null,null,null,null,""]
[4561,null,null,null,null,null,null,null,null,null,null,null,null,null,null,null,null,null,null,null,""]
[4562,null,null,null,null,null,null,null,null,null,null,null,null,null,null,null,null,null,null,null,""]
[4563,null,null,null,null,null,null,null,null,null,null,null,null,null,null,null,null,null,null,null,""]
[4564,null,null,null,null,null,null,null,null,null,null,null,null,null,null,null,null,null,null,null,""]
[4565,null,null,null,null,null,null,null,null,null,null,null,null,null,null,null,null,null,null,null,""]
[4566,null,null,null,null,null,null,null,null,null,null,null,null,null,null,null,null,null,null,null,""]
[4567,null,null,null,null,null,null,null,null,null,null,null,null,null,null,null,null,null,null,null,""]
[4568,null,null,null,null,null,null,null,null,null,null,null,null,null,null,null,null,null,null,null,""]
[4569,null,null,null,null,null,null,null,null,null,null,null,null,null,null,null,null,null,null,null,""]
[4570,null,null,null,null,null,null,null,null,null,null,null,null,null,null,null,null,null,null,null,""]
[4571,null,null,null,null,null,null,null,null,null,null,null,null,null,null,null,null,null,null,null,""]
[4572,null,null,null,null,null,null,null,null,null,null,null,null,null,null,null,null,null,null,null,""]
[4573,null,null,null,null,null,null,null,null,null,null,null,null,null,null,null,null,null,null,null,""]
[4574,null,null,null,null,null,null,null,null,null,null,null,null,null,null,null,null,null,null,null,""]
[4575,null,null,null,null,null,null,null,null,null,null,null,null,null,null,null,null,null,null,null,""]
[4576,null,null,null,null,null,null,null,null,null,null,null,null,null,null,null,null,null,null,null,""]
[4577,null,null,null,null,null,null,null,null,null,null,null,null,null,null,null,null,null,null,null,""]
[4578,null,null,null,null,null,null,null,null,null,null,null,null,null,null,null,null,null,null,null,""]
[4579,null,null,null,null,null,null,null,null,null,null,null,null,null,null,null,null,null,null,null,""]
[4580,null,null,null,null,null,null,null,null,null,null,null,null,null,null,null,null,null,null,null,""]
[4581,null,null,null,null,null,null,null,null,null,null,null,null,null,null,null,null,null,null,null,""]
[4582,null,null,null,null,null,null,null,null,null,null,null,null,null,null,null,null,null,null,null,""]
[4583,null,null,null,null,null,null,null,null,null,null,null,null,null,null,null,null,null,null,null,""]
[4584,null,null,null,null,null,null,null,null,null,null,null,null,null,null,null,null,null,null,null,""]
[4585,null,null,null,null,null,null,null,null,null,null,null,null,null,null,null,null,null,null,null,""]
[4586,null,null,null,null,null,null,null,null,null,null,null,null,null,null,null,null,null,null,null,""]
[4587,null,null,null,null,null,null,null,null,null,null,null,null,null,null,null,null,null,null,null,""]
[4588,null,null,null,null,null,null,null,null,null,null,null,null,null,null,null,null,null,null,null,""]
[4589,null,null,null,null,null,null,null,null,null,null,null,null,null,null,null,null,null,null,null,""]
[4590,null,null,null,null,null,null,null,null,null,null,null,null,null,null,null,null,null,null,null,""]
[4591,null,null,null,null,null,null,null,null,null,null,null,null,null,null,null,null,null,null,null,""]
[4592,null,null,null,null,null,null,null,null,null,null,null,null,null,null,null,null,null,null,null,""]
[4593,null,null,null,null,null,null,null,null,null,null,null,null,null,null,null,null,null,null,null,""]
[4594,null,null,null,null,null,null,null,null,null,null,null,null,null,null,null,null,null,null,null,""]
[4595,null,null,null,null,null,null,null,null,null,null,null,null,null,null,null,null,null,null,null,""]
[4596,null,null,null,null,null,null,null,null,null,null,null,null,null,null,null,null,null,null,null,""]
[4597,null,null,null,null,null,null,null,null,null,null,null,null,null,null,null,null,null,null,null,""]
[4598,null,null,null,null,null,null,null,null,null,null,null,null,null,null,null,null,null,null,null,""]
[4599,null,null,null,null,null,null,null,null,null,null,null,null,null,null,null,null,null,null,null,""]
[4600,null,null,null,null,null,null,null,null,null,null,null,null,null,null,null,null,null,null,null,""]
[4601,null,null,null,null,null,null,null,null,null,null,null,null,null,null,null,null,null,null,null,""]
[4602,null,null,null,null,null,null,null,null,null,null,null,null,null,null,null,null,null,null,null,""]
[4603,null,null,null,null,null,null,null,null,null,null,null,null,null,null,null,null,null,null,null,""]
[4604,null,null,null,null,null,null,null,null,null,null,null,null,null,null,null,null,null,null,null,""]
[4605,null,null,null,null,null,null,null,null,null,null,null,null,null,null,null,null,null,null,null,""]
[4606,null,null,null,null,null,null,null,null,null,null,null,null,null,null,null,null,null,null,null,""]
[4607,null,null,null,null,null,null,null,null,null,null,null,null,null,null,null,null,null,null,null,""]
[4608,null,null,null,null,null,null,null,null,null,null,null,null,null,null,null,null,null,null,null,""]
[4609,null,null,null,null,null,null,null,null,null,null,null,null,null,null,null,null,null,null,null,""]
[4610,null,null,null,null,null,null,null,null,null,null,null,null,null,null,null,null,null,null,null,{"$f":"LEFT(C4611,2)","v":""}]
[4611,null,null,null,null,null,null,null,null,null,null,null,null,null,null,null,null,null,null,null,""]
[4612,null,null,null,null,null,null,null,null,null,null,null,null,null,null,null,null,null,null,null,""]
[4613,null,null,null,null,null,null,null,null,null,null,null,null,null,null,null,null,null,null,null,""]
[4614,null,null,null,null,null,null,null,null,null,null,null,null,null,null,null,null,null,null,null,""]
[4615,null,null,null,null,null,null,null,null,null,null,null,null,null,null,null,null,null,null,null,""]
[4616,null,null,null,null,null,null,null,null,null,null,null,null,null,null,null,null,null,null,null,""]
[4617,null,null,null,null,null,null,null,null,null,null,null,null,null,null,null,null,null,null,null,""]
[4618,null,null,null,null,null,null,null,null,null,null,null,null,null,null,null,null,null,null,null,""]
[4619,null,null,null,null,null,null,null,null,null,null,null,null,null,null,null,null,null,null,null,""]
[4620,null,null,null,null,null,null,null,null,null,null,null,null,null,null,null,null,null,null,null,""]
[4621,null,null,null,null,null,null,null,null,null,null,null,null,null,null,null,null,null,null,null,""]
[4622,null,null,null,null,null,null,null,null,null,null,null,null,null,null,null,null,null,null,null,""]
[4623,null,null,null,null,null,null,null,null,null,null,null,null,null,null,null,null,null,null,null,""]
[4624,null,null,null,null,null,null,null,null,null,null,null,null,null,null,null,null,null,null,null,""]
[4625,null,null,null,null,null,null,null,null,null,null,null,null,null,null,null,null,null,null,null,""]
[4626,null,null,null,null,null,null,null,null,null,null,null,null,null,null,null,null,null,null,null,""]
[4627,null,null,null,null,null,null,null,null,null,null,null,null,null,null,null,null,null,null,null,""]
[4628,null,null,null,null,null,null,null,null,null,null,null,null,null,null,null,null,null,null,null,""]
[4629,null,null,null,null,null,null,null,null,null,null,null,null,null,null,null,null,null,null,null,""]
[4630,null,null,null,null,null,null,null,null,null,null,null,null,null,null,null,null,null,null,null,""]
[4631,null,null,null,null,null,null,null,null,null,null,null,null,null,null,null,null,null,null,null,""]
[4632,null,null,null,null,null,null,null,null,null,null,null,null,null,null,null,null,null,null,null,""]
[4633,null,null,null,null,null,null,null,null,null,null,null,null,null,null,null,null,null,null,null,""]
[4634,null,null,null,null,null,null,null,null,null,null,null,null,null,null,null,null,null,null,null,""]
[4635,null,null,null,null,null,null,null,null,null,null,null,null,null,null,null,null,null,null,null,""]
[4636,null,null,null,null,null,null,null,null,null,null,null,null,null,null,null,null,null,null,null,""]
[4637,null,null,null,null,null,null,null,null,null,null,null,null,null,null,null,null,null,null,null,""]
[4638,null,null,null,null,null,null,null,null,null,null,null,null,null,null,null,null,null,null,null,""]
[4639,null,null,null,null,null,null,null,null,null,null,null,null,null,null,null,null,null,null,null,""]
[4640,null,null,null,null,null,null,null,null,null,null,null,null,null,null,null,null,null,null,null,""]
[4641,null,null,null,null,null,null,null,null,null,null,null,null,null,null,null,null,null,null,null,""]
[4642,null,null,null,null,null,null,null,null,null,null,null,null,null,null,null,null,null,null,null,""]
[4643,null,null,null,null,null,null,null,null,null,null,null,null,null,null,null,null,null,null,null,""]
[4644,null,null,null,null,null,null,null,null,null,null,null,null,null,null,null,null,null,null,null,""]
[4645,null,null,null,null,null,null,null,null,null,null,null,null,null,null,null,null,null,null,null,""]
[4646,null,null,null,null,null,null,null,null,null,null,null,null,null,null,null,null,null,null,null,""]
[4647,null,null,null,null,null,null,null,null,null,null,null,null,null,null,null,null,null,null,null,""]
[4648,null,null,null,null,null,null,null,null,null,null,null,null,null,null,null,null,null,null,null,""]
[4649,null,null,null,null,null,null,null,null,null,null,null,null,null,null,null,null,null,null,null,""]
[4650,null,null,null,null,null,null,null,null,null,null,null,null,null,null,null,null,null,null,null,""]
[4651,null,null,null,null,null,null,null,null,null,null,null,null,null,null,null,null,null,null,null,""]
[4652,null,null,null,null,null,null,null,null,null,null,null,null,null,null,null,null,null,null,null,""]
[4653,null,null,null,null,null,null,null,null,null,null,null,null,null,null,null,null,null,null,null,""]
[4654,null,null,null,null,null,null,null,null,null,null,null,null,null,null,null,null,null,null,null,""]
[4655,null,null,null,null,null,null,null,null,null,null,null,null,null,null,null,null,null,null,null,""]
[4656,null,null,null,null,null,null,null,null,null,null,null,null,null,null,null,null,null,null,null,""]
[4657,null,null,null,null,null,null,null,null,null,null,null,null,null,null,null,null,null,null,null,""]
[4658,null,null,null,null,null,null,null,null,null,null,null,null,null,null,null,null,null,null,null,""]
[4659,null,null,null,null,null,null,null,null,null,null,null,null,null,null,null,null,null,null,null,""]
[4660,null,null,null,null,null,null,null,null,null,null,null,null,null,null,null,null,null,null,null,""]
[4661,null,null,null,null,null,null,null,null,null,null,null,null,null,null,null,null,null,null,null,""]
[4662,null,null,null,null,null,null,null,null,null,null,null,null,null,null,null,null,null,null,null,""]
[4663,null,null,null,null,null,null,null,null,null,null,null,null,null,null,null,null,null,null,null,""]
[4664,null,null,null,null,null,null,null,null,null,null,null,null,null,null,null,null,null,null,null,""]
[4665,null,null,null,null,null,null,null,null,null,null,null,null,null,null,null,null,null,null,null,""]
[4666,null,null,null,null,null,null,null,null,null,null,null,null,null,null,null,null,null,null,null,""]
[4667,null,null,null,null,null,null,null,null,null,null,null,null,null,null,null,null,null,null,null,""]
[4668,null,null,null,null,null,null,null,null,null,null,null,null,null,null,null,null,null,null,null,""]
[4669,null,null,null,null,null,null,null,null,null,null,null,null,null,null,null,null,null,null,null,""]
[4670,null,null,null,null,null,null,null,null,null,null,null,null,null,null,null,null,null,null,null,""]
[4671,null,null,null,null,null,null,null,null,null,null,null,null,null,null,null,null,null,null,null,""]
[4672,null,null,null,null,null,null,null,null,null,null,null,null,null,null,null,null,null,null,null,""]
[4673,null,null,null,null,null,null,null,null,null,null,null,null,null,null,null,null,null,null,null,""]
[4674,null,null,null,null,null,null,null,null,null,null,null,null,null,null,null,null,null,null,null,{"$f":"LEFT(C4675,2)","v":""}]
[4675,null,null,null,null,null,null,null,null,null,null,null,null,null,null,null,null,null,null,null,""]
[4676,null,null,null,null,null,null,null,null,null,null,null,null,null,null,null,null,null,null,null,""]
[4677,null,null,null,null,null,null,null,null,null,null,null,null,null,null,null,null,null,null,null,""]
[4678,null,null,null,null,null,null,null,null,null,null,null,null,null,null,null,null,null,null,null,""]
[4679,null,null,null,null,null,null,null,null,null,null,null,null,null,null,null,null,null,null,null,""]
[4680,null,null,null,null,null,null,null,null,null,null,null,null,null,null,null,null,null,null,null,""]
[4681,null,null,null,null,null,null,null,null,null,null,null,null,null,null,null,null,null,null,null,""]
[4682,null,null,null,null,null,null,null,null,null,null,null,null,null,null,null,null,null,null,null,""]
[4683,null,null,null,null,null,null,null,null,null,null,null,null,null,null,null,null,null,null,null,""]
[4684,null,null,null,null,null,null,null,null,null,null,null,null,null,null,null,null,null,null,null,""]
[4685,null,null,null,null,null,null,null,null,null,null,null,null,null,null,null,null,null,null,null,""]
[4686,null,null,null,null,null,null,null,null,null,null,null,null,null,null,null,null,null,null,null,""]
[4687,null,null,null,null,null,null,null,null,null,null,null,null,null,null,null,null,null,null,null,""]
[4688,null,null,null,null,null,null,null,null,null,null,null,null,null,null,null,null,null,null,null,""]
[4689,null,null,null,null,null,null,null,null,null,null,null,null,null,null,null,null,null,null,null,""]
[4690,null,null,null,null,null,null,null,null,null,null,null,null,null,null,null,null,null,null,null,""]
[4691,null,null,null,null,null,null,null,null,null,null,null,null,null,null,null,null,null,null,null,""]
[4692,null,null,null,null,null,null,null,null,null,null,null,null,null,null,null,null,null,null,null,""]
[4693,null,null,null,null,null,null,null,null,null,null,null,null,null,null,null,null,null,null,null,""]
[4694,null,null,null,null,null,null,null,null,null,null,null,null,null,null,null,null,null,null,null,""]
[4695,null,null,null,null,null,null,null,null,null,null,null,null,null,null,null,null,null,null,null,""]
[4696,null,null,null,null,null,null,null,null,null,null,null,null,null,null,null,null,null,null,null,""]
[4697,null,null,null,null,null,null,null,null,null,null,null,null,null,null,null,null,null,null,null,""]
[4698,null,null,null,null,null,null,null,null,null,null,null,null,null,null,null,null,null,null,null,""]
[4699,null,null,null,null,null,null,null,null,null,null,null,null,null,null,null,null,null,null,null,""]
[4700,null,null,null,null,null,null,null,null,null,null,null,null,null,null,null,null,null,null,null,""]
[4701,null,null,null,null,null,null,null,null,null,null,null,null,null,null,null,null,null,null,null,""]
[4702,null,null,null,null,null,null,null,null,null,null,null,null,null,null,null,null,null,null,null,""]
[4703,null,null,null,null,null,null,null,null,null,null,null,null,null,null,null,null,null,null,null,""]
[4704,null,null,null,null,null,null,null,null,null,null,null,null,null,null,null,null,null,null,null,""]
[4705,null,null,null,null,null,null,null,null,null,null,null,null,null,null,null,null,null,null,null,""]
[4706,null,null,null,null,null,null,null,null,null,null,null,null,null,null,null,null,null,null,null,""]
[4707,null,null,null,null,null,null,null,null,null,null,null,null,null,null,null,null,null,null,null,""]
[4708,null,null,null,null,null,null,null,null,null,null,null,null,null,null,null,null,null,null,null,""]
[4709,null,null,null,null,null,null,null,null,null,null,null,null,null,null,null,null,null,null,null,""]
[4710,null,null,null,null,null,null,null,null,null,null,null,null,null,null,null,null,null,null,null,""]
[4711,null,null,null,null,null,null,null,null,null,null,null,null,null,null,null,null,null,null,null,""]
[4712,null,null,null,null,null,null,null,null,null,null,null,null,null,null,null,null,null,null,null,""]
[4713,null,null,null,null,null,null,null,null,null,null,null,null,null,null,null,null,null,null,null,""]
[4714,null,null,null,null,null,null,null,null,null,null,null,null,null,null,null,null,null,null,null,""]
[4715,null,null,null,null,null,null,null,null,null,null,null,null,null,null,null,null,null,null,null,""]
[4716,null,null,null,null,null,null,null,null,null,null,null,null,null,null,null,null,null,null,null,""]
[4717,null,null,null,null,null,null,null,null,null,null,null,null,null,null,null,null,null,null,null,""]
[4718,null,null,null,null,null,null,null,null,null,null,null,null,null,null,null,null,null,null,null,""]
[4719,null,null,null,null,null,null,null,null,null,null,null,null,null,null,null,null,null,null,null,""]
[4720,null,null,null,null,null,null,null,null,null,null,null,null,null,null,null,null,null,null,null,""]
[4721,null,null,null,null,null,null,null,null,null,null,null,null,null,null,null,null,null,null,null,""]
[4722,null,null,null,null,null,null,null,null,null,null,null,null,null,null,null,null,null,null,null,""]
[4723,null,null,null,null,null,null,null,null,null,null,null,null,null,null,null,null,null,null,null,""]
[4724,null,null,null,null,null,null,null,null,null,null,null,null,null,null,null,null,null,null,null,""]
[4725,null,null,null,null,null,null,null,null,null,null,null,null,null,null,null,null,null,null,null,""]
[4726,null,null,null,null,null,null,null,null,null,null,null,null,null,null,null,null,null,null,null,""]
[4727,null,null,null,null,null,null,null,null,null,null,null,null,null,null,null,null,null,null,null,""]
[4728,null,null,null,null,null,null,null,null,null,null,null,null,null,null,null,null,null,null,null,""]
[4729,null,null,null,null,null,null,null,null,null,null,null,null,null,null,null,null,null,null,null,""]
[4730,null,null,null,null,null,null,null,null,null,null,null,null,null,null,null,null,null,null,null,""]
[4731,null,null,null,null,null,null,null,null,null,null,null,null,null,null,null,null,null,null,null,""]
[4732,null,null,null,null,null,null,null,null,null,null,null,null,null,null,null,null,null,null,null,""]
[4733,null,null,null,null,null,null,null,null,null,null,null,null,null,null,null,null,null,null,null,""]
[4734,null,null,null,null,null,null,null,null,null,null,null,null,null,null,null,null,null,null,null,""]
[4735,null,null,null,null,null,null,null,null,null,null,null,null,null,null,null,null,null,null,null,""]
[4736,null,null,null,null,null,null,null,null,null,null,null,null,null,null,null,null,null,null,null,""]
[4737,null,null,null,null,null,null,null,null,null,null,null,null,null,null,null,null,null,null,null,""]
[4738,null,null,null,null,null,null,null,null,null,null,null,null,null,null,null,null,null,null,null,{"$f":"LEFT(C4739,2)","v":""}]
[4739,null,null,null,null,null,null,null,null,null,null,null,null,null,null,null,null,null,null,null,""]
[4740,null,null,null,null,null,null,null,null,null,null,null,null,null,null,null,null,null,null,null,""]
[4741,null,null,null,null,null,null,null,null,null,null,null,null,null,null,null,null,null,null,null,""]
[4742,null,null,null,null,null,null,null,null,null,null,null,null,null,null,null,null,null,null,null,""]
[4743,null,null,null,null,null,null,null,null,null,null,null,null,null,null,null,null,null,null,null,""]
[4744,null,null,null,null,null,null,null,null,null,null,null,null,null,null,null,null,null,null,null,""]
[4745,null,null,null,null,null,null,null,null,null,null,null,null,null,null,null,null,null,null,null,""]
[4746,null,null,null,null,null,null,null,null,null,null,null,null,null,null,null,null,null,null,null,""]
[4747,null,null,null,null,null,null,null,null,null,null,null,null,null,null,null,null,null,null,null,""]
[4748,null,null,null,null,null,null,null,null,null,null,null,null,null,null,null,null,null,null,null,""]
[4749,null,null,null,null,null,null,null,null,null,null,null,null,null,null,null,null,null,null,null,""]
[4750,null,null,null,null,null,null,null,null,null,null,null,null,null,null,null,null,null,null,null,""]
[4751,null,null,null,null,null,null,null,null,null,null,null,null,null,null,null,null,null,null,null,""]
[4752,null,null,null,null,null,null,null,null,null,null,null,null,null,null,null,null,null,null,null,""]
[4753,null,null,null,null,null,null,null,null,null,null,null,null,null,null,null,null,null,null,null,""]
[4754,null,null,null,null,null,null,null,null,null,null,null,null,null,null,null,null,null,null,null,""]
[4755,null,null,null,null,null,null,null,null,null,null,null,null,null,null,null,null,null,null,null,""]
[4756,null,null,null,null,null,null,null,null,null,null,null,null,null,null,null,null,null,null,null,""]
[4757,null,null,null,null,null,null,null,null,null,null,null,null,null,null,null,null,null,null,null,""]
[4758,null,null,null,null,null,null,null,null,null,null,null,null,null,null,null,null,null,null,null,""]
[4759,null,null,null,null,null,null,null,null,null,null,null,null,null,null,null,null,null,null,null,""]
[4760,null,null,null,null,null,null,null,null,null,null,null,null,null,null,null,null,null,null,null,""]
[4761,null,null,null,null,null,null,null,null,null,null,null,null,null,null,null,null,null,null,null,""]
[4762,null,null,null,null,null,null,null,null,null,null,null,null,null,null,null,null,null,null,null,""]
[4763,null,null,null,null,null,null,null,null,null,null,null,null,null,null,null,null,null,null,null,""]
[4764,null,null,null,null,null,null,null,null,null,null,null,null,null,null,null,null,null,null,null,""]
[4765,null,null,null,null,null,null,null,null,null,null,null,null,null,null,null,null,null,null,null,""]
[4766,null,null,null,null,null,null,null,null,null,null,null,null,null,null,null,null,null,null,null,""]
[4767,null,null,null,null,null,null,null,null,null,null,null,null,null,null,null,null,null,null,null,""]
[4768,null,null,null,null,null,null,null,null,null,null,null,null,null,null,null,null,null,null,null,""]
[4769,null,null,null,null,null,null,null,null,null,null,null,null,null,null,null,null,null,null,null,""]
[4770,null,null,null,null,null,null,null,null,null,null,null,null,null,null,null,null,null,null,null,""]
[4771,null,null,null,null,null,null,null,null,null,null,null,null,null,null,null,null,null,null,null,""]
[4772,null,null,null,null,null,null,null,null,null,null,null,null,null,null,null,null,null,null,null,""]
[4773,null,null,null,null,null,null,null,null,null,null,null,null,null,null,null,null,null,null,null,""]
[4774,null,null,null,null,null,null,null,null,null,null,null,null,null,null,null,null,null,null,null,""]
[4775,null,null,null,null,null,null,null,null,null,null,null,null,null,null,null,null,null,null,null,""]
[4776,null,null,null,null,null,null,null,null,null,null,null,null,null,null,null,null,null,null,null,""]
[4777,null,null,null,null,null,null,null,null,null,null,null,null,null,null,null,null,null,null,null,""]
[4778,null,null,null,null,null,null,null,null,null,null,null,null,null,null,null,null,null,null,null,""]
[4779,null,null,null,null,null,null,null,null,null,null,null,null,null,null,null,null,null,null,null,""]
[4780,null,null,null,null,null,null,null,null,null,null,null,null,null,null,null,null,null,null,null,""]
[4781,null,null,null,null,null,null,null,null,null,null,null,null,null,null,null,null,null,null,null,""]
[4782,null,null,null,null,null,null,null,null,null,null,null,null,null,null,null,null,null,null,null,""]
[4783,null,null,null,null,null,null,null,null,null,null,null,null,null,null,null,null,null,null,null,""]
[4784,null,null,null,null,null,null,null,null,null,null,null,null,null,null,null,null,null,null,null,""]
[4785,null,null,null,null,null,null,null,null,null,null,null,null,null,null,null,null,null,null,null,""]
[4786,null,null,null,null,null,null,null,null,null,null,null,null,null,null,null,null,null,null,null,""]
[4787,null,null,null,null,null,null,null,null,null,null,null,null,null,null,null,null,null,null,null,""]
[4788,null,null,null,null,null,null,null,null,null,null,null,null,null,null,null,null,null,null,null,""]
[4789,null,null,null,null,null,null,null,null,null,null,null,null,null,null,null,null,null,null,null,""]
[4790,null,null,null,null,null,null,null,null,null,null,null,null,null,null,null,null,null,null,null,""]
[4791,null,null,null,null,null,null,null,null,null,null,null,null,null,null,null,null,null,null,null,""]
[4792,null,null,null,null,null,null,null,null,null,null,null,null,null,null,null,null,null,null,null,""]
[4793,null,null,null,null,null,null,null,null,null,null,null,null,null,null,null,null,null,null,null,""]
[4794,null,null,null,null,null,null,null,null,null,null,null,null,null,null,null,null,null,null,null,""]
[4795,null,null,null,null,null,null,null,null,null,null,null,null,null,null,null,null,null,null,null,""]
[4796,null,null,null,null,null,null,null,null,null,null,null,null,null,null,null,null,null,null,null,""]
[4797,null,null,null,null,null,null,null,null,null,null,null,null,null,null,null,null,null,null,null,""]
[4798,null,null,null,null,null,null,null,null,null,null,null,null,null,null,null,null,null,null,null,""]
[4799,null,null,null,null,null,null,null,null,null,null,null,null,null,null,null,null,null,null,null,""]
[4800,null,null,null,null,null,null,null,null,null,null,null,null,null,null,null,null,null,null,null,""]
[4801,null,null,null,null,null,null,null,null,null,null,null,null,null,null,null,null,null,null,null,""]
[4802,null,null,null,null,null,null,null,null,null,null,null,null,null,null,null,null,null,null,null,{"$f":"LEFT(C4803,2)","v":""}]
[4803,null,null,null,null,null,null,null,null,null,null,null,null,null,null,null,null,null,null,null,""]
[4804,null,null,null,null,null,null,null,null,null,null,null,null,null,null,null,null,null,null,null,""]
[4805,null,null,null,null,null,null,null,null,null,null,null,null,null,null,null,null,null,null,null,""]
[4806,null,null,null,null,null,null,null,null,null,null,null,null,null,null,null,null,null,null,null,""]
[4807,null,null,null,null,null,null,null,null,null,null,null,null,null,null,null,null,null,null,null,""]
[4808,null,null,null,null,null,null,null,null,null,null,null,null,null,null,null,null,null,null,null,""]
[4809,null,null,null,null,null,null,null,null,null,null,null,null,null,null,null,null,null,null,null,""]
[4810,null,null,null,null,null,null,null,null,null,null,null,null,null,null,null,null,null,null,null,""]
[4811,null,null,null,null,null,null,null,null,null,null,null,null,null,null,null,null,null,null,null,""]
[4812,null,null,null,null,null,null,null,null,null,null,null,null,null,null,null,null,null,null,null,""]
[4813,null,null,null,null,null,null,null,null,null,null,null,null,null,null,null,null,null,null,null,""]
[4814,null,null,null,null,null,null,null,null,null,null,null,null,null,null,null,null,null,null,null,""]
[4815,null,null,null,null,null,null,null,null,null,null,null,null,null,null,null,null,null,null,null,""]
[4816,null,null,null,null,null,null,null,null,null,null,null,null,null,null,null,null,null,null,null,""]
[4817,null,null,null,null,null,null,null,null,null,null,null,null,null,null,null,null,null,null,null,""]
[4818,null,null,null,null,null,null,null,null,null,null,null,null,null,null,null,null,null,null,null,""]
[4819,null,null,null,null,null,null,null,null,null,null,null,null,null,null,null,null,null,null,null,""]
[4820,null,null,null,null,null,null,null,null,null,null,null,null,null,null,null,null,null,null,null,""]
[4821,null,null,null,null,null,null,null,null,null,null,null,null,null,null,null,null,null,null,null,""]
[4822,null,null,null,null,null,null,null,null,null,null,null,null,null,null,null,null,null,null,null,""]
[4823,null,null,null,null,null,null,null,null,null,null,null,null,null,null,null,null,null,null,null,""]
[4824,null,null,null,null,null,null,null,null,null,null,null,null,null,null,null,null,null,null,null,""]
[4825,null,null,null,null,null,null,null,null,null,null,null,null,null,null,null,null,null,null,null,""]
[4826,null,null,null,null,null,null,null,null,null,null,null,null,null,null,null,null,null,null,null,""]
[4827,null,null,null,null,null,null,null,null,null,null,null,null,null,null,null,null,null,null,null,""]
[4828,null,null,null,null,null,null,null,null,null,null,null,null,null,null,null,null,null,null,null,""]
[4829,null,null,null,null,null,null,null,null,null,null,null,null,null,null,null,null,null,null,null,""]
[4830,null,null,null,null,null,null,null,null,null,null,null,null,null,null,null,null,null,null,null,""]
[4831,null,null,null,null,null,null,null,null,null,null,null,null,null,null,null,null,null,null,null,""]
[4832,null,null,null,null,null,null,null,null,null,null,null,null,null,null,null,null,null,null,null,""]
[4833,null,null,null,null,null,null,null,null,null,null,null,null,null,null,null,null,null,null,null,""]
[4834,null,null,null,null,null,null,null,null,null,null,null,null,null,null,null,null,null,null,null,""]
[4835,null,null,null,null,null,null,null,null,null,null,null,null,null,null,null,null,null,null,null,""]
[4836,null,null,null,null,null,null,null,null,null,null,null,null,null,null,null,null,null,null,null,""]
[4837,null,null,null,null,null,null,null,null,null,null,null,null,null,null,null,null,null,null,null,""]
[4838,null,null,null,null,null,null,null,null,null,null,null,null,null,null,null,null,null,null,null,""]
[4839,null,null,null,null,null,null,null,null,null,null,null,null,null,null,null,null,null,null,null,""]
[4840,null,null,null,null,null,null,null,null,null,null,null,null,null,null,null,null,null,null,null,""]
[4841,null,null,null,null,null,null,null,null,null,null,null,null,null,null,null,null,null,null,null,""]
[4842,null,null,null,null,null,null,null,null,null,null,null,null,null,null,null,null,null,null,null,""]
[4843,null,null,null,null,null,null,null,null,null,null,null,null,null,null,null,null,null,null,null,""]
[4844,null,null,null,null,null,null,null,null,null,null,null,null,null,null,null,null,null,null,null,""]
[4845,null,null,null,null,null,null,null,null,null,null,null,null,null,null,null,null,null,null,null,""]
[4846,null,null,null,null,null,null,null,null,null,null,null,null,null,null,null,null,null,null,null,""]
[4847,null,null,null,null,null,null,null,null,null,null,null,null,null,null,null,null,null,null,null,""]
[4848,null,null,null,null,null,null,null,null,null,null,null,null,null,null,null,null,null,null,null,""]
[4849,null,null,null,null,null,null,null,null,null,null,null,null,null,null,null,null,null,null,null,""]
[4850,null,null,null,null,null,null,null,null,null,null,null,null,null,null,null,null,null,null,null,""]
[4851,null,null,null,null,null,null,null,null,null,null,null,null,null,null,null,null,null,null,null,""]
[4852,null,null,null,null,null,null,null,null,null,null,null,null,null,null,null,null,null,null,null,""]
[4853,null,null,null,null,null,null,null,null,null,null,null,null,null,null,null,null,null,null,null,""]
[4854,null,null,null,null,null,null,null,null,null,null,null,null,null,null,null,null,null,null,null,""]
[4855,null,null,null,null,null,null,null,null,null,null,null,null,null,null,null,null,null,null,null,""]
[4856,null,null,null,null,null,null,null,null,null,null,null,null,null,null,null,null,null,null,null,""]
[4857,null,null,null,null,null,null,null,null,null,null,null,null,null,null,null,null,null,null,null,""]
[4858,null,null,null,null,null,null,null,null,null,null,null,null,null,null,null,null,null,null,null,""]
[4859,null,null,null,null,null,null,null,null,null,null,null,null,null,null,null,null,null,null,null,""]
[4860,null,null,null,null,null,null,null,null,null,null,null,null,null,null,null,null,null,null,null,""]
[4861,null,null,null,null,null,null,null,null,null,null,null,null,null,null,null,null,null,null,null,""]
[4862,null,null,null,null,null,null,null,null,null,null,null,null,null,null,null,null,null,null,null,""]
[4863,null,null,null,null,null,null,null,null,null,null,null,null,null,null,null,null,null,null,null,""]
[4864,null,null,null,null,null,null,null,null,null,null,null,null,null,null,null,null,null,null,null,""]
[4865,null,null,null,null,null,null,null,null,null,null,null,null,null,null,null,null,null,null,null,""]
[4866,null,null,null,null,null,null,null,null,null,null,null,null,null,null,null,null,null,null,null,{"$f":"LEFT(C4867,2)","v":""}]
[4867,null,null,null,null,null,null,null,null,null,null,null,null,null,null,null,null,null,null,null,""]
[4868,null,null,null,null,null,null,null,null,null,null,null,null,null,null,null,null,null,null,null,""]
[4869,null,null,null,null,null,null,null,null,null,null,null,null,null,null,null,null,null,null,null,""]
[4870,null,null,null,null,null,null,null,null,null,null,null,null,null,null,null,null,null,null,null,""]
[4871,null,null,null,null,null,null,null,null,null,null,null,null,null,null,null,null,null,null,null,""]
[4872,null,null,null,null,null,null,null,null,null,null,null,null,null,null,null,null,null,null,null,""]
[4873,null,null,null,null,null,null,null,null,null,null,null,null,null,null,null,null,null,null,null,""]
[4874,null,null,null,null,null,null,null,null,null,null,null,null,null,null,null,null,null,null,null,""]
[4875,null,null,null,null,null,null,null,null,null,null,null,null,null,null,null,null,null,null,null,""]
[4876,null,null,null,null,null,null,null,null,null,null,null,null,null,null,null,null,null,null,null,""]
[4877,null,null,null,null,null,null,null,null,null,null,null,null,null,null,null,null,null,null,null,""]
[4878,null,null,null,null,null,null,null,null,null,null,null,null,null,null,null,null,null,null,null,""]
[4879,null,null,null,null,null,null,null,null,null,null,null,null,null,null,null,null,null,null,null,""]
[4880,null,null,null,null,null,null,null,null,null,null,null,null,null,null,null,null,null,null,null,""]
[4881,null,null,null,null,null,null,null,null,null,null,null,null,null,null,null,null,null,null,null,""]
[4882,null,null,null,null,null,null,null,null,null,null,null,null,null,null,null,null,null,null,null,""]
[4883,null,null,null,null,null,null,null,null,null,null,null,null,null,null,null,null,null,null,null,""]
[4884,null,null,null,null,null,null,null,null,null,null,null,null,null,null,null,null,null,null,null,""]
[4885,null,null,null,null,null,null,null,null,null,null,null,null,null,null,null,null,null,null,null,""]
[4886,null,null,null,null,null,null,null,null,null,null,null,null,null,null,null,null,null,null,null,""]
[4887,null,null,null,null,null,null,null,null,null,null,null,null,null,null,null,null,null,null,null,""]
[4888,null,null,null,null,null,null,null,null,null,null,null,null,null,null,null,null,null,null,null,""]
[4889,null,null,null,null,null,null,null,null,null,null,null,null,null,null,null,null,null,null,null,""]
[4890,null,null,null,null,null,null,null,null,null,null,null,null,null,null,null,null,null,null,null,""]
[4891,null,null,null,null,null,null,null,null,null,null,null,null,null,null,null,null,null,null,null,""]
[4892,null,null,null,null,null,null,null,null,null,null,null,null,null,null,null,null,null,null,null,""]
[4893,null,null,null,null,null,null,null,null,null,null,null,null,null,null,null,null,null,null,null,""]
[4894,null,null,null,null,null,null,null,null,null,null,null,null,null,null,null,null,null,null,null,""]
[4895,null,null,null,null,null,null,null,null,null,null,null,null,null,null,null,null,null,null,null,""]
[4896,null,null,null,null,null,null,null,null,null,null,null,null,null,null,null,null,null,null,null,""]
[4897,null,null,null,null,null,null,null,null,null,null,null,null,null,null,null,null,null,null,null,""]
[4898,null,null,null,null,null,null,null,null,null,null,null,null,null,null,null,null,null,null,null,""]
[4899,null,null,null,null,null,null,null,null,null,null,null,null,null,null,null,null,null,null,null,""]
[4900,null,null,null,null,null,null,null,null,null,null,null,null,null,null,null,null,null,null,null,""]
[4901,null,null,null,null,null,null,null,null,null,null,null,null,null,null,null,null,null,null,null,""]
[4902,null,null,null,null,null,null,null,null,null,null,null,null,null,null,null,null,null,null,null,""]
[4903,null,null,null,null,null,null,null,null,null,null,null,null,null,null,null,null,null,null,null,""]
[4904,null,null,null,null,null,null,null,null,null,null,null,null,null,null,null,null,null,null,null,""]
[4905,null,null,null,null,null,null,null,null,null,null,null,null,null,null,null,null,null,null,null,""]
[4906,null,null,null,null,null,null,null,null,null,null,null,null,null,null,null,null,null,null,null,""]
[4907,null,null,null,null,null,null,null,null,null,null,null,null,null,null,null,null,null,null,null,""]
[4908,null,null,null,null,null,null,null,null,null,null,null,null,null,null,null,null,null,null,null,""]
[4909,null,null,null,null,null,null,null,null,null,null,null,null,null,null,null,null,null,null,null,""]
[4910,null,null,null,null,null,null,null,null,null,null,null,null,null,null,null,null,null,null,null,""]
[4911,null,null,null,null,null,null,null,null,null,null,null,null,null,null,null,null,null,null,null,""]
[4912,null,null,null,null,null,null,null,null,null,null,null,null,null,null,null,null,null,null,null,""]
[4913,null,null,null,null,null,null,null,null,null,null,null,null,null,null,null,null,null,null,null,""]
[4914,null,null,null,null,null,null,null,null,null,null,null,null,null,null,null,null,null,null,null,""]
[4915,null,null,null,null,null,null,null,null,null,null,null,null,null,null,null,null,null,null,null,""]
[4916,null,null,null,null,null,null,null,null,null,null,null,null,null,null,null,null,null,null,null,""]
[4917,null,null,null,null,null,null,null,null,null,null,null,null,null,null,null,null,null,null,null,""]
[4918,null,null,null,null,null,null,null,null,null,null,null,null,null,null,null,null,null,null,null,""]
[4919,null,null,null,null,null,null,null,null,null,null,null,null,null,null,null,null,null,null,null,""]
[4920,null,null,null,null,null,null,null,null,null,null,null,null,null,null,null,null,null,null,null,""]
[4921,null,null,null,null,null,null,null,null,null,null,null,null,null,null,null,null,null,null,null,""]
[4922,null,null,null,null,null,null,null,null,null,null,null,null,null,null,null,null,null,null,null,""]
[4923,null,null,null,null,null,null,null,null,null,null,null,null,null,null,null,null,null,null,null,""]
[4924,null,null,null,null,null,null,null,null,null,null,null,null,null,null,null,null,null,null,null,""]
[4925,null,null,null,null,null,null,null,null,null,null,null,null,null,null,null,null,null,null,null,""]
[4926,null,null,null,null,null,null,null,null,null,null,null,null,null,null,null,null,null,null,null,""]
[4927,null,null,null,null,null,null,null,null,null,null,null,null,null,null,null,null,null,null,null,""]
[4928,null,null,null,null,null,null,null,null,null,null,null,null,null,null,null,null,null,null,null,""]
[4929,null,null,null,null,null,null,null,null,null,null,null,null,null,null,null,null,null,null,null,""]
[4930,null,null,null,null,null,null,null,null,null,null,null,null,null,null,null,null,null,null,null,{"$f":"LEFT(C4931,2)","v":""}]
[4931,null,null,null,null,null,null,null,null,null,null,null,null,null,null,null,null,null,null,null,""]
[4932,null,null,null,null,null,null,null,null,null,null,null,null,null,null,null,null,null,null,null,""]
[4933,null,null,null,null,null,null,null,null,null,null,null,null,null,null,null,null,null,null,null,""]
[4934,null,null,null,null,null,null,null,null,null,null,null,null,null,null,null,null,null,null,null,""]
[4935,null,null,null,null,null,null,null,null,null,null,null,null,null,null,null,null,null,null,null,""]
[4936,null,null,null,null,null,null,null,null,null,null,null,null,null,null,null,null,null,null,null,""]
[4937,null,null,null,null,null,null,null,null,null,null,null,null,null,null,null,null,null,null,null,""]
[4938,null,null,null,null,null,null,null,null,null,null,null,null,null,null,null,null,null,null,null,""]
[4939,null,null,null,null,null,null,null,null,null,null,null,null,null,null,null,null,null,null,null,""]
[4940,null,null,null,null,null,null,null,null,null,null,null,null,null,null,null,null,null,null,null,""]
[4941,null,null,null,null,null,null,null,null,null,null,null,null,null,null,null,null,null,null,null,""]
[4942,null,null,null,null,null,null,null,null,null,null,null,null,null,null,null,null,null,null,null,""]
[4943,null,null,null,null,null,null,null,null,null,null,null,null,null,null,null,null,null,null,null,""]
[4944,null,null,null,null,null,null,null,null,null,null,null,null,null,null,null,null,null,null,null,""]
[4945,null,null,null,null,null,null,null,null,null,null,null,null,null,null,null,null,null,null,null,""]
[4946,null,null,null,null,null,null,null,null,null,null,null,null,null,null,null,null,null,null,null,""]
[4947,null,null,null,null,null,null,null,null,null,null,null,null,null,null,null,null,null,null,null,""]
[4948,null,null,null,null,null,null,null,null,null,null,null,null,null,null,null,null,null,null,null,""]
[4949,null,null,null,null,null,null,null,null,null,null,null,null,null,null,null,null,null,null,null,""]
[4950,null,null,null,null,null,null,null,null,null,null,null,null,null,null,null,null,null,null,null,""]
[4951,null,null,null,null,null,null,null,null,null,null,null,null,null,null,null,null,null,null,null,""]
[4952,null,null,null,null,null,null,null,null,null,null,null,null,null,null,null,null,null,null,null,""]
[4953,null,null,null,null,null,null,null,null,null,null,null,null,null,null,null,null,null,null,null,""]
[4954,null,null,null,null,null,null,null,null,null,null,null,null,null,null,null,null,null,null,null,""]
[4955,null,null,null,null,null,null,null,null,null,null,null,null,null,null,null,null,null,null,null,""]
[4956,null,null,null,null,null,null,null,null,null,null,null,null,null,null,null,null,null,null,null,""]
[4957,null,null,null,null,null,null,null,null,null,null,null,null,null,null,null,null,null,null,null,""]
[4958,null,null,null,null,null,null,null,null,null,null,null,null,null,null,null,null,null,null,null,""]
[4959,null,null,null,null,null,null,null,null,null,null,null,null,null,null,null,null,null,null,null,""]
[4960,null,null,null,null,null,null,null,null,null,null,null,null,null,null,null,null,null,null,null,""]
[4961,null,null,null,null,null,null,null,null,null,null,null,null,null,null,null,null,null,null,null,""]
[4962,null,null,null,null,null,null,null,null,null,null,null,null,null,null,null,null,null,null,null,""]
[4963,null,null,null,null,null,null,null,null,null,null,null,null,null,null,null,null,null,null,null,""]
[4964,null,null,null,null,null,null,null,null,null,null,null,null,null,null,null,null,null,null,null,""]
[4965,null,null,null,null,null,null,null,null,null,null,null,null,null,null,null,null,null,null,null,""]
[4966,null,null,null,null,null,null,null,null,null,null,null,null,null,null,null,null,null,null,null,""]
[4967,null,null,null,null,null,null,null,null,null,null,null,null,null,null,null,null,null,null,null,""]
[4968,null,null,null,null,null,null,null,null,null,null,null,null,null,null,null,null,null,null,null,""]
[4969,null,null,null,null,null,null,null,null,null,null,null,null,null,null,null,null,null,null,null,""]
[4970,null,null,null,null,null,null,null,null,null,null,null,null,null,null,null,null,null,null,null,""]
[4971,null,null,null,null,null,null,null,null,null,null,null,null,null,null,null,null,null,null,null,""]
[4972,null,null,null,null,null,null,null,null,null,null,null,null,null,null,null,null,null,null,null,""]
[4973,null,null,null,null,null,null,null,null,null,null,null,null,null,null,null,null,null,null,null,""]
[4974,null,null,null,null,null,null,null,null,null,null,null,null,null,null,null,null,null,null,null,""]
[4975,null,null,null,null,null,null,null,null,null,null,null,null,null,null,null,null,null,null,null,""]
[4976,null,null,null,null,null,null,null,null,null,null,null,null,null,null,null,null,null,null,null,""]
[4977,null,null,null,null,null,null,null,null,null,null,null,null,null,null,null,null,null,null,null,""]
[4978,null,null,null,null,null,null,null,null,null,null,null,null,null,null,null,null,null,null,null,""]
[4979,null,null,null,null,null,null,null,null,null,null,null,null,null,null,null,null,null,null,null,""]
[4980,null,null,null,null,null,null,null,null,null,null,null,null,null,null,null,null,null,null,null,""]
[4981,null,null,null,null,null,null,null,null,null,null,null,null,null,null,null,null,null,null,null,""]
[4982,null,null,null,null,null,null,null,null,null,null,null,null,null,null,null,null,null,null,null,""]
[4983,null,null,null,null,null,null,null,null,null,null,null,null,null,null,null,null,null,null,null,""]
[4984,null,null,null,null,null,null,null,null,null,null,null,null,null,null,null,null,null,null,null,""]
[4985,null,null,null,null,null,null,null,null,null,null,null,null,null,null,null,null,null,null,null,""]
[4986,null,null,null,null,null,null,null,null,null,null,null,null,null,null,null,null,null,null,null,""]
[4987,null,null,null,null,null,null,null,null,null,null,null,null,null,null,null,null,null,null,null,""]
[4988,null,null,null,null,null,null,null,null,null,null,null,null,null,null,null,null,null,null,null,""]
[4989,null,null,null,null,null,null,null,null,null,null,null,null,null,null,null,null,null,null,null,""]
[4990,null,null,null,null,null,null,null,null,null,null,null,null,null,null,null,null,null,null,null,""]
[4991,null,null,null,null,null,null,null,null,null,null,null,null,null,null,null,null,null,null,null,""]
[4992,null,null,null,null,null,null,null,null,null,null,null,null,null,null,null,null,null,null,null,""]
[4993,null,null,null,null,null,null,null,null,null,null,null,null,null,null,null,null,null,null,null,""]
[4994,null,null,null,null,null,null,null,null,null,null,null,null,null,null,null,null,null,null,null,{"$f":"LEFT(C4995,2)","v":""}]
[4995,null,null,null,null,null,null,null,null,null,null,null,null,null,null,null,null,null,null,null,""]
[4996,null,null,null,null,null,null,null,null,null,null,null,null,null,null,null,null,null,null,null,""]
[4997,null,null,null,null,null,null,null,null,null,null,null,null,null,null,null,null,null,null,null,""]
[4998,null,null,null,null,null,null,null,null,null,null,null,null,null,null,null,null,null,null,null,""]
[4999,null,null,null,null,null,null,null,null,null,null,null,null,null,null,null,null,null,null,null,""]
[5000,null,null,null,null,null,null,null,null,null,null,null,null,null,null,null,null,null,null,null,""]

{"sheet":"nuovo","index":2,"n_rows":28,"n_cols":20,"rows_kept":28,"cut":false,"hidden":true,"merged":[[22,5,22,14],[23,5,23,14],[24,5,24,14],[25,5,25,14],[15,5,15,14],[16,5,16,14],[17,5,17,14],[18,5,18,14],[19,5,19,14],[20,5,20,14],[21,5,21,14],[4,2,4,3],[5,2,6,3],[1,19,1,35],[3,19,3,37],[2,19,2,35],[1,2,1,3],[2,2,2,3],[3,2,3,3]]}
[]
[null,null,null,null,null,null,null,null,null,null,null,null,null,null,null,null,null,null,"c",{"$f":"\"A T T E N Z I O N E                                                                                                                                           ci sono ancora celle bianche vuote scivici un carattere altrimenti il log non funziona!!!!!!!\"","v":"A T T E N Z I O N E                                                                                                                                           ci sono ancora celle bianche vuote scivici un carattere altrimenti il log non funziona!!!!!!!"}]
[null,null,"LOG PER IL DIPLOMA:",null,1,null,null,null,null,null,null,null,null,null,null,null,null,null,"s",{"$f":"\"Inserire i dati nelle celle bianche tenendo conto che TUTTE dovranno essere riempite per cui se non si hanno 16 stazioni accreditate nelle celle vuote scrivere qualsiasi carattere\"","v":"Inserire i dati nelle celle bianche tenendo conto che TUTTE dovranno essere riempite per cui se non si hanno 16 stazioni accreditate nelle celle vuote scrivere qualsiasi carattere"}]
[null,null,{"$f":"IF(D11=\"\",\"\",IF(OR(D11=\"II0IDP\",D11=\"II0ICH\",D11=\"II0ICV\",D11=\"II0IGU\",D11=\"II1ICS\",D11=\"II1IGG\",D11=\"II31CZ\",D11=\"II5IDK\",D11=\"II6ICA\",D11=\"II7ICT\",D11=\"II7ICE\",D11=\"II8ICN\",D11=\"II9IGJ\",D11=\"II9IGA\",D11=\"II9IGB\",D11=\"II9ICF\",D11=\"II0IDR\"),\"COASTAL RADIO STATION\",\"SHIP RADIO STATION\"))","v":"COASTAL RADIO STATION"},null,{"$f":"IF(C4=\"SHIP RADIO STATION\",1,IF(C4=\"COASTAL RADIO STATION\",2,0))","v":2},null,null,null,null,null,null,null,null,null,null,null,null,null,{"$f":"IF(D28=0,1,0)","v":0},"Tutti i dati del nuovo log sono stati inseriti tornando al foglio LOG verranno CANCELLATI tutti gli eventuali dati in esso inseriti quindi chiudere e salvare ed il Log è pronto per essere distribuito"]
[null,null,{"$f":"D8","v":2015}]
[null,null,{"$f":"IF(D11=\"\",\"MANCANO I DATI DEL DIPLOMA\",\"\")","v":""}]
[]
[null,null,"Anno del diploma",2015]
[null,null,"Data inizio (gg mmmm)","03 marzo"]
[null,null,"Data fine (gg mmmm)","27 marzo"]
[null,null,"Stazione accreditata JOLLY","II9IGJ"]
[null,null,"Stazione accreditata n. 1","II1ICS"]
[null,null,"Stazione accreditata n. 2","II5IDK"]
[null,null,"Stazione accreditata n. 3","II0IDP"]
[null,null,"Stazione accreditata n. 4","II0IDR"]
[null,null,"Stazione accreditata n. 5","II1IGG",null,"N O T E "]
[null,null,"Stazione accreditata n. 6","II9ICF",null,"Se vi è apparso questo foglio vuol dire che all'avvio del file avete scelto di preparare il nuovo "]
[null,null,"Stazione accreditata n. 7","II0ICH",null,"Log. Ecco come fare: Per prima cosa dovete pulire le eventuale celle di qso precedenti e "]
[null,null,"Stazione accreditata n. 8","II3ICZ",null,"per non farlo manualmente è stato inserito l'apposito tasto rosso che premuto vi mostrerà"]
[null,null,"Stazione accreditata n. 9",null,null,"prima un'avviso poi pulirà tutti i qso del vecchio log e le celle qui di fianco in modo da"]
[null,null,"Stazione accreditata n. 10",null,null,"inserire i dati del nuovo diploma che sarà riconosciuto automaticamente e mostrato nella "]
[null,null,"Stazione accreditata n. 11",null,null,"cella sotto la voce diploma. Stabilito il tipo di diploma (ship o coastal)  bisogna abbinare "]
[null,null,"Stazione accreditata n. 12",null,null,"il relativo banner in cima al foglio del log per cui sarà utilizzato il relativo tasto."]
[null,null,"Stazione accreditata n. 13",null,null,"Ora abbiamo tutti i dati per il diploma ed il foglio dei qso pronto all'uso quindi ci portiano "]
[null,null,"Stazione accreditata n. 14",null,null,"al foglio dei qso con l'apposito tasto e richiamiamo il database per aggiungere eventuali "]
[null,null,"Stazione accreditata n. 15",null,null,"nuovi soci A.R.M.I. rilevabili dal sito dell'associazione. Chiudere salvare e il LOG è pronto!"]
[null,null,"Stazione accreditata n. 16"]
[null,null,null,{"$f":"COUNTBLANK(D8:D27)","v":8}]

{"sheet":"istruzioni","index":3,"n_rows":263,"n_cols":4,"rows_kept":263,"cut":false,"hidden":false,"merged":[]}
[]
[null,null,null,"Free software by IZ8OGK"]
[null,null,null,"sviluppato su licenza GNU GPL vedi:"]
[]
[]
[null,null,null,"quando richiesta password = anno"]
[]
[null,null,null,"PREMESSA: Si raccomanda vivamente di muoversi con gli appositi tasti di navigazione così"]
[null,null,null,"da utilizzare le relative macro necessarie per il continuo aggiornamento del LOG."]
[]
[null,null,null,{"$f":"UPPER(LOG!C1)","v":"COASTAL RADIO STATIONS"}]
[null,null,null,"LOG DI STAZIONE "]
[null,null,null,"ISTRUZIONI"]
[]
[null,null,null,"All'avvio del file excel si aprirà sempre sul log anche se si è chiuso su altro foglio."]
[]
[null,null,null,"La prima volta che viene aperto il file, essendo i dati stazione vuoti, in particolare il nominativo,"]
[null,null,null,"uscirà l’avviso di liberatoria con il quale si chiede di voler accettare i rischi per l’uso o rifiutare"]
[null,null,null,"Il tasto attivo è NO per cui confermando con l’invio, rifiutate l’uso e uscite immediatamente."]
[null,null,null,"Accettando i rischi dovete obbligatoriamente confermare cliccando il tasto SI, quindi si chiuderà"]
[null,null,null,"l’avviso e il log sarà pronto per essere usato. Inserendo il nominativo non uscirà piu’."]
[]
[]
[]
[]
[]
[]
[]
[]
[]
[]
[]
[]
[]
[]
[]
[null,null,null,"di seguito verrà richiesto d'inserire l'anno del Diploma e tale richiesta uscirà uscirà di nuovo solo "]
[null,null,null,"se la relativa  cella risulterà vuota."]
[]
[]
[]
[]
[]
[]
[]
[]
[]
[null,null,null,"Se se è stato scaricato il file dal sito ARMI e lo avete rinominato potreste avere l’avviso di cui sotto"]
[null,null,null,"rinominatelo come scaricato cosi da non avere eventuali problemi per l'aggiornamento del DB"]
[]
[]
[]
[]
[]
[]
[]
[]
[]
[]
[]
[]
[]
[]
[null,null,null,"NOTA : i nomi LogShip77 e LogShip88 sono fittizi, messi solo per questo esempio"]
[]
[]
[]
[]
[null,null,null,"AREA PUNTEGGIO: si ha un contatore parziale che corrisponde al punteggio attribuito in base "]
[null,null,null,"al Call inserito e al modo con cui si è effettuato il qso. Moltiplicatore corrisponde al collegamento "]
[null,null,null,"effettuato con le stazioni accreditate prese in considerazione una sola volta. Il contatore totale"]
[null,null,null,"che corrisponte al punteggio parziale per il moltiplicatore."]
[]
[]
[]
[]
[]
[null,null,null,"AREA TASTI: questi tasti ci permettono di effettuare delle operazioni in automatico."]
[]
[null,null,null,"BLOCCO: vengono bloccate tutte le colone con esclusione di UTC,CALL e Note in modo da"]
[null,null,null,"velocizzare al massimo l’inserimento dei qso. Il nome delle colonne bloccate da bianche"]
[null,null,null,"diventeranno rosse"]
[]
[]
[]
[]
[null,null,null,"SBLOCCO: sblocca le celle bloccate con il tasto blocca. (nome da rosso a bianco)"]
[]
[]
[]
[]
[null,null,null,"DUPLICATI:ci permette di controllare se involontariamente abbiamo inserito dei duplicati quindi"]
[null,null,null,"vengono messi in risalto per poi essere cancellati ed avere il punteggio preciso. Cancellare il qso"]
[null,null,null,"duplicato inserendo al suo posto il segno meno o trattino (-)"]
[]
[]
[]
[]
[]
[]
[]
[]
[]
[]
[]
[]
[]
[]
[]
[]
[]
[]
[null,null,null,"AGGIORNA DB: ci permette di aggiornare automaticamente il database del LOG scaricando "]
[null,null,null,"dal sito ARMI il file \"aggiornamentDB\" il quale una volta scaricato dovra essere messo dove  "]
[null,null,null,"è posizionato il log o nella sua cartella. Se il Log e aggiornamentoDB si trovano nella stessa "]
[null,null,null,"posizione alla chiusura dell'avviso verrà cancellato il vecchio DB e caricato il nuovo"]
[]
[]
[]
[]
[]
[]
[]
[]
[]
[]
[]
[]
[]
[]
[]
[]
[null,null,null,"Qualora il file \"aggiornamentoDB\" non viene posizionato come detto in precedenza uscirà l'avviso"]
[null,null,null,"che non trova il DB (non è vicino al log) quindi quindi alla chiusura dell'avviso verrà cancellato il"]
[null,null,null,"vecchio DB ma non verrà caricato il nuovo per cui avrete un log senza DB pertanto ripetete"]
[null,null,null,"l'operazione come indicato in precedenza"]
[]
[]
[]
[]
[]
[]
[]
[]
[]
[]
[]
[]
[null,null,null,"CANCELLA QSO PER NUOVO LOG: questo tasto ci permette di pulire il log in modo da poterlo "]
[null,null,null,"utilizzare negli anni seguenti. Prima di cancellare tutto uscirà questo avviso come avvertimento."]
[]
[]
[]
[]
[]
[]
[]
[]
[]
[]
[]
[]
[]
[null,null,null,"AREA CONTROLLO: di qui si possono controllare alcune situazioni"]
[]
[]
[]
[]
[]
[]
[null,null,null,"SITO ELENCO SOCI ARMI: da qui ci colleghiamo direttamente alla lista dei soci pubblicata sul "]
[null,null,null,"sito così da controllare se il database del log è aggiornato dovendo MI Log (punto successivo)"]
[null,null,null,"essere uguale all’ultimo MI del sito."]
[null,null,null,"SITO REGOLAMENTO: di qui possiamo andare direttamente al regolamento e controllare le "]
[null,null,null,"stazioni accreditate che dovranno essere inserite nelle apposite celle "]
[null,null,null,"DB AGGIORNATO A MIXXX: qui viene indicato l’ultimo socio del DB del log che deve essere"]
[null,null,null,"sempre uguale con l’ultimo socio della lista membri del sito ARMI. Se non si legge MIXXX ma"]
[null,null,null,"un #N/D questo vuol dire che il DB è vuoto quindi aggiornare come detto in precedenza"]
[]
[null,null,null,"AREA AVVISI: avvisi che escono quando manca qualcosa. Quando è tutto ok non c’è nulla"]
[]
[]
[]
[]
[]
[]
[]
[null,null,null,"AREA INSERIMENTO DATI: si inseriscono i dati per far funzionare il log quindi bisogna riempire "]
[null,null,null,"le celle grigie di cui alcune una volta attivata esce l’indicazione cosa inserire."]
[]
[]
[]
[]
[]
[]
[]
[]
[]
[]
[]
[]
[]
[null,null,null,"si raccomanda l’inserimanto delle stazione accreditate. La prima sarà la Jolly le altre a seguire con"]
[null,null,null,"il punteggio. I nominativi dovranno essere inseriti precisi altrimenti non saranno riconosciuti nel DB"]
[]
[null,null,null,"INSERIMENTO DEI QSO: analizziamo le singole colonne"]
[]
[]
[]
[]
[null,null,null,"QSO# (BLOCCATA):il numero esce automaticamente inserendo la data"]
[null,null,null,"DATA:nel formato ggmmaaaa Non preoccupatevi di inserire le barre (/) poiché queste saranno"]
[null,null,null,"inserite automaticamente alla chiusura del log"]
[null,null,null,"(se l'intestazione è rossa vuol dire che la colonna è stata bloccata con il tasto blocca)"]
[null,null,null,"NOTA:la data deve essere SEMPRE inserita e non ci dovranno essere celle vuote!!!!"]
[null,null,null,"UTC: nel formato hhmm. Come per Data i due punti (:) saranno inseriti alla chiusura del log"]
[null,null,null,"BANDA: è stato inserita una finestra a discesa con le bande stabiliti dal regolamento."]
[null,null,null,"(se l'intestazione è rossa vuol dire che la colonna è stata bloccata con il tasto blocca)"]
[null,null,null,"FREQ: Nella formattazione di queste celle si è tenuto conto dei decimali."]
[null,null,null,"(se l'intestazione è rossa vuol dire che la colonna è stata bloccata con il tasto blocca)"]
[null,null,null,"MODO: è stato inserita una finestra a discesa con i modi stabiliti dal regolamento."]
[null,null,null,"(se l'intestazione è rossa vuol dire che la colonna è stata bloccata con il tasto blocca)"]
[null,null,null,"ATTENZIONE: inserite sempre il modo perché in base al modo verrà dato il punteggio"]
[null,null,null,"RST:non presenta particolarità."]
[null,null,null,"(se l'intestazione è rossa vuol dire che la colonna è stata bloccata con il tasto blocca)"]
[null,null,null,"CALL: non presenta particolarità. Comunque scritto esso sarà sempre maiuscolo"]
[null,null,null,"NAVAL(BLOCCATA): uscirà la sigla e il numero se il call è un Naval, altrimenti resterà vuota"]
[null,null,null,"PUNTI (BLOCCATA):uscirà il punteggio per il QSO tenendo conto del MODO e del CALL"]
[null,null,null,"STAZIONE/OPERATORE (leggi commento) BLOCCATA:Inserendo il Call,come specificato "]
[null,null,null," nel commento si potrà avere:"]
[null,null,null,"il nome dell'operatore (call e nome nel DB)"]
[null,null,null,"la scritta \"scrivi nome nelle note\"(call nel DB ma manca nome)"]
[null,null,null,"la  scritta \"indipendent\" (non c'è nulla nel  DB)"]
[null,null,null,"NOTE: inseriremo eventuali note"]
[]
[null,null,null,"FRECCIA ROSSA: ci porta automaticamente alla prima cella vuota o utile della colonna data"]
[null,null,null,"FRECCIA VERDE: ci porta automaticamente alla prima cella della colonna data"]
[]
[null,null,null,"Si è provveduto a colorare le celle secondo il giorno dei QSO. Al variare del giorno varia il colore "]
[null,null,null,"delle celle in questo modo si ha una visione piu' completa e ordinata del Log. Anche in questo "]
[null,null,null,"caso le celle si coloreranno alla chiusura del log"]
[]
[]
[]
[]
[]
[]
[]
[]
[]
[]
[]
[]
[null,null,null,"per qualsiasi piu' piccola problematica le mie mail sono:"]
[]
[null,null,null,"gennarob@libero.it   -   gennaro.benincasa@gmail.it"]
[]
[null,null,null,"non dimenticate di allegare il log e una piccola spiegazione del problema"]
[]
[null,null,null,"g r a z i e   p e r   l a   c o l l a b o r a z i o n e!!!!!"]
[]
[]
[null,null,null,"Marzo 2020                                                                                                             IZ8OGK Gennaro"]