{"text_format":"1","workbook":"xlsx","n_sheets":9,"sheets":["home","LOG","Statisti","Database","info","Regol","new","immagini","Foglio1"],"not_rendered":{"charts":2,"images":38,"macros":1,"external_links":0,"defined_names":1,"comments":4,"pivot_tables":0},"unopened":[],"bounds":{"document_bytes":16777216,"sheet_cells":100000,"rows_first":2000,"rows_last":500,"rows_between":2000,"halvings":0,"cell_chars":16384,"cell_head_chars":4096},"cells_cut":0,"cells_raw":0,"read":"whole","date_system":"1900"}

{"sheet":"home","index":0,"n_rows":36,"n_cols":15,"rows_kept":36,"cut":false,"hidden":false,"merged":[[12,3,13,3],[2,1,2,3],[7,6,7,14],[8,6,8,14],[4,13,5,14],[4,7,5,12],[2,6,3,14]]}
["\\",null,null,null,null,null,null,null,null,null,null,null,null,null,"swl"]
[]
[null,"        DATI STAZIONE",null,null,null,null,"A.R.M.I.   ITALIAN NAVY AWARD"]
[null,"Nominativo",null,{"$f":"LOG!M2","v":""}]
[null,"Operatore",null,{"$f":"LOG!M3","v":""},null,null,null,{"$f":"new!B2","v":"SHIP RADIO STATION"},null,null,null,null,null,{"$f":"new!D3","v":2016}]
[null,"Categoria",{"$f":"LOG!L4","v":"SWL"}]
[null,null,"Indirizzo e-mail"]
[null,null,null,{"$f":"IF(C8=\"\",\"manca dato!!!!\",\"\")","v":"manca dato!!!!"},null,null,{"$f":"new!N28","v":"dalle 0001 UTC sabato 10 Settembre"}]
[null,null,"invio diploma cartaceo a:",null,null,null,{"$f":"new!N29","v":"alle 2359 UTC domenica 25 Settembre"}]
[null,"Cognome"]
[null,"Nome"]
[null,"Indirizzo"]
[null,"Cap",null,{"$f":"IF(OR(C10=\"\",C11=\"\",C12=\"\",C13=\"\",C14=\"\",C15=\"\"),\"manca uno            o piu' dati\",\"\")","v":"manca uno            o piu' dati"}]
[null,"Città"]
[null,"Nazione"]
[null,"NOTE"]
[]
[]
[]
[]
[]
[]
[]
[]
[]
[]
[]
[]
[]
[]
[]
[]
[]
[null,null,{"$f":"IF(LOG!M4=\"\",\"\",LOG!M4)","v":"SOMMA PARZIALE=  0"}]
[null,null,{"$f":"IF(C34=\"\",\"\",\"(STAZIONI = \"&LOG!R23&\"/moltiplicatore = \"&LOG!Z24&\")\")","v":"(STAZIONI = 10/moltiplicatore = 0)"}]
[null,null,{"$f":"IF(C34=\"\",\"\",LOG!M5)","v":"SOMMA  TOTALE=  0"}]

{"sheet":"LOG","index":1,"n_rows":6001,"n_cols":26,"rows_kept":2250,"cut":true,"hidden":false,"merged":[[0,0,0,1],[1,0,1,1]],"bounds":{"rows_first":1000,"rows_last":250,"rows_between":1000,"halvings":1}}
[null,null,null,null,null,{"$f":"home!H5","v":"SHIP RADIO STATION"},null,null,null,null,{"$f":"home!N5","v":2016},null,null,null,"swl","se è SWL",null,null,"NAVAL",null,null,null,null,{"$f":"#REF!","v":{"$error":"#REF!"}}]
[null,null,null,null,null,null,null,null,null,null,"Nominativo",{"$f":"IF(home!C4=\"\",\"\",home!C4)","v":""},{"$f":"IF(N54,\"\",N53)","v":""},null,null,null,null,null,"INDIPENDENT",null,null,null,null,{"$f":"#REF!","v":{"$error":"#REF!"}}]
[null,null,null,null,null,null,null,null,null,null,"Operatore",null,{"$f":"IF(N64,\"\",IF(N63=0,\"<----scrivi (write)\",N63))","v":""},{"$f":"SUMIF(J5:J5993,\"<>#N/D\")","v":0},null,null,null,null,"SWL"]
[null,"a",null,null,null,null,null,null,null,null,"Categoria",{"$f":"IF(M2<>\"\",S1,IF(AND(O1=\"swl\",M2=\"\"),S3,IF(AND(M2=\"\",L2=\"\"),\"\",S2)))","v":"SWL"},{"$f":"\"SOMMA PARZIALE=  \"&N5","v":"SOMMA PARZIALE=  0"},null,null,null,null,null,null,null,null,null,"cerca B1-E5000"]
["QSO#","DATA","UTC","BANDA","FREQ.","MODE","RST ","CALL","NAVAL #","PUNTI     ","OPERATORE                    (leggi commento)","N O T E ",{"$f":"IF(Z24=0,\"SOMMA  TOTALE=  \"&N5,\"SOMMA  TOTALE=  \"&N5*Z24)","v":"SOMMA  TOTALE=  0"},{"$f":"SUM(N3:N4)","v":0},null,null,"ALL STATION","2016 STATION",null,"Punti Stazione",null,"stazione indipendente","fino a riga 6000",null,"    moltiplicatore"]
[1,null,null,null,null,null,null,null,{"$f":"IF(ISERROR(VLOOKUP(H6,Database!$B$1:$C$5908,2,FALSE)),\"\",VLOOKUP(H6,Database!$B$1:$C$5908,2,FALSE))","v":""},{"$f":"IF(V6=1,1,IF(AND(T6=0,F6=\"SSB\",V6<>\"\"),2,IF(AND(T6=0,F6=\"FM\",V6<>\"\"),2,IF(AND(T6=0,F6=\"DIGI\",V6<>\"\"),3,IF(AND(T6=0,F6=\"CW\",V6<>\"\"),5,IF(H6=\"-\",\"\",T6))))))","v":""},{"$f":"IF(H6=\"-\",\"\",IF(AND(H6<>\"\",X6=TRUE),\"INDIPENDENT\",IF(W6=0,\"SCRIVI NOME NELLE NOTE\",W6)))","v":{"$error":"#N/A"}},null,null,null,null,1,"II0ICH",{"$f":"new!J19","v":"II2IAOG"},null,{"$f":"IF(H6=\"\",\"\",IF(H6=$R$6,25,IF(OR(H6=$R$7,H6=$R$8,H6=$R$9,H6=$R$10,H6=$R$11,H6=$R$12,H6=$R$13,H6=$R$14,H6=$R$15,H6=$R$16,H6=$R$17,H6=$R$18,H6=$R$19,H6=$R$20,H6=$R$21,H6=$R$22,H6=$R$23),15,0)))","v":""},{"$f":"ISERROR(I6)","v":false},{"$f":"IF(H6=\"-\",\"\",IF(AND(T6=0,U6=FALSE,I6=\"\"),1,2))","v":2},{"$f":"VLOOKUP(H6,Database!$B$1:$E$4891,4,FALSE)","v":{"$error":"#N/A"}},{"$f":"ISERROR(W6)","v":true},{"$f":"COUNTIF(H$6:H$6000,R6)","v":0},{"$f":"IF(Y6>=1,1,0)","v":0}]
[{"$f":"A6+1","v":2},null,null,null,null,null,null,null,{"$f":"IF(ISERROR(VLOOKUP(H7,Database!$B$1:$C$5908,2,FALSE)),\"\",VLOOKUP(H7,Database!$B$1:$C$5908,2,FALSE))","v":""},{"$f":"IF(V7=1,1,IF(AND(T7=0,F7=\"SSB\",V7<>\"\"),2,IF(AND(T7=0,F7=\"FM\",V7<>\"\"),2,IF(AND(T7=0,F7=\"DIGI\",V7<>\"\"),3,IF(AND(T7=0,F7=\"CW\",V7<>\"\"),5,IF(H7=\"-\",\"\",T7))))))","v":""},{"$f":"IF(H7=\"-\",\"\",IF(AND(H7<>\"\",X7=TRUE),\"INDIPENDENT\",IF(W7=0,\"SCRIVI NOME NELLE NOTE\",W7)))","v":{"$error":"#N/A"}},null,null,"SSB",null,2,"II0ICV",{"$f":"new!J20","v":"II0IADC"},null,{"$f":"IF(H7=\"\",\"\",IF(H7=$R$6,25,IF(OR(H7=$R$7,H7=$R$8,H7=$R$9,H7=$R$10,H7=$R$11,H7=$R$12,H7=$R$13,H7=$R$14,H7=$R$15,H7=$R$16,H7=$R$17,H7=$R$18,H7=$R$19,H7=$R$20,H7=$R$21,H7=$R$22,H7=$R$23),15,0)))","v":""},{"$f":"ISERROR(I7)","v":false},{"$f":"IF(H7=\"-\",\"\",IF(AND(T7=0,U7=FALSE,I7=\"\"),1,2))","v":2},{"$f":"VLOOKUP(H7,Database!$B$1:$E$4891,4,FALSE)","v":{"$error":"#N/A"}},{"$f":"ISERROR(W7)","v":true},{"$f":"COUNTIF(H$6:H$6000,R7)","v":0},{"$f":"IF(Y7>=1,1,0)","v":0}]
[3,null,null,null,null,null,null,null,{"$f":"IF(ISERROR(VLOOKUP(H8,Database!$B$1:$C$5908,2,FALSE)),\"\",VLOOKUP(H8,Database!$B$1:$C$5908,2,FALSE))","v":""},"",{"$error":"#N/A"},null,null,"DIGI",null,3,"II0IDP",{"$f":"new!J21","v":"II0IATO"},null,"",false,{"$f":"IF(H8=\"-\",\"\",IF(AND(T8=0,U8=FALSE,I8=\"\"),1,2))","v":2},{"$f":"VLOOKUP(H8,Database!$B$1:$E$4891,4,FALSE)","v":{"$error":"#N/A"}},true,{"$f":"COUNTIF(H$6:H$6000,R8)","v":0},0]
[4,null,null,null,null,null,null,null,{"$f":"IF(ISERROR(VLOOKUP(H9,Database!$B$1:$C$5908,2,FALSE)),\"\",VLOOKUP(H9,Database!$B$1:$C$5908,2,FALSE))","v":""},"",{"$error":"#N/A"},null,null,"CW",null,4,"II0IDR",{"$f":"new!J22","v":"II1IAME"},null,"",false,2,{"$f":"VLOOKUP(H9,Database!$B$1:$E$4891,4,FALSE)","v":{"$error":"#N/A"}},true,0,0]
[5,null,null,null,null,null,null,null,{"$f":"IF(ISERROR(VLOOKUP(H10,Database!$B$1:$C$5908,2,FALSE)),\"\",VLOOKUP(H10,Database!$B$1:$C$5908,2,FALSE))","v":""},"",{"$error":"#N/A"},null,null,null,null,5,"II0IGU",{"$f":"new!J23","v":"II5IAFR"},null,"",false,2,{"$f":"VLOOKUP(H10,Database!$B$1:$E$4891,4,FALSE)","v":{"$error":"#N/A"}},true,0,0]
[6,null,null,null,null,null,null,null,{"$f":"IF(ISERROR(VLOOKUP(H11,Database!$B$1:$C$5908,2,FALSE)),\"\",VLOOKUP(H11,Database!$B$1:$C$5908,2,FALSE))","v":""},"",{"$error":"#N/A"},null,null,null,null,6,"II1ICS",{"$f":"new!J24","v":"II8IHBC"},null,"",false,2,{"$f":"VLOOKUP(H11,Database!$B$1:$E$4891,4,FALSE)","v":{"$error":"#N/A"}},true,0,0]
[7,null,null,null,null,null,null,null,{"$f":"IF(ISERROR(VLOOKUP(H12,Database!$B$1:$C$5908,2,FALSE)),\"\",VLOOKUP(H12,Database!$B$1:$C$5908,2,FALSE))","v":""},"",{"$error":"#N/A"},null,null,null,null,7,"II1IGG",{"$f":"new!J25","v":"II9IABA"},null,"",false,2,{"$f":"VLOOKUP(H12,Database!$B$1:$E$4891,4,FALSE)","v":{"$error":"#N/A"}},true,0,0]
[8,null,null,null,null,null,null,null,{"$f":"IF(ISERROR(VLOOKUP(H13,Database!$B$1:$C$5908,2,FALSE)),\"\",VLOOKUP(H13,Database!$B$1:$C$5908,2,FALSE))","v":""},"",{"$error":"#N/A"},null,null,{"$f":"COUNTIF($F$6:$F$5993,N7)","v":0},null,8,"II3ICZ",{"$f":"new!J26","v":"II9IACR"},null,"",false,2,{"$f":"VLOOKUP(H13,Database!$B$1:$E$4891,4,FALSE)","v":{"$error":"#N/A"}},true,0,0]
[9,null,null,null,null,null,null,null,{"$f":"IF(ISERROR(VLOOKUP(H14,Database!$B$1:$C$5908,2,FALSE)),\"\",VLOOKUP(H14,Database!$B$1:$C$5908,2,FALSE))","v":""},"",{"$error":"#N/A"},null,null,{"$f":"COUNTIF($F$6:$F$5993,N8)","v":0},null,9,"II5IDK",{"$f":"new!J27","v":"II9IHPM"},null,"",false,2,{"$f":"VLOOKUP(H14,Database!$B$1:$E$4891,4,FALSE)","v":{"$error":"#N/A"}},true,0,0]
[10,null,null,null,null,null,null,null,{"$f":"IF(ISERROR(VLOOKUP(H15,Database!$B$1:$C$5908,2,FALSE)),\"\",VLOOKUP(H15,Database!$B$1:$C$5908,2,FALSE))","v":""},"",{"$error":"#N/A"},null,null,{"$f":"COUNTIF($F$6:$F$5993,N9)","v":0},null,10,"II6ICA",{"$f":"new!J28","v":"II5IHLP"},null,"",false,2,{"$f":"VLOOKUP(H15,Database!$B$1:$E$4891,4,FALSE)","v":{"$error":"#N/A"}},true,0,0]
[11,null,null,null,null,null,null,null,{"$f":"IF(ISERROR(VLOOKUP(H16,Database!$B$1:$C$5908,2,FALSE)),\"\",VLOOKUP(H16,Database!$B$1:$C$5908,2,FALSE))","v":""},"",{"$error":"#N/A"},null,null,null,null,11,"II7ICE",{"$f":"new!J29","v":0},null,"",false,2,{"$f":"VLOOKUP(H16,Database!$B$1:$E$4891,4,FALSE)","v":{"$error":"#N/A"}},true,0,0]
[12,null,null,null,null,null,null,null,{"$f":"IF(ISERROR(VLOOKUP(H17,Database!$B$1:$C$5908,2,FALSE)),\"\",VLOOKUP(H17,Database!$B$1:$C$5908,2,FALSE))","v":""},"",{"$error":"#N/A"},null,null,null,null,12,"II7ICT",{"$f":"new!J30","v":0},null,"",false,2,{"$f":"VLOOKUP(H17,Database!$B$1:$E$4891,4,FALSE)","v":{"$error":"#N/A"}},true,0,0]
[13,null,null,null,null,null,null,null,{"$f":"IF(ISERROR(VLOOKUP(H18,Database!$B$1:$C$5908,2,FALSE)),\"\",VLOOKUP(H18,Database!$B$1:$C$5908,2,FALSE))","v":""},"",{"$error":"#N/A"},null,null,null,null,13,"II8ICN",{"$f":"new!J31","v":0},null,"",false,2,{"$f":"VLOOKUP(H18,Database!$B$1:$E$4891,4,FALSE)","v":{"$error":"#N/A"}},true,0,0]
[14,null,null,null,null,null,null,null,{"$f":"IF(ISERROR(VLOOKUP(H19,Database!$B$1:$C$5908,2,FALSE)),\"\",VLOOKUP(H19,Database!$B$1:$C$5908,2,FALSE))","v":""},"",{"$error":"#N/A"},null,null,null,null,14,"II9ICB",{"$f":"new!J32","v":0},null,"",false,2,{"$f":"VLOOKUP(H19,Database!$B$1:$E$4891,4,FALSE)","v":{"$error":"#N/A"}},true,0,0]
[15,null,null,null,null,null,null,null,{"$f":"IF(ISERROR(VLOOKUP(H20,Database!$B$1:$C$5908,2,FALSE)),\"\",VLOOKUP(H20,Database!$B$1:$C$5908,2,FALSE))","v":""},"",{"$error":"#N/A"},null,null,80,null,15,"II9ICF",{"$f":"new!J33","v":0},null,"",false,2,{"$f":"VLOOKUP(H20,Database!$B$1:$E$4891,4,FALSE)","v":{"$error":"#N/A"}},true,0,0]
[16,null,null,null,null,null,null,null,{"$f":"IF(ISERROR(VLOOKUP(H21,Database!$B$1:$C$5908,2,FALSE)),\"\",VLOOKUP(H21,Database!$B$1:$C$5908,2,FALSE))","v":""},"",{"$error":"#N/A"},null,null,40,null,16,"II9IGA",{"$f":"new!J34","v":0},null,"",false,2,{"$f":"VLOOKUP(H21,Database!$B$1:$E$4891,4,FALSE)","v":{"$error":"#N/A"}},true,0,0]
[17,null,null,null,null,null,null,null,{"$f":"IF(ISERROR(VLOOKUP(H22,Database!$B$1:$C$5908,2,FALSE)),\"\",VLOOKUP(H22,Database!$B$1:$C$5908,2,FALSE))","v":""},"",{"$error":"#N/A"},null,null,30,null,17,"II9IGJ",{"$f":"new!J35","v":0},null,"",false,2,{"$f":"VLOOKUP(H22,Database!$B$1:$E$4891,4,FALSE)","v":{"$error":"#N/A"}},true,0,0]
[18,null,null,null,null,null,null,null,{"$f":"IF(ISERROR(VLOOKUP(H23,Database!$B$1:$C$5908,2,FALSE)),\"\",VLOOKUP(H23,Database!$B$1:$C$5908,2,FALSE))","v":""},"",{"$error":"#N/A"},null,null,20,null,null,"stazioni N.",{"$f":"COUNTA(R6:R22)-COUNT(R6:R22)","v":10},null,"",false,2,{"$f":"VLOOKUP(H23,Database!$B$1:$E$4891,4,FALSE)","v":{"$error":"#N/A"}},true,0,0]
[19,null,null,null,null,null,null,null,{"$f":"IF(ISERROR(VLOOKUP(H24,Database!$B$1:$C$5908,2,FALSE)),\"\",VLOOKUP(H24,Database!$B$1:$C$5908,2,FALSE))","v":""},"",{"$error":"#N/A"},null,null,17,null,null,null,null,null,"",false,2,{"$f":"VLOOKUP(H24,Database!$B$1:$E$4891,4,FALSE)","v":{"$error":"#N/A"}},true,"totale",{"$f":"SUM(Z6:Z23)","v":0}]
[20,null,null,null,null,null,null,null,{"$f":"IF(ISERROR(VLOOKUP(H25,Database!$B$1:$C$5908,2,FALSE)),\"\",VLOOKUP(H25,Database!$B$1:$C$5908,2,FALSE))","v":""},"",{"$error":"#N/A"},null,null,15,null,null,null,null,null,"",false,2,{"$f":"VLOOKUP(H25,Database!$B$1:$E$4891,4,FALSE)","v":{"$error":"#N/A"}},true]
[21,null,null,null,null,null,null,null,{"$f":"IF(ISERROR(VLOOKUP(H26,Database!$B$1:$C$5908,2,FALSE)),\"\",VLOOKUP(H26,Database!$B$1:$C$5908,2,FALSE))","v":""},"",{"$error":"#N/A"},null,null,12,null,null,null,null,null,"",false,2,{"$f":"VLOOKUP(H26,Database!$B$1:$E$4891,4,FALSE)","v":{"$error":"#N/A"}},true]
[22,null,null,null,null,null,null,null,{"$f":"IF(ISERROR(VLOOKUP(H27,Database!$B$1:$C$5908,2,FALSE)),\"\",VLOOKUP(H27,Database!$B$1:$C$5908,2,FALSE))","v":""},"",{"$error":"#N/A"},null,null,10,null,null,null,null,null,"",false,2,{"$f":"VLOOKUP(H27,Database!$B$1:$E$4891,4,FALSE)","v":{"$error":"#N/A"}},true]
[23,null,null,null,null,null,null,null,{"$f":"IF(ISERROR(VLOOKUP(H28,Database!$B$1:$C$5908,2,FALSE)),\"\",VLOOKUP(H28,Database!$B$1:$C$5908,2,FALSE))","v":""},"",{"$error":"#N/A"},null,null,null,null,null,null,null,null,"",false,2,{"$f":"VLOOKUP(H28,Database!$B$1:$E$4891,4,FALSE)","v":{"$error":"#N/A"}},true]
[24,null,null,null,null,null,null,null,{"$f":"IF(ISERROR(VLOOKUP(H29,Database!$B$1:$C$5908,2,FALSE)),\"\",VLOOKUP(H29,Database!$B$1:$C$5908,2,FALSE))","v":""},"",{"$error":"#N/A"},null,null,null,null,null,null,null,null,"",false,2,{"$f":"VLOOKUP(H29,Database!$B$1:$E$4891,4,FALSE)","v":{"$error":"#N/A"}},true]
[25,null,null,null,null,null,null,null,{"$f":"IF(ISERROR(VLOOKUP(H30,Database!$B$1:$C$5908,2,FALSE)),\"\",VLOOKUP(H30,Database!$B$1:$C$5908,2,FALSE))","v":""},"",{"$error":"#N/A"},null,null,null,null,null,null,null,null,"",false,2,{"$f":"VLOOKUP(H30,Database!$B$1:$E$4891,4,FALSE)","v":{"$error":"#N/A"}},true]
[26,null,null,null,null,null,null,null,{"$f":"IF(ISERROR(VLOOKUP(H31,Database!$B$1:$C$5908,2,FALSE)),\"\",VLOOKUP(H31,Database!$B$1:$C$5908,2,FALSE))","v":""},"",{"$error":"#N/A"},null,null,null,null,null,null,null,null,"",false,2,{"$f":"VLOOKUP(H31,Database!$B$1:$E$4891,4,FALSE)","v":{"$error":"#N/A"}},true]
[27,null,null,null,null,null,null,null,{"$f":"IF(ISERROR(VLOOKUP(H32,Database!$B$1:$C$5908,2,FALSE)),\"\",VLOOKUP(H32,Database!$B$1:$C$5908,2,FALSE))","v":""},"",{"$error":"#N/A"},null,null,{"$f":"VALUE(#N/A=0)","v":{"$error":"#N/A"}},null,null,null,null,null,"",false,2,{"$f":"VLOOKUP(H32,Database!$B$1:$E$4891,4,FALSE)","v":{"$error":"#N/A"}},true]
[28,null,null,null,null,null,null,null,{"$f":"IF(ISERROR(VLOOKUP(H33,Database!$B$1:$C$5908,2,FALSE)),\"\",VLOOKUP(H33,Database!$B$1:$C$5908,2,FALSE))","v":""},"",{"$error":"#N/A"},null,null,{"$f":"ISERROR(N32)","v":true},null,null,null,null,null,"",false,2,{"$f":"VLOOKUP(H33,Database!$B$1:$E$4891,4,FALSE)","v":{"$error":"#N/A"}},true]
[29,null,null,null,null,null,null,null,{"$f":"IF(ISERROR(VLOOKUP(H34,Database!$B$1:$C$5908,2,FALSE)),\"\",VLOOKUP(H34,Database!$B$1:$C$5908,2,FALSE))","v":""},"",{"$error":"#N/A"},null,null,{"$f":"IF(N33,\"\",N32)","v":""},null,null,null,null,null,"",false,2,{"$f":"VLOOKUP(H34,Database!$B$1:$E$4891,4,FALSE)","v":{"$error":"#N/A"}},true]
[30,null,null,null,null,null,null,null,{"$f":"IF(ISERROR(VLOOKUP(H35,Database!$B$1:$C$5908,2,FALSE)),\"\",VLOOKUP(H35,Database!$B$1:$C$5908,2,FALSE))","v":""},"",{"$error":"#N/A"},null,null,{"$f":"COUNTIF($D$6:$D$5993,N20)","v":0},null,null,null,null,null,"",false,2,{"$f":"VLOOKUP(H35,Database!$B$1:$E$4891,4,FALSE)","v":{"$error":"#N/A"}},true]
[31,null,null,null,null,null,null,null,{"$f":"IF(ISERROR(VLOOKUP(H36,Database!$B$1:$C$5908,2,FALSE)),\"\",VLOOKUP(H36,Database!$B$1:$C$5908,2,FALSE))","v":""},"",{"$error":"#N/A"},null,null,0,null,null,null,null,null,"",false,2,{"$f":"VLOOKUP(H36,Database!$B$1:$E$4891,4,FALSE)","v":{"$error":"#N/A"}},true]
[32,null,null,null,null,null,null,null,{"$f":"IF(ISERROR(VLOOKUP(H37,Database!$B$1:$C$5908,2,FALSE)),\"\",VLOOKUP(H37,Database!$B$1:$C$5908,2,FALSE))","v":""},"",{"$error":"#N/A"},null,null,0,null,null,null,null,null,"",false,2,{"$f":"VLOOKUP(H37,Database!$B$1:$E$4891,4,FALSE)","v":{"$error":"#N/A"}},true]
[33,null,null,null,null,null,null,null,{"$f":"IF(ISERROR(VLOOKUP(H38,Database!$B$1:$C$5908,2,FALSE)),\"\",VLOOKUP(H38,Database!$B$1:$C$5908,2,FALSE))","v":""},"",{"$error":"#N/A"},null,null,0,null,null,null,null,null,"",false,2,{"$f":"VLOOKUP(H38,Database!$B$1:$E$4891,4,FALSE)","v":{"$error":"#N/A"}},true]
[34,null,null,null,null,null,null,null,{"$f":"IF(ISERROR(VLOOKUP(H39,Database!$B$1:$C$5908,2,FALSE)),\"\",VLOOKUP(H39,Database!$B$1:$C$5908,2,FALSE))","v":""},"",{"$error":"#N/A"},null,null,0,null,null,null,null,null,"",false,2,{"$f":"VLOOKUP(H39,Database!$B$1:$E$4891,4,FALSE)","v":{"$error":"#N/A"}},true]
[35,null,null,null,null,null,null,null,{"$f":"IF(ISERROR(VLOOKUP(H40,Database!$B$1:$C$5908,2,FALSE)),\"\",VLOOKUP(H40,Database!$B$1:$C$5908,2,FALSE))","v":""},"",{"$error":"#N/A"},null,null,0,null,null,null,null,null,"",false,2,{"$f":"VLOOKUP(H40,Database!$B$1:$E$4891,4,FALSE)","v":{"$error":"#N/A"}},true]
[36,null,null,null,null,null,null,null,{"$f":"IF(ISERROR(VLOOKUP(H41,Database!$B$1:$C$5908,2,FALSE)),\"\",VLOOKUP(H41,Database!$B$1:$C$5908,2,FALSE))","v":""},"",{"$error":"#N/A"},null,null,0,null,null,null,null,null,"",false,2,{"$f":"VLOOKUP(H41,Database!$B$1:$E$4891,4,FALSE)","v":{"$error":"#N/A"}},true]
[37,null,null,null,null,null,null,null,{"$f":"IF(ISERROR(VLOOKUP(H42,Database!$B$1:$C$5908,2,FALSE)),\"\",VLOOKUP(H42,Database!$B$1:$C$5908,2,FALSE))","v":""},"",{"$error":"#N/A"},null,null,0,null,null,null,null,null,"",false,2,{"$f":"VLOOKUP(H42,Database!$B$1:$E$4891,4,FALSE)","v":{"$error":"#N/A"}},true]
[38,null,null,null,null,null,null,null,{"$f":"IF(ISERROR(VLOOKUP(H43,Database!$B$1:$C$5908,2,FALSE)),\"\",VLOOKUP(H43,Database!$B$1:$C$5908,2,FALSE))","v":""},"",{"$error":"#N/A"},null,null,0,null,null,null,null,null,"",false,2,{"$f":"VLOOKUP(H43,Database!$B$1:$E$4891,4,FALSE)","v":{"$error":"#N/A"}},true]
[39,null,null,null,null,null,null,null,{"$f":"IF(ISERROR(VLOOKUP(H44,Database!$B$1:$C$5908,2,FALSE)),\"\",VLOOKUP(H44,Database!$B$1:$C$5908,2,FALSE))","v":""},"",{"$error":"#N/A"},null,null,0,null,null,null,null,null,"",false,2,{"$f":"VLOOKUP(H44,Database!$B$1:$E$4891,4,FALSE)","v":{"$error":"#N/A"}},true]
[40,null,null,null,null,null,null,null,{"$f":"IF(ISERROR(VLOOKUP(H45,Database!$B$1:$C$5908,2,FALSE)),\"\",VLOOKUP(H45,Database!$B$1:$C$5908,2,FALSE))","v":""},"",{"$error":"#N/A"},null,null,null,null,null,null,null,null,"",false,2,{"$f":"VLOOKUP(H45,Database!$B$1:$E$4891,4,FALSE)","v":{"$error":"#N/A"}},true]
[41,null,null,null,null,null,null,null,{"$f":"IF(ISERROR(VLOOKUP(H46,Database!$B$1:$C$5908,2,FALSE)),\"\",VLOOKUP(H46,Database!$B$1:$C$5908,2,FALSE))","v":""},"",{"$error":"#N/A"},null,null,null,null,null,null,null,null,"",false,2,{"$f":"VLOOKUP(H46,Database!$B$1:$E$4891,4,FALSE)","v":{"$error":"#N/A"}},true]
[42,null,null,null,null,null,null,null,{"$f":"IF(ISERROR(VLOOKUP(H47,Database!$B$1:$C$5908,2,FALSE)),\"\",VLOOKUP(H47,Database!$B$1:$C$5908,2,FALSE))","v":""},"",{"$error":"#N/A"},null,null,{"$f":"SUM(H6:H58)","v":0},null,null,null,null,null,"",false,2,{"$f":"VLOOKUP(H47,Database!$B$1:$E$4891,4,FALSE)","v":{"$error":"#N/A"}},true]
[43,null,null,null,null,null,null,null,{"$f":"IF(ISERROR(VLOOKUP(H48,Database!$B$1:$C$5908,2,FALSE)),\"\",VLOOKUP(H48,Database!$B$1:$C$5908,2,FALSE))","v":""},"",{"$error":"#N/A"},null,null,null,null,null,null,null,null,"",false,2,{"$f":"VLOOKUP(H48,Database!$B$1:$E$4891,4,FALSE)","v":{"$error":"#N/A"}},true]
[44,null,null,null,null,null,null,null,{"$f":"IF(ISERROR(VLOOKUP(H49,Database!$B$1:$C$5908,2,FALSE)),\"\",VLOOKUP(H49,Database!$B$1:$C$5908,2,FALSE))","v":""},"",{"$error":"#N/A"},null,null,null,null,null,null,null,null,"",false,2,{"$f":"VLOOKUP(H49,Database!$B$1:$E$4891,4,FALSE)","v":{"$error":"#N/A"}},true]
[45,null,null,null,null,null,null,null,{"$f":"IF(ISERROR(VLOOKUP(H50,Database!$B$1:$C$5908,2,FALSE)),\"\",VLOOKUP(H50,Database!$B$1:$C$5908,2,FALSE))","v":""},"",{"$error":"#N/A"},null,null,null,null,null,null,null,null,"",false,2,{"$f":"VLOOKUP(H50,Database!$B$1:$E$4891,4,FALSE)","v":{"$error":"#N/A"}},true]
[46,null,null,null,null,null,null,null,{"$f":"IF(ISERROR(VLOOKUP(H51,Database!$B$1:$C$5908,2,FALSE)),\"\",VLOOKUP(H51,Database!$B$1:$C$5908,2,FALSE))","v":""},"",{"$error":"#N/A"},null,null,null,null,null,null,null,null,"",false,2,{"$f":"VLOOKUP(H51,Database!$B$1:$E$4891,4,FALSE)","v":{"$error":"#N/A"}},true]
[47,null,null,null,null,null,null,null,{"$f":"IF(ISERROR(VLOOKUP(H52,Database!$B$1:$C$5908,2,FALSE)),\"\",VLOOKUP(H52,Database!$B$1:$C$5908,2,FALSE))","v":""},"",{"$error":"#N/A"},null,null,null,null,null,null,null,null,"",false,2,{"$f":"VLOOKUP(H52,Database!$B$1:$E$4891,4,FALSE)","v":{"$error":"#N/A"}},true]
[48,null,null,null,null,null,null,null,{"$f":"IF(ISERROR(VLOOKUP(H53,Database!$B$1:$C$5908,2,FALSE)),\"\",VLOOKUP(H53,Database!$B$1:$C$5908,2,FALSE))","v":""},"",{"$error":"#N/A"},null,null,{"$f":"VLOOKUP(L2,Database!$B$1:$C$4899,2,0)","v":{"$error":"#N/A"}},"cerca B-C",null,null,null,null,"",false,2,{"$f":"VLOOKUP(H53,Database!$B$1:$E$4891,4,FALSE)","v":{"$error":"#N/A"}},true]
[49,null,null,null,null,null,null,null,{"$f":"IF(ISERROR(VLOOKUP(H54,Database!$B$1:$C$5908,2,FALSE)),\"\",VLOOKUP(H54,Database!$B$1:$C$5908,2,FALSE))","v":""},"",{"$error":"#N/A"},null,null,{"$f":"ISERROR(N53)","v":true},null,null,null,null,null,"",false,2,{"$f":"VLOOKUP(H54,Database!$B$1:$E$4891,4,FALSE)","v":{"$error":"#N/A"}},true]
[50,null,null,null,null,null,null,null,{"$f":"IF(ISERROR(VLOOKUP(H55,Database!$B$1:$C$5908,2,FALSE)),\"\",VLOOKUP(H55,Database!$B$1:$C$5908,2,FALSE))","v":""},"",{"$error":"#N/A"},null,null,null,null,null,null,null,null,"",false,2,{"$f":"VLOOKUP(H55,Database!$B$1:$E$4891,4,FALSE)","v":{"$error":"#N/A"}},true]
[51,null,null,null,null,null,null,null,{"$f":"IF(ISERROR(VLOOKUP(H56,Database!$B$1:$C$5908,2,FALSE)),\"\",VLOOKUP(H56,Database!$B$1:$C$5908,2,FALSE))","v":""},"",{"$error":"#N/A"},null,null,null,null,null,null,null,null,"",false,2,{"$f":"VLOOKUP(H56,Database!$B$1:$E$4891,4,FALSE)","v":{"$error":"#N/A"}},true]
[52,null,null,null,null,null,null,null,{"$f":"IF(ISERROR(VLOOKUP(H57,Database!$B$1:$C$5908,2,FALSE)),\"\",VLOOKUP(H57,Database!$B$1:$C$5908,2,FALSE))","v":""},"",{"$error":"#N/A"},null,null,null,null,null,null,null,null,"",false,2,{"$f":"VLOOKUP(H57,Database!$B$1:$E$4891,4,FALSE)","v":{"$error":"#N/A"}},true]
[53,null,null,null,null,null,null,null,{"$f":"IF(ISERROR(VLOOKUP(H58,Database!$B$1:$C$5908,2,FALSE)),\"\",VLOOKUP(H58,Database!$B$1:$C$5908,2,FALSE))","v":""},"",{"$error":"#N/A"},null,null,null,null,null,null,null,null,"",false,2,{"$f":"VLOOKUP(H58,Database!$B$1:$E$4891,4,FALSE)","v":{"$error":"#N/A"}},true]
[54,null,null,null,null,null,null,null,{"$f":"IF(ISERROR(VLOOKUP(H59,Database!$B$1:$C$5908,2,FALSE)),\"\",VLOOKUP(H59,Database!$B$1:$C$5908,2,FALSE))","v":""},"",{"$error":"#N/A"},null,null,null,null,null,null,null,null,"",false,2,{"$f":"VLOOKUP(H59,Database!$B$1:$E$4891,4,FALSE)","v":{"$error":"#N/A"}},true]
[55,null,null,null,null,null,null,null,{"$f":"IF(ISERROR(VLOOKUP(H60,Database!$B$1:$C$5908,2,FALSE)),\"\",VLOOKUP(H60,Database!$B$1:$C$5908,2,FALSE))","v":""},"",{"$error":"#N/A"},null,null,null,null,null,null,null,null,"",false,2,{"$f":"VLOOKUP(H60,Database!$B$1:$E$4891,4,FALSE)","v":{"$error":"#N/A"}},true]
[56,null,null,null,null,null,null,null,{"$f":"IF(ISERROR(VLOOKUP(H61,Database!$B$1:$C$5908,2,FALSE)),\"\",VLOOKUP(H61,Database!$B$1:$C$5908,2,FALSE))","v":""},"",{"$error":"#N/A"},null,null,null,null,null,null,null,null,"",false,2,{"$f":"VLOOKUP(H61,Database!$B$1:$E$4891,4,FALSE)","v":{"$error":"#N/A"}},true]
[57,null,null,null,null,null,null,null,{"$f":"IF(ISERROR(VLOOKUP(H62,Database!$B$1:$C$5908,2,FALSE)),\"\",VLOOKUP(H62,Database!$B$1:$C$5908,2,FALSE))","v":""},"",{"$error":"#N/A"},null,null,null,null,null,null,null,null,"",false,2,{"$f":"VLOOKUP(H62,Database!$B$1:$E$4891,4,FALSE)","v":{"$error":"#N/A"}},true]
[58,null,null,null,null,null,null,null,{"$f":"IF(ISERROR(VLOOKUP(H63,Database!$B$1:$C$5908,2,FALSE)),\"\",VLOOKUP(H63,Database!$B$1:$C$5908,2,FALSE))","v":""},"",{"$error":"#N/A"},null,null,{"$f":"VLOOKUP(L2,Database!$B$1:$E$4891,4,)","v":{"$error":"#N/A"}},"carca B-F",null,null,null,null,"",false,2,{"$f":"VLOOKUP(H63,Database!$B$1:$E$4891,4,FALSE)","v":{"$error":"#N/A"}},true]
[59,null,null,null,null,null,null,null,{"$f":"IF(ISERROR(VLOOKUP(H64,Database!$B$1:$C$5908,2,FALSE)),\"\",VLOOKUP(H64,Database!$B$1:$C$5908,2,FALSE))","v":""},"",{"$error":"#N/A"},null,null,{"$f":"ISERROR(N63)","v":true},null,null,null,null,null,"",false,2,{"$f":"VLOOKUP(H64,Database!$B$1:$E$4891,4,FALSE)","v":{"$error":"#N/A"}},true]
[60,null,null,null,null,null,null,null,{"$f":"IF(ISERROR(VLOOKUP(H65,Database!$B$1:$C$5908,2,FALSE)),\"\",VLOOKUP(H65,Database!$B$1:$C$5908,2,FALSE))","v":""},"",{"$error":"#N/A"},null,null,null,null,null,null,null,null,"",false,2,{"$f":"VLOOKUP(H65,Database!$B$1:$E$4891,4,FALSE)","v":{"$error":"#N/A"}},true]
[61,null,null,null,null,null,null,null,{"$f":"IF(ISERROR(VLOOKUP(H66,Database!$B$1:$C$5908,2,FALSE)),\"\",VLOOKUP(H66,Database!$B$1:$C$5908,2,FALSE))","v":""},"",{"$error":"#N/A"},null,null,null,null,null,null,null,null,"",false,2,{"$f":"VLOOKUP(H66,Database!$B$1:$E$4891,4,FALSE)","v":{"$error":"#N/A"}},true]
[62,null,null,null,null,null,null,null,{"$f":"IF(ISERROR(VLOOKUP(H67,Database!$B$1:$C$5908,2,FALSE)),\"\",VLOOKUP(H67,Database!$B$1:$C$5908,2,FALSE))","v":""},"",{"$error":"#N/A"},null,null,null,null,null,null,null,null,"",false,2,{"$f":"VLOOKUP(H67,Database!$B$1:$E$4891,4,FALSE)","v":{"$error":"#N/A"}},true]
[63,null,null,null,null,null,null,null,{"$f":"IF(ISERROR(VLOOKUP(H68,Database!$B$1:$C$5908,2,FALSE)),\"\",VLOOKUP(H68,Database!$B$1:$C$5908,2,FALSE))","v":""},"",{"$error":"#N/A"},null,null,null,null,null,null,null,null,"",false,2,{"$f":"VLOOKUP(H68,Database!$B$1:$E$4891,4,FALSE)","v":{"$error":"#N/A"}},true]
[64,null,null,null,null,null,null,null,{"$f":"IF(ISERROR(VLOOKUP(H69,Database!$B$1:$C$5908,2,FALSE)),\"\",VLOOKUP(H69,Database!$B$1:$C$5908,2,FALSE))","v":""},"",{"$error":"#N/A"},null,null,null,null,null,null,null,null,"",false,2,{"$f":"VLOOKUP(H69,Database!$B$1:$E$4891,4,FALSE)","v":{"$error":"#N/A"}},true]
[65,null,null,null,null,null,null,null,{"$f":"IF(ISERROR(VLOOKUP(H70,Database!$B$1:$C$5908,2,FALSE)),\"\",VLOOKUP(H70,Database!$B$1:$C$5908,2,FALSE))","v":""},"",{"$error":"#N/A"},null,null,null,null,null,null,null,null,"",false,2,{"$f":"VLOOKUP(H70,Database!$B$1:$E$4891,4,FALSE)","v":{"$error":"#N/A"}},true]
[{"$f":"A70+1","v":66},null,null,null,null,null,null,null,{"$f":"IF(ISERROR(VLOOKUP(H71,Database!$B$1:$C$5908,2,FALSE)),\"\",VLOOKUP(H71,Database!$B$1:$C$5908,2,FALSE))","v":""},{"$f":"IF(V71=1,1,IF(AND(T71=0,F71=\"SSB\",V71<>\"\"),2,IF(AND(T71=0,F71=\"FM\",V71<>\"\"),2,IF(AND(T71=0,F71=\"DIGI\",V71<>\"\"),3,IF(AND(T71=0,F71=\"CW\",V71<>\"\"),5,IF(H71=\"-\",\"\",T71))))))","v":""},{"$f":"IF(H71=\"-\",\"\",IF(AND(H71<>\"\",X71=TRUE),\"INDIPENDENT\",IF(W71=0,\"SCRIVI NOME NELLE NOTE\",W71)))","v":{"$error":"#N/A"}},null,null,null,null,null,null,null,null,{"$f":"IF(H71=\"\",\"\",IF(H71=$R$6,25,IF(OR(H71=$R$7,H71=$R$8,H71=$R$9,H71=$R$10,H71=$R$11,H71=$R$12,H71=$R$13,H71=$R$14,H71=$R$15,H71=$R$16,H71=$R$17,H71=$R$18,H71=$R$19,H71=$R$20,H71=$R$21,H71=$R$22,H71=$R$23),15,0)))","v":""},{"$f":"ISERROR(I71)","v":false},2,{"$f":"VLOOKUP(H71,Database!$B$1:$E$4891,4,FALSE)","v":{"$error":"#N/A"}},{"$f":"ISERROR(W71)","v":true}]
[67,null,null,null,null,null,null,null,{"$f":"IF(ISERROR(VLOOKUP(H72,Database!$B$1:$C$5908,2,FALSE)),\"\",VLOOKUP(H72,Database!$B$1:$C$5908,2,FALSE))","v":""},"",{"$error":"#N/A"},null,null,null,null,null,null,null,null,"",false,{"$f":"IF(H72=\"-\",\"\",IF(AND(T72=0,U72=FALSE,I72=\"\"),1,2))","v":2},{"$f":"VLOOKUP(H72,Database!$B$1:$E$4891,4,FALSE)","v":{"$error":"#N/A"}},true]
[68,null,null,null,null,null,null,null,{"$f":"IF(ISERROR(VLOOKUP(H73,Database!$B$1:$C$5908,2,FALSE)),\"\",VLOOKUP(H73,Database!$B$1:$C$5908,2,FALSE))","v":""},"",{"$error":"#N/A"},null,null,null,null,null,null,null,null,"",false,2,{"$f":"VLOOKUP(H73,Database!$B$1:$E$4891,4,FALSE)","v":{"$error":"#N/A"}},true]
[69,null,null,null,null,null,null,null,{"$f":"IF(ISERROR(VLOOKUP(H74,Database!$B$1:$C$5908,2,FALSE)),\"\",VLOOKUP(H74,Database!$B$1:$C$5908,2,FALSE))","v":""},"",{"$error":"#N/A"},null,null,null,null,null,null,null,null,"",false,2,{"$f":"VLOOKUP(H74,Database!$B$1:$E$4891,4,FALSE)","v":{"$error":"#N/A"}},true]
[70,null,null,null,null,null,null,null,{"$f":"IF(ISERROR(VLOOKUP(H75,Database!$B$1:$C$5908,2,FALSE)),\"\",VLOOKUP(H75,Database!$B$1:$C$5908,2,FALSE))","v":""},"",{"$error":"#N/A"},null,null,null,null,null,null,null,null,"",false,2,{"$f":"VLOOKUP(H75,Database!$B$1:$E$4891,4,FALSE)","v":{"$error":"#N/A"}},true]
[71,null,null,null,null,null,null,null,{"$f":"IF(ISERROR(VLOOKUP(H76,Database!$B$1:$C$5908,2,FALSE)),\"\",VLOOKUP(H76,Database!$B$1:$C$5908,2,FALSE))","v":""},"",{"$error":"#N/A"},null,null,null,null,null,null,null,null,"",false,2,{"$f":"VLOOKUP(H76,Database!$B$1:$E$4891,4,FALSE)","v":{"$error":"#N/A"}},true]
[72,null,null,null,null,null,null,null,{"$f":"IF(ISERROR(VLOOKUP(H77,Database!$B$1:$C$5908,2,FALSE)),\"\",VLOOKUP(H77,Database!$B$1:$C$5908,2,FALSE))","v":""},"",{"$error":"#N/A"},null,null,null,null,null,null,null,null,"",false,2,{"$f":"VLOOKUP(H77,Database!$B$1:$E$4891,4,FALSE)","v":{"$error":"#N/A"}},true]
[73,null,null,null,null,null,null,null,{"$f":"IF(ISERROR(VLOOKUP(H78,Database!$B$1:$C$5908,2,FALSE)),\"\",VLOOKUP(H78,Database!$B$1:$C$5908,2,FALSE))","v":""},"",{"$error":"#N/A"},null,null,null,null,null,null,null,null,"",false,2,{"$f":"VLOOKUP(H78,Database!$B$1:$E$4891,4,FALSE)","v":{"$error":"#N/A"}},true]
[74,null,null,null,null,null,null,null,{"$f":"IF(ISERROR(VLOOKUP(H79,Database!$B$1:$C$5908,2,FALSE)),\"\",VLOOKUP(H79,Database!$B$1:$C$5908,2,FALSE))","v":""},"",{"$error":"#N/A"},null,null,null,null,null,null,null,null,"",false,2,{"$f":"VLOOKUP(H79,Database!$B$1:$E$4891,4,FALSE)","v":{"$error":"#N/A"}},true]
[75,null,null,null,null,null,null,null,{"$f":"IF(ISERROR(VLOOKUP(H80,Database!$B$1:$C$5908,2,FALSE)),\"\",VLOOKUP(H80,Database!$B$1:$C$5908,2,FALSE))","v":""},"",{"$error":"#N/A"},null,null,null,null,null,null,null,null,"",false,2,{"$f":"VLOOKUP(H80,Database!$B$1:$E$4891,4,FALSE)","v":{"$error":"#N/A"}},true]
[76,null,null,null,null,null,null,null,{"$f":"IF(ISERROR(VLOOKUP(H81,Database!$B$1:$C$5908,2,FALSE)),\"\",VLOOKUP(H81,Database!$B$1:$C$5908,2,FALSE))","v":""},"",{"$error":"#N/A"},null,null,null,null,null,null,null,null,"",false,2,{"$f":"VLOOKUP(H81,Database!$B$1:$E$4891,4,FALSE)","v":{"$error":"#N/A"}},true]
[77,null,null,null,null,null,null,null,{"$f":"IF(ISERROR(VLOOKUP(H82,Database!$B$1:$C$5908,2,FALSE)),\"\",VLOOKUP(H82,Database!$B$1:$C$5908,2,FALSE))","v":""},"",{"$error":"#N/A"},null,null,null,null,null,null,null,null,"",false,2,{"$f":"VLOOKUP(H82,Database!$B$1:$E$4891,4,FALSE)","v":{"$error":"#N/A"}},true]
[78,null,null,null,null,null,null,null,{"$f":"IF(ISERROR(VLOOKUP(H83,Database!$B$1:$C$5908,2,FALSE)),\"\",VLOOKUP(H83,Database!$B$1:$C$5908,2,FALSE))","v":""},"",{"$error":"#N/A"},null,null,null,null,null,null,null,null,"",false,2,{"$f":"VLOOKUP(H83,Database!$B$1:$E$4891,4,FALSE)","v":{"$error":"#N/A"}},true]
[79,null,null,null,null,null,null,null,{"$f":"IF(ISERROR(VLOOKUP(H84,Database!$B$1:$C$5908,2,FALSE)),\"\",VLOOKUP(H84,Database!$B$1:$C$5908,2,FALSE))","v":""},"",{"$error":"#N/A"},null,null,null,null,null,null,null,null,"",false,2,{"$f":"VLOOKUP(H84,Database!$B$1:$E$4891,4,FALSE)","v":{"$error":"#N/A"}},true]
[80,null,null,null,null,null,null,null,{"$f":"IF(ISERROR(VLOOKUP(H85,Database!$B$1:$C$5908,2,FALSE)),\"\",VLOOKUP(H85,Database!$B$1:$C$5908,2,FALSE))","v":""},"",{"$error":"#N/A"},null,null,null,null,null,null,null,null,"",false,2,{"$f":"VLOOKUP(H85,Database!$B$1:$E$4891,4,FALSE)","v":{"$error":"#N/A"}},true]
[81,null,null,null,null,null,null,null,{"$f":"IF(ISERROR(VLOOKUP(H86,Database!$B$1:$C$5908,2,FALSE)),\"\",VLOOKUP(H86,Database!$B$1:$C$5908,2,FALSE))","v":""},"",{"$error":"#N/A"},null,null,null,null,null,null,null,null,"",false,2,{"$f":"VLOOKUP(H86,Database!$B$1:$E$4891,4,FALSE)","v":{"$error":"#N/A"}},true]
[82,null,null,null,null,null,null,null,{"$f":"IF(ISERROR(VLOOKUP(H87,Database!$B$1:$C$5908,2,FALSE)),\"\",VLOOKUP(H87,Database!$B$1:$C$5908,2,FALSE))","v":""},"",{"$error":"#N/A"},null,null,null,null,null,null,null,null,"",false,2,{"$f":"VLOOKUP(H87,Database!$B$1:$E$4891,4,FALSE)","v":{"$error":"#N/A"}},true]
[83,null,null,null,null,null,null,null,{"$f":"IF(ISERROR(VLOOKUP(H88,Database!$B$1:$C$5908,2,FALSE)),\"\",VLOOKUP(H88,Database!$B$1:$C$5908,2,FALSE))","v":""},"",{"$error":"#N/A"},null,null,null,null,null,null,null,null,"",false,2,{"$f":"VLOOKUP(H88,Database!$B$1:$E$4891,4,FALSE)","v":{"$error":"#N/A"}},true]
[84,null,null,null,null,null,null,null,{"$f":"IF(ISERROR(VLOOKUP(H89,Database!$B$1:$C$5908,2,FALSE)),\"\",VLOOKUP(H89,Database!$B$1:$C$5908,2,FALSE))","v":""},"",{"$error":"#N/A"},null,null,null,null,null,null,null,null,"",false,2,{"$f":"VLOOKUP(H89,Database!$B$1:$E$4891,4,FALSE)","v":{"$error":"#N/A"}},true]
[85,null,null,null,null,null,null,null,{"$f":"IF(ISERROR(VLOOKUP(H90,Database!$B$1:$C$5908,2,FALSE)),\"\",VLOOKUP(H90,Database!$B$1:$C$5908,2,FALSE))","v":""},"",{"$error":"#N/A"},null,null,null,null,null,null,null,null,"",false,2,{"$f":"VLOOKUP(H90,Database!$B$1:$E$4891,4,FALSE)","v":{"$error":"#N/A"}},true]
[86,null,null,null,null,null,null,null,{"$f":"IF(ISERROR(VLOOKUP(H91,Database!$B$1:$C$5908,2,FALSE)),\"\",VLOOKUP(H91,Database!$B$1:$C$5908,2,FALSE))","v":""},"",{"$error":"#N/A"},null,null,null,null,null,null,null,null,"",false,2,{"$f":"VLOOKUP(H91,Database!$B$1:$E$4891,4,FALSE)","v":{"$error":"#N/A"}},true]
[87,null,null,null,null,null,null,null,{"$f":"IF(ISERROR(VLOOKUP(H92,Database!$B$1:$C$5908,2,FALSE)),\"\",VLOOKUP(H92,Database!$B$1:$C$5908,2,FALSE))","v":""},"",{"$error":"#N/A"},null,null,null,null,null,null,null,null,"",false,2,{"$f":"VLOOKUP(H92,Database!$B$1:$E$4891,4,FALSE)","v":{"$error":"#N/A"}},true]
[88,null,null,null,null,null,null,null,{"$f":"IF(ISERROR(VLOOKUP(H93,Database!$B$1:$C$5908,2,FALSE)),\"\",VLOOKUP(H93,Database!$B$1:$C$5908,2,FALSE))","v":""},"",{"$error":"#N/A"},null,null,null,null,null,null,null,null,"",false,2,{"$f":"VLOOKUP(H93,Database!$B$1:$E$4891,4,FALSE)","v":{"$error":"#N/A"}},true]
[89,null,null,null,null,null,null,null,{"$f":"IF(ISERROR(VLOOKUP(H94,Database!$B$1:$C$5908,2,FALSE)),\"\",VLOOKUP(H94,Database!$B$1:$C$5908,2,FALSE))","v":""},"",{"$error":"#N/A"},null,null,null,null,null,null,null,null,"",false,2,{"$f":"VLOOKUP(H94,Database!$B$1:$E$4891,4,FALSE)","v":{"$error":"#N/A"}},true]
[90,null,null,null,null,null,null,null,{"$f":"IF(ISERROR(VLOOKUP(H95,Database!$B$1:$C$5908,2,FALSE)),\"\",VLOOKUP(H95,Database!$B$1:$C$5908,2,FALSE))","v":""},"",{"$error":"#N/A"},null,null,null,null,null,null,null,null,"",false,2,{"$f":"VLOOKUP(H95,Database!$B$1:$E$4891,4,FALSE)","v":{"$error":"#N/A"}},true]
[91,null,null,null,null,null,null,null,{"$f":"IF(ISERROR(VLOOKUP(H96,Database!$B$1:$C$5908,2,FALSE)),\"\",VLOOKUP(H96,Database!$B$1:$C$5908,2,FALSE))","v":""},"",{"$error":"#N/A"},null,null,null,null,null,null,null,null,"",false,2,{"$f":"VLOOKUP(H96,Database!$B$1:$E$4891,4,FALSE)","v":{"$error":"#N/A"}},true]
[92,null,null,null,null,null,null,null,{"$f":"IF(ISERROR(VLOOKUP(H97,Database!$B$1:$C$5908,2,FALSE)),\"\",VLOOKUP(H97,Database!$B$1:$C$5908,2,FALSE))","v":""},"",{"$error":"#N/A"},null,null,null,null,null,null,null,null,"",false,2,{"$f":"VLOOKUP(H97,Database!$B$1:$E$4891,4,FALSE)","v":{"$error":"#N/A"}},true]
[93,null,null,null,null,null,null,null,{"$f":"IF(ISERROR(VLOOKUP(H98,Database!$B$1:$C$5908,2,FALSE)),\"\",VLOOKUP(H98,Database!$B$1:$C$5908,2,FALSE))","v":""},"",{"$error":"#N/A"},null,null,null,null,null,null,null,null,"",false,2,{"$f":"VLOOKUP(H98,Database!$B$1:$E$4891,4,FALSE)","v":{"$error":"#N/A"}},true]
[94,null,null,null,null,null,null,null,{"$f":"IF(ISERROR(VLOOKUP(H99,Database!$B$1:$C$5908,2,FALSE)),\"\",VLOOKUP(H99,Database!$B$1:$C$5908,2,FALSE))","v":""},"",{"$error":"#N/A"},null,null,null,null,null,null,null,null,"",false,2,{"$f":"VLOOKUP(H99,Database!$B$1:$E$4891,4,FALSE)","v":{"$error":"#N/A"}},true]
[95,null,null,null,null,null,null,null,{"$f":"IF(ISERROR(VLOOKUP(H100,Database!$B$1:$C$5908,2,FALSE)),\"\",VLOOKUP(H100,Database!$B$1:$C$5908,2,FALSE))","v":""},"",{"$error":"#N/A"},null,null,null,null,null,null,null,null,"",false,2,{"$f":"VLOOKUP(H100,Database!$B$1:$E$4891,4,FALSE)","v":{"$error":"#N/A"}},true]
[96,null,null,null,null,null,null,null,{"$f":"IF(ISERROR(VLOOKUP(H101,Database!$B$1:$C$5908,2,FALSE)),\"\",VLOOKUP(H101,Database!$B$1:$C$5908,2,FALSE))","v":""},"",{"$error":"#N/A"},null,null,null,null,null,null,null,null,"",false,2,{"$f":"VLOOKUP(H101,Database!$B$1:$E$4891,4,FALSE)","v":{"$error":"#N/A"}},true]
[97,null,null,null,null,null,null,null,{"$f":"IF(ISERROR(VLOOKUP(H102,Database!$B$1:$C$5908,2,FALSE)),\"\",VLOOKUP(H102,Database!$B$1:$C$5908,2,FALSE))","v":""},"",{"$error":"#N/A"},null,null,null,null,null,null,null,null,"",false,2,{"$f":"VLOOKUP(H102,Database!$B$1:$E$4891,4,FALSE)","v":{"$error":"#N/A"}},true]
[98,null,null,null,null,null,null,null,{"$f":"IF(ISERROR(VLOOKUP(H103,Database!$B$1:$C$5908,2,FALSE)),\"\",VLOOKUP(H103,Database!$B$1:$C$5908,2,FALSE))","v":""},"",{"$error":"#N/A"},null,null,null,null,null,null,null,null,"",false,2,{"$f":"VLOOKUP(H103,Database!$B$1:$E$4891,4,FALSE)","v":{"$error":"#N/A"}},true]
[99,null,null,null,null,null,null,null,{"$f":"IF(ISERROR(VLOOKUP(H104,Database!$B$1:$C$5908,2,FALSE)),\"\",VLOOKUP(H104,Database!$B$1:$C$5908,2,FALSE))","v":""},"",{"$error":"#N/A"},null,null,null,null,null,null,null,null,"",false,2,{"$f":"VLOOKUP(H104,Database!$B$1:$E$4891,4,FALSE)","v":{"$error":"#N/A"}},true]
[100,null,null,null,null,null,null,null,{"$f":"IF(ISERROR(VLOOKUP(H105,Database!$B$1:$C$5908,2,FALSE)),\"\",VLOOKUP(H105,Database!$B$1:$C$5908,2,FALSE))","v":""},"",{"$error":"#N/A"},null,null,null,null,null,null,null,null,"",false,2,{"$f":"VLOOKUP(H105,Database!$B$1:$E$4891,4,FALSE)","v":{"$error":"#N/A"}},true]
[101,null,null,null,null,null,null,null,{"$f":"IF(ISERROR(VLOOKUP(H106,Database!$B$1:$C$5908,2,FALSE)),\"\",VLOOKUP(H106,Database!$B$1:$C$5908,2,FALSE))","v":""},"",{"$error":"#N/A"},null,null,null,null,null,null,null,null,"",false,2,{"$f":"VLOOKUP(H106,Database!$B$1:$E$4891,4,FALSE)","v":{"$error":"#N/A"}},true]
[102,null,null,null,null,null,null,null,{"$f":"IF(ISERROR(VLOOKUP(H107,Database!$B$1:$C$5908,2,FALSE)),\"\",VLOOKUP(H107,Database!$B$1:$C$5908,2,FALSE))","v":""},"",{"$error":"#N/A"},null,null,null,null,null,null,null,null,"",false,2,{"$f":"VLOOKUP(H107,Database!$B$1:$E$4891,4,FALSE)","v":{"$error":"#N/A"}},true]
[103,null,null,null,null,null,null,null,{"$f":"IF(ISERROR(VLOOKUP(H108,Database!$B$1:$C$5908,2,FALSE)),\"\",VLOOKUP(H108,Database!$B$1:$C$5908,2,FALSE))","v":""},"",{"$error":"#N/A"},null,null,null,null,null,null,null,null,"",false,2,{"$f":"VLOOKUP(H108,Database!$B$1:$E$4891,4,FALSE)","v":{"$error":"#N/A"}},true]
[104,null,null,null,null,null,null,null,{"$f":"IF(ISERROR(VLOOKUP(H109,Database!$B$1:$C$5908,2,FALSE)),\"\",VLOOKUP(H109,Database!$B$1:$C$5908,2,FALSE))","v":""},"",{"$error":"#N/A"},null,null,null,null,null,null,null,null,"",false,2,{"$f":"VLOOKUP(H109,Database!$B$1:$E$4891,4,FALSE)","v":{"$error":"#N/A"}},true]
[105,null,null,null,null,null,null,null,{"$f":"IF(ISERROR(VLOOKUP(H110,Database!$B$1:$C$5908,2,FALSE)),\"\",VLOOKUP(H110,Database!$B$1:$C$5908,2,FALSE))","v":""},"",{"$error":"#N/A"},null,null,null,null,null,null,null,null,"",false,2,{"$f":"VLOOKUP(H110,Database!$B$1:$E$4891,4,FALSE)","v":{"$error":"#N/A"}},true]
[106,null,null,null,null,null,null,null,{"$f":"IF(ISERROR(VLOOKUP(H111,Database!$B$1:$C$5908,2,FALSE)),\"\",VLOOKUP(H111,Database!$B$1:$C$5908,2,FALSE))","v":""},"",{"$error":"#N/A"},null,null,null,null,null,null,null,null,"",false,2,{"$f":"VLOOKUP(H111,Database!$B$1:$E$4891,4,FALSE)","v":{"$error":"#N/A"}},true]
[107,null,null,null,null,null,null,null,{"$f":"IF(ISERROR(VLOOKUP(H112,Database!$B$1:$C$5908,2,FALSE)),\"\",VLOOKUP(H112,Database!$B$1:$C$5908,2,FALSE))","v":""},"",{"$error":"#N/A"},null,null,null,null,null,null,null,null,"",false,2,{"$f":"VLOOKUP(H112,Database!$B$1:$E$4891,4,FALSE)","v":{"$error":"#N/A"}},true]
[108,null,null,null,null,null,null,null,{"$f":"IF(ISERROR(VLOOKUP(H113,Database!$B$1:$C$5908,2,FALSE)),\"\",VLOOKUP(H113,Database!$B$1:$C$5908,2,FALSE))","v":""},"",{"$error":"#N/A"},null,null,null,null,null,null,null,null,"",false,2,{"$f":"VLOOKUP(H113,Database!$B$1:$E$4891,4,FALSE)","v":{"$error":"#N/A"}},true]
[109,null,null,null,null,null,null,null,{"$f":"IF(ISERROR(VLOOKUP(H114,Database!$B$1:$C$5908,2,FALSE)),\"\",VLOOKUP(H114,Database!$B$1:$C$5908,2,FALSE))","v":""},"",{"$error":"#N/A"},null,null,null,null,null,null,null,null,"",false,2,{"$f":"VLOOKUP(H114,Database!$B$1:$E$4891,4,FALSE)","v":{"$error":"#N/A"}},true]
[110,null,null,null,null,null,null,null,{"$f":"IF(ISERROR(VLOOKUP(H115,Database!$B$1:$C$5908,2,FALSE)),\"\",VLOOKUP(H115,Database!$B$1:$C$5908,2,FALSE))","v":""},"",{"$error":"#N/A"},null,null,null,null,null,null,null,null,"",false,2,{"$f":"VLOOKUP(H115,Database!$B$1:$E$4891,4,FALSE)","v":{"$error":"#N/A"}},true]
[111,null,null,null,null,null,null,null,{"$f":"IF(ISERROR(VLOOKUP(H116,Database!$B$1:$C$5908,2,FALSE)),\"\",VLOOKUP(H116,Database!$B$1:$C$5908,2,FALSE))","v":""},"",{"$error":"#N/A"},null,null,null,null,null,null,null,null,"",false,2,{"$f":"VLOOKUP(H116,Database!$B$1:$E$4891,4,FALSE)","v":{"$error":"#N/A"}},true]
[112,null,null,null,null,null,null,null,{"$f":"IF(ISERROR(VLOOKUP(H117,Database!$B$1:$C$5908,2,FALSE)),\"\",VLOOKUP(H117,Database!$B$1:$C$5908,2,FALSE))","v":""},"",{"$error":"#N/A"},null,null,null,null,null,null,null,null,"",false,2,{"$f":"VLOOKUP(H117,Database!$B$1:$E$4891,4,FALSE)","v":{"$error":"#N/A"}},true]
[113,null,null,null,null,null,null,null,{"$f":"IF(ISERROR(VLOOKUP(H118,Database!$B$1:$C$5908,2,FALSE)),\"\",VLOOKUP(H118,Database!$B$1:$C$5908,2,FALSE))","v":""},"",{"$error":"#N/A"},null,null,null,null,null,null,null,null,"",false,2,{"$f":"VLOOKUP(H118,Database!$B$1:$E$4891,4,FALSE)","v":{"$error":"#N/A"}},true]
[114,null,null,null,null,null,null,null,{"$f":"IF(ISERROR(VLOOKUP(H119,Database!$B$1:$C$5908,2,FALSE)),\"\",VLOOKUP(H119,Database!$B$1:$C$5908,2,FALSE))","v":""},"",{"$error":"#N/A"},null,null,null,null,null,null,null,null,"",false,2,{"$f":"VLOOKUP(H119,Database!$B$1:$E$4891,4,FALSE)","v":{"$error":"#N/A"}},true]
[115,null,null,null,null,null,null,null,{"$f":"IF(ISERROR(VLOOKUP(H120,Database!$B$1:$C$5908,2,FALSE)),\"\",VLOOKUP(H120,Database!$B$1:$C$5908,2,FALSE))","v":""},"",{"$error":"#N/A"},null,null,null,null,null,null,null,null,"",false,2,{"$f":"VLOOKUP(H120,Database!$B$1:$E$4891,4,FALSE)","v":{"$error":"#N/A"}},true]
[116,null,null,null,null,null,null,null,{"$f":"IF(ISERROR(VLOOKUP(H121,Database!$B$1:$C$5908,2,FALSE)),\"\",VLOOKUP(H121,Database!$B$1:$C$5908,2,FALSE))","v":""},"",{"$error":"#N/A"},null,null,null,null,null,null,null,null,"",false,2,{"$f":"VLOOKUP(H121,Database!$B$1:$E$4891,4,FALSE)","v":{"$error":"#N/A"}},true]
[117,null,null,null,null,null,null,null,{"$f":"IF(ISERROR(VLOOKUP(H122,Database!$B$1:$C$5908,2,FALSE)),\"\",VLOOKUP(H122,Database!$B$1:$C$5908,2,FALSE))","v":""},"",{"$error":"#N/A"},null,null,null,null,null,null,null,null,"",false,2,{"$f":"VLOOKUP(H122,Database!$B$1:$E$4891,4,FALSE)","v":{"$error":"#N/A"}},true]
[118,null,null,null,null,null,null,null,{"$f":"IF(ISERROR(VLOOKUP(H123,Database!$B$1:$C$5908,2,FALSE)),\"\",VLOOKUP(H123,Database!$B$1:$C$5908,2,FALSE))","v":""},"",{"$error":"#N/A"},null,null,null,null,null,null,null,null,"",false,2,{"$f":"VLOOKUP(H123,Database!$B$1:$E$4891,4,FALSE)","v":{"$error":"#N/A"}},true]
[119,null,null,null,null,null,null,null,{"$f":"IF(ISERROR(VLOOKUP(H124,Database!$B$1:$C$5908,2,FALSE)),\"\",VLOOKUP(H124,Database!$B$1:$C$5908,2,FALSE))","v":""},"",{"$error":"#N/A"},null,null,null,null,null,null,null,null,"",false,2,{"$f":"VLOOKUP(H124,Database!$B$1:$E$4891,4,FALSE)","v":{"$error":"#N/A"}},true]
[120,null,null,null,null,null,null,null,{"$f":"IF(ISERROR(VLOOKUP(H125,Database!$B$1:$C$5908,2,FALSE)),\"\",VLOOKUP(H125,Database!$B$1:$C$5908,2,FALSE))","v":""},"",{"$error":"#N/A"},null,null,null,null,null,null,null,null,"",false,2,{"$f":"VLOOKUP(H125,Database!$B$1:$E$4891,4,FALSE)","v":{"$error":"#N/A"}},true]
[121,null,null,null,null,null,null,null,{"$f":"IF(ISERROR(VLOOKUP(H126,Database!$B$1:$C$5908,2,FALSE)),\"\",VLOOKUP(H126,Database!$B$1:$C$5908,2,FALSE))","v":""},"",{"$error":"#N/A"},null,null,null,null,null,null,null,null,"",false,2,{"$f":"VLOOKUP(H126,Database!$B$1:$E$4891,4,FALSE)","v":{"$error":"#N/A"}},true]
[122,null,null,null,null,null,null,null,{"$f":"IF(ISERROR(VLOOKUP(H127,Database!$B$1:$C$5908,2,FALSE)),\"\",VLOOKUP(H127,Database!$B$1:$C$5908,2,FALSE))","v":""},"",{"$error":"#N/A"},null,null,null,null,null,null,null,null,"",false,2,{"$f":"VLOOKUP(H127,Database!$B$1:$E$4891,4,FALSE)","v":{"$error":"#N/A"}},true]
[123,null,null,null,null,null,null,null,{"$f":"IF(ISERROR(VLOOKUP(H128,Database!$B$1:$C$5908,2,FALSE)),\"\",VLOOKUP(H128,Database!$B$1:$C$5908,2,FALSE))","v":""},"",{"$error":"#N/A"},null,null,null,null,null,null,null,null,"",false,2,{"$f":"VLOOKUP(H128,Database!$B$1:$E$4891,4,FALSE)","v":{"$error":"#N/A"}},true]
[124,null,null,null,null,null,null,null,{"$f":"IF(ISERROR(VLOOKUP(H129,Database!$B$1:$C$5908,2,FALSE)),\"\",VLOOKUP(H129,Database!$B$1:$C$5908,2,FALSE))","v":""},"",{"$error":"#N/A"},null,null,null,null,null,null,null,null,"",false,2,{"$f":"VLOOKUP(H129,Database!$B$1:$E$4891,4,FALSE)","v":{"$error":"#N/A"}},true]
[125,null,null,null,null,null,null,null,{"$f":"IF(ISERROR(VLOOKUP(H130,Database!$B$1:$C$5908,2,FALSE)),\"\",VLOOKUP(H130,Database!$B$1:$C$5908,2,FALSE))","v":""},"",{"$error":"#N/A"},null,null,null,null,null,null,null,null,"",false,2,{"$f":"VLOOKUP(H130,Database!$B$1:$E$4891,4,FALSE)","v":{"$error":"#N/A"}},true]
[126,null,null,null,null,null,null,null,{"$f":"IF(ISERROR(VLOOKUP(H131,Database!$B$1:$C$5908,2,FALSE)),\"\",VLOOKUP(H131,Database!$B$1:$C$5908,2,FALSE))","v":""},"",{"$error":"#N/A"},null,null,null,null,null,null,null,null,"",false,2,{"$f":"VLOOKUP(H131,Database!$B$1:$E$4891,4,FALSE)","v":{"$error":"#N/A"}},true]
[127,null,null,null,null,null,null,null,{"$f":"IF(ISERROR(VLOOKUP(H132,Database!$B$1:$C$5908,2,FALSE)),\"\",VLOOKUP(H132,Database!$B$1:$C$5908,2,FALSE))","v":""},"",{"$error":"#N/A"},null,null,null,null,null,null,null,null,"",false,2,{"$f":"VLOOKUP(H132,Database!$B$1:$E$4891,4,FALSE)","v":{"$error":"#N/A"}},true]
[128,null,null,null,null,null,null,null,{"$f":"IF(ISERROR(VLOOKUP(H133,Database!$B$1:$C$5908,2,FALSE)),\"\",VLOOKUP(H133,Database!$B$1:$C$5908,2,FALSE))","v":""},"",{"$error":"#N/A"},null,null,null,null,null,null,null,null,"",false,2,{"$f":"VLOOKUP(H133,Database!$B$1:$E$4891,4,FALSE)","v":{"$error":"#N/A"}},true]
[129,null,null,null,null,null,null,null,{"$f":"IF(ISERROR(VLOOKUP(H134,Database!$B$1:$C$5908,2,FALSE)),\"\",VLOOKUP(H134,Database!$B$1:$C$5908,2,FALSE))","v":""},"",{"$error":"#N/A"},null,null,null,null,null,null,null,null,"",false,2,{"$f":"VLOOKUP(H134,Database!$B$1:$E$4891,4,FALSE)","v":{"$error":"#N/A"}},true]
[{"$f":"A134+1","v":130},null,null,null,null,null,null,null,{"$f":"IF(ISERROR(VLOOKUP(H135,Database!$B$1:$C$5908,2,FALSE)),\"\",VLOOKUP(H135,Database!$B$1:$C$5908,2,FALSE))","v":""},{"$f":"IF(V135=1,1,IF(AND(T135=0,F135=\"SSB\",V135<>\"\"),2,IF(AND(T135=0,F135=\"FM\",V135<>\"\"),2,IF(AND(T135=0,F135=\"DIGI\",V135<>\"\"),3,IF(AND(T135=0,F135=\"CW\",V135<>\"\"),5,IF(H135=\"-\",\"\",T135))))))","v":""},{"$f":"IF(H135=\"-\",\"\",IF(AND(H135<>\"\",X135=TRUE),\"INDIPENDENT\",IF(W135=0,\"SCRIVI NOME NELLE NOTE\",W135)))","v":{"$error":"#N/A"}},null,null,null,null,null,null,null,null,{"$f":"IF(H135=\"\",\"\",IF(H135=$R$6,25,IF(OR(H135=$R$7,H135=$R$8,H135=$R$9,H135=$R$10,H135=$R$11,H135=$R$12,H135=$R$13,H135=$R$14,H135=$R$15,H135=$R$16,H135=$R$17,H135=$R$18,H135=$R$19,H135=$R$20,H135=$R$21,H135=$R$22,H135=$R$23),15,0)))","v":""},{"$f":"ISERROR(I135)","v":false},2,{"$f":"VLOOKUP(H135,Database!$B$1:$E$4891,4,FALSE)","v":{"$error":"#N/A"}},{"$f":"ISERROR(W135)","v":true}]
[131,null,null,null,null,null,null,null,{"$f":"IF(ISERROR(VLOOKUP(H136,Database!$B$1:$C$5908,2,FALSE)),\"\",VLOOKUP(H136,Database!$B$1:$C$5908,2,FALSE))","v":""},"",{"$error":"#N/A"},null,null,null,null,null,null,null,null,"",false,{"$f":"IF(H136=\"-\",\"\",IF(AND(T136=0,U136=FALSE,I136=\"\"),1,2))","v":2},{"$f":"VLOOKUP(H136,Database!$B$1:$E$4891,4,FALSE)","v":{"$error":"#N/A"}},true]
[132,null,null,null,null,null,null,null,{"$f":"IF(ISERROR(VLOOKUP(H137,Database!$B$1:$C$5908,2,FALSE)),\"\",VLOOKUP(H137,Database!$B$1:$C$5908,2,FALSE))","v":""},"",{"$error":"#N/A"},null,null,null,null,null,null,null,null,"",false,2,{"$f":"VLOOKUP(H137,Database!$B$1:$E$4891,4,FALSE)","v":{"$error":"#N/A"}},true]
[133,null,null,null,null,null,null,null,{"$f":"IF(ISERROR(VLOOKUP(H138,Database!$B$1:$C$5908,2,FALSE)),\"\",VLOOKUP(H138,Database!$B$1:$C$5908,2,FALSE))","v":""},"",{"$error":"#N/A"},null,null,null,null,null,null,null,null,"",false,2,{"$f":"VLOOKUP(H138,Database!$B$1:$E$4891,4,FALSE)","v":{"$error":"#N/A"}},true]
[134,null,null,null,null,null,null,null,{"$f":"IF(ISERROR(VLOOKUP(H139,Database!$B$1:$C$5908,2,FALSE)),\"\",VLOOKUP(H139,Database!$B$1:$C$5908,2,FALSE))","v":""},"",{"$error":"#N/A"},null,null,null,null,null,null,null,null,"",false,2,{"$f":"VLOOKUP(H139,Database!$B$1:$E$4891,4,FALSE)","v":{"$error":"#N/A"}},true]
[135,null,null,null,null,null,null,null,{"$f":"IF(ISERROR(VLOOKUP(H140,Database!$B$1:$C$5908,2,FALSE)),\"\",VLOOKUP(H140,Database!$B$1:$C$5908,2,FALSE))","v":""},"",{"$error":"#N/A"},null,null,null,null,null,null,null,null,"",false,2,{"$f":"VLOOKUP(H140,Database!$B$1:$E$4891,4,FALSE)","v":{"$error":"#N/A"}},true]
[136,null,null,null,null,null,null,null,{"$f":"IF(ISERROR(VLOOKUP(H141,Database!$B$1:$C$5908,2,FALSE)),\"\",VLOOKUP(H141,Database!$B$1:$C$5908,2,FALSE))","v":""},"",{"$error":"#N/A"},null,null,null,null,null,null,null,null,"",false,2,{"$f":"VLOOKUP(H141,Database!$B$1:$E$4891,4,FALSE)","v":{"$error":"#N/A"}},true]
[137,null,null,null,null,null,null,null,{"$f":"IF(ISERROR(VLOOKUP(H142,Database!$B$1:$C$5908,2,FALSE)),\"\",VLOOKUP(H142,Database!$B$1:$C$5908,2,FALSE))","v":""},"",{"$error":"#N/A"},null,null,null,null,null,null,null,null,"",false,2,{"$f":"VLOOKUP(H142,Database!$B$1:$E$4891,4,FALSE)","v":{"$error":"#N/A"}},true]
[138,null,null,null,null,null,null,null,{"$f":"IF(ISERROR(VLOOKUP(H143,Database!$B$1:$C$5908,2,FALSE)),\"\",VLOOKUP(H143,Database!$B$1:$C$5908,2,FALSE))","v":""},"",{"$error":"#N/A"},null,null,null,null,null,null,null,null,"",false,2,{"$f":"VLOOKUP(H143,Database!$B$1:$E$4891,4,FALSE)","v":{"$error":"#N/A"}},true]
[139,null,null,null,null,null,null,null,{"$f":"IF(ISERROR(VLOOKUP(H144,Database!$B$1:$C$5908,2,FALSE)),\"\",VLOOKUP(H144,Database!$B$1:$C$5908,2,FALSE))","v":""},"",{"$error":"#N/A"},null,null,null,null,null,null,null,null,"",{"$f":"ISERROR(I144)","v":false},2,{"$f":"VLOOKUP(H144,Database!$B$1:$E$4891,4,FALSE)","v":{"$error":"#N/A"}},true]
[140,null,null,null,null,null,null,null,{"$f":"IF(ISERROR(VLOOKUP(H145,Database!$B$1:$C$5908,2,FALSE)),\"\",VLOOKUP(H145,Database!$B$1:$C$5908,2,FALSE))","v":""},"",{"$error":"#N/A"},null,null,null,null,null,null,null,null,"",{"$f":"ISERROR(I145)","v":false},2,{"$f":"VLOOKUP(H145,Database!$B$1:$E$4891,4,FALSE)","v":{"$error":"#N/A"}},true]
[141,null,null,null,null,null,null,null,{"$f":"IF(ISERROR(VLOOKUP(H146,Database!$B$1:$C$5908,2,FALSE)),\"\",VLOOKUP(H146,Database!$B$1:$C$5908,2,FALSE))","v":""},"",{"$error":"#N/A"},null,null,null,null,null,null,null,null,"",false,2,{"$f":"VLOOKUP(H146,Database!$B$1:$E$4891,4,FALSE)","v":{"$error":"#N/A"}},true]
[142,null,null,null,null,null,null,null,{"$f":"IF(ISERROR(VLOOKUP(H147,Database!$B$1:$C$5908,2,FALSE)),\"\",VLOOKUP(H147,Database!$B$1:$C$5908,2,FALSE))","v":""},"",{"$error":"#N/A"},null,null,null,null,null,null,null,null,"",false,2,{"$f":"VLOOKUP(H147,Database!$B$1:$E$4891,4,FALSE)","v":{"$error":"#N/A"}},true]
[143,null,null,null,null,null,null,null,{"$f":"IF(ISERROR(VLOOKUP(H148,Database!$B$1:$C$5908,2,FALSE)),\"\",VLOOKUP(H148,Database!$B$1:$C$5908,2,FALSE))","v":""},"",{"$error":"#N/A"},null,null,null,null,null,null,null,null,"",false,2,{"$f":"VLOOKUP(H148,Database!$B$1:$E$4891,4,FALSE)","v":{"$error":"#N/A"}},true]
[144,null,null,null,null,null,null,null,{"$f":"IF(ISERROR(VLOOKUP(H149,Database!$B$1:$C$5908,2,FALSE)),\"\",VLOOKUP(H149,Database!$B$1:$C$5908,2,FALSE))","v":""},"",{"$error":"#N/A"},null,null,null,null,null,null,null,null,"",false,2,{"$f":"VLOOKUP(H149,Database!$B$1:$E$4891,4,FALSE)","v":{"$error":"#N/A"}},true]
[145,null,null,null,null,null,null,null,{"$f":"IF(ISERROR(VLOOKUP(H150,Database!$B$1:$C$5908,2,FALSE)),\"\",VLOOKUP(H150,Database!$B$1:$C$5908,2,FALSE))","v":""},"",{"$error":"#N/A"},null,null,null,null,null,null,null,null,"",false,2,{"$f":"VLOOKUP(H150,Database!$B$1:$E$4891,4,FALSE)","v":{"$error":"#N/A"}},true]
[146,null,null,null,null,null,null,null,{"$f":"IF(ISERROR(VLOOKUP(H151,Database!$B$1:$C$5908,2,FALSE)),\"\",VLOOKUP(H151,Database!$B$1:$C$5908,2,FALSE))","v":""},"",{"$error":"#N/A"},null,null,null,null,null,null,null,null,"",false,2,{"$f":"VLOOKUP(H151,Database!$B$1:$E$4891,4,FALSE)","v":{"$error":"#N/A"}},true]
[147,null,null,null,null,null,null,null,{"$f":"IF(ISERROR(VLOOKUP(H152,Database!$B$1:$C$5908,2,FALSE)),\"\",VLOOKUP(H152,Database!$B$1:$C$5908,2,FALSE))","v":""},"",{"$error":"#N/A"},null,null,null,null,null,null,null,null,"",false,2,{"$f":"VLOOKUP(H152,Database!$B$1:$E$4891,4,FALSE)","v":{"$error":"#N/A"}},true]
[148,null,null,null,null,null,null,null,{"$f":"IF(ISERROR(VLOOKUP(H153,Database!$B$1:$C$5908,2,FALSE)),\"\",VLOOKUP(H153,Database!$B$1:$C$5908,2,FALSE))","v":""},"",{"$error":"#N/A"},null,null,null,null,null,null,null,null,"",false,2,{"$f":"VLOOKUP(H153,Database!$B$1:$E$4891,4,FALSE)","v":{"$error":"#N/A"}},true]
[149,null,null,null,null,null,null,null,{"$f":"IF(ISERROR(VLOOKUP(H154,Database!$B$1:$C$5908,2,FALSE)),\"\",VLOOKUP(H154,Database!$B$1:$C$5908,2,FALSE))","v":""},"",{"$error":"#N/A"},null,null,null,null,null,null,null,null,"",false,2,{"$f":"VLOOKUP(H154,Database!$B$1:$E$4891,4,FALSE)","v":{"$error":"#N/A"}},true]
[150,null,null,null,null,null,null,null,{"$f":"IF(ISERROR(VLOOKUP(H155,Database!$B$1:$C$5908,2,FALSE)),\"\",VLOOKUP(H155,Database!$B$1:$C$5908,2,FALSE))","v":""},"",{"$error":"#N/A"},null,null,null,null,null,null,null,null,"",false,2,{"$f":"VLOOKUP(H155,Database!$B$1:$E$4891,4,FALSE)","v":{"$error":"#N/A"}},true]
[151,null,null,null,null,null,null,null,{"$f":"IF(ISERROR(VLOOKUP(H156,Database!$B$1:$C$5908,2,FALSE)),\"\",VLOOKUP(H156,Database!$B$1:$C$5908,2,FALSE))","v":""},"",{"$error":"#N/A"},null,null,null,null,null,null,null,null,"",false,2,{"$f":"VLOOKUP(H156,Database!$B$1:$E$4891,4,FALSE)","v":{"$error":"#N/A"}},true]
[152,null,null,null,null,null,null,null,{"$f":"IF(ISERROR(VLOOKUP(H157,Database!$B$1:$C$5908,2,FALSE)),\"\",VLOOKUP(H157,Database!$B$1:$C$5908,2,FALSE))","v":""},"",{"$error":"#N/A"},null,null,null,null,null,null,null,null,"",false,2,{"$f":"VLOOKUP(H157,Database!$B$1:$E$4891,4,FALSE)","v":{"$error":"#N/A"}},true]
[153,null,null,null,null,null,null,null,{"$f":"IF(ISERROR(VLOOKUP(H158,Database!$B$1:$C$5908,2,FALSE)),\"\",VLOOKUP(H158,Database!$B$1:$C$5908,2,FALSE))","v":""},"",{"$error":"#N/A"},null,null,null,null,null,null,null,null,"",false,2,{"$f":"VLOOKUP(H158,Database!$B$1:$E$4891,4,FALSE)","v":{"$error":"#N/A"}},true]
[154,null,null,null,null,null,null,null,{"$f":"IF(ISERROR(VLOOKUP(H159,Database!$B$1:$C$5908,2,FALSE)),\"\",VLOOKUP(H159,Database!$B$1:$C$5908,2,FALSE))","v":""},"",{"$error":"#N/A"},null,null,null,null,null,null,null,null,"",false,2,{"$f":"VLOOKUP(H159,Database!$B$1:$E$4891,4,FALSE)","v":{"$error":"#N/A"}},true]
[155,null,null,null,null,null,null,null,{"$f":"IF(ISERROR(VLOOKUP(H160,Database!$B$1:$C$5908,2,FALSE)),\"\",VLOOKUP(H160,Database!$B$1:$C$5908,2,FALSE))","v":""},"",{"$error":"#N/A"},null,null,null,null,null,null,null,null,"",false,2,{"$f":"VLOOKUP(H160,Database!$B$1:$E$4891,4,FALSE)","v":{"$error":"#N/A"}},true]
[156,null,null,null,null,null,null,null,{"$f":"IF(ISERROR(VLOOKUP(H161,Database!$B$1:$C$5908,2,FALSE)),\"\",VLOOKUP(H161,Database!$B$1:$C$5908,2,FALSE))","v":""},"",{"$error":"#N/A"},null,null,null,null,null,null,null,null,"",false,2,{"$f":"VLOOKUP(H161,Database!$B$1:$E$4891,4,FALSE)","v":{"$error":"#N/A"}},true]
[157,null,null,null,null,null,null,null,{"$f":"IF(ISERROR(VLOOKUP(H162,Database!$B$1:$C$5908,2,FALSE)),\"\",VLOOKUP(H162,Database!$B$1:$C$5908,2,FALSE))","v":""},"",{"$error":"#N/A"},null,null,null,null,null,null,null,null,"",false,2,{"$f":"VLOOKUP(H162,Database!$B$1:$E$4891,4,FALSE)","v":{"$error":"#N/A"}},true]
[158,null,null,null,null,null,null,null,{"$f":"IF(ISERROR(VLOOKUP(H163,Database!$B$1:$C$5908,2,FALSE)),\"\",VLOOKUP(H163,Database!$B$1:$C$5908,2,FALSE))","v":""},"",{"$error":"#N/A"},null,null,null,null,null,null,null,null,"",false,2,{"$f":"VLOOKUP(H163,Database!$B$1:$E$4891,4,FALSE)","v":{"$error":"#N/A"}},true]
[159,null,null,null,null,null,null,null,{"$f":"IF(ISERROR(VLOOKUP(H164,Database!$B$1:$C$5908,2,FALSE)),\"\",VLOOKUP(H164,Database!$B$1:$C$5908,2,FALSE))","v":""},"",{"$error":"#N/A"},null,null,null,null,null,null,null,null,"",false,2,{"$f":"VLOOKUP(H164,Database!$B$1:$E$4891,4,FALSE)","v":{"$error":"#N/A"}},true]
[160,null,null,null,null,null,null,null,{"$f":"IF(ISERROR(VLOOKUP(H165,Database!$B$1:$C$5908,2,FALSE)),\"\",VLOOKUP(H165,Database!$B$1:$C$5908,2,FALSE))","v":""},"",{"$error":"#N/A"},null,null,null,null,null,null,null,null,"",false,2,{"$f":"VLOOKUP(H165,Database!$B$1:$E$4891,4,FALSE)","v":{"$error":"#N/A"}},true]
[161,null,null,null,null,null,null,null,{"$f":"IF(ISERROR(VLOOKUP(H166,Database!$B$1:$C$5908,2,FALSE)),\"\",VLOOKUP(H166,Database!$B$1:$C$5908,2,FALSE))","v":""},"",{"$error":"#N/A"},null,null,null,null,null,null,null,null,"",false,2,{"$f":"VLOOKUP(H166,Database!$B$1:$E$4891,4,FALSE)","v":{"$error":"#N/A"}},true]
[162,null,null,null,null,null,null,null,{"$f":"IF(ISERROR(VLOOKUP(H167,Database!$B$1:$C$5908,2,FALSE)),\"\",VLOOKUP(H167,Database!$B$1:$C$5908,2,FALSE))","v":""},"",{"$error":"#N/A"},null,null,null,null,null,null,null,null,"",false,2,{"$f":"VLOOKUP(H167,Database!$B$1:$E$4891,4,FALSE)","v":{"$error":"#N/A"}},true]
[163,null,null,null,null,null,null,null,{"$f":"IF(ISERROR(VLOOKUP(H168,Database!$B$1:$C$5908,2,FALSE)),\"\",VLOOKUP(H168,Database!$B$1:$C$5908,2,FALSE))","v":""},"",{"$error":"#N/A"},null,null,null,null,null,null,null,null,"",false,2,{"$f":"VLOOKUP(H168,Database!$B$1:$E$4891,4,FALSE)","v":{"$error":"#N/A"}},true]
[164,null,null,null,null,null,null,null,{"$f":"IF(ISERROR(VLOOKUP(H169,Database!$B$1:$C$5908,2,FALSE)),\"\",VLOOKUP(H169,Database!$B$1:$C$5908,2,FALSE))","v":""},"",{"$error":"#N/A"},null,null,null,null,null,null,null,null,"",false,2,{"$f":"VLOOKUP(H169,Database!$B$1:$E$4891,4,FALSE)","v":{"$error":"#N/A"}},true]
[165,null,null,null,null,null,null,null,{"$f":"IF(ISERROR(VLOOKUP(H170,Database!$B$1:$C$5908,2,FALSE)),\"\",VLOOKUP(H170,Database!$B$1:$C$5908,2,FALSE))","v":""},"",{"$error":"#N/A"},null,null,null,null,null,null,null,null,"",false,2,{"$f":"VLOOKUP(H170,Database!$B$1:$E$4891,4,FALSE)","v":{"$error":"#N/A"}},true]
[166,null,null,null,null,null,null,null,{"$f":"IF(ISERROR(VLOOKUP(H171,Database!$B$1:$C$5908,2,FALSE)),\"\",VLOOKUP(H171,Database!$B$1:$C$5908,2,FALSE))","v":""},"",{"$error":"#N/A"},null,null,null,null,null,null,null,null,"",false,2,{"$f":"VLOOKUP(H171,Database!$B$1:$E$4891,4,FALSE)","v":{"$error":"#N/A"}},true]
[167,null,null,null,null,null,null,null,{"$f":"IF(ISERROR(VLOOKUP(H172,Database!$B$1:$C$5908,2,FALSE)),\"\",VLOOKUP(H172,Database!$B$1:$C$5908,2,FALSE))","v":""},"",{"$error":"#N/A"},null,null,null,null,null,null,null,null,"",false,2,{"$f":"VLOOKUP(H172,Database!$B$1:$E$4891,4,FALSE)","v":{"$error":"#N/A"}},true]
[168,null,null,null,null,null,null,null,{"$f":"IF(ISERROR(VLOOKUP(H173,Database!$B$1:$C$5908,2,FALSE)),\"\",VLOOKUP(H173,Database!$B$1:$C$5908,2,FALSE))","v":""},"",{"$error":"#N/A"},null,null,null,null,null,null,null,null,"",false,2,{"$f":"VLOOKUP(H173,Database!$B$1:$E$4891,4,FALSE)","v":{"$error":"#N/A"}},true]
[169,null,null,null,null,null,null,null,{"$f":"IF(ISERROR(VLOOKUP(H174,Database!$B$1:$C$5908,2,FALSE)),\"\",VLOOKUP(H174,Database!$B$1:$C$5908,2,FALSE))","v":""},"",{"$error":"#N/A"},null,null,null,null,null,null,null,null,"",false,2,{"$f":"VLOOKUP(H174,Database!$B$1:$E$4891,4,FALSE)","v":{"$error":"#N/A"}},true]
[170,null,null,null,null,null,null,null,{"$f":"IF(ISERROR(VLOOKUP(H175,Database!$B$1:$C$5908,2,FALSE)),\"\",VLOOKUP(H175,Database!$B$1:$C$5908,2,FALSE))","v":""},"",{"$error":"#N/A"},null,null,null,null,null,null,null,null,"",false,2,{"$f":"VLOOKUP(H175,Database!$B$1:$E$4891,4,FALSE)","v":{"$error":"#N/A"}},true]
[171,null,null,null,null,null,null,null,{"$f":"IF(ISERROR(VLOOKUP(H176,Database!$B$1:$C$5908,2,FALSE)),\"\",VLOOKUP(H176,Database!$B$1:$C$5908,2,FALSE))","v":""},"",{"$error":"#N/A"},null,null,null,null,null,null,null,null,"",false,2,{"$f":"VLOOKUP(H176,Database!$B$1:$E$4891,4,FALSE)","v":{"$error":"#N/A"}},true]
[172,null,null,null,null,null,null,null,{"$f":"IF(ISERROR(VLOOKUP(H177,Database!$B$1:$C$5908,2,FALSE)),\"\",VLOOKUP(H177,Database!$B$1:$C$5908,2,FALSE))","v":""},"",{"$error":"#N/A"},null,null,null,null,null,null,null,null,"",false,2,{"$f":"VLOOKUP(H177,Database!$B$1:$E$4891,4,FALSE)","v":{"$error":"#N/A"}},true]
[173,null,null,null,null,null,null,null,{"$f":"IF(ISERROR(VLOOKUP(H178,Database!$B$1:$C$5908,2,FALSE)),\"\",VLOOKUP(H178,Database!$B$1:$C$5908,2,FALSE))","v":""},"",{"$error":"#N/A"},null,null,null,null,null,null,null,null,"",false,2,{"$f":"VLOOKUP(H178,Database!$B$1:$E$4891,4,FALSE)","v":{"$error":"#N/A"}},true]
[174,null,null,null,null,null,null,null,{"$f":"IF(ISERROR(VLOOKUP(H179,Database!$B$1:$C$5908,2,FALSE)),\"\",VLOOKUP(H179,Database!$B$1:$C$5908,2,FALSE))","v":""},"",{"$error":"#N/A"},null,null,null,null,null,null,null,null,"",false,2,{"$f":"VLOOKUP(H179,Database!$B$1:$E$4891,4,FALSE)","v":{"$error":"#N/A"}},true]
[175,null,null,null,null,null,null,null,{"$f":"IF(ISERROR(VLOOKUP(H180,Database!$B$1:$C$5908,2,FALSE)),\"\",VLOOKUP(H180,Database!$B$1:$C$5908,2,FALSE))","v":""},"",{"$error":"#N/A"},null,null,null,null,null,null,null,null,"",false,2,{"$f":"VLOOKUP(H180,Database!$B$1:$E$4891,4,FALSE)","v":{"$error":"#N/A"}},true]
[176,null,null,null,null,null,null,null,{"$f":"IF(ISERROR(VLOOKUP(H181,Database!$B$1:$C$5908,2,FALSE)),\"\",VLOOKUP(H181,Database!$B$1:$C$5908,2,FALSE))","v":""},"",{"$error":"#N/A"},null,null,null,null,null,null,null,null,"",false,2,{"$f":"VLOOKUP(H181,Database!$B$1:$E$4891,4,FALSE)","v":{"$error":"#N/A"}},true]
[177,null,null,null,null,null,null,null,{"$f":"IF(ISERROR(VLOOKUP(H182,Database!$B$1:$C$5908,2,FALSE)),\"\",VLOOKUP(H182,Database!$B$1:$C$5908,2,FALSE))","v":""},"",{"$error":"#N/A"},null,null,null,null,null,null,null,null,"",false,2,{"$f":"VLOOKUP(H182,Database!$B$1:$E$4891,4,FALSE)","v":{"$error":"#N/A"}},true]
[178,null,null,null,null,null,null,null,{"$f":"IF(ISERROR(VLOOKUP(H183,Database!$B$1:$C$5908,2,FALSE)),\"\",VLOOKUP(H183,Database!$B$1:$C$5908,2,FALSE))","v":""},"",{"$error":"#N/A"},null,null,null,null,null,null,null,null,"",false,2,{"$f":"VLOOKUP(H183,Database!$B$1:$E$4891,4,FALSE)","v":{"$error":"#N/A"}},true]
[179,null,null,null,null,null,null,null,{"$f":"IF(ISERROR(VLOOKUP(H184,Database!$B$1:$C$5908,2,FALSE)),\"\",VLOOKUP(H184,Database!$B$1:$C$5908,2,FALSE))","v":""},"",{"$error":"#N/A"},null,null,null,null,null,null,null,null,"",false,2,{"$f":"VLOOKUP(H184,Database!$B$1:$E$4891,4,FALSE)","v":{"$error":"#N/A"}},true]
[180,null,null,null,null,null,null,null,{"$f":"IF(ISERROR(VLOOKUP(H185,Database!$B$1:$C$5908,2,FALSE)),\"\",VLOOKUP(H185,Database!$B$1:$C$5908,2,FALSE))","v":""},"",{"$error":"#N/A"},null,null,null,null,null,null,null,null,"",false,2,{"$f":"VLOOKUP(H185,Database!$B$1:$E$4891,4,FALSE)","v":{"$error":"#N/A"}},true]
[181,null,null,null,null,null,null,null,{"$f":"IF(ISERROR(VLOOKUP(H186,Database!$B$1:$C$5908,2,FALSE)),\"\",VLOOKUP(H186,Database!$B$1:$C$5908,2,FALSE))","v":""},"",{"$error":"#N/A"},null,null,null,null,null,null,null,null,"",false,2,{"$f":"VLOOKUP(H186,Database!$B$1:$E$4891,4,FALSE)","v":{"$error":"#N/A"}},true]
[182,null,null,null,null,null,null,null,{"$f":"IF(ISERROR(VLOOKUP(H187,Database!$B$1:$C$5908,2,FALSE)),\"\",VLOOKUP(H187,Database!$B$1:$C$5908,2,FALSE))","v":""},"",{"$error":"#N/A"},null,null,null,null,null,null,null,null,"",false,2,{"$f":"VLOOKUP(H187,Database!$B$1:$E$4891,4,FALSE)","v":{"$error":"#N/A"}},true]
[183,null,null,null,null,null,null,null,{"$f":"IF(ISERROR(VLOOKUP(H188,Database!$B$1:$C$5908,2,FALSE)),\"\",VLOOKUP(H188,Database!$B$1:$C$5908,2,FALSE))","v":""},"",{"$error":"#N/A"},null,null,null,null,null,null,null,null,"",false,2,{"$f":"VLOOKUP(H188,Database!$B$1:$E$4891,4,FALSE)","v":{"$error":"#N/A"}},true]
[184,null,null,null,null,null,null,null,{"$f":"IF(ISERROR(VLOOKUP(H189,Database!$B$1:$C$5908,2,FALSE)),\"\",VLOOKUP(H189,Database!$B$1:$C$5908,2,FALSE))","v":""},"",{"$error":"#N/A"},null,null,null,null,null,null,null,null,"",false,2,{"$f":"VLOOKUP(H189,Database!$B$1:$E$4891,4,FALSE)","v":{"$error":"#N/A"}},true]
[185,null,null,null,null,null,null,null,{"$f":"IF(ISERROR(VLOOKUP(H190,Database!$B$1:$C$5908,2,FALSE)),\"\",VLOOKUP(H190,Database!$B$1:$C$5908,2,FALSE))","v":""},"",{"$error":"#N/A"},null,null,null,null,null,null,null,null,"",false,2,{"$f":"VLOOKUP(H190,Database!$B$1:$E$4891,4,FALSE)","v":{"$error":"#N/A"}},true]
[186,null,null,null,null,null,null,null,{"$f":"IF(ISERROR(VLOOKUP(H191,Database!$B$1:$C$5908,2,FALSE)),\"\",VLOOKUP(H191,Database!$B$1:$C$5908,2,FALSE))","v":""},"",{"$error":"#N/A"},null,null,null,null,null,null,null,null,"",false,2,{"$f":"VLOOKUP(H191,Database!$B$1:$E$4891,4,FALSE)","v":{"$error":"#N/A"}},true]
[187,null,null,null,null,null,null,null,{"$f":"IF(ISERROR(VLOOKUP(H192,Database!$B$1:$C$5908,2,FALSE)),\"\",VLOOKUP(H192,Database!$B$1:$C$5908,2,FALSE))","v":""},"",{"$error":"#N/A"},null,null,null,null,null,null,null,null,"",false,2,{"$f":"VLOOKUP(H192,Database!$B$1:$E$4891,4,FALSE)","v":{"$error":"#N/A"}},true]
[188,null,null,null,null,null,null,null,{"$f":"IF(ISERROR(VLOOKUP(H193,Database!$B$1:$C$5908,2,FALSE)),\"\",VLOOKUP(H193,Database!$B$1:$C$5908,2,FALSE))","v":""},"",{"$error":"#N/A"},null,null,null,null,null,null,null,null,"",false,2,{"$f":"VLOOKUP(H193,Database!$B$1:$E$4891,4,FALSE)","v":{"$error":"#N/A"}},true]
[189,null,null,null,null,null,null,null,{"$f":"IF(ISERROR(VLOOKUP(H194,Database!$B$1:$C$5908,2,FALSE)),\"\",VLOOKUP(H194,Database!$B$1:$C$5908,2,FALSE))","v":""},"",{"$error":"#N/A"},null,null,null,null,null,null,null,null,"",false,2,{"$f":"VLOOKUP(H194,Database!$B$1:$E$4891,4,FALSE)","v":{"$error":"#N/A"}},true]
[190,null,null,null,null,null,null,null,{"$f":"IF(ISERROR(VLOOKUP(H195,Database!$B$1:$C$5908,2,FALSE)),\"\",VLOOKUP(H195,Database!$B$1:$C$5908,2,FALSE))","v":""},"",{"$error":"#N/A"},null,null,null,null,null,null,null,null,"",false,2,{"$f":"VLOOKUP(H195,Database!$B$1:$E$4891,4,FALSE)","v":{"$error":"#N/A"}},true]
[191,null,null,null,null,null,null,null,{"$f":"IF(ISERROR(VLOOKUP(H196,Database!$B$1:$C$5908,2,FALSE)),\"\",VLOOKUP(H196,Database!$B$1:$C$5908,2,FALSE))","v":""},"",{"$error":"#N/A"},null,null,null,null,null,null,null,null,"",false,2,{"$f":"VLOOKUP(H196,Database!$B$1:$E$4891,4,FALSE)","v":{"$error":"#N/A"}},true]
[192,null,null,null,null,null,null,null,{"$f":"IF(ISERROR(VLOOKUP(H197,Database!$B$1:$C$5908,2,FALSE)),\"\",VLOOKUP(H197,Database!$B$1:$C$5908,2,FALSE))","v":""},"",{"$error":"#N/A"},null,null,null,null,null,null,null,null,"",false,2,{"$f":"VLOOKUP(H197,Database!$B$1:$E$4891,4,FALSE)","v":{"$error":"#N/A"}},true]
[193,null,null,null,null,null,null,null,{"$f":"IF(ISERROR(VLOOKUP(H198,Database!$B$1:$C$5908,2,FALSE)),\"\",VLOOKUP(H198,Database!$B$1:$C$5908,2,FALSE))","v":""},"",{"$error":"#N/A"},null,null,null,null,null,null,null,null,"",false,2,{"$f":"VLOOKUP(H198,Database!$B$1:$E$4891,4,FALSE)","v":{"$error":"#N/A"}},true]
[{"$f":"A198+1","v":194},null,null,null,null,null,null,null,{"$f":"IF(ISERROR(VLOOKUP(H199,Database!$B$1:$C$5908,2,FALSE)),\"\",VLOOKUP(H199,Database!$B$1:$C$5908,2,FALSE))","v":""},{"$f":"IF(V199=1,1,IF(AND(T199=0,F199=\"SSB\",V199<>\"\"),2,IF(AND(T199=0,F199=\"FM\",V199<>\"\"),2,IF(AND(T199=0,F199=\"DIGI\",V199<>\"\"),3,IF(AND(T199=0,F199=\"CW\",V199<>\"\"),5,IF(H199=\"-\",\"\",T199))))))","v":""},{"$f":"IF(H199=\"-\",\"\",IF(AND(H199<>\"\",X199=TRUE),\"INDIPENDENT\",IF(W199=0,\"SCRIVI NOME NELLE NOTE\",W199)))","v":{"$error":"#N/A"}},null,null,null,null,null,null,null,null,{"$f":"IF(H199=\"\",\"\",IF(H199=$R$6,25,IF(OR(H199=$R$7,H199=$R$8,H199=$R$9,H199=$R$10,H199=$R$11,H199=$R$12,H199=$R$13,H199=$R$14,H199=$R$15,H199=$R$16,H199=$R$17,H199=$R$18,H199=$R$19,H199=$R$20,H199=$R$21,H199=$R$22,H199=$R$23),15,0)))","v":""},{"$f":"ISERROR(I199)","v":false},2,{"$f":"VLOOKUP(H199,Database!$B$1:$E$4891,4,FALSE)","v":{"$error":"#N/A"}},{"$f":"ISERROR(W199)","v":true}]
[195,null,null,null,null,null,null,null,{"$f":"IF(ISERROR(VLOOKUP(H200,Database!$B$1:$C$5908,2,FALSE)),\"\",VLOOKUP(H200,Database!$B$1:$C$5908,2,FALSE))","v":""},"",{"$error":"#N/A"},null,null,null,null,null,null,null,null,"",false,{"$f":"IF(H200=\"-\",\"\",IF(AND(T200=0,U200=FALSE,I200=\"\"),1,2))","v":2},{"$f":"VLOOKUP(H200,Database!$B$1:$E$4891,4,FALSE)","v":{"$error":"#N/A"}},true]
[196,null,null,null,null,null,null,null,{"$f":"IF(ISERROR(VLOOKUP(H201,Database!$B$1:$C$5908,2,FALSE)),\"\",VLOOKUP(H201,Database!$B$1:$C$5908,2,FALSE))","v":""},"",{"$error":"#N/A"},null,null,null,null,null,null,null,null,"",false,2,{"$f":"VLOOKUP(H201,Database!$B$1:$E$4891,4,FALSE)","v":{"$error":"#N/A"}},true]
[197,null,null,null,null,null,null,null,{"$f":"IF(ISERROR(VLOOKUP(H202,Database!$B$1:$C$5908,2,FALSE)),\"\",VLOOKUP(H202,Database!$B$1:$C$5908,2,FALSE))","v":""},"",{"$error":"#N/A"},null,null,null,null,null,null,null,null,"",false,2,{"$f":"VLOOKUP(H202,Database!$B$1:$E$4891,4,FALSE)","v":{"$error":"#N/A"}},true]
[198,null,null,null,null,null,null,null,{"$f":"IF(ISERROR(VLOOKUP(H203,Database!$B$1:$C$5908,2,FALSE)),\"\",VLOOKUP(H203,Database!$B$1:$C$5908,2,FALSE))","v":""},"",{"$error":"#N/A"},null,null,null,null,null,null,null,null,"",false,2,{"$f":"VLOOKUP(H203,Database!$B$1:$E$4891,4,FALSE)","v":{"$error":"#N/A"}},true]
[199,null,null,null,null,null,null,null,{"$f":"IF(ISERROR(VLOOKUP(H204,Database!$B$1:$C$5908,2,FALSE)),\"\",VLOOKUP(H204,Database!$B$1:$C$5908,2,FALSE))","v":""},"",{"$error":"#N/A"},null,null,null,null,null,null,null,null,"",false,2,{"$f":"VLOOKUP(H204,Database!$B$1:$E$4891,4,FALSE)","v":{"$error":"#N/A"}},true]
[200,null,null,null,null,null,null,null,{"$f":"IF(ISERROR(VLOOKUP(H205,Database!$B$1:$C$5908,2,FALSE)),\"\",VLOOKUP(H205,Database!$B$1:$C$5908,2,FALSE))","v":""},"",{"$error":"#N/A"},null,null,null,null,null,null,null,null,"",false,2,{"$f":"VLOOKUP(H205,Database!$B$1:$E$4891,4,FALSE)","v":{"$error":"#N/A"}},true]
[201,null,null,null,null,null,null,null,{"$f":"IF(ISERROR(VLOOKUP(H206,Database!$B$1:$C$5908,2,FALSE)),\"\",VLOOKUP(H206,Database!$B$1:$C$5908,2,FALSE))","v":""},"",{"$error":"#N/A"},null,null,null,null,null,null,null,null,"",false,2,{"$f":"VLOOKUP(H206,Database!$B$1:$E$4891,4,FALSE)","v":{"$error":"#N/A"}},true]
[202,null,null,null,null,null,null,null,{"$f":"IF(ISERROR(VLOOKUP(H207,Database!$B$1:$C$5908,2,FALSE)),\"\",VLOOKUP(H207,Database!$B$1:$C$5908,2,FALSE))","v":""},"",{"$error":"#N/A"},null,null,null,null,null,null,null,null,"",false,2,{"$f":"VLOOKUP(H207,Database!$B$1:$E$4891,4,FALSE)","v":{"$error":"#N/A"}},true]
[203,null,null,null,null,null,null,null,{"$f":"IF(ISERROR(VLOOKUP(H208,Database!$B$1:$C$5908,2,FALSE)),\"\",VLOOKUP(H208,Database!$B$1:$C$5908,2,FALSE))","v":""},"",{"$error":"#N/A"},null,null,null,null,null,null,null,null,"",false,2,{"$f":"VLOOKUP(H208,Database!$B$1:$E$4891,4,FALSE)","v":{"$error":"#N/A"}},true]
[204,null,null,null,null,null,null,null,{"$f":"IF(ISERROR(VLOOKUP(H209,Database!$B$1:$C$5908,2,FALSE)),\"\",VLOOKUP(H209,Database!$B$1:$C$5908,2,FALSE))","v":""},"",{"$error":"#N/A"},null,null,null,null,null,null,null,null,"",false,2,{"$f":"VLOOKUP(H209,Database!$B$1:$E$4891,4,FALSE)","v":{"$error":"#N/A"}},true]
[205,null,null,null,null,null,null,null,{"$f":"IF(ISERROR(VLOOKUP(H210,Database!$B$1:$C$5908,2,FALSE)),\"\",VLOOKUP(H210,Database!$B$1:$C$5908,2,FALSE))","v":""},"",{"$error":"#N/A"},null,null,null,null,null,null,null,null,"",false,2,{"$f":"VLOOKUP(H210,Database!$B$1:$E$4891,4,FALSE)","v":{"$error":"#N/A"}},true]
[206,null,null,null,null,null,null,null,{"$f":"IF(ISERROR(VLOOKUP(H211,Database!$B$1:$C$5908,2,FALSE)),\"\",VLOOKUP(H211,Database!$B$1:$C$5908,2,FALSE))","v":""},"",{"$error":"#N/A"},null,null,null,null,null,null,null,null,"",false,2,{"$f":"VLOOKUP(H211,Database!$B$1:$E$4891,4,FALSE)","v":{"$error":"#N/A"}},true]
[207,null,null,null,null,null,null,null,{"$f":"IF(ISERROR(VLOOKUP(H212,Database!$B$1:$C$5908,2,FALSE)),\"\",VLOOKUP(H212,Database!$B$1:$C$5908,2,FALSE))","v":""},"",{"$error":"#N/A"},null,null,null,null,null,null,null,null,"",false,2,{"$f":"VLOOKUP(H212,Database!$B$1:$E$4891,4,FALSE)","v":{"$error":"#N/A"}},true]
[208,null,null,null,null,null,null,null,{"$f":"IF(ISERROR(VLOOKUP(H213,Database!$B$1:$C$5908,2,FALSE)),\"\",VLOOKUP(H213,Database!$B$1:$C$5908,2,FALSE))","v":""},"",{"$error":"#N/A"},null,null,null,null,null,null,null,null,"",false,2,{"$f":"VLOOKUP(H213,Database!$B$1:$E$4891,4,FALSE)","v":{"$error":"#N/A"}},true]
[209,null,null,null,null,null,null,null,{"$f":"IF(ISERROR(VLOOKUP(H214,Database!$B$1:$C$5908,2,FALSE)),\"\",VLOOKUP(H214,Database!$B$1:$C$5908,2,FALSE))","v":""},"",{"$error":"#N/A"},null,null,null,null,null,null,null,null,"",false,2,{"$f":"VLOOKUP(H214,Database!$B$1:$E$4891,4,FALSE)","v":{"$error":"#N/A"}},true]
[210,null,null,null,null,null,null,null,{"$f":"IF(ISERROR(VLOOKUP(H215,Database!$B$1:$C$5908,2,FALSE)),\"\",VLOOKUP(H215,Database!$B$1:$C$5908,2,FALSE))","v":""},"",{"$error":"#N/A"},null,null,null,null,null,null,null,null,"",false,2,{"$f":"VLOOKUP(H215,Database!$B$1:$E$4891,4,FALSE)","v":{"$error":"#N/A"}},true]
[211,null,null,null,null,null,null,null,{"$f":"IF(ISERROR(VLOOKUP(H216,Database!$B$1:$C$5908,2,FALSE)),\"\",VLOOKUP(H216,Database!$B$1:$C$5908,2,FALSE))","v":""},"",{"$error":"#N/A"},null,null,null,null,null,null,null,null,"",false,2,{"$f":"VLOOKUP(H216,Database!$B$1:$E$4891,4,FALSE)","v":{"$error":"#N/A"}},true]
[212,null,null,null,null,null,null,null,{"$f":"IF(ISERROR(VLOOKUP(H217,Database!$B$1:$C$5908,2,FALSE)),\"\",VLOOKUP(H217,Database!$B$1:$C$5908,2,FALSE))","v":""},"",{"$error":"#N/A"},null,null,null,null,null,null,null,null,"",false,2,{"$f":"VLOOKUP(H217,Database!$B$1:$E$4891,4,FALSE)","v":{"$error":"#N/A"}},true]
[213,null,null,null,null,null,null,null,{"$f":"IF(ISERROR(VLOOKUP(H218,Database!$B$1:$C$5908,2,FALSE)),\"\",VLOOKUP(H218,Database!$B$1:$C$5908,2,FALSE))","v":""},"",{"$error":"#N/A"},null,null,null,null,null,null,null,null,"",false,2,{"$f":"VLOOKUP(H218,Database!$B$1:$E$4891,4,FALSE)","v":{"$error":"#N/A"}},true]
[214,null,null,null,null,null,null,null,{"$f":"IF(ISERROR(VLOOKUP(H219,Database!$B$1:$C$5908,2,FALSE)),\"\",VLOOKUP(H219,Database!$B$1:$C$5908,2,FALSE))","v":""},"",{"$error":"#N/A"},null,null,null,null,null,null,null,null,"",false,2,{"$f":"VLOOKUP(H219,Database!$B$1:$E$4891,4,FALSE)","v":{"$error":"#N/A"}},true]
[215,null,null,null,null,null,null,null,{"$f":"IF(ISERROR(VLOOKUP(H220,Database!$B$1:$C$5908,2,FALSE)),\"\",VLOOKUP(H220,Database!$B$1:$C$5908,2,FALSE))","v":""},"",{"$error":"#N/A"},null,null,null,null,null,null,null,null,"",false,2,{"$f":"VLOOKUP(H220,Database!$B$1:$E$4891,4,FALSE)","v":{"$error":"#N/A"}},true]
[216,null,null,null,null,null,null,null,{"$f":"IF(ISERROR(VLOOKUP(H221,Database!$B$1:$C$5908,2,FALSE)),\"\",VLOOKUP(H221,Database!$B$1:$C$5908,2,FALSE))","v":""},"",{"$error":"#N/A"},null,null,null,null,null,null,null,null,"",false,2,{"$f":"VLOOKUP(H221,Database!$B$1:$E$4891,4,FALSE)","v":{"$error":"#N/A"}},true]
[217,null,null,null,null,null,null,null,{"$f":"IF(ISERROR(VLOOKUP(H222,Database!$B$1:$C$5908,2,FALSE)),\"\",VLOOKUP(H222,Database!$B$1:$C$5908,2,FALSE))","v":""},"",{"$error":"#N/A"},null,null,null,null,null,null,null,null,"",false,2,{"$f":"VLOOKUP(H222,Database!$B$1:$E$4891,4,FALSE)","v":{"$error":"#N/A"}},true]
[218,null,null,null,null,null,null,null,{"$f":"IF(ISERROR(VLOOKUP(H223,Database!$B$1:$C$5908,2,FALSE)),\"\",VLOOKUP(H223,Database!$B$1:$C$5908,2,FALSE))","v":""},"",{"$error":"#N/A"},null,null,null,null,null,null,null,null,"",false,2,{"$f":"VLOOKUP(H223,Database!$B$1:$E$4891,4,FALSE)","v":{"$error":"#N/A"}},true]
[219,null,null,null,null,null,null,null,{"$f":"IF(ISERROR(VLOOKUP(H224,Database!$B$1:$C$5908,2,FALSE)),\"\",VLOOKUP(H224,Database!$B$1:$C$5908,2,FALSE))","v":""},"",{"$error":"#N/A"},null,null,null,null,null,null,null,null,"",false,2,{"$f":"VLOOKUP(H224,Database!$B$1:$E$4891,4,FALSE)","v":{"$error":"#N/A"}},true]
[220,null,null,null,null,null,null,null,{"$f":"IF(ISERROR(VLOOKUP(H225,Database!$B$1:$C$5908,2,FALSE)),\"\",VLOOKUP(H225,Database!$B$1:$C$5908,2,FALSE))","v":""},"",{"$error":"#N/A"},null,null,null,null,null,null,null,null,"",false,2,{"$f":"VLOOKUP(H225,Database!$B$1:$E$4891,4,FALSE)","v":{"$error":"#N/A"}},true]
[221,null,null,null,null,null,null,null,{"$f":"IF(ISERROR(VLOOKUP(H226,Database!$B$1:$C$5908,2,FALSE)),\"\",VLOOKUP(H226,Database!$B$1:$C$5908,2,FALSE))","v":""},"",{"$error":"#N/A"},null,null,null,null,null,null,null,null,"",false,2,{"$f":"VLOOKUP(H226,Database!$B$1:$E$4891,4,FALSE)","v":{"$error":"#N/A"}},true]
[222,null,null,null,null,null,null,null,{"$f":"IF(ISERROR(VLOOKUP(H227,Database!$B$1:$C$5908,2,FALSE)),\"\",VLOOKUP(H227,Database!$B$1:$C$5908,2,FALSE))","v":""},"",{"$error":"#N/A"},null,null,null,null,null,null,null,null,"",false,2,{"$f":"VLOOKUP(H227,Database!$B$1:$E$4891,4,FALSE)","v":{"$error":"#N/A"}},true]
[223,null,null,null,null,null,null,null,{"$f":"IF(ISERROR(VLOOKUP(H228,Database!$B$1:$C$5908,2,FALSE)),\"\",VLOOKUP(H228,Database!$B$1:$C$5908,2,FALSE))","v":""},"",{"$error":"#N/A"},null,null,null,null,null,null,null,null,"",false,2,{"$f":"VLOOKUP(H228,Database!$B$1:$E$4891,4,FALSE)","v":{"$error":"#N/A"}},true]
[224,null,null,null,null,null,null,null,{"$f":"IF(ISERROR(VLOOKUP(H229,Database!$B$1:$C$5908,2,FALSE)),\"\",VLOOKUP(H229,Database!$B$1:$C$5908,2,FALSE))","v":""},"",{"$error":"#N/A"},null,null,null,null,null,null,null,null,"",false,2,{"$f":"VLOOKUP(H229,Database!$B$1:$E$4891,4,FALSE)","v":{"$error":"#N/A"}},true]
[225,null,null,null,null,null,null,null,{"$f":"IF(ISERROR(VLOOKUP(H230,Database!$B$1:$C$5908,2,FALSE)),\"\",VLOOKUP(H230,Database!$B$1:$C$5908,2,FALSE))","v":""},"",{"$error":"#N/A"},null,null,null,null,null,null,null,null,"",false,2,{"$f":"VLOOKUP(H230,Database!$B$1:$E$4891,4,FALSE)","v":{"$error":"#N/A"}},true]
[226,null,null,null,null,null,null,null,{"$f":"IF(ISERROR(VLOOKUP(H231,Database!$B$1:$C$5908,2,FALSE)),\"\",VLOOKUP(H231,Database!$B$1:$C$5908,2,FALSE))","v":""},"",{"$error":"#N/A"},null,null,null,null,null,null,null,null,"",false,2,{"$f":"VLOOKUP(H231,Database!$B$1:$E$4891,4,FALSE)","v":{"$error":"#N/A"}},true]
[227,null,null,null,null,null,null,null,{"$f":"IF(ISERROR(VLOOKUP(H232,Database!$B$1:$C$5908,2,FALSE)),\"\",VLOOKUP(H232,Database!$B$1:$C$5908,2,FALSE))","v":""},"",{"$error":"#N/A"},null,null,null,null,null,null,null,null,"",false,2,{"$f":"VLOOKUP(H232,Database!$B$1:$E$4891,4,FALSE)","v":{"$error":"#N/A"}},true]
[228,null,null,null,null,null,null,null,{"$f":"IF(ISERROR(VLOOKUP(H233,Database!$B$1:$C$5908,2,FALSE)),\"\",VLOOKUP(H233,Database!$B$1:$C$5908,2,FALSE))","v":""},"",{"$error":"#N/A"},null,null,null,null,null,null,null,null,"",false,2,{"$f":"VLOOKUP(H233,Database!$B$1:$E$4891,4,FALSE)","v":{"$error":"#N/A"}},true]
[229,null,null,null,null,null,null,null,{"$f":"IF(ISERROR(VLOOKUP(H234,Database!$B$1:$C$5908,2,FALSE)),\"\",VLOOKUP(H234,Database!$B$1:$C$5908,2,FALSE))","v":""},"",{"$error":"#N/A"},null,null,null,null,null,null,null,null,"",false,2,{"$f":"VLOOKUP(H234,Database!$B$1:$E$4891,4,FALSE)","v":{"$error":"#N/A"}},true]
[230,null,null,null,null,null,null,null,{"$f":"IF(ISERROR(VLOOKUP(H235,Database!$B$1:$C$5908,2,FALSE)),\"\",VLOOKUP(H235,Database!$B$1:$C$5908,2,FALSE))","v":""},"",{"$error":"#N/A"},null,null,null,null,null,null,null,null,"",false,2,{"$f":"VLOOKUP(H235,Database!$B$1:$E$4891,4,FALSE)","v":{"$error":"#N/A"}},true]
[231,null,null,null,null,null,null,null,{"$f":"IF(ISERROR(VLOOKUP(H236,Database!$B$1:$C$5908,2,FALSE)),\"\",VLOOKUP(H236,Database!$B$1:$C$5908,2,FALSE))","v":""},"",{"$error":"#N/A"},null,null,null,null,null,null,null,null,"",false,2,{"$f":"VLOOKUP(H236,Database!$B$1:$E$4891,4,FALSE)","v":{"$error":"#N/A"}},true]
[232,null,null,null,null,null,null,null,{"$f":"IF(ISERROR(VLOOKUP(H237,Database!$B$1:$C$5908,2,FALSE)),\"\",VLOOKUP(H237,Database!$B$1:$C$5908,2,FALSE))","v":""},"",{"$error":"#N/A"},null,null,null,null,null,null,null,null,"",false,2,{"$f":"VLOOKUP(H237,Database!$B$1:$E$4891,4,FALSE)","v":{"$error":"#N/A"}},true]
[233,null,null,null,null,null,null,null,{"$f":"IF(ISERROR(VLOOKUP(H238,Database!$B$1:$C$5908,2,FALSE)),\"\",VLOOKUP(H238,Database!$B$1:$C$5908,2,FALSE))","v":""},"",{"$error":"#N/A"},null,null,null,null,null,null,null,null,"",false,2,{"$f":"VLOOKUP(H238,Database!$B$1:$E$4891,4,FALSE)","v":{"$error":"#N/A"}},true]
[234,null,null,null,null,null,null,null,{"$f":"IF(ISERROR(VLOOKUP(H239,Database!$B$1:$C$5908,2,FALSE)),\"\",VLOOKUP(H239,Database!$B$1:$C$5908,2,FALSE))","v":""},"",{"$error":"#N/A"},null,null,null,null,null,null,null,null,"",false,2,{"$f":"VLOOKUP(H239,Database!$B$1:$E$4891,4,FALSE)","v":{"$error":"#N/A"}},true]
[235,null,null,null,null,null,null,null,{"$f":"IF(ISERROR(VLOOKUP(H240,Database!$B$1:$C$5908,2,FALSE)),\"\",VLOOKUP(H240,Database!$B$1:$C$5908,2,FALSE))","v":""},"",{"$error":"#N/A"},null,null,null,null,null,null,null,null,"",false,2,{"$f":"VLOOKUP(H240,Database!$B$1:$E$4891,4,FALSE)","v":{"$error":"#N/A"}},true]
[236,null,null,null,null,null,null,null,{"$f":"IF(ISERROR(VLOOKUP(H241,Database!$B$1:$C$5908,2,FALSE)),\"\",VLOOKUP(H241,Database!$B$1:$C$5908,2,FALSE))","v":""},"",{"$error":"#N/A"},null,null,null,null,null,null,null,null,"",false,2,{"$f":"VLOOKUP(H241,Database!$B$1:$E$4891,4,FALSE)","v":{"$error":"#N/A"}},true]
[237,null,null,null,null,null,null,null,{"$f":"IF(ISERROR(VLOOKUP(H242,Database!$B$1:$C$5908,2,FALSE)),\"\",VLOOKUP(H242,Database!$B$1:$C$5908,2,FALSE))","v":""},"",{"$error":"#N/A"},null,null,null,null,null,null,null,null,"",false,2,{"$f":"VLOOKUP(H242,Database!$B$1:$E$4891,4,FALSE)","v":{"$error":"#N/A"}},true]
[238,null,null,null,null,null,null,null,{"$f":"IF(ISERROR(VLOOKUP(H243,Database!$B$1:$C$5908,2,FALSE)),\"\",VLOOKUP(H243,Database!$B$1:$C$5908,2,FALSE))","v":""},"",{"$error":"#N/A"},null,null,null,null,null,null,null,null,"",false,2,{"$f":"VLOOKUP(H243,Database!$B$1:$E$4891,4,FALSE)","v":{"$error":"#N/A"}},true]
[239,null,null,null,null,null,null,null,{"$f":"IF(ISERROR(VLOOKUP(H244,Database!$B$1:$C$5908,2,FALSE)),\"\",VLOOKUP(H244,Database!$B$1:$C$5908,2,FALSE))","v":""},"",{"$error":"#N/A"},null,null,null,null,null,null,null,null,"",false,2,{"$f":"VLOOKUP(H244,Database!$B$1:$E$4891,4,FALSE)","v":{"$error":"#N/A"}},true]
[240,null,null,null,null,null,null,null,{"$f":"IF(ISERROR(VLOOKUP(H245,Database!$B$1:$C$5908,2,FALSE)),\"\",VLOOKUP(H245,Database!$B$1:$C$5908,2,FALSE))","v":""},"",{"$error":"#N/A"},null,null,null,null,null,null,null,null,"",false,2,{"$f":"VLOOKUP(H245,Database!$B$1:$E$4891,4,FALSE)","v":{"$error":"#N/A"}},true]
[241,null,null,null,null,null,null,null,{"$f":"IF(ISERROR(VLOOKUP(H246,Database!$B$1:$C$5908,2,FALSE)),\"\",VLOOKUP(H246,Database!$B$1:$C$5908,2,FALSE))","v":""},"",{"$error":"#N/A"},null,null,null,null,null,null,null,null,"",false,2,{"$f":"VLOOKUP(H246,Database!$B$1:$E$4891,4,FALSE)","v":{"$error":"#N/A"}},true]
[242,null,null,null,null,null,null,null,{"$f":"IF(ISERROR(VLOOKUP(H247,Database!$B$1:$C$5908,2,FALSE)),\"\",VLOOKUP(H247,Database!$B$1:$C$5908,2,FALSE))","v":""},"",{"$error":"#N/A"},null,null,null,null,null,null,null,null,"",false,2,{"$f":"VLOOKUP(H247,Database!$B$1:$E$4891,4,FALSE)","v":{"$error":"#N/A"}},true]
[243,null,null,null,null,null,null,null,{"$f":"IF(ISERROR(VLOOKUP(H248,Database!$B$1:$C$5908,2,FALSE)),\"\",VLOOKUP(H248,Database!$B$1:$C$5908,2,FALSE))","v":""},"",{"$error":"#N/A"},null,null,null,null,null,null,null,null,"",false,2,{"$f":"VLOOKUP(H248,Database!$B$1:$E$4891,4,FALSE)","v":{"$error":"#N/A"}},true]
[244,null,null,null,null,null,null,null,{"$f":"IF(ISERROR(VLOOKUP(H249,Database!$B$1:$C$5908,2,FALSE)),\"\",VLOOKUP(H249,Database!$B$1:$C$5908,2,FALSE))","v":""},"",{"$error":"#N/A"},null,null,null,null,null,null,null,null,"",false,2,{"$f":"VLOOKUP(H249,Database!$B$1:$E$4891,4,FALSE)","v":{"$error":"#N/A"}},true]
[245,null,null,null,null,null,null,null,{"$f":"IF(ISERROR(VLOOKUP(H250,Database!$B$1:$C$5908,2,FALSE)),\"\",VLOOKUP(H250,Database!$B$1:$C$5908,2,FALSE))","v":""},"",{"$error":"#N/A"},null,null,null,null,null,null,null,null,"",false,2,{"$f":"VLOOKUP(H250,Database!$B$1:$E$4891,4,FALSE)","v":{"$error":"#N/A"}},true]
[246,null,null,null,null,null,null,null,{"$f":"IF(ISERROR(VLOOKUP(H251,Database!$B$1:$C$5908,2,FALSE)),\"\",VLOOKUP(H251,Database!$B$1:$C$5908,2,FALSE))","v":""},"",{"$error":"#N/A"},null,null,null,null,null,null,null,null,"",false,2,{"$f":"VLOOKUP(H251,Database!$B$1:$E$4891,4,FALSE)","v":{"$error":"#N/A"}},true]
[247,null,null,null,null,null,null,null,{"$f":"IF(ISERROR(VLOOKUP(H252,Database!$B$1:$C$5908,2,FALSE)),\"\",VLOOKUP(H252,Database!$B$1:$C$5908,2,FALSE))","v":""},"",{"$error":"#N/A"},null,null,null,null,null,null,null,null,"",false,2,{"$f":"VLOOKUP(H252,Database!$B$1:$E$4891,4,FALSE)","v":{"$error":"#N/A"}},true]
[248,null,null,null,null,null,null,null,{"$f":"IF(ISERROR(VLOOKUP(H253,Database!$B$1:$C$5908,2,FALSE)),\"\",VLOOKUP(H253,Database!$B$1:$C$5908,2,FALSE))","v":""},"",{"$error":"#N/A"},null,null,null,null,null,null,null,null,"",false,2,{"$f":"VLOOKUP(H253,Database!$B$1:$E$4891,4,FALSE)","v":{"$error":"#N/A"}},true]
[249,null,null,null,null,null,null,null,{"$f":"IF(ISERROR(VLOOKUP(H254,Database!$B$1:$C$5908,2,FALSE)),\"\",VLOOKUP(H254,Database!$B$1:$C$5908,2,FALSE))","v":""},"",{"$error":"#N/A"},null,null,null,null,null,null,null,null,"",false,2,{"$f":"VLOOKUP(H254,Database!$B$1:$E$4891,4,FALSE)","v":{"$error":"#N/A"}},true]
[250,null,null,null,null,null,null,null,{"$f":"IF(ISERROR(VLOOKUP(H255,Database!$B$1:$C$5908,2,FALSE)),\"\",VLOOKUP(H255,Database!$B$1:$C$5908,2,FALSE))","v":""},"",{"$error":"#N/A"},null,null,null,null,null,null,null,null,"",false,2,{"$f":"VLOOKUP(H255,Database!$B$1:$E$4891,4,FALSE)","v":{"$error":"#N/A"}},true]
[251,null,null,null,null,null,null,null,{"$f":"IF(ISERROR(VLOOKUP(H256,Database!$B$1:$C$5908,2,FALSE)),\"\",VLOOKUP(H256,Database!$B$1:$C$5908,2,FALSE))","v":""},"",{"$error":"#N/A"},null,null,null,null,null,null,null,null,"",false,2,{"$f":"VLOOKUP(H256,Database!$B$1:$E$4891,4,FALSE)","v":{"$error":"#N/A"}},true]
[252,null,null,null,null,null,null,null,{"$f":"IF(ISERROR(VLOOKUP(H257,Database!$B$1:$C$5908,2,FALSE)),\"\",VLOOKUP(H257,Database!$B$1:$C$5908,2,FALSE))","v":""},"",{"$error":"#N/A"},null,null,null,null,null,null,null,null,"",false,2,{"$f":"VLOOKUP(H257,Database!$B$1:$E$4891,4,FALSE)","v":{"$error":"#N/A"}},true]
[253,null,null,null,null,null,null,null,{"$f":"IF(ISERROR(VLOOKUP(H258,Database!$B$1:$C$5908,2,FALSE)),\"\",VLOOKUP(H258,Database!$B$1:$C$5908,2,FALSE))","v":""},"",{"$error":"#N/A"},null,null,null,null,null,null,null,null,"",false,2,{"$f":"VLOOKUP(H258,Database!$B$1:$E$4891,4,FALSE)","v":{"$error":"#N/A"}},true]
[254,null,null,null,null,null,null,null,{"$f":"IF(ISERROR(VLOOKUP(H259,Database!$B$1:$C$5908,2,FALSE)),\"\",VLOOKUP(H259,Database!$B$1:$C$5908,2,FALSE))","v":""},"",{"$error":"#N/A"},null,null,null,null,null,null,null,null,"",false,2,{"$f":"VLOOKUP(H259,Database!$B$1:$E$4891,4,FALSE)","v":{"$error":"#N/A"}},true]
[255,null,null,null,null,null,null,null,{"$f":"IF(ISERROR(VLOOKUP(H260,Database!$B$1:$C$5908,2,FALSE)),\"\",VLOOKUP(H260,Database!$B$1:$C$5908,2,FALSE))","v":""},"",{"$error":"#N/A"},null,null,null,null,null,null,null,null,"",false,2,{"$f":"VLOOKUP(H260,Database!$B$1:$E$4891,4,FALSE)","v":{"$error":"#N/A"}},true]
[256,null,null,null,null,null,null,null,{"$f":"IF(ISERROR(VLOOKUP(H261,Database!$B$1:$C$5908,2,FALSE)),\"\",VLOOKUP(H261,Database!$B$1:$C$5908,2,FALSE))","v":""},"",{"$error":"#N/A"},null,null,null,null,null,null,null,null,"",false,2,{"$f":"VLOOKUP(H261,Database!$B$1:$E$4891,4,FALSE)","v":{"$error":"#N/A"}},true]
[257,null,null,null,null,null,null,null,{"$f":"IF(ISERROR(VLOOKUP(H262,Database!$B$1:$C$5908,2,FALSE)),\"\",VLOOKUP(H262,Database!$B$1:$C$5908,2,FALSE))","v":""},"",{"$error":"#N/A"},null,null,null,null,null,null,null,null,"",false,2,{"$f":"VLOOKUP(H262,Database!$B$1:$E$4891,4,FALSE)","v":{"$error":"#N/A"}},true]
[{"$f":"A262+1","v":258},null,null,null,null,null,null,null,{"$f":"IF(ISERROR(VLOOKUP(H263,Database!$B$1:$C$5908,2,FALSE)),\"\",VLOOKUP(H263,Database!$B$1:$C$5908,2,FALSE))","v":""},{"$f":"IF(V263=1,1,IF(AND(T263=0,F263=\"SSB\",V263<>\"\"),2,IF(AND(T263=0,F263=\"FM\",V263<>\"\"),2,IF(AND(T263=0,F263=\"DIGI\",V263<>\"\"),3,IF(AND(T263=0,F263=\"CW\",V263<>\"\"),5,IF(H263=\"-\",\"\",T263))))))","v":""},{"$f":"IF(H263=\"-\",\"\",IF(AND(H263<>\"\",X263=TRUE),\"INDIPENDENT\",IF(W263=0,\"SCRIVI NOME NELLE NOTE\",W263)))","v":{"$error":"#N/A"}},null,null,null,null,null,null,null,null,{"$f":"IF(H263=\"\",\"\",IF(H263=$R$6,25,IF(OR(H263=$R$7,H263=$R$8,H263=$R$9,H263=$R$10,H263=$R$11,H263=$R$12,H263=$R$13,H263=$R$14,H263=$R$15,H263=$R$16,H263=$R$17,H263=$R$18,H263=$R$19,H263=$R$20,H263=$R$21,H263=$R$22,H263=$R$23),15,0)))","v":""},{"$f":"ISERROR(I263)","v":false},2,{"$f":"VLOOKUP(H263,Database!$B$1:$E$4891,4,FALSE)","v":{"$error":"#N/A"}},{"$f":"ISERROR(W263)","v":true}]
[259,null,null,null,null,null,null,null,{"$f":"IF(ISERROR(VLOOKUP(H264,Database!$B$1:$C$5908,2,FALSE)),\"\",VLOOKUP(H264,Database!$B$1:$C$5908,2,FALSE))","v":""},"",{"$error":"#N/A"},null,null,null,null,null,null,null,null,"",false,{"$f":"IF(H264=\"-\",\"\",IF(AND(T264=0,U264=FALSE,I264=\"\"),1,2))","v":2},{"$f":"VLOOKUP(H264,Database!$B$1:$E$4891,4,FALSE)","v":{"$error":"#N/A"}},true]
[260,null,null,null,null,null,null,null,{"$f":"IF(ISERROR(VLOOKUP(H265,Database!$B$1:$C$5908,2,FALSE)),\"\",VLOOKUP(H265,Database!$B$1:$C$5908,2,FALSE))","v":""},"",{"$error":"#N/A"},null,null,null,null,null,null,null,null,"",false,2,{"$f":"VLOOKUP(H265,Database!$B$1:$E$4891,4,FALSE)","v":{"$error":"#N/A"}},true]
[261,null,null,null,null,null,null,null,{"$f":"IF(ISERROR(VLOOKUP(H266,Database!$B$1:$C$5908,2,FALSE)),\"\",VLOOKUP(H266,Database!$B$1:$C$5908,2,FALSE))","v":""},"",{"$error":"#N/A"},null,null,null,null,null,null,null,null,"",false,2,{"$f":"VLOOKUP(H266,Database!$B$1:$E$4891,4,FALSE)","v":{"$error":"#N/A"}},true]
[262,null,null,null,null,null,null,null,{"$f":"IF(ISERROR(VLOOKUP(H267,Database!$B$1:$C$5908,2,FALSE)),\"\",VLOOKUP(H267,Database!$B$1:$C$5908,2,FALSE))","v":""},"",{"$error":"#N/A"},null,null,null,null,null,null,null,null,"",false,2,{"$f":"VLOOKUP(H267,Database!$B$1:$E$4891,4,FALSE)","v":{"$error":"#N/A"}},true]
[263,null,null,null,null,null,null,null,{"$f":"IF(ISERROR(VLOOKUP(H268,Database!$B$1:$C$5908,2,FALSE)),\"\",VLOOKUP(H268,Database!$B$1:$C$5908,2,FALSE))","v":""},"",{"$error":"#N/A"},null,null,null,null,null,null,null,null,"",false,2,{"$f":"VLOOKUP(H268,Database!$B$1:$E$4891,4,FALSE)","v":{"$error":"#N/A"}},true]
[264,null,null,null,null,null,null,null,{"$f":"IF(ISERROR(VLOOKUP(H269,Database!$B$1:$C$5908,2,FALSE)),\"\",VLOOKUP(H269,Database!$B$1:$C$5908,2,FALSE))","v":""},"",{"$error":"#N/A"},null,null,null,null,null,null,null,null,"",false,2,{"$f":"VLOOKUP(H269,Database!$B$1:$E$4891,4,FALSE)","v":{"$error":"#N/A"}},true]
[265,null,null,null,null,null,null,null,{"$f":"IF(ISERROR(VLOOKUP(H270,Database!$B$1:$C$5908,2,FALSE)),\"\",VLOOKUP(H270,Database!$B$1:$C$5908,2,FALSE))","v":""},"",{"$error":"#N/A"},null,null,null,null,null,null,null,null,"",false,2,{"$f":"VLOOKUP(H270,Database!$B$1:$E$4891,4,FALSE)","v":{"$error":"#N/A"}},true]
[266,null,null,null,null,null,null,null,{"$f":"IF(ISERROR(VLOOKUP(H271,Database!$B$1:$C$5908,2,FALSE)),\"\",VLOOKUP(H271,Database!$B$1:$C$5908,2,FALSE))","v":""},"",{"$error":"#N/A"},null,null,null,null,null,null,null,null,"",false,2,{"$f":"VLOOKUP(H271,Database!$B$1:$E$4891,4,FALSE)","v":{"$error":"#N/A"}},true]
[267,null,null,null,null,null,null,null,{"$f":"IF(ISERROR(VLOOKUP(H272,Database!$B$1:$C$5908,2,FALSE)),\"\",VLOOKUP(H272,Database!$B$1:$C$5908,2,FALSE))","v":""},"",{"$error":"#N/A"},null,null,null,null,null,null,null,null,"",false,2,{"$f":"VLOOKUP(H272,Database!$B$1:$E$4891,4,FALSE)","v":{"$error":"#N/A"}},true]
[268,null,null,null,null,null,null,null,{"$f":"IF(ISERROR(VLOOKUP(H273,Database!$B$1:$C$5908,2,FALSE)),\"\",VLOOKUP(H273,Database!$B$1:$C$5908,2,FALSE))","v":""},"",{"$error":"#N/A"},null,null,null,null,null,null,null,null,"",false,2,{"$f":"VLOOKUP(H273,Database!$B$1:$E$4891,4,FALSE)","v":{"$error":"#N/A"}},true]
[269,null,null,null,null,null,null,null,{"$f":"IF(ISERROR(VLOOKUP(H274,Database!$B$1:$C$5908,2,FALSE)),\"\",VLOOKUP(H274,Database!$B$1:$C$5908,2,FALSE))","v":""},"",{"$error":"#N/A"},null,null,null,null,null,null,null,null,"",false,2,{"$f":"VLOOKUP(H274,Database!$B$1:$E$4891,4,FALSE)","v":{"$error":"#N/A"}},true]
[270,null,null,null,null,null,null,null,{"$f":"IF(ISERROR(VLOOKUP(H275,Database!$B$1:$C$5908,2,FALSE)),\"\",VLOOKUP(H275,Database!$B$1:$C$5908,2,FALSE))","v":""},"",{"$error":"#N/A"},null,null,null,null,null,null,null,null,"",false,2,{"$f":"VLOOKUP(H275,Database!$B$1:$E$4891,4,FALSE)","v":{"$error":"#N/A"}},true]
[271,null,null,null,null,null,null,null,{"$f":"IF(ISERROR(VLOOKUP(H276,Database!$B$1:$C$5908,2,FALSE)),\"\",VLOOKUP(H276,Database!$B$1:$C$5908,2,FALSE))","v":""},"",{"$error":"#N/A"},null,null,null,null,null,null,null,null,"",false,2,{"$f":"VLOOKUP(H276,Database!$B$1:$E$4891,4,FALSE)","v":{"$error":"#N/A"}},true]
[272,null,null,null,null,null,null,null,{"$f":"IF(ISERROR(VLOOKUP(H277,Database!$B$1:$C$5908,2,FALSE)),\"\",VLOOKUP(H277,Database!$B$1:$C$5908,2,FALSE))","v":""},"",{"$error":"#N/A"},null,null,null,null,null,null,null,null,"",false,2,{"$f":"VLOOKUP(H277,Database!$B$1:$E$4891,4,FALSE)","v":{"$error":"#N/A"}},true]
[273,null,null,null,null,null,null,null,{"$f":"IF(ISERROR(VLOOKUP(H278,Database!$B$1:$C$5908,2,FALSE)),\"\",VLOOKUP(H278,Database!$B$1:$C$5908,2,FALSE))","v":""},"",{"$error":"#N/A"},null,null,null,null,null,null,null,null,"",false,2,{"$f":"VLOOKUP(H278,Database!$B$1:$E$4891,4,FALSE)","v":{"$error":"#N/A"}},true]
[274,null,null,null,null,null,null,null,{"$f":"IF(ISERROR(VLOOKUP(H279,Database!$B$1:$C$5908,2,FALSE)),\"\",VLOOKUP(H279,Database!$B$1:$C$5908,2,FALSE))","v":""},"",{"$error":"#N/A"},null,null,null,null,null,null,null,null,"",false,2,{"$f":"VLOOKUP(H279,Database!$B$1:$E$4891,4,FALSE)","v":{"$error":"#N/A"}},true]
[275,null,null,null,null,null,null,null,{"$f":"IF(ISERROR(VLOOKUP(H280,Database!$B$1:$C$5908,2,FALSE)),\"\",VLOOKUP(H280,Database!$B$1:$C$5908,2,FALSE))","v":""},"",{"$error":"#N/A"},null,null,null,null,null,null,null,null,"",false,2,{"$f":"VLOOKUP(H280,Database!$B$1:$E$4891,4,FALSE)","v":{"$error":"#N/A"}},true]
[276,null,null,null,null,null,null,null,{"$f":"IF(ISERROR(VLOOKUP(H281,Database!$B$1:$C$5908,2,FALSE)),\"\",VLOOKUP(H281,Database!$B$1:$C$5908,2,FALSE))","v":""},"",{"$error":"#N/A"},null,null,null,null,null,null,null,null,"",false,2,{"$f":"VLOOKUP(H281,Database!$B$1:$E$4891,4,FALSE)","v":{"$error":"#N/A"}},true]
[277,null,null,null,null,null,null,null,{"$f":"IF(ISERROR(VLOOKUP(H282,Database!$B$1:$C$5908,2,FALSE)),\"\",VLOOKUP(H282,Database!$B$1:$C$5908,2,FALSE))","v":""},"",{"$error":"#N/A"},null,null,null,null,null,null,null,null,"",false,2,{"$f":"VLOOKUP(H282,Database!$B$1:$E$4891,4,FALSE)","v":{"$error":"#N/A"}},true]
[278,null,null,null,null,null,null,null,{"$f":"IF(ISERROR(VLOOKUP(H283,Database!$B$1:$C$5908,2,FALSE)),\"\",VLOOKUP(H283,Database!$B$1:$C$5908,2,FALSE))","v":""},"",{"$error":"#N/A"},null,null,null,null,null,null,null,null,"",false,2,{"$f":"VLOOKUP(H283,Database!$B$1:$E$4891,4,FALSE)","v":{"$error":"#N/A"}},true]
[279,null,null,null,null,null,null,null,{"$f":"IF(ISERROR(VLOOKUP(H284,Database!$B$1:$C$5908,2,FALSE)),\"\",VLOOKUP(H284,Database!$B$1:$C$5908,2,FALSE))","v":""},"",{"$error":"#N/A"},null,null,null,null,null,null,null,null,"",false,2,{"$f":"VLOOKUP(H284,Database!$B$1:$E$4891,4,FALSE)","v":{"$error":"#N/A"}},true]
[280,null,null,null,null,null,null,null,{"$f":"IF(ISERROR(VLOOKUP(H285,Database!$B$1:$C$5908,2,FALSE)),\"\",VLOOKUP(H285,Database!$B$1:$C$5908,2,FALSE))","v":""},"",{"$error":"#N/A"},null,null,null,null,null,null,null,null,"",false,2,{"$f":"VLOOKUP(H285,Database!$B$1:$E$4891,4,FALSE)","v":{"$error":"#N/A"}},true]
[281,null,null,null,null,null,null,null,{"$f":"IF(ISERROR(VLOOKUP(H286,Database!$B$1:$C$5908,2,FALSE)),\"\",VLOOKUP(H286,Database!$B$1:$C$5908,2,FALSE))","v":""},"",{"$error":"#N/A"},null,null,null,null,null,null,null,null,"",false,2,{"$f":"VLOOKUP(H286,Database!$B$1:$E$4891,4,FALSE)","v":{"$error":"#N/A"}},true]
[282,null,null,null,null,null,null,null,{"$f":"IF(ISERROR(VLOOKUP(H287,Database!$B$1:$C$5908,2,FALSE)),\"\",VLOOKUP(H287,Database!$B$1:$C$5908,2,FALSE))","v":""},"",{"$error":"#N/A"},null,null,null,null,null,null,null,null,"",false,2,{"$f":"VLOOKUP(H287,Database!$B$1:$E$4891,4,FALSE)","v":{"$error":"#N/A"}},true]
[283,null,null,null,null,null,null,null,{"$f":"IF(ISERROR(VLOOKUP(H288,Database!$B$1:$C$5908,2,FALSE)),\"\",VLOOKUP(H288,Database!$B$1:$C$5908,2,FALSE))","v":""},"",{"$error":"#N/A"},null,null,null,null,null,null,null,null,"",false,2,{"$f":"VLOOKUP(H288,Database!$B$1:$E$4891,4,FALSE)","v":{"$error":"#N/A"}},true]
[284,null,null,null,null,null,null,null,{"$f":"IF(ISERROR(VLOOKUP(H289,Database!$B$1:$C$5908,2,FALSE)),\"\",VLOOKUP(H289,Database!$B$1:$C$5908,2,FALSE))","v":""},"",{"$error":"#N/A"},null,null,null,null,null,null,null,null,"",false,2,{"$f":"VLOOKUP(H289,Database!$B$1:$E$4891,4,FALSE)","v":{"$error":"#N/A"}},true]
[285,null,null,null,null,null,null,null,{"$f":"IF(ISERROR(VLOOKUP(H290,Database!$B$1:$C$5908,2,FALSE)),\"\",VLOOKUP(H290,Database!$B$1:$C$5908,2,FALSE))","v":""},"",{"$error":"#N/A"},null,null,null,null,null,null,null,null,"",false,2,{"$f":"VLOOKUP(H290,Database!$B$1:$E$4891,4,FALSE)","v":{"$error":"#N/A"}},true]
[286,null,null,null,null,null,null,null,{"$f":"IF(ISERROR(VLOOKUP(H291,Database!$B$1:$C$5908,2,FALSE)),\"\",VLOOKUP(H291,Database!$B$1:$C$5908,2,FALSE))","v":""},"",{"$error":"#N/A"},null,null,null,null,null,null,null,null,"",false,2,{"$f":"VLOOKUP(H291,Database!$B$1:$E$4891,4,FALSE)","v":{"$error":"#N/A"}},true]
[287,null,null,null,null,null,null,null,{"$f":"IF(ISERROR(VLOOKUP(H292,Database!$B$1:$C$5908,2,FALSE)),\"\",VLOOKUP(H292,Database!$B$1:$C$5908,2,FALSE))","v":""},"",{"$error":"#N/A"},null,null,null,null,null,null,null,null,"",false,2,{"$f":"VLOOKUP(H292,Database!$B$1:$E$4891,4,FALSE)","v":{"$error":"#N/A"}},true]
[288,null,null,null,null,null,null,null,{"$f":"IF(ISERROR(VLOOKUP(H293,Database!$B$1:$C$5908,2,FALSE)),\"\",VLOOKUP(H293,Database!$B$1:$C$5908,2,FALSE))","v":""},"",{"$error":"#N/A"},null,null,null,null,null,null,null,null,"",false,2,{"$f":"VLOOKUP(H293,Database!$B$1:$E$4891,4,FALSE)","v":{"$error":"#N/A"}},true]
[289,null,null,null,null,null,null,null,{"$f":"IF(ISERROR(VLOOKUP(H294,Database!$B$1:$C$5908,2,FALSE)),\"\",VLOOKUP(H294,Database!$B$1:$C$5908,2,FALSE))","v":""},"",{"$error":"#N/A"},null,null,null,null,null,null,null,null,"",false,2,{"$f":"VLOOKUP(H294,Database!$B$1:$E$4891,4,FALSE)","v":{"$error":"#N/A"}},true]
[290,null,null,null,null,null,null,null,{"$f":"IF(ISERROR(VLOOKUP(H295,Database!$B$1:$C$5908,2,FALSE)),\"\",VLOOKUP(H295,Database!$B$1:$C$5908,2,FALSE))","v":""},"",{"$error":"#N/A"},null,null,null,null,null,null,null,null,"",false,2,{"$f":"VLOOKUP(H295,Database!$B$1:$E$4891,4,FALSE)","v":{"$error":"#N/A"}},true]
[291,null,null,null,null,null,null,null,{"$f":"IF(ISERROR(VLOOKUP(H296,Database!$B$1:$C$5908,2,FALSE)),\"\",VLOOKUP(H296,Database!$B$1:$C$5908,2,FALSE))","v":""},"",{"$error":"#N/A"},null,null,null,null,null,null,null,null,"",false,2,{"$f":"VLOOKUP(H296,Database!$B$1:$E$4891,4,FALSE)","v":{"$error":"#N/A"}},true]
[292,null,null,null,null,null,null,null,{"$f":"IF(ISERROR(VLOOKUP(H297,Database!$B$1:$C$5908,2,FALSE)),\"\",VLOOKUP(H297,Database!$B$1:$C$5908,2,FALSE))","v":""},"",{"$error":"#N/A"},null,null,null,null,null,null,null,null,"",false,2,{"$f":"VLOOKUP(H297,Database!$B$1:$E$4891,4,FALSE)","v":{"$error":"#N/A"}},true]
[293,null,null,null,null,null,null,null,{"$f":"IF(ISERROR(VLOOKUP(H298,Database!$B$1:$C$5908,2,FALSE)),\"\",VLOOKUP(H298,Database!$B$1:$C$5908,2,FALSE))","v":""},"",{"$error":"#N/A"},null,null,null,null,null,null,null,null,"",false,2,{"$f":"VLOOKUP(H298,Database!$B$1:$E$4891,4,FALSE)","v":{"$error":"#N/A"}},true]
[294,null,null,null,null,null,null,null,{"$f":"IF(ISERROR(VLOOKUP(H299,Database!$B$1:$C$5908,2,FALSE)),\"\",VLOOKUP(H299,Database!$B$1:$C$5908,2,FALSE))","v":""},"",{"$error":"#N/A"},null,null,null,null,null,null,null,null,"",false,2,{"$f":"VLOOKUP(H299,Database!$B$1:$E$4891,4,FALSE)","v":{"$error":"#N/A"}},true]
[295,null,null,null,null,null,null,null,{"$f":"IF(ISERROR(VLOOKUP(H300,Database!$B$1:$C$5908,2,FALSE)),\"\",VLOOKUP(H300,Database!$B$1:$C$5908,2,FALSE))","v":""},"",{"$error":"#N/A"},null,null,null,null,null,null,null,null,"",false,2,{"$f":"VLOOKUP(H300,Database!$B$1:$E$4891,4,FALSE)","v":{"$error":"#N/A"}},true]
[296,null,null,null,null,null,null,null,{"$f":"IF(ISERROR(VLOOKUP(H301,Database!$B$1:$C$5908,2,FALSE)),\"\",VLOOKUP(H301,Database!$B$1:$C$5908,2,FALSE))","v":""},"",{"$error":"#N/A"},null,null,null,null,null,null,null,null,"",false,2,{"$f":"VLOOKUP(H301,Database!$B$1:$E$4891,4,FALSE)","v":{"$error":"#N/A"}},true]
[297,null,null,null,null,null,null,null,{"$f":"IF(ISERROR(VLOOKUP(H302,Database!$B$1:$C$5908,2,FALSE)),\"\",VLOOKUP(H302,Database!$B$1:$C$5908,2,FALSE))","v":""},"",{"$error":"#N/A"},null,null,null,null,null,null,null,null,"",false,2,{"$f":"VLOOKUP(H302,Database!$B$1:$E$4891,4,FALSE)","v":{"$error":"#N/A"}},true]
[298,null,null,null,null,null,null,null,{"$f":"IF(ISERROR(VLOOKUP(H303,Database!$B$1:$C$5908,2,FALSE)),\"\",VLOOKUP(H303,Database!$B$1:$C$5908,2,FALSE))","v":""},"",{"$error":"#N/A"},null,null,null,null,null,null,null,null,"",false,2,{"$f":"VLOOKUP(H303,Database!$B$1:$E$4891,4,FALSE)","v":{"$error":"#N/A"}},true]
[299,null,null,null,null,null,null,null,{"$f":"IF(ISERROR(VLOOKUP(H304,Database!$B$1:$C$5908,2,FALSE)),\"\",VLOOKUP(H304,Database!$B$1:$C$5908,2,FALSE))","v":""},"",{"$error":"#N/A"},null,null,null,null,null,null,null,null,"",false,2,{"$f":"VLOOKUP(H304,Database!$B$1:$E$4891,4,FALSE)","v":{"$error":"#N/A"}},true]
[300,null,null,null,null,null,null,null,{"$f":"IF(ISERROR(VLOOKUP(H305,Database!$B$1:$C$5908,2,FALSE)),\"\",VLOOKUP(H305,Database!$B$1:$C$5908,2,FALSE))","v":""},"",{"$error":"#N/A"},null,null,null,null,null,null,null,null,"",false,2,{"$f":"VLOOKUP(H305,Database!$B$1:$E$4891,4,FALSE)","v":{"$error":"#N/A"}},true]
[301,null,null,null,null,null,null,null,{"$f":"IF(ISERROR(VLOOKUP(H306,Database!$B$1:$C$5908,2,FALSE)),\"\",VLOOKUP(H306,Database!$B$1:$C$5908,2,FALSE))","v":""},"",{"$error":"#N/A"},null,null,null,null,null,null,null,null,"",false,2,{"$f":"VLOOKUP(H306,Database!$B$1:$E$4891,4,FALSE)","v":{"$error":"#N/A"}},true]
[302,null,null,null,null,null,null,null,{"$f":"IF(ISERROR(VLOOKUP(H307,Database!$B$1:$C$5908,2,FALSE)),\"\",VLOOKUP(H307,Database!$B$1:$C$5908,2,FALSE))","v":""},"",{"$error":"#N/A"},null,null,null,null,null,null,null,null,"",false,2,{"$f":"VLOOKUP(H307,Database!$B$1:$E$4891,4,FALSE)","v":{"$error":"#N/A"}},true]
[303,null,null,null,null,null,null,null,{"$f":"IF(ISERROR(VLOOKUP(H308,Database!$B$1:$C$5908,2,FALSE)),\"\",VLOOKUP(H308,Database!$B$1:$C$5908,2,FALSE))","v":""},"",{"$error":"#N/A"},null,null,null,null,null,null,null,null,"",false,2,{"$f":"VLOOKUP(H308,Database!$B$1:$E$4891,4,FALSE)","v":{"$error":"#N/A"}},true]
[304,null,null,null,null,null,null,null,{"$f":"IF(ISERROR(VLOOKUP(H309,Database!$B$1:$C$5908,2,FALSE)),\"\",VLOOKUP(H309,Database!$B$1:$C$5908,2,FALSE))","v":""},"",{"$error":"#N/A"},null,null,null,null,null,null,null,null,"",false,2,{"$f":"VLOOKUP(H309,Database!$B$1:$E$4891,4,FALSE)","v":{"$error":"#N/A"}},true]
[305,null,null,null,null,null,null,null,{"$f":"IF(ISERROR(VLOOKUP(H310,Database!$B$1:$C$5908,2,FALSE)),\"\",VLOOKUP(H310,Database!$B$1:$C$5908,2,FALSE))","v":""},"",{"$error":"#N/A"},null,null,null,null,null,null,null,null,"",false,2,{"$f":"VLOOKUP(H310,Database!$B$1:$E$4891,4,FALSE)","v":{"$error":"#N/A"}},true]
[306,null,null,null,null,null,null,null,{"$f":"IF(ISERROR(VLOOKUP(H311,Database!$B$1:$C$5908,2,FALSE)),\"\",VLOOKUP(H311,Database!$B$1:$C$5908,2,FALSE))","v":""},"",{"$error":"#N/A"},null,null,null,null,null,null,null,null,"",false,2,{"$f":"VLOOKUP(H311,Database!$B$1:$E$4891,4,FALSE)","v":{"$error":"#N/A"}},true]
[307,null,null,null,null,null,null,null,{"$f":"IF(ISERROR(VLOOKUP(H312,Database!$B$1:$C$5908,2,FALSE)),\"\",VLOOKUP(H312,Database!$B$1:$C$5908,2,FALSE))","v":""},"",{"$error":"#N/A"},null,null,null,null,null,null,null,null,"",false,2,{"$f":"VLOOKUP(H312,Database!$B$1:$E$4891,4,FALSE)","v":{"$error":"#N/A"}},true]
[308,null,null,null,null,null,null,null,{"$f":"IF(ISERROR(VLOOKUP(H313,Database!$B$1:$C$5908,2,FALSE)),\"\",VLOOKUP(H313,Database!$B$1:$C$5908,2,FALSE))","v":""},"",{"$error":"#N/A"},null,null,null,null,null,null,null,null,"",false,2,{"$f":"VLOOKUP(H313,Database!$B$1:$E$4891,4,FALSE)","v":{"$error":"#N/A"}},true]
[309,null,null,null,null,null,null,null,{"$f":"IF(ISERROR(VLOOKUP(H314,Database!$B$1:$C$5908,2,FALSE)),\"\",VLOOKUP(H314,Database!$B$1:$C$5908,2,FALSE))","v":""},"",{"$error":"#N/A"},null,null,null,null,null,null,null,null,"",false,2,{"$f":"VLOOKUP(H314,Database!$B$1:$E$4891,4,FALSE)","v":{"$error":"#N/A"}},true]
[310,null,null,null,null,null,null,null,{"$f":"IF(ISERROR(VLOOKUP(H315,Database!$B$1:$C$5908,2,FALSE)),\"\",VLOOKUP(H315,Database!$B$1:$C$5908,2,FALSE))","v":""},"",{"$error":"#N/A"},null,null,null,null,null,null,null,null,"",false,2,{"$f":"VLOOKUP(H315,Database!$B$1:$E$4891,4,FALSE)","v":{"$error":"#N/A"}},true]
[311,null,null,null,null,null,null,null,{"$f":"IF(ISERROR(VLOOKUP(H316,Database!$B$1:$C$5908,2,FALSE)),\"\",VLOOKUP(H316,Database!$B$1:$C$5908,2,FALSE))","v":""},"",{"$error":"#N/A"},null,null,null,null,null,null,null,null,"",false,2,{"$f":"VLOOKUP(H316,Database!$B$1:$E$4891,4,FALSE)","v":{"$error":"#N/A"}},true]
[312,null,null,null,null,null,null,null,{"$f":"IF(ISERROR(VLOOKUP(H317,Database!$B$1:$C$5908,2,FALSE)),\"\",VLOOKUP(H317,Database!$B$1:$C$5908,2,FALSE))","v":""},"",{"$error":"#N/A"},null,null,null,null,null,null,null,null,"",false,2,{"$f":"VLOOKUP(H317,Database!$B$1:$E$4891,4,FALSE)","v":{"$error":"#N/A"}},true]
[313,null,null,null,null,null,null,null,{"$f":"IF(ISERROR(VLOOKUP(H318,Database!$B$1:$C$5908,2,FALSE)),\"\",VLOOKUP(H318,Database!$B$1:$C$5908,2,FALSE))","v":""},"",{"$error":"#N/A"},null,null,null,null,null,null,null,null,"",false,2,{"$f":"VLOOKUP(H318,Database!$B$1:$E$4891,4,FALSE)","v":{"$error":"#N/A"}},true]
[314,null,null,null,null,null,null,null,{"$f":"IF(ISERROR(VLOOKUP(H319,Database!$B$1:$C$5908,2,FALSE)),\"\",VLOOKUP(H319,Database!$B$1:$C$5908,2,FALSE))","v":""},"",{"$error":"#N/A"},null,null,null,null,null,null,null,null,"",false,2,{"$f":"VLOOKUP(H319,Database!$B$1:$E$4891,4,FALSE)","v":{"$error":"#N/A"}},true]
[315,null,null,null,null,null,null,null,{"$f":"IF(ISERROR(VLOOKUP(H320,Database!$B$1:$C$5908,2,FALSE)),\"\",VLOOKUP(H320,Database!$B$1:$C$5908,2,FALSE))","v":""},"",{"$error":"#N/A"},null,null,null,null,null,null,null,null,"",false,2,{"$f":"VLOOKUP(H320,Database!$B$1:$E$4891,4,FALSE)","v":{"$error":"#N/A"}},true]
[316,null,null,null,null,null,null,null,{"$f":"IF(ISERROR(VLOOKUP(H321,Database!$B$1:$C$5908,2,FALSE)),\"\",VLOOKUP(H321,Database!$B$1:$C$5908,2,FALSE))","v":""},"",{"$error":"#N/A"},null,null,null,null,null,null,null,null,"",false,2,{"$f":"VLOOKUP(H321,Database!$B$1:$E$4891,4,FALSE)","v":{"$error":"#N/A"}},true]
[317,null,null,null,null,null,null,null,{"$f":"IF(ISERROR(VLOOKUP(H322,Database!$B$1:$C$5908,2,FALSE)),\"\",VLOOKUP(H322,Database!$B$1:$C$5908,2,FALSE))","v":""},"",{"$error":"#N/A"},null,null,null,null,null,null,null,null,"",false,2,{"$f":"VLOOKUP(H322,Database!$B$1:$E$4891,4,FALSE)","v":{"$error":"#N/A"}},true]
[318,null,null,null,null,null,null,null,{"$f":"IF(ISERROR(VLOOKUP(H323,Database!$B$1:$C$5908,2,FALSE)),\"\",VLOOKUP(H323,Database!$B$1:$C$5908,2,FALSE))","v":""},"",{"$error":"#N/A"},null,null,null,null,null,null,null,null,"",false,2,{"$f":"VLOOKUP(H323,Database!$B$1:$E$4891,4,FALSE)","v":{"$error":"#N/A"}},true]
[319,null,null,null,null,null,null,null,{"$f":"IF(ISERROR(VLOOKUP(H324,Database!$B$1:$C$5908,2,FALSE)),\"\",VLOOKUP(H324,Database!$B$1:$C$5908,2,FALSE))","v":""},"",{"$error":"#N/A"},null,null,null,null,null,null,null,null,"",false,2,{"$f":"VLOOKUP(H324,Database!$B$1:$E$4891,4,FALSE)","v":{"$error":"#N/A"}},true]
[320,null,null,null,null,null,null,null,{"$f":"IF(ISERROR(VLOOKUP(H325,Database!$B$1:$C$5908,2,FALSE)),\"\",VLOOKUP(H325,Database!$B$1:$C$5908,2,FALSE))","v":""},"",{"$error":"#N/A"},null,null,null,null,null,null,null,null,"",false,2,{"$f":"VLOOKUP(H325,Database!$B$1:$E$4891,4,FALSE)","v":{"$error":"#N/A"}},true]
[321,null,null,null,null,null,null,null,{"$f":"IF(ISERROR(VLOOKUP(H326,Database!$B$1:$C$5908,2,FALSE)),\"\",VLOOKUP(H326,Database!$B$1:$C$5908,2,FALSE))","v":""},"",{"$error":"#N/A"},null,null,null,null,null,null,null,null,"",false,2,{"$f":"VLOOKUP(H326,Database!$B$1:$E$4891,4,FALSE)","v":{"$error":"#N/A"}},true]
[{"$f":"A326+1","v":322},null,null,null,null,null,null,null,{"$f":"IF(ISERROR(VLOOKUP(H327,Database!$B$1:$C$5908,2,FALSE)),\"\",VLOOKUP(H327,Database!$B$1:$C$5908,2,FALSE))","v":""},{"$f":"IF(V327=1,1,IF(AND(T327=0,F327=\"SSB\",V327<>\"\"),2,IF(AND(T327=0,F327=\"FM\",V327<>\"\"),2,IF(AND(T327=0,F327=\"DIGI\",V327<>\"\"),3,IF(AND(T327=0,F327=\"CW\",V327<>\"\"),5,IF(H327=\"-\",\"\",T327))))))","v":""},{"$f":"IF(H327=\"-\",\"\",IF(AND(H327<>\"\",X327=TRUE),\"INDIPENDENT\",IF(W327=0,\"SCRIVI NOME NELLE NOTE\",W327)))","v":{"$error":"#N/A"}},null,null,null,null,null,null,null,null,{"$f":"IF(H327=\"\",\"\",IF(H327=$R$6,25,IF(OR(H327=$R$7,H327=$R$8,H327=$R$9,H327=$R$10,H327=$R$11,H327=$R$12,H327=$R$13,H327=$R$14,H327=$R$15,H327=$R$16,H327=$R$17,H327=$R$18,H327=$R$19,H327=$R$20,H327=$R$21,H327=$R$22,H327=$R$23),15,0)))","v":""},{"$f":"ISERROR(I327)","v":false},2,{"$f":"VLOOKUP(H327,Database!$B$1:$E$4891,4,FALSE)","v":{"$error":"#N/A"}},{"$f":"ISERROR(W327)","v":true}]
[323,null,null,null,null,null,null,null,{"$f":"IF(ISERROR(VLOOKUP(H328,Database!$B$1:$C$5908,2,FALSE)),\"\",VLOOKUP(H328,Database!$B$1:$C$5908,2,FALSE))","v":""},"",{"$error":"#N/A"},null,null,null,null,null,null,null,null,"",false,{"$f":"IF(H328=\"-\",\"\",IF(AND(T328=0,U328=FALSE,I328=\"\"),1,2))","v":2},{"$f":"VLOOKUP(H328,Database!$B$1:$E$4891,4,FALSE)","v":{"$error":"#N/A"}},true]
[324,null,null,null,null,null,null,null,{"$f":"IF(ISERROR(VLOOKUP(H329,Database!$B$1:$C$5908,2,FALSE)),\"\",VLOOKUP(H329,Database!$B$1:$C$5908,2,FALSE))","v":""},"",{"$error":"#N/A"},null,null,null,null,null,null,null,null,"",false,2,{"$f":"VLOOKUP(H329,Database!$B$1:$E$4891,4,FALSE)","v":{"$error":"#N/A"}},true]
[325,null,null,null,null,null,null,null,{"$f":"IF(ISERROR(VLOOKUP(H330,Database!$B$1:$C$5908,2,FALSE)),\"\",VLOOKUP(H330,Database!$B$1:$C$5908,2,FALSE))","v":""},"",{"$error":"#N/A"},null,null,null,null,null,null,null,null,"",false,2,{"$f":"VLOOKUP(H330,Database!$B$1:$E$4891,4,FALSE)","v":{"$error":"#N/A"}},true]
[326,null,null,null,null,null,null,null,{"$f":"IF(ISERROR(VLOOKUP(H331,Database!$B$1:$C$5908,2,FALSE)),\"\",VLOOKUP(H331,Database!$B$1:$C$5908,2,FALSE))","v":""},"",{"$error":"#N/A"},null,null,null,null,null,null,null,null,"",false,2,{"$f":"VLOOKUP(H331,Database!$B$1:$E$4891,4,FALSE)","v":{"$error":"#N/A"}},true]
[327,null,null,null,null,null,null,null,{"$f":"IF(ISERROR(VLOOKUP(H332,Database!$B$1:$C$5908,2,FALSE)),\"\",VLOOKUP(H332,Database!$B$1:$C$5908,2,FALSE))","v":""},"",{"$error":"#N/A"},null,null,null,null,null,null,null,null,"",false,2,{"$f":"VLOOKUP(H332,Database!$B$1:$E$4891,4,FALSE)","v":{"$error":"#N/A"}},true]
[328,null,null,null,null,null,null,null,{"$f":"IF(ISERROR(VLOOKUP(H333,Database!$B$1:$C$5908,2,FALSE)),\"\",VLOOKUP(H333,Database!$B$1:$C$5908,2,FALSE))","v":""},"",{"$error":"#N/A"},null,null,null,null,null,null,null,null,"",false,2,{"$f":"VLOOKUP(H333,Database!$B$1:$E$4891,4,FALSE)","v":{"$error":"#N/A"}},true]
[329,null,null,null,null,null,null,null,{"$f":"IF(ISERROR(VLOOKUP(H334,Database!$B$1:$C$5908,2,FALSE)),\"\",VLOOKUP(H334,Database!$B$1:$C$5908,2,FALSE))","v":""},"",{"$error":"#N/A"},null,null,null,null,null,null,null,null,"",false,2,{"$f":"VLOOKUP(H334,Database!$B$1:$E$4891,4,FALSE)","v":{"$error":"#N/A"}},true]
[330,null,null,null,null,null,null,null,{"$f":"IF(ISERROR(VLOOKUP(H335,Database!$B$1:$C$5908,2,FALSE)),\"\",VLOOKUP(H335,Database!$B$1:$C$5908,2,FALSE))","v":""},"",{"$error":"#N/A"},null,null,null,null,null,null,null,null,"",false,2,{"$f":"VLOOKUP(H335,Database!$B$1:$E$4891,4,FALSE)","v":{"$error":"#N/A"}},true]
[331,null,null,null,null,null,null,null,{"$f":"IF(ISERROR(VLOOKUP(H336,Database!$B$1:$C$5908,2,FALSE)),\"\",VLOOKUP(H336,Database!$B$1:$C$5908,2,FALSE))","v":""},"",{"$error":"#N/A"},null,null,null,null,null,null,null,null,"",false,2,{"$f":"VLOOKUP(H336,Database!$B$1:$E$4891,4,FALSE)","v":{"$error":"#N/A"}},true]
[332,null,null,null,null,null,null,null,{"$f":"IF(ISERROR(VLOOKUP(H337,Database!$B$1:$C$5908,2,FALSE)),\"\",VLOOKUP(H337,Database!$B$1:$C$5908,2,FALSE))","v":""},"",{"$error":"#N/A"},null,null,null,null,null,null,null,null,"",false,2,{"$f":"VLOOKUP(H337,Database!$B$1:$E$4891,4,FALSE)","v":{"$error":"#N/A"}},true]
[333,null,null,null,null,null,null,null,{"$f":"IF(ISERROR(VLOOKUP(H338,Database!$B$1:$C$5908,2,FALSE)),\"\",VLOOKUP(H338,Database!$B$1:$C$5908,2,FALSE))","v":""},"",{"$error":"#N/A"},null,null,null,null,null,null,null,null,"",false,2,{"$f":"VLOOKUP(H338,Database!$B$1:$E$4891,4,FALSE)","v":{"$error":"#N/A"}},true]
[334,null,null,null,null,null,null,null,{"$f":"IF(ISERROR(VLOOKUP(H339,Database!$B$1:$C$5908,2,FALSE)),\"\",VLOOKUP(H339,Database!$B$1:$C$5908,2,FALSE))","v":""},"",{"$error":"#N/A"},null,null,null,null,null,null,null,null,"",false,2,{"$f":"VLOOKUP(H339,Database!$B$1:$E$4891,4,FALSE)","v":{"$error":"#N/A"}},true]
[335,null,null,null,null,null,null,null,{"$f":"IF(ISERROR(VLOOKUP(H340,Database!$B$1:$C$5908,2,FALSE)),\"\",VLOOKUP(H340,Database!$B$1:$C$5908,2,FALSE))","v":""},"",{"$error":"#N/A"},null,null,null,null,null,null,null,null,"",false,2,{"$f":"VLOOKUP(H340,Database!$B$1:$E$4891,4,FALSE)","v":{"$error":"#N/A"}},true]
[336,null,null,null,null,null,null,null,{"$f":"IF(ISERROR(VLOOKUP(H341,Database!$B$1:$C$5908,2,FALSE)),\"\",VLOOKUP(H341,Database!$B$1:$C$5908,2,FALSE))","v":""},"",{"$error":"#N/A"},null,null,null,null,null,null,null,null,"",false,2,{"$f":"VLOOKUP(H341,Database!$B$1:$E$4891,4,FALSE)","v":{"$error":"#N/A"}},true]
[337,null,null,null,null,null,null,null,{"$f":"IF(ISERROR(VLOOKUP(H342,Database!$B$1:$C$5908,2,FALSE)),\"\",VLOOKUP(H342,Database!$B$1:$C$5908,2,FALSE))","v":""},"",{"$error":"#N/A"},null,null,null,null,null,null,null,null,"",false,2,{"$f":"VLOOKUP(H342,Database!$B$1:$E$4891,4,FALSE)","v":{"$error":"#N/A"}},true]
[338,null,null,null,null,null,null,null,{"$f":"IF(ISERROR(VLOOKUP(H343,Database!$B$1:$C$5908,2,FALSE)),\"\",VLOOKUP(H343,Database!$B$1:$C$5908,2,FALSE))","v":""},"",{"$error":"#N/A"},null,null,null,null,null,null,null,null,"",false,2,{"$f":"VLOOKUP(H343,Database!$B$1:$E$4891,4,FALSE)","v":{"$error":"#N/A"}},true]
[339,null,null,null,null,null,null,null,{"$f":"IF(ISERROR(VLOOKUP(H344,Database!$B$1:$C$5908,2,FALSE)),\"\",VLOOKUP(H344,Database!$B$1:$C$5908,2,FALSE))","v":""},"",{"$error":"#N/A"},null,null,null,null,null,null,null,null,"",false,2,{"$f":"VLOOKUP(H344,Database!$B$1:$E$4891,4,FALSE)","v":{"$error":"#N/A"}},true]
[340,null,null,null,null,null,null,null,{"$f":"IF(ISERROR(VLOOKUP(H345,Database!$B$1:$C$5908,2,FALSE)),\"\",VLOOKUP(H345,Database!$B$1:$C$5908,2,FALSE))","v":""},"",{"$error":"#N/A"},null,null,null,null,null,null,null,null,"",false,2,{"$f":"VLOOKUP(H345,Database!$B$1:$E$4891,4,FALSE)","v":{"$error":"#N/A"}},true]
[341,null,null,null,null,null,null,null,{"$f":"IF(ISERROR(VLOOKUP(H346,Database!$B$1:$C$5908,2,FALSE)),\"\",VLOOKUP(H346,Database!$B$1:$C$5908,2,FALSE))","v":""},"",{"$error":"#N/A"},null,null,null,null,null,null,null,null,"",false,2,{"$f":"VLOOKUP(H346,Database!$B$1:$E$4891,4,FALSE)","v":{"$error":"#N/A"}},true]
[342,null,null,null,null,null,null,null,{"$f":"IF(ISERROR(VLOOKUP(H347,Database!$B$1:$C$5908,2,FALSE)),\"\",VLOOKUP(H347,Database!$B$1:$C$5908,2,FALSE))","v":""},"",{"$error":"#N/A"},null,null,null,null,null,null,null,null,"",false,2,{"$f":"VLOOKUP(H347,Database!$B$1:$E$4891,4,FALSE)","v":{"$error":"#N/A"}},true]
[343,null,null,null,null,null,null,null,{"$f":"IF(ISERROR(VLOOKUP(H348,Database!$B$1:$C$5908,2,FALSE)),\"\",VLOOKUP(H348,Database!$B$1:$C$5908,2,FALSE))","v":""},"",{"$error":"#N/A"},null,null,null,null,null,null,null,null,"",false,2,{"$f":"VLOOKUP(H348,Database!$B$1:$E$4891,4,FALSE)","v":{"$error":"#N/A"}},true]
[344,null,null,null,null,null,null,null,{"$f":"IF(ISERROR(VLOOKUP(H349,Database!$B$1:$C$5908,2,FALSE)),\"\",VLOOKUP(H349,Database!$B$1:$C$5908,2,FALSE))","v":""},"",{"$error":"#N/A"},null,null,null,null,null,null,null,null,"",false,2,{"$f":"VLOOKUP(H349,Database!$B$1:$E$4891,4,FALSE)","v":{"$error":"#N/A"}},true]
[345,null,null,null,null,null,null,null,{"$f":"IF(ISERROR(VLOOKUP(H350,Database!$B$1:$C$5908,2,FALSE)),\"\",VLOOKUP(H350,Database!$B$1:$C$5908,2,FALSE))","v":""},"",{"$error":"#N/A"},null,null,null,null,null,null,null,null,"",false,2,{"$f":"VLOOKUP(H350,Database!$B$1:$E$4891,4,FALSE)","v":{"$error":"#N/A"}},true]
[346,null,null,null,null,null,null,null,{"$f":"IF(ISERROR(VLOOKUP(H351,Database!$B$1:$C$5908,2,FALSE)),\"\",VLOOKUP(H351,Database!$B$1:$C$5908,2,FALSE))","v":""},"",{"$error":"#N/A"},null,null,null,null,null,null,null,null,"",false,2,{"$f":"VLOOKUP(H351,Database!$B$1:$E$4891,4,FALSE)","v":{"$error":"#N/A"}},true]
[347,null,null,null,null,null,null,null,{"$f":"IF(ISERROR(VLOOKUP(H352,Database!$B$1:$C$5908,2,FALSE)),\"\",VLOOKUP(H352,Database!$B$1:$C$5908,2,FALSE))","v":""},"",{"$error":"#N/A"},null,null,null,null,null,null,null,null,"",false,2,{"$f":"VLOOKUP(H352,Database!$B$1:$E$4891,4,FALSE)","v":{"$error":"#N/A"}},true]
[348,null,null,null,null,null,null,null,{"$f":"IF(ISERROR(VLOOKUP(H353,Database!$B$1:$C$5908,2,FALSE)),\"\",VLOOKUP(H353,Database!$B$1:$C$5908,2,FALSE))","v":""},"",{"$error":"#N/A"},null,null,null,null,null,null,null,null,"",false,2,{"$f":"VLOOKUP(H353,Database!$B$1:$E$4891,4,FALSE)","v":{"$error":"#N/A"}},true]
[349,null,null,null,null,null,null,null,{"$f":"IF(ISERROR(VLOOKUP(H354,Database!$B$1:$C$5908,2,FALSE)),\"\",VLOOKUP(H354,Database!$B$1:$C$5908,2,FALSE))","v":""},"",{"$error":"#N/A"},null,null,null,null,null,null,null,null,"",false,2,{"$f":"VLOOKUP(H354,Database!$B$1:$E$4891,4,FALSE)","v":{"$error":"#N/A"}},true]
[350,null,null,null,null,null,null,null,{"$f":"IF(ISERROR(VLOOKUP(H355,Database!$B$1:$C$5908,2,FALSE)),\"\",VLOOKUP(H355,Database!$B$1:$C$5908,2,FALSE))","v":""},"",{"$error":"#N/A"},null,null,null,null,null,null,null,null,"",false,2,{"$f":"VLOOKUP(H355,Database!$B$1:$E$4891,4,FALSE)","v":{"$error":"#N/A"}},true]
[351,null,null,null,null,null,null,null,{"$f":"IF(ISERROR(VLOOKUP(H356,Database!$B$1:$C$5908,2,FALSE)),\"\",VLOOKUP(H356,Database!$B$1:$C$5908,2,FALSE))","v":""},"",{"$error":"#N/A"},null,null,null,null,null,null,null,null,"",false,2,{"$f":"VLOOKUP(H356,Database!$B$1:$E$4891,4,FALSE)","v":{"$error":"#N/A"}},true]
[352,null,null,null,null,null,null,null,{"$f":"IF(ISERROR(VLOOKUP(H357,Database!$B$1:$C$5908,2,FALSE)),\"\",VLOOKUP(H357,Database!$B$1:$C$5908,2,FALSE))","v":""},"",{"$error":"#N/A"},null,null,null,null,null,null,null,null,"",false,2,{"$f":"VLOOKUP(H357,Database!$B$1:$E$4891,4,FALSE)","v":{"$error":"#N/A"}},true]
[353,null,null,null,null,null,null,null,{"$f":"IF(ISERROR(VLOOKUP(H358,Database!$B$1:$C$5908,2,FALSE)),\"\",VLOOKUP(H358,Database!$B$1:$C$5908,2,FALSE))","v":""},"",{"$error":"#N/A"},null,null,null,null,null,null,null,null,"",false,2,{"$f":"VLOOKUP(H358,Database!$B$1:$E$4891,4,FALSE)","v":{"$error":"#N/A"}},true]
[354,null,null,null,null,null,null,null,{"$f":"IF(ISERROR(VLOOKUP(H359,Database!$B$1:$C$5908,2,FALSE)),\"\",VLOOKUP(H359,Database!$B$1:$C$5908,2,FALSE))","v":""},"",{"$error":"#N/A"},null,null,null,null,null,null,null,null,"",false,2,{"$f":"VLOOKUP(H359,Database!$B$1:$E$4891,4,FALSE)","v":{"$error":"#N/A"}},true]
[355,null,null,null,null,null,null,null,{"$f":"IF(ISERROR(VLOOKUP(H360,Database!$B$1:$C$5908,2,FALSE)),\"\",VLOOKUP(H360,Database!$B$1:$C$5908,2,FALSE))","v":""},"",{"$error":"#N/A"},null,null,null,null,null,null,null,null,"",false,2,{"$f":"VLOOKUP(H360,Database!$B$1:$E$4891,4,FALSE)","v":{"$error":"#N/A"}},true]
[356,null,null,null,null,null,null,null,{"$f":"IF(ISERROR(VLOOKUP(H361,Database!$B$1:$C$5908,2,FALSE)),\"\",VLOOKUP(H361,Database!$B$1:$C$5908,2,FALSE))","v":""},"",{"$error":"#N/A"},null,null,null,null,null,null,null,null,"",false,2,{"$f":"VLOOKUP(H361,Database!$B$1:$E$4891,4,FALSE)","v":{"$error":"#N/A"}},true]
[357,null,null,null,null,null,null,null,{"$f":"IF(ISERROR(VLOOKUP(H362,Database!$B$1:$C$5908,2,FALSE)),\"\",VLOOKUP(H362,Database!$B$1:$C$5908,2,FALSE))","v":""},"",{"$error":"#N/A"},null,null,null,null,null,null,null,null,"",false,2,{"$f":"VLOOKUP(H362,Database!$B$1:$E$4891,4,FALSE)","v":{"$error":"#N/A"}},true]
[358,null,null,null,null,null,null,null,{"$f":"IF(ISERROR(VLOOKUP(H363,Database!$B$1:$C$5908,2,FALSE)),\"\",VLOOKUP(H363,Database!$B$1:$C$5908,2,FALSE))","v":""},"",{"$error":"#N/A"},null,null,null,null,null,null,null,null,"",false,2,{"$f":"VLOOKUP(H363,Database!$B$1:$E$4891,4,FALSE)","v":{"$error":"#N/A"}},true]
[359,null,null,null,null,null,null,null,{"$f":"IF(ISERROR(VLOOKUP(H364,Database!$B$1:$C$5908,2,FALSE)),\"\",VLOOKUP(H364,Database!$B$1:$C$5908,2,FALSE))","v":""},"",{"$error":"#N/A"},null,null,null,null,null,null,null,null,"",false,2,{"$f":"VLOOKUP(H364,Database!$B$1:$E$4891,4,FALSE)","v":{"$error":"#N/A"}},true]
[360,null,null,null,null,null,null,null,{"$f":"IF(ISERROR(VLOOKUP(H365,Database!$B$1:$C$5908,2,FALSE)),\"\",VLOOKUP(H365,Database!$B$1:$C$5908,2,FALSE))","v":""},"",{"$error":"#N/A"},null,null,null,null,null,null,null,null,"",false,2,{"$f":"VLOOKUP(H365,Database!$B$1:$E$4891,4,FALSE)","v":{"$error":"#N/A"}},true]
[361,null,null,null,null,null,null,null,{"$f":"IF(ISERROR(VLOOKUP(H366,Database!$B$1:$C$5908,2,FALSE)),\"\",VLOOKUP(H366,Database!$B$1:$C$5908,2,FALSE))","v":""},"",{"$error":"#N/A"},null,null,null,null,null,null,null,null,"",false,2,{"$f":"VLOOKUP(H366,Database!$B$1:$E$4891,4,FALSE)","v":{"$error":"#N/A"}},true]
[362,null,null,null,null,null,null,null,{"$f":"IF(ISERROR(VLOOKUP(H367,Database!$B$1:$C$5908,2,FALSE)),\"\",VLOOKUP(H367,Database!$B$1:$C$5908,2,FALSE))","v":""},"",{"$error":"#N/A"},null,null,null,null,null,null,null,null,"",false,2,{"$f":"VLOOKUP(H367,Database!$B$1:$E$4891,4,FALSE)","v":{"$error":"#N/A"}},true]
[363,null,null,null,null,null,null,null,{"$f":"IF(ISERROR(VLOOKUP(H368,Database!$B$1:$C$5908,2,FALSE)),\"\",VLOOKUP(H368,Database!$B$1:$C$5908,2,FALSE))","v":""},"",{"$error":"#N/A"},null,null,null,null,null,null,null,null,"",false,2,{"$f":"VLOOKUP(H368,Database!$B$1:$E$4891,4,FALSE)","v":{"$error":"#N/A"}},true]
[364,null,null,null,null,null,null,null,{"$f":"IF(ISERROR(VLOOKUP(H369,Database!$B$1:$C$5908,2,FALSE)),\"\",VLOOKUP(H369,Database!$B$1:$C$5908,2,FALSE))","v":""},"",{"$error":"#N/A"},null,null,null,null,null,null,null,null,"",false,2,{"$f":"VLOOKUP(H369,Database!$B$1:$E$4891,4,FALSE)","v":{"$error":"#N/A"}},true]
[365,null,null,null,null,null,null,null,{"$f":"IF(ISERROR(VLOOKUP(H370,Database!$B$1:$C$5908,2,FALSE)),\"\",VLOOKUP(H370,Database!$B$1:$C$5908,2,FALSE))","v":""},"",{"$error":"#N/A"},null,null,null,null,null,null,null,null,"",false,2,{"$f":"VLOOKUP(H370,Database!$B$1:$E$4891,4,FALSE)","v":{"$error":"#N/A"}},true]
[366,null,null,null,null,null,null,null,{"$f":"IF(ISERROR(VLOOKUP(H371,Database!$B$1:$C$5908,2,FALSE)),\"\",VLOOKUP(H371,Database!$B$1:$C$5908,2,FALSE))","v":""},"",{"$error":"#N/A"},null,null,null,null,null,null,null,null,"",false,2,{"$f":"VLOOKUP(H371,Database!$B$1:$E$4891,4,FALSE)","v":{"$error":"#N/A"}},true]
[367,null,null,null,null,null,null,null,{"$f":"IF(ISERROR(VLOOKUP(H372,Database!$B$1:$C$5908,2,FALSE)),\"\",VLOOKUP(H372,Database!$B$1:$C$5908,2,FALSE))","v":""},"",{"$error":"#N/A"},null,null,null,null,null,null,null,null,"",false,2,{"$f":"VLOOKUP(H372,Database!$B$1:$E$4891,4,FALSE)","v":{"$error":"#N/A"}},true]
[368,null,null,null,null,null,null,null,{"$f":"IF(ISERROR(VLOOKUP(H373,Database!$B$1:$C$5908,2,FALSE)),\"\",VLOOKUP(H373,Database!$B$1:$C$5908,2,FALSE))","v":""},"",{"$error":"#N/A"},null,null,null,null,null,null,null,null,"",false,2,{"$f":"VLOOKUP(H373,Database!$B$1:$E$4891,4,FALSE)","v":{"$error":"#N/A"}},true]
[369,null,null,null,null,null,null,null,{"$f":"IF(ISERROR(VLOOKUP(H374,Database!$B$1:$C$5908,2,FALSE)),\"\",VLOOKUP(H374,Database!$B$1:$C$5908,2,FALSE))","v":""},"",{"$error":"#N/A"},null,null,null,null,null,null,null,null,"",false,2,{"$f":"VLOOKUP(H374,Database!$B$1:$E$4891,4,FALSE)","v":{"$error":"#N/A"}},true]
[370,null,null,null,null,null,null,null,{"$f":"IF(ISERROR(VLOOKUP(H375,Database!$B$1:$C$5908,2,FALSE)),\"\",VLOOKUP(H375,Database!$B$1:$C$5908,2,FALSE))","v":""},"",{"$error":"#N/A"},null,null,null,null,null,null,null,null,"",false,2,{"$f":"VLOOKUP(H375,Database!$B$1:$E$4891,4,FALSE)","v":{"$error":"#N/A"}},true]
[371,null,null,null,null,null,null,null,{"$f":"IF(ISERROR(VLOOKUP(H376,Database!$B$1:$C$5908,2,FALSE)),\"\",VLOOKUP(H376,Database!$B$1:$C$5908,2,FALSE))","v":""},"",{"$error":"#N/A"},null,null,null,null,null,null,null,null,"",false,2,{"$f":"VLOOKUP(H376,Database!$B$1:$E$4891,4,FALSE)","v":{"$error":"#N/A"}},true]
[372,null,null,null,null,null,null,null,{"$f":"IF(ISERROR(VLOOKUP(H377,Database!$B$1:$C$5908,2,FALSE)),\"\",VLOOKUP(H377,Database!$B$1:$C$5908,2,FALSE))","v":""},"",{"$error":"#N/A"},null,null,null,null,null,null,null,null,"",false,2,{"$f":"VLOOKUP(H377,Database!$B$1:$E$4891,4,FALSE)","v":{"$error":"#N/A"}},true]
[373,null,null,null,null,null,null,null,{"$f":"IF(ISERROR(VLOOKUP(H378,Database!$B$1:$C$5908,2,FALSE)),\"\",VLOOKUP(H378,Database!$B$1:$C$5908,2,FALSE))","v":""},"",{"$error":"#N/A"},null,null,null,null,null,null,null,null,"",false,2,{"$f":"VLOOKUP(H378,Database!$B$1:$E$4891,4,FALSE)","v":{"$error":"#N/A"}},true]
[374,null,null,null,null,null,null,null,{"$f":"IF(ISERROR(VLOOKUP(H379,Database!$B$1:$C$5908,2,FALSE)),\"\",VLOOKUP(H379,Database!$B$1:$C$5908,2,FALSE))","v":""},"",{"$error":"#N/A"},null,null,null,null,null,null,null,null,"",false,2,{"$f":"VLOOKUP(H379,Database!$B$1:$E$4891,4,FALSE)","v":{"$error":"#N/A"}},true]
[375,null,null,null,null,null,null,null,{"$f":"IF(ISERROR(VLOOKUP(H380,Database!$B$1:$C$5908,2,FALSE)),\"\",VLOOKUP(H380,Database!$B$1:$C$5908,2,FALSE))","v":""},"",{"$error":"#N/A"},null,null,null,null,null,null,null,null,"",false,2,{"$f":"VLOOKUP(H380,Database!$B$1:$E$4891,4,FALSE)","v":{"$error":"#N/A"}},true]
[376,null,null,null,null,null,null,null,{"$f":"IF(ISERROR(VLOOKUP(H381,Database!$B$1:$C$5908,2,FALSE)),\"\",VLOOKUP(H381,Database!$B$1:$C$5908,2,FALSE))","v":""},"",{"$error":"#N/A"},null,null,null,null,null,null,null,null,"",false,2,{"$f":"VLOOKUP(H381,Database!$B$1:$E$4891,4,FALSE)","v":{"$error":"#N/A"}},true]
[377,null,null,null,null,null,null,null,{"$f":"IF(ISERROR(VLOOKUP(H382,Database!$B$1:$C$5908,2,FALSE)),\"\",VLOOKUP(H382,Database!$B$1:$C$5908,2,FALSE))","v":""},"",{"$error":"#N/A"},null,null,null,null,null,null,null,null,"",false,2,{"$f":"VLOOKUP(H382,Database!$B$1:$E$4891,4,FALSE)","v":{"$error":"#N/A"}},true]
[378,null,null,null,null,null,null,null,{"$f":"IF(ISERROR(VLOOKUP(H383,Database!$B$1:$C$5908,2,FALSE)),\"\",VLOOKUP(H383,Database!$B$1:$C$5908,2,FALSE))","v":""},"",{"$error":"#N/A"},null,null,null,null,null,null,null,null,"",false,2,{"$f":"VLOOKUP(H383,Database!$B$1:$E$4891,4,FALSE)","v":{"$error":"#N/A"}},true]
[379,null,null,null,null,null,null,null,{"$f":"IF(ISERROR(VLOOKUP(H384,Database!$B$1:$C$5908,2,FALSE)),\"\",VLOOKUP(H384,Database!$B$1:$C$5908,2,FALSE))","v":""},"",{"$error":"#N/A"},null,null,null,null,null,null,null,null,"",false,2,{"$f":"VLOOKUP(H384,Database!$B$1:$E$4891,4,FALSE)","v":{"$error":"#N/A"}},true]
[380,null,null,null,null,null,null,null,{"$f":"IF(ISERROR(VLOOKUP(H385,Database!$B$1:$C$5908,2,FALSE)),\"\",VLOOKUP(H385,Database!$B$1:$C$5908,2,FALSE))","v":""},"",{"$error":"#N/A"},null,null,null,null,null,null,null,null,"",false,2,{"$f":"VLOOKUP(H385,Database!$B$1:$E$4891,4,FALSE)","v":{"$error":"#N/A"}},true]
[381,null,null,null,null,null,null,null,{"$f":"IF(ISERROR(VLOOKUP(H386,Database!$B$1:$C$5908,2,FALSE)),\"\",VLOOKUP(H386,Database!$B$1:$C$5908,2,FALSE))","v":""},"",{"$error":"#N/A"},null,null,null,null,null,null,null,null,"",false,2,{"$f":"VLOOKUP(H386,Database!$B$1:$E$4891,4,FALSE)","v":{"$error":"#N/A"}},true]
[382,null,null,null,null,null,null,null,{"$f":"IF(ISERROR(VLOOKUP(H387,Database!$B$1:$C$5908,2,FALSE)),\"\",VLOOKUP(H387,Database!$B$1:$C$5908,2,FALSE))","v":""},"",{"$error":"#N/A"},null,null,null,null,null,null,null,null,"",false,2,{"$f":"VLOOKUP(H387,Database!$B$1:$E$4891,4,FALSE)","v":{"$error":"#N/A"}},true]
[383,null,null,null,null,null,null,null,{"$f":"IF(ISERROR(VLOOKUP(H388,Database!$B$1:$C$5908,2,FALSE)),\"\",VLOOKUP(H388,Database!$B$1:$C$5908,2,FALSE))","v":""},"",{"$error":"#N/A"},null,null,null,null,null,null,null,null,"",false,2,{"$f":"VLOOKUP(H388,Database!$B$1:$E$4891,4,FALSE)","v":{"$error":"#N/A"}},true]
[384,null,null,null,null,null,null,null,{"$f":"IF(ISERROR(VLOOKUP(H389,Database!$B$1:$C$5908,2,FALSE)),\"\",VLOOKUP(H389,Database!$B$1:$C$5908,2,FALSE))","v":""},"",{"$error":"#N/A"},null,null,null,null,null,null,null,null,"",false,2,{"$f":"VLOOKUP(H389,Database!$B$1:$E$4891,4,FALSE)","v":{"$error":"#N/A"}},true]
[385,null,null,null,null,null,null,null,{"$f":"IF(ISERROR(VLOOKUP(H390,Database!$B$1:$C$5908,2,FALSE)),\"\",VLOOKUP(H390,Database!$B$1:$C$5908,2,FALSE))","v":""},"",{"$error":"#N/A"},null,null,null,null,null,null,null,null,"",false,2,{"$f":"VLOOKUP(H390,Database!$B$1:$E$4891,4,FALSE)","v":{"$error":"#N/A"}},true]
[{"$f":"A390+1","v":386},null,null,null,null,null,null,null,{"$f":"IF(ISERROR(VLOOKUP(H391,Database!$B$1:$C$5908,2,FALSE)),\"\",VLOOKUP(H391,Database!$B$1:$C$5908,2,FALSE))","v":""},{"$f":"IF(V391=1,1,IF(AND(T391=0,F391=\"SSB\",V391<>\"\"),2,IF(AND(T391=0,F391=\"FM\",V391<>\"\"),2,IF(AND(T391=0,F391=\"DIGI\",V391<>\"\"),3,IF(AND(T391=0,F391=\"CW\",V391<>\"\"),5,IF(H391=\"-\",\"\",T391))))))","v":""},{"$f":"IF(H391=\"-\",\"\",IF(AND(H391<>\"\",X391=TRUE),\"INDIPENDENT\",IF(W391=0,\"SCRIVI NOME NELLE NOTE\",W391)))","v":{"$error":"#N/A"}},null,null,null,null,null,null,null,null,{"$f":"IF(H391=\"\",\"\",IF(H391=$R$6,25,IF(OR(H391=$R$7,H391=$R$8,H391=$R$9,H391=$R$10,H391=$R$11,H391=$R$12,H391=$R$13,H391=$R$14,H391=$R$15,H391=$R$16,H391=$R$17,H391=$R$18,H391=$R$19,H391=$R$20,H391=$R$21,H391=$R$22,H391=$R$23),15,0)))","v":""},{"$f":"ISERROR(I391)","v":false},2,{"$f":"VLOOKUP(H391,Database!$B$1:$E$4891,4,FALSE)","v":{"$error":"#N/A"}},{"$f":"ISERROR(W391)","v":true}]
[387,null,null,null,null,null,null,null,{"$f":"IF(ISERROR(VLOOKUP(H392,Database!$B$1:$C$5908,2,FALSE)),\"\",VLOOKUP(H392,Database!$B$1:$C$5908,2,FALSE))","v":""},"",{"$error":"#N/A"},null,null,null,null,null,null,null,null,"",false,{"$f":"IF(H392=\"-\",\"\",IF(AND(T392=0,U392=FALSE,I392=\"\"),1,2))","v":2},{"$f":"VLOOKUP(H392,Database!$B$1:$E$4891,4,FALSE)","v":{"$error":"#N/A"}},true]
[388,null,null,null,null,null,null,null,{"$f":"IF(ISERROR(VLOOKUP(H393,Database!$B$1:$C$5908,2,FALSE)),\"\",VLOOKUP(H393,Database!$B$1:$C$5908,2,FALSE))","v":""},"",{"$error":"#N/A"},null,null,null,null,null,null,null,null,"",false,2,{"$f":"VLOOKUP(H393,Database!$B$1:$E$4891,4,FALSE)","v":{"$error":"#N/A"}},true]
[389,null,null,null,null,null,null,null,{"$f":"IF(ISERROR(VLOOKUP(H394,Database!$B$1:$C$5908,2,FALSE)),\"\",VLOOKUP(H394,Database!$B$1:$C$5908,2,FALSE))","v":""},"",{"$error":"#N/A"},null,null,null,null,null,null,null,null,"",false,2,{"$f":"VLOOKUP(H394,Database!$B$1:$E$4891,4,FALSE)","v":{"$error":"#N/A"}},true]
[390,null,null,null,null,null,null,null,{"$f":"IF(ISERROR(VLOOKUP(H395,Database!$B$1:$C$5908,2,FALSE)),\"\",VLOOKUP(H395,Database!$B$1:$C$5908,2,FALSE))","v":""},"",{"$error":"#N/A"},null,null,null,null,null,null,null,null,"",false,2,{"$f":"VLOOKUP(H395,Database!$B$1:$E$4891,4,FALSE)","v":{"$error":"#N/A"}},true]
[391,null,null,null,null,null,null,null,{"$f":"IF(ISERROR(VLOOKUP(H396,Database!$B$1:$C$5908,2,FALSE)),\"\",VLOOKUP(H396,Database!$B$1:$C$5908,2,FALSE))","v":""},"",{"$error":"#N/A"},null,null,null,null,null,null,null,null,"",false,2,{"$f":"VLOOKUP(H396,Database!$B$1:$E$4891,4,FALSE)","v":{"$error":"#N/A"}},true]
[392,null,null,null,null,null,null,null,{"$f":"IF(ISERROR(VLOOKUP(H397,Database!$B$1:$C$5908,2,FALSE)),\"\",VLOOKUP(H397,Database!$B$1:$C$5908,2,FALSE))","v":""},"",{"$error":"#N/A"},null,null,null,null,null,null,null,null,"",false,2,{"$f":"VLOOKUP(H397,Database!$B$1:$E$4891,4,FALSE)","v":{"$error":"#N/A"}},true]
[393,null,null,null,null,null,null,null,{"$f":"IF(ISERROR(VLOOKUP(H398,Database!$B$1:$C$5908,2,FALSE)),\"\",VLOOKUP(H398,Database!$B$1:$C$5908,2,FALSE))","v":""},"",{"$error":"#N/A"},null,null,null,null,null,null,null,null,"",false,2,{"$f":"VLOOKUP(H398,Database!$B$1:$E$4891,4,FALSE)","v":{"$error":"#N/A"}},true]
[394,null,null,null,null,null,null,null,{"$f":"IF(ISERROR(VLOOKUP(H399,Database!$B$1:$C$5908,2,FALSE)),\"\",VLOOKUP(H399,Database!$B$1:$C$5908,2,FALSE))","v":""},"",{"$error":"#N/A"},null,null,null,null,null,null,null,null,"",false,2,{"$f":"VLOOKUP(H399,Database!$B$1:$E$4891,4,FALSE)","v":{"$error":"#N/A"}},true]
[395,null,null,null,null,null,null,null,{"$f":"IF(ISERROR(VLOOKUP(H400,Database!$B$1:$C$5908,2,FALSE)),\"\",VLOOKUP(H400,Database!$B$1:$C$5908,2,FALSE))","v":""},"",{"$error":"#N/A"},null,null,null,null,null,null,null,null,"",false,2,{"$f":"VLOOKUP(H400,Database!$B$1:$E$4891,4,FALSE)","v":{"$error":"#N/A"}},true]
[396,null,null,null,null,null,null,null,{"$f":"IF(ISERROR(VLOOKUP(H401,Database!$B$1:$C$5908,2,FALSE)),\"\",VLOOKUP(H401,Database!$B$1:$C$5908,2,FALSE))","v":""},"",{"$error":"#N/A"},null,null,null,null,null,null,null,null,"",false,2,{"$f":"VLOOKUP(H401,Database!$B$1:$E$4891,4,FALSE)","v":{"$error":"#N/A"}},true]
[397,null,null,null,null,null,null,null,{"$f":"IF(ISERROR(VLOOKUP(H402,Database!$B$1:$C$5908,2,FALSE)),\"\",VLOOKUP(H402,Database!$B$1:$C$5908,2,FALSE))","v":""},"",{"$error":"#N/A"},null,null,null,null,null,null,null,null,"",false,2,{"$f":"VLOOKUP(H402,Database!$B$1:$E$4891,4,FALSE)","v":{"$error":"#N/A"}},true]
[398,null,null,null,null,null,null,null,{"$f":"IF(ISERROR(VLOOKUP(H403,Database!$B$1:$C$5908,2,FALSE)),\"\",VLOOKUP(H403,Database!$B$1:$C$5908,2,FALSE))","v":""},"",{"$error":"#N/A"},null,null,null,null,null,null,null,null,"",false,2,{"$f":"VLOOKUP(H403,Database!$B$1:$E$4891,4,FALSE)","v":{"$error":"#N/A"}},true]
[399,null,null,null,null,null,null,null,{"$f":"IF(ISERROR(VLOOKUP(H404,Database!$B$1:$C$5908,2,FALSE)),\"\",VLOOKUP(H404,Database!$B$1:$C$5908,2,FALSE))","v":""},"",{"$error":"#N/A"},null,null,null,null,null,null,null,null,"",false,2,{"$f":"VLOOKUP(H404,Database!$B$1:$E$4891,4,FALSE)","v":{"$error":"#N/A"}},true]
[400,null,null,null,null,null,null,null,{"$f":"IF(ISERROR(VLOOKUP(H405,Database!$B$1:$C$5908,2,FALSE)),\"\",VLOOKUP(H405,Database!$B$1:$C$5908,2,FALSE))","v":""},"",{"$error":"#N/A"},null,null,null,null,null,null,null,null,"",false,2,{"$f":"VLOOKUP(H405,Database!$B$1:$E$4891,4,FALSE)","v":{"$error":"#N/A"}},true]
[401,null,null,null,null,null,null,null,{"$f":"IF(ISERROR(VLOOKUP(H406,Database!$B$1:$C$5908,2,FALSE)),\"\",VLOOKUP(H406,Database!$B$1:$C$5908,2,FALSE))","v":""},"",{"$error":"#N/A"},null,null,null,null,null,null,null,null,"",false,2,{"$f":"VLOOKUP(H406,Database!$B$1:$E$4891,4,FALSE)","v":{"$error":"#N/A"}},true]
[402,null,null,null,null,null,null,null,{"$f":"IF(ISERROR(VLOOKUP(H407,Database!$B$1:$C$5908,2,FALSE)),\"\",VLOOKUP(H407,Database!$B$1:$C$5908,2,FALSE))","v":""},"",{"$error":"#N/A"},null,null,null,null,null,null,null,null,"",false,2,{"$f":"VLOOKUP(H407,Database!$B$1:$E$4891,4,FALSE)","v":{"$error":"#N/A"}},true]
[403,null,null,null,null,null,null,null,{"$f":"IF(ISERROR(VLOOKUP(H408,Database!$B$1:$C$5908,2,FALSE)),\"\",VLOOKUP(H408,Database!$B$1:$C$5908,2,FALSE))","v":""},"",{"$error":"#N/A"},null,null,null,null,null,null,null,null,"",false,2,{"$f":"VLOOKUP(H408,Database!$B$1:$E$4891,4,FALSE)","v":{"$error":"#N/A"}},true]
[404,null,null,null,null,null,null,null,{"$f":"IF(ISERROR(VLOOKUP(H409,Database!$B$1:$C$5908,2,FALSE)),\"\",VLOOKUP(H409,Database!$B$1:$C$5908,2,FALSE))","v":""},"",{"$error":"#N/A"},null,null,null,null,null,null,null,null,"",false,2,{"$f":"VLOOKUP(H409,Database!$B$1:$E$4891,4,FALSE)","v":{"$error":"#N/A"}},true]
[405,null,null,null,null,null,null,null,{"$f":"IF(ISERROR(VLOOKUP(H410,Database!$B$1:$C$5908,2,FALSE)),\"\",VLOOKUP(H410,Database!$B$1:$C$5908,2,FALSE))","v":""},"",{"$error":"#N/A"},null,null,null,null,null,null,null,null,"",false,2,{"$f":"VLOOKUP(H410,Database!$B$1:$E$4891,4,FALSE)","v":{"$error":"#N/A"}},true]
[406,null,null,null,null,null,null,null,{"$f":"IF(ISERROR(VLOOKUP(H411,Database!$B$1:$C$5908,2,FALSE)),\"\",VLOOKUP(H411,Database!$B$1:$C$5908,2,FALSE))","v":""},"",{"$error":"#N/A"},null,null,null,null,null,null,null,null,"",false,2,{"$f":"VLOOKUP(H411,Database!$B$1:$E$4891,4,FALSE)","v":{"$error":"#N/A"}},true]
[407,null,null,null,null,null,null,null,{"$f":"IF(ISERROR(VLOOKUP(H412,Database!$B$1:$C$5908,2,FALSE)),\"\",VLOOKUP(H412,Database!$B$1:$C$5908,2,FALSE))","v":""},"",{"$error":"#N/A"},null,null,null,null,null,null,null,null,"",false,2,{"$f":"VLOOKUP(H412,Database!$B$1:$E$4891,4,FALSE)","v":{"$error":"#N/A"}},true]
[408,null,null,null,null,null,null,null,{"$f":"IF(ISERROR(VLOOKUP(H413,Database!$B$1:$C$5908,2,FALSE)),\"\",VLOOKUP(H413,Database!$B$1:$C$5908,2,FALSE))","v":""},"",{"$error":"#N/A"},null,null,null,null,null,null,null,null,"",false,2,{"$f":"VLOOKUP(H413,Database!$B$1:$E$4891,4,FALSE)","v":{"$error":"#N/A"}},true]
[409,null,null,null,null,null,null,null,{"$f":"IF(ISERROR(VLOOKUP(H414,Database!$B$1:$C$5908,2,FALSE)),\"\",VLOOKUP(H414,Database!$B$1:$C$5908,2,FALSE))","v":""},"",{"$error":"#N/A"},null,null,null,null,null,null,null,null,"",false,2,{"$f":"VLOOKUP(H414,Database!$B$1:$E$4891,4,FALSE)","v":{"$error":"#N/A"}},true]
[410,null,null,null,null,null,null,null,{"$f":"IF(ISERROR(VLOOKUP(H415,Database!$B$1:$C$5908,2,FALSE)),\"\",VLOOKUP(H415,Database!$B$1:$C$5908,2,FALSE))","v":""},"",{"$error":"#N/A"},null,null,null,null,null,null,null,null,"",false,2,{"$f":"VLOOKUP(H415,Database!$B$1:$E$4891,4,FALSE)","v":{"$error":"#N/A"}},true]
[411,null,null,null,null,null,null,null,{"$f":"IF(ISERROR(VLOOKUP(H416,Database!$B$1:$C$5908,2,FALSE)),\"\",VLOOKUP(H416,Database!$B$1:$C$5908,2,FALSE))","v":""},"",{"$error":"#N/A"},null,null,null,null,null,null,null,null,"",false,2,{"$f":"VLOOKUP(H416,Database!$B$1:$E$4891,4,FALSE)","v":{"$error":"#N/A"}},true]
[412,null,null,null,null,null,null,null,{"$f":"IF(ISERROR(VLOOKUP(H417,Database!$B$1:$C$5908,2,FALSE)),\"\",VLOOKUP(H417,Database!$B$1:$C$5908,2,FALSE))","v":""},"",{"$error":"#N/A"},null,null,null,null,null,null,null,null,"",false,2,{"$f":"VLOOKUP(H417,Database!$B$1:$E$4891,4,FALSE)","v":{"$error":"#N/A"}},true]
[413,null,null,null,null,null,null,null,{"$f":"IF(ISERROR(VLOOKUP(H418,Database!$B$1:$C$5908,2,FALSE)),\"\",VLOOKUP(H418,Database!$B$1:$C$5908,2,FALSE))","v":""},"",{"$error":"#N/A"},null,null,null,null,null,null,null,null,"",false,2,{"$f":"VLOOKUP(H418,Database!$B$1:$E$4891,4,FALSE)","v":{"$error":"#N/A"}},true]
[414,null,null,null,null,null,null,null,{"$f":"IF(ISERROR(VLOOKUP(H419,Database!$B$1:$C$5908,2,FALSE)),\"\",VLOOKUP(H419,Database!$B$1:$C$5908,2,FALSE))","v":""},"",{"$error":"#N/A"},null,null,null,null,null,null,null,null,"",false,2,{"$f":"VLOOKUP(H419,Database!$B$1:$E$4891,4,FALSE)","v":{"$error":"#N/A"}},true]
[415,null,null,null,null,null,null,null,{"$f":"IF(ISERROR(VLOOKUP(H420,Database!$B$1:$C$5908,2,FALSE)),\"\",VLOOKUP(H420,Database!$B$1:$C$5908,2,FALSE))","v":""},"",{"$error":"#N/A"},null,null,null,null,null,null,null,null,"",false,2,{"$f":"VLOOKUP(H420,Database!$B$1:$E$4891,4,FALSE)","v":{"$error":"#N/A"}},true]
[416,null,null,null,null,null,null,null,{"$f":"IF(ISERROR(VLOOKUP(H421,Database!$B$1:$C$5908,2,FALSE)),\"\",VLOOKUP(H421,Database!$B$1:$C$5908,2,FALSE))","v":""},"",{"$error":"#N/A"},null,null,null,null,null,null,null,null,"",false,2,{"$f":"VLOOKUP(H421,Database!$B$1:$E$4891,4,FALSE)","v":{"$error":"#N/A"}},true]
[417,null,null,null,null,null,null,null,{"$f":"IF(ISERROR(VLOOKUP(H422,Database!$B$1:$C$5908,2,FALSE)),\"\",VLOOKUP(H422,Database!$B$1:$C$5908,2,FALSE))","v":""},"",{"$error":"#N/A"},null,null,null,null,null,null,null,null,"",false,2,{"$f":"VLOOKUP(H422,Database!$B$1:$E$4891,4,FALSE)","v":{"$error":"#N/A"}},true]
[418,null,null,null,null,null,null,null,{"$f":"IF(ISERROR(VLOOKUP(H423,Database!$B$1:$C$5908,2,FALSE)),\"\",VLOOKUP(H423,Database!$B$1:$C$5908,2,FALSE))","v":""},"",{"$error":"#N/A"},null,null,null,null,null,null,null,null,"",false,2,{"$f":"VLOOKUP(H423,Database!$B$1:$E$4891,4,FALSE)","v":{"$error":"#N/A"}},true]
[419,null,null,null,null,null,null,null,{"$f":"IF(ISERROR(VLOOKUP(H424,Database!$B$1:$C$5908,2,FALSE)),\"\",VLOOKUP(H424,Database!$B$1:$C$5908,2,FALSE))","v":""},"",{"$error":"#N/A"},null,null,null,null,null,null,null,null,"",false,2,{"$f":"VLOOKUP(H424,Database!$B$1:$E$4891,4,FALSE)","v":{"$error":"#N/A"}},true]
[420,null,null,null,null,null,null,null,{"$f":"IF(ISERROR(VLOOKUP(H425,Database!$B$1:$C$5908,2,FALSE)),\"\",VLOOKUP(H425,Database!$B$1:$C$5908,2,FALSE))","v":""},"",{"$error":"#N/A"},null,null,null,null,null,null,null,null,"",false,2,{"$f":"VLOOKUP(H425,Database!$B$1:$E$4891,4,FALSE)","v":{"$error":"#N/A"}},true]
[421,null,null,null,null,null,null,null,{"$f":"IF(ISERROR(VLOOKUP(H426,Database!$B$1:$C$5908,2,FALSE)),\"\",VLOOKUP(H426,Database!$B$1:$C$5908,2,FALSE))","v":""},"",{"$error":"#N/A"},null,null,null,null,null,null,null,null,"",false,2,{"$f":"VLOOKUP(H426,Database!$B$1:$E$4891,4,FALSE)","v":{"$error":"#N/A"}},true]
[422,null,null,null,null,null,null,null,{"$f":"IF(ISERROR(VLOOKUP(H427,Database!$B$1:$C$5908,2,FALSE)),\"\",VLOOKUP(H427,Database!$B$1:$C$5908,2,FALSE))","v":""},"",{"$error":"#N/A"},null,null,null,null,null,null,null,null,"",false,2,{"$f":"VLOOKUP(H427,Database!$B$1:$E$4891,4,FALSE)","v":{"$error":"#N/A"}},true]
[423,null,null,null,null,null,null,null,{"$f":"IF(ISERROR(VLOOKUP(H428,Database!$B$1:$C$5908,2,FALSE)),\"\",VLOOKUP(H428,Database!$B$1:$C$5908,2,FALSE))","v":""},"",{"$error":"#N/A"},null,null,null,null,null,null,null,null,"",false,2,{"$f":"VLOOKUP(H428,Database!$B$1:$E$4891,4,FALSE)","v":{"$error":"#N/A"}},true]
[424,null,null,null,null,null,null,null,{"$f":"IF(ISERROR(VLOOKUP(H429,Database!$B$1:$C$5908,2,FALSE)),\"\",VLOOKUP(H429,Database!$B$1:$C$5908,2,FALSE))","v":""},"",{"$error":"#N/A"},null,null,null,null,null,null,null,null,"",false,2,{"$f":"VLOOKUP(H429,Database!$B$1:$E$4891,4,FALSE)","v":{"$error":"#N/A"}},true]
[425,null,null,null,null,null,null,null,{"$f":"IF(ISERROR(VLOOKUP(H430,Database!$B$1:$C$5908,2,FALSE)),\"\",VLOOKUP(H430,Database!$B$1:$C$5908,2,FALSE))","v":""},"",{"$error":"#N/A"},null,null,null,null,null,null,null,null,"",false,2,{"$f":"VLOOKUP(H430,Database!$B$1:$E$4891,4,FALSE)","v":{"$error":"#N/A"}},true]
[426,null,null,null,null,null,null,null,{"$f":"IF(ISERROR(VLOOKUP(H431,Database!$B$1:$C$5908,2,FALSE)),\"\",VLOOKUP(H431,Database!$B$1:$C$5908,2,FALSE))","v":""},"",{"$error":"#N/A"},null,null,null,null,null,null,null,null,"",false,2,{"$f":"VLOOKUP(H431,Database!$B$1:$E$4891,4,FALSE)","v":{"$error":"#N/A"}},true]
[427,null,null,null,null,null,null,null,{"$f":"IF(ISERROR(VLOOKUP(H432,Database!$B$1:$C$5908,2,FALSE)),\"\",VLOOKUP(H432,Database!$B$1:$C$5908,2,FALSE))","v":""},"",{"$error":"#N/A"},null,null,null,null,null,null,null,null,"",false,2,{"$f":"VLOOKUP(H432,Database!$B$1:$E$4891,4,FALSE)","v":{"$error":"#N/A"}},true]
[428,null,null,null,null,null,null,null,{"$f":"IF(ISERROR(VLOOKUP(H433,Database!$B$1:$C$5908,2,FALSE)),\"\",VLOOKUP(H433,Database!$B$1:$C$5908,2,FALSE))","v":""},"",{"$error":"#N/A"},null,null,null,null,null,null,null,null,"",false,2,{"$f":"VLOOKUP(H433,Database!$B$1:$E$4891,4,FALSE)","v":{"$error":"#N/A"}},true]
[429,null,null,null,null,null,null,null,{"$f":"IF(ISERROR(VLOOKUP(H434,Database!$B$1:$C$5908,2,FALSE)),\"\",VLOOKUP(H434,Database!$B$1:$C$5908,2,FALSE))","v":""},"",{"$error":"#N/A"},null,null,null,null,null,null,null,null,"",false,2,{"$f":"VLOOKUP(H434,Database!$B$1:$E$4891,4,FALSE)","v":{"$error":"#N/A"}},true]
[430,null,null,null,null,null,null,null,{"$f":"IF(ISERROR(VLOOKUP(H435,Database!$B$1:$C$5908,2,FALSE)),\"\",VLOOKUP(H435,Database!$B$1:$C$5908,2,FALSE))","v":""},"",{"$error":"#N/A"},null,null,null,null,null,null,null,null,"",false,2,{"$f":"VLOOKUP(H435,Database!$B$1:$E$4891,4,FALSE)","v":{"$error":"#N/A"}},true]
[431,null,null,null,null,null,null,null,{"$f":"IF(ISERROR(VLOOKUP(H436,Database!$B$1:$C$5908,2,FALSE)),\"\",VLOOKUP(H436,Database!$B$1:$C$5908,2,FALSE))","v":""},"",{"$error":"#N/A"},null,null,null,null,null,null,null,null,"",false,2,{"$f":"VLOOKUP(H436,Database!$B$1:$E$4891,4,FALSE)","v":{"$error":"#N/A"}},true]
[432,null,null,null,null,null,null,null,{"$f":"IF(ISERROR(VLOOKUP(H437,Database!$B$1:$C$5908,2,FALSE)),\"\",VLOOKUP(H437,Database!$B$1:$C$5908,2,FALSE))","v":""},"",{"$error":"#N/A"},null,null,null,null,null,null,null,null,"",false,2,{"$f":"VLOOKUP(H437,Database!$B$1:$E$4891,4,FALSE)","v":{"$error":"#N/A"}},true]
[433,null,null,null,null,null,null,null,{"$f":"IF(ISERROR(VLOOKUP(H438,Database!$B$1:$C$5908,2,FALSE)),\"\",VLOOKUP(H438,Database!$B$1:$C$5908,2,FALSE))","v":""},"",{"$error":"#N/A"},null,null,null,null,null,null,null,null,"",false,2,{"$f":"VLOOKUP(H438,Database!$B$1:$E$4891,4,FALSE)","v":{"$error":"#N/A"}},true]
[434,null,null,null,null,null,null,null,{"$f":"IF(ISERROR(VLOOKUP(H439,Database!$B$1:$C$5908,2,FALSE)),\"\",VLOOKUP(H439,Database!$B$1:$C$5908,2,FALSE))","v":""},"",{"$error":"#N/A"},null,null,null,null,null,null,null,null,"",false,2,{"$f":"VLOOKUP(H439,Database!$B$1:$E$4891,4,FALSE)","v":{"$error":"#N/A"}},true]
[435,null,null,null,null,null,null,null,{"$f":"IF(ISERROR(VLOOKUP(H440,Database!$B$1:$C$5908,2,FALSE)),\"\",VLOOKUP(H440,Database!$B$1:$C$5908,2,FALSE))","v":""},"",{"$error":"#N/A"},null,null,null,null,null,null,null,null,"",false,2,{"$f":"VLOOKUP(H440,Database!$B$1:$E$4891,4,FALSE)","v":{"$error":"#N/A"}},true]
[436,null,null,null,null,null,null,null,{"$f":"IF(ISERROR(VLOOKUP(H441,Database!$B$1:$C$5908,2,FALSE)),\"\",VLOOKUP(H441,Database!$B$1:$C$5908,2,FALSE))","v":""},"",{"$error":"#N/A"},null,null,null,null,null,null,null,null,"",false,2,{"$f":"VLOOKUP(H441,Database!$B$1:$E$4891,4,FALSE)","v":{"$error":"#N/A"}},true]
[437,null,null,null,null,null,null,null,{"$f":"IF(ISERROR(VLOOKUP(H442,Database!$B$1:$C$5908,2,FALSE)),\"\",VLOOKUP(H442,Database!$B$1:$C$5908,2,FALSE))","v":""},"",{"$error":"#N/A"},null,null,null,null,null,null,null,null,"",false,2,{"$f":"VLOOKUP(H442,Database!$B$1:$E$4891,4,FALSE)","v":{"$error":"#N/A"}},true]
[438,null,null,null,null,null,null,null,{"$f":"IF(ISERROR(VLOOKUP(H443,Database!$B$1:$C$5908,2,FALSE)),\"\",VLOOKUP(H443,Database!$B$1:$C$5908,2,FALSE))","v":""},"",{"$error":"#N/A"},null,null,null,null,null,null,null,null,"",false,2,{"$f":"VLOOKUP(H443,Database!$B$1:$E$4891,4,FALSE)","v":{"$error":"#N/A"}},true]
[439,null,null,null,null,null,null,null,{"$f":"IF(ISERROR(VLOOKUP(H444,Database!$B$1:$C$5908,2,FALSE)),\"\",VLOOKUP(H444,Database!$B$1:$C$5908,2,FALSE))","v":""},"",{"$error":"#N/A"},null,null,null,null,null,null,null,null,"",false,2,{"$f":"VLOOKUP(H444,Database!$B$1:$E$4891,4,FALSE)","v":{"$error":"#N/A"}},true]
[440,null,null,null,null,null,null,null,{"$f":"IF(ISERROR(VLOOKUP(H445,Database!$B$1:$C$5908,2,FALSE)),\"\",VLOOKUP(H445,Database!$B$1:$C$5908,2,FALSE))","v":""},"",{"$error":"#N/A"},null,null,null,null,null,null,null,null,"",false,2,{"$f":"VLOOKUP(H445,Database!$B$1:$E$4891,4,FALSE)","v":{"$error":"#N/A"}},true]
[441,null,null,null,null,null,null,null,{"$f":"IF(ISERROR(VLOOKUP(H446,Database!$B$1:$C$5908,2,FALSE)),\"\",VLOOKUP(H446,Database!$B$1:$C$5908,2,FALSE))","v":""},"",{"$error":"#N/A"},null,null,null,null,null,null,null,null,"",false,2,{"$f":"VLOOKUP(H446,Database!$B$1:$E$4891,4,FALSE)","v":{"$error":"#N/A"}},true]
[442,null,null,null,null,null,null,null,{"$f":"IF(ISERROR(VLOOKUP(H447,Database!$B$1:$C$5908,2,FALSE)),\"\",VLOOKUP(H447,Database!$B$1:$C$5908,2,FALSE))","v":""},"",{"$error":"#N/A"},null,null,null,null,null,null,null,null,"",false,2,{"$f":"VLOOKUP(H447,Database!$B$1:$E$4891,4,FALSE)","v":{"$error":"#N/A"}},true]
[443,null,null,null,null,null,null,null,{"$f":"IF(ISERROR(VLOOKUP(H448,Database!$B$1:$C$5908,2,FALSE)),\"\",VLOOKUP(H448,Database!$B$1:$C$5908,2,FALSE))","v":""},"",{"$error":"#N/A"},null,null,null,null,null,null,null,null,"",false,2,{"$f":"VLOOKUP(H448,Database!$B$1:$E$4891,4,FALSE)","v":{"$error":"#N/A"}},true]
[444,null,null,null,null,null,null,null,{"$f":"IF(ISERROR(VLOOKUP(H449,Database!$B$1:$C$5908,2,FALSE)),\"\",VLOOKUP(H449,Database!$B$1:$C$5908,2,FALSE))","v":""},"",{"$error":"#N/A"},null,null,null,null,null,null,null,null,"",false,2,{"$f":"VLOOKUP(H449,Database!$B$1:$E$4891,4,FALSE)","v":{"$error":"#N/A"}},true]
[445,null,null,null,null,null,null,null,{"$f":"IF(ISERROR(VLOOKUP(H450,Database!$B$1:$C$5908,2,FALSE)),\"\",VLOOKUP(H450,Database!$B$1:$C$5908,2,FALSE))","v":""},"",{"$error":"#N/A"},null,null,null,null,null,null,null,null,"",false,2,{"$f":"VLOOKUP(H450,Database!$B$1:$E$4891,4,FALSE)","v":{"$error":"#N/A"}},true]
[446,null,null,null,null,null,null,null,{"$f":"IF(ISERROR(VLOOKUP(H451,Database!$B$1:$C$5908,2,FALSE)),\"\",VLOOKUP(H451,Database!$B$1:$C$5908,2,FALSE))","v":""},"",{"$error":"#N/A"},null,null,null,null,null,null,null,null,"",false,2,{"$f":"VLOOKUP(H451,Database!$B$1:$E$4891,4,FALSE)","v":{"$error":"#N/A"}},true]
[447,null,null,null,null,null,null,null,{"$f":"IF(ISERROR(VLOOKUP(H452,Database!$B$1:$C$5908,2,FALSE)),\"\",VLOOKUP(H452,Database!$B$1:$C$5908,2,FALSE))","v":""},"",{"$error":"#N/A"},null,null,null,null,null,null,null,null,"",false,2,{"$f":"VLOOKUP(H452,Database!$B$1:$E$4891,4,FALSE)","v":{"$error":"#N/A"}},true]
[448,null,null,null,null,null,null,null,{"$f":"IF(ISERROR(VLOOKUP(H453,Database!$B$1:$C$5908,2,FALSE)),\"\",VLOOKUP(H453,Database!$B$1:$C$5908,2,FALSE))","v":""},"",{"$error":"#N/A"},null,null,null,null,null,null,null,null,"",false,2,{"$f":"VLOOKUP(H453,Database!$B$1:$E$4891,4,FALSE)","v":{"$error":"#N/A"}},true]
[449,null,null,null,null,null,null,null,{"$f":"IF(ISERROR(VLOOKUP(H454,Database!$B$1:$C$5908,2,FALSE)),\"\",VLOOKUP(H454,Database!$B$1:$C$5908,2,FALSE))","v":""},"",{"$error":"#N/A"},null,null,null,null,null,null,null,null,"",false,2,{"$f":"VLOOKUP(H454,Database!$B$1:$E$4891,4,FALSE)","v":{"$error":"#N/A"}},true]
[{"$f":"A454+1","v":450},null,null,null,null,null,null,null,{"$f":"IF(ISERROR(VLOOKUP(H455,Database!$B$1:$C$5908,2,FALSE)),\"\",VLOOKUP(H455,Database!$B$1:$C$5908,2,FALSE))","v":""},{"$f":"IF(V455=1,1,IF(AND(T455=0,F455=\"SSB\",V455<>\"\"),2,IF(AND(T455=0,F455=\"FM\",V455<>\"\"),2,IF(AND(T455=0,F455=\"DIGI\",V455<>\"\"),3,IF(AND(T455=0,F455=\"CW\",V455<>\"\"),5,IF(H455=\"-\",\"\",T455))))))","v":""},{"$f":"IF(H455=\"-\",\"\",IF(AND(H455<>\"\",X455=TRUE),\"INDIPENDENT\",IF(W455=0,\"SCRIVI NOME NELLE NOTE\",W455)))","v":{"$error":"#N/A"}},null,null,null,null,null,null,null,null,{"$f":"IF(H455=\"\",\"\",IF(H455=$R$6,25,IF(OR(H455=$R$7,H455=$R$8,H455=$R$9,H455=$R$10,H455=$R$11,H455=$R$12,H455=$R$13,H455=$R$14,H455=$R$15,H455=$R$16,H455=$R$17,H455=$R$18,H455=$R$19,H455=$R$20,H455=$R$21,H455=$R$22,H455=$R$23),15,0)))","v":""},{"$f":"ISERROR(I455)","v":false},2,{"$f":"VLOOKUP(H455,Database!$B$1:$E$4891,4,FALSE)","v":{"$error":"#N/A"}},{"$f":"ISERROR(W455)","v":true}]
[451,null,null,null,null,null,null,null,{"$f":"IF(ISERROR(VLOOKUP(H456,Database!$B$1:$C$5908,2,FALSE)),\"\",VLOOKUP(H456,Database!$B$1:$C$5908,2,FALSE))","v":""},"",{"$error":"#N/A"},null,null,null,null,null,null,null,null,"",false,{"$f":"IF(H456=\"-\",\"\",IF(AND(T456=0,U456=FALSE,I456=\"\"),1,2))","v":2},{"$f":"VLOOKUP(H456,Database!$B$1:$E$4891,4,FALSE)","v":{"$error":"#N/A"}},true]
[452,null,null,null,null,null,null,null,{"$f":"IF(ISERROR(VLOOKUP(H457,Database!$B$1:$C$5908,2,FALSE)),\"\",VLOOKUP(H457,Database!$B$1:$C$5908,2,FALSE))","v":""},"",{"$error":"#N/A"},null,null,null,null,null,null,null,null,"",false,2,{"$f":"VLOOKUP(H457,Database!$B$1:$E$4891,4,FALSE)","v":{"$error":"#N/A"}},true]
[453,null,null,null,null,null,null,null,{"$f":"IF(ISERROR(VLOOKUP(H458,Database!$B$1:$C$5908,2,FALSE)),\"\",VLOOKUP(H458,Database!$B$1:$C$5908,2,FALSE))","v":""},"",{"$error":"#N/A"},null,null,null,null,null,null,null,null,"",false,2,{"$f":"VLOOKUP(H458,Database!$B$1:$E$4891,4,FALSE)","v":{"$error":"#N/A"}},true]
[454,null,null,null,null,null,null,null,{"$f":"IF(ISERROR(VLOOKUP(H459,Database!$B$1:$C$5908,2,FALSE)),\"\",VLOOKUP(H459,Database!$B$1:$C$5908,2,FALSE))","v":""},"",{"$error":"#N/A"},null,null,null,null,null,null,null,null,"",false,2,{"$f":"VLOOKUP(H459,Database!$B$1:$E$4891,4,FALSE)","v":{"$error":"#N/A"}},true]
[455,null,null,null,null,null,null,null,{"$f":"IF(ISERROR(VLOOKUP(H460,Database!$B$1:$C$5908,2,FALSE)),\"\",VLOOKUP(H460,Database!$B$1:$C$5908,2,FALSE))","v":""},"",{"$error":"#N/A"},null,null,null,null,null,null,null,null,"",false,2,{"$f":"VLOOKUP(H460,Database!$B$1:$E$4891,4,FALSE)","v":{"$error":"#N/A"}},true]
[456,null,null,null,null,null,null,null,{"$f":"IF(ISERROR(VLOOKUP(H461,Database!$B$1:$C$5908,2,FALSE)),\"\",VLOOKUP(H461,Database!$B$1:$C$5908,2,FALSE))","v":""},"",{"$error":"#N/A"},null,null,null,null,null,null,null,null,"",false,2,{"$f":"VLOOKUP(H461,Database!$B$1:$E$4891,4,FALSE)","v":{"$error":"#N/A"}},true]
[457,null,null,null,null,null,null,null,{"$f":"IF(ISERROR(VLOOKUP(H462,Database!$B$1:$C$5908,2,FALSE)),\"\",VLOOKUP(H462,Database!$B$1:$C$5908,2,FALSE))","v":""},"",{"$error":"#N/A"},null,null,null,null,null,null,null,null,"",false,2,{"$f":"VLOOKUP(H462,Database!$B$1:$E$4891,4,FALSE)","v":{"$error":"#N/A"}},true]
[458,null,null,null,null,null,null,null,{"$f":"IF(ISERROR(VLOOKUP(H463,Database!$B$1:$C$5908,2,FALSE)),\"\",VLOOKUP(H463,Database!$B$1:$C$5908,2,FALSE))","v":""},"",{"$error":"#N/A"},null,null,null,null,null,null,null,null,"",false,2,{"$f":"VLOOKUP(H463,Database!$B$1:$E$4891,4,FALSE)","v":{"$error":"#N/A"}},true]
[459,null,null,null,null,null,null,null,{"$f":"IF(ISERROR(VLOOKUP(H464,Database!$B$1:$C$5908,2,FALSE)),\"\",VLOOKUP(H464,Database!$B$1:$C$5908,2,FALSE))","v":""},"",{"$error":"#N/A"},null,null,null,null,null,null,null,null,"",false,2,{"$f":"VLOOKUP(H464,Database!$B$1:$E$4891,4,FALSE)","v":{"$error":"#N/A"}},true]
[460,null,null,null,null,null,null,null,{"$f":"IF(ISERROR(VLOOKUP(H465,Database!$B$1:$C$5908,2,FALSE)),\"\",VLOOKUP(H465,Database!$B$1:$C$5908,2,FALSE))","v":""},"",{"$error":"#N/A"},null,null,null,null,null,null,null,null,"",false,2,{"$f":"VLOOKUP(H465,Database!$B$1:$E$4891,4,FALSE)","v":{"$error":"#N/A"}},true]
[461,null,null,null,null,null,null,null,{"$f":"IF(ISERROR(VLOOKUP(H466,Database!$B$1:$C$5908,2,FALSE)),\"\",VLOOKUP(H466,Database!$B$1:$C$5908,2,FALSE))","v":""},"",{"$error":"#N/A"},null,null,null,null,null,null,null,null,"",false,2,{"$f":"VLOOKUP(H466,Database!$B$1:$E$4891,4,FALSE)","v":{"$error":"#N/A"}},true]
[462,null,null,null,null,null,null,null,{"$f":"IF(ISERROR(VLOOKUP(H467,Database!$B$1:$C$5908,2,FALSE)),\"\",VLOOKUP(H467,Database!$B$1:$C$5908,2,FALSE))","v":""},"",{"$error":"#N/A"},null,null,null,null,null,null,null,null,"",false,2,{"$f":"VLOOKUP(H467,Database!$B$1:$E$4891,4,FALSE)","v":{"$error":"#N/A"}},true]
[463,null,null,null,null,null,null,null,{"$f":"IF(ISERROR(VLOOKUP(H468,Database!$B$1:$C$5908,2,FALSE)),\"\",VLOOKUP(H468,Database!$B$1:$C$5908,2,FALSE))","v":""},"",{"$error":"#N/A"},null,null,null,null,null,null,null,null,"",false,2,{"$f":"VLOOKUP(H468,Database!$B$1:$E$4891,4,FALSE)","v":{"$error":"#N/A"}},true]
[464,null,null,null,null,null,null,null,{"$f":"IF(ISERROR(VLOOKUP(H469,Database!$B$1:$C$5908,2,FALSE)),\"\",VLOOKUP(H469,Database!$B$1:$C$5908,2,FALSE))","v":""},"",{"$error":"#N/A"},null,null,null,null,null,null,null,null,"",false,2,{"$f":"VLOOKUP(H469,Database!$B$1:$E$4891,4,FALSE)","v":{"$error":"#N/A"}},true]
[465,null,null,null,null,null,null,null,{"$f":"IF(ISERROR(VLOOKUP(H470,Database!$B$1:$C$5908,2,FALSE)),\"\",VLOOKUP(H470,Database!$B$1:$C$5908,2,FALSE))","v":""},"",{"$error":"#N/A"},null,null,null,null,null,null,null,null,"",false,2,{"$f":"VLOOKUP(H470,Database!$B$1:$E$4891,4,FALSE)","v":{"$error":"#N/A"}},true]
[466,null,null,null,null,null,null,null,{"$f":"IF(ISERROR(VLOOKUP(H471,Database!$B$1:$C$5908,2,FALSE)),\"\",VLOOKUP(H471,Database!$B$1:$C$5908,2,FALSE))","v":""},"",{"$error":"#N/A"},null,null,null,null,null,null,null,null,"",false,2,{"$f":"VLOOKUP(H471,Database!$B$1:$E$4891,4,FALSE)","v":{"$error":"#N/A"}},true]
[467,null,null,null,null,null,null,null,{"$f":"IF(ISERROR(VLOOKUP(H472,Database!$B$1:$C$5908,2,FALSE)),\"\",VLOOKUP(H472,Database!$B$1:$C$5908,2,FALSE))","v":""},"",{"$error":"#N/A"},null,null,null,null,null,null,null,null,"",false,2,{"$f":"VLOOKUP(H472,Database!$B$1:$E$4891,4,FALSE)","v":{"$error":"#N/A"}},true]
[468,null,null,null,null,null,null,null,{"$f":"IF(ISERROR(VLOOKUP(H473,Database!$B$1:$C$5908,2,FALSE)),\"\",VLOOKUP(H473,Database!$B$1:$C$5908,2,FALSE))","v":""},"",{"$error":"#N/A"},null,null,null,null,null,null,null,null,"",false,2,{"$f":"VLOOKUP(H473,Database!$B$1:$E$4891,4,FALSE)","v":{"$error":"#N/A"}},true]
[469,null,null,null,null,null,null,null,{"$f":"IF(ISERROR(VLOOKUP(H474,Database!$B$1:$C$5908,2,FALSE)),\"\",VLOOKUP(H474,Database!$B$1:$C$5908,2,FALSE))","v":""},"",{"$error":"#N/A"},null,null,null,null,null,null,null,null,"",false,2,{"$f":"VLOOKUP(H474,Database!$B$1:$E$4891,4,FALSE)","v":{"$error":"#N/A"}},true]
[470,null,null,null,null,null,null,null,{"$f":"IF(ISERROR(VLOOKUP(H475,Database!$B$1:$C$5908,2,FALSE)),\"\",VLOOKUP(H475,Database!$B$1:$C$5908,2,FALSE))","v":""},"",{"$error":"#N/A"},null,null,null,null,null,null,null,null,"",false,2,{"$f":"VLOOKUP(H475,Database!$B$1:$E$4891,4,FALSE)","v":{"$error":"#N/A"}},true]
[471,null,null,null,null,null,null,null,{"$f":"IF(ISERROR(VLOOKUP(H476,Database!$B$1:$C$5908,2,FALSE)),\"\",VLOOKUP(H476,Database!$B$1:$C$5908,2,FALSE))","v":""},"",{"$error":"#N/A"},null,null,null,null,null,null,null,null,"",false,2,{"$f":"VLOOKUP(H476,Database!$B$1:$E$4891,4,FALSE)","v":{"$error":"#N/A"}},true]
[472,null,null,null,null,null,null,null,{"$f":"IF(ISERROR(VLOOKUP(H477,Database!$B$1:$C$5908,2,FALSE)),\"\",VLOOKUP(H477,Database!$B$1:$C$5908,2,FALSE))","v":""},"",{"$error":"#N/A"},null,null,null,null,null,null,null,null,"",false,2,{"$f":"VLOOKUP(H477,Database!$B$1:$E$4891,4,FALSE)","v":{"$error":"#N/A"}},true]
[473,null,null,null,null,null,null,null,{"$f":"IF(ISERROR(VLOOKUP(H478,Database!$B$1:$C$5908,2,FALSE)),\"\",VLOOKUP(H478,Database!$B$1:$C$5908,2,FALSE))","v":""},"",{"$error":"#N/A"},null,null,null,null,null,null,null,null,"",false,2,{"$f":"VLOOKUP(H478,Database!$B$1:$E$4891,4,FALSE)","v":{"$error":"#N/A"}},true]
[474,null,null,null,null,null,null,null,{"$f":"IF(ISERROR(VLOOKUP(H479,Database!$B$1:$C$5908,2,FALSE)),\"\",VLOOKUP(H479,Database!$B$1:$C$5908,2,FALSE))","v":""},"",{"$error":"#N/A"},null,null,null,null,null,null,null,null,"",false,2,{"$f":"VLOOKUP(H479,Database!$B$1:$E$4891,4,FALSE)","v":{"$error":"#N/A"}},true]
[475,null,null,null,null,null,null,null,{"$f":"IF(ISERROR(VLOOKUP(H480,Database!$B$1:$C$5908,2,FALSE)),\"\",VLOOKUP(H480,Database!$B$1:$C$5908,2,FALSE))","v":""},"",{"$error":"#N/A"},null,null,null,null,null,null,null,null,"",false,2,{"$f":"VLOOKUP(H480,Database!$B$1:$E$4891,4,FALSE)","v":{"$error":"#N/A"}},true]
[476,null,null,null,null,null,null,null,{"$f":"IF(ISERROR(VLOOKUP(H481,Database!$B$1:$C$5908,2,FALSE)),\"\",VLOOKUP(H481,Database!$B$1:$C$5908,2,FALSE))","v":""},"",{"$error":"#N/A"},null,null,null,null,null,null,null,null,"",false,2,{"$f":"VLOOKUP(H481,Database!$B$1:$E$4891,4,FALSE)","v":{"$error":"#N/A"}},true]
[477,null,null,null,null,null,null,null,{"$f":"IF(ISERROR(VLOOKUP(H482,Database!$B$1:$C$5908,2,FALSE)),\"\",VLOOKUP(H482,Database!$B$1:$C$5908,2,FALSE))","v":""},"",{"$error":"#N/A"},null,null,null,null,null,null,null,null,"",false,2,{"$f":"VLOOKUP(H482,Database!$B$1:$E$4891,4,FALSE)","v":{"$error":"#N/A"}},true]
[478,null,null,null,null,null,null,null,{"$f":"IF(ISERROR(VLOOKUP(H483,Database!$B$1:$C$5908,2,FALSE)),\"\",VLOOKUP(H483,Database!$B$1:$C$5908,2,FALSE))","v":""},"",{"$error":"#N/A"},null,null,null,null,null,null,null,null,"",false,2,{"$f":"VLOOKUP(H483,Database!$B$1:$E$4891,4,FALSE)","v":{"$error":"#N/A"}},true]
[479,null,null,null,null,null,null,null,{"$f":"IF(ISERROR(VLOOKUP(H484,Database!$B$1:$C$5908,2,FALSE)),\"\",VLOOKUP(H484,Database!$B$1:$C$5908,2,FALSE))","v":""},"",{"$error":"#N/A"},null,null,null,null,null,null,null,null,"",false,2,{"$f":"VLOOKUP(H484,Database!$B$1:$E$4891,4,FALSE)","v":{"$error":"#N/A"}},true]
[480,null,null,null,null,null,null,null,{"$f":"IF(ISERROR(VLOOKUP(H485,Database!$B$1:$C$5908,2,FALSE)),\"\",VLOOKUP(H485,Database!$B$1:$C$5908,2,FALSE))","v":""},"",{"$error":"#N/A"},null,null,null,null,null,null,null,null,"",false,2,{"$f":"VLOOKUP(H485,Database!$B$1:$E$4891,4,FALSE)","v":{"$error":"#N/A"}},true]
[481,null,null,null,null,null,null,null,{"$f":"IF(ISERROR(VLOOKUP(H486,Database!$B$1:$C$5908,2,FALSE)),\"\",VLOOKUP(H486,Database!$B$1:$C$5908,2,FALSE))","v":""},"",{"$error":"#N/A"},null,null,null,null,null,null,null,null,"",false,2,{"$f":"VLOOKUP(H486,Database!$B$1:$E$4891,4,FALSE)","v":{"$error":"#N/A"}},true]
[482,null,null,null,null,null,null,null,{"$f":"IF(ISERROR(VLOOKUP(H487,Database!$B$1:$C$5908,2,FALSE)),\"\",VLOOKUP(H487,Database!$B$1:$C$5908,2,FALSE))","v":""},"",{"$error":"#N/A"},null,null,null,null,null,null,null,null,"",false,2,{"$f":"VLOOKUP(H487,Database!$B$1:$E$4891,4,FALSE)","v":{"$error":"#N/A"}},true]
[483,null,null,null,null,null,null,null,{"$f":"IF(ISERROR(VLOOKUP(H488,Database!$B$1:$C$5908,2,FALSE)),\"\",VLOOKUP(H488,Database!$B$1:$C$5908,2,FALSE))","v":""},"",{"$error":"#N/A"},null,null,null,null,null,null,null,null,"",false,2,{"$f":"VLOOKUP(H488,Database!$B$1:$E$4891,4,FALSE)","v":{"$error":"#N/A"}},true]
[484,null,null,null,null,null,null,null,{"$f":"IF(ISERROR(VLOOKUP(H489,Database!$B$1:$C$5908,2,FALSE)),\"\",VLOOKUP(H489,Database!$B$1:$C$5908,2,FALSE))","v":""},"",{"$error":"#N/A"},null,null,null,null,null,null,null,null,"",false,2,{"$f":"VLOOKUP(H489,Database!$B$1:$E$4891,4,FALSE)","v":{"$error":"#N/A"}},true]
[485,null,null,null,null,null,null,null,{"$f":"IF(ISERROR(VLOOKUP(H490,Database!$B$1:$C$5908,2,FALSE)),\"\",VLOOKUP(H490,Database!$B$1:$C$5908,2,FALSE))","v":""},"",{"$error":"#N/A"},null,null,null,null,null,null,null,null,"",false,2,{"$f":"VLOOKUP(H490,Database!$B$1:$E$4891,4,FALSE)","v":{"$error":"#N/A"}},true]
[486,null,null,null,null,null,null,null,{"$f":"IF(ISERROR(VLOOKUP(H491,Database!$B$1:$C$5908,2,FALSE)),\"\",VLOOKUP(H491,Database!$B$1:$C$5908,2,FALSE))","v":""},"",{"$error":"#N/A"},null,null,null,null,null,null,null,null,"",false,2,{"$f":"VLOOKUP(H491,Database!$B$1:$E$4891,4,FALSE)","v":{"$error":"#N/A"}},true]
[487,null,null,null,null,null,null,null,{"$f":"IF(ISERROR(VLOOKUP(H492,Database!$B$1:$C$5908,2,FALSE)),\"\",VLOOKUP(H492,Database!$B$1:$C$5908,2,FALSE))","v":""},"",{"$error":"#N/A"},null,null,null,null,null,null,null,null,"",false,2,{"$f":"VLOOKUP(H492,Database!$B$1:$E$4891,4,FALSE)","v":{"$error":"#N/A"}},true]
[488,null,null,null,null,null,null,null,{"$f":"IF(ISERROR(VLOOKUP(H493,Database!$B$1:$C$5908,2,FALSE)),\"\",VLOOKUP(H493,Database!$B$1:$C$5908,2,FALSE))","v":""},"",{"$error":"#N/A"},null,null,null,null,null,null,null,null,"",false,2,{"$f":"VLOOKUP(H493,Database!$B$1:$E$4891,4,FALSE)","v":{"$error":"#N/A"}},true]
[489,null,null,null,null,null,null,null,{"$f":"IF(ISERROR(VLOOKUP(H494,Database!$B$1:$C$5908,2,FALSE)),\"\",VLOOKUP(H494,Database!$B$1:$C$5908,2,FALSE))","v":""},"",{"$error":"#N/A"},null,null,null,null,null,null,null,null,"",false,2,{"$f":"VLOOKUP(H494,Database!$B$1:$E$4891,4,FALSE)","v":{"$error":"#N/A"}},true]
[490,null,null,null,null,null,null,null,{"$f":"IF(ISERROR(VLOOKUP(H495,Database!$B$1:$C$5908,2,FALSE)),\"\",VLOOKUP(H495,Database!$B$1:$C$5908,2,FALSE))","v":""},"",{"$error":"#N/A"},null,null,null,null,null,null,null,null,"",false,2,{"$f":"VLOOKUP(H495,Database!$B$1:$E$4891,4,FALSE)","v":{"$error":"#N/A"}},true]
[491,null,null,null,null,null,null,null,{"$f":"IF(ISERROR(VLOOKUP(H496,Database!$B$1:$C$5908,2,FALSE)),\"\",VLOOKUP(H496,Database!$B$1:$C$5908,2,FALSE))","v":""},"",{"$error":"#N/A"},null,null,null,null,null,null,null,null,"",false,2,{"$f":"VLOOKUP(H496,Database!$B$1:$E$4891,4,FALSE)","v":{"$error":"#N/A"}},true]
[492,null,null,null,null,null,null,null,{"$f":"IF(ISERROR(VLOOKUP(H497,Database!$B$1:$C$5908,2,FALSE)),\"\",VLOOKUP(H497,Database!$B$1:$C$5908,2,FALSE))","v":""},"",{"$error":"#N/A"},null,null,null,null,null,null,null,null,"",false,2,{"$f":"VLOOKUP(H497,Database!$B$1:$E$4891,4,FALSE)","v":{"$error":"#N/A"}},true]
[493,null,null,null,null,null,null,null,{"$f":"IF(ISERROR(VLOOKUP(H498,Database!$B$1:$C$5908,2,FALSE)),\"\",VLOOKUP(H498,Database!$B$1:$C$5908,2,FALSE))","v":""},"",{"$error":"#N/A"},null,null,null,null,null,null,null,null,"",false,2,{"$f":"VLOOKUP(H498,Database!$B$1:$E$4891,4,FALSE)","v":{"$error":"#N/A"}},true]
[494,null,null,null,null,null,null,null,{"$f":"IF(ISERROR(VLOOKUP(H499,Database!$B$1:$C$5908,2,FALSE)),\"\",VLOOKUP(H499,Database!$B$1:$C$5908,2,FALSE))","v":""},"",{"$error":"#N/A"},null,null,null,null,null,null,null,null,"",false,2,{"$f":"VLOOKUP(H499,Database!$B$1:$E$4891,4,FALSE)","v":{"$error":"#N/A"}},true]
[495,null,null,null,null,null,null,null,{"$f":"IF(ISERROR(VLOOKUP(H500,Database!$B$1:$C$5908,2,FALSE)),\"\",VLOOKUP(H500,Database!$B$1:$C$5908,2,FALSE))","v":""},"",{"$error":"#N/A"},null,null,null,null,null,null,null,null,"",false,2,{"$f":"VLOOKUP(H500,Database!$B$1:$E$4891,4,FALSE)","v":{"$error":"#N/A"}},true]
[496,null,null,null,null,null,null,null,{"$f":"IF(ISERROR(VLOOKUP(H501,Database!$B$1:$C$5908,2,FALSE)),\"\",VLOOKUP(H501,Database!$B$1:$C$5908,2,FALSE))","v":""},"",{"$error":"#N/A"},null,null,null,null,null,null,null,null,"",false,2,{"$f":"VLOOKUP(H501,Database!$B$1:$E$4891,4,FALSE)","v":{"$error":"#N/A"}},true]
[497,null,null,null,null,null,null,null,{"$f":"IF(ISERROR(VLOOKUP(H502,Database!$B$1:$C$5908,2,FALSE)),\"\",VLOOKUP(H502,Database!$B$1:$C$5908,2,FALSE))","v":""},"",{"$error":"#N/A"},null,null,null,null,null,null,null,null,"",false,2,{"$f":"VLOOKUP(H502,Database!$B$1:$E$4891,4,FALSE)","v":{"$error":"#N/A"}},true]
[498,null,null,null,null,null,null,null,{"$f":"IF(ISERROR(VLOOKUP(H503,Database!$B$1:$C$5908,2,FALSE)),\"\",VLOOKUP(H503,Database!$B$1:$C$5908,2,FALSE))","v":""},"",{"$error":"#N/A"},null,null,null,null,null,null,null,null,"",false,2,{"$f":"VLOOKUP(H503,Database!$B$1:$E$4891,4,FALSE)","v":{"$error":"#N/A"}},true]
[499,null,null,null,null,null,null,null,{"$f":"IF(ISERROR(VLOOKUP(H504,Database!$B$1:$C$5908,2,FALSE)),\"\",VLOOKUP(H504,Database!$B$1:$C$5908,2,FALSE))","v":""},"",{"$error":"#N/A"},null,null,null,null,null,null,null,null,"",false,2,{"$f":"VLOOKUP(H504,Database!$B$1:$E$4891,4,FALSE)","v":{"$error":"#N/A"}},true]
[500,null,null,null,null,null,null,null,{"$f":"IF(ISERROR(VLOOKUP(H505,Database!$B$1:$C$5908,2,FALSE)),\"\",VLOOKUP(H505,Database!$B$1:$C$5908,2,FALSE))","v":""},"",{"$error":"#N/A"},null,null,null,null,null,null,null,null,"",false,2,{"$f":"VLOOKUP(H505,Database!$B$1:$E$4891,4,FALSE)","v":{"$error":"#N/A"}},true]
[501,null,null,null,null,null,null,null,{"$f":"IF(ISERROR(VLOOKUP(H506,Database!$B$1:$C$5908,2,FALSE)),\"\",VLOOKUP(H506,Database!$B$1:$C$5908,2,FALSE))","v":""},"",{"$error":"#N/A"},null,null,null,null,null,null,null,null,"",false,2,{"$f":"VLOOKUP(H506,Database!$B$1:$E$4891,4,FALSE)","v":{"$error":"#N/A"}},true]
[502,null,null,null,null,null,null,null,{"$f":"IF(ISERROR(VLOOKUP(H507,Database!$B$1:$C$5908,2,FALSE)),\"\",VLOOKUP(H507,Database!$B$1:$C$5908,2,FALSE))","v":""},"",{"$error":"#N/A"},null,null,null,null,null,null,null,null,"",false,2,{"$f":"VLOOKUP(H507,Database!$B$1:$E$4891,4,FALSE)","v":{"$error":"#N/A"}},true]
[503,null,null,null,null,null,null,null,{"$f":"IF(ISERROR(VLOOKUP(H508,Database!$B$1:$C$5908,2,FALSE)),\"\",VLOOKUP(H508,Database!$B$1:$C$5908,2,FALSE))","v":""},"",{"$error":"#N/A"},null,null,null,null,null,null,null,null,"",false,2,{"$f":"VLOOKUP(H508,Database!$B$1:$E$4891,4,FALSE)","v":{"$error":"#N/A"}},true]
[504,null,null,null,null,null,null,null,{"$f":"IF(ISERROR(VLOOKUP(H509,Database!$B$1:$C$5908,2,FALSE)),\"\",VLOOKUP(H509,Database!$B$1:$C$5908,2,FALSE))","v":""},"",{"$error":"#N/A"},null,null,null,null,null,null,null,null,"",false,2,{"$f":"VLOOKUP(H509,Database!$B$1:$E$4891,4,FALSE)","v":{"$error":"#N/A"}},true]
[505,null,null,null,null,null,null,null,{"$f":"IF(ISERROR(VLOOKUP(H510,Database!$B$1:$C$5908,2,FALSE)),\"\",VLOOKUP(H510,Database!$B$1:$C$5908,2,FALSE))","v":""},"",{"$error":"#N/A"},null,null,null,null,null,null,null,null,"",false,2,{"$f":"VLOOKUP(H510,Database!$B$1:$E$4891,4,FALSE)","v":{"$error":"#N/A"}},true]
[506,null,null,null,null,null,null,null,{"$f":"IF(ISERROR(VLOOKUP(H511,Database!$B$1:$C$5908,2,FALSE)),\"\",VLOOKUP(H511,Database!$B$1:$C$5908,2,FALSE))","v":""},"",{"$error":"#N/A"},null,null,null,null,null,null,null,null,"",false,2,{"$f":"VLOOKUP(H511,Database!$B$1:$E$4891,4,FALSE)","v":{"$error":"#N/A"}},true]
[507,null,null,null,null,null,null,null,{"$f":"IF(ISERROR(VLOOKUP(H512,Database!$B$1:$C$5908,2,FALSE)),\"\",VLOOKUP(H512,Database!$B$1:$C$5908,2,FALSE))","v":""},"",{"$error":"#N/A"},null,null,null,null,null,null,null,null,"",false,2,{"$f":"VLOOKUP(H512,Database!$B$1:$E$4891,4,FALSE)","v":{"$error":"#N/A"}},true]
[508,null,null,null,null,null,null,null,{"$f":"IF(ISERROR(VLOOKUP(H513,Database!$B$1:$C$5908,2,FALSE)),\"\",VLOOKUP(H513,Database!$B$1:$C$5908,2,FALSE))","v":""},"",{"$error":"#N/A"},null,null,null,null,null,null,null,null,"",false,2,{"$f":"VLOOKUP(H513,Database!$B$1:$E$4891,4,FALSE)","v":{"$error":"#N/A"}},true]
[509,null,null,null,null,null,null,null,{"$f":"IF(ISERROR(VLOOKUP(H514,Database!$B$1:$C$5908,2,FALSE)),\"\",VLOOKUP(H514,Database!$B$1:$C$5908,2,FALSE))","v":""},"",{"$error":"#N/A"},null,null,null,null,null,null,null,null,"",false,2,{"$f":"VLOOKUP(H514,Database!$B$1:$E$4891,4,FALSE)","v":{"$error":"#N/A"}},true]
[510,null,null,null,null,null,null,null,{"$f":"IF(ISERROR(VLOOKUP(H515,Database!$B$1:$C$5908,2,FALSE)),\"\",VLOOKUP(H515,Database!$B$1:$C$5908,2,FALSE))","v":""},"",{"$error":"#N/A"},null,null,null,null,null,null,null,null,"",false,2,{"$f":"VLOOKUP(H515,Database!$B$1:$E$4891,4,FALSE)","v":{"$error":"#N/A"}},true]
[511,null,null,null,null,null,null,null,{"$f":"IF(ISERROR(VLOOKUP(H516,Database!$B$1:$C$5908,2,FALSE)),\"\",VLOOKUP(H516,Database!$B$1:$C$5908,2,FALSE))","v":""},"",{"$error":"#N/A"},null,null,null,null,null,null,null,null,"",false,2,{"$f":"VLOOKUP(H516,Database!$B$1:$E$4891,4,FALSE)","v":{"$error":"#N/A"}},true]
[512,null,null,null,null,null,null,null,{"$f":"IF(ISERROR(VLOOKUP(H517,Database!$B$1:$C$5908,2,FALSE)),\"\",VLOOKUP(H517,Database!$B$1:$C$5908,2,FALSE))","v":""},"",{"$error":"#N/A"},null,null,null,null,null,null,null,null,"",false,2,{"$f":"VLOOKUP(H517,Database!$B$1:$E$4891,4,FALSE)","v":{"$error":"#N/A"}},true]
[513,null,null,null,null,null,null,null,{"$f":"IF(ISERROR(VLOOKUP(H518,Database!$B$1:$C$5908,2,FALSE)),\"\",VLOOKUP(H518,Database!$B$1:$C$5908,2,FALSE))","v":""},"",{"$error":"#N/A"},null,null,null,null,null,null,null,null,"",false,2,{"$f":"VLOOKUP(H518,Database!$B$1:$E$4891,4,FALSE)","v":{"$error":"#N/A"}},true]
[{"$f":"A518+1","v":514},null,null,null,null,null,null,null,{"$f":"IF(ISERROR(VLOOKUP(H519,Database!$B$1:$C$5908,2,FALSE)),\"\",VLOOKUP(H519,Database!$B$1:$C$5908,2,FALSE))","v":""},{"$f":"IF(V519=1,1,IF(AND(T519=0,F519=\"SSB\",V519<>\"\"),2,IF(AND(T519=0,F519=\"FM\",V519<>\"\"),2,IF(AND(T519=0,F519=\"DIGI\",V519<>\"\"),3,IF(AND(T519=0,F519=\"CW\",V519<>\"\"),5,IF(H519=\"-\",\"\",T519))))))","v":""},{"$f":"IF(H519=\"-\",\"\",IF(AND(H519<>\"\",X519=TRUE),\"INDIPENDENT\",IF(W519=0,\"SCRIVI NOME NELLE NOTE\",W519)))","v":{"$error":"#N/A"}},null,null,null,null,null,null,null,null,{"$f":"IF(H519=\"\",\"\",IF(H519=$R$6,25,IF(OR(H519=$R$7,H519=$R$8,H519=$R$9,H519=$R$10,H519=$R$11,H519=$R$12,H519=$R$13,H519=$R$14,H519=$R$15,H519=$R$16,H519=$R$17,H519=$R$18,H519=$R$19,H519=$R$20,H519=$R$21,H519=$R$22,H519=$R$23),15,0)))","v":""},{"$f":"ISERROR(I519)","v":false},2,{"$f":"VLOOKUP(H519,Database!$B$1:$E$4891,4,FALSE)","v":{"$error":"#N/A"}},{"$f":"ISERROR(W519)","v":true}]
[515,null,null,null,null,null,null,null,{"$f":"IF(ISERROR(VLOOKUP(H520,Database!$B$1:$C$5908,2,FALSE)),\"\",VLOOKUP(H520,Database!$B$1:$C$5908,2,FALSE))","v":""},"",{"$error":"#N/A"},null,null,null,null,null,null,null,null,"",false,{"$f":"IF(H520=\"-\",\"\",IF(AND(T520=0,U520=FALSE,I520=\"\"),1,2))","v":2},{"$f":"VLOOKUP(H520,Database!$B$1:$E$4891,4,FALSE)","v":{"$error":"#N/A"}},true]
[516,null,null,null,null,null,null,null,{"$f":"IF(ISERROR(VLOOKUP(H521,Database!$B$1:$C$5908,2,FALSE)),\"\",VLOOKUP(H521,Database!$B$1:$C$5908,2,FALSE))","v":""},"",{"$error":"#N/A"},null,null,null,null,null,null,null,null,"",false,2,{"$f":"VLOOKUP(H521,Database!$B$1:$E$4891,4,FALSE)","v":{"$error":"#N/A"}},true]
[517,null,null,null,null,null,null,null,{"$f":"IF(ISERROR(VLOOKUP(H522,Database!$B$1:$C$5908,2,FALSE)),\"\",VLOOKUP(H522,Database!$B$1:$C$5908,2,FALSE))","v":""},"",{"$error":"#N/A"},null,null,null,null,null,null,null,null,"",false,2,{"$f":"VLOOKUP(H522,Database!$B$1:$E$4891,4,FALSE)","v":{"$error":"#N/A"}},true]
[518,null,null,null,null,null,null,null,{"$f":"IF(ISERROR(VLOOKUP(H523,Database!$B$1:$C$5908,2,FALSE)),\"\",VLOOKUP(H523,Database!$B$1:$C$5908,2,FALSE))","v":""},"",{"$error":"#N/A"},null,null,null,null,null,null,null,null,"",false,2,{"$f":"VLOOKUP(H523,Database!$B$1:$E$4891,4,FALSE)","v":{"$error":"#N/A"}},true]
[519,null,null,null,null,null,null,null,{"$f":"IF(ISERROR(VLOOKUP(H524,Database!$B$1:$C$5908,2,FALSE)),\"\",VLOOKUP(H524,Database!$B$1:$C$5908,2,FALSE))","v":""},"",{"$error":"#N/A"},null,null,null,null,null,null,null,null,"",false,2,{"$f":"VLOOKUP(H524,Database!$B$1:$E$4891,4,FALSE)","v":{"$error":"#N/A"}},true]
[520,null,null,null,null,null,null,null,{"$f":"IF(ISERROR(VLOOKUP(H525,Database!$B$1:$C$5908,2,FALSE)),\"\",VLOOKUP(H525,Database!$B$1:$C$5908,2,FALSE))","v":""},"",{"$error":"#N/A"},null,null,null,null,null,null,null,null,"",false,2,{"$f":"VLOOKUP(H525,Database!$B$1:$E$4891,4,FALSE)","v":{"$error":"#N/A"}},true]
[521,null,null,null,null,null,null,null,{"$f":"IF(ISERROR(VLOOKUP(H526,Database!$B$1:$C$5908,2,FALSE)),\"\",VLOOKUP(H526,Database!$B$1:$C$5908,2,FALSE))","v":""},"",{"$error":"#N/A"},null,null,null,null,null,null,null,null,"",false,2,{"$f":"VLOOKUP(H526,Database!$B$1:$E$4891,4,FALSE)","v":{"$error":"#N/A"}},true]
[522,null,null,null,null,null,null,null,{"$f":"IF(ISERROR(VLOOKUP(H527,Database!$B$1:$C$5908,2,FALSE)),\"\",VLOOKUP(H527,Database!$B$1:$C$5908,2,FALSE))","v":""},"",{"$error":"#N/A"},null,null,null,null,null,null,null,null,"",false,2,{"$f":"VLOOKUP(H527,Database!$B$1:$E$4891,4,FALSE)","v":{"$error":"#N/A"}},true]
[523,null,null,null,null,null,null,null,{"$f":"IF(ISERROR(VLOOKUP(H528,Database!$B$1:$C$5908,2,FALSE)),\"\",VLOOKUP(H528,Database!$B$1:$C$5908,2,FALSE))","v":""},"",{"$error":"#N/A"},null,null,null,null,null,null,null,null,"",false,2,{"$f":"VLOOKUP(H528,Database!$B$1:$E$4891,4,FALSE)","v":{"$error":"#N/A"}},true]
[524,null,null,null,null,null,null,null,{"$f":"IF(ISERROR(VLOOKUP(H529,Database!$B$1:$C$5908,2,FALSE)),\"\",VLOOKUP(H529,Database!$B$1:$C$5908,2,FALSE))","v":""},"",{"$error":"#N/A"},null,null,null,null,null,null,null,null,"",false,2,{"$f":"VLOOKUP(H529,Database!$B$1:$E$4891,4,FALSE)","v":{"$error":"#N/A"}},true]
[525,null,null,null,null,null,null,null,{"$f":"IF(ISERROR(VLOOKUP(H530,Database!$B$1:$C$5908,2,FALSE)),\"\",VLOOKUP(H530,Database!$B$1:$C$5908,2,FALSE))","v":""},"",{"$error":"#N/A"},null,null,null,null,null,null,null,null,"",false,2,{"$f":"VLOOKUP(H530,Database!$B$1:$E$4891,4,FALSE)","v":{"$error":"#N/A"}},true]
[526,null,null,null,null,null,null,null,{"$f":"IF(ISERROR(VLOOKUP(H531,Database!$B$1:$C$5908,2,FALSE)),\"\",VLOOKUP(H531,Database!$B$1:$C$5908,2,FALSE))","v":""},"",{"$error":"#N/A"},null,null,null,null,null,null,null,null,"",false,2,{"$f":"VLOOKUP(H531,Database!$B$1:$E$4891,4,FALSE)","v":{"$error":"#N/A"}},true]
[527,null,null,null,null,null,null,null,{"$f":"IF(ISERROR(VLOOKUP(H532,Database!$B$1:$C$5908,2,FALSE)),\"\",VLOOKUP(H532,Database!$B$1:$C$5908,2,FALSE))","v":""},"",{"$error":"#N/A"},null,null,null,null,null,null,null,null,"",false,2,{"$f":"VLOOKUP(H532,Database!$B$1:$E$4891,4,FALSE)","v":{"$error":"#N/A"}},true]
[528,null,null,null,null,null,null,null,{"$f":"IF(ISERROR(VLOOKUP(H533,Database!$B$1:$C$5908,2,FALSE)),\"\",VLOOKUP(H533,Database!$B$1:$C$5908,2,FALSE))","v":""},"",{"$error":"#N/A"},null,null,null,null,null,null,null,null,"",false,2,{"$f":"VLOOKUP(H533,Database!$B$1:$E$4891,4,FALSE)","v":{"$error":"#N/A"}},true]
[529,null,null,null,null,null,null,null,{"$f":"IF(ISERROR(VLOOKUP(H534,Database!$B$1:$C$5908,2,FALSE)),\"\",VLOOKUP(H534,Database!$B$1:$C$5908,2,FALSE))","v":""},"",{"$error":"#N/A"},null,null,null,null,null,null,null,null,"",false,2,{"$f":"VLOOKUP(H534,Database!$B$1:$E$4891,4,FALSE)","v":{"$error":"#N/A"}},true]
[530,null,null,null,null,null,null,null,{"$f":"IF(ISERROR(VLOOKUP(H535,Database!$B$1:$C$5908,2,FALSE)),\"\",VLOOKUP(H535,Database!$B$1:$C$5908,2,FALSE))","v":""},"",{"$error":"#N/A"},null,null,null,null,null,null,null,null,"",false,2,{"$f":"VLOOKUP(H535,Database!$B$1:$E$4891,4,FALSE)","v":{"$error":"#N/A"}},true]
[531,null,null,null,null,null,null,null,{"$f":"IF(ISERROR(VLOOKUP(H536,Database!$B$1:$C$5908,2,FALSE)),\"\",VLOOKUP(H536,Database!$B$1:$C$5908,2,FALSE))","v":""},"",{"$error":"#N/A"},null,null,null,null,null,null,null,null,"",false,2,{"$f":"VLOOKUP(H536,Database!$B$1:$E$4891,4,FALSE)","v":{"$error":"#N/A"}},true]
[532,null,null,null,null,null,null,null,{"$f":"IF(ISERROR(VLOOKUP(H537,Database!$B$1:$C$5908,2,FALSE)),\"\",VLOOKUP(H537,Database!$B$1:$C$5908,2,FALSE))","v":""},"",{"$error":"#N/A"},null,null,null,null,null,null,null,null,"",false,2,{"$f":"VLOOKUP(H537,Database!$B$1:$E$4891,4,FALSE)","v":{"$error":"#N/A"}},true]
[533,null,null,null,null,null,null,null,{"$f":"IF(ISERROR(VLOOKUP(H538,Database!$B$1:$C$5908,2,FALSE)),\"\",VLOOKUP(H538,Database!$B$1:$C$5908,2,FALSE))","v":""},"",{"$error":"#N/A"},null,null,null,null,null,null,null,null,"",false,2,{"$f":"VLOOKUP(H538,Database!$B$1:$E$4891,4,FALSE)","v":{"$error":"#N/A"}},true]
[534,null,null,null,null,null,null,null,{"$f":"IF(ISERROR(VLOOKUP(H539,Database!$B$1:$C$5908,2,FALSE)),\"\",VLOOKUP(H539,Database!$B$1:$C$5908,2,FALSE))","v":""},"",{"$error":"#N/A"},null,null,null,null,null,null,null,null,"",false,2,{"$f":"VLOOKUP(H539,Database!$B$1:$E$4891,4,FALSE)","v":{"$error":"#N/A"}},true]
[535,null,null,null,null,null,null,null,{"$f":"IF(ISERROR(VLOOKUP(H540,Database!$B$1:$C$5908,2,FALSE)),\"\",VLOOKUP(H540,Database!$B$1:$C$5908,2,FALSE))","v":""},"",{"$error":"#N/A"},null,null,null,null,null,null,null,null,"",false,2,{"$f":"VLOOKUP(H540,Database!$B$1:$E$4891,4,FALSE)","v":{"$error":"#N/A"}},true]
[536,null,null,null,null,null,null,null,{"$f":"IF(ISERROR(VLOOKUP(H541,Database!$B$1:$C$5908,2,FALSE)),\"\",VLOOKUP(H541,Database!$B$1:$C$5908,2,FALSE))","v":""},"",{"$error":"#N/A"},null,null,null,null,null,null,null,null,"",false,2,{"$f":"VLOOKUP(H541,Database!$B$1:$E$4891,4,FALSE)","v":{"$error":"#N/A"}},true]
[537,null,null,null,null,null,null,null,{"$f":"IF(ISERROR(VLOOKUP(H542,Database!$B$1:$C$5908,2,FALSE)),\"\",VLOOKUP(H542,Database!$B$1:$C$5908,2,FALSE))","v":""},"",{"$error":"#N/A"},null,null,null,null,null,null,null,null,"",false,2,{"$f":"VLOOKUP(H542,Database!$B$1:$E$4891,4,FALSE)","v":{"$error":"#N/A"}},true]
[538,null,null,null,null,null,null,null,{"$f":"IF(ISERROR(VLOOKUP(H543,Database!$B$1:$C$5908,2,FALSE)),\"\",VLOOKUP(H543,Database!$B$1:$C$5908,2,FALSE))","v":""},"",{"$error":"#N/A"},null,null,null,null,null,null,null,null,"",false,2,{"$f":"VLOOKUP(H543,Database!$B$1:$E$4891,4,FALSE)","v":{"$error":"#N/A"}},true]
[539,null,null,null,null,null,null,null,{"$f":"IF(ISERROR(VLOOKUP(H544,Database!$B$1:$C$5908,2,FALSE)),\"\",VLOOKUP(H544,Database!$B$1:$C$5908,2,FALSE))","v":""},"",{"$error":"#N/A"},null,null,null,null,null,null,null,null,"",false,2,{"$f":"VLOOKUP(H544,Database!$B$1:$E$4891,4,FALSE)","v":{"$error":"#N/A"}},true]
[540,null,null,null,null,null,null,null,{"$f":"IF(ISERROR(VLOOKUP(H545,Database!$B$1:$C$5908,2,FALSE)),\"\",VLOOKUP(H545,Database!$B$1:$C$5908,2,FALSE))","v":""},"",{"$error":"#N/A"},null,null,null,null,null,null,null,null,"",false,2,{"$f":"VLOOKUP(H545,Database!$B$1:$E$4891,4,FALSE)","v":{"$error":"#N/A"}},true]
[541,null,null,null,null,null,null,null,{"$f":"IF(ISERROR(VLOOKUP(H546,Database!$B$1:$C$5908,2,FALSE)),\"\",VLOOKUP(H546,Database!$B$1:$C$5908,2,FALSE))","v":""},"",{"$error":"#N/A"},null,null,null,null,null,null,null,null,"",false,2,{"$f":"VLOOKUP(H546,Database!$B$1:$E$4891,4,FALSE)","v":{"$error":"#N/A"}},true]
[542,null,null,null,null,null,null,null,{"$f":"IF(ISERROR(VLOOKUP(H547,Database!$B$1:$C$5908,2,FALSE)),\"\",VLOOKUP(H547,Database!$B$1:$C$5908,2,FALSE))","v":""},"",{"$error":"#N/A"},null,null,null,null,null,null,null,null,"",false,2,{"$f":"VLOOKUP(H547,Database!$B$1:$E$4891,4,FALSE)","v":{"$error":"#N/A"}},true]
[543,null,null,null,null,null,null,null,{"$f":"IF(ISERROR(VLOOKUP(H548,Database!$B$1:$C$5908,2,FALSE)),\"\",VLOOKUP(H548,Database!$B$1:$C$5908,2,FALSE))","v":""},"",{"$error":"#N/A"},null,null,null,null,null,null,null,null,"",false,2,{"$f":"VLOOKUP(H548,Database!$B$1:$E$4891,4,FALSE)","v":{"$error":"#N/A"}},true]
[544,null,null,null,null,null,null,null,{"$f":"IF(ISERROR(VLOOKUP(H549,Database!$B$1:$C$5908,2,FALSE)),\"\",VLOOKUP(H549,Database!$B$1:$C$5908,2,FALSE))","v":""},"",{"$error":"#N/A"},null,null,null,null,null,null,null,null,"",false,2,{"$f":"VLOOKUP(H549,Database!$B$1:$E$4891,4,FALSE)","v":{"$error":"#N/A"}},true]
[545,null,null,null,null,null,null,null,{"$f":"IF(ISERROR(VLOOKUP(H550,Database!$B$1:$C$5908,2,FALSE)),\"\",VLOOKUP(H550,Database!$B$1:$C$5908,2,FALSE))","v":""},"",{"$error":"#N/A"},null,null,null,null,null,null,null,null,"",false,2,{"$f":"VLOOKUP(H550,Database!$B$1:$E$4891,4,FALSE)","v":{"$error":"#N/A"}},true]
[546,null,null,null,null,null,null,null,{"$f":"IF(ISERROR(VLOOKUP(H551,Database!$B$1:$C$5908,2,FALSE)),\"\",VLOOKUP(H551,Database!$B$1:$C$5908,2,FALSE))","v":""},"",{"$error":"#N/A"},null,null,null,null,null,null,null,null,"",false,2,{"$f":"VLOOKUP(H551,Database!$B$1:$E$4891,4,FALSE)","v":{"$error":"#N/A"}},true]
[547,null,null,null,null,null,null,null,{"$f":"IF(ISERROR(VLOOKUP(H552,Database!$B$1:$C$5908,2,FALSE)),\"\",VLOOKUP(H552,Database!$B$1:$C$5908,2,FALSE))","v":""},"",{"$error":"#N/A"},null,null,null,null,null,null,null,null,"",false,2,{"$f":"VLOOKUP(H552,Database!$B$1:$E$4891,4,FALSE)","v":{"$error":"#N/A"}},true]
[548,null,null,null,null,null,null,null,{"$f":"IF(ISERROR(VLOOKUP(H553,Database!$B$1:$C$5908,2,FALSE)),\"\",VLOOKUP(H553,Database!$B$1:$C$5908,2,FALSE))","v":""},"",{"$error":"#N/A"},null,null,null,null,null,null,null,null,"",false,2,{"$f":"VLOOKUP(H553,Database!$B$1:$E$4891,4,FALSE)","v":{"$error":"#N/A"}},true]
[549,null,null,null,null,null,null,null,{"$f":"IF(ISERROR(VLOOKUP(H554,Database!$B$1:$C$5908,2,FALSE)),\"\",VLOOKUP(H554,Database!$B$1:$C$5908,2,FALSE))","v":""},"",{"$error":"#N/A"},null,null,null,null,null,null,null,null,"",false,2,{"$f":"VLOOKUP(H554,Database!$B$1:$E$4891,4,FALSE)","v":{"$error":"#N/A"}},true]
[550,null,null,null,null,null,null,null,{"$f":"IF(ISERROR(VLOOKUP(H555,Database!$B$1:$C$5908,2,FALSE)),\"\",VLOOKUP(H555,Database!$B$1:$C$5908,2,FALSE))","v":""},"",{"$error":"#N/A"},null,null,null,null,null,null,null,null,"",false,2,{"$f":"VLOOKUP(H555,Database!$B$1:$E$4891,4,FALSE)","v":{"$error":"#N/A"}},true]
[551,null,null,null,null,null,null,null,{"$f":"IF(ISERROR(VLOOKUP(H556,Database!$B$1:$C$5908,2,FALSE)),\"\",VLOOKUP(H556,Database!$B$1:$C$5908,2,FALSE))","v":""},"",{"$error":"#N/A"},null,null,null,null,null,null,null,null,"",false,2,{"$f":"VLOOKUP(H556,Database!$B$1:$E$4891,4,FALSE)","v":{"$error":"#N/A"}},true]
[552,null,null,null,null,null,null,null,{"$f":"IF(ISERROR(VLOOKUP(H557,Database!$B$1:$C$5908,2,FALSE)),\"\",VLOOKUP(H557,Database!$B$1:$C$5908,2,FALSE))","v":""},"",{"$error":"#N/A"},null,null,null,null,null,null,null,null,"",false,2,{"$f":"VLOOKUP(H557,Database!$B$1:$E$4891,4,FALSE)","v":{"$error":"#N/A"}},true]
[553,null,null,null,null,null,null,null,{"$f":"IF(ISERROR(VLOOKUP(H558,Database!$B$1:$C$5908,2,FALSE)),\"\",VLOOKUP(H558,Database!$B$1:$C$5908,2,FALSE))","v":""},"",{"$error":"#N/A"},null,null,null,null,null,null,null,null,"",false,2,{"$f":"VLOOKUP(H558,Database!$B$1:$E$4891,4,FALSE)","v":{"$error":"#N/A"}},true]
[554,null,null,null,null,null,null,null,{"$f":"IF(ISERROR(VLOOKUP(H559,Database!$B$1:$C$5908,2,FALSE)),\"\",VLOOKUP(H559,Database!$B$1:$C$5908,2,FALSE))","v":""},"",{"$error":"#N/A"},null,null,null,null,null,null,null,null,"",false,2,{"$f":"VLOOKUP(H559,Database!$B$1:$E$4891,4,FALSE)","v":{"$error":"#N/A"}},true]
[555,null,null,null,null,null,null,null,{"$f":"IF(ISERROR(VLOOKUP(H560,Database!$B$1:$C$5908,2,FALSE)),\"\",VLOOKUP(H560,Database!$B$1:$C$5908,2,FALSE))","v":""},"",{"$error":"#N/A"},null,null,null,null,null,null,null,null,"",false,2,{"$f":"VLOOKUP(H560,Database!$B$1:$E$4891,4,FALSE)","v":{"$error":"#N/A"}},true]
[556,null,null,null,null,null,null,null,{"$f":"IF(ISERROR(VLOOKUP(H561,Database!$B$1:$C$5908,2,FALSE)),\"\",VLOOKUP(H561,Database!$B$1:$C$5908,2,FALSE))","v":""},"",{"$error":"#N/A"},null,null,null,null,null,null,null,null,"",false,2,{"$f":"VLOOKUP(H561,Database!$B$1:$E$4891,4,FALSE)","v":{"$error":"#N/A"}},true]
[557,null,null,null,null,null,null,null,{"$f":"IF(ISERROR(VLOOKUP(H562,Database!$B$1:$C$5908,2,FALSE)),\"\",VLOOKUP(H562,Database!$B$1:$C$5908,2,FALSE))","v":""},"",{"$error":"#N/A"},null,null,null,null,null,null,null,null,"",false,2,{"$f":"VLOOKUP(H562,Database!$B$1:$E$4891,4,FALSE)","v":{"$error":"#N/A"}},true]
[558,null,null,null,null,null,null,null,{"$f":"IF(ISERROR(VLOOKUP(H563,Database!$B$1:$C$5908,2,FALSE)),\"\",VLOOKUP(H563,Database!$B$1:$C$5908,2,FALSE))","v":""},"",{"$error":"#N/A"},null,null,null,null,null,null,null,null,"",false,2,{"$f":"VLOOKUP(H563,Database!$B$1:$E$4891,4,FALSE)","v":{"$error":"#N/A"}},true]
[559,null,null,null,null,null,null,null,{"$f":"IF(ISERROR(VLOOKUP(H564,Database!$B$1:$C$5908,2,FALSE)),\"\",VLOOKUP(H564,Database!$B$1:$C$5908,2,FALSE))","v":""},"",{"$error":"#N/A"},null,null,null,null,null,null,null,null,"",false,2,{"$f":"VLOOKUP(H564,Database!$B$1:$E$4891,4,FALSE)","v":{"$error":"#N/A"}},true]
[560,null,null,null,null,null,null,null,{"$f":"IF(ISERROR(VLOOKUP(H565,Database!$B$1:$C$5908,2,FALSE)),\"\",VLOOKUP(H565,Database!$B$1:$C$5908,2,FALSE))","v":""},"",{"$error":"#N/A"},null,null,null,null,null,null,null,null,"",false,2,{"$f":"VLOOKUP(H565,Database!$B$1:$E$4891,4,FALSE)","v":{"$error":"#N/A"}},true]
[561,null,null,null,null,null,null,null,{"$f":"IF(ISERROR(VLOOKUP(H566,Database!$B$1:$C$5908,2,FALSE)),\"\",VLOOKUP(H566,Database!$B$1:$C$5908,2,FALSE))","v":""},"",{"$error":"#N/A"},null,null,null,null,null,null,null,null,"",false,2,{"$f":"VLOOKUP(H566,Database!$B$1:$E$4891,4,FALSE)","v":{"$error":"#N/A"}},true]
[562,null,null,null,null,null,null,null,{"$f":"IF(ISERROR(VLOOKUP(H567,Database!$B$1:$C$5908,2,FALSE)),\"\",VLOOKUP(H567,Database!$B$1:$C$5908,2,FALSE))","v":""},"",{"$error":"#N/A"},null,null,null,null,null,null,null,null,"",false,2,{"$f":"VLOOKUP(H567,Database!$B$1:$E$4891,4,FALSE)","v":{"$error":"#N/A"}},true]
[563,null,null,null,null,null,null,null,{"$f":"IF(ISERROR(VLOOKUP(H568,Database!$B$1:$C$5908,2,FALSE)),\"\",VLOOKUP(H568,Database!$B$1:$C$5908,2,FALSE))","v":""},"",{"$error":"#N/A"},null,null,null,null,null,null,null,null,"",false,2,{"$f":"VLOOKUP(H568,Database!$B$1:$E$4891,4,FALSE)","v":{"$error":"#N/A"}},true]
[564,null,null,null,null,null,null,null,{"$f":"IF(ISERROR(VLOOKUP(H569,Database!$B$1:$C$5908,2,FALSE)),\"\",VLOOKUP(H569,Database!$B$1:$C$5908,2,FALSE))","v":""},"",{"$error":"#N/A"},null,null,null,null,null,null,null,null,"",false,2,{"$f":"VLOOKUP(H569,Database!$B$1:$E$4891,4,FALSE)","v":{"$error":"#N/A"}},true]
[565,null,null,null,null,null,null,null,{"$f":"IF(ISERROR(VLOOKUP(H570,Database!$B$1:$C$5908,2,FALSE)),\"\",VLOOKUP(H570,Database!$B$1:$C$5908,2,FALSE))","v":""},"",{"$error":"#N/A"},null,null,null,null,null,null,null,null,"",false,2,{"$f":"VLOOKUP(H570,Database!$B$1:$E$4891,4,FALSE)","v":{"$error":"#N/A"}},true]
[566,null,null,null,null,null,null,null,{"$f":"IF(ISERROR(VLOOKUP(H571,Database!$B$1:$C$5908,2,FALSE)),\"\",VLOOKUP(H571,Database!$B$1:$C$5908,2,FALSE))","v":""},"",{"$error":"#N/A"},null,null,null,null,null,null,null,null,"",false,2,{"$f":"VLOOKUP(H571,Database!$B$1:$E$4891,4,FALSE)","v":{"$error":"#N/A"}},true]
[567,null,null,null,null,null,null,null,{"$f":"IF(ISERROR(VLOOKUP(H572,Database!$B$1:$C$5908,2,FALSE)),\"\",VLOOKUP(H572,Database!$B$1:$C$5908,2,FALSE))","v":""},"",{"$error":"#N/A"},null,null,null,null,null,null,null,null,"",false,2,{"$f":"VLOOKUP(H572,Database!$B$1:$E$4891,4,FALSE)","v":{"$error":"#N/A"}},true]
[568,null,null,null,null,null,null,null,{"$f":"IF(ISERROR(VLOOKUP(H573,Database!$B$1:$C$5908,2,FALSE)),\"\",VLOOKUP(H573,Database!$B$1:$C$5908,2,FALSE))","v":""},"",{"$error":"#N/A"},null,null,null,null,null,null,null,null,"",false,2,{"$f":"VLOOKUP(H573,Database!$B$1:$E$4891,4,FALSE)","v":{"$error":"#N/A"}},true]
[569,null,null,null,null,null,null,null,{"$f":"IF(ISERROR(VLOOKUP(H574,Database!$B$1:$C$5908,2,FALSE)),\"\",VLOOKUP(H574,Database!$B$1:$C$5908,2,FALSE))","v":""},"",{"$error":"#N/A"},null,null,null,null,null,null,null,null,"",false,2,{"$f":"VLOOKUP(H574,Database!$B$1:$E$4891,4,FALSE)","v":{"$error":"#N/A"}},true]
[570,null,null,null,null,null,null,null,{"$f":"IF(ISERROR(VLOOKUP(H575,Database!$B$1:$C$5908,2,FALSE)),\"\",VLOOKUP(H575,Database!$B$1:$C$5908,2,FALSE))","v":""},"",{"$error":"#N/A"},null,null,null,null,null,null,null,null,"",false,2,{"$f":"VLOOKUP(H575,Database!$B$1:$E$4891,4,FALSE)","v":{"$error":"#N/A"}},true]
[571,null,null,null,null,null,null,null,{"$f":"IF(ISERROR(VLOOKUP(H576,Database!$B$1:$C$5908,2,FALSE)),\"\",VLOOKUP(H576,Database!$B$1:$C$5908,2,FALSE))","v":""},"",{"$error":"#N/A"},null,null,null,null,null,null,null,null,"",false,2,{"$f":"VLOOKUP(H576,Database!$B$1:$E$4891,4,FALSE)","v":{"$error":"#N/A"}},true]
[572,null,null,null,null,null,null,null,{"$f":"IF(ISERROR(VLOOKUP(H577,Database!$B$1:$C$5908,2,FALSE)),\"\",VLOOKUP(H577,Database!$B$1:$C$5908,2,FALSE))","v":""},"",{"$error":"#N/A"},null,null,null,null,null,null,null,null,"",false,2,{"$f":"VLOOKUP(H577,Database!$B$1:$E$4891,4,FALSE)","v":{"$error":"#N/A"}},true]
[573,null,null,null,null,null,null,null,{"$f":"IF(ISERROR(VLOOKUP(H578,Database!$B$1:$C$5908,2,FALSE)),\"\",VLOOKUP(H578,Database!$B$1:$C$5908,2,FALSE))","v":""},"",{"$error":"#N/A"},null,null,null,null,null,null,null,null,"",false,2,{"$f":"VLOOKUP(H578,Database!$B$1:$E$4891,4,FALSE)","v":{"$error":"#N/A"}},true]
[574,null,null,null,null,null,null,null,{"$f":"IF(ISERROR(VLOOKUP(H579,Database!$B$1:$C$5908,2,FALSE)),\"\",VLOOKUP(H579,Database!$B$1:$C$5908,2,FALSE))","v":""},"",{"$error":"#N/A"},null,null,null,null,null,null,null,null,"",false,2,{"$f":"VLOOKUP(H579,Database!$B$1:$E$4891,4,FALSE)","v":{"$error":"#N/A"}},true]
[575,null,null,null,null,null,null,null,{"$f":"IF(ISERROR(VLOOKUP(H580,Database!$B$1:$C$5908,2,FALSE)),\"\",VLOOKUP(H580,Database!$B$1:$C$5908,2,FALSE))","v":""},"",{"$error":"#N/A"},null,null,null,null,null,null,null,null,"",false,2,{"$f":"VLOOKUP(H580,Database!$B$1:$E$4891,4,FALSE)","v":{"$error":"#N/A"}},true]
[576,null,null,null,null,null,null,null,{"$f":"IF(ISERROR(VLOOKUP(H581,Database!$B$1:$C$5908,2,FALSE)),\"\",VLOOKUP(H581,Database!$B$1:$C$5908,2,FALSE))","v":""},"",{"$error":"#N/A"},null,null,null,null,null,null,null,null,"",false,2,{"$f":"VLOOKUP(H581,Database!$B$1:$E$4891,4,FALSE)","v":{"$error":"#N/A"}},true]
[577,null,null,null,null,null,null,null,{"$f":"IF(ISERROR(VLOOKUP(H582,Database!$B$1:$C$5908,2,FALSE)),\"\",VLOOKUP(H582,Database!$B$1:$C$5908,2,FALSE))","v":""},"",{"$error":"#N/A"},null,null,null,null,null,null,null,null,"",false,2,{"$f":"VLOOKUP(H582,Database!$B$1:$E$4891,4,FALSE)","v":{"$error":"#N/A"}},true]
[{"$f":"A582+1","v":578},null,null,null,null,null,null,null,{"$f":"IF(ISERROR(VLOOKUP(H583,Database!$B$1:$C$5908,2,FALSE)),\"\",VLOOKUP(H583,Database!$B$1:$C$5908,2,FALSE))","v":""},{"$f":"IF(V583=1,1,IF(AND(T583=0,F583=\"SSB\",V583<>\"\"),2,IF(AND(T583=0,F583=\"FM\",V583<>\"\"),2,IF(AND(T583=0,F583=\"DIGI\",V583<>\"\"),3,IF(AND(T583=0,F583=\"CW\",V583<>\"\"),5,IF(H583=\"-\",\"\",T583))))))","v":""},{"$f":"IF(H583=\"-\",\"\",IF(AND(H583<>\"\",X583=TRUE),\"INDIPENDENT\",IF(W583=0,\"SCRIVI NOME NELLE NOTE\",W583)))","v":{"$error":"#N/A"}},null,null,null,null,null,null,null,null,{"$f":"IF(H583=\"\",\"\",IF(H583=$R$6,25,IF(OR(H583=$R$7,H583=$R$8,H583=$R$9,H583=$R$10,H583=$R$11,H583=$R$12,H583=$R$13,H583=$R$14,H583=$R$15,H583=$R$16,H583=$R$17,H583=$R$18,H583=$R$19,H583=$R$20,H583=$R$21,H583=$R$22,H583=$R$23),15,0)))","v":""},{"$f":"ISERROR(I583)","v":false},2,{"$f":"VLOOKUP(H583,Database!$B$1:$E$4891,4,FALSE)","v":{"$error":"#N/A"}},{"$f":"ISERROR(W583)","v":true}]
[579,null,null,null,null,null,null,null,{"$f":"IF(ISERROR(VLOOKUP(H584,Database!$B$1:$C$5908,2,FALSE)),\"\",VLOOKUP(H584,Database!$B$1:$C$5908,2,FALSE))","v":""},"",{"$error":"#N/A"},null,null,null,null,null,null,null,null,"",false,{"$f":"IF(H584=\"-\",\"\",IF(AND(T584=0,U584=FALSE,I584=\"\"),1,2))","v":2},{"$f":"VLOOKUP(H584,Database!$B$1:$E$4891,4,FALSE)","v":{"$error":"#N/A"}},true]
[580,null,null,null,null,null,null,null,{"$f":"IF(ISERROR(VLOOKUP(H585,Database!$B$1:$C$5908,2,FALSE)),\"\",VLOOKUP(H585,Database!$B$1:$C$5908,2,FALSE))","v":""},"",{"$error":"#N/A"},null,null,null,null,null,null,null,null,"",false,2,{"$f":"VLOOKUP(H585,Database!$B$1:$E$4891,4,FALSE)","v":{"$error":"#N/A"}},true]
[581,null,null,null,null,null,null,null,{"$f":"IF(ISERROR(VLOOKUP(H586,Database!$B$1:$C$5908,2,FALSE)),\"\",VLOOKUP(H586,Database!$B$1:$C$5908,2,FALSE))","v":""},"",{"$error":"#N/A"},null,null,null,null,null,null,null,null,"",false,2,{"$f":"VLOOKUP(H586,Database!$B$1:$E$4891,4,FALSE)","v":{"$error":"#N/A"}},true]
[582,null,null,null,null,null,null,null,{"$f":"IF(ISERROR(VLOOKUP(H587,Database!$B$1:$C$5908,2,FALSE)),\"\",VLOOKUP(H587,Database!$B$1:$C$5908,2,FALSE))","v":""},"",{"$error":"#N/A"},null,null,null,null,null,null,null,null,"",false,2,{"$f":"VLOOKUP(H587,Database!$B$1:$E$4891,4,FALSE)","v":{"$error":"#N/A"}},true]
[583,null,null,null,null,null,null,null,{"$f":"IF(ISERROR(VLOOKUP(H588,Database!$B$1:$C$5908,2,FALSE)),\"\",VLOOKUP(H588,Database!$B$1:$C$5908,2,FALSE))","v":""},"",{"$error":"#N/A"},null,null,null,null,null,null,null,null,"",false,2,{"$f":"VLOOKUP(H588,Database!$B$1:$E$4891,4,FALSE)","v":{"$error":"#N/A"}},true]
[584,null,null,null,null,null,null,null,{"$f":"IF(ISERROR(VLOOKUP(H589,Database!$B$1:$C$5908,2,FALSE)),\"\",VLOOKUP(H589,Database!$B$1:$C$5908,2,FALSE))","v":""},"",{"$error":"#N/A"},null,null,null,null,null,null,null,null,"",false,2,{"$f":"VLOOKUP(H589,Database!$B$1:$E$4891,4,FALSE)","v":{"$error":"#N/A"}},true]
[585,null,null,null,null,null,null,null,{"$f":"IF(ISERROR(VLOOKUP(H590,Database!$B$1:$C$5908,2,FALSE)),\"\",VLOOKUP(H590,Database!$B$1:$C$5908,2,FALSE))","v":""},"",{"$error":"#N/A"},null,null,null,null,null,null,null,null,"",false,2,{"$f":"VLOOKUP(H590,Database!$B$1:$E$4891,4,FALSE)","v":{"$error":"#N/A"}},true]
[586,null,null,null,null,null,null,null,{"$f":"IF(ISERROR(VLOOKUP(H591,Database!$B$1:$C$5908,2,FALSE)),\"\",VLOOKUP(H591,Database!$B$1:$C$5908,2,FALSE))","v":""},"",{"$error":"#N/A"},null,null,null,null,null,null,null,null,"",false,2,{"$f":"VLOOKUP(H591,Database!$B$1:$E$4891,4,FALSE)","v":{"$error":"#N/A"}},true]
[587,null,null,null,null,null,null,null,{"$f":"IF(ISERROR(VLOOKUP(H592,Database!$B$1:$C$5908,2,FALSE)),\"\",VLOOKUP(H592,Database!$B$1:$C$5908,2,FALSE))","v":""},"",{"$error":"#N/A"},null,null,null,null,null,null,null,null,"",false,2,{"$f":"VLOOKUP(H592,Database!$B$1:$E$4891,4,FALSE)","v":{"$error":"#N/A"}},true]
[588,null,null,null,null,null,null,null,{"$f":"IF(ISERROR(VLOOKUP(H593,Database!$B$1:$C$5908,2,FALSE)),\"\",VLOOKUP(H593,Database!$B$1:$C$5908,2,FALSE))","v":""},"",{"$error":"#N/A"},null,null,null,null,null,null,null,null,"",false,2,{"$f":"VLOOKUP(H593,Database!$B$1:$E$4891,4,FALSE)","v":{"$error":"#N/A"}},true]
[589,null,null,null,null,null,null,null,{"$f":"IF(ISERROR(VLOOKUP(H594,Database!$B$1:$C$5908,2,FALSE)),\"\",VLOOKUP(H594,Database!$B$1:$C$5908,2,FALSE))","v":""},"",{"$error":"#N/A"},null,null,null,null,null,null,null,null,"",false,2,{"$f":"VLOOKUP(H594,Database!$B$1:$E$4891,4,FALSE)","v":{"$error":"#N/A"}},true]
[590,null,null,null,null,null,null,null,{"$f":"IF(ISERROR(VLOOKUP(H595,Database!$B$1:$C$5908,2,FALSE)),\"\",VLOOKUP(H595,Database!$B$1:$C$5908,2,FALSE))","v":""},"",{"$error":"#N/A"},null,null,null,null,null,null,null,null,"",false,2,{"$f":"VLOOKUP(H595,Database!$B$1:$E$4891,4,FALSE)","v":{"$error":"#N/A"}},true]
[591,null,null,null,null,null,null,null,{"$f":"IF(ISERROR(VLOOKUP(H596,Database!$B$1:$C$5908,2,FALSE)),\"\",VLOOKUP(H596,Database!$B$1:$C$5908,2,FALSE))","v":""},"",{"$error":"#N/A"},null,null,null,null,null,null,null,null,"",false,2,{"$f":"VLOOKUP(H596,Database!$B$1:$E$4891,4,FALSE)","v":{"$error":"#N/A"}},true]
[592,null,null,null,null,null,null,null,{"$f":"IF(ISERROR(VLOOKUP(H597,Database!$B$1:$C$5908,2,FALSE)),\"\",VLOOKUP(H597,Database!$B$1:$C$5908,2,FALSE))","v":""},"",{"$error":"#N/A"},null,null,null,null,null,null,null,null,"",false,2,{"$f":"VLOOKUP(H597,Database!$B$1:$E$4891,4,FALSE)","v":{"$error":"#N/A"}},true]
[593,null,null,null,null,null,null,null,{"$f":"IF(ISERROR(VLOOKUP(H598,Database!$B$1:$C$5908,2,FALSE)),\"\",VLOOKUP(H598,Database!$B$1:$C$5908,2,FALSE))","v":""},"",{"$error":"#N/A"},null,null,null,null,null,null,null,null,"",false,2,{"$f":"VLOOKUP(H598,Database!$B$1:$E$4891,4,FALSE)","v":{"$error":"#N/A"}},true]
[594,null,null,null,null,null,null,null,{"$f":"IF(ISERROR(VLOOKUP(H599,Database!$B$1:$C$5908,2,FALSE)),\"\",VLOOKUP(H599,Database!$B$1:$C$5908,2,FALSE))","v":""},"",{"$error":"#N/A"},null,null,null,null,null,null,null,null,"",false,2,{"$f":"VLOOKUP(H599,Database!$B$1:$E$4891,4,FALSE)","v":{"$error":"#N/A"}},true]
[595,null,null,null,null,null,null,null,{"$f":"IF(ISERROR(VLOOKUP(H600,Database!$B$1:$C$5908,2,FALSE)),\"\",VLOOKUP(H600,Database!$B$1:$C$5908,2,FALSE))","v":""},"",{"$error":"#N/A"},null,null,null,null,null,null,null,null,"",false,2,{"$f":"VLOOKUP(H600,Database!$B$1:$E$4891,4,FALSE)","v":{"$error":"#N/A"}},true]
[596,null,null,null,null,null,null,null,{"$f":"IF(ISERROR(VLOOKUP(H601,Database!$B$1:$C$5908,2,FALSE)),\"\",VLOOKUP(H601,Database!$B$1:$C$5908,2,FALSE))","v":""},"",{"$error":"#N/A"},null,null,null,null,null,null,null,null,"",false,2,{"$f":"VLOOKUP(H601,Database!$B$1:$E$4891,4,FALSE)","v":{"$error":"#N/A"}},true]
[597,null,null,null,null,null,null,null,{"$f":"IF(ISERROR(VLOOKUP(H602,Database!$B$1:$C$5908,2,FALSE)),\"\",VLOOKUP(H602,Database!$B$1:$C$5908,2,FALSE))","v":""},"",{"$error":"#N/A"},null,null,null,null,null,null,null,null,"",false,2,{"$f":"VLOOKUP(H602,Database!$B$1:$E$4891,4,FALSE)","v":{"$error":"#N/A"}},true]
[598,null,null,null,null,null,null,null,{"$f":"IF(ISERROR(VLOOKUP(H603,Database!$B$1:$C$5908,2,FALSE)),\"\",VLOOKUP(H603,Database!$B$1:$C$5908,2,FALSE))","v":""},"",{"$error":"#N/A"},null,null,null,null,null,null,null,null,"",false,2,{"$f":"VLOOKUP(H603,Database!$B$1:$E$4891,4,FALSE)","v":{"$error":"#N/A"}},true]
[599,null,null,null,null,null,null,null,{"$f":"IF(ISERROR(VLOOKUP(H604,Database!$B$1:$C$5908,2,FALSE)),\"\",VLOOKUP(H604,Database!$B$1:$C$5908,2,FALSE))","v":""},"",{"$error":"#N/A"},null,null,null,null,null,null,null,null,"",false,2,{"$f":"VLOOKUP(H604,Database!$B$1:$E$4891,4,FALSE)","v":{"$error":"#N/A"}},true]
[600,null,null,null,null,null,null,null,{"$f":"IF(ISERROR(VLOOKUP(H605,Database!$B$1:$C$5908,2,FALSE)),\"\",VLOOKUP(H605,Database!$B$1:$C$5908,2,FALSE))","v":""},"",{"$error":"#N/A"},null,null,null,null,null,null,null,null,"",false,2,{"$f":"VLOOKUP(H605,Database!$B$1:$E$4891,4,FALSE)","v":{"$error":"#N/A"}},true]
[601,null,null,null,null,null,null,null,{"$f":"IF(ISERROR(VLOOKUP(H606,Database!$B$1:$C$5908,2,FALSE)),\"\",VLOOKUP(H606,Database!$B$1:$C$5908,2,FALSE))","v":""},"",{"$error":"#N/A"},null,null,null,null,null,null,null,null,"",false,2,{"$f":"VLOOKUP(H606,Database!$B$1:$E$4891,4,FALSE)","v":{"$error":"#N/A"}},true]
[602,null,null,null,null,null,null,null,{"$f":"IF(ISERROR(VLOOKUP(H607,Database!$B$1:$C$5908,2,FALSE)),\"\",VLOOKUP(H607,Database!$B$1:$C$5908,2,FALSE))","v":""},"",{"$error":"#N/A"},null,null,null,null,null,null,null,null,"",false,2,{"$f":"VLOOKUP(H607,Database!$B$1:$E$4891,4,FALSE)","v":{"$error":"#N/A"}},true]
[603,null,null,null,null,null,null,null,{"$f":"IF(ISERROR(VLOOKUP(H608,Database!$B$1:$C$5908,2,FALSE)),\"\",VLOOKUP(H608,Database!$B$1:$C$5908,2,FALSE))","v":""},"",{"$error":"#N/A"},null,null,null,null,null,null,null,null,"",false,2,{"$f":"VLOOKUP(H608,Database!$B$1:$E$4891,4,FALSE)","v":{"$error":"#N/A"}},true]
[604,null,null,null,null,null,null,null,{"$f":"IF(ISERROR(VLOOKUP(H609,Database!$B$1:$C$5908,2,FALSE)),\"\",VLOOKUP(H609,Database!$B$1:$C$5908,2,FALSE))","v":""},"",{"$error":"#N/A"},null,null,null,null,null,null,null,null,"",false,2,{"$f":"VLOOKUP(H609,Database!$B$1:$E$4891,4,FALSE)","v":{"$error":"#N/A"}},true]
[605,null,null,null,null,null,null,null,{"$f":"IF(ISERROR(VLOOKUP(H610,Database!$B$1:$C$5908,2,FALSE)),\"\",VLOOKUP(H610,Database!$B$1:$C$5908,2,FALSE))","v":""},"",{"$error":"#N/A"},null,null,null,null,null,null,null,null,"",false,2,{"$f":"VLOOKUP(H610,Database!$B$1:$E$4891,4,FALSE)","v":{"$error":"#N/A"}},true]
[606,null,null,null,null,null,null,null,{"$f":"IF(ISERROR(VLOOKUP(H611,Database!$B$1:$C$5908,2,FALSE)),\"\",VLOOKUP(H611,Database!$B$1:$C$5908,2,FALSE))","v":""},"",{"$error":"#N/A"},null,null,null,null,null,null,null,null,"",false,2,{"$f":"VLOOKUP(H611,Database!$B$1:$E$4891,4,FALSE)","v":{"$error":"#N/A"}},true]
[607,null,null,null,null,null,null,null,{"$f":"IF(ISERROR(VLOOKUP(H612,Database!$B$1:$C$5908,2,FALSE)),\"\",VLOOKUP(H612,Database!$B$1:$C$5908,2,FALSE))","v":""},"",{"$error":"#N/A"},null,null,null,null,null,null,null,null,"",false,2,{"$f":"VLOOKUP(H612,Database!$B$1:$E$4891,4,FALSE)","v":{"$error":"#N/A"}},true]
[608,null,null,null,null,null,null,null,{"$f":"IF(ISERROR(VLOOKUP(H613,Database!$B$1:$C$5908,2,FALSE)),\"\",VLOOKUP(H613,Database!$B$1:$C$5908,2,FALSE))","v":""},"",{"$error":"#N/A"},null,null,null,null,null,null,null,null,"",false,2,{"$f":"VLOOKUP(H613,Database!$B$1:$E$4891,4,FALSE)","v":{"$error":"#N/A"}},true]
[609,null,null,null,null,null,null,null,{"$f":"IF(ISERROR(VLOOKUP(H614,Database!$B$1:$C$5908,2,FALSE)),\"\",VLOOKUP(H614,Database!$B$1:$C$5908,2,FALSE))","v":""},"",{"$error":"#N/A"},null,null,null,null,null,null,null,null,"",false,2,{"$f":"VLOOKUP(H614,Database!$B$1:$E$4891,4,FALSE)","v":{"$error":"#N/A"}},true]
[610,null,null,null,null,null,null,null,{"$f":"IF(ISERROR(VLOOKUP(H615,Database!$B$1:$C$5908,2,FALSE)),\"\",VLOOKUP(H615,Database!$B$1:$C$5908,2,FALSE))","v":""},"",{"$error":"#N/A"},null,null,null,null,null,null,null,null,"",false,2,{"$f":"VLOOKUP(H615,Database!$B$1:$E$4891,4,FALSE)","v":{"$error":"#N/A"}},true]
[611,null,null,null,null,null,null,null,{"$f":"IF(ISERROR(VLOOKUP(H616,Database!$B$1:$C$5908,2,FALSE)),\"\",VLOOKUP(H616,Database!$B$1:$C$5908,2,FALSE))","v":""},"",{"$error":"#N/A"},null,null,null,null,null,null,null,null,"",false,2,{"$f":"VLOOKUP(H616,Database!$B$1:$E$4891,4,FALSE)","v":{"$error":"#N/A"}},true]
[612,null,null,null,null,null,null,null,{"$f":"IF(ISERROR(VLOOKUP(H617,Database!$B$1:$C$5908,2,FALSE)),\"\",VLOOKUP(H617,Database!$B$1:$C$5908,2,FALSE))","v":""},"",{"$error":"#N/A"},null,null,null,null,null,null,null,null,"",false,2,{"$f":"VLOOKUP(H617,Database!$B$1:$E$4891,4,FALSE)","v":{"$error":"#N/A"}},true]
[613,null,null,null,null,null,null,null,{"$f":"IF(ISERROR(VLOOKUP(H618,Database!$B$1:$C$5908,2,FALSE)),\"\",VLOOKUP(H618,Database!$B$1:$C$5908,2,FALSE))","v":""},"",{"$error":"#N/A"},null,null,null,null,null,null,null,null,"",false,2,{"$f":"VLOOKUP(H618,Database!$B$1:$E$4891,4,FALSE)","v":{"$error":"#N/A"}},true]
[614,null,null,null,null,null,null,null,{"$f":"IF(ISERROR(VLOOKUP(H619,Database!$B$1:$C$5908,2,FALSE)),\"\",VLOOKUP(H619,Database!$B$1:$C$5908,2,FALSE))","v":""},"",{"$error":"#N/A"},null,null,null,null,null,null,null,null,"",false,2,{"$f":"VLOOKUP(H619,Database!$B$1:$E$4891,4,FALSE)","v":{"$error":"#N/A"}},true]
[615,null,null,null,null,null,null,null,{"$f":"IF(ISERROR(VLOOKUP(H620,Database!$B$1:$C$5908,2,FALSE)),\"\",VLOOKUP(H620,Database!$B$1:$C$5908,2,FALSE))","v":""},"",{"$error":"#N/A"},null,null,null,null,null,null,null,null,"",false,2,{"$f":"VLOOKUP(H620,Database!$B$1:$E$4891,4,FALSE)","v":{"$error":"#N/A"}},true]
[616,null,null,null,null,null,null,null,{"$f":"IF(ISERROR(VLOOKUP(H621,Database!$B$1:$C$5908,2,FALSE)),\"\",VLOOKUP(H621,Database!$B$1:$C$5908,2,FALSE))","v":""},"",{"$error":"#N/A"},null,null,null,null,null,null,null,null,"",false,2,{"$f":"VLOOKUP(H621,Database!$B$1:$E$4891,4,FALSE)","v":{"$error":"#N/A"}},true]
[617,null,null,null,null,null,null,null,{"$f":"IF(ISERROR(VLOOKUP(H622,Database!$B$1:$C$5908,2,FALSE)),\"\",VLOOKUP(H622,Database!$B$1:$C$5908,2,FALSE))","v":""},"",{"$error":"#N/A"},null,null,null,null,null,null,null,null,"",false,2,{"$f":"VLOOKUP(H622,Database!$B$1:$E$4891,4,FALSE)","v":{"$error":"#N/A"}},true]
[618,null,null,null,null,null,null,null,{"$f":"IF(ISERROR(VLOOKUP(H623,Database!$B$1:$C$5908,2,FALSE)),\"\",VLOOKUP(H623,Database!$B$1:$C$5908,2,FALSE))","v":""},"",{"$error":"#N/A"},null,null,null,null,null,null,null,null,"",false,2,{"$f":"VLOOKUP(H623,Database!$B$1:$E$4891,4,FALSE)","v":{"$error":"#N/A"}},true]
[619,null,null,null,null,null,null,null,{"$f":"IF(ISERROR(VLOOKUP(H624,Database!$B$1:$C$5908,2,FALSE)),\"\",VLOOKUP(H624,Database!$B$1:$C$5908,2,FALSE))","v":""},"",{"$error":"#N/A"},null,null,null,null,null,null,null,null,"",false,2,{"$f":"VLOOKUP(H624,Database!$B$1:$E$4891,4,FALSE)","v":{"$error":"#N/A"}},true]
[620,null,null,null,null,null,null,null,{"$f":"IF(ISERROR(VLOOKUP(H625,Database!$B$1:$C$5908,2,FALSE)),\"\",VLOOKUP(H625,Database!$B$1:$C$5908,2,FALSE))","v":""},"",{"$error":"#N/A"},null,null,null,null,null,null,null,null,"",false,2,{"$f":"VLOOKUP(H625,Database!$B$1:$E$4891,4,FALSE)","v":{"$error":"#N/A"}},true]
[621,null,null,null,null,null,null,null,{"$f":"IF(ISERROR(VLOOKUP(H626,Database!$B$1:$C$5908,2,FALSE)),\"\",VLOOKUP(H626,Database!$B$1:$C$5908,2,FALSE))","v":""},"",{"$error":"#N/A"},null,null,null,null,null,null,null,null,"",false,2,{"$f":"VLOOKUP(H626,Database!$B$1:$E$4891,4,FALSE)","v":{"$error":"#N/A"}},true]
[622,null,null,null,null,null,null,null,{"$f":"IF(ISERROR(VLOOKUP(H627,Database!$B$1:$C$5908,2,FALSE)),\"\",VLOOKUP(H627,Database!$B$1:$C$5908,2,FALSE))","v":""},"",{"$error":"#N/A"},null,null,null,null,null,null,null,null,"",false,2,{"$f":"VLOOKUP(H627,Database!$B$1:$E$4891,4,FALSE)","v":{"$error":"#N/A"}},true]
[623,null,null,null,null,null,null,null,{"$f":"IF(ISERROR(VLOOKUP(H628,Database!$B$1:$C$5908,2,FALSE)),\"\",VLOOKUP(H628,Database!$B$1:$C$5908,2,FALSE))","v":""},"",{"$error":"#N/A"},null,null,null,null,null,null,null,null,"",false,2,{"$f":"VLOOKUP(H628,Database!$B$1:$E$4891,4,FALSE)","v":{"$error":"#N/A"}},true]
[624,null,null,null,null,null,null,null,{"$f":"IF(ISERROR(VLOOKUP(H629,Database!$B$1:$C$5908,2,FALSE)),\"\",VLOOKUP(H629,Database!$B$1:$C$5908,2,FALSE))","v":""},"",{"$error":"#N/A"},null,null,null,null,null,null,null,null,"",false,2,{"$f":"VLOOKUP(H629,Database!$B$1:$E$4891,4,FALSE)","v":{"$error":"#N/A"}},true]
[625,null,null,null,null,null,null,null,{"$f":"IF(ISERROR(VLOOKUP(H630,Database!$B$1:$C$5908,2,FALSE)),\"\",VLOOKUP(H630,Database!$B$1:$C$5908,2,FALSE))","v":""},"",{"$error":"#N/A"},null,null,null,null,null,null,null,null,"",false,2,{"$f":"VLOOKUP(H630,Database!$B$1:$E$4891,4,FALSE)","v":{"$error":"#N/A"}},true]
[626,null,null,null,null,null,null,null,{"$f":"IF(ISERROR(VLOOKUP(H631,Database!$B$1:$C$5908,2,FALSE)),\"\",VLOOKUP(H631,Database!$B$1:$C$5908,2,FALSE))","v":""},"",{"$error":"#N/A"},null,null,null,null,null,null,null,null,"",false,2,{"$f":"VLOOKUP(H631,Database!$B$1:$E$4891,4,FALSE)","v":{"$error":"#N/A"}},true]
[627,null,null,null,null,null,null,null,{"$f":"IF(ISERROR(VLOOKUP(H632,Database!$B$1:$C$5908,2,FALSE)),\"\",VLOOKUP(H632,Database!$B$1:$C$5908,2,FALSE))","v":""},"",{"$error":"#N/A"},null,null,null,null,null,null,null,null,"",false,2,{"$f":"VLOOKUP(H632,Database!$B$1:$E$4891,4,FALSE)","v":{"$error":"#N/A"}},true]
[628,null,null,null,null,null,null,null,{"$f":"IF(ISERROR(VLOOKUP(H633,Database!$B$1:$C$5908,2,FALSE)),\"\",VLOOKUP(H633,Database!$B$1:$C$5908,2,FALSE))","v":""},"",{"$error":"#N/A"},null,null,null,null,null,null,null,null,"",false,2,{"$f":"VLOOKUP(H633,Database!$B$1:$E$4891,4,FALSE)","v":{"$error":"#N/A"}},true]
[629,null,null,null,null,null,null,null,{"$f":"IF(ISERROR(VLOOKUP(H634,Database!$B$1:$C$5908,2,FALSE)),\"\",VLOOKUP(H634,Database!$B$1:$C$5908,2,FALSE))","v":""},"",{"$error":"#N/A"},null,null,null,null,null,null,null,null,"",false,2,{"$f":"VLOOKUP(H634,Database!$B$1:$E$4891,4,FALSE)","v":{"$error":"#N/A"}},true]
[630,null,null,null,null,null,null,null,{"$f":"IF(ISERROR(VLOOKUP(H635,Database!$B$1:$C$5908,2,FALSE)),\"\",VLOOKUP(H635,Database!$B$1:$C$5908,2,FALSE))","v":""},"",{"$error":"#N/A"},null,null,null,null,null,null,null,null,"",false,2,{"$f":"VLOOKUP(H635,Database!$B$1:$E$4891,4,FALSE)","v":{"$error":"#N/A"}},true]
[631,null,null,null,null,null,null,null,{"$f":"IF(ISERROR(VLOOKUP(H636,Database!$B$1:$C$5908,2,FALSE)),\"\",VLOOKUP(H636,Database!$B$1:$C$5908,2,FALSE))","v":""},"",{"$error":"#N/A"},null,null,null,null,null,null,null,null,"",false,2,{"$f":"VLOOKUP(H636,Database!$B$1:$E$4891,4,FALSE)","v":{"$error":"#N/A"}},true]
[632,null,null,null,null,null,null,null,{"$f":"IF(ISERROR(VLOOKUP(H637,Database!$B$1:$C$5908,2,FALSE)),\"\",VLOOKUP(H637,Database!$B$1:$C$5908,2,FALSE))","v":""},"",{"$error":"#N/A"},null,null,null,null,null,null,null,null,"",false,2,{"$f":"VLOOKUP(H637,Database!$B$1:$E$4891,4,FALSE)","v":{"$error":"#N/A"}},true]
[633,null,null,null,null,null,null,null,{"$f":"IF(ISERROR(VLOOKUP(H638,Database!$B$1:$C$5908,2,FALSE)),\"\",VLOOKUP(H638,Database!$B$1:$C$5908,2,FALSE))","v":""},"",{"$error":"#N/A"},null,null,null,null,null,null,null,null,"",false,2,{"$f":"VLOOKUP(H638,Database!$B$1:$E$4891,4,FALSE)","v":{"$error":"#N/A"}},true]
[634,null,null,null,null,null,null,null,{"$f":"IF(ISERROR(VLOOKUP(H639,Database!$B$1:$C$5908,2,FALSE)),\"\",VLOOKUP(H639,Database!$B$1:$C$5908,2,FALSE))","v":""},"",{"$error":"#N/A"},null,null,null,null,null,null,null,null,"",false,2,{"$f":"VLOOKUP(H639,Database!$B$1:$E$4891,4,FALSE)","v":{"$error":"#N/A"}},true]
[635,null,null,null,null,null,null,null,{"$f":"IF(ISERROR(VLOOKUP(H640,Database!$B$1:$C$5908,2,FALSE)),\"\",VLOOKUP(H640,Database!$B$1:$C$5908,2,FALSE))","v":""},"",{"$error":"#N/A"},null,null,null,null,null,null,null,null,"",false,2,{"$f":"VLOOKUP(H640,Database!$B$1:$E$4891,4,FALSE)","v":{"$error":"#N/A"}},true]
[636,null,null,null,null,null,null,null,{"$f":"IF(ISERROR(VLOOKUP(H641,Database!$B$1:$C$5908,2,FALSE)),\"\",VLOOKUP(H641,Database!$B$1:$C$5908,2,FALSE))","v":""},"",{"$error":"#N/A"},null,null,null,null,null,null,null,null,"",false,2,{"$f":"VLOOKUP(H641,Database!$B$1:$E$4891,4,FALSE)","v":{"$error":"#N/A"}},true]
[637,null,null,null,null,null,null,null,{"$f":"IF(ISERROR(VLOOKUP(H642,Database!$B$1:$C$5908,2,FALSE)),\"\",VLOOKUP(H642,Database!$B$1:$C$5908,2,FALSE))","v":""},"",{"$error":"#N/A"},null,null,null,null,null,null,null,null,"",false,2,{"$f":"VLOOKUP(H642,Database!$B$1:$E$4891,4,FALSE)","v":{"$error":"#N/A"}},true]
[638,null,null,null,null,null,null,null,{"$f":"IF(ISERROR(VLOOKUP(H643,Database!$B$1:$C$5908,2,FALSE)),\"\",VLOOKUP(H643,Database!$B$1:$C$5908,2,FALSE))","v":""},"",{"$error":"#N/A"},null,null,null,null,null,null,null,null,"",false,2,{"$f":"VLOOKUP(H643,Database!$B$1:$E$4891,4,FALSE)","v":{"$error":"#N/A"}},true]
[639,null,null,null,null,null,null,null,{"$f":"IF(ISERROR(VLOOKUP(H644,Database!$B$1:$C$5908,2,FALSE)),\"\",VLOOKUP(H644,Database!$B$1:$C$5908,2,FALSE))","v":""},"",{"$error":"#N/A"},null,null,null,null,null,null,null,null,"",false,2,{"$f":"VLOOKUP(H644,Database!$B$1:$E$4891,4,FALSE)","v":{"$error":"#N/A"}},true]
[640,null,null,null,null,null,null,null,{"$f":"IF(ISERROR(VLOOKUP(H645,Database!$B$1:$C$5908,2,FALSE)),\"\",VLOOKUP(H645,Database!$B$1:$C$5908,2,FALSE))","v":""},"",{"$error":"#N/A"},null,null,null,null,null,null,null,null,"",false,2,{"$f":"VLOOKUP(H645,Database!$B$1:$E$4891,4,FALSE)","v":{"$error":"#N/A"}},true]
[641,null,null,null,null,null,null,null,{"$f":"IF(ISERROR(VLOOKUP(H646,Database!$B$1:$C$5908,2,FALSE)),\"\",VLOOKUP(H646,Database!$B$1:$C$5908,2,FALSE))","v":""},"",{"$error":"#N/A"},null,null,null,null,null,null,null,null,"",false,2,{"$f":"VLOOKUP(H646,Database!$B$1:$E$4891,4,FALSE)","v":{"$error":"#N/A"}},true]
[{"$f":"A646+1","v":642},null,null,null,null,null,null,null,{"$f":"IF(ISERROR(VLOOKUP(H647,Database!$B$1:$C$5908,2,FALSE)),\"\",VLOOKUP(H647,Database!$B$1:$C$5908,2,FALSE))","v":""},{"$f":"IF(V647=1,1,IF(AND(T647=0,F647=\"SSB\",V647<>\"\"),2,IF(AND(T647=0,F647=\"FM\",V647<>\"\"),2,IF(AND(T647=0,F647=\"DIGI\",V647<>\"\"),3,IF(AND(T647=0,F647=\"CW\",V647<>\"\"),5,IF(H647=\"-\",\"\",T647))))))","v":""},{"$f":"IF(H647=\"-\",\"\",IF(AND(H647<>\"\",X647=TRUE),\"INDIPENDENT\",IF(W647=0,\"SCRIVI NOME NELLE NOTE\",W647)))","v":{"$error":"#N/A"}},null,null,null,null,null,null,null,null,{"$f":"IF(H647=\"\",\"\",IF(H647=$R$6,25,IF(OR(H647=$R$7,H647=$R$8,H647=$R$9,H647=$R$10,H647=$R$11,H647=$R$12,H647=$R$13,H647=$R$14,H647=$R$15,H647=$R$16,H647=$R$17,H647=$R$18,H647=$R$19,H647=$R$20,H647=$R$21,H647=$R$22,H647=$R$23),15,0)))","v":""},{"$f":"ISERROR(I647)","v":false},2,{"$f":"VLOOKUP(H647,Database!$B$1:$E$4891,4,FALSE)","v":{"$error":"#N/A"}},{"$f":"ISERROR(W647)","v":true}]
[643,null,null,null,null,null,null,null,{"$f":"IF(ISERROR(VLOOKUP(H648,Database!$B$1:$C$5908,2,FALSE)),\"\",VLOOKUP(H648,Database!$B$1:$C$5908,2,FALSE))","v":""},"",{"$error":"#N/A"},null,null,null,null,null,null,null,null,"",false,{"$f":"IF(H648=\"-\",\"\",IF(AND(T648=0,U648=FALSE,I648=\"\"),1,2))","v":2},{"$f":"VLOOKUP(H648,Database!$B$1:$E$4891,4,FALSE)","v":{"$error":"#N/A"}},true]
[644,null,null,null,null,null,null,null,{"$f":"IF(ISERROR(VLOOKUP(H649,Database!$B$1:$C$5908,2,FALSE)),\"\",VLOOKUP(H649,Database!$B$1:$C$5908,2,FALSE))","v":""},"",{"$error":"#N/A"},null,null,null,null,null,null,null,null,"",false,2,{"$f":"VLOOKUP(H649,Database!$B$1:$E$4891,4,FALSE)","v":{"$error":"#N/A"}},true]
[645,null,null,null,null,null,null,null,{"$f":"IF(ISERROR(VLOOKUP(H650,Database!$B$1:$C$5908,2,FALSE)),\"\",VLOOKUP(H650,Database!$B$1:$C$5908,2,FALSE))","v":""},"",{"$error":"#N/A"},null,null,null,null,null,null,null,null,"",false,2,{"$f":"VLOOKUP(H650,Database!$B$1:$E$4891,4,FALSE)","v":{"$error":"#N/A"}},true]
[646,null,null,null,null,null,null,null,{"$f":"IF(ISERROR(VLOOKUP(H651,Database!$B$1:$C$5908,2,FALSE)),\"\",VLOOKUP(H651,Database!$B$1:$C$5908,2,FALSE))","v":""},"",{"$error":"#N/A"},null,null,null,null,null,null,null,null,"",false,2,{"$f":"VLOOKUP(H651,Database!$B$1:$E$4891,4,FALSE)","v":{"$error":"#N/A"}},true]
[647,null,null,null,null,null,null,null,{"$f":"IF(ISERROR(VLOOKUP(H652,Database!$B$1:$C$5908,2,FALSE)),\"\",VLOOKUP(H652,Database!$B$1:$C$5908,2,FALSE))","v":""},"",{"$error":"#N/A"},null,null,null,null,null,null,null,null,"",false,2,{"$f":"VLOOKUP(H652,Database!$B$1:$E$4891,4,FALSE)","v":{"$error":"#N/A"}},true]
[648,null,null,null,null,null,null,null,{"$f":"IF(ISERROR(VLOOKUP(H653,Database!$B$1:$C$5908,2,FALSE)),\"\",VLOOKUP(H653,Database!$B$1:$C$5908,2,FALSE))","v":""},"",{"$error":"#N/A"},null,null,null,null,null,null,null,null,"",false,2,{"$f":"VLOOKUP(H653,Database!$B$1:$E$4891,4,FALSE)","v":{"$error":"#N/A"}},true]
[649,null,null,null,null,null,null,null,{"$f":"IF(ISERROR(VLOOKUP(H654,Database!$B$1:$C$5908,2,FALSE)),\"\",VLOOKUP(H654,Database!$B$1:$C$5908,2,FALSE))","v":""},"",{"$error":"#N/A"},null,null,null,null,null,null,null,null,"",false,2,{"$f":"VLOOKUP(H654,Database!$B$1:$E$4891,4,FALSE)","v":{"$error":"#N/A"}},true]
[650,null,null,null,null,null,null,null,{"$f":"IF(ISERROR(VLOOKUP(H655,Database!$B$1:$C$5908,2,FALSE)),\"\",VLOOKUP(H655,Database!$B$1:$C$5908,2,FALSE))","v":""},"",{"$error":"#N/A"},null,null,null,null,null,null,null,null,"",false,2,{"$f":"VLOOKUP(H655,Database!$B$1:$E$4891,4,FALSE)","v":{"$error":"#N/A"}},true]
[651,null,null,null,null,null,null,null,{"$f":"IF(ISERROR(VLOOKUP(H656,Database!$B$1:$C$5908,2,FALSE)),\"\",VLOOKUP(H656,Database!$B$1:$C$5908,2,FALSE))","v":""},"",{"$error":"#N/A"},null,null,null,null,null,null,null,null,"",false,2,{"$f":"VLOOKUP(H656,Database!$B$1:$E$4891,4,FALSE)","v":{"$error":"#N/A"}},true]
[652,null,null,null,null,null,null,null,{"$f":"IF(ISERROR(VLOOKUP(H657,Database!$B$1:$C$5908,2,FALSE)),\"\",VLOOKUP(H657,Database!$B$1:$C$5908,2,FALSE))","v":""},"",{"$error":"#N/A"},null,null,null,null,null,null,null,null,"",false,2,{"$f":"VLOOKUP(H657,Database!$B$1:$E$4891,4,FALSE)","v":{"$error":"#N/A"}},true]
[653,null,null,null,null,null,null,null,{"$f":"IF(ISERROR(VLOOKUP(H658,Database!$B$1:$C$5908,2,FALSE)),\"\",VLOOKUP(H658,Database!$B$1:$C$5908,2,FALSE))","v":""},"",{"$error":"#N/A"},null,null,null,null,null,null,null,null,"",false,2,{"$f":"VLOOKUP(H658,Database!$B$1:$E$4891,4,FALSE)","v":{"$error":"#N/A"}},true]
[654,null,null,null,null,null,null,null,{"$f":"IF(ISERROR(VLOOKUP(H659,Database!$B$1:$C$5908,2,FALSE)),\"\",VLOOKUP(H659,Database!$B$1:$C$5908,2,FALSE))","v":""},"",{"$error":"#N/A"},null,null,null,null,null,null,null,null,"",false,2,{"$f":"VLOOKUP(H659,Database!$B$1:$E$4891,4,FALSE)","v":{"$error":"#N/A"}},true]
[655,null,null,null,null,null,null,null,{"$f":"IF(ISERROR(VLOOKUP(H660,Database!$B$1:$C$5908,2,FALSE)),\"\",VLOOKUP(H660,Database!$B$1:$C$5908,2,FALSE))","v":""},"",{"$error":"#N/A"},null,null,null,null,null,null,null,null,"",false,2,{"$f":"VLOOKUP(H660,Database!$B$1:$E$4891,4,FALSE)","v":{"$error":"#N/A"}},true]
[656,null,null,null,null,null,null,null,{"$f":"IF(ISERROR(VLOOKUP(H661,Database!$B$1:$C$5908,2,FALSE)),\"\",VLOOKUP(H661,Database!$B$1:$C$5908,2,FALSE))","v":""},"",{"$error":"#N/A"},null,null,null,null,null,null,null,null,"",false,2,{"$f":"VLOOKUP(H661,Database!$B$1:$E$4891,4,FALSE)","v":{"$error":"#N/A"}},true]
[657,null,null,null,null,null,null,null,{"$f":"IF(ISERROR(VLOOKUP(H662,Database!$B$1:$C$5908,2,FALSE)),\"\",VLOOKUP(H662,Database!$B$1:$C$5908,2,FALSE))","v":""},"",{"$error":"#N/A"},null,null,null,null,null,null,null,null,"",false,2,{"$f":"VLOOKUP(H662,Database!$B$1:$E$4891,4,FALSE)","v":{"$error":"#N/A"}},true]
[658,null,null,null,null,null,null,null,{"$f":"IF(ISERROR(VLOOKUP(H663,Database!$B$1:$C$5908,2,FALSE)),\"\",VLOOKUP(H663,Database!$B$1:$C$5908,2,FALSE))","v":""},"",{"$error":"#N/A"},null,null,null,null,null,null,null,null,"",false,2,{"$f":"VLOOKUP(H663,Database!$B$1:$E$4891,4,FALSE)","v":{"$error":"#N/A"}},true]
[659,null,null,null,null,null,null,null,{"$f":"IF(ISERROR(VLOOKUP(H664,Database!$B$1:$C$5908,2,FALSE)),\"\",VLOOKUP(H664,Database!$B$1:$C$5908,2,FALSE))","v":""},"",{"$error":"#N/A"},null,null,null,null,null,null,null,null,"",false,2,{"$f":"VLOOKUP(H664,Database!$B$1:$E$4891,4,FALSE)","v":{"$error":"#N/A"}},true]
[660,null,null,null,null,null,null,null,{"$f":"IF(ISERROR(VLOOKUP(H665,Database!$B$1:$C$5908,2,FALSE)),\"\",VLOOKUP(H665,Database!$B$1:$C$5908,2,FALSE))","v":""},"",{"$error":"#N/A"},null,null,null,null,null,null,null,null,"",false,2,{"$f":"VLOOKUP(H665,Database!$B$1:$E$4891,4,FALSE)","v":{"$error":"#N/A"}},true]
[661,null,null,null,null,null,null,null,{"$f":"IF(ISERROR(VLOOKUP(H666,Database!$B$1:$C$5908,2,FALSE)),\"\",VLOOKUP(H666,Database!$B$1:$C$5908,2,FALSE))","v":""},"",{"$error":"#N/A"},null,null,null,null,null,null,null,null,"",false,2,{"$f":"VLOOKUP(H666,Database!$B$1:$E$4891,4,FALSE)","v":{"$error":"#N/A"}},true]
[662,null,null,null,null,null,null,null,{"$f":"IF(ISERROR(VLOOKUP(H667,Database!$B$1:$C$5908,2,FALSE)),\"\",VLOOKUP(H667,Database!$B$1:$C$5908,2,FALSE))","v":""},"",{"$error":"#N/A"},null,null,null,null,null,null,null,null,"",false,2,{"$f":"VLOOKUP(H667,Database!$B$1:$E$4891,4,FALSE)","v":{"$error":"#N/A"}},true]
[663,null,null,null,null,null,null,null,{"$f":"IF(ISERROR(VLOOKUP(H668,Database!$B$1:$C$5908,2,FALSE)),\"\",VLOOKUP(H668,Database!$B$1:$C$5908,2,FALSE))","v":""},"",{"$error":"#N/A"},null,null,null,null,null,null,null,null,"",false,2,{"$f":"VLOOKUP(H668,Database!$B$1:$E$4891,4,FALSE)","v":{"$error":"#N/A"}},true]
[664,null,null,null,null,null,null,null,{"$f":"IF(ISERROR(VLOOKUP(H669,Database!$B$1:$C$5908,2,FALSE)),\"\",VLOOKUP(H669,Database!$B$1:$C$5908,2,FALSE))","v":""},"",{"$error":"#N/A"},null,null,null,null,null,null,null,null,"",false,2,{"$f":"VLOOKUP(H669,Database!$B$1:$E$4891,4,FALSE)","v":{"$error":"#N/A"}},true]
[665,null,null,null,null,null,null,null,{"$f":"IF(ISERROR(VLOOKUP(H670,Database!$B$1:$C$5908,2,FALSE)),\"\",VLOOKUP(H670,Database!$B$1:$C$5908,2,FALSE))","v":""},"",{"$error":"#N/A"},null,null,null,null,null,null,null,null,"",false,2,{"$f":"VLOOKUP(H670,Database!$B$1:$E$4891,4,FALSE)","v":{"$error":"#N/A"}},true]
[666,null,null,null,null,null,null,null,{"$f":"IF(ISERROR(VLOOKUP(H671,Database!$B$1:$C$5908,2,FALSE)),\"\",VLOOKUP(H671,Database!$B$1:$C$5908,2,FALSE))","v":""},"",{"$error":"#N/A"},null,null,null,null,null,null,null,null,"",false,2,{"$f":"VLOOKUP(H671,Database!$B$1:$E$4891,4,FALSE)","v":{"$error":"#N/A"}},true]
[667,null,null,null,null,null,null,null,{"$f":"IF(ISERROR(VLOOKUP(H672,Database!$B$1:$C$5908,2,FALSE)),\"\",VLOOKUP(H672,Database!$B$1:$C$5908,2,FALSE))","v":""},"",{"$error":"#N/A"},null,null,null,null,null,null,null,null,"",false,2,{"$f":"VLOOKUP(H672,Database!$B$1:$E$4891,4,FALSE)","v":{"$error":"#N/A"}},true]
[668,null,null,null,null,null,null,null,{"$f":"IF(ISERROR(VLOOKUP(H673,Database!$B$1:$C$5908,2,FALSE)),\"\",VLOOKUP(H673,Database!$B$1:$C$5908,2,FALSE))","v":""},"",{"$error":"#N/A"},null,null,null,null,null,null,null,null,"",false,2,{"$f":"VLOOKUP(H673,Database!$B$1:$E$4891,4,FALSE)","v":{"$error":"#N/A"}},true]
[669,null,null,null,null,null,null,null,{"$f":"IF(ISERROR(VLOOKUP(H674,Database!$B$1:$C$5908,2,FALSE)),\"\",VLOOKUP(H674,Database!$B$1:$C$5908,2,FALSE))","v":""},"",{"$error":"#N/A"},null,null,null,null,null,null,null,null,"",false,2,{"$f":"VLOOKUP(H674,Database!$B$1:$E$4891,4,FALSE)","v":{"$error":"#N/A"}},true]
[670,null,null,null,null,null,null,null,{"$f":"IF(ISERROR(VLOOKUP(H675,Database!$B$1:$C$5908,2,FALSE)),\"\",VLOOKUP(H675,Database!$B$1:$C$5908,2,FALSE))","v":""},"",{"$error":"#N/A"},null,null,null,null,null,null,null,null,"",false,2,{"$f":"VLOOKUP(H675,Database!$B$1:$E$4891,4,FALSE)","v":{"$error":"#N/A"}},true]
[671,null,null,null,null,null,null,null,{"$f":"IF(ISERROR(VLOOKUP(H676,Database!$B$1:$C$5908,2,FALSE)),\"\",VLOOKUP(H676,Database!$B$1:$C$5908,2,FALSE))","v":""},"",{"$error":"#N/A"},null,null,null,null,null,null,null,null,"",false,2,{"$f":"VLOOKUP(H676,Database!$B$1:$E$4891,4,FALSE)","v":{"$error":"#N/A"}},true]
[672,null,null,null,null,null,null,null,{"$f":"IF(ISERROR(VLOOKUP(H677,Database!$B$1:$C$5908,2,FALSE)),\"\",VLOOKUP(H677,Database!$B$1:$C$5908,2,FALSE))","v":""},"",{"$error":"#N/A"},null,null,null,null,null,null,null,null,"",false,2,{"$f":"VLOOKUP(H677,Database!$B$1:$E$4891,4,FALSE)","v":{"$error":"#N/A"}},true]
[673,null,null,null,null,null,null,null,{"$f":"IF(ISERROR(VLOOKUP(H678,Database!$B$1:$C$5908,2,FALSE)),\"\",VLOOKUP(H678,Database!$B$1:$C$5908,2,FALSE))","v":""},"",{"$error":"#N/A"},null,null,null,null,null,null,null,null,"",false,2,{"$f":"VLOOKUP(H678,Database!$B$1:$E$4891,4,FALSE)","v":{"$error":"#N/A"}},true]
[674,null,null,null,null,null,null,null,{"$f":"IF(ISERROR(VLOOKUP(H679,Database!$B$1:$C$5908,2,FALSE)),\"\",VLOOKUP(H679,Database!$B$1:$C$5908,2,FALSE))","v":""},"",{"$error":"#N/A"},null,null,null,null,null,null,null,null,"",false,2,{"$f":"VLOOKUP(H679,Database!$B$1:$E$4891,4,FALSE)","v":{"$error":"#N/A"}},true]
[675,null,null,null,null,null,null,null,{"$f":"IF(ISERROR(VLOOKUP(H680,Database!$B$1:$C$5908,2,FALSE)),\"\",VLOOKUP(H680,Database!$B$1:$C$5908,2,FALSE))","v":""},"",{"$error":"#N/A"},null,null,null,null,null,null,null,null,"",false,2,{"$f":"VLOOKUP(H680,Database!$B$1:$E$4891,4,FALSE)","v":{"$error":"#N/A"}},true]
[676,null,null,null,null,null,null,null,{"$f":"IF(ISERROR(VLOOKUP(H681,Database!$B$1:$C$5908,2,FALSE)),\"\",VLOOKUP(H681,Database!$B$1:$C$5908,2,FALSE))","v":""},"",{"$error":"#N/A"},null,null,null,null,null,null,null,null,"",false,2,{"$f":"VLOOKUP(H681,Database!$B$1:$E$4891,4,FALSE)","v":{"$error":"#N/A"}},true]
[677,null,null,null,null,null,null,null,{"$f":"IF(ISERROR(VLOOKUP(H682,Database!$B$1:$C$5908,2,FALSE)),\"\",VLOOKUP(H682,Database!$B$1:$C$5908,2,FALSE))","v":""},"",{"$error":"#N/A"},null,null,null,null,null,null,null,null,"",false,2,{"$f":"VLOOKUP(H682,Database!$B$1:$E$4891,4,FALSE)","v":{"$error":"#N/A"}},true]
[678,null,null,null,null,null,null,null,{"$f":"IF(ISERROR(VLOOKUP(H683,Database!$B$1:$C$5908,2,FALSE)),\"\",VLOOKUP(H683,Database!$B$1:$C$5908,2,FALSE))","v":""},"",{"$error":"#N/A"},null,null,null,null,null,null,null,null,"",false,2,{"$f":"VLOOKUP(H683,Database!$B$1:$E$4891,4,FALSE)","v":{"$error":"#N/A"}},true]
[679,null,null,null,null,null,null,null,{"$f":"IF(ISERROR(VLOOKUP(H684,Database!$B$1:$C$5908,2,FALSE)),\"\",VLOOKUP(H684,Database!$B$1:$C$5908,2,FALSE))","v":""},"",{"$error":"#N/A"},null,null,null,null,null,null,null,null,"",false,2,{"$f":"VLOOKUP(H684,Database!$B$1:$E$4891,4,FALSE)","v":{"$error":"#N/A"}},true]
[680,null,null,null,null,null,null,null,{"$f":"IF(ISERROR(VLOOKUP(H685,Database!$B$1:$C$5908,2,FALSE)),\"\",VLOOKUP(H685,Database!$B$1:$C$5908,2,FALSE))","v":""},"",{"$error":"#N/A"},null,null,null,null,null,null,null,null,"",false,2,{"$f":"VLOOKUP(H685,Database!$B$1:$E$4891,4,FALSE)","v":{"$error":"#N/A"}},true]
[681,null,null,null,null,null,null,null,{"$f":"IF(ISERROR(VLOOKUP(H686,Database!$B$1:$C$5908,2,FALSE)),\"\",VLOOKUP(H686,Database!$B$1:$C$5908,2,FALSE))","v":""},"",{"$error":"#N/A"},null,null,null,null,null,null,null,null,"",false,2,{"$f":"VLOOKUP(H686,Database!$B$1:$E$4891,4,FALSE)","v":{"$error":"#N/A"}},true]
[682,null,null,null,null,null,null,null,{"$f":"IF(ISERROR(VLOOKUP(H687,Database!$B$1:$C$5908,2,FALSE)),\"\",VLOOKUP(H687,Database!$B$1:$C$5908,2,FALSE))","v":""},"",{"$error":"#N/A"},null,null,null,null,null,null,null,null,"",false,2,{"$f":"VLOOKUP(H687,Database!$B$1:$E$4891,4,FALSE)","v":{"$error":"#N/A"}},true]
[683,null,null,null,null,null,null,null,{"$f":"IF(ISERROR(VLOOKUP(H688,Database!$B$1:$C$5908,2,FALSE)),\"\",VLOOKUP(H688,Database!$B$1:$C$5908,2,FALSE))","v":""},"",{"$error":"#N/A"},null,null,null,null,null,null,null,null,"",false,2,{"$f":"VLOOKUP(H688,Database!$B$1:$E$4891,4,FALSE)","v":{"$error":"#N/A"}},true]
[684,null,null,null,null,null,null,null,{"$f":"IF(ISERROR(VLOOKUP(H689,Database!$B$1:$C$5908,2,FALSE)),\"\",VLOOKUP(H689,Database!$B$1:$C$5908,2,FALSE))","v":""},"",{"$error":"#N/A"},null,null,null,null,null,null,null,null,"",false,2,{"$f":"VLOOKUP(H689,Database!$B$1:$E$4891,4,FALSE)","v":{"$error":"#N/A"}},true]
[685,null,null,null,null,null,null,null,{"$f":"IF(ISERROR(VLOOKUP(H690,Database!$B$1:$C$5908,2,FALSE)),\"\",VLOOKUP(H690,Database!$B$1:$C$5908,2,FALSE))","v":""},"",{"$error":"#N/A"},null,null,null,null,null,null,null,null,"",false,2,{"$f":"VLOOKUP(H690,Database!$B$1:$E$4891,4,FALSE)","v":{"$error":"#N/A"}},true]
[686,null,null,null,null,null,null,null,{"$f":"IF(ISERROR(VLOOKUP(H691,Database!$B$1:$C$5908,2,FALSE)),\"\",VLOOKUP(H691,Database!$B$1:$C$5908,2,FALSE))","v":""},"",{"$error":"#N/A"},null,null,null,null,null,null,null,null,"",false,2,{"$f":"VLOOKUP(H691,Database!$B$1:$E$4891,4,FALSE)","v":{"$error":"#N/A"}},true]
[687,null,null,null,null,null,null,null,{"$f":"IF(ISERROR(VLOOKUP(H692,Database!$B$1:$C$5908,2,FALSE)),\"\",VLOOKUP(H692,Database!$B$1:$C$5908,2,FALSE))","v":""},"",{"$error":"#N/A"},null,null,null,null,null,null,null,null,"",false,2,{"$f":"VLOOKUP(H692,Database!$B$1:$E$4891,4,FALSE)","v":{"$error":"#N/A"}},true]
[688,null,null,null,null,null,null,null,{"$f":"IF(ISERROR(VLOOKUP(H693,Database!$B$1:$C$5908,2,FALSE)),\"\",VLOOKUP(H693,Database!$B$1:$C$5908,2,FALSE))","v":""},"",{"$error":"#N/A"},null,null,null,null,null,null,null,null,"",false,2,{"$f":"VLOOKUP(H693,Database!$B$1:$E$4891,4,FALSE)","v":{"$error":"#N/A"}},true]
[689,null,null,null,null,null,null,null,{"$f":"IF(ISERROR(VLOOKUP(H694,Database!$B$1:$C$5908,2,FALSE)),\"\",VLOOKUP(H694,Database!$B$1:$C$5908,2,FALSE))","v":""},"",{"$error":"#N/A"},null,null,null,null,null,null,null,null,"",false,2,{"$f":"VLOOKUP(H694,Database!$B$1:$E$4891,4,FALSE)","v":{"$error":"#N/A"}},true]
[690,null,null,null,null,null,null,null,{"$f":"IF(ISERROR(VLOOKUP(H695,Database!$B$1:$C$5908,2,FALSE)),\"\",VLOOKUP(H695,Database!$B$1:$C$5908,2,FALSE))","v":""},"",{"$error":"#N/A"},null,null,null,null,null,null,null,null,"",false,2,{"$f":"VLOOKUP(H695,Database!$B$1:$E$4891,4,FALSE)","v":{"$error":"#N/A"}},true]
[691,null,null,null,null,null,null,null,{"$f":"IF(ISERROR(VLOOKUP(H696,Database!$B$1:$C$5908,2,FALSE)),\"\",VLOOKUP(H696,Database!$B$1:$C$5908,2,FALSE))","v":""},"",{"$error":"#N/A"},null,null,null,null,null,null,null,null,"",false,2,{"$f":"VLOOKUP(H696,Database!$B$1:$E$4891,4,FALSE)","v":{"$error":"#N/A"}},true]
[692,null,null,null,null,null,null,null,{"$f":"IF(ISERROR(VLOOKUP(H697,Database!$B$1:$C$5908,2,FALSE)),\"\",VLOOKUP(H697,Database!$B$1:$C$5908,2,FALSE))","v":""},"",{"$error":"#N/A"},null,null,null,null,null,null,null,null,"",false,2,{"$f":"VLOOKUP(H697,Database!$B$1:$E$4891,4,FALSE)","v":{"$error":"#N/A"}},true]
[693,null,null,null,null,null,null,null,{"$f":"IF(ISERROR(VLOOKUP(H698,Database!$B$1:$C$5908,2,FALSE)),\"\",VLOOKUP(H698,Database!$B$1:$C$5908,2,FALSE))","v":""},"",{"$error":"#N/A"},null,null,null,null,null,null,null,null,"",false,2,{"$f":"VLOOKUP(H698,Database!$B$1:$E$4891,4,FALSE)","v":{"$error":"#N/A"}},true]
[694,null,null,null,null,null,null,null,{"$f":"IF(ISERROR(VLOOKUP(H699,Database!$B$1:$C$5908,2,FALSE)),\"\",VLOOKUP(H699,Database!$B$1:$C$5908,2,FALSE))","v":""},"",{"$error":"#N/A"},null,null,null,null,null,null,null,null,"",false,2,{"$f":"VLOOKUP(H699,Database!$B$1:$E$4891,4,FALSE)","v":{"$error":"#N/A"}},true]
[695,null,null,null,null,null,null,null,{"$f":"IF(ISERROR(VLOOKUP(H700,Database!$B$1:$C$5908,2,FALSE)),\"\",VLOOKUP(H700,Database!$B$1:$C$5908,2,FALSE))","v":""},"",{"$error":"#N/A"},null,null,null,null,null,null,null,null,"",false,2,{"$f":"VLOOKUP(H700,Database!$B$1:$E$4891,4,FALSE)","v":{"$error":"#N/A"}},true]
[696,null,null,null,null,null,null,null,{"$f":"IF(ISERROR(VLOOKUP(H701,Database!$B$1:$C$5908,2,FALSE)),\"\",VLOOKUP(H701,Database!$B$1:$C$5908,2,FALSE))","v":""},"",{"$error":"#N/A"},null,null,null,null,null,null,null,null,"",false,2,{"$f":"VLOOKUP(H701,Database!$B$1:$E$4891,4,FALSE)","v":{"$error":"#N/A"}},true]
[697,null,null,null,null,null,null,null,{"$f":"IF(ISERROR(VLOOKUP(H702,Database!$B$1:$C$5908,2,FALSE)),\"\",VLOOKUP(H702,Database!$B$1:$C$5908,2,FALSE))","v":""},"",{"$error":"#N/A"},null,null,null,null,null,null,null,null,"",false,2,{"$f":"VLOOKUP(H702,Database!$B$1:$E$4891,4,FALSE)","v":{"$error":"#N/A"}},true]
[698,null,null,null,null,null,null,null,{"$f":"IF(ISERROR(VLOOKUP(H703,Database!$B$1:$C$5908,2,FALSE)),\"\",VLOOKUP(H703,Database!$B$1:$C$5908,2,FALSE))","v":""},"",{"$error":"#N/A"},null,null,null,null,null,null,null,null,"",false,2,{"$f":"VLOOKUP(H703,Database!$B$1:$E$4891,4,FALSE)","v":{"$error":"#N/A"}},true]
[699,null,null,null,null,null,null,null,{"$f":"IF(ISERROR(VLOOKUP(H704,Database!$B$1:$C$5908,2,FALSE)),\"\",VLOOKUP(H704,Database!$B$1:$C$5908,2,FALSE))","v":""},"",{"$error":"#N/A"},null,null,null,null,null,null,null,null,"",false,2,{"$f":"VLOOKUP(H704,Database!$B$1:$E$4891,4,FALSE)","v":{"$error":"#N/A"}},true]
[700,null,null,null,null,null,null,null,{"$f":"IF(ISERROR(VLOOKUP(H705,Database!$B$1:$C$5908,2,FALSE)),\"\",VLOOKUP(H705,Database!$B$1:$C$5908,2,FALSE))","v":""},"",{"$error":"#N/A"},null,null,null,null,null,null,null,null,"",false,2,{"$f":"VLOOKUP(H705,Database!$B$1:$E$4891,4,FALSE)","v":{"$error":"#N/A"}},true]
[701,null,null,null,null,null,null,null,{"$f":"IF(ISERROR(VLOOKUP(H706,Database!$B$1:$C$5908,2,FALSE)),\"\",VLOOKUP(H706,Database!$B$1:$C$5908,2,FALSE))","v":""},"",{"$error":"#N/A"},null,null,null,null,null,null,null,null,"",false,2,{"$f":"VLOOKUP(H706,Database!$B$1:$E$4891,4,FALSE)","v":{"$error":"#N/A"}},true]
[702,null,null,null,null,null,null,null,{"$f":"IF(ISERROR(VLOOKUP(H707,Database!$B$1:$C$5908,2,FALSE)),\"\",VLOOKUP(H707,Database!$B$1:$C$5908,2,FALSE))","v":""},"",{"$error":"#N/A"},null,null,null,null,null,null,null,null,"",false,2,{"$f":"VLOOKUP(H707,Database!$B$1:$E$4891,4,FALSE)","v":{"$error":"#N/A"}},true]
[703,null,null,null,null,null,null,null,{"$f":"IF(ISERROR(VLOOKUP(H708,Database!$B$1:$C$5908,2,FALSE)),\"\",VLOOKUP(H708,Database!$B$1:$C$5908,2,FALSE))","v":""},"",{"$error":"#N/A"},null,null,null,null,null,null,null,null,"",false,2,{"$f":"VLOOKUP(H708,Database!$B$1:$E$4891,4,FALSE)","v":{"$error":"#N/A"}},true]
[704,null,null,null,null,null,null,null,{"$f":"IF(ISERROR(VLOOKUP(H709,Database!$B$1:$C$5908,2,FALSE)),\"\",VLOOKUP(H709,Database!$B$1:$C$5908,2,FALSE))","v":""},"",{"$error":"#N/A"},null,null,null,null,null,null,null,null,"",false,2,{"$f":"VLOOKUP(H709,Database!$B$1:$E$4891,4,FALSE)","v":{"$error":"#N/A"}},true]
[705,null,null,null,null,null,null,null,{"$f":"IF(ISERROR(VLOOKUP(H710,Database!$B$1:$C$5908,2,FALSE)),\"\",VLOOKUP(H710,Database!$B$1:$C$5908,2,FALSE))","v":""},"",{"$error":"#N/A"},null,null,null,null,null,null,null,null,"",false,2,{"$f":"VLOOKUP(H710,Database!$B$1:$E$4891,4,FALSE)","v":{"$error":"#N/A"}},true]
[{"$f":"A710+1","v":706},null,null,null,null,null,null,null,{"$f":"IF(ISERROR(VLOOKUP(H711,Database!$B$1:$C$5908,2,FALSE)),\"\",VLOOKUP(H711,Database!$B$1:$C$5908,2,FALSE))","v":""},{"$f":"IF(V711=1,1,IF(AND(T711=0,F711=\"SSB\",V711<>\"\"),2,IF(AND(T711=0,F711=\"FM\",V711<>\"\"),2,IF(AND(T711=0,F711=\"DIGI\",V711<>\"\"),3,IF(AND(T711=0,F711=\"CW\",V711<>\"\"),5,IF(H711=\"-\",\"\",T711))))))","v":""},{"$f":"IF(H711=\"-\",\"\",IF(AND(H711<>\"\",X711=TRUE),\"INDIPENDENT\",IF(W711=0,\"SCRIVI NOME NELLE NOTE\",W711)))","v":{"$error":"#N/A"}},null,null,null,null,null,null,null,null,{"$f":"IF(H711=\"\",\"\",IF(H711=$R$6,25,IF(OR(H711=$R$7,H711=$R$8,H711=$R$9,H711=$R$10,H711=$R$11,H711=$R$12,H711=$R$13,H711=$R$14,H711=$R$15,H711=$R$16,H711=$R$17,H711=$R$18,H711=$R$19,H711=$R$20,H711=$R$21,H711=$R$22,H711=$R$23),15,0)))","v":""},{"$f":"ISERROR(I711)","v":false},2,{"$f":"VLOOKUP(H711,Database!$B$1:$E$4891,4,FALSE)","v":{"$error":"#N/A"}},{"$f":"ISERROR(W711)","v":true}]
[707,null,null,null,null,null,null,null,{"$f":"IF(ISERROR(VLOOKUP(H712,Database!$B$1:$C$5908,2,FALSE)),\"\",VLOOKUP(H712,Database!$B$1:$C$5908,2,FALSE))","v":""},"",{"$error":"#N/A"},null,null,null,null,null,null,null,null,"",false,{"$f":"IF(H712=\"-\",\"\",IF(AND(T712=0,U712=FALSE,I712=\"\"),1,2))","v":2},{"$f":"VLOOKUP(H712,Database!$B$1:$E$4891,4,FALSE)","v":{"$error":"#N/A"}},true]
[708,null,null,null,null,null,null,null,{"$f":"IF(ISERROR(VLOOKUP(H713,Database!$B$1:$C$5908,2,FALSE)),\"\",VLOOKUP(H713,Database!$B$1:$C$5908,2,FALSE))","v":""},"",{"$error":"#N/A"},null,null,null,null,null,null,null,null,"",false,2,{"$f":"VLOOKUP(H713,Database!$B$1:$E$4891,4,FALSE)","v":{"$error":"#N/A"}},true]
[709,null,null,null,null,null,null,null,{"$f":"IF(ISERROR(VLOOKUP(H714,Database!$B$1:$C$5908,2,FALSE)),\"\",VLOOKUP(H714,Database!$B$1:$C$5908,2,FALSE))","v":""},"",{"$error":"#N/A"},null,null,null,null,null,null,null,null,"",false,2,{"$f":"VLOOKUP(H714,Database!$B$1:$E$4891,4,FALSE)","v":{"$error":"#N/A"}},true]
[710,null,null,null,null,null,null,null,{"$f":"IF(ISERROR(VLOOKUP(H715,Database!$B$1:$C$5908,2,FALSE)),\"\",VLOOKUP(H715,Database!$B$1:$C$5908,2,FALSE))","v":""},"",{"$error":"#N/A"},null,null,null,null,null,null,null,null,"",false,2,{"$f":"VLOOKUP(H715,Database!$B$1:$E$4891,4,FALSE)","v":{"$error":"#N/A"}},true]
[711,null,null,null,null,null,null,null,{"$f":"IF(ISERROR(VLOOKUP(H716,Database!$B$1:$C$5908,2,FALSE)),\"\",VLOOKUP(H716,Database!$B$1:$C$5908,2,FALSE))","v":""},"",{"$error":"#N/A"},null,null,null,null,null,null,null,null,"",false,2,{"$f":"VLOOKUP(H716,Database!$B$1:$E$4891,4,FALSE)","v":{"$error":"#N/A"}},true]
[712,null,null,null,null,null,null,null,{"$f":"IF(ISERROR(VLOOKUP(H717,Database!$B$1:$C$5908,2,FALSE)),\"\",VLOOKUP(H717,Database!$B$1:$C$5908,2,FALSE))","v":""},"",{"$error":"#N/A"},null,null,null,null,null,null,null,null,"",false,2,{"$f":"VLOOKUP(H717,Database!$B$1:$E$4891,4,FALSE)","v":{"$error":"#N/A"}},true]
[713,null,null,null,null,null,null,null,{"$f":"IF(ISERROR(VLOOKUP(H718,Database!$B$1:$C$5908,2,FALSE)),\"\",VLOOKUP(H718,Database!$B$1:$C$5908,2,FALSE))","v":""},"",{"$error":"#N/A"},null,null,null,null,null,null,null,null,"",false,2,{"$f":"VLOOKUP(H718,Database!$B$1:$E$4891,4,FALSE)","v":{"$error":"#N/A"}},true]
[714,null,null,null,null,null,null,null,{"$f":"IF(ISERROR(VLOOKUP(H719,Database!$B$1:$C$5908,2,FALSE)),\"\",VLOOKUP(H719,Database!$B$1:$C$5908,2,FALSE))","v":""},"",{"$error":"#N/A"},null,null,null,null,null,null,null,null,"",false,2,{"$f":"VLOOKUP(H719,Database!$B$1:$E$4891,4,FALSE)","v":{"$error":"#N/A"}},true]
[715,null,null,null,null,null,null,null,{"$f":"IF(ISERROR(VLOOKUP(H720,Database!$B$1:$C$5908,2,FALSE)),\"\",VLOOKUP(H720,Database!$B$1:$C$5908,2,FALSE))","v":""},"",{"$error":"#N/A"},null,null,null,null,null,null,null,null,"",false,2,{"$f":"VLOOKUP(H720,Database!$B$1:$E$4891,4,FALSE)","v":{"$error":"#N/A"}},true]
[716,null,null,null,null,null,null,null,{"$f":"IF(ISERROR(VLOOKUP(H721,Database!$B$1:$C$5908,2,FALSE)),\"\",VLOOKUP(H721,Database!$B$1:$C$5908,2,FALSE))","v":""},"",{"$error":"#N/A"},null,null,null,null,null,null,null,null,"",false,2,{"$f":"VLOOKUP(H721,Database!$B$1:$E$4891,4,FALSE)","v":{"$error":"#N/A"}},true]
[717,null,null,null,null,null,null,null,{"$f":"IF(ISERROR(VLOOKUP(H722,Database!$B$1:$C$5908,2,FALSE)),\"\",VLOOKUP(H722,Database!$B$1:$C$5908,2,FALSE))","v":""},"",{"$error":"#N/A"},null,null,null,null,null,null,null,null,"",false,2,{"$f":"VLOOKUP(H722,Database!$B$1:$E$4891,4,FALSE)","v":{"$error":"#N/A"}},true]
[718,null,null,null,null,null,null,null,{"$f":"IF(ISERROR(VLOOKUP(H723,Database!$B$1:$C$5908,2,FALSE)),\"\",VLOOKUP(H723,Database!$B$1:$C$5908,2,FALSE))","v":""},"",{"$error":"#N/A"},null,null,null,null,null,null,null,null,"",false,2,{"$f":"VLOOKUP(H723,Database!$B$1:$E$4891,4,FALSE)","v":{"$error":"#N/A"}},true]
[719,null,null,null,null,null,null,null,{"$f":"IF(ISERROR(VLOOKUP(H724,Database!$B$1:$C$5908,2,FALSE)),\"\",VLOOKUP(H724,Database!$B$1:$C$5908,2,FALSE))","v":""},"",{"$error":"#N/A"},null,null,null,null,null,null,null,null,"",false,2,{"$f":"VLOOKUP(H724,Database!$B$1:$E$4891,4,FALSE)","v":{"$error":"#N/A"}},true]
[720,null,null,null,null,null,null,null,{"$f":"IF(ISERROR(VLOOKUP(H725,Database!$B$1:$C$5908,2,FALSE)),\"\",VLOOKUP(H725,Database!$B$1:$C$5908,2,FALSE))","v":""},"",{"$error":"#N/A"},null,null,null,null,null,null,null,null,"",false,2,{"$f":"VLOOKUP(H725,Database!$B$1:$E$4891,4,FALSE)","v":{"$error":"#N/A"}},true]
[721,null,null,null,null,null,null,null,{"$f":"IF(ISERROR(VLOOKUP(H726,Database!$B$1:$C$5908,2,FALSE)),\"\",VLOOKUP(H726,Database!$B$1:$C$5908,2,FALSE))","v":""},"",{"$error":"#N/A"},null,null,null,null,null,null,null,null,"",false,2,{"$f":"VLOOKUP(H726,Database!$B$1:$E$4891,4,FALSE)","v":{"$error":"#N/A"}},true]
[722,null,null,null,null,null,null,null,{"$f":"IF(ISERROR(VLOOKUP(H727,Database!$B$1:$C$5908,2,FALSE)),\"\",VLOOKUP(H727,Database!$B$1:$C$5908,2,FALSE))","v":""},"",{"$error":"#N/A"},null,null,null,null,null,null,null,null,"",false,2,{"$f":"VLOOKUP(H727,Database!$B$1:$E$4891,4,FALSE)","v":{"$error":"#N/A"}},true]
[723,null,null,null,null,null,null,null,{"$f":"IF(ISERROR(VLOOKUP(H728,Database!$B$1:$C$5908,2,FALSE)),\"\",VLOOKUP(H728,Database!$B$1:$C$5908,2,FALSE))","v":""},"",{"$error":"#N/A"},null,null,null,null,null,null,null,null,"",false,2,{"$f":"VLOOKUP(H728,Database!$B$1:$E$4891,4,FALSE)","v":{"$error":"#N/A"}},true]
[724,null,null,null,null,null,null,null,{"$f":"IF(ISERROR(VLOOKUP(H729,Database!$B$1:$C$5908,2,FALSE)),\"\",VLOOKUP(H729,Database!$B$1:$C$5908,2,FALSE))","v":""},"",{"$error":"#N/A"},null,null,null,null,null,null,null,null,"",false,2,{"$f":"VLOOKUP(H729,Database!$B$1:$E$4891,4,FALSE)","v":{"$error":"#N/A"}},true]
[725,null,null,null,null,null,null,null,{"$f":"IF(ISERROR(VLOOKUP(H730,Database!$B$1:$C$5908,2,FALSE)),\"\",VLOOKUP(H730,Database!$B$1:$C$5908,2,FALSE))","v":""},"",{"$error":"#N/A"},null,null,null,null,null,null,null,null,"",false,2,{"$f":"VLOOKUP(H730,Database!$B$1:$E$4891,4,FALSE)","v":{"$error":"#N/A"}},true]
[726,null,null,null,null,null,null,null,{"$f":"IF(ISERROR(VLOOKUP(H731,Database!$B$1:$C$5908,2,FALSE)),\"\",VLOOKUP(H731,Database!$B$1:$C$5908,2,FALSE))","v":""},"",{"$error":"#N/A"},null,null,null,null,null,null,null,null,"",false,2,{"$f":"VLOOKUP(H731,Database!$B$1:$E$4891,4,FALSE)","v":{"$error":"#N/A"}},true]
[727,null,null,null,null,null,null,null,{"$f":"IF(ISERROR(VLOOKUP(H732,Database!$B$1:$C$5908,2,FALSE)),\"\",VLOOKUP(H732,Database!$B$1:$C$5908,2,FALSE))","v":""},"",{"$error":"#N/A"},null,null,null,null,null,null,null,null,"",false,2,{"$f":"VLOOKUP(H732,Database!$B$1:$E$4891,4,FALSE)","v":{"$error":"#N/A"}},true]
[728,null,null,null,null,null,null,null,{"$f":"IF(ISERROR(VLOOKUP(H733,Database!$B$1:$C$5908,2,FALSE)),\"\",VLOOKUP(H733,Database!$B$1:$C$5908,2,FALSE))","v":""},"",{"$error":"#N/A"},null,null,null,null,null,null,null,null,"",false,2,{"$f":"VLOOKUP(H733,Database!$B$1:$E$4891,4,FALSE)","v":{"$error":"#N/A"}},true]
[729,null,null,null,null,null,null,null,{"$f":"IF(ISERROR(VLOOKUP(H734,Database!$B$1:$C$5908,2,FALSE)),\"\",VLOOKUP(H734,Database!$B$1:$C$5908,2,FALSE))","v":""},"",{"$error":"#N/A"},null,null,null,null,null,null,null,null,"",false,2,{"$f":"VLOOKUP(H734,Database!$B$1:$E$4891,4,FALSE)","v":{"$error":"#N/A"}},true]
[730,null,null,null,null,null,null,null,{"$f":"IF(ISERROR(VLOOKUP(H735,Database!$B$1:$C$5908,2,FALSE)),\"\",VLOOKUP(H735,Database!$B$1:$C$5908,2,FALSE))","v":""},"",{"$error":"#N/A"},null,null,null,null,null,null,null,null,"",false,2,{"$f":"VLOOKUP(H735,Database!$B$1:$E$4891,4,FALSE)","v":{"$error":"#N/A"}},true]
[731,null,null,null,null,null,null,null,{"$f":"IF(ISERROR(VLOOKUP(H736,Database!$B$1:$C$5908,2,FALSE)),\"\",VLOOKUP(H736,Database!$B$1:$C$5908,2,FALSE))","v":""},"",{"$error":"#N/A"},null,null,null,null,null,null,null,null,"",false,2,{"$f":"VLOOKUP(H736,Database!$B$1:$E$4891,4,FALSE)","v":{"$error":"#N/A"}},true]
[732,null,null,null,null,null,null,null,{"$f":"IF(ISERROR(VLOOKUP(H737,Database!$B$1:$C$5908,2,FALSE)),\"\",VLOOKUP(H737,Database!$B$1:$C$5908,2,FALSE))","v":""},"",{"$error":"#N/A"},null,null,null,null,null,null,null,null,"",false,2,{"$f":"VLOOKUP(H737,Database!$B$1:$E$4891,4,FALSE)","v":{"$error":"#N/A"}},true]
[733,null,null,null,null,null,null,null,{"$f":"IF(ISERROR(VLOOKUP(H738,Database!$B$1:$C$5908,2,FALSE)),\"\",VLOOKUP(H738,Database!$B$1:$C$5908,2,FALSE))","v":""},"",{"$error":"#N/A"},null,null,null,null,null,null,null,null,"",false,2,{"$f":"VLOOKUP(H738,Database!$B$1:$E$4891,4,FALSE)","v":{"$error":"#N/A"}},true]
[734,null,null,null,null,null,null,null,{"$f":"IF(ISERROR(VLOOKUP(H739,Database!$B$1:$C$5908,2,FALSE)),\"\",VLOOKUP(H739,Database!$B$1:$C$5908,2,FALSE))","v":""},"",{"$error":"#N/A"},null,null,null,null,null,null,null,null,"",false,2,{"$f":"VLOOKUP(H739,Database!$B$1:$E$4891,4,FALSE)","v":{"$error":"#N/A"}},true]
[735,null,null,null,null,null,null,null,{"$f":"IF(ISERROR(VLOOKUP(H740,Database!$B$1:$C$5908,2,FALSE)),\"\",VLOOKUP(H740,Database!$B$1:$C$5908,2,FALSE))","v":""},"",{"$error":"#N/A"},null,null,null,null,null,null,null,null,"",false,2,{"$f":"VLOOKUP(H740,Database!$B$1:$E$4891,4,FALSE)","v":{"$error":"#N/A"}},true]
[736,null,null,null,null,null,null,null,{"$f":"IF(ISERROR(VLOOKUP(H741,Database!$B$1:$C$5908,2,FALSE)),\"\",VLOOKUP(H741,Database!$B$1:$C$5908,2,FALSE))","v":""},"",{"$error":"#N/A"},null,null,null,null,null,null,null,null,"",false,2,{"$f":"VLOOKUP(H741,Database!$B$1:$E$4891,4,FALSE)","v":{"$error":"#N/A"}},true]
[737,null,null,null,null,null,null,null,{"$f":"IF(ISERROR(VLOOKUP(H742,Database!$B$1:$C$5908,2,FALSE)),\"\",VLOOKUP(H742,Database!$B$1:$C$5908,2,FALSE))","v":""},"",{"$error":"#N/A"},null,null,null,null,null,null,null,null,"",false,2,{"$f":"VLOOKUP(H742,Database!$B$1:$E$4891,4,FALSE)","v":{"$error":"#N/A"}},true]
[738,null,null,null,null,null,null,null,{"$f":"IF(ISERROR(VLOOKUP(H743,Database!$B$1:$C$5908,2,FALSE)),\"\",VLOOKUP(H743,Database!$B$1:$C$5908,2,FALSE))","v":""},"",{"$error":"#N/A"},null,null,null,null,null,null,null,null,"",false,2,{"$f":"VLOOKUP(H743,Database!$B$1:$E$4891,4,FALSE)","v":{"$error":"#N/A"}},true]
[739,null,null,null,null,null,null,null,{"$f":"IF(ISERROR(VLOOKUP(H744,Database!$B$1:$C$5908,2,FALSE)),\"\",VLOOKUP(H744,Database!$B$1:$C$5908,2,FALSE))","v":""},"",{"$error":"#N/A"},null,null,null,null,null,null,null,null,"",false,2,{"$f":"VLOOKUP(H744,Database!$B$1:$E$4891,4,FALSE)","v":{"$error":"#N/A"}},true]
[740,null,null,null,null,null,null,null,{"$f":"IF(ISERROR(VLOOKUP(H745,Database!$B$1:$C$5908,2,FALSE)),\"\",VLOOKUP(H745,Database!$B$1:$C$5908,2,FALSE))","v":""},"",{"$error":"#N/A"},null,null,null,null,null,null,null,null,"",false,2,{"$f":"VLOOKUP(H745,Database!$B$1:$E$4891,4,FALSE)","v":{"$error":"#N/A"}},true]
[741,null,null,null,null,null,null,null,{"$f":"IF(ISERROR(VLOOKUP(H746,Database!$B$1:$C$5908,2,FALSE)),\"\",VLOOKUP(H746,Database!$B$1:$C$5908,2,FALSE))","v":""},"",{"$error":"#N/A"},null,null,null,null,null,null,null,null,"",false,2,{"$f":"VLOOKUP(H746,Database!$B$1:$E$4891,4,FALSE)","v":{"$error":"#N/A"}},true]
[742,null,null,null,null,null,null,null,{"$f":"IF(ISERROR(VLOOKUP(H747,Database!$B$1:$C$5908,2,FALSE)),\"\",VLOOKUP(H747,Database!$B$1:$C$5908,2,FALSE))","v":""},"",{"$error":"#N/A"},null,null,null,null,null,null,null,null,"",false,2,{"$f":"VLOOKUP(H747,Database!$B$1:$E$4891,4,FALSE)","v":{"$error":"#N/A"}},true]
[743,null,null,null,null,null,null,null,{"$f":"IF(ISERROR(VLOOKUP(H748,Database!$B$1:$C$5908,2,FALSE)),\"\",VLOOKUP(H748,Database!$B$1:$C$5908,2,FALSE))","v":""},"",{"$error":"#N/A"},null,null,null,null,null,null,null,null,"",false,2,{"$f":"VLOOKUP(H748,Database!$B$1:$E$4891,4,FALSE)","v":{"$error":"#N/A"}},true]
[744,null,null,null,null,null,null,null,{"$f":"IF(ISERROR(VLOOKUP(H749,Database!$B$1:$C$5908,2,FALSE)),\"\",VLOOKUP(H749,Database!$B$1:$C$5908,2,FALSE))","v":""},"",{"$error":"#N/A"},null,null,null,null,null,null,null,null,"",false,2,{"$f":"VLOOKUP(H749,Database!$B$1:$E$4891,4,FALSE)","v":{"$error":"#N/A"}},true]
[745,null,null,null,null,null,null,null,{"$f":"IF(ISERROR(VLOOKUP(H750,Database!$B$1:$C$5908,2,FALSE)),\"\",VLOOKUP(H750,Database!$B$1:$C$5908,2,FALSE))","v":""},"",{"$error":"#N/A"},null,null,null,null,null,null,null,null,"",false,2,{"$f":"VLOOKUP(H750,Database!$B$1:$E$4891,4,FALSE)","v":{"$error":"#N/A"}},true]
[746,null,null,null,null,null,null,null,{"$f":"IF(ISERROR(VLOOKUP(H751,Database!$B$1:$C$5908,2,FALSE)),\"\",VLOOKUP(H751,Database!$B$1:$C$5908,2,FALSE))","v":""},"",{"$error":"#N/A"},null,null,null,null,null,null,null,null,"",false,2,{"$f":"VLOOKUP(H751,Database!$B$1:$E$4891,4,FALSE)","v":{"$error":"#N/A"}},true]
[747,null,null,null,null,null,null,null,{"$f":"IF(ISERROR(VLOOKUP(H752,Database!$B$1:$C$5908,2,FALSE)),\"\",VLOOKUP(H752,Database!$B$1:$C$5908,2,FALSE))","v":""},"",{"$error":"#N/A"},null,null,null,null,null,null,null,null,"",false,2,{"$f":"VLOOKUP(H752,Database!$B$1:$E$4891,4,FALSE)","v":{"$error":"#N/A"}},true]
[748,null,null,null,null,null,null,null,{"$f":"IF(ISERROR(VLOOKUP(H753,Database!$B$1:$C$5908,2,FALSE)),\"\",VLOOKUP(H753,Database!$B$1:$C$5908,2,FALSE))","v":""},"",{"$error":"#N/A"},null,null,null,null,null,null,null,null,"",false,2,{"$f":"VLOOKUP(H753,Database!$B$1:$E$4891,4,FALSE)","v":{"$error":"#N/A"}},true]
[749,null,null,null,null,null,null,null,{"$f":"IF(ISERROR(VLOOKUP(H754,Database!$B$1:$C$5908,2,FALSE)),\"\",VLOOKUP(H754,Database!$B$1:$C$5908,2,FALSE))","v":""},"",{"$error":"#N/A"},null,null,null,null,null,null,null,null,"",false,2,{"$f":"VLOOKUP(H754,Database!$B$1:$E$4891,4,FALSE)","v":{"$error":"#N/A"}},true]
[750,null,null,null,null,null,null,null,{"$f":"IF(ISERROR(VLOOKUP(H755,Database!$B$1:$C$5908,2,FALSE)),\"\",VLOOKUP(H755,Database!$B$1:$C$5908,2,FALSE))","v":""},"",{"$error":"#N/A"},null,null,null,null,null,null,null,null,"",false,2,{"$f":"VLOOKUP(H755,Database!$B$1:$E$4891,4,FALSE)","v":{"$error":"#N/A"}},true]
[751,null,null,null,null,null,null,null,{"$f":"IF(ISERROR(VLOOKUP(H756,Database!$B$1:$C$5908,2,FALSE)),\"\",VLOOKUP(H756,Database!$B$1:$C$5908,2,FALSE))","v":""},"",{"$error":"#N/A"},null,null,null,null,null,null,null,null,"",false,2,{"$f":"VLOOKUP(H756,Database!$B$1:$E$4891,4,FALSE)","v":{"$error":"#N/A"}},true]
[752,null,null,null,null,null,null,null,{"$f":"IF(ISERROR(VLOOKUP(H757,Database!$B$1:$C$5908,2,FALSE)),\"\",VLOOKUP(H757,Database!$B$1:$C$5908,2,FALSE))","v":""},"",{"$error":"#N/A"},null,null,null,null,null,null,null,null,"",false,2,{"$f":"VLOOKUP(H757,Database!$B$1:$E$4891,4,FALSE)","v":{"$error":"#N/A"}},true]
[753,null,null,null,null,null,null,null,{"$f":"IF(ISERROR(VLOOKUP(H758,Database!$B$1:$C$5908,2,FALSE)),\"\",VLOOKUP(H758,Database!$B$1:$C$5908,2,FALSE))","v":""},"",{"$error":"#N/A"},null,null,null,null,null,null,null,null,"",false,2,{"$f":"VLOOKUP(H758,Database!$B$1:$E$4891,4,FALSE)","v":{"$error":"#N/A"}},true]
[754,null,null,null,null,null,null,null,{"$f":"IF(ISERROR(VLOOKUP(H759,Database!$B$1:$C$5908,2,FALSE)),\"\",VLOOKUP(H759,Database!$B$1:$C$5908,2,FALSE))","v":""},"",{"$error":"#N/A"},null,null,null,null,null,null,null,null,"",false,2,{"$f":"VLOOKUP(H759,Database!$B$1:$E$4891,4,FALSE)","v":{"$error":"#N/A"}},true]
[755,null,null,null,null,null,null,null,{"$f":"IF(ISERROR(VLOOKUP(H760,Database!$B$1:$C$5908,2,FALSE)),\"\",VLOOKUP(H760,Database!$B$1:$C$5908,2,FALSE))","v":""},"",{"$error":"#N/A"},null,null,null,null,null,null,null,null,"",false,2,{"$f":"VLOOKUP(H760,Database!$B$1:$E$4891,4,FALSE)","v":{"$error":"#N/A"}},true]
[756,null,null,null,null,null,null,null,{"$f":"IF(ISERROR(VLOOKUP(H761,Database!$B$1:$C$5908,2,FALSE)),\"\",VLOOKUP(H761,Database!$B$1:$C$5908,2,FALSE))","v":""},"",{"$error":"#N/A"},null,null,null,null,null,null,null,null,"",false,2,{"$f":"VLOOKUP(H761,Database!$B$1:$E$4891,4,FALSE)","v":{"$error":"#N/A"}},true]
[757,null,null,null,null,null,null,null,{"$f":"IF(ISERROR(VLOOKUP(H762,Database!$B$1:$C$5908,2,FALSE)),\"\",VLOOKUP(H762,Database!$B$1:$C$5908,2,FALSE))","v":""},"",{"$error":"#N/A"},null,null,null,null,null,null,null,null,"",false,2,{"$f":"VLOOKUP(H762,Database!$B$1:$E$4891,4,FALSE)","v":{"$error":"#N/A"}},true]
[758,null,null,null,null,null,null,null,{"$f":"IF(ISERROR(VLOOKUP(H763,Database!$B$1:$C$5908,2,FALSE)),\"\",VLOOKUP(H763,Database!$B$1:$C$5908,2,FALSE))","v":""},"",{"$error":"#N/A"},null,null,null,null,null,null,null,null,"",false,2,{"$f":"VLOOKUP(H763,Database!$B$1:$E$4891,4,FALSE)","v":{"$error":"#N/A"}},true]
[759,null,null,null,null,null,null,null,{"$f":"IF(ISERROR(VLOOKUP(H764,Database!$B$1:$C$5908,2,FALSE)),\"\",VLOOKUP(H764,Database!$B$1:$C$5908,2,FALSE))","v":""},"",{"$error":"#N/A"},null,null,null,null,null,null,null,null,"",false,2,{"$f":"VLOOKUP(H764,Database!$B$1:$E$4891,4,FALSE)","v":{"$error":"#N/A"}},true]
[760,null,null,null,null,null,null,null,{"$f":"IF(ISERROR(VLOOKUP(H765,Database!$B$1:$C$5908,2,FALSE)),\"\",VLOOKUP(H765,Database!$B$1:$C$5908,2,FALSE))","v":""},"",{"$error":"#N/A"},null,null,null,null,null,null,null,null,"",false,2,{"$f":"VLOOKUP(H765,Database!$B$1:$E$4891,4,FALSE)","v":{"$error":"#N/A"}},true]
[761,null,null,null,null,null,null,null,{"$f":"IF(ISERROR(VLOOKUP(H766,Database!$B$1:$C$5908,2,FALSE)),\"\",VLOOKUP(H766,Database!$B$1:$C$5908,2,FALSE))","v":""},"",{"$error":"#N/A"},null,null,null,null,null,null,null,null,"",false,2,{"$f":"VLOOKUP(H766,Database!$B$1:$E$4891,4,FALSE)","v":{"$error":"#N/A"}},true]
[762,null,null,null,null,null,null,null,{"$f":"IF(ISERROR(VLOOKUP(H767,Database!$B$1:$C$5908,2,FALSE)),\"\",VLOOKUP(H767,Database!$B$1:$C$5908,2,FALSE))","v":""},"",{"$error":"#N/A"},null,null,null,null,null,null,null,null,"",false,2,{"$f":"VLOOKUP(H767,Database!$B$1:$E$4891,4,FALSE)","v":{"$error":"#N/A"}},true]
[763,null,null,null,null,null,null,null,{"$f":"IF(ISERROR(VLOOKUP(H768,Database!$B$1:$C$5908,2,FALSE)),\"\",VLOOKUP(H768,Database!$B$1:$C$5908,2,FALSE))","v":""},"",{"$error":"#N/A"},null,null,null,null,null,null,null,null,"",false,2,{"$f":"VLOOKUP(H768,Database!$B$1:$E$4891,4,FALSE)","v":{"$error":"#N/A"}},true]
[764,null,null,null,null,null,null,null,{"$f":"IF(ISERROR(VLOOKUP(H769,Database!$B$1:$C$5908,2,FALSE)),\"\",VLOOKUP(H769,Database!$B$1:$C$5908,2,FALSE))","v":""},"",{"$error":"#N/A"},null,null,null,null,null,null,null,null,"",false,2,{"$f":"VLOOKUP(H769,Database!$B$1:$E$4891,4,FALSE)","v":{"$error":"#N/A"}},true]
[765,null,null,null,null,null,null,null,{"$f":"IF(ISERROR(VLOOKUP(H770,Database!$B$1:$C$5908,2,FALSE)),\"\",VLOOKUP(H770,Database!$B$1:$C$5908,2,FALSE))","v":""},"",{"$error":"#N/A"},null,null,null,null,null,null,null,null,"",false,2,{"$f":"VLOOKUP(H770,Database!$B$1:$E$4891,4,FALSE)","v":{"$error":"#N/A"}},true]
[766,null,null,null,null,null,null,null,{"$f":"IF(ISERROR(VLOOKUP(H771,Database!$B$1:$C$5908,2,FALSE)),\"\",VLOOKUP(H771,Database!$B$1:$C$5908,2,FALSE))","v":""},"",{"$error":"#N/A"},null,null,null,null,null,null,null,null,"",false,2,{"$f":"VLOOKUP(H771,Database!$B$1:$E$4891,4,FALSE)","v":{"$error":"#N/A"}},true]
[767,null,null,null,null,null,null,null,{"$f":"IF(ISERROR(VLOOKUP(H772,Database!$B$1:$C$5908,2,FALSE)),\"\",VLOOKUP(H772,Database!$B$1:$C$5908,2,FALSE))","v":""},"",{"$error":"#N/A"},null,null,null,null,null,null,null,null,"",false,2,{"$f":"VLOOKUP(H772,Database!$B$1:$E$4891,4,FALSE)","v":{"$error":"#N/A"}},true]
[768,null,null,null,null,null,null,null,{"$f":"IF(ISERROR(VLOOKUP(H773,Database!$B$1:$C$5908,2,FALSE)),\"\",VLOOKUP(H773,Database!$B$1:$C$5908,2,FALSE))","v":""},"",{"$error":"#N/A"},null,null,null,null,null,null,null,null,"",false,2,{"$f":"VLOOKUP(H773,Database!$B$1:$E$4891,4,FALSE)","v":{"$error":"#N/A"}},true]
[769,null,null,null,null,null,null,null,{"$f":"IF(ISERROR(VLOOKUP(H774,Database!$B$1:$C$5908,2,FALSE)),\"\",VLOOKUP(H774,Database!$B$1:$C$5908,2,FALSE))","v":""},"",{"$error":"#N/A"},null,null,null,null,null,null,null,null,"",false,2,{"$f":"VLOOKUP(H774,Database!$B$1:$E$4891,4,FALSE)","v":{"$error":"#N/A"}},true]
[{"$f":"A774+1","v":770},null,null,null,null,null,null,null,{"$f":"IF(ISERROR(VLOOKUP(H775,Database!$B$1:$C$5908,2,FALSE)),\"\",VLOOKUP(H775,Database!$B$1:$C$5908,2,FALSE))","v":""},{"$f":"IF(V775=1,1,IF(AND(T775=0,F775=\"SSB\",V775<>\"\"),2,IF(AND(T775=0,F775=\"FM\",V775<>\"\"),2,IF(AND(T775=0,F775=\"DIGI\",V775<>\"\"),3,IF(AND(T775=0,F775=\"CW\",V775<>\"\"),5,IF(H775=\"-\",\"\",T775))))))","v":""},{"$f":"IF(H775=\"-\",\"\",IF(AND(H775<>\"\",X775=TRUE),\"INDIPENDENT\",IF(W775=0,\"SCRIVI NOME NELLE NOTE\",W775)))","v":{"$error":"#N/A"}},null,null,null,null,null,null,null,null,{"$f":"IF(H775=\"\",\"\",IF(H775=$R$6,25,IF(OR(H775=$R$7,H775=$R$8,H775=$R$9,H775=$R$10,H775=$R$11,H775=$R$12,H775=$R$13,H775=$R$14,H775=$R$15,H775=$R$16,H775=$R$17,H775=$R$18,H775=$R$19,H775=$R$20,H775=$R$21,H775=$R$22,H775=$R$23),15,0)))","v":""},{"$f":"ISERROR(I775)","v":false},2,{"$f":"VLOOKUP(H775,Database!$B$1:$E$4891,4,FALSE)","v":{"$error":"#N/A"}},{"$f":"ISERROR(W775)","v":true}]
[771,null,null,null,null,null,null,null,{"$f":"IF(ISERROR(VLOOKUP(H776,Database!$B$1:$C$5908,2,FALSE)),\"\",VLOOKUP(H776,Database!$B$1:$C$5908,2,FALSE))","v":""},"",{"$error":"#N/A"},null,null,null,null,null,null,null,null,"",false,{"$f":"IF(H776=\"-\",\"\",IF(AND(T776=0,U776=FALSE,I776=\"\"),1,2))","v":2},{"$f":"VLOOKUP(H776,Database!$B$1:$E$4891,4,FALSE)","v":{"$error":"#N/A"}},true]
[772,null,null,null,null,null,null,null,{"$f":"IF(ISERROR(VLOOKUP(H777,Database!$B$1:$C$5908,2,FALSE)),\"\",VLOOKUP(H777,Database!$B$1:$C$5908,2,FALSE))","v":""},"",{"$error":"#N/A"},null,null,null,null,null,null,null,null,"",false,2,{"$f":"VLOOKUP(H777,Database!$B$1:$E$4891,4,FALSE)","v":{"$error":"#N/A"}},true]
[773,null,null,null,null,null,null,null,{"$f":"IF(ISERROR(VLOOKUP(H778,Database!$B$1:$C$5908,2,FALSE)),\"\",VLOOKUP(H778,Database!$B$1:$C$5908,2,FALSE))","v":""},"",{"$error":"#N/A"},null,null,null,null,null,null,null,null,"",false,2,{"$f":"VLOOKUP(H778,Database!$B$1:$E$4891,4,FALSE)","v":{"$error":"#N/A"}},true]
[774,null,null,null,null,null,null,null,{"$f":"IF(ISERROR(VLOOKUP(H779,Database!$B$1:$C$5908,2,FALSE)),\"\",VLOOKUP(H779,Database!$B$1:$C$5908,2,FALSE))","v":""},"",{"$error":"#N/A"},null,null,null,null,null,null,null,null,"",false,2,{"$f":"VLOOKUP(H779,Database!$B$1:$E$4891,4,FALSE)","v":{"$error":"#N/A"}},true]
[775,null,null,null,null,null,null,null,{"$f":"IF(ISERROR(VLOOKUP(H780,Database!$B$1:$C$5908,2,FALSE)),\"\",VLOOKUP(H780,Database!$B$1:$C$5908,2,FALSE))","v":""},"",{"$error":"#N/A"},null,null,null,null,null,null,null,null,"",false,2,{"$f":"VLOOKUP(H780,Database!$B$1:$E$4891,4,FALSE)","v":{"$error":"#N/A"}},true]
[776,null,null,null,null,null,null,null,{"$f":"IF(ISERROR(VLOOKUP(H781,Database!$B$1:$C$5908,2,FALSE)),\"\",VLOOKUP(H781,Database!$B$1:$C$5908,2,FALSE))","v":""},"",{"$error":"#N/A"},null,null,null,null,null,null,null,null,"",false,2,{"$f":"VLOOKUP(H781,Database!$B$1:$E$4891,4,FALSE)","v":{"$error":"#N/A"}},true]
[777,null,null,null,null,null,null,null,{"$f":"IF(ISERROR(VLOOKUP(H782,Database!$B$1:$C$5908,2,FALSE)),\"\",VLOOKUP(H782,Database!$B$1:$C$5908,2,FALSE))","v":""},"",{"$error":"#N/A"},null,null,null,null,null,null,null,null,"",false,2,{"$f":"VLOOKUP(H782,Database!$B$1:$E$4891,4,FALSE)","v":{"$error":"#N/A"}},true]
[778,null,null,null,null,null,null,null,{"$f":"IF(ISERROR(VLOOKUP(H783,Database!$B$1:$C$5908,2,FALSE)),\"\",VLOOKUP(H783,Database!$B$1:$C$5908,2,FALSE))","v":""},"",{"$error":"#N/A"},null,null,null,null,null,null,null,null,"",false,2,{"$f":"VLOOKUP(H783,Database!$B$1:$E$4891,4,FALSE)","v":{"$error":"#N/A"}},true]
[779,null,null,null,null,null,null,null,{"$f":"IF(ISERROR(VLOOKUP(H784,Database!$B$1:$C$5908,2,FALSE)),\"\",VLOOKUP(H784,Database!$B$1:$C$5908,2,FALSE))","v":""},"",{"$error":"#N/A"},null,null,null,null,null,null,null,null,"",false,2,{"$f":"VLOOKUP(H784,Database!$B$1:$E$4891,4,FALSE)","v":{"$error":"#N/A"}},true]
[780,null,null,null,null,null,null,null,{"$f":"IF(ISERROR(VLOOKUP(H785,Database!$B$1:$C$5908,2,FALSE)),\"\",VLOOKUP(H785,Database!$B$1:$C$5908,2,FALSE))","v":""},"",{"$error":"#N/A"},null,null,null,null,null,null,null,null,"",false,2,{"$f":"VLOOKUP(H785,Database!$B$1:$E$4891,4,FALSE)","v":{"$error":"#N/A"}},true]
[781,null,null,null,null,null,null,null,{"$f":"IF(ISERROR(VLOOKUP(H786,Database!$B$1:$C$5908,2,FALSE)),\"\",VLOOKUP(H786,Database!$B$1:$C$5908,2,FALSE))","v":""},"",{"$error":"#N/A"},null,null,null,null,null,null,null,null,"",false,2,{"$f":"VLOOKUP(H786,Database!$B$1:$E$4891,4,FALSE)","v":{"$error":"#N/A"}},true]
[782,null,null,null,null,null,null,null,{"$f":"IF(ISERROR(VLOOKUP(H787,Database!$B$1:$C$5908,2,FALSE)),\"\",VLOOKUP(H787,Database!$B$1:$C$5908,2,FALSE))","v":""},"",{"$error":"#N/A"},null,null,null,null,null,null,null,null,"",false,2,{"$f":"VLOOKUP(H787,Database!$B$1:$E$4891,4,FALSE)","v":{"$error":"#N/A"}},true]
[783,null,null,null,null,null,null,null,{"$f":"IF(ISERROR(VLOOKUP(H788,Database!$B$1:$C$5908,2,FALSE)),\"\",VLOOKUP(H788,Database!$B$1:$C$5908,2,FALSE))","v":""},"",{"$error":"#N/A"},null,null,null,null,null,null,null,null,"",false,2,{"$f":"VLOOKUP(H788,Database!$B$1:$E$4891,4,FALSE)","v":{"$error":"#N/A"}},true]
[784,null,null,null,null,null,null,null,{"$f":"IF(ISERROR(VLOOKUP(H789,Database!$B$1:$C$5908,2,FALSE)),\"\",VLOOKUP(H789,Database!$B$1:$C$5908,2,FALSE))","v":""},"",{"$error":"#N/A"},null,null,null,null,null,null,null,null,"",false,2,{"$f":"VLOOKUP(H789,Database!$B$1:$E$4891,4,FALSE)","v":{"$error":"#N/A"}},true]
[785,null,null,null,null,null,null,null,{"$f":"IF(ISERROR(VLOOKUP(H790,Database!$B$1:$C$5908,2,FALSE)),\"\",VLOOKUP(H790,Database!$B$1:$C$5908,2,FALSE))","v":""},"",{"$error":"#N/A"},null,null,null,null,null,null,null,null,"",false,2,{"$f":"VLOOKUP(H790,Database!$B$1:$E$4891,4,FALSE)","v":{"$error":"#N/A"}},true]
[786,null,null,null,null,null,null,null,{"$f":"IF(ISERROR(VLOOKUP(H791,Database!$B$1:$C$5908,2,FALSE)),\"\",VLOOKUP(H791,Database!$B$1:$C$5908,2,FALSE))","v":""},"",{"$error":"#N/A"},null,null,null,null,null,null,null,null,"",false,2,{"$f":"VLOOKUP(H791,Database!$B$1:$E$4891,4,FALSE)","v":{"$error":"#N/A"}},true]
[787,null,null,null,null,null,null,null,{"$f":"IF(ISERROR(VLOOKUP(H792,Database!$B$1:$C$5908,2,FALSE)),\"\",VLOOKUP(H792,Database!$B$1:$C$5908,2,FALSE))","v":""},"",{"$error":"#N/A"},null,null,null,null,null,null,null,null,"",false,2,{"$f":"VLOOKUP(H792,Database!$B$1:$E$4891,4,FALSE)","v":{"$error":"#N/A"}},true]
[788,null,null,null,null,null,null,null,{"$f":"IF(ISERROR(VLOOKUP(H793,Database!$B$1:$C$5908,2,FALSE)),\"\",VLOOKUP(H793,Database!$B$1:$C$5908,2,FALSE))","v":""},"",{"$error":"#N/A"},null,null,null,null,null,null,null,null,"",false,2,{"$f":"VLOOKUP(H793,Database!$B$1:$E$4891,4,FALSE)","v":{"$error":"#N/A"}},true]
[789,null,null,null,null,null,null,null,{"$f":"IF(ISERROR(VLOOKUP(H794,Database!$B$1:$C$5908,2,FALSE)),\"\",VLOOKUP(H794,Database!$B$1:$C$5908,2,FALSE))","v":""},"",{"$error":"#N/A"},null,null,null,null,null,null,null,null,"",false,2,{"$f":"VLOOKUP(H794,Database!$B$1:$E$4891,4,FALSE)","v":{"$error":"#N/A"}},true]
[790,null,null,null,null,null,null,null,{"$f":"IF(ISERROR(VLOOKUP(H795,Database!$B$1:$C$5908,2,FALSE)),\"\",VLOOKUP(H795,Database!$B$1:$C$5908,2,FALSE))","v":""},"",{"$error":"#N/A"},null,null,null,null,null,null,null,null,"",false,2,{"$f":"VLOOKUP(H795,Database!$B$1:$E$4891,4,FALSE)","v":{"$error":"#N/A"}},true]
[791,null,null,null,null,null,null,null,{"$f":"IF(ISERROR(VLOOKUP(H796,Database!$B$1:$C$5908,2,FALSE)),\"\",VLOOKUP(H796,Database!$B$1:$C$5908,2,FALSE))","v":""},"",{"$error":"#N/A"},null,null,null,null,null,null,null,null,"",false,2,{"$f":"VLOOKUP(H796,Database!$B$1:$E$4891,4,FALSE)","v":{"$error":"#N/A"}},true]
[792,null,null,null,null,null,null,null,{"$f":"IF(ISERROR(VLOOKUP(H797,Database!$B$1:$C$5908,2,FALSE)),\"\",VLOOKUP(H797,Database!$B$1:$C$5908,2,FALSE))","v":""},"",{"$error":"#N/A"},null,null,null,null,null,null,null,null,"",false,2,{"$f":"VLOOKUP(H797,Database!$B$1:$E$4891,4,FALSE)","v":{"$error":"#N/A"}},true]
[793,null,null,null,null,null,null,null,{"$f":"IF(ISERROR(VLOOKUP(H798,Database!$B$1:$C$5908,2,FALSE)),\"\",VLOOKUP(H798,Database!$B$1:$C$5908,2,FALSE))","v":""},"",{"$error":"#N/A"},null,null,null,null,null,null,null,null,"",false,2,{"$f":"VLOOKUP(H798,Database!$B$1:$E$4891,4,FALSE)","v":{"$error":"#N/A"}},true]
[794,null,null,null,null,null,null,null,{"$f":"IF(ISERROR(VLOOKUP(H799,Database!$B$1:$C$5908,2,FALSE)),\"\",VLOOKUP(H799,Database!$B$1:$C$5908,2,FALSE))","v":""},"",{"$error":"#N/A"},null,null,null,null,null,null,null,null,"",false,2,{"$f":"VLOOKUP(H799,Database!$B$1:$E$4891,4,FALSE)","v":{"$error":"#N/A"}},true]
[795,null,null,null,null,null,null,null,{"$f":"IF(ISERROR(VLOOKUP(H800,Database!$B$1:$C$5908,2,FALSE)),\"\",VLOOKUP(H800,Database!$B$1:$C$5908,2,FALSE))","v":""},"",{"$error":"#N/A"},null,null,null,null,null,null,null,null,"",false,2,{"$f":"VLOOKUP(H800,Database!$B$1:$E$4891,4,FALSE)","v":{"$error":"#N/A"}},true]
[796,null,null,null,null,null,null,null,{"$f":"IF(ISERROR(VLOOKUP(H801,Database!$B$1:$C$5908,2,FALSE)),\"\",VLOOKUP(H801,Database!$B$1:$C$5908,2,FALSE))","v":""},"",{"$error":"#N/A"},null,null,null,null,null,null,null,null,"",false,2,{"$f":"VLOOKUP(H801,Database!$B$1:$E$4891,4,FALSE)","v":{"$error":"#N/A"}},true]
[797,null,null,null,null,null,null,null,{"$f":"IF(ISERROR(VLOOKUP(H802,Database!$B$1:$C$5908,2,FALSE)),\"\",VLOOKUP(H802,Database!$B$1:$C$5908,2,FALSE))","v":""},"",{"$error":"#N/A"},null,null,null,null,null,null,null,null,"",false,2,{"$f":"VLOOKUP(H802,Database!$B$1:$E$4891,4,FALSE)","v":{"$error":"#N/A"}},true]
[798,null,null,null,null,null,null,null,{"$f":"IF(ISERROR(VLOOKUP(H803,Database!$B$1:$C$5908,2,FALSE)),\"\",VLOOKUP(H803,Database!$B$1:$C$5908,2,FALSE))","v":""},"",{"$error":"#N/A"},null,null,null,null,null,null,null,null,"",false,2,{"$f":"VLOOKUP(H803,Database!$B$1:$E$4891,4,FALSE)","v":{"$error":"#N/A"}},true]
[799,null,null,null,null,null,null,null,{"$f":"IF(ISERROR(VLOOKUP(H804,Database!$B$1:$C$5908,2,FALSE)),\"\",VLOOKUP(H804,Database!$B$1:$C$5908,2,FALSE))","v":""},"",{"$error":"#N/A"},null,null,null,null,null,null,null,null,"",false,2,{"$f":"VLOOKUP(H804,Database!$B$1:$E$4891,4,FALSE)","v":{"$error":"#N/A"}},true]
[800,null,null,null,null,null,null,null,{"$f":"IF(ISERROR(VLOOKUP(H805,Database!$B$1:$C$5908,2,FALSE)),\"\",VLOOKUP(H805,Database!$B$1:$C$5908,2,FALSE))","v":""},"",{"$error":"#N/A"},null,null,null,null,null,null,null,null,"",false,2,{"$f":"VLOOKUP(H805,Database!$B$1:$E$4891,4,FALSE)","v":{"$error":"#N/A"}},true]
[801,null,null,null,null,null,null,null,{"$f":"IF(ISERROR(VLOOKUP(H806,Database!$B$1:$C$5908,2,FALSE)),\"\",VLOOKUP(H806,Database!$B$1:$C$5908,2,FALSE))","v":""},"",{"$error":"#N/A"},null,null,null,null,null,null,null,null,"",false,2,{"$f":"VLOOKUP(H806,Database!$B$1:$E$4891,4,FALSE)","v":{"$error":"#N/A"}},true]
[802,null,null,null,null,null,null,null,{"$f":"IF(ISERROR(VLOOKUP(H807,Database!$B$1:$C$5908,2,FALSE)),\"\",VLOOKUP(H807,Database!$B$1:$C$5908,2,FALSE))","v":""},"",{"$error":"#N/A"},null,null,null,null,null,null,null,null,"",false,2,{"$f":"VLOOKUP(H807,Database!$B$1:$E$4891,4,FALSE)","v":{"$error":"#N/A"}},true]
[803,null,null,null,null,null,null,null,{"$f":"IF(ISERROR(VLOOKUP(H808,Database!$B$1:$C$5908,2,FALSE)),\"\",VLOOKUP(H808,Database!$B$1:$C$5908,2,FALSE))","v":""},"",{"$error":"#N/A"},null,null,null,null,null,null,null,null,"",false,2,{"$f":"VLOOKUP(H808,Database!$B$1:$E$4891,4,FALSE)","v":{"$error":"#N/A"}},true]
[804,null,null,null,null,null,null,null,{"$f":"IF(ISERROR(VLOOKUP(H809,Database!$B$1:$C$5908,2,FALSE)),\"\",VLOOKUP(H809,Database!$B$1:$C$5908,2,FALSE))","v":""},"",{"$error":"#N/A"},null,null,null,null,null,null,null,null,"",false,2,{"$f":"VLOOKUP(H809,Database!$B$1:$E$4891,4,FALSE)","v":{"$error":"#N/A"}},true]
[805,null,null,null,null,null,null,null,{"$f":"IF(ISERROR(VLOOKUP(H810,Database!$B$1:$C$5908,2,FALSE)),\"\",VLOOKUP(H810,Database!$B$1:$C$5908,2,FALSE))","v":""},"",{"$error":"#N/A"},null,null,null,null,null,null,null,null,"",false,2,{"$f":"VLOOKUP(H810,Database!$B$1:$E$4891,4,FALSE)","v":{"$error":"#N/A"}},true]
[806,null,null,null,null,null,null,null,{"$f":"IF(ISERROR(VLOOKUP(H811,Database!$B$1:$C$5908,2,FALSE)),\"\",VLOOKUP(H811,Database!$B$1:$C$5908,2,FALSE))","v":""},"",{"$error":"#N/A"},null,null,null,null,null,null,null,null,"",false,2,{"$f":"VLOOKUP(H811,Database!$B$1:$E$4891,4,FALSE)","v":{"$error":"#N/A"}},true]
[807,null,null,null,null,null,null,null,{"$f":"IF(ISERROR(VLOOKUP(H812,Database!$B$1:$C$5908,2,FALSE)),\"\",VLOOKUP(H812,Database!$B$1:$C$5908,2,FALSE))","v":""},"",{"$error":"#N/A"},null,null,null,null,null,null,null,null,"",false,2,{"$f":"VLOOKUP(H812,Database!$B$1:$E$4891,4,FALSE)","v":{"$error":"#N/A"}},true]
[808,null,null,null,null,null,null,null,{"$f":"IF(ISERROR(VLOOKUP(H813,Database!$B$1:$C$5908,2,FALSE)),\"\",VLOOKUP(H813,Database!$B$1:$C$5908,2,FALSE))","v":""},"",{"$error":"#N/A"},null,null,null,null,null,null,null,null,"",false,2,{"$f":"VLOOKUP(H813,Database!$B$1:$E$4891,4,FALSE)","v":{"$error":"#N/A"}},true]
[809,null,null,null,null,null,null,null,{"$f":"IF(ISERROR(VLOOKUP(H814,Database!$B$1:$C$5908,2,FALSE)),\"\",VLOOKUP(H814,Database!$B$1:$C$5908,2,FALSE))","v":""},"",{"$error":"#N/A"},null,null,null,null,null,null,null,null,"",false,2,{"$f":"VLOOKUP(H814,Database!$B$1:$E$4891,4,FALSE)","v":{"$error":"#N/A"}},true]
[810,null,null,null,null,null,null,null,{"$f":"IF(ISERROR(VLOOKUP(H815,Database!$B$1:$C$5908,2,FALSE)),\"\",VLOOKUP(H815,Database!$B$1:$C$5908,2,FALSE))","v":""},"",{"$error":"#N/A"},null,null,null,null,null,null,null,null,"",false,2,{"$f":"VLOOKUP(H815,Database!$B$1:$E$4891,4,FALSE)","v":{"$error":"#N/A"}},true]
[811,null,null,null,null,null,null,null,{"$f":"IF(ISERROR(VLOOKUP(H816,Database!$B$1:$C$5908,2,FALSE)),\"\",VLOOKUP(H816,Database!$B$1:$C$5908,2,FALSE))","v":""},"",{"$error":"#N/A"},null,null,null,null,null,null,null,null,"",false,2,{"$f":"VLOOKUP(H816,Database!$B$1:$E$4891,4,FALSE)","v":{"$error":"#N/A"}},true]
[812,null,null,null,null,null,null,null,{"$f":"IF(ISERROR(VLOOKUP(H817,Database!$B$1:$C$5908,2,FALSE)),\"\",VLOOKUP(H817,Database!$B$1:$C$5908,2,FALSE))","v":""},"",{"$error":"#N/A"},null,null,null,null,null,null,null,null,"",false,2,{"$f":"VLOOKUP(H817,Database!$B$1:$E$4891,4,FALSE)","v":{"$error":"#N/A"}},true]
[813,null,null,null,null,null,null,null,{"$f":"IF(ISERROR(VLOOKUP(H818,Database!$B$1:$C$5908,2,FALSE)),\"\",VLOOKUP(H818,Database!$B$1:$C$5908,2,FALSE))","v":""},"",{"$error":"#N/A"},null,null,null,null,null,null,null,null,"",false,2,{"$f":"VLOOKUP(H818,Database!$B$1:$E$4891,4,FALSE)","v":{"$error":"#N/A"}},true]
[814,null,null,null,null,null,null,null,{"$f":"IF(ISERROR(VLOOKUP(H819,Database!$B$1:$C$5908,2,FALSE)),\"\",VLOOKUP(H819,Database!$B$1:$C$5908,2,FALSE))","v":""},"",{"$error":"#N/A"},null,null,null,null,null,null,null,null,"",false,2,{"$f":"VLOOKUP(H819,Database!$B$1:$E$4891,4,FALSE)","v":{"$error":"#N/A"}},true]
[815,null,null,null,null,null,null,null,{"$f":"IF(ISERROR(VLOOKUP(H820,Database!$B$1:$C$5908,2,FALSE)),\"\",VLOOKUP(H820,Database!$B$1:$C$5908,2,FALSE))","v":""},"",{"$error":"#N/A"},null,null,null,null,null,null,null,null,"",false,2,{"$f":"VLOOKUP(H820,Database!$B$1:$E$4891,4,FALSE)","v":{"$error":"#N/A"}},true]
[816,null,null,null,null,null,null,null,{"$f":"IF(ISERROR(VLOOKUP(H821,Database!$B$1:$C$5908,2,FALSE)),\"\",VLOOKUP(H821,Database!$B$1:$C$5908,2,FALSE))","v":""},"",{"$error":"#N/A"},null,null,null,null,null,null,null,null,"",false,2,{"$f":"VLOOKUP(H821,Database!$B$1:$E$4891,4,FALSE)","v":{"$error":"#N/A"}},true]
[817,null,null,null,null,null,null,null,{"$f":"IF(ISERROR(VLOOKUP(H822,Database!$B$1:$C$5908,2,FALSE)),\"\",VLOOKUP(H822,Database!$B$1:$C$5908,2,FALSE))","v":""},"",{"$error":"#N/A"},null,null,null,null,null,null,null,null,"",false,2,{"$f":"VLOOKUP(H822,Database!$B$1:$E$4891,4,FALSE)","v":{"$error":"#N/A"}},true]
[818,null,null,null,null,null,null,null,{"$f":"IF(ISERROR(VLOOKUP(H823,Database!$B$1:$C$5908,2,FALSE)),\"\",VLOOKUP(H823,Database!$B$1:$C$5908,2,FALSE))","v":""},"",{"$error":"#N/A"},null,null,null,null,null,null,null,null,"",false,2,{"$f":"VLOOKUP(H823,Database!$B$1:$E$4891,4,FALSE)","v":{"$error":"#N/A"}},true]
[819,null,null,null,null,null,null,null,{"$f":"IF(ISERROR(VLOOKUP(H824,Database!$B$1:$C$5908,2,FALSE)),\"\",VLOOKUP(H824,Database!$B$1:$C$5908,2,FALSE))","v":""},"",{"$error":"#N/A"},null,null,null,null,null,null,null,null,"",false,2,{"$f":"VLOOKUP(H824,Database!$B$1:$E$4891,4,FALSE)","v":{"$error":"#N/A"}},true]
[820,null,null,null,null,null,null,null,{"$f":"IF(ISERROR(VLOOKUP(H825,Database!$B$1:$C$5908,2,FALSE)),\"\",VLOOKUP(H825,Database!$B$1:$C$5908,2,FALSE))","v":""},"",{"$error":"#N/A"},null,null,null,null,null,null,null,null,"",false,2,{"$f":"VLOOKUP(H825,Database!$B$1:$E$4891,4,FALSE)","v":{"$error":"#N/A"}},true]
[821,null,null,null,null,null,null,null,{"$f":"IF(ISERROR(VLOOKUP(H826,Database!$B$1:$C$5908,2,FALSE)),\"\",VLOOKUP(H826,Database!$B$1:$C$5908,2,FALSE))","v":""},"",{"$error":"#N/A"},null,null,null,null,null,null,null,null,"",false,2,{"$f":"VLOOKUP(H826,Database!$B$1:$E$4891,4,FALSE)","v":{"$error":"#N/A"}},true]
[822,null,null,null,null,null,null,null,{"$f":"IF(ISERROR(VLOOKUP(H827,Database!$B$1:$C$5908,2,FALSE)),\"\",VLOOKUP(H827,Database!$B$1:$C$5908,2,FALSE))","v":""},"",{"$error":"#N/A"},null,null,null,null,null,null,null,null,"",false,2,{"$f":"VLOOKUP(H827,Database!$B$1:$E$4891,4,FALSE)","v":{"$error":"#N/A"}},true]
[823,null,null,null,null,null,null,null,{"$f":"IF(ISERROR(VLOOKUP(H828,Database!$B$1:$C$5908,2,FALSE)),\"\",VLOOKUP(H828,Database!$B$1:$C$5908,2,FALSE))","v":""},"",{"$error":"#N/A"},null,null,null,null,null,null,null,null,"",false,2,{"$f":"VLOOKUP(H828,Database!$B$1:$E$4891,4,FALSE)","v":{"$error":"#N/A"}},true]
[824,null,null,null,null,null,null,null,{"$f":"IF(ISERROR(VLOOKUP(H829,Database!$B$1:$C$5908,2,FALSE)),\"\",VLOOKUP(H829,Database!$B$1:$C$5908,2,FALSE))","v":""},"",{"$error":"#N/A"},null,null,null,null,null,null,null,null,"",false,2,{"$f":"VLOOKUP(H829,Database!$B$1:$E$4891,4,FALSE)","v":{"$error":"#N/A"}},true]
[825,null,null,null,null,null,null,null,{"$f":"IF(ISERROR(VLOOKUP(H830,Database!$B$1:$C$5908,2,FALSE)),\"\",VLOOKUP(H830,Database!$B$1:$C$5908,2,FALSE))","v":""},"",{"$error":"#N/A"},null,null,null,null,null,null,null,null,"",false,2,{"$f":"VLOOKUP(H830,Database!$B$1:$E$4891,4,FALSE)","v":{"$error":"#N/A"}},true]
[826,null,null,null,null,null,null,null,{"$f":"IF(ISERROR(VLOOKUP(H831,Database!$B$1:$C$5908,2,FALSE)),\"\",VLOOKUP(H831,Database!$B$1:$C$5908,2,FALSE))","v":""},"",{"$error":"#N/A"},null,null,null,null,null,null,null,null,"",false,2,{"$f":"VLOOKUP(H831,Database!$B$1:$E$4891,4,FALSE)","v":{"$error":"#N/A"}},true]
[827,null,null,null,null,null,null,null,{"$f":"IF(ISERROR(VLOOKUP(H832,Database!$B$1:$C$5908,2,FALSE)),\"\",VLOOKUP(H832,Database!$B$1:$C$5908,2,FALSE))","v":""},"",{"$error":"#N/A"},null,null,null,null,null,null,null,null,"",false,2,{"$f":"VLOOKUP(H832,Database!$B$1:$E$4891,4,FALSE)","v":{"$error":"#N/A"}},true]
[828,null,null,null,null,null,null,null,{"$f":"IF(ISERROR(VLOOKUP(H833,Database!$B$1:$C$5908,2,FALSE)),\"\",VLOOKUP(H833,Database!$B$1:$C$5908,2,FALSE))","v":""},"",{"$error":"#N/A"},null,null,null,null,null,null,null,null,"",false,2,{"$f":"VLOOKUP(H833,Database!$B$1:$E$4891,4,FALSE)","v":{"$error":"#N/A"}},true]
[829,null,null,null,null,null,null,null,{"$f":"IF(ISERROR(VLOOKUP(H834,Database!$B$1:$C$5908,2,FALSE)),\"\",VLOOKUP(H834,Database!$B$1:$C$5908,2,FALSE))","v":""},"",{"$error":"#N/A"},null,null,null,null,null,null,null,null,"",false,2,{"$f":"VLOOKUP(H834,Database!$B$1:$E$4891,4,FALSE)","v":{"$error":"#N/A"}},true]
[830,null,null,null,null,null,null,null,{"$f":"IF(ISERROR(VLOOKUP(H835,Database!$B$1:$C$5908,2,FALSE)),\"\",VLOOKUP(H835,Database!$B$1:$C$5908,2,FALSE))","v":""},"",{"$error":"#N/A"},null,null,null,null,null,null,null,null,"",false,2,{"$f":"VLOOKUP(H835,Database!$B$1:$E$4891,4,FALSE)","v":{"$error":"#N/A"}},true]
[831,null,null,null,null,null,null,null,{"$f":"IF(ISERROR(VLOOKUP(H836,Database!$B$1:$C$5908,2,FALSE)),\"\",VLOOKUP(H836,Database!$B$1:$C$5908,2,FALSE))","v":""},"",{"$error":"#N/A"},null,null,null,null,null,null,null,null,"",false,2,{"$f":"VLOOKUP(H836,Database!$B$1:$E$4891,4,FALSE)","v":{"$error":"#N/A"}},true]
[832,null,null,null,null,null,null,null,{"$f":"IF(ISERROR(VLOOKUP(H837,Database!$B$1:$C$5908,2,FALSE)),\"\",VLOOKUP(H837,Database!$B$1:$C$5908,2,FALSE))","v":""},"",{"$error":"#N/A"},null,null,null,null,null,null,null,null,"",false,2,{"$f":"VLOOKUP(H837,Database!$B$1:$E$4891,4,FALSE)","v":{"$error":"#N/A"}},true]
[833,null,null,null,null,null,null,null,{"$f":"IF(ISERROR(VLOOKUP(H838,Database!$B$1:$C$5908,2,FALSE)),\"\",VLOOKUP(H838,Database!$B$1:$C$5908,2,FALSE))","v":""},"",{"$error":"#N/A"},null,null,null,null,null,null,null,null,"",false,2,{"$f":"VLOOKUP(H838,Database!$B$1:$E$4891,4,FALSE)","v":{"$error":"#N/A"}},true]
[{"$f":"A838+1","v":834},null,null,null,null,null,null,null,{"$f":"IF(ISERROR(VLOOKUP(H839,Database!$B$1:$C$5908,2,FALSE)),\"\",VLOOKUP(H839,Database!$B$1:$C$5908,2,FALSE))","v":""},{"$f":"IF(V839=1,1,IF(AND(T839=0,F839=\"SSB\",V839<>\"\"),2,IF(AND(T839=0,F839=\"FM\",V839<>\"\"),2,IF(AND(T839=0,F839=\"DIGI\",V839<>\"\"),3,IF(AND(T839=0,F839=\"CW\",V839<>\"\"),5,IF(H839=\"-\",\"\",T839))))))","v":""},{"$f":"IF(H839=\"-\",\"\",IF(AND(H839<>\"\",X839=TRUE),\"INDIPENDENT\",IF(W839=0,\"SCRIVI NOME NELLE NOTE\",W839)))","v":{"$error":"#N/A"}},null,null,null,null,null,null,null,null,{"$f":"IF(H839=\"\",\"\",IF(H839=$R$6,25,IF(OR(H839=$R$7,H839=$R$8,H839=$R$9,H839=$R$10,H839=$R$11,H839=$R$12,H839=$R$13,H839=$R$14,H839=$R$15,H839=$R$16,H839=$R$17,H839=$R$18,H839=$R$19,H839=$R$20,H839=$R$21,H839=$R$22,H839=$R$23),15,0)))","v":""},{"$f":"ISERROR(I839)","v":false},2,{"$f":"VLOOKUP(H839,Database!$B$1:$E$4891,4,FALSE)","v":{"$error":"#N/A"}},{"$f":"ISERROR(W839)","v":true}]
[835,null,null,null,null,null,null,null,{"$f":"IF(ISERROR(VLOOKUP(H840,Database!$B$1:$C$5908,2,FALSE)),\"\",VLOOKUP(H840,Database!$B$1:$C$5908,2,FALSE))","v":""},"",{"$error":"#N/A"},null,null,null,null,null,null,null,null,"",false,{"$f":"IF(H840=\"-\",\"\",IF(AND(T840=0,U840=FALSE,I840=\"\"),1,2))","v":2},{"$f":"VLOOKUP(H840,Database!$B$1:$E$4891,4,FALSE)","v":{"$error":"#N/A"}},true]
[836,null,null,null,null,null,null,null,{"$f":"IF(ISERROR(VLOOKUP(H841,Database!$B$1:$C$5908,2,FALSE)),\"\",VLOOKUP(H841,Database!$B$1:$C$5908,2,FALSE))","v":""},"",{"$error":"#N/A"},null,null,null,null,null,null,null,null,"",false,2,{"$f":"VLOOKUP(H841,Database!$B$1:$E$4891,4,FALSE)","v":{"$error":"#N/A"}},true]
[837,null,null,null,null,null,null,null,{"$f":"IF(ISERROR(VLOOKUP(H842,Database!$B$1:$C$5908,2,FALSE)),\"\",VLOOKUP(H842,Database!$B$1:$C$5908,2,FALSE))","v":""},"",{"$error":"#N/A"},null,null,null,null,null,null,null,null,"",false,2,{"$f":"VLOOKUP(H842,Database!$B$1:$E$4891,4,FALSE)","v":{"$error":"#N/A"}},true]
[838,null,null,null,null,null,null,null,{"$f":"IF(ISERROR(VLOOKUP(H843,Database!$B$1:$C$5908,2,FALSE)),\"\",VLOOKUP(H843,Database!$B$1:$C$5908,2,FALSE))","v":""},"",{"$error":"#N/A"},null,null,null,null,null,null,null,null,"",false,2,{"$f":"VLOOKUP(H843,Database!$B$1:$E$4891,4,FALSE)","v":{"$error":"#N/A"}},true]
[839,null,null,null,null,null,null,null,{"$f":"IF(ISERROR(VLOOKUP(H844,Database!$B$1:$C$5908,2,FALSE)),\"\",VLOOKUP(H844,Database!$B$1:$C$5908,2,FALSE))","v":""},"",{"$error":"#N/A"},null,null,null,null,null,null,null,null,"",false,2,{"$f":"VLOOKUP(H844,Database!$B$1:$E$4891,4,FALSE)","v":{"$error":"#N/A"}},true]
[840,null,null,null,null,null,null,null,{"$f":"IF(ISERROR(VLOOKUP(H845,Database!$B$1:$C$5908,2,FALSE)),\"\",VLOOKUP(H845,Database!$B$1:$C$5908,2,FALSE))","v":""},"",{"$error":"#N/A"},null,null,null,null,null,null,null,null,"",false,2,{"$f":"VLOOKUP(H845,Database!$B$1:$E$4891,4,FALSE)","v":{"$error":"#N/A"}},true]
[841,null,null,null,null,null,null,null,{"$f":"IF(ISERROR(VLOOKUP(H846,Database!$B$1:$C$5908,2,FALSE)),\"\",VLOOKUP(H846,Database!$B$1:$C$5908,2,FALSE))","v":""},"",{"$error":"#N/A"},null,null,null,null,null,null,null,null,"",false,2,{"$f":"VLOOKUP(H846,Database!$B$1:$E$4891,4,FALSE)","v":{"$error":"#N/A"}},true]
[842,null,null,null,null,null,null,null,{"$f":"IF(ISERROR(VLOOKUP(H847,Database!$B$1:$C$5908,2,FALSE)),\"\",VLOOKUP(H847,Database!$B$1:$C$5908,2,FALSE))","v":""},"",{"$error":"#N/A"},null,null,null,null,null,null,null,null,"",false,2,{"$f":"VLOOKUP(H847,Database!$B$1:$E$4891,4,FALSE)","v":{"$error":"#N/A"}},true]
[843,null,null,null,null,null,null,null,{"$f":"IF(ISERROR(VLOOKUP(H848,Database!$B$1:$C$5908,2,FALSE)),\"\",VLOOKUP(H848,Database!$B$1:$C$5908,2,FALSE))","v":""},"",{"$error":"#N/A"},null,null,null,null,null,null,null,null,"",false,2,{"$f":"VLOOKUP(H848,Database!$B$1:$E$4891,4,FALSE)","v":{"$error":"#N/A"}},true]
[844,null,null,null,null,null,null,null,{"$f":"IF(ISERROR(VLOOKUP(H849,Database!$B$1:$C$5908,2,FALSE)),\"\",VLOOKUP(H849,Database!$B$1:$C$5908,2,FALSE))","v":""},"",{"$error":"#N/A"},null,null,null,null,null,null,null,null,"",false,2,{"$f":"VLOOKUP(H849,Database!$B$1:$E$4891,4,FALSE)","v":{"$error":"#N/A"}},true]
[845,null,null,null,null,null,null,null,{"$f":"IF(ISERROR(VLOOKUP(H850,Database!$B$1:$C$5908,2,FALSE)),\"\",VLOOKUP(H850,Database!$B$1:$C$5908,2,FALSE))","v":""},"",{"$error":"#N/A"},null,null,null,null,null,null,null,null,"",false,2,{"$f":"VLOOKUP(H850,Database!$B$1:$E$4891,4,FALSE)","v":{"$error":"#N/A"}},true]
[846,null,null,null,null,null,null,null,{"$f":"IF(ISERROR(VLOOKUP(H851,Database!$B$1:$C$5908,2,FALSE)),\"\",VLOOKUP(H851,Database!$B$1:$C$5908,2,FALSE))","v":""},"",{"$error":"#N/A"},null,null,null,null,null,null,null,null,"",false,2,{"$f":"VLOOKUP(H851,Database!$B$1:$E$4891,4,FALSE)","v":{"$error":"#N/A"}},true]
[847,null,null,null,null,null,null,null,{"$f":"IF(ISERROR(VLOOKUP(H852,Database!$B$1:$C$5908,2,FALSE)),\"\",VLOOKUP(H852,Database!$B$1:$C$5908,2,FALSE))","v":""},"",{"$error":"#N/A"},null,null,null,null,null,null,null,null,"",false,2,{"$f":"VLOOKUP(H852,Database!$B$1:$E$4891,4,FALSE)","v":{"$error":"#N/A"}},true]
[848,null,null,null,null,null,null,null,{"$f":"IF(ISERROR(VLOOKUP(H853,Database!$B$1:$C$5908,2,FALSE)),\"\",VLOOKUP(H853,Database!$B$1:$C$5908,2,FALSE))","v":""},"",{"$error":"#N/A"},null,null,null,null,null,null,null,null,"",false,2,{"$f":"VLOOKUP(H853,Database!$B$1:$E$4891,4,FALSE)","v":{"$error":"#N/A"}},true]
[849,null,null,null,null,null,null,null,{"$f":"IF(ISERROR(VLOOKUP(H854,Database!$B$1:$C$5908,2,FALSE)),\"\",VLOOKUP(H854,Database!$B$1:$C$5908,2,FALSE))","v":""},"",{"$error":"#N/A"},null,null,null,null,null,null,null,null,"",false,2,{"$f":"VLOOKUP(H854,Database!$B$1:$E$4891,4,FALSE)","v":{"$error":"#N/A"}},true]
[850,null,null,null,null,null,null,null,{"$f":"IF(ISERROR(VLOOKUP(H855,Database!$B$1:$C$5908,2,FALSE)),\"\",VLOOKUP(H855,Database!$B$1:$C$5908,2,FALSE))","v":""},"",{"$error":"#N/A"},null,null,null,null,null,null,null,null,"",false,2,{"$f":"VLOOKUP(H855,Database!$B$1:$E$4891,4,FALSE)","v":{"$error":"#N/A"}},true]
[851,null,null,null,null,null,null,null,{"$f":"IF(ISERROR(VLOOKUP(H856,Database!$B$1:$C$5908,2,FALSE)),\"\",VLOOKUP(H856,Database!$B$1:$C$5908,2,FALSE))","v":""},"",{"$error":"#N/A"},null,null,null,null,null,null,null,null,"",false,2,{"$f":"VLOOKUP(H856,Database!$B$1:$E$4891,4,FALSE)","v":{"$error":"#N/A"}},true]
[852,null,null,null,null,null,null,null,{"$f":"IF(ISERROR(VLOOKUP(H857,Database!$B$1:$C$5908,2,FALSE)),\"\",VLOOKUP(H857,Database!$B$1:$C$5908,2,FALSE))","v":""},"",{"$error":"#N/A"},null,null,null,null,null,null,null,null,"",false,2,{"$f":"VLOOKUP(H857,Database!$B$1:$E$4891,4,FALSE)","v":{"$error":"#N/A"}},true]
[853,null,null,null,null,null,null,null,{"$f":"IF(ISERROR(VLOOKUP(H858,Database!$B$1:$C$5908,2,FALSE)),\"\",VLOOKUP(H858,Database!$B$1:$C$5908,2,FALSE))","v":""},"",{"$error":"#N/A"},null,null,null,null,null,null,null,null,"",false,2,{"$f":"VLOOKUP(H858,Database!$B$1:$E$4891,4,FALSE)","v":{"$error":"#N/A"}},true]
[854,null,null,null,null,null,null,null,{"$f":"IF(ISERROR(VLOOKUP(H859,Database!$B$1:$C$5908,2,FALSE)),\"\",VLOOKUP(H859,Database!$B$1:$C$5908,2,FALSE))","v":""},"",{"$error":"#N/A"},null,null,null,null,null,null,null,null,"",false,2,{"$f":"VLOOKUP(H859,Database!$B$1:$E$4891,4,FALSE)","v":{"$error":"#N/A"}},true]
[855,null,null,null,null,null,null,null,{"$f":"IF(ISERROR(VLOOKUP(H860,Database!$B$1:$C$5908,2,FALSE)),\"\",VLOOKUP(H860,Database!$B$1:$C$5908,2,FALSE))","v":""},"",{"$error":"#N/A"},null,null,null,null,null,null,null,null,"",false,2,{"$f":"VLOOKUP(H860,Database!$B$1:$E$4891,4,FALSE)","v":{"$error":"#N/A"}},true]
[856,null,null,null,null,null,null,null,{"$f":"IF(ISERROR(VLOOKUP(H861,Database!$B$1:$C$5908,2,FALSE)),\"\",VLOOKUP(H861,Database!$B$1:$C$5908,2,FALSE))","v":""},"",{"$error":"#N/A"},null,null,null,null,null,null,null,null,"",false,2,{"$f":"VLOOKUP(H861,Database!$B$1:$E$4891,4,FALSE)","v":{"$error":"#N/A"}},true]
[857,null,null,null,null,null,null,null,{"$f":"IF(ISERROR(VLOOKUP(H862,Database!$B$1:$C$5908,2,FALSE)),\"\",VLOOKUP(H862,Database!$B$1:$C$5908,2,FALSE))","v":""},"",{"$error":"#N/A"},null,null,null,null,null,null,null,null,"",false,2,{"$f":"VLOOKUP(H862,Database!$B$1:$E$4891,4,FALSE)","v":{"$error":"#N/A"}},true]
[858,null,null,null,null,null,null,null,{"$f":"IF(ISERROR(VLOOKUP(H863,Database!$B$1:$C$5908,2,FALSE)),\"\",VLOOKUP(H863,Database!$B$1:$C$5908,2,FALSE))","v":""},"",{"$error":"#N/A"},null,null,null,null,null,null,null,null,"",false,2,{"$f":"VLOOKUP(H863,Database!$B$1:$E$4891,4,FALSE)","v":{"$error":"#N/A"}},true]
[859,null,null,null,null,null,null,null,{"$f":"IF(ISERROR(VLOOKUP(H864,Database!$B$1:$C$5908,2,FALSE)),\"\",VLOOKUP(H864,Database!$B$1:$C$5908,2,FALSE))","v":""},"",{"$error":"#N/A"},null,null,null,null,null,null,null,null,"",false,2,{"$f":"VLOOKUP(H864,Database!$B$1:$E$4891,4,FALSE)","v":{"$error":"#N/A"}},true]
[860,null,null,null,null,null,null,null,{"$f":"IF(ISERROR(VLOOKUP(H865,Database!$B$1:$C$5908,2,FALSE)),\"\",VLOOKUP(H865,Database!$B$1:$C$5908,2,FALSE))","v":""},"",{"$error":"#N/A"},null,null,null,null,null,null,null,null,"",false,2,{"$f":"VLOOKUP(H865,Database!$B$1:$E$4891,4,FALSE)","v":{"$error":"#N/A"}},true]
[861,null,null,null,null,null,null,null,{"$f":"IF(ISERROR(VLOOKUP(H866,Database!$B$1:$C$5908,2,FALSE)),\"\",VLOOKUP(H866,Database!$B$1:$C$5908,2,FALSE))","v":""},"",{"$error":"#N/A"},null,null,null,null,null,null,null,null,"",false,2,{"$f":"VLOOKUP(H866,Database!$B$1:$E$4891,4,FALSE)","v":{"$error":"#N/A"}},true]
[862,null,null,null,null,null,null,null,{"$f":"IF(ISERROR(VLOOKUP(H867,Database!$B$1:$C$5908,2,FALSE)),\"\",VLOOKUP(H867,Database!$B$1:$C$5908,2,FALSE))","v":""},"",{"$error":"#N/A"},null,null,null,null,null,null,null,null,"",false,2,{"$f":"VLOOKUP(H867,Database!$B$1:$E$4891,4,FALSE)","v":{"$error":"#N/A"}},true]
[863,null,null,null,null,null,null,null,{"$f":"IF(ISERROR(VLOOKUP(H868,Database!$B$1:$C$5908,2,FALSE)),\"\",VLOOKUP(H868,Database!$B$1:$C$5908,2,FALSE))","v":""},"",{"$error":"#N/A"},null,null,null,null,null,null,null,null,"",false,2,{"$f":"VLOOKUP(H868,Database!$B$1:$E$4891,4,FALSE)","v":{"$error":"#N/A"}},true]
[864,null,null,null,null,null,null,null,{"$f":"IF(ISERROR(VLOOKUP(H869,Database!$B$1:$C$5908,2,FALSE)),\"\",VLOOKUP(H869,Database!$B$1:$C$5908,2,FALSE))","v":""},"",{"$error":"#N/A"},null,null,null,null,null,null,null,null,"",false,2,{"$f":"VLOOKUP(H869,Database!$B$1:$E$4891,4,FALSE)","v":{"$error":"#N/A"}},true]
[865,null,null,null,null,null,null,null,{"$f":"IF(ISERROR(VLOOKUP(H870,Database!$B$1:$C$5908,2,FALSE)),\"\",VLOOKUP(H870,Database!$B$1:$C$5908,2,FALSE))","v":""},"",{"$error":"#N/A"},null,null,null,null,null,null,null,null,"",false,2,{"$f":"VLOOKUP(H870,Database!$B$1:$E$4891,4,FALSE)","v":{"$error":"#N/A"}},true]
[866,null,null,null,null,null,null,null,{"$f":"IF(ISERROR(VLOOKUP(H871,Database!$B$1:$C$5908,2,FALSE)),\"\",VLOOKUP(H871,Database!$B$1:$C$5908,2,FALSE))","v":""},"",{"$error":"#N/A"},null,null,null,null,null,null,null,null,"",false,2,{"$f":"VLOOKUP(H871,Database!$B$1:$E$4891,4,FALSE)","v":{"$error":"#N/A"}},true]
[867,null,null,null,null,null,null,null,{"$f":"IF(ISERROR(VLOOKUP(H872,Database!$B$1:$C$5908,2,FALSE)),\"\",VLOOKUP(H872,Database!$B$1:$C$5908,2,FALSE))","v":""},"",{"$error":"#N/A"},null,null,null,null,null,null,null,null,"",false,2,{"$f":"VLOOKUP(H872,Database!$B$1:$E$4891,4,FALSE)","v":{"$error":"#N/A"}},true]
[868,null,null,null,null,null,null,null,{"$f":"IF(ISERROR(VLOOKUP(H873,Database!$B$1:$C$5908,2,FALSE)),\"\",VLOOKUP(H873,Database!$B$1:$C$5908,2,FALSE))","v":""},"",{"$error":"#N/A"},null,null,null,null,null,null,null,null,"",false,2,{"$f":"VLOOKUP(H873,Database!$B$1:$E$4891,4,FALSE)","v":{"$error":"#N/A"}},true]
[869,null,null,null,null,null,null,null,{"$f":"IF(ISERROR(VLOOKUP(H874,Database!$B$1:$C$5908,2,FALSE)),\"\",VLOOKUP(H874,Database!$B$1:$C$5908,2,FALSE))","v":""},"",{"$error":"#N/A"},null,null,null,null,null,null,null,null,"",false,2,{"$f":"VLOOKUP(H874,Database!$B$1:$E$4891,4,FALSE)","v":{"$error":"#N/A"}},true]
[870,null,null,null,null,null,null,null,{"$f":"IF(ISERROR(VLOOKUP(H875,Database!$B$1:$C$5908,2,FALSE)),\"\",VLOOKUP(H875,Database!$B$1:$C$5908,2,FALSE))","v":""},"",{"$error":"#N/A"},null,null,null,null,null,null,null,null,"",false,2,{"$f":"VLOOKUP(H875,Database!$B$1:$E$4891,4,FALSE)","v":{"$error":"#N/A"}},true]
[871,null,null,null,null,null,null,null,{"$f":"IF(ISERROR(VLOOKUP(H876,Database!$B$1:$C$5908,2,FALSE)),\"\",VLOOKUP(H876,Database!$B$1:$C$5908,2,FALSE))","v":""},"",{"$error":"#N/A"},null,null,null,null,null,null,null,null,"",false,2,{"$f":"VLOOKUP(H876,Database!$B$1:$E$4891,4,FALSE)","v":{"$error":"#N/A"}},true]
[872,null,null,null,null,null,null,null,{"$f":"IF(ISERROR(VLOOKUP(H877,Database!$B$1:$C$5908,2,FALSE)),\"\",VLOOKUP(H877,Database!$B$1:$C$5908,2,FALSE))","v":""},"",{"$error":"#N/A"},null,null,null,null,null,null,null,null,"",false,2,{"$f":"VLOOKUP(H877,Database!$B$1:$E$4891,4,FALSE)","v":{"$error":"#N/A"}},true]
[873,null,null,null,null,null,null,null,{"$f":"IF(ISERROR(VLOOKUP(H878,Database!$B$1:$C$5908,2,FALSE)),\"\",VLOOKUP(H878,Database!$B$1:$C$5908,2,FALSE))","v":""},"",{"$error":"#N/A"},null,null,null,null,null,null,null,null,"",false,2,{"$f":"VLOOKUP(H878,Database!$B$1:$E$4891,4,FALSE)","v":{"$error":"#N/A"}},true]
[874,null,null,null,null,null,null,null,{"$f":"IF(ISERROR(VLOOKUP(H879,Database!$B$1:$C$5908,2,FALSE)),\"\",VLOOKUP(H879,Database!$B$1:$C$5908,2,FALSE))","v":""},"",{"$error":"#N/A"},null,null,null,null,null,null,null,null,"",false,2,{"$f":"VLOOKUP(H879,Database!$B$1:$E$4891,4,FALSE)","v":{"$error":"#N/A"}},true]
[875,null,null,null,null,null,null,null,{"$f":"IF(ISERROR(VLOOKUP(H880,Database!$B$1:$C$5908,2,FALSE)),\"\",VLOOKUP(H880,Database!$B$1:$C$5908,2,FALSE))","v":""},"",{"$error":"#N/A"},null,null,null,null,null,null,null,null,"",false,2,{"$f":"VLOOKUP(H880,Database!$B$1:$E$4891,4,FALSE)","v":{"$error":"#N/A"}},true]
[876,null,null,null,null,null,null,null,{"$f":"IF(ISERROR(VLOOKUP(H881,Database!$B$1:$C$5908,2,FALSE)),\"\",VLOOKUP(H881,Database!$B$1:$C$5908,2,FALSE))","v":""},"",{"$error":"#N/A"},null,null,null,null,null,null,null,null,"",false,2,{"$f":"VLOOKUP(H881,Database!$B$1:$E$4891,4,FALSE)","v":{"$error":"#N/A"}},true]
[877,null,null,null,null,null,null,null,{"$f":"IF(ISERROR(VLOOKUP(H882,Database!$B$1:$C$5908,2,FALSE)),\"\",VLOOKUP(H882,Database!$B$1:$C$5908,2,FALSE))","v":""},"",{"$error":"#N/A"},null,null,null,null,null,null,null,null,"",false,2,{"$f":"VLOOKUP(H882,Database!$B$1:$E$4891,4,FALSE)","v":{"$error":"#N/A"}},true]
[878,null,null,null,null,null,null,null,{"$f":"IF(ISERROR(VLOOKUP(H883,Database!$B$1:$C$5908,2,FALSE)),\"\",VLOOKUP(H883,Database!$B$1:$C$5908,2,FALSE))","v":""},"",{"$error":"#N/A"},null,null,null,null,null,null,null,null,"",false,2,{"$f":"VLOOKUP(H883,Database!$B$1:$E$4891,4,FALSE)","v":{"$error":"#N/A"}},true]
[879,null,null,null,null,null,null,null,{"$f":"IF(ISERROR(VLOOKUP(H884,Database!$B$1:$C$5908,2,FALSE)),\"\",VLOOKUP(H884,Database!$B$1:$C$5908,2,FALSE))","v":""},"",{"$error":"#N/A"},null,null,null,null,null,null,null,null,"",false,2,{"$f":"VLOOKUP(H884,Database!$B$1:$E$4891,4,FALSE)","v":{"$error":"#N/A"}},true]
[880,null,null,null,null,null,null,null,{"$f":"IF(ISERROR(VLOOKUP(H885,Database!$B$1:$C$5908,2,FALSE)),\"\",VLOOKUP(H885,Database!$B$1:$C$5908,2,FALSE))","v":""},"",{"$error":"#N/A"},null,null,null,null,null,null,null,null,"",false,2,{"$f":"VLOOKUP(H885,Database!$B$1:$E$4891,4,FALSE)","v":{"$error":"#N/A"}},true]
[881,null,null,null,null,null,null,null,{"$f":"IF(ISERROR(VLOOKUP(H886,Database!$B$1:$C$5908,2,FALSE)),\"\",VLOOKUP(H886,Database!$B$1:$C$5908,2,FALSE))","v":""},"",{"$error":"#N/A"},null,null,null,null,null,null,null,null,"",false,2,{"$f":"VLOOKUP(H886,Database!$B$1:$E$4891,4,FALSE)","v":{"$error":"#N/A"}},true]
[882,null,null,null,null,null,null,null,{"$f":"IF(ISERROR(VLOOKUP(H887,Database!$B$1:$C$5908,2,FALSE)),\"\",VLOOKUP(H887,Database!$B$1:$C$5908,2,FALSE))","v":""},"",{"$error":"#N/A"},null,null,null,null,null,null,null,null,"",false,2,{"$f":"VLOOKUP(H887,Database!$B$1:$E$4891,4,FALSE)","v":{"$error":"#N/A"}},true]
[883,null,null,null,null,null,null,null,{"$f":"IF(ISERROR(VLOOKUP(H888,Database!$B$1:$C$5908,2,FALSE)),\"\",VLOOKUP(H888,Database!$B$1:$C$5908,2,FALSE))","v":""},"",{"$error":"#N/A"},null,null,null,null,null,null,null,null,"",false,2,{"$f":"VLOOKUP(H888,Database!$B$1:$E$4891,4,FALSE)","v":{"$error":"#N/A"}},true]
[884,null,null,null,null,null,null,null,{"$f":"IF(ISERROR(VLOOKUP(H889,Database!$B$1:$C$5908,2,FALSE)),\"\",VLOOKUP(H889,Database!$B$1:$C$5908,2,FALSE))","v":""},"",{"$error":"#N/A"},null,null,null,null,null,null,null,null,"",false,2,{"$f":"VLOOKUP(H889,Database!$B$1:$E$4891,4,FALSE)","v":{"$error":"#N/A"}},true]
[885,null,null,null,null,null,null,null,{"$f":"IF(ISERROR(VLOOKUP(H890,Database!$B$1:$C$5908,2,FALSE)),\"\",VLOOKUP(H890,Database!$B$1:$C$5908,2,FALSE))","v":""},"",{"$error":"#N/A"},null,null,null,null,null,null,null,null,"",false,2,{"$f":"VLOOKUP(H890,Database!$B$1:$E$4891,4,FALSE)","v":{"$error":"#N/A"}},true]
[886,null,null,null,null,null,null,null,{"$f":"IF(ISERROR(VLOOKUP(H891,Database!$B$1:$C$5908,2,FALSE)),\"\",VLOOKUP(H891,Database!$B$1:$C$5908,2,FALSE))","v":""},"",{"$error":"#N/A"},null,null,null,null,null,null,null,null,"",false,2,{"$f":"VLOOKUP(H891,Database!$B$1:$E$4891,4,FALSE)","v":{"$error":"#N/A"}},true]
[887,null,null,null,null,null,null,null,{"$f":"IF(ISERROR(VLOOKUP(H892,Database!$B$1:$C$5908,2,FALSE)),\"\",VLOOKUP(H892,Database!$B$1:$C$5908,2,FALSE))","v":""},"",{"$error":"#N/A"},null,null,null,null,null,null,null,null,"",false,2,{"$f":"VLOOKUP(H892,Database!$B$1:$E$4891,4,FALSE)","v":{"$error":"#N/A"}},true]
[888,null,null,null,null,null,null,null,{"$f":"IF(ISERROR(VLOOKUP(H893,Database!$B$1:$C$5908,2,FALSE)),\"\",VLOOKUP(H893,Database!$B$1:$C$5908,2,FALSE))","v":""},"",{"$error":"#N/A"},null,null,null,null,null,null,null,null,"",false,2,{"$f":"VLOOKUP(H893,Database!$B$1:$E$4891,4,FALSE)","v":{"$error":"#N/A"}},true]
[889,null,null,null,null,null,null,null,{"$f":"IF(ISERROR(VLOOKUP(H894,Database!$B$1:$C$5908,2,FALSE)),\"\",VLOOKUP(H894,Database!$B$1:$C$5908,2,FALSE))","v":""},"",{"$error":"#N/A"},null,null,null,null,null,null,null,null,"",false,2,{"$f":"VLOOKUP(H894,Database!$B$1:$E$4891,4,FALSE)","v":{"$error":"#N/A"}},true]
[890,null,null,null,null,null,null,null,{"$f":"IF(ISERROR(VLOOKUP(H895,Database!$B$1:$C$5908,2,FALSE)),\"\",VLOOKUP(H895,Database!$B$1:$C$5908,2,FALSE))","v":""},"",{"$error":"#N/A"},null,null,null,null,null,null,null,null,"",false,2,{"$f":"VLOOKUP(H895,Database!$B$1:$E$4891,4,FALSE)","v":{"$error":"#N/A"}},true]
[891,null,null,null,null,null,null,null,{"$f":"IF(ISERROR(VLOOKUP(H896,Database!$B$1:$C$5908,2,FALSE)),\"\",VLOOKUP(H896,Database!$B$1:$C$5908,2,FALSE))","v":""},"",{"$error":"#N/A"},null,null,null,null,null,null,null,null,"",false,2,{"$f":"VLOOKUP(H896,Database!$B$1:$E$4891,4,FALSE)","v":{"$error":"#N/A"}},true]
[892,null,null,null,null,null,null,null,{"$f":"IF(ISERROR(VLOOKUP(H897,Database!$B$1:$C$5908,2,FALSE)),\"\",VLOOKUP(H897,Database!$B$1:$C$5908,2,FALSE))","v":""},"",{"$error":"#N/A"},null,null,null,null,null,null,null,null,"",false,2,{"$f":"VLOOKUP(H897,Database!$B$1:$E$4891,4,FALSE)","v":{"$error":"#N/A"}},true]
[893,null,null,null,null,null,null,null,{"$f":"IF(ISERROR(VLOOKUP(H898,Database!$B$1:$C$5908,2,FALSE)),\"\",VLOOKUP(H898,Database!$B$1:$C$5908,2,FALSE))","v":""},"",{"$error":"#N/A"},null,null,null,null,null,null,null,null,"",false,2,{"$f":"VLOOKUP(H898,Database!$B$1:$E$4891,4,FALSE)","v":{"$error":"#N/A"}},true]
[894,null,null,null,null,null,null,null,{"$f":"IF(ISERROR(VLOOKUP(H899,Database!$B$1:$C$5908,2,FALSE)),\"\",VLOOKUP(H899,Database!$B$1:$C$5908,2,FALSE))","v":""},"",{"$error":"#N/A"},null,null,null,null,null,null,null,null,"",false,2,{"$f":"VLOOKUP(H899,Database!$B$1:$E$4891,4,FALSE)","v":{"$error":"#N/A"}},true]
[895,null,null,null,null,null,null,null,{"$f":"IF(ISERROR(VLOOKUP(H900,Database!$B$1:$C$5908,2,FALSE)),\"\",VLOOKUP(H900,Database!$B$1:$C$5908,2,FALSE))","v":""},"",{"$error":"#N/A"},null,null,null,null,null,null,null,null,"",false,2,{"$f":"VLOOKUP(H900,Database!$B$1:$E$4891,4,FALSE)","v":{"$error":"#N/A"}},true]
[896,null,null,null,null,null,null,null,{"$f":"IF(ISERROR(VLOOKUP(H901,Database!$B$1:$C$5908,2,FALSE)),\"\",VLOOKUP(H901,Database!$B$1:$C$5908,2,FALSE))","v":""},"",{"$error":"#N/A"},null,null,null,null,null,null,null,null,"",false,2,{"$f":"VLOOKUP(H901,Database!$B$1:$E$4891,4,FALSE)","v":{"$error":"#N/A"}},true]
[897,null,null,null,null,null,null,null,{"$f":"IF(ISERROR(VLOOKUP(H902,Database!$B$1:$C$5908,2,FALSE)),\"\",VLOOKUP(H902,Database!$B$1:$C$5908,2,FALSE))","v":""},"",{"$error":"#N/A"},null,null,null,null,null,null,null,null,"",false,2,{"$f":"VLOOKUP(H902,Database!$B$1:$E$4891,4,FALSE)","v":{"$error":"#N/A"}},true]
[{"$f":"A902+1","v":898},null,null,null,null,null,null,null,{"$f":"IF(ISERROR(VLOOKUP(H903,Database!$B$1:$C$5908,2,FALSE)),\"\",VLOOKUP(H903,Database!$B$1:$C$5908,2,FALSE))","v":""},{"$f":"IF(V903=1,1,IF(AND(T903=0,F903=\"SSB\",V903<>\"\"),2,IF(AND(T903=0,F903=\"FM\",V903<>\"\"),2,IF(AND(T903=0,F903=\"DIGI\",V903<>\"\"),3,IF(AND(T903=0,F903=\"CW\",V903<>\"\"),5,IF(H903=\"-\",\"\",T903))))))","v":""},{"$f":"IF(H903=\"-\",\"\",IF(AND(H903<>\"\",X903=TRUE),\"INDIPENDENT\",IF(W903=0,\"SCRIVI NOME NELLE NOTE\",W903)))","v":{"$error":"#N/A"}},null,null,null,null,null,null,null,null,{"$f":"IF(H903=\"\",\"\",IF(H903=$R$6,25,IF(OR(H903=$R$7,H903=$R$8,H903=$R$9,H903=$R$10,H903=$R$11,H903=$R$12,H903=$R$13,H903=$R$14,H903=$R$15,H903=$R$16,H903=$R$17,H903=$R$18,H903=$R$19,H903=$R$20,H903=$R$21,H903=$R$22,H903=$R$23),15,0)))","v":""},{"$f":"ISERROR(I903)","v":false},2,{"$f":"VLOOKUP(H903,Database!$B$1:$E$4891,4,FALSE)","v":{"$error":"#N/A"}},{"$f":"ISERROR(W903)","v":true}]
[899,null,null,null,null,null,null,null,{"$f":"IF(ISERROR(VLOOKUP(H904,Database!$B$1:$C$5908,2,FALSE)),\"\",VLOOKUP(H904,Database!$B$1:$C$5908,2,FALSE))","v":""},"",{"$error":"#N/A"},null,null,null,null,null,null,null,null,"",false,{"$f":"IF(H904=\"-\",\"\",IF(AND(T904=0,U904=FALSE,I904=\"\"),1,2))","v":2},{"$f":"VLOOKUP(H904,Database!$B$1:$E$4891,4,FALSE)","v":{"$error":"#N/A"}},true]
[900,null,null,null,null,null,null,null,{"$f":"IF(ISERROR(VLOOKUP(H905,Database!$B$1:$C$5908,2,FALSE)),\"\",VLOOKUP(H905,Database!$B$1:$C$5908,2,FALSE))","v":""},"",{"$error":"#N/A"},null,null,null,null,null,null,null,null,"",false,2,{"$f":"VLOOKUP(H905,Database!$B$1:$E$4891,4,FALSE)","v":{"$error":"#N/A"}},true]
[901,null,null,null,null,null,null,null,{"$f":"IF(ISERROR(VLOOKUP(H906,Database!$B$1:$C$5908,2,FALSE)),\"\",VLOOKUP(H906,Database!$B$1:$C$5908,2,FALSE))","v":""},"",{"$error":"#N/A"},null,null,null,null,null,null,null,null,"",false,2,{"$f":"VLOOKUP(H906,Database!$B$1:$E$4891,4,FALSE)","v":{"$error":"#N/A"}},true]
[902,null,null,null,null,null,null,null,{"$f":"IF(ISERROR(VLOOKUP(H907,Database!$B$1:$C$5908,2,FALSE)),\"\",VLOOKUP(H907,Database!$B$1:$C$5908,2,FALSE))","v":""},"",{"$error":"#N/A"},null,null,null,null,null,null,null,null,"",false,2,{"$f":"VLOOKUP(H907,Database!$B$1:$E$4891,4,FALSE)","v":{"$error":"#N/A"}},true]
[903,null,null,null,null,null,null,null,{"$f":"IF(ISERROR(VLOOKUP(H908,Database!$B$1:$C$5908,2,FALSE)),\"\",VLOOKUP(H908,Database!$B$1:$C$5908,2,FALSE))","v":""},"",{"$error":"#N/A"},null,null,null,null,null,null,null,null,"",false,2,{"$f":"VLOOKUP(H908,Database!$B$1:$E$4891,4,FALSE)","v":{"$error":"#N/A"}},true]
[904,null,null,null,null,null,null,null,{"$f":"IF(ISERROR(VLOOKUP(H909,Database!$B$1:$C$5908,2,FALSE)),\"\",VLOOKUP(H909,Database!$B$1:$C$5908,2,FALSE))","v":""},"",{"$error":"#N/A"},null,null,null,null,null,null,null,null,"",false,2,{"$f":"VLOOKUP(H909,Database!$B$1:$E$4891,4,FALSE)","v":{"$error":"#N/A"}},true]
[905,null,null,null,null,null,null,null,{"$f":"IF(ISERROR(VLOOKUP(H910,Database!$B$1:$C$5908,2,FALSE)),\"\",VLOOKUP(H910,Database!$B$1:$C$5908,2,FALSE))","v":""},"",{"$error":"#N/A"},null,null,null,null,null,null,null,null,"",false,2,{"$f":"VLOOKUP(H910,Database!$B$1:$E$4891,4,FALSE)","v":{"$error":"#N/A"}},true]
[906,null,null,null,null,null,null,null,{"$f":"IF(ISERROR(VLOOKUP(H911,Database!$B$1:$C$5908,2,FALSE)),\"\",VLOOKUP(H911,Database!$B$1:$C$5908,2,FALSE))","v":""},"",{"$error":"#N/A"},null,null,null,null,null,null,null,null,"",false,2,{"$f":"VLOOKUP(H911,Database!$B$1:$E$4891,4,FALSE)","v":{"$error":"#N/A"}},true]
[907,null,null,null,null,null,null,null,{"$f":"IF(ISERROR(VLOOKUP(H912,Database!$B$1:$C$5908,2,FALSE)),\"\",VLOOKUP(H912,Database!$B$1:$C$5908,2,FALSE))","v":""},"",{"$error":"#N/A"},null,null,null,null,null,null,null,null,"",false,2,{"$f":"VLOOKUP(H912,Database!$B$1:$E$4891,4,FALSE)","v":{"$error":"#N/A"}},true]
[908,null,null,null,null,null,null,null,{"$f":"IF(ISERROR(VLOOKUP(H913,Database!$B$1:$C$5908,2,FALSE)),\"\",VLOOKUP(H913,Database!$B$1:$C$5908,2,FALSE))","v":""},"",{"$error":"#N/A"},null,null,null,null,null,null,null,null,"",false,2,{"$f":"VLOOKUP(H913,Database!$B$1:$E$4891,4,FALSE)","v":{"$error":"#N/A"}},true]
[909,null,null,null,null,null,null,null,{"$f":"IF(ISERROR(VLOOKUP(H914,Database!$B$1:$C$5908,2,FALSE)),\"\",VLOOKUP(H914,Database!$B$1:$C$5908,2,FALSE))","v":""},"",{"$error":"#N/A"},null,null,null,null,null,null,null,null,"",false,2,{"$f":"VLOOKUP(H914,Database!$B$1:$E$4891,4,FALSE)","v":{"$error":"#N/A"}},true]
[910,null,null,null,null,null,null,null,{"$f":"IF(ISERROR(VLOOKUP(H915,Database!$B$1:$C$5908,2,FALSE)),\"\",VLOOKUP(H915,Database!$B$1:$C$5908,2,FALSE))","v":""},"",{"$error":"#N/A"},null,null,null,null,null,null,null,null,"",false,2,{"$f":"VLOOKUP(H915,Database!$B$1:$E$4891,4,FALSE)","v":{"$error":"#N/A"}},true]
[911,null,null,null,null,null,null,null,{"$f":"IF(ISERROR(VLOOKUP(H916,Database!$B$1:$C$5908,2,FALSE)),\"\",VLOOKUP(H916,Database!$B$1:$C$5908,2,FALSE))","v":""},"",{"$error":"#N/A"},null,null,null,null,null,null,null,null,"",false,2,{"$f":"VLOOKUP(H916,Database!$B$1:$E$4891,4,FALSE)","v":{"$error":"#N/A"}},true]
[912,null,null,null,null,null,null,null,{"$f":"IF(ISERROR(VLOOKUP(H917,Database!$B$1:$C$5908,2,FALSE)),\"\",VLOOKUP(H917,Database!$B$1:$C$5908,2,FALSE))","v":""},"",{"$error":"#N/A"},null,null,null,null,null,null,null,null,"",false,2,{"$f":"VLOOKUP(H917,Database!$B$1:$E$4891,4,FALSE)","v":{"$error":"#N/A"}},true]
[913,null,null,null,null,null,null,null,{"$f":"IF(ISERROR(VLOOKUP(H918,Database!$B$1:$C$5908,2,FALSE)),\"\",VLOOKUP(H918,Database!$B$1:$C$5908,2,FALSE))","v":""},"",{"$error":"#N/A"},null,null,null,null,null,null,null,null,"",false,2,{"$f":"VLOOKUP(H918,Database!$B$1:$E$4891,4,FALSE)","v":{"$error":"#N/A"}},true]
[914,null,null,null,null,null,null,null,{"$f":"IF(ISERROR(VLOOKUP(H919,Database!$B$1:$C$5908,2,FALSE)),\"\",VLOOKUP(H919,Database!$B$1:$C$5908,2,FALSE))","v":""},"",{"$error":"#N/A"},null,null,null,null,null,null,null,null,"",false,2,{"$f":"VLOOKUP(H919,Database!$B$1:$E$4891,4,FALSE)","v":{"$error":"#N/A"}},true]
[915,null,null,null,null,null,null,null,{"$f":"IF(ISERROR(VLOOKUP(H920,Database!$B$1:$C$5908,2,FALSE)),\"\",VLOOKUP(H920,Database!$B$1:$C$5908,2,FALSE))","v":""},"",{"$error":"#N/A"},null,null,null,null,null,null,null,null,"",false,2,{"$f":"VLOOKUP(H920,Database!$B$1:$E$4891,4,FALSE)","v":{"$error":"#N/A"}},true]
[916,null,null,null,null,null,null,null,{"$f":"IF(ISERROR(VLOOKUP(H921,Database!$B$1:$C$5908,2,FALSE)),\"\",VLOOKUP(H921,Database!$B$1:$C$5908,2,FALSE))","v":""},"",{"$error":"#N/A"},null,null,null,null,null,null,null,null,"",false,2,{"$f":"VLOOKUP(H921,Database!$B$1:$E$4891,4,FALSE)","v":{"$error":"#N/A"}},true]
[917,null,null,null,null,null,null,null,{"$f":"IF(ISERROR(VLOOKUP(H922,Database!$B$1:$C$5908,2,FALSE)),\"\",VLOOKUP(H922,Database!$B$1:$C$5908,2,FALSE))","v":""},"",{"$error":"#N/A"},null,null,null,null,null,null,null,null,"",false,2,{"$f":"VLOOKUP(H922,Database!$B$1:$E$4891,4,FALSE)","v":{"$error":"#N/A"}},true]
[918,null,null,null,null,null,null,null,{"$f":"IF(ISERROR(VLOOKUP(H923,Database!$B$1:$C$5908,2,FALSE)),\"\",VLOOKUP(H923,Database!$B$1:$C$5908,2,FALSE))","v":""},"",{"$error":"#N/A"},null,null,null,null,null,null,null,null,"",false,2,{"$f":"VLOOKUP(H923,Database!$B$1:$E$4891,4,FALSE)","v":{"$error":"#N/A"}},true]
[919,null,null,null,null,null,null,null,{"$f":"IF(ISERROR(VLOOKUP(H924,Database!$B$1:$C$5908,2,FALSE)),\"\",VLOOKUP(H924,Database!$B$1:$C$5908,2,FALSE))","v":""},"",{"$error":"#N/A"},null,null,null,null,null,null,null,null,"",false,2,{"$f":"VLOOKUP(H924,Database!$B$1:$E$4891,4,FALSE)","v":{"$error":"#N/A"}},true]
[920,null,null,null,null,null,null,null,{"$f":"IF(ISERROR(VLOOKUP(H925,Database!$B$1:$C$5908,2,FALSE)),\"\",VLOOKUP(H925,Database!$B$1:$C$5908,2,FALSE))","v":""},"",{"$error":"#N/A"},null,null,null,null,null,null,null,null,"",false,2,{"$f":"VLOOKUP(H925,Database!$B$1:$E$4891,4,FALSE)","v":{"$error":"#N/A"}},true]
[921,null,null,null,null,null,null,null,{"$f":"IF(ISERROR(VLOOKUP(H926,Database!$B$1:$C$5908,2,FALSE)),\"\",VLOOKUP(H926,Database!$B$1:$C$5908,2,FALSE))","v":""},"",{"$error":"#N/A"},null,null,null,null,null,null,null,null,"",false,2,{"$f":"VLOOKUP(H926,Database!$B$1:$E$4891,4,FALSE)","v":{"$error":"#N/A"}},true]
[922,null,null,null,null,null,null,null,{"$f":"IF(ISERROR(VLOOKUP(H927,Database!$B$1:$C$5908,2,FALSE)),\"\",VLOOKUP(H927,Database!$B$1:$C$5908,2,FALSE))","v":""},"",{"$error":"#N/A"},null,null,null,null,null,null,null,null,"",false,2,{"$f":"VLOOKUP(H927,Database!$B$1:$E$4891,4,FALSE)","v":{"$error":"#N/A"}},true]
[923,null,null,null,null,null,null,null,{"$f":"IF(ISERROR(VLOOKUP(H928,Database!$B$1:$C$5908,2,FALSE)),\"\",VLOOKUP(H928,Database!$B$1:$C$5908,2,FALSE))","v":""},"",{"$error":"#N/A"},null,null,null,null,null,null,null,null,"",false,2,{"$f":"VLOOKUP(H928,Database!$B$1:$E$4891,4,FALSE)","v":{"$error":"#N/A"}},true]
[924,null,null,null,null,null,null,null,{"$f":"IF(ISERROR(VLOOKUP(H929,Database!$B$1:$C$5908,2,FALSE)),\"\",VLOOKUP(H929,Database!$B$1:$C$5908,2,FALSE))","v":""},"",{"$error":"#N/A"},null,null,null,null,null,null,null,null,"",false,2,{"$f":"VLOOKUP(H929,Database!$B$1:$E$4891,4,FALSE)","v":{"$error":"#N/A"}},true]
[925,null,null,null,null,null,null,null,{"$f":"IF(ISERROR(VLOOKUP(H930,Database!$B$1:$C$5908,2,FALSE)),\"\",VLOOKUP(H930,Database!$B$1:$C$5908,2,FALSE))","v":""},"",{"$error":"#N/A"},null,null,null,null,null,null,null,null,"",false,2,{"$f":"VLOOKUP(H930,Database!$B$1:$E$4891,4,FALSE)","v":{"$error":"#N/A"}},true]
[926,null,null,null,null,null,null,null,{"$f":"IF(ISERROR(VLOOKUP(H931,Database!$B$1:$C$5908,2,FALSE)),\"\",VLOOKUP(H931,Database!$B$1:$C$5908,2,FALSE))","v":""},"",{"$error":"#N/A"},null,null,null,null,null,null,null,null,"",false,2,{"$f":"VLOOKUP(H931,Database!$B$1:$E$4891,4,FALSE)","v":{"$error":"#N/A"}},true]
[927,null,null,null,null,null,null,null,{"$f":"IF(ISERROR(VLOOKUP(H932,Database!$B$1:$C$5908,2,FALSE)),\"\",VLOOKUP(H932,Database!$B$1:$C$5908,2,FALSE))","v":""},"",{"$error":"#N/A"},null,null,null,null,null,null,null,null,"",false,2,{"$f":"VLOOKUP(H932,Database!$B$1:$E$4891,4,FALSE)","v":{"$error":"#N/A"}},true]
[928,null,null,null,null,null,null,null,{"$f":"IF(ISERROR(VLOOKUP(H933,Database!$B$1:$C$5908,2,FALSE)),\"\",VLOOKUP(H933,Database!$B$1:$C$5908,2,FALSE))","v":""},"",{"$error":"#N/A"},null,null,null,null,null,null,null,null,"",false,2,{"$f":"VLOOKUP(H933,Database!$B$1:$E$4891,4,FALSE)","v":{"$error":"#N/A"}},true]
[929,null,null,null,null,null,null,null,{"$f":"IF(ISERROR(VLOOKUP(H934,Database!$B$1:$C$5908,2,FALSE)),\"\",VLOOKUP(H934,Database!$B$1:$C$5908,2,FALSE))","v":""},"",{"$error":"#N/A"},null,null,null,null,null,null,null,null,"",false,2,{"$f":"VLOOKUP(H934,Database!$B$1:$E$4891,4,FALSE)","v":{"$error":"#N/A"}},true]
[930,null,null,null,null,null,null,null,{"$f":"IF(ISERROR(VLOOKUP(H935,Database!$B$1:$C$5908,2,FALSE)),\"\",VLOOKUP(H935,Database!$B$1:$C$5908,2,FALSE))","v":""},"",{"$error":"#N/A"},null,null,null,null,null,null,null,null,"",false,2,{"$f":"VLOOKUP(H935,Database!$B$1:$E$4891,4,FALSE)","v":{"$error":"#N/A"}},true]
[931,null,null,null,null,null,null,null,{"$f":"IF(ISERROR(VLOOKUP(H936,Database!$B$1:$C$5908,2,FALSE)),\"\",VLOOKUP(H936,Database!$B$1:$C$5908,2,FALSE))","v":""},"",{"$error":"#N/A"},null,null,null,null,null,null,null,null,"",false,2,{"$f":"VLOOKUP(H936,Database!$B$1:$E$4891,4,FALSE)","v":{"$error":"#N/A"}},true]
[932,null,null,null,null,null,null,null,{"$f":"IF(ISERROR(VLOOKUP(H937,Database!$B$1:$C$5908,2,FALSE)),\"\",VLOOKUP(H937,Database!$B$1:$C$5908,2,FALSE))","v":""},"",{"$error":"#N/A"},null,null,null,null,null,null,null,null,"",false,2,{"$f":"VLOOKUP(H937,Database!$B$1:$E$4891,4,FALSE)","v":{"$error":"#N/A"}},true]
[933,null,null,null,null,null,null,null,{"$f":"IF(ISERROR(VLOOKUP(H938,Database!$B$1:$C$5908,2,FALSE)),\"\",VLOOKUP(H938,Database!$B$1:$C$5908,2,FALSE))","v":""},"",{"$error":"#N/A"},null,null,null,null,null,null,null,null,"",false,2,{"$f":"VLOOKUP(H938,Database!$B$1:$E$4891,4,FALSE)","v":{"$error":"#N/A"}},true]
[934,null,null,null,null,null,null,null,{"$f":"IF(ISERROR(VLOOKUP(H939,Database!$B$1:$C$5908,2,FALSE)),\"\",VLOOKUP(H939,Database!$B$1:$C$5908,2,FALSE))","v":""},"",{"$error":"#N/A"},null,null,null,null,null,null,null,null,"",false,2,{"$f":"VLOOKUP(H939,Database!$B$1:$E$4891,4,FALSE)","v":{"$error":"#N/A"}},true]
[935,null,null,null,null,null,null,null,{"$f":"IF(ISERROR(VLOOKUP(H940,Database!$B$1:$C$5908,2,FALSE)),\"\",VLOOKUP(H940,Database!$B$1:$C$5908,2,FALSE))","v":""},"",{"$error":"#N/A"},null,null,null,null,null,null,null,null,"",false,2,{"$f":"VLOOKUP(H940,Database!$B$1:$E$4891,4,FALSE)","v":{"$error":"#N/A"}},true]
[936,null,null,null,null,null,null,null,{"$f":"IF(ISERROR(VLOOKUP(H941,Database!$B$1:$C$5908,2,FALSE)),\"\",VLOOKUP(H941,Database!$B$1:$C$5908,2,FALSE))","v":""},"",{"$error":"#N/A"},null,null,null,null,null,null,null,null,"",false,2,{"$f":"VLOOKUP(H941,Database!$B$1:$E$4891,4,FALSE)","v":{"$error":"#N/A"}},true]
[937,null,null,null,null,null,null,null,{"$f":"IF(ISERROR(VLOOKUP(H942,Database!$B$1:$C$5908,2,FALSE)),\"\",VLOOKUP(H942,Database!$B$1:$C$5908,2,FALSE))","v":""},"",{"$error":"#N/A"},null,null,null,null,null,null,null,null,"",false,2,{"$f":"VLOOKUP(H942,Database!$B$1:$E$4891,4,FALSE)","v":{"$error":"#N/A"}},true]
[938,null,null,null,null,null,null,null,{"$f":"IF(ISERROR(VLOOKUP(H943,Database!$B$1:$C$5908,2,FALSE)),\"\",VLOOKUP(H943,Database!$B$1:$C$5908,2,FALSE))","v":""},"",{"$error":"#N/A"},null,null,null,null,null,null,null,null,"",false,2,{"$f":"VLOOKUP(H943,Database!$B$1:$E$4891,4,FALSE)","v":{"$error":"#N/A"}},true]
[939,null,null,null,null,null,null,null,{"$f":"IF(ISERROR(VLOOKUP(H944,Database!$B$1:$C$5908,2,FALSE)),\"\",VLOOKUP(H944,Database!$B$1:$C$5908,2,FALSE))","v":""},"",{"$error":"#N/A"},null,null,null,null,null,null,null,null,"",false,2,{"$f":"VLOOKUP(H944,Database!$B$1:$E$4891,4,FALSE)","v":{"$error":"#N/A"}},true]
[940,null,null,null,null,null,null,null,{"$f":"IF(ISERROR(VLOOKUP(H945,Database!$B$1:$C$5908,2,FALSE)),\"\",VLOOKUP(H945,Database!$B$1:$C$5908,2,FALSE))","v":""},"",{"$error":"#N/A"},null,null,null,null,null,null,null,null,"",false,2,{"$f":"VLOOKUP(H945,Database!$B$1:$E$4891,4,FALSE)","v":{"$error":"#N/A"}},true]
[941,null,null,null,null,null,null,null,{"$f":"IF(ISERROR(VLOOKUP(H946,Database!$B$1:$C$5908,2,FALSE)),\"\",VLOOKUP(H946,Database!$B$1:$C$5908,2,FALSE))","v":""},"",{"$error":"#N/A"},null,null,null,null,null,null,null,null,"",false,2,{"$f":"VLOOKUP(H946,Database!$B$1:$E$4891,4,FALSE)","v":{"$error":"#N/A"}},true]
[942,null,null,null,null,null,null,null,{"$f":"IF(ISERROR(VLOOKUP(H947,Database!$B$1:$C$5908,2,FALSE)),\"\",VLOOKUP(H947,Database!$B$1:$C$5908,2,FALSE))","v":""},"",{"$error":"#N/A"},null,null,null,null,null,null,null,null,"",false,2,{"$f":"VLOOKUP(H947,Database!$B$1:$E$4891,4,FALSE)","v":{"$error":"#N/A"}},true]
[943,null,null,null,null,null,null,null,{"$f":"IF(ISERROR(VLOOKUP(H948,Database!$B$1:$C$5908,2,FALSE)),\"\",VLOOKUP(H948,Database!$B$1:$C$5908,2,FALSE))","v":""},"",{"$error":"#N/A"},null,null,null,null,null,null,null,null,"",false,2,{"$f":"VLOOKUP(H948,Database!$B$1:$E$4891,4,FALSE)","v":{"$error":"#N/A"}},true]
[944,null,null,null,null,null,null,null,{"$f":"IF(ISERROR(VLOOKUP(H949,Database!$B$1:$C$5908,2,FALSE)),\"\",VLOOKUP(H949,Database!$B$1:$C$5908,2,FALSE))","v":""},"",{"$error":"#N/A"},null,null,null,null,null,null,null,null,"",false,2,{"$f":"VLOOKUP(H949,Database!$B$1:$E$4891,4,FALSE)","v":{"$error":"#N/A"}},true]
[945,null,null,null,null,null,null,null,{"$f":"IF(ISERROR(VLOOKUP(H950,Database!$B$1:$C$5908,2,FALSE)),\"\",VLOOKUP(H950,Database!$B$1:$C$5908,2,FALSE))","v":""},"",{"$error":"#N/A"},null,null,null,null,null,null,null,null,"",false,2,{"$f":"VLOOKUP(H950,Database!$B$1:$E$4891,4,FALSE)","v":{"$error":"#N/A"}},true]
[946,null,null,null,null,null,null,null,{"$f":"IF(ISERROR(VLOOKUP(H951,Database!$B$1:$C$5908,2,FALSE)),\"\",VLOOKUP(H951,Database!$B$1:$C$5908,2,FALSE))","v":""},"",{"$error":"#N/A"},null,null,null,null,null,null,null,null,"",false,2,{"$f":"VLOOKUP(H951,Database!$B$1:$E$4891,4,FALSE)","v":{"$error":"#N/A"}},true]
[947,null,null,null,null,null,null,null,{"$f":"IF(ISERROR(VLOOKUP(H952,Database!$B$1:$C$5908,2,FALSE)),\"\",VLOOKUP(H952,Database!$B$1:$C$5908,2,FALSE))","v":""},"",{"$error":"#N/A"},null,null,null,null,null,null,null,null,"",false,2,{"$f":"VLOOKUP(H952,Database!$B$1:$E$4891,4,FALSE)","v":{"$error":"#N/A"}},true]
[948,null,null,null,null,null,null,null,{"$f":"IF(ISERROR(VLOOKUP(H953,Database!$B$1:$C$5908,2,FALSE)),\"\",VLOOKUP(H953,Database!$B$1:$C$5908,2,FALSE))","v":""},"",{"$error":"#N/A"},null,null,null,null,null,null,null,null,"",false,2,{"$f":"VLOOKUP(H953,Database!$B$1:$E$4891,4,FALSE)","v":{"$error":"#N/A"}},true]
[949,null,null,null,null,null,null,null,{"$f":"IF(ISERROR(VLOOKUP(H954,Database!$B$1:$C$5908,2,FALSE)),\"\",VLOOKUP(H954,Database!$B$1:$C$5908,2,FALSE))","v":""},"",{"$error":"#N/A"},null,null,null,null,null,null,null,null,"",false,2,{"$f":"VLOOKUP(H954,Database!$B$1:$E$4891,4,FALSE)","v":{"$error":"#N/A"}},true]
[950,null,null,null,null,null,null,null,{"$f":"IF(ISERROR(VLOOKUP(H955,Database!$B$1:$C$5908,2,FALSE)),\"\",VLOOKUP(H955,Database!$B$1:$C$5908,2,FALSE))","v":""},"",{"$error":"#N/A"},null,null,null,null,null,null,null,null,"",false,2,{"$f":"VLOOKUP(H955,Database!$B$1:$E$4891,4,FALSE)","v":{"$error":"#N/A"}},true]
[951,null,null,null,null,null,null,null,{"$f":"IF(ISERROR(VLOOKUP(H956,Database!$B$1:$C$5908,2,FALSE)),\"\",VLOOKUP(H956,Database!$B$1:$C$5908,2,FALSE))","v":""},"",{"$error":"#N/A"},null,null,null,null,null,null,null,null,"",false,2,{"$f":"VLOOKUP(H956,Database!$B$1:$E$4891,4,FALSE)","v":{"$error":"#N/A"}},true]
[952,null,null,null,null,null,null,null,{"$f":"IF(ISERROR(VLOOKUP(H957,Database!$B$1:$C$5908,2,FALSE)),\"\",VLOOKUP(H957,Database!$B$1:$C$5908,2,FALSE))","v":""},"",{"$error":"#N/A"},null,null,null,null,null,null,null,null,"",false,2,{"$f":"VLOOKUP(H957,Database!$B$1:$E$4891,4,FALSE)","v":{"$error":"#N/A"}},true]
[953,null,null,null,null,null,null,null,{"$f":"IF(ISERROR(VLOOKUP(H958,Database!$B$1:$C$5908,2,FALSE)),\"\",VLOOKUP(H958,Database!$B$1:$C$5908,2,FALSE))","v":""},"",{"$error":"#N/A"},null,null,null,null,null,null,null,null,"",false,2,{"$f":"VLOOKUP(H958,Database!$B$1:$E$4891,4,FALSE)","v":{"$error":"#N/A"}},true]
[954,null,null,null,null,null,null,null,{"$f":"IF(ISERROR(VLOOKUP(H959,Database!$B$1:$C$5908,2,FALSE)),\"\",VLOOKUP(H959,Database!$B$1:$C$5908,2,FALSE))","v":""},"",{"$error":"#N/A"},null,null,null,null,null,null,null,null,"",false,2,{"$f":"VLOOKUP(H959,Database!$B$1:$E$4891,4,FALSE)","v":{"$error":"#N/A"}},true]
[955,null,null,null,null,null,null,null,{"$f":"IF(ISERROR(VLOOKUP(H960,Database!$B$1:$C$5908,2,FALSE)),\"\",VLOOKUP(H960,Database!$B$1:$C$5908,2,FALSE))","v":""},"",{"$error":"#N/A"},null,null,null,null,null,null,null,null,"",false,2,{"$f":"VLOOKUP(H960,Database!$B$1:$E$4891,4,FALSE)","v":{"$error":"#N/A"}},true]
[956,null,null,null,null,null,null,null,{"$f":"IF(ISERROR(VLOOKUP(H961,Database!$B$1:$C$5908,2,FALSE)),\"\",VLOOKUP(H961,Database!$B$1:$C$5908,2,FALSE))","v":""},"",{"$error":"#N/A"},null,null,null,null,null,null,null,null,"",false,2,{"$f":"VLOOKUP(H961,Database!$B$1:$E$4891,4,FALSE)","v":{"$error":"#N/A"}},true]
[957,null,null,null,null,null,null,null,{"$f":"IF(ISERROR(VLOOKUP(H962,Database!$B$1:$C$5908,2,FALSE)),\"\",VLOOKUP(H962,Database!$B$1:$C$5908,2,FALSE))","v":""},"",{"$error":"#N/A"},null,null,null,null,null,null,null,null,"",false,2,{"$f":"VLOOKUP(H962,Database!$B$1:$E$4891,4,FALSE)","v":{"$error":"#N/A"}},true]
[958,null,null,null,null,null,null,null,{"$f":"IF(ISERROR(VLOOKUP(H963,Database!$B$1:$C$5908,2,FALSE)),\"\",VLOOKUP(H963,Database!$B$1:$C$5908,2,FALSE))","v":""},"",{"$error":"#N/A"},null,null,null,null,null,null,null,null,"",false,2,{"$f":"VLOOKUP(H963,Database!$B$1:$E$4891,4,FALSE)","v":{"$error":"#N/A"}},true]
[959,null,null,null,null,null,null,null,{"$f":"IF(ISERROR(VLOOKUP(H964,Database!$B$1:$C$5908,2,FALSE)),\"\",VLOOKUP(H964,Database!$B$1:$C$5908,2,FALSE))","v":""},"",{"$error":"#N/A"},null,null,null,null,null,null,null,null,"",false,2,{"$f":"VLOOKUP(H964,Database!$B$1:$E$4891,4,FALSE)","v":{"$error":"#N/A"}},true]
[960,null,null,null,null,null,null,null,{"$f":"IF(ISERROR(VLOOKUP(H965,Database!$B$1:$C$5908,2,FALSE)),\"\",VLOOKUP(H965,Database!$B$1:$C$5908,2,FALSE))","v":""},"",{"$error":"#N/A"},null,null,null,null,null,null,null,null,"",false,2,{"$f":"VLOOKUP(H965,Database!$B$1:$E$4891,4,FALSE)","v":{"$error":"#N/A"}},true]
[961,null,null,null,null,null,null,null,{"$f":"IF(ISERROR(VLOOKUP(H966,Database!$B$1:$C$5908,2,FALSE)),\"\",VLOOKUP(H966,Database!$B$1:$C$5908,2,FALSE))","v":""},"",{"$error":"#N/A"},null,null,null,null,null,null,null,null,"",false,2,{"$f":"VLOOKUP(H966,Database!$B$1:$E$4891,4,FALSE)","v":{"$error":"#N/A"}},true]
[{"$f":"A966+1","v":962},null,null,null,null,null,null,null,{"$f":"IF(ISERROR(VLOOKUP(H967,Database!$B$1:$C$5908,2,FALSE)),\"\",VLOOKUP(H967,Database!$B$1:$C$5908,2,FALSE))","v":""},{"$f":"IF(V967=1,1,IF(AND(T967=0,F967=\"SSB\",V967<>\"\"),2,IF(AND(T967=0,F967=\"FM\",V967<>\"\"),2,IF(AND(T967=0,F967=\"DIGI\",V967<>\"\"),3,IF(AND(T967=0,F967=\"CW\",V967<>\"\"),5,IF(H967=\"-\",\"\",T967))))))","v":""},{"$f":"IF(H967=\"-\",\"\",IF(AND(H967<>\"\",X967=TRUE),\"INDIPENDENT\",IF(W967=0,\"SCRIVI NOME NELLE NOTE\",W967)))","v":{"$error":"#N/A"}},null,null,null,null,null,null,null,null,{"$f":"IF(H967=\"\",\"\",IF(H967=$R$6,25,IF(OR(H967=$R$7,H967=$R$8,H967=$R$9,H967=$R$10,H967=$R$11,H967=$R$12,H967=$R$13,H967=$R$14,H967=$R$15,H967=$R$16,H967=$R$17,H967=$R$18,H967=$R$19,H967=$R$20,H967=$R$21,H967=$R$22,H967=$R$23),15,0)))","v":""},{"$f":"ISERROR(I967)","v":false},2,{"$f":"VLOOKUP(H967,Database!$B$1:$E$4891,4,FALSE)","v":{"$error":"#N/A"}},{"$f":"ISERROR(W967)","v":true}]
[963,null,null,null,null,null,null,null,{"$f":"IF(ISERROR(VLOOKUP(H968,Database!$B$1:$C$5908,2,FALSE)),\"\",VLOOKUP(H968,Database!$B$1:$C$5908,2,FALSE))","v":""},"",{"$error":"#N/A"},null,null,null,null,null,null,null,null,"",false,{"$f":"IF(H968=\"-\",\"\",IF(AND(T968=0,U968=FALSE,I968=\"\"),1,2))","v":2},{"$f":"VLOOKUP(H968,Database!$B$1:$E$4891,4,FALSE)","v":{"$error":"#N/A"}},true]
[964,null,null,null,null,null,null,null,{"$f":"IF(ISERROR(VLOOKUP(H969,Database!$B$1:$C$5908,2,FALSE)),\"\",VLOOKUP(H969,Database!$B$1:$C$5908,2,FALSE))","v":""},"",{"$error":"#N/A"},null,null,null,null,null,null,null,null,"",false,2,{"$f":"VLOOKUP(H969,Database!$B$1:$E$4891,4,FALSE)","v":{"$error":"#N/A"}},true]
[965,null,null,null,null,null,null,null,{"$f":"IF(ISERROR(VLOOKUP(H970,Database!$B$1:$C$5908,2,FALSE)),\"\",VLOOKUP(H970,Database!$B$1:$C$5908,2,FALSE))","v":""},"",{"$error":"#N/A"},null,null,null,null,null,null,null,null,"",false,2,{"$f":"VLOOKUP(H970,Database!$B$1:$E$4891,4,FALSE)","v":{"$error":"#N/A"}},true]
[966,null,null,null,null,null,null,null,{"$f":"IF(ISERROR(VLOOKUP(H971,Database!$B$1:$C$5908,2,FALSE)),\"\",VLOOKUP(H971,Database!$B$1:$C$5908,2,FALSE))","v":""},"",{"$error":"#N/A"},null,null,null,null,null,null,null,null,"",false,2,{"$f":"VLOOKUP(H971,Database!$B$1:$E$4891,4,FALSE)","v":{"$error":"#N/A"}},true]
[967,null,null,null,null,null,null,null,{"$f":"IF(ISERROR(VLOOKUP(H972,Database!$B$1:$C$5908,2,FALSE)),\"\",VLOOKUP(H972,Database!$B$1:$C$5908,2,FALSE))","v":""},"",{"$error":"#N/A"},null,null,null,null,null,null,null,null,"",false,2,{"$f":"VLOOKUP(H972,Database!$B$1:$E$4891,4,FALSE)","v":{"$error":"#N/A"}},true]
[968,null,null,null,null,null,null,null,{"$f":"IF(ISERROR(VLOOKUP(H973,Database!$B$1:$C$5908,2,FALSE)),\"\",VLOOKUP(H973,Database!$B$1:$C$5908,2,FALSE))","v":""},"",{"$error":"#N/A"},null,null,null,null,null,null,null,null,"",false,2,{"$f":"VLOOKUP(H973,Database!$B$1:$E$4891,4,FALSE)","v":{"$error":"#N/A"}},true]
[969,null,null,null,null,null,null,null,{"$f":"IF(ISERROR(VLOOKUP(H974,Database!$B$1:$C$5908,2,FALSE)),\"\",VLOOKUP(H974,Database!$B$1:$C$5908,2,FALSE))","v":""},"",{"$error":"#N/A"},null,null,null,null,null,null,null,null,"",false,2,{"$f":"VLOOKUP(H974,Database!$B$1:$E$4891,4,FALSE)","v":{"$error":"#N/A"}},true]
[970,null,null,null,null,null,null,null,{"$f":"IF(ISERROR(VLOOKUP(H975,Database!$B$1:$C$5908,2,FALSE)),\"\",VLOOKUP(H975,Database!$B$1:$C$5908,2,FALSE))","v":""},"",{"$error":"#N/A"},null,null,null,null,null,null,null,null,"",false,2,{"$f":"VLOOKUP(H975,Database!$B$1:$E$4891,4,FALSE)","v":{"$error":"#N/A"}},true]
[971,null,null,null,null,null,null,null,{"$f":"IF(ISERROR(VLOOKUP(H976,Database!$B$1:$C$5908,2,FALSE)),\"\",VLOOKUP(H976,Database!$B$1:$C$5908,2,FALSE))","v":""},"",{"$error":"#N/A"},null,null,null,null,null,null,null,null,"",false,2,{"$f":"VLOOKUP(H976,Database!$B$1:$E$4891,4,FALSE)","v":{"$error":"#N/A"}},true]
[972,null,null,null,null,null,null,null,{"$f":"IF(ISERROR(VLOOKUP(H977,Database!$B$1:$C$5908,2,FALSE)),\"\",VLOOKUP(H977,Database!$B$1:$C$5908,2,FALSE))","v":""},"",{"$error":"#N/A"},null,null,null,null,null,null,null,null,"",false,2,{"$f":"VLOOKUP(H977,Database!$B$1:$E$4891,4,FALSE)","v":{"$error":"#N/A"}},true]
[973,null,null,null,null,null,null,null,{"$f":"IF(ISERROR(VLOOKUP(H978,Database!$B$1:$C$5908,2,FALSE)),\"\",VLOOKUP(H978,Database!$B$1:$C$5908,2,FALSE))","v":""},"",{"$error":"#N/A"},null,null,null,null,null,null,null,null,"",false,2,{"$f":"VLOOKUP(H978,Database!$B$1:$E$4891,4,FALSE)","v":{"$error":"#N/A"}},true]
[974,null,null,null,null,null,null,null,{"$f":"IF(ISERROR(VLOOKUP(H979,Database!$B$1:$C$5908,2,FALSE)),\"\",VLOOKUP(H979,Database!$B$1:$C$5908,2,FALSE))","v":""},"",{"$error":"#N/A"},null,null,null,null,null,null,null,null,"",false,2,{"$f":"VLOOKUP(H979,Database!$B$1:$E$4891,4,FALSE)","v":{"$error":"#N/A"}},true]
[975,null,null,null,null,null,null,null,{"$f":"IF(ISERROR(VLOOKUP(H980,Database!$B$1:$C$5908,2,FALSE)),\"\",VLOOKUP(H980,Database!$B$1:$C$5908,2,FALSE))","v":""},"",{"$error":"#N/A"},null,null,null,null,null,null,null,null,"",false,2,{"$f":"VLOOKUP(H980,Database!$B$1:$E$4891,4,FALSE)","v":{"$error":"#N/A"}},true]
[976,null,null,null,null,null,null,null,{"$f":"IF(ISERROR(VLOOKUP(H981,Database!$B$1:$C$5908,2,FALSE)),\"\",VLOOKUP(H981,Database!$B$1:$C$5908,2,FALSE))","v":""},"",{"$error":"#N/A"},null,null,null,null,null,null,null,null,"",false,2,{"$f":"VLOOKUP(H981,Database!$B$1:$E$4891,4,FALSE)","v":{"$error":"#N/A"}},true]
[977,null,null,null,null,null,null,null,{"$f":"IF(ISERROR(VLOOKUP(H982,Database!$B$1:$C$5908,2,FALSE)),\"\",VLOOKUP(H982,Database!$B$1:$C$5908,2,FALSE))","v":""},"",{"$error":"#N/A"},null,null,null,null,null,null,null,null,"",false,2,{"$f":"VLOOKUP(H982,Database!$B$1:$E$4891,4,FALSE)","v":{"$error":"#N/A"}},true]
[978,null,null,null,null,null,null,null,{"$f":"IF(ISERROR(VLOOKUP(H983,Database!$B$1:$C$5908,2,FALSE)),\"\",VLOOKUP(H983,Database!$B$1:$C$5908,2,FALSE))","v":""},"",{"$error":"#N/A"},null,null,null,null,null,null,null,null,"",false,2,{"$f":"VLOOKUP(H983,Database!$B$1:$E$4891,4,FALSE)","v":{"$error":"#N/A"}},true]
[979,null,null,null,null,null,null,null,{"$f":"IF(ISERROR(VLOOKUP(H984,Database!$B$1:$C$5908,2,FALSE)),\"\",VLOOKUP(H984,Database!$B$1:$C$5908,2,FALSE))","v":""},"",{"$error":"#N/A"},null,null,null,null,null,null,null,null,"",false,2,{"$f":"VLOOKUP(H984,Database!$B$1:$E$4891,4,FALSE)","v":{"$error":"#N/A"}},true]
[980,null,null,null,null,null,null,null,{"$f":"IF(ISERROR(VLOOKUP(H985,Database!$B$1:$C$5908,2,FALSE)),\"\",VLOOKUP(H985,Database!$B$1:$C$5908,2,FALSE))","v":""},"",{"$error":"#N/A"},null,null,null,null,null,null,null,null,"",false,2,{"$f":"VLOOKUP(H985,Database!$B$1:$E$4891,4,FALSE)","v":{"$error":"#N/A"}},true]
[981,null,null,null,null,null,null,null,{"$f":"IF(ISERROR(VLOOKUP(H986,Database!$B$1:$C$5908,2,FALSE)),\"\",VLOOKUP(H986,Database!$B$1:$C$5908,2,FALSE))","v":""},"",{"$error":"#N/A"},null,null,null,null,null,null,null,null,"",false,2,{"$f":"VLOOKUP(H986,Database!$B$1:$E$4891,4,FALSE)","v":{"$error":"#N/A"}},true]
[982,null,null,null,null,null,null,null,{"$f":"IF(ISERROR(VLOOKUP(H987,Database!$B$1:$C$5908,2,FALSE)),\"\",VLOOKUP(H987,Database!$B$1:$C$5908,2,FALSE))","v":""},"",{"$error":"#N/A"},null,null,null,null,null,null,null,null,"",false,2,{"$f":"VLOOKUP(H987,Database!$B$1:$E$4891,4,FALSE)","v":{"$error":"#N/A"}},true]
[983,null,null,null,null,null,null,null,{"$f":"IF(ISERROR(VLOOKUP(H988,Database!$B$1:$C$5908,2,FALSE)),\"\",VLOOKUP(H988,Database!$B$1:$C$5908,2,FALSE))","v":""},"",{"$error":"#N/A"},null,null,null,null,null,null,null,null,"",false,2,{"$f":"VLOOKUP(H988,Database!$B$1:$E$4891,4,FALSE)","v":{"$error":"#N/A"}},true]
[984,null,null,null,null,null,null,null,{"$f":"IF(ISERROR(VLOOKUP(H989,Database!$B$1:$C$5908,2,FALSE)),\"\",VLOOKUP(H989,Database!$B$1:$C$5908,2,FALSE))","v":""},"",{"$error":"#N/A"},null,null,null,null,null,null,null,null,"",false,2,{"$f":"VLOOKUP(H989,Database!$B$1:$E$4891,4,FALSE)","v":{"$error":"#N/A"}},true]
[985,null,null,null,null,null,null,null,{"$f":"IF(ISERROR(VLOOKUP(H990,Database!$B$1:$C$5908,2,FALSE)),\"\",VLOOKUP(H990,Database!$B$1:$C$5908,2,FALSE))","v":""},"",{"$error":"#N/A"},null,null,null,null,null,null,null,null,"",false,2,{"$f":"VLOOKUP(H990,Database!$B$1:$E$4891,4,FALSE)","v":{"$error":"#N/A"}},true]
[986,null,null,null,null,null,null,null,{"$f":"IF(ISERROR(VLOOKUP(H991,Database!$B$1:$C$5908,2,FALSE)),\"\",VLOOKUP(H991,Database!$B$1:$C$5908,2,FALSE))","v":""},"",{"$error":"#N/A"},null,null,null,null,null,null,null,null,"",false,2,{"$f":"VLOOKUP(H991,Database!$B$1:$E$4891,4,FALSE)","v":{"$error":"#N/A"}},true]
[987,null,null,null,null,null,null,null,{"$f":"IF(ISERROR(VLOOKUP(H992,Database!$B$1:$C$5908,2,FALSE)),\"\",VLOOKUP(H992,Database!$B$1:$C$5908,2,FALSE))","v":""},"",{"$error":"#N/A"},null,null,null,null,null,null,null,null,"",false,2,{"$f":"VLOOKUP(H992,Database!$B$1:$E$4891,4,FALSE)","v":{"$error":"#N/A"}},true]
[988,null,null,null,null,null,null,null,{"$f":"IF(ISERROR(VLOOKUP(H993,Database!$B$1:$C$5908,2,FALSE)),\"\",VLOOKUP(H993,Database!$B$1:$C$5908,2,FALSE))","v":""},"",{"$error":"#N/A"},null,null,null,null,null,null,null,null,"",false,2,{"$f":"VLOOKUP(H993,Database!$B$1:$E$4891,4,FALSE)","v":{"$error":"#N/A"}},true]
[989,null,null,null,null,null,null,null,{"$f":"IF(ISERROR(VLOOKUP(H994,Database!$B$1:$C$5908,2,FALSE)),\"\",VLOOKUP(H994,Database!$B$1:$C$5908,2,FALSE))","v":""},"",{"$error":"#N/A"},null,null,null,null,null,null,null,null,"",false,2,{"$f":"VLOOKUP(H994,Database!$B$1:$E$4891,4,FALSE)","v":{"$error":"#N/A"}},true]
[990,null,null,null,null,null,null,null,{"$f":"IF(ISERROR(VLOOKUP(H995,Database!$B$1:$C$5908,2,FALSE)),\"\",VLOOKUP(H995,Database!$B$1:$C$5908,2,FALSE))","v":""},"",{"$error":"#N/A"},null,null,null,null,null,null,null,null,"",false,2,{"$f":"VLOOKUP(H995,Database!$B$1:$E$4891,4,FALSE)","v":{"$error":"#N/A"}},true]
[991,null,null,null,null,null,null,null,{"$f":"IF(ISERROR(VLOOKUP(H996,Database!$B$1:$C$5908,2,FALSE)),\"\",VLOOKUP(H996,Database!$B$1:$C$5908,2,FALSE))","v":""},"",{"$error":"#N/A"},null,null,null,null,null,null,null,null,"",false,2,{"$f":"VLOOKUP(H996,Database!$B$1:$E$4891,4,FALSE)","v":{"$error":"#N/A"}},true]
[992,null,null,null,null,null,null,null,{"$f":"IF(ISERROR(VLOOKUP(H997,Database!$B$1:$C$5908,2,FALSE)),\"\",VLOOKUP(H997,Database!$B$1:$C$5908,2,FALSE))","v":""},"",{"$error":"#N/A"},null,null,null,null,null,null,null,null,"",false,2,{"$f":"VLOOKUP(H997,Database!$B$1:$E$4891,4,FALSE)","v":{"$error":"#N/A"}},true]
[993,null,null,null,null,null,null,null,{"$f":"IF(ISERROR(VLOOKUP(H998,Database!$B$1:$C$5908,2,FALSE)),\"\",VLOOKUP(H998,Database!$B$1:$C$5908,2,FALSE))","v":""},"",{"$error":"#N/A"},null,null,null,null,null,null,null,null,"",false,2,{"$f":"VLOOKUP(H998,Database!$B$1:$E$4891,4,FALSE)","v":{"$error":"#N/A"}},true]
[994,null,null,null,null,null,null,null,{"$f":"IF(ISERROR(VLOOKUP(H999,Database!$B$1:$C$5908,2,FALSE)),\"\",VLOOKUP(H999,Database!$B$1:$C$5908,2,FALSE))","v":""},"",{"$error":"#N/A"},null,null,null,null,null,null,null,null,"",false,2,{"$f":"VLOOKUP(H999,Database!$B$1:$E$4891,4,FALSE)","v":{"$error":"#N/A"}},true]
[995,null,null,null,null,null,null,null,{"$f":"IF(ISERROR(VLOOKUP(H1000,Database!$B$1:$C$5908,2,FALSE)),\"\",VLOOKUP(H1000,Database!$B$1:$C$5908,2,FALSE))","v":""},"",{"$error":"#N/A"},null,null,null,null,null,null,null,null,"",false,2,{"$f":"VLOOKUP(H1000,Database!$B$1:$E$4891,4,FALSE)","v":{"$error":"#N/A"}},true]
[997,null,null,null,null,null,null,null,{"$f":"IF(ISERROR(VLOOKUP(H1002,Database!$B$1:$C$5908,2,FALSE)),\"\",VLOOKUP(H1002,Database!$B$1:$C$5908,2,FALSE))","v":""},"",{"$error":"#N/A"},null,null,null,null,null,null,null,null,"",false,2,{"$f":"VLOOKUP(H1002,Database!$B$1:$E$4891,4,FALSE)","v":{"$error":"#N/A"}},true]
[1001,null,null,null,null,null,null,null,{"$f":"IF(ISERROR(VLOOKUP(H1006,Database!$B$1:$C$5908,2,FALSE)),\"\",VLOOKUP(H1006,Database!$B$1:$C$5908,2,FALSE))","v":""},"",{"$error":"#N/A"},null,null,null,null,null,null,null,null,"",false,2,{"$f":"VLOOKUP(H1006,Database!$B$1:$E$4891,4,FALSE)","v":{"$error":"#N/A"}},true]
[1006,null,null,null,null,null,null,null,{"$f":"IF(ISERROR(VLOOKUP(H1011,Database!$B$1:$C$5908,2,FALSE)),\"\",VLOOKUP(H1011,Database!$B$1:$C$5908,2,FALSE))","v":""},"",{"$error":"#N/A"},null,null,null,null,null,null,null,null,"",false,2,{"$f":"VLOOKUP(H1011,Database!$B$1:$E$4891,4,FALSE)","v":{"$error":"#N/A"}},true]
[1012,null,null,null,null,null,null,null,{"$f":"IF(ISERROR(VLOOKUP(H1017,Database!$B$1:$C$5908,2,FALSE)),\"\",VLOOKUP(H1017,Database!$B$1:$C$5908,2,FALSE))","v":""},"",{"$error":"#N/A"},null,null,null,null,null,null,null,null,"",false,2,{"$f":"VLOOKUP(H1017,Database!$B$1:$E$4891,4,FALSE)","v":{"$error":"#N/A"}},true]
[1016,null,null,null,null,null,null,null,{"$f":"IF(ISERROR(VLOOKUP(H1021,Database!$B$1:$C$5908,2,FALSE)),\"\",VLOOKUP(H1021,Database!$B$1:$C$5908,2,FALSE))","v":""},"",{"$error":"#N/A"},null,null,null,null,null,null,null,null,"",false,2,{"$f":"VLOOKUP(H1021,Database!$B$1:$E$4891,4,FALSE)","v":{"$error":"#N/A"}},true]
[1021,null,null,null,null,null,null,null,{"$f":"IF(ISERROR(VLOOKUP(H1026,Database!$B$1:$C$5908,2,FALSE)),\"\",VLOOKUP(H1026,Database!$B$1:$C$5908,2,FALSE))","v":""},"",{"$error":"#N/A"},null,null,null,null,null,null,null,null,"",false,2,{"$f":"VLOOKUP(H1026,Database!$B$1:$E$4891,4,FALSE)","v":{"$error":"#N/A"}},true]
[1027,null,null,null,null,null,null,null,{"$f":"IF(ISERROR(VLOOKUP(H1032,Database!$B$1:$C$5908,2,FALSE)),\"\",VLOOKUP(H1032,Database!$B$1:$C$5908,2,FALSE))","v":""},"",{"$error":"#N/A"},null,null,null,null,null,null,null,null,"",false,{"$f":"IF(H1032=\"-\",\"\",IF(AND(T1032=0,U1032=FALSE,I1032=\"\"),1,2))","v":2},{"$f":"VLOOKUP(H1032,Database!$B$1:$E$4891,4,FALSE)","v":{"$error":"#N/A"}},true]
[1032,null,null,null,null,null,null,null,{"$f":"IF(ISERROR(VLOOKUP(H1037,Database!$B$1:$C$5908,2,FALSE)),\"\",VLOOKUP(H1037,Database!$B$1:$C$5908,2,FALSE))","v":""},"",{"$error":"#N/A"},null,null,null,null,null,null,null,null,"",false,2,{"$f":"VLOOKUP(H1037,Database!$B$1:$E$4891,4,FALSE)","v":{"$error":"#N/A"}},true]
[1035,null,null,null,null,null,null,null,{"$f":"IF(ISERROR(VLOOKUP(H1040,Database!$B$1:$C$5908,2,FALSE)),\"\",VLOOKUP(H1040,Database!$B$1:$C$5908,2,FALSE))","v":""},"",{"$error":"#N/A"},null,null,null,null,null,null,null,null,"",false,2,{"$f":"VLOOKUP(H1040,Database!$B$1:$E$4891,4,FALSE)","v":{"$error":"#N/A"}},true]
[1042,null,null,null,null,null,null,null,{"$f":"IF(ISERROR(VLOOKUP(H1047,Database!$B$1:$C$5908,2,FALSE)),\"\",VLOOKUP(H1047,Database!$B$1:$C$5908,2,FALSE))","v":""},"",{"$error":"#N/A"},null,null,null,null,null,null,null,null,"",false,2,{"$f":"VLOOKUP(H1047,Database!$B$1:$E$4891,4,FALSE)","v":{"$error":"#N/A"}},true]
[1047,null,null,null,null,null,null,null,{"$f":"IF(ISERROR(VLOOKUP(H1052,Database!$B$1:$C$5908,2,FALSE)),\"\",VLOOKUP(H1052,Database!$B$1:$C$5908,2,FALSE))","v":""},"",{"$error":"#N/A"},null,null,null,null,null,null,null,null,"",false,2,{"$f":"VLOOKUP(H1052,Database!$B$1:$E$4891,4,FALSE)","v":{"$error":"#N/A"}},true]
[1048,null,null,null,null,null,null,null,{"$f":"IF(ISERROR(VLOOKUP(H1053,Database!$B$1:$C$5908,2,FALSE)),\"\",VLOOKUP(H1053,Database!$B$1:$C$5908,2,FALSE))","v":""},"",{"$error":"#N/A"},null,null,null,null,null,null,null,null,"",false,2,{"$f":"VLOOKUP(H1053,Database!$B$1:$E$4891,4,FALSE)","v":{"$error":"#N/A"}},true]
[1054,null,null,null,null,null,null,null,{"$f":"IF(ISERROR(VLOOKUP(H1059,Database!$B$1:$C$5908,2,FALSE)),\"\",VLOOKUP(H1059,Database!$B$1:$C$5908,2,FALSE))","v":""},"",{"$error":"#N/A"},null,null,null,null,null,null,null,null,"",false,2,{"$f":"VLOOKUP(H1059,Database!$B$1:$E$4891,4,FALSE)","v":{"$error":"#N/A"}},true]
[1057,null,null,null,null,null,null,null,{"$f":"IF(ISERROR(VLOOKUP(H1062,Database!$B$1:$C$5908,2,FALSE)),\"\",VLOOKUP(H1062,Database!$B$1:$C$5908,2,FALSE))","v":""},"",{"$error":"#N/A"},null,null,null,null,null,null,null,null,"",false,2,{"$f":"VLOOKUP(H1062,Database!$B$1:$E$4891,4,FALSE)","v":{"$error":"#N/A"}},true]
[1063,null,null,null,null,null,null,null,{"$f":"IF(ISERROR(VLOOKUP(H1068,Database!$B$1:$C$5908,2,FALSE)),\"\",VLOOKUP(H1068,Database!$B$1:$C$5908,2,FALSE))","v":""},"",{"$error":"#N/A"},null,null,null,null,null,null,null,null,"",false,2,{"$f":"VLOOKUP(H1068,Database!$B$1:$E$4891,4,FALSE)","v":{"$error":"#N/A"}},true]
[1068,null,null,null,null,null,null,null,{"$f":"IF(ISERROR(VLOOKUP(H1073,Database!$B$1:$C$5908,2,FALSE)),\"\",VLOOKUP(H1073,Database!$B$1:$C$5908,2,FALSE))","v":""},"",{"$error":"#N/A"},null,null,null,null,null,null,null,null,"",false,2,{"$f":"VLOOKUP(H1073,Database!$B$1:$E$4891,4,FALSE)","v":{"$error":"#N/A"}},true]
[1073,null,null,null,null,null,null,null,{"$f":"IF(ISERROR(VLOOKUP(H1078,Database!$B$1:$C$5908,2,FALSE)),\"\",VLOOKUP(H1078,Database!$B$1:$C$5908,2,FALSE))","v":""},"",{"$error":"#N/A"},null,null,null,null,null,null,null,null,"",false,2,{"$f":"VLOOKUP(H1078,Database!$B$1:$E$4891,4,FALSE)","v":{"$error":"#N/A"}},true]
[1078,null,null,null,null,null,null,null,{"$f":"IF(ISERROR(VLOOKUP(H1083,Database!$B$1:$C$5908,2,FALSE)),\"\",VLOOKUP(H1083,Database!$B$1:$C$5908,2,FALSE))","v":""},"",{"$error":"#N/A"},null,null,null,null,null,null,null,null,"",false,2,{"$f":"VLOOKUP(H1083,Database!$B$1:$E$4891,4,FALSE)","v":{"$error":"#N/A"}},true]
[1083,null,null,null,null,null,null,null,{"$f":"IF(ISERROR(VLOOKUP(H1088,Database!$B$1:$C$5908,2,FALSE)),\"\",VLOOKUP(H1088,Database!$B$1:$C$5908,2,FALSE))","v":""},"",{"$error":"#N/A"},null,null,null,null,null,null,null,null,"",false,2,{"$f":"VLOOKUP(H1088,Database!$B$1:$E$4891,4,FALSE)","v":{"$error":"#N/A"}},true]
[1089,null,null,null,null,null,null,null,{"$f":"IF(ISERROR(VLOOKUP(H1094,Database!$B$1:$C$5908,2,FALSE)),\"\",VLOOKUP(H1094,Database!$B$1:$C$5908,2,FALSE))","v":""},"",{"$error":"#N/A"},null,null,null,null,null,null,null,null,"",false,2,{"$f":"VLOOKUP(H1094,Database!$B$1:$E$4891,4,FALSE)","v":{"$error":"#N/A"}},true]
[1092,null,null,null,null,null,null,null,{"$f":"IF(ISERROR(VLOOKUP(H1097,Database!$B$1:$C$5908,2,FALSE)),\"\",VLOOKUP(H1097,Database!$B$1:$C$5908,2,FALSE))","v":""},"",{"$error":"#N/A"},null,null,null,null,null,null,null,null,"",false,2,{"$f":"VLOOKUP(H1097,Database!$B$1:$E$4891,4,FALSE)","v":{"$error":"#N/A"}},true]
[1099,null,null,null,null,null,null,null,{"$f":"IF(ISERROR(VLOOKUP(H1104,Database!$B$1:$C$5908,2,FALSE)),\"\",VLOOKUP(H1104,Database!$B$1:$C$5908,2,FALSE))","v":""},"",{"$error":"#N/A"},null,null,null,null,null,null,null,null,"",false,2,{"$f":"VLOOKUP(H1104,Database!$B$1:$E$4891,4,FALSE)","v":{"$error":"#N/A"}},true]
[1104,null,null,null,null,null,null,null,{"$f":"IF(ISERROR(VLOOKUP(H1109,Database!$B$1:$C$5908,2,FALSE)),\"\",VLOOKUP(H1109,Database!$B$1:$C$5908,2,FALSE))","v":""},"",{"$error":"#N/A"},null,null,null,null,null,null,null,null,"",false,2,{"$f":"VLOOKUP(H1109,Database!$B$1:$E$4891,4,FALSE)","v":{"$error":"#N/A"}},true]
[1109,null,null,null,null,null,null,null,{"$f":"IF(ISERROR(VLOOKUP(H1114,Database!$B$1:$C$5908,2,FALSE)),\"\",VLOOKUP(H1114,Database!$B$1:$C$5908,2,FALSE))","v":""},"",{"$error":"#N/A"},null,null,null,null,null,null,null,null,"",false,2,{"$f":"VLOOKUP(H1114,Database!$B$1:$E$4891,4,FALSE)","v":{"$error":"#N/A"}},true]
[1111,null,null,null,null,null,null,null,{"$f":"IF(ISERROR(VLOOKUP(H1116,Database!$B$1:$C$5908,2,FALSE)),\"\",VLOOKUP(H1116,Database!$B$1:$C$5908,2,FALSE))","v":""},"",{"$error":"#N/A"},null,null,null,null,null,null,null,null,"",false,2,{"$f":"VLOOKUP(H1116,Database!$B$1:$E$4891,4,FALSE)","v":{"$error":"#N/A"}},true]
[1114,null,null,null,null,null,null,null,{"$f":"IF(ISERROR(VLOOKUP(H1119,Database!$B$1:$C$5908,2,FALSE)),\"\",VLOOKUP(H1119,Database!$B$1:$C$5908,2,FALSE))","v":""},"",{"$error":"#N/A"},null,null,null,null,null,null,null,null,"",false,2,{"$f":"VLOOKUP(H1119,Database!$B$1:$E$4891,4,FALSE)","v":{"$error":"#N/A"}},true]
[1119,null,null,null,null,null,null,null,{"$f":"IF(ISERROR(VLOOKUP(H1124,Database!$B$1:$C$5908,2,FALSE)),\"\",VLOOKUP(H1124,Database!$B$1:$C$5908,2,FALSE))","v":""},"",{"$error":"#N/A"},null,null,null,null,null,null,null,null,"",false,2,{"$f":"VLOOKUP(H1124,Database!$B$1:$E$4891,4,FALSE)","v":{"$error":"#N/A"}},true]
[1125,null,null,null,null,null,null,null,{"$f":"IF(ISERROR(VLOOKUP(H1130,Database!$B$1:$C$5908,2,FALSE)),\"\",VLOOKUP(H1130,Database!$B$1:$C$5908,2,FALSE))","v":""},"",{"$error":"#N/A"},null,null,null,null,null,null,null,null,"",false,2,{"$f":"VLOOKUP(H1130,Database!$B$1:$E$4891,4,FALSE)","v":{"$error":"#N/A"}},true]
[1130,null,null,null,null,null,null,null,{"$f":"IF(ISERROR(VLOOKUP(H1135,Database!$B$1:$C$5908,2,FALSE)),\"\",VLOOKUP(H1135,Database!$B$1:$C$5908,2,FALSE))","v":""},"",{"$error":"#N/A"},null,null,null,null,null,null,null,null,"",false,2,{"$f":"VLOOKUP(H1135,Database!$B$1:$E$4891,4,FALSE)","v":{"$error":"#N/A"}},true]
[1135,null,null,null,null,null,null,null,{"$f":"IF(ISERROR(VLOOKUP(H1140,Database!$B$1:$C$5908,2,FALSE)),\"\",VLOOKUP(H1140,Database!$B$1:$C$5908,2,FALSE))","v":""},"",{"$error":"#N/A"},null,null,null,null,null,null,null,null,"",false,2,{"$f":"VLOOKUP(H1140,Database!$B$1:$E$4891,4,FALSE)","v":{"$error":"#N/A"}},true]
[1140,null,null,null,null,null,null,null,{"$f":"IF(ISERROR(VLOOKUP(H1145,Database!$B$1:$C$5908,2,FALSE)),\"\",VLOOKUP(H1145,Database!$B$1:$C$5908,2,FALSE))","v":""},"",{"$error":"#N/A"},null,null,null,null,null,null,null,null,"",false,2,{"$f":"VLOOKUP(H1145,Database!$B$1:$E$4891,4,FALSE)","v":{"$error":"#N/A"}},true]
[1145,null,null,null,null,null,null,null,{"$f":"IF(ISERROR(VLOOKUP(H1150,Database!$B$1:$C$5908,2,FALSE)),\"\",VLOOKUP(H1150,Database!$B$1:$C$5908,2,FALSE))","v":""},"",{"$error":"#N/A"},null,null,null,null,null,null,null,null,"",false,2,{"$f":"VLOOKUP(H1150,Database!$B$1:$E$4891,4,FALSE)","v":{"$error":"#N/A"}},true]
[1149,null,null,null,null,null,null,null,{"$f":"IF(ISERROR(VLOOKUP(H1154,Database!$B$1:$C$5908,2,FALSE)),\"\",VLOOKUP(H1154,Database!$B$1:$C$5908,2,FALSE))","v":""},"",{"$error":"#N/A"},null,null,null,null,null,null,null,null,"",false,2,{"$f":"VLOOKUP(H1154,Database!$B$1:$E$4891,4,FALSE)","v":{"$error":"#N/A"}},true]
[1155,null,null,null,null,null,null,null,{"$f":"IF(ISERROR(VLOOKUP(H1160,Database!$B$1:$C$5908,2,FALSE)),\"\",VLOOKUP(H1160,Database!$B$1:$C$5908,2,FALSE))","v":""},"",{"$error":"#N/A"},null,null,null,null,null,null,null,null,"",false,{"$f":"IF(H1160=\"-\",\"\",IF(AND(T1160=0,U1160=FALSE,I1160=\"\"),1,2))","v":2},{"$f":"VLOOKUP(H1160,Database!$B$1:$E$4891,4,FALSE)","v":{"$error":"#N/A"}},true]
[1160,null,null,null,null,null,null,null,{"$f":"IF(ISERROR(VLOOKUP(H1165,Database!$B$1:$C$5908,2,FALSE)),\"\",VLOOKUP(H1165,Database!$B$1:$C$5908,2,FALSE))","v":""},"",{"$error":"#N/A"},null,null,null,null,null,null,null,null,"",false,2,{"$f":"VLOOKUP(H1165,Database!$B$1:$E$4891,4,FALSE)","v":{"$error":"#N/A"}},true]
[1166,null,null,null,null,null,null,null,{"$f":"IF(ISERROR(VLOOKUP(H1171,Database!$B$1:$C$5908,2,FALSE)),\"\",VLOOKUP(H1171,Database!$B$1:$C$5908,2,FALSE))","v":""},"",{"$error":"#N/A"},null,null,null,null,null,null,null,null,"",false,2,{"$f":"VLOOKUP(H1171,Database!$B$1:$E$4891,4,FALSE)","v":{"$error":"#N/A"}},true]
[1168,null,null,null,null,null,null,null,{"$f":"IF(ISERROR(VLOOKUP(H1173,Database!$B$1:$C$5908,2,FALSE)),\"\",VLOOKUP(H1173,Database!$B$1:$C$5908,2,FALSE))","v":""},"",{"$error":"#N/A"},null,null,null,null,null,null,null,null,"",false,2,{"$f":"VLOOKUP(H1173,Database!$B$1:$E$4891,4,FALSE)","v":{"$error":"#N/A"}},true]
[1171,null,null,null,null,null,null,null,{"$f":"IF(ISERROR(VLOOKUP(H1176,Database!$B$1:$C$5908,2,FALSE)),\"\",VLOOKUP(H1176,Database!$B$1:$C$5908,2,FALSE))","v":""},"",{"$error":"#N/A"},null,null,null,null,null,null,null,null,"",false,2,{"$f":"VLOOKUP(H1176,Database!$B$1:$E$4891,4,FALSE)","v":{"$error":"#N/A"}},true]
[1176,null,null,null,null,null,null,null,{"$f":"IF(ISERROR(VLOOKUP(H1181,Database!$B$1:$C$5908,2,FALSE)),\"\",VLOOKUP(H1181,Database!$B$1:$C$5908,2,FALSE))","v":""},"",{"$error":"#N/A"},null,null,null,null,null,null,null,null,"",false,2,{"$f":"VLOOKUP(H1181,Database!$B$1:$E$4891,4,FALSE)","v":{"$error":"#N/A"}},true]
[1181,null,null,null,null,null,null,null,{"$f":"IF(ISERROR(VLOOKUP(H1186,Database!$B$1:$C$5908,2,FALSE)),\"\",VLOOKUP(H1186,Database!$B$1:$C$5908,2,FALSE))","v":""},"",{"$error":"#N/A"},null,null,null,null,null,null,null,null,"",false,2,{"$f":"VLOOKUP(H1186,Database!$B$1:$E$4891,4,FALSE)","v":{"$error":"#N/A"}},true]
[1187,null,null,null,null,null,null,null,{"$f":"IF(ISERROR(VLOOKUP(H1192,Database!$B$1:$C$5908,2,FALSE)),\"\",VLOOKUP(H1192,Database!$B$1:$C$5908,2,FALSE))","v":""},"",{"$error":"#N/A"},null,null,null,null,null,null,null,null,"",false,2,{"$f":"VLOOKUP(H1192,Database!$B$1:$E$4891,4,FALSE)","v":{"$error":"#N/A"}},true]
[1191,null,null,null,null,null,null,null,{"$f":"IF(ISERROR(VLOOKUP(H1196,Database!$B$1:$C$5908,2,FALSE)),\"\",VLOOKUP(H1196,Database!$B$1:$C$5908,2,FALSE))","v":""},"",{"$error":"#N/A"},null,null,null,null,null,null,null,null,"",false,2,{"$f":"VLOOKUP(H1196,Database!$B$1:$E$4891,4,FALSE)","v":{"$error":"#N/A"}},true]
[1197,null,null,null,null,null,null,null,{"$f":"IF(ISERROR(VLOOKUP(H1202,Database!$B$1:$C$5908,2,FALSE)),\"\",VLOOKUP(H1202,Database!$B$1:$C$5908,2,FALSE))","v":""},"",{"$error":"#N/A"},null,null,null,null,null,null,null,null,"",false,2,{"$f":"VLOOKUP(H1202,Database!$B$1:$E$4891,4,FALSE)","v":{"$error":"#N/A"}},true]
[1202,null,null,null,null,null,null,null,{"$f":"IF(ISERROR(VLOOKUP(H1207,Database!$B$1:$C$5908,2,FALSE)),\"\",VLOOKUP(H1207,Database!$B$1:$C$5908,2,FALSE))","v":""},"",{"$error":"#N/A"},null,null,null,null,null,null,null,null,"",false,2,{"$f":"VLOOKUP(H1207,Database!$B$1:$E$4891,4,FALSE)","v":{"$error":"#N/A"}},true]
[1206,null,null,null,null,null,null,null,{"$f":"IF(ISERROR(VLOOKUP(H1211,Database!$B$1:$C$5908,2,FALSE)),\"\",VLOOKUP(H1211,Database!$B$1:$C$5908,2,FALSE))","v":""},"",{"$error":"#N/A"},null,null,null,null,null,null,null,null,"",false,2,{"$f":"VLOOKUP(H1211,Database!$B$1:$E$4891,4,FALSE)","v":{"$error":"#N/A"}},true]
[1212,null,null,null,null,null,null,null,{"$f":"IF(ISERROR(VLOOKUP(H1217,Database!$B$1:$C$5908,2,FALSE)),\"\",VLOOKUP(H1217,Database!$B$1:$C$5908,2,FALSE))","v":""},"",{"$error":"#N/A"},null,null,null,null,null,null,null,null,"",false,2,{"$f":"VLOOKUP(H1217,Database!$B$1:$E$4891,4,FALSE)","v":{"$error":"#N/A"}},true]
[1217,null,null,null,null,null,null,null,{"$f":"IF(ISERROR(VLOOKUP(H1222,Database!$B$1:$C$5908,2,FALSE)),\"\",VLOOKUP(H1222,Database!$B$1:$C$5908,2,FALSE))","v":""},"",{"$error":"#N/A"},null,null,null,null,null,null,null,null,"",false,2,{"$f":"VLOOKUP(H1222,Database!$B$1:$E$4891,4,FALSE)","v":{"$error":"#N/A"}},true]
[1222,null,null,null,null,null,null,null,{"$f":"IF(ISERROR(VLOOKUP(H1227,Database!$B$1:$C$5908,2,FALSE)),\"\",VLOOKUP(H1227,Database!$B$1:$C$5908,2,FALSE))","v":""},"",{"$error":"#N/A"},null,null,null,null,null,null,null,null,"",false,2,{"$f":"VLOOKUP(H1227,Database!$B$1:$E$4891,4,FALSE)","v":{"$error":"#N/A"}},true]
[1225,null,null,null,null,null,null,null,{"$f":"IF(ISERROR(VLOOKUP(H1230,Database!$B$1:$C$5908,2,FALSE)),\"\",VLOOKUP(H1230,Database!$B$1:$C$5908,2,FALSE))","v":""},"",{"$error":"#N/A"},null,null,null,null,null,null,null,null,"",false,2,{"$f":"VLOOKUP(H1230,Database!$B$1:$E$4891,4,FALSE)","v":{"$error":"#N/A"}},true]
[1232,null,null,null,null,null,null,null,{"$f":"IF(ISERROR(VLOOKUP(H1237,Database!$B$1:$C$5908,2,FALSE)),\"\",VLOOKUP(H1237,Database!$B$1:$C$5908,2,FALSE))","v":""},"",{"$error":"#N/A"},null,null,null,null,null,null,null,null,"",false,2,{"$f":"VLOOKUP(H1237,Database!$B$1:$E$4891,4,FALSE)","v":{"$error":"#N/A"}},true]
[1233,null,null,null,null,null,null,null,{"$f":"IF(ISERROR(VLOOKUP(H1238,Database!$B$1:$C$5908,2,FALSE)),\"\",VLOOKUP(H1238,Database!$B$1:$C$5908,2,FALSE))","v":""},"",{"$error":"#N/A"},null,null,null,null,null,null,null,null,"",false,2,{"$f":"VLOOKUP(H1238,Database!$B$1:$E$4891,4,FALSE)","v":{"$error":"#N/A"}},true]
[1238,null,null,null,null,null,null,null,{"$f":"IF(ISERROR(VLOOKUP(H1243,Database!$B$1:$C$5908,2,FALSE)),\"\",VLOOKUP(H1243,Database!$B$1:$C$5908,2,FALSE))","v":""},"",{"$error":"#N/A"},null,null,null,null,null,null,null,null,"",false,2,{"$f":"VLOOKUP(H1243,Database!$B$1:$E$4891,4,FALSE)","v":{"$error":"#N/A"}},true]
[1244,null,null,null,null,null,null,null,{"$f":"IF(ISERROR(VLOOKUP(H1249,Database!$B$1:$C$5908,2,FALSE)),\"\",VLOOKUP(H1249,Database!$B$1:$C$5908,2,FALSE))","v":""},"",{"$error":"#N/A"},null,null,null,null,null,null,null,null,"",false,2,{"$f":"VLOOKUP(H1249,Database!$B$1:$E$4891,4,FALSE)","v":{"$error":"#N/A"}},true]
[1248,null,null,null,null,null,null,null,{"$f":"IF(ISERROR(VLOOKUP(H1253,Database!$B$1:$C$5908,2,FALSE)),\"\",VLOOKUP(H1253,Database!$B$1:$C$5908,2,FALSE))","v":""},"",{"$error":"#N/A"},null,null,null,null,null,null,null,null,"",false,2,{"$f":"VLOOKUP(H1253,Database!$B$1:$E$4891,4,FALSE)","v":{"$error":"#N/A"}},true]
[1253,null,null,null,null,null,null,null,{"$f":"IF(ISERROR(VLOOKUP(H1258,Database!$B$1:$C$5908,2,FALSE)),\"\",VLOOKUP(H1258,Database!$B$1:$C$5908,2,FALSE))","v":""},"",{"$error":"#N/A"},null,null,null,null,null,null,null,null,"",false,2,{"$f":"VLOOKUP(H1258,Database!$B$1:$E$4891,4,FALSE)","v":{"$error":"#N/A"}},true]
[1259,null,null,null,null,null,null,null,{"$f":"IF(ISERROR(VLOOKUP(H1264,Database!$B$1:$C$5908,2,FALSE)),\"\",VLOOKUP(H1264,Database!$B$1:$C$5908,2,FALSE))","v":""},"",{"$error":"#N/A"},null,null,null,null,null,null,null,null,"",false,2,{"$f":"VLOOKUP(H1264,Database!$B$1:$E$4891,4,FALSE)","v":{"$error":"#N/A"}},true]
[1263,null,null,null,null,null,null,null,{"$f":"IF(ISERROR(VLOOKUP(H1268,Database!$B$1:$C$5908,2,FALSE)),\"\",VLOOKUP(H1268,Database!$B$1:$C$5908,2,FALSE))","v":""},"",{"$error":"#N/A"},null,null,null,null,null,null,null,null,"",false,2,{"$f":"VLOOKUP(H1268,Database!$B$1:$E$4891,4,FALSE)","v":{"$error":"#N/A"}},true]
[1268,null,null,null,null,null,null,null,{"$f":"IF(ISERROR(VLOOKUP(H1273,Database!$B$1:$C$5908,2,FALSE)),\"\",VLOOKUP(H1273,Database!$B$1:$C$5908,2,FALSE))","v":""},"",{"$error":"#N/A"},null,null,null,null,null,null,null,null,"",false,2,{"$f":"VLOOKUP(H1273,Database!$B$1:$E$4891,4,FALSE)","v":{"$error":"#N/A"}},true]
[1274,null,null,null,null,null,null,null,{"$f":"IF(ISERROR(VLOOKUP(H1279,Database!$B$1:$C$5908,2,FALSE)),\"\",VLOOKUP(H1279,Database!$B$1:$C$5908,2,FALSE))","v":""},"",{"$error":"#N/A"},null,null,null,null,null,null,null,null,"",false,2,{"$f":"VLOOKUP(H1279,Database!$B$1:$E$4891,4,FALSE)","v":{"$error":"#N/A"}},true]
[1279,null,null,null,null,null,null,null,{"$f":"IF(ISERROR(VLOOKUP(H1284,Database!$B$1:$C$5908,2,FALSE)),\"\",VLOOKUP(H1284,Database!$B$1:$C$5908,2,FALSE))","v":""},"",{"$error":"#N/A"},null,null,null,null,null,null,null,null,"",false,2,{"$f":"VLOOKUP(H1284,Database!$B$1:$E$4891,4,FALSE)","v":{"$error":"#N/A"}},true]
[{"$f":"A1286+1","v":1282},null,null,null,null,null,null,null,{"$f":"IF(ISERROR(VLOOKUP(H1287,Database!$B$1:$C$5908,2,FALSE)),\"\",VLOOKUP(H1287,Database!$B$1:$C$5908,2,FALSE))","v":""},{"$f":"IF(V1287=1,1,IF(AND(T1287=0,F1287=\"SSB\",V1287<>\"\"),2,IF(AND(T1287=0,F1287=\"FM\",V1287<>\"\"),2,IF(AND(T1287=0,F1287=\"DIGI\",V1287<>\"\"),3,IF(AND(T1287=0,F1287=\"CW\",V1287<>\"\"),5,IF(H1287=\"-\",\"\",T1287))))))","v":""},{"$f":"IF(H1287=\"-\",\"\",IF(AND(H1287<>\"\",X1287=TRUE),\"INDIPENDENT\",IF(W1287=0,\"SCRIVI NOME NELLE NOTE\",W1287)))","v":{"$error":"#N/A"}},null,null,null,null,null,null,null,null,{"$f":"IF(H1287=\"\",\"\",IF(H1287=$R$6,25,IF(OR(H1287=$R$7,H1287=$R$8,H1287=$R$9,H1287=$R$10,H1287=$R$11,H1287=$R$12,H1287=$R$13,H1287=$R$14,H1287=$R$15,H1287=$R$16,H1287=$R$17,H1287=$R$18,H1287=$R$19,H1287=$R$20,H1287=$R$21,H1287=$R$22,H1287=$R$23),15,0)))","v":""},{"$f":"ISERROR(I1287)","v":false},2,{"$f":"VLOOKUP(H1287,Database!$B$1:$E$4891,4,FALSE)","v":{"$error":"#N/A"}},{"$f":"ISERROR(W1287)","v":true}]
[1289,null,null,null,null,null,null,null,{"$f":"IF(ISERROR(VLOOKUP(H1294,Database!$B$1:$C$5908,2,FALSE)),\"\",VLOOKUP(H1294,Database!$B$1:$C$5908,2,FALSE))","v":""},"",{"$error":"#N/A"},null,null,null,null,null,null,null,null,"",false,2,{"$f":"VLOOKUP(H1294,Database!$B$1:$E$4891,4,FALSE)","v":{"$error":"#N/A"}},true]
[1294,null,null,null,null,null,null,null,{"$f":"IF(ISERROR(VLOOKUP(H1299,Database!$B$1:$C$5908,2,FALSE)),\"\",VLOOKUP(H1299,Database!$B$1:$C$5908,2,FALSE))","v":""},"",{"$error":"#N/A"},null,null,null,null,null,null,null,null,"",false,2,{"$f":"VLOOKUP(H1299,Database!$B$1:$E$4891,4,FALSE)","v":{"$error":"#N/A"}},true]
[1295,null,null,null,null,null,null,null,{"$f":"IF(ISERROR(VLOOKUP(H1300,Database!$B$1:$C$5908,2,FALSE)),\"\",VLOOKUP(H1300,Database!$B$1:$C$5908,2,FALSE))","v":""},"",{"$error":"#N/A"},null,null,null,null,null,null,null,null,"",false,2,{"$f":"VLOOKUP(H1300,Database!$B$1:$E$4891,4,FALSE)","v":{"$error":"#N/A"}},true]
[1301,null,null,null,null,null,null,null,{"$f":"IF(ISERROR(VLOOKUP(H1306,Database!$B$1:$C$5908,2,FALSE)),\"\",VLOOKUP(H1306,Database!$B$1:$C$5908,2,FALSE))","v":""},"",{"$error":"#N/A"},null,null,null,null,null,null,null,null,"",false,2,{"$f":"VLOOKUP(H1306,Database!$B$1:$E$4891,4,FALSE)","v":{"$error":"#N/A"}},true]
[1304,null,null,null,null,null,null,null,{"$f":"IF(ISERROR(VLOOKUP(H1309,Database!$B$1:$C$5908,2,FALSE)),\"\",VLOOKUP(H1309,Database!$B$1:$C$5908,2,FALSE))","v":""},"",{"$error":"#N/A"},null,null,null,null,null,null,null,null,"",false,2,{"$f":"VLOOKUP(H1309,Database!$B$1:$E$4891,4,FALSE)","v":{"$error":"#N/A"}},true]
[1310,null,null,null,null,null,null,null,{"$f":"IF(ISERROR(VLOOKUP(H1315,Database!$B$1:$C$5908,2,FALSE)),\"\",VLOOKUP(H1315,Database!$B$1:$C$5908,2,FALSE))","v":""},"",{"$error":"#N/A"},null,null,null,null,null,null,null,null,"",false,2,{"$f":"VLOOKUP(H1315,Database!$B$1:$E$4891,4,FALSE)","v":{"$error":"#N/A"}},true]
[1315,null,null,null,null,null,null,null,{"$f":"IF(ISERROR(VLOOKUP(H1320,Database!$B$1:$C$5908,2,FALSE)),\"\",VLOOKUP(H1320,Database!$B$1:$C$5908,2,FALSE))","v":""},"",{"$error":"#N/A"},null,null,null,null,null,null,null,null,"",false,2,{"$f":"VLOOKUP(H1320,Database!$B$1:$E$4891,4,FALSE)","v":{"$error":"#N/A"}},true]
[1320,null,null,null,null,null,null,null,{"$f":"IF(ISERROR(VLOOKUP(H1325,Database!$B$1:$C$5908,2,FALSE)),\"\",VLOOKUP(H1325,Database!$B$1:$C$5908,2,FALSE))","v":""},"",{"$error":"#N/A"},null,null,null,null,null,null,null,null,"",false,2,{"$f":"VLOOKUP(H1325,Database!$B$1:$E$4891,4,FALSE)","v":{"$error":"#N/A"}},true]
[1325,null,null,null,null,null,null,null,{"$f":"IF(ISERROR(VLOOKUP(H1330,Database!$B$1:$C$5908,2,FALSE)),\"\",VLOOKUP(H1330,Database!$B$1:$C$5908,2,FALSE))","v":""},"",{"$error":"#N/A"},null,null,null,null,null,null,null,null,"",false,2,{"$f":"VLOOKUP(H1330,Database!$B$1:$E$4891,4,FALSE)","v":{"$error":"#N/A"}},true]
[1330,null,null,null,null,null,null,null,{"$f":"IF(ISERROR(VLOOKUP(H1335,Database!$B$1:$C$5908,2,FALSE)),\"\",VLOOKUP(H1335,Database!$B$1:$C$5908,2,FALSE))","v":""},"",{"$error":"#N/A"},null,null,null,null,null,null,null,null,"",false,2,{"$f":"VLOOKUP(H1335,Database!$B$1:$E$4891,4,FALSE)","v":{"$error":"#N/A"}},true]
[1336,null,null,null,null,null,null,null,{"$f":"IF(ISERROR(VLOOKUP(H1341,Database!$B$1:$C$5908,2,FALSE)),\"\",VLOOKUP(H1341,Database!$B$1:$C$5908,2,FALSE))","v":""},"",{"$error":"#N/A"},null,null,null,null,null,null,null,null,"",false,2,{"$f":"VLOOKUP(H1341,Database!$B$1:$E$4891,4,FALSE)","v":{"$error":"#N/A"}},true]
[1339,null,null,null,null,null,null,null,{"$f":"IF(ISERROR(VLOOKUP(H1344,Database!$B$1:$C$5908,2,FALSE)),\"\",VLOOKUP(H1344,Database!$B$1:$C$5908,2,FALSE))","v":""},"",{"$error":"#N/A"},null,null,null,null,null,null,null,null,"",false,2,{"$f":"VLOOKUP(H1344,Database!$B$1:$E$4891,4,FALSE)","v":{"$error":"#N/A"}},true]
[1345,null,null,null,null,null,null,null,{"$f":"IF(ISERROR(VLOOKUP(H1350,Database!$B$1:$C$5908,2,FALSE)),\"\",VLOOKUP(H1350,Database!$B$1:$C$5908,2,FALSE))","v":""},"",{"$error":"#N/A"},null,null,null,null,null,null,null,null,"",false,2,{"$f":"VLOOKUP(H1350,Database!$B$1:$E$4891,4,FALSE)","v":{"$error":"#N/A"}},true]
[1351,null,null,null,null,null,null,null,{"$f":"IF(ISERROR(VLOOKUP(H1356,Database!$B$1:$C$5908,2,FALSE)),\"\",VLOOKUP(H1356,Database!$B$1:$C$5908,2,FALSE))","v":""},"",{"$error":"#N/A"},null,null,null,null,null,null,null,null,"",false,2,{"$f":"VLOOKUP(H1356,Database!$B$1:$E$4891,4,FALSE)","v":{"$error":"#N/A"}},true]
[1356,null,null,null,null,null,null,null,{"$f":"IF(ISERROR(VLOOKUP(H1361,Database!$B$1:$C$5908,2,FALSE)),\"\",VLOOKUP(H1361,Database!$B$1:$C$5908,2,FALSE))","v":""},"",{"$error":"#N/A"},null,null,null,null,null,null,null,null,"",false,2,{"$f":"VLOOKUP(H1361,Database!$B$1:$E$4891,4,FALSE)","v":{"$error":"#N/A"}},true]
[1358,null,null,null,null,null,null,null,{"$f":"IF(ISERROR(VLOOKUP(H1363,Database!$B$1:$C$5908,2,FALSE)),\"\",VLOOKUP(H1363,Database!$B$1:$C$5908,2,FALSE))","v":""},"",{"$error":"#N/A"},null,null,null,null,null,null,null,null,"",false,2,{"$f":"VLOOKUP(H1363,Database!$B$1:$E$4891,4,FALSE)","v":{"$error":"#N/A"}},true]
[1361,null,null,null,null,null,null,null,{"$f":"IF(ISERROR(VLOOKUP(H1366,Database!$B$1:$C$5908,2,FALSE)),\"\",VLOOKUP(H1366,Database!$B$1:$C$5908,2,FALSE))","v":""},"",{"$error":"#N/A"},null,null,null,null,null,null,null,null,"",false,2,{"$f":"VLOOKUP(H1366,Database!$B$1:$E$4891,4,FALSE)","v":{"$error":"#N/A"}},true]
[1366,null,null,null,null,null,null,null,{"$f":"IF(ISERROR(VLOOKUP(H1371,Database!$B$1:$C$5908,2,FALSE)),\"\",VLOOKUP(H1371,Database!$B$1:$C$5908,2,FALSE))","v":""},"",{"$error":"#N/A"},null,null,null,null,null,null,null,null,"",false,2,{"$f":"VLOOKUP(H1371,Database!$B$1:$E$4891,4,FALSE)","v":{"$error":"#N/A"}},true]
[1372,null,null,null,null,null,null,null,{"$f":"IF(ISERROR(VLOOKUP(H1377,Database!$B$1:$C$5908,2,FALSE)),\"\",VLOOKUP(H1377,Database!$B$1:$C$5908,2,FALSE))","v":""},"",{"$error":"#N/A"},null,null,null,null,null,null,null,null,"",false,2,{"$f":"VLOOKUP(H1377,Database!$B$1:$E$4891,4,FALSE)","v":{"$error":"#N/A"}},true]
[1377,null,null,null,null,null,null,null,{"$f":"IF(ISERROR(VLOOKUP(H1382,Database!$B$1:$C$5908,2,FALSE)),\"\",VLOOKUP(H1382,Database!$B$1:$C$5908,2,FALSE))","v":""},"",{"$error":"#N/A"},null,null,null,null,null,null,null,null,"",false,2,{"$f":"VLOOKUP(H1382,Database!$B$1:$E$4891,4,FALSE)","v":{"$error":"#N/A"}},true]
[1381,null,null,null,null,null,null,null,{"$f":"IF(ISERROR(VLOOKUP(H1386,Database!$B$1:$C$5908,2,FALSE)),\"\",VLOOKUP(H1386,Database!$B$1:$C$5908,2,FALSE))","v":""},"",{"$error":"#N/A"},null,null,null,null,null,null,null,null,"",false,2,{"$f":"VLOOKUP(H1386,Database!$B$1:$E$4891,4,FALSE)","v":{"$error":"#N/A"}},true]
[1387,null,null,null,null,null,null,null,{"$f":"IF(ISERROR(VLOOKUP(H1392,Database!$B$1:$C$5908,2,FALSE)),\"\",VLOOKUP(H1392,Database!$B$1:$C$5908,2,FALSE))","v":""},"",{"$error":"#N/A"},null,null,null,null,null,null,null,null,"",false,2,{"$f":"VLOOKUP(H1392,Database!$B$1:$E$4891,4,FALSE)","v":{"$error":"#N/A"}},true]
[1392,null,null,null,null,null,null,null,{"$f":"IF(ISERROR(VLOOKUP(H1397,Database!$B$1:$C$5908,2,FALSE)),\"\",VLOOKUP(H1397,Database!$B$1:$C$5908,2,FALSE))","v":""},"",{"$error":"#N/A"},null,null,null,null,null,null,null,null,"",false,2,{"$f":"VLOOKUP(H1397,Database!$B$1:$E$4891,4,FALSE)","v":{"$error":"#N/A"}},true]
[1396,null,null,null,null,null,null,null,{"$f":"IF(ISERROR(VLOOKUP(H1401,Database!$B$1:$C$5908,2,FALSE)),\"\",VLOOKUP(H1401,Database!$B$1:$C$5908,2,FALSE))","v":""},"",{"$error":"#N/A"},null,null,null,null,null,null,null,null,"",false,2,{"$f":"VLOOKUP(H1401,Database!$B$1:$E$4891,4,FALSE)","v":{"$error":"#N/A"}},true]
[1402,null,null,null,null,null,null,null,{"$f":"IF(ISERROR(VLOOKUP(H1407,Database!$B$1:$C$5908,2,FALSE)),\"\",VLOOKUP(H1407,Database!$B$1:$C$5908,2,FALSE))","v":""},"",{"$error":"#N/A"},null,null,null,null,null,null,null,null,"",false,2,{"$f":"VLOOKUP(H1407,Database!$B$1:$E$4891,4,FALSE)","v":{"$error":"#N/A"}},true]
[1407,null,null,null,null,null,null,null,{"$f":"IF(ISERROR(VLOOKUP(H1412,Database!$B$1:$C$5908,2,FALSE)),\"\",VLOOKUP(H1412,Database!$B$1:$C$5908,2,FALSE))","v":""},"",{"$error":"#N/A"},null,null,null,null,null,null,null,null,"",false,2,{"$f":"VLOOKUP(H1412,Database!$B$1:$E$4891,4,FALSE)","v":{"$error":"#N/A"}},true]
[1413,null,null,null,null,null,null,null,{"$f":"IF(ISERROR(VLOOKUP(H1418,Database!$B$1:$C$5908,2,FALSE)),\"\",VLOOKUP(H1418,Database!$B$1:$C$5908,2,FALSE))","v":""},"",{"$error":"#N/A"},null,null,null,null,null,null,null,null,"",false,2,{"$f":"VLOOKUP(H1418,Database!$B$1:$E$4891,4,FALSE)","v":{"$error":"#N/A"}},true]
[1415,null,null,null,null,null,null,null,{"$f":"IF(ISERROR(VLOOKUP(H1420,Database!$B$1:$C$5908,2,FALSE)),\"\",VLOOKUP(H1420,Database!$B$1:$C$5908,2,FALSE))","v":""},"",{"$error":"#N/A"},null,null,null,null,null,null,null,null,"",false,2,{"$f":"VLOOKUP(H1420,Database!$B$1:$E$4891,4,FALSE)","v":{"$error":"#N/A"}},true]
[1422,null,null,null,null,null,null,null,{"$f":"IF(ISERROR(VLOOKUP(H1427,Database!$B$1:$C$5908,2,FALSE)),\"\",VLOOKUP(H1427,Database!$B$1:$C$5908,2,FALSE))","v":""},"",{"$error":"#N/A"},null,null,null,null,null,null,null,null,"",false,2,{"$f":"VLOOKUP(H1427,Database!$B$1:$E$4891,4,FALSE)","v":{"$error":"#N/A"}},true]
[1423,null,null,null,null,null,null,null,{"$f":"IF(ISERROR(VLOOKUP(H1428,Database!$B$1:$C$5908,2,FALSE)),\"\",VLOOKUP(H1428,Database!$B$1:$C$5908,2,FALSE))","v":""},"",{"$error":"#N/A"},null,null,null,null,null,null,null,null,"",false,2,{"$f":"VLOOKUP(H1428,Database!$B$1:$E$4891,4,FALSE)","v":{"$error":"#N/A"}},true]
[1428,null,null,null,null,null,null,null,{"$f":"IF(ISERROR(VLOOKUP(H1433,Database!$B$1:$C$5908,2,FALSE)),\"\",VLOOKUP(H1433,Database!$B$1:$C$5908,2,FALSE))","v":""},"",{"$error":"#N/A"},null,null,null,null,null,null,null,null,"",false,2,{"$f":"VLOOKUP(H1433,Database!$B$1:$E$4891,4,FALSE)","v":{"$error":"#N/A"}},true]
[1434,null,null,null,null,null,null,null,{"$f":"IF(ISERROR(VLOOKUP(H1439,Database!$B$1:$C$5908,2,FALSE)),\"\",VLOOKUP(H1439,Database!$B$1:$C$5908,2,FALSE))","v":""},"",{"$error":"#N/A"},null,null,null,null,null,null,null,null,"",false,2,{"$f":"VLOOKUP(H1439,Database!$B$1:$E$4891,4,FALSE)","v":{"$error":"#N/A"}},true]
[1438,null,null,null,null,null,null,null,{"$f":"IF(ISERROR(VLOOKUP(H1443,Database!$B$1:$C$5908,2,FALSE)),\"\",VLOOKUP(H1443,Database!$B$1:$C$5908,2,FALSE))","v":""},"",{"$error":"#N/A"},null,null,null,null,null,null,null,null,"",false,2,{"$f":"VLOOKUP(H1443,Database!$B$1:$E$4891,4,FALSE)","v":{"$error":"#N/A"}},true]
[1443,null,null,null,null,null,null,null,{"$f":"IF(ISERROR(VLOOKUP(H1448,Database!$B$1:$C$5908,2,FALSE)),\"\",VLOOKUP(H1448,Database!$B$1:$C$5908,2,FALSE))","v":""},"",{"$error":"#N/A"},null,null,null,null,null,null,null,null,"",false,2,{"$f":"VLOOKUP(H1448,Database!$B$1:$E$4891,4,FALSE)","v":{"$error":"#N/A"}},true]
[1449,null,null,null,null,null,null,null,{"$f":"IF(ISERROR(VLOOKUP(H1454,Database!$B$1:$C$5908,2,FALSE)),\"\",VLOOKUP(H1454,Database!$B$1:$C$5908,2,FALSE))","v":""},"",{"$error":"#N/A"},null,null,null,null,null,null,null,null,"",false,2,{"$f":"VLOOKUP(H1454,Database!$B$1:$E$4891,4,FALSE)","v":{"$error":"#N/A"}},true]
[1453,null,null,null,null,null,null,null,{"$f":"IF(ISERROR(VLOOKUP(H1458,Database!$B$1:$C$5908,2,FALSE)),\"\",VLOOKUP(H1458,Database!$B$1:$C$5908,2,FALSE))","v":""},"",{"$error":"#N/A"},null,null,null,null,null,null,null,null,"",false,2,{"$f":"VLOOKUP(H1458,Database!$B$1:$E$4891,4,FALSE)","v":{"$error":"#N/A"}},true]
[1459,null,null,null,null,null,null,null,{"$f":"IF(ISERROR(VLOOKUP(H1464,Database!$B$1:$C$5908,2,FALSE)),\"\",VLOOKUP(H1464,Database!$B$1:$C$5908,2,FALSE))","v":""},"",{"$error":"#N/A"},null,null,null,null,null,null,null,null,"",false,2,{"$f":"VLOOKUP(H1464,Database!$B$1:$E$4891,4,FALSE)","v":{"$error":"#N/A"}},true]
[1464,null,null,null,null,null,null,null,{"$f":"IF(ISERROR(VLOOKUP(H1469,Database!$B$1:$C$5908,2,FALSE)),\"\",VLOOKUP(H1469,Database!$B$1:$C$5908,2,FALSE))","v":""},"",{"$error":"#N/A"},null,null,null,null,null,null,null,null,"",false,2,{"$f":"VLOOKUP(H1469,Database!$B$1:$E$4891,4,FALSE)","v":{"$error":"#N/A"}},true]
[1469,null,null,null,null,null,null,null,{"$f":"IF(ISERROR(VLOOKUP(H1474,Database!$B$1:$C$5908,2,FALSE)),\"\",VLOOKUP(H1474,Database!$B$1:$C$5908,2,FALSE))","v":""},"",{"$error":"#N/A"},null,null,null,null,null,null,null,null,"",false,2,{"$f":"VLOOKUP(H1474,Database!$B$1:$E$4891,4,FALSE)","v":{"$error":"#N/A"}},true]
[1472,null,null,null,null,null,null,null,{"$f":"IF(ISERROR(VLOOKUP(H1477,Database!$B$1:$C$5908,2,FALSE)),\"\",VLOOKUP(H1477,Database!$B$1:$C$5908,2,FALSE))","v":""},"",{"$error":"#N/A"},null,null,null,null,null,null,null,null,"",false,2,{"$f":"VLOOKUP(H1477,Database!$B$1:$E$4891,4,FALSE)","v":{"$error":"#N/A"}},true]
[1479,null,null,null,null,null,null,null,{"$f":"IF(ISERROR(VLOOKUP(H1484,Database!$B$1:$C$5908,2,FALSE)),\"\",VLOOKUP(H1484,Database!$B$1:$C$5908,2,FALSE))","v":""},"",{"$error":"#N/A"},null,null,null,null,null,null,null,null,"",false,2,{"$f":"VLOOKUP(H1484,Database!$B$1:$E$4891,4,FALSE)","v":{"$error":"#N/A"}},true]
[1484,null,null,null,null,null,null,null,{"$f":"IF(ISERROR(VLOOKUP(H1489,Database!$B$1:$C$5908,2,FALSE)),\"\",VLOOKUP(H1489,Database!$B$1:$C$5908,2,FALSE))","v":""},"",{"$error":"#N/A"},null,null,null,null,null,null,null,null,"",false,2,{"$f":"VLOOKUP(H1489,Database!$B$1:$E$4891,4,FALSE)","v":{"$error":"#N/A"}},true]
[1485,null,null,null,null,null,null,null,{"$f":"IF(ISERROR(VLOOKUP(H1490,Database!$B$1:$C$5908,2,FALSE)),\"\",VLOOKUP(H1490,Database!$B$1:$C$5908,2,FALSE))","v":""},"",{"$error":"#N/A"},null,null,null,null,null,null,null,null,"",false,2,{"$f":"VLOOKUP(H1490,Database!$B$1:$E$4891,4,FALSE)","v":{"$error":"#N/A"}},true]
[1491,null,null,null,null,null,null,null,{"$f":"IF(ISERROR(VLOOKUP(H1496,Database!$B$1:$C$5908,2,FALSE)),\"\",VLOOKUP(H1496,Database!$B$1:$C$5908,2,FALSE))","v":""},"",{"$error":"#N/A"},null,null,null,null,null,null,null,null,"",false,2,{"$f":"VLOOKUP(H1496,Database!$B$1:$E$4891,4,FALSE)","v":{"$error":"#N/A"}},true]
[1495,null,null,null,null,null,null,null,{"$f":"IF(ISERROR(VLOOKUP(H1500,Database!$B$1:$C$5908,2,FALSE)),\"\",VLOOKUP(H1500,Database!$B$1:$C$5908,2,FALSE))","v":""},"",{"$error":"#N/A"},null,null,null,null,null,null,null,null,"",false,2,{"$f":"VLOOKUP(H1500,Database!$B$1:$E$4891,4,FALSE)","v":{"$error":"#N/A"}},true]
[1500,null,null,null,null,null,null,null,{"$f":"IF(ISERROR(VLOOKUP(H1505,Database!$B$1:$C$5908,2,FALSE)),\"\",VLOOKUP(H1505,Database!$B$1:$C$5908,2,FALSE))","v":""},"",{"$error":"#N/A"},null,null,null,null,null,null,null,null,"",false,2,{"$f":"VLOOKUP(H1505,Database!$B$1:$E$4891,4,FALSE)","v":{"$error":"#N/A"}},true]
[1505,null,null,null,null,null,null,null,{"$f":"IF(ISERROR(VLOOKUP(H1510,Database!$B$1:$C$5908,2,FALSE)),\"\",VLOOKUP(H1510,Database!$B$1:$C$5908,2,FALSE))","v":""},"",{"$error":"#N/A"},null,null,null,null,null,null,null,null,"",false,2,{"$f":"VLOOKUP(H1510,Database!$B$1:$E$4891,4,FALSE)","v":{"$error":"#N/A"}},true]
[1510,null,null,null,null,null,null,null,{"$f":"IF(ISERROR(VLOOKUP(H1515,Database!$B$1:$C$5908,2,FALSE)),\"\",VLOOKUP(H1515,Database!$B$1:$C$5908,2,FALSE))","v":""},"",{"$error":"#N/A"},null,null,null,null,null,null,null,null,"",false,2,{"$f":"VLOOKUP(H1515,Database!$B$1:$E$4891,4,FALSE)","v":{"$error":"#N/A"}},true]
[1515,null,null,null,null,null,null,null,{"$f":"IF(ISERROR(VLOOKUP(H1520,Database!$B$1:$C$5908,2,FALSE)),\"\",VLOOKUP(H1520,Database!$B$1:$C$5908,2,FALSE))","v":""},"",{"$error":"#N/A"},null,null,null,null,null,null,null,null,"",false,2,{"$f":"VLOOKUP(H1520,Database!$B$1:$E$4891,4,FALSE)","v":{"$error":"#N/A"}},true]
[1521,null,null,null,null,null,null,null,{"$f":"IF(ISERROR(VLOOKUP(H1526,Database!$B$1:$C$5908,2,FALSE)),\"\",VLOOKUP(H1526,Database!$B$1:$C$5908,2,FALSE))","v":""},"",{"$error":"#N/A"},null,null,null,null,null,null,null,null,"",false,2,{"$f":"VLOOKUP(H1526,Database!$B$1:$E$4891,4,FALSE)","v":{"$error":"#N/A"}},true]
[1526,null,null,null,null,null,null,null,{"$f":"IF(ISERROR(VLOOKUP(H1531,Database!$B$1:$C$5908,2,FALSE)),\"\",VLOOKUP(H1531,Database!$B$1:$C$5908,2,FALSE))","v":""},"",{"$error":"#N/A"},null,null,null,null,null,null,null,null,"",false,2,{"$f":"VLOOKUP(H1531,Database!$B$1:$E$4891,4,FALSE)","v":{"$error":"#N/A"}},true]
[1529,null,null,null,null,null,null,null,{"$f":"IF(ISERROR(VLOOKUP(H1534,Database!$B$1:$C$5908,2,FALSE)),\"\",VLOOKUP(H1534,Database!$B$1:$C$5908,2,FALSE))","v":""},"",{"$error":"#N/A"},null,null,null,null,null,null,null,null,"",false,2,{"$f":"VLOOKUP(H1534,Database!$B$1:$E$4891,4,FALSE)","v":{"$error":"#N/A"}},true]
[1536,null,null,null,null,null,null,null,{"$f":"IF(ISERROR(VLOOKUP(H1541,Database!$B$1:$C$5908,2,FALSE)),\"\",VLOOKUP(H1541,Database!$B$1:$C$5908,2,FALSE))","v":""},"",{"$error":"#N/A"},null,null,null,null,null,null,null,null,"",false,2,{"$f":"VLOOKUP(H1541,Database!$B$1:$E$4891,4,FALSE)","v":{"$error":"#N/A"}},true]
[1541,null,null,null,null,null,null,null,{"$f":"IF(ISERROR(VLOOKUP(H1546,Database!$B$1:$C$5908,2,FALSE)),\"\",VLOOKUP(H1546,Database!$B$1:$C$5908,2,FALSE))","v":""},"",{"$error":"#N/A"},null,null,null,null,null,null,null,null,"",false,2,{"$f":"VLOOKUP(H1546,Database!$B$1:$E$4891,4,FALSE)","v":{"$error":"#N/A"}},true]
[1546,null,null,null,null,null,null,null,{"$f":"IF(ISERROR(VLOOKUP(H1551,Database!$B$1:$C$5908,2,FALSE)),\"\",VLOOKUP(H1551,Database!$B$1:$C$5908,2,FALSE))","v":""},"",{"$error":"#N/A"},null,null,null,null,null,null,null,null,"",false,2,{"$f":"VLOOKUP(H1551,Database!$B$1:$E$4891,4,FALSE)","v":{"$error":"#N/A"}},true]
[1548,null,null,null,null,null,null,null,{"$f":"IF(ISERROR(VLOOKUP(H1553,Database!$B$1:$C$5908,2,FALSE)),\"\",VLOOKUP(H1553,Database!$B$1:$C$5908,2,FALSE))","v":""},"",{"$error":"#N/A"},null,null,null,null,null,null,null,null,"",false,2,{"$f":"VLOOKUP(H1553,Database!$B$1:$E$4891,4,FALSE)","v":{"$error":"#N/A"}},true]
[1551,null,null,null,null,null,null,null,{"$f":"IF(ISERROR(VLOOKUP(H1556,Database!$B$1:$C$5908,2,FALSE)),\"\",VLOOKUP(H1556,Database!$B$1:$C$5908,2,FALSE))","v":""},"",{"$error":"#N/A"},null,null,null,null,null,null,null,null,"",false,2,{"$f":"VLOOKUP(H1556,Database!$B$1:$E$4891,4,FALSE)","v":{"$error":"#N/A"}},true]
[1557,null,null,null,null,null,null,null,{"$f":"IF(ISERROR(VLOOKUP(H1562,Database!$B$1:$C$5908,2,FALSE)),\"\",VLOOKUP(H1562,Database!$B$1:$C$5908,2,FALSE))","v":""},"",{"$error":"#N/A"},null,null,null,null,null,null,null,null,"",false,2,{"$f":"VLOOKUP(H1562,Database!$B$1:$E$4891,4,FALSE)","v":{"$error":"#N/A"}},true]
[1562,null,null,null,null,null,null,null,{"$f":"IF(ISERROR(VLOOKUP(H1567,Database!$B$1:$C$5908,2,FALSE)),\"\",VLOOKUP(H1567,Database!$B$1:$C$5908,2,FALSE))","v":""},"",{"$error":"#N/A"},null,null,null,null,null,null,null,null,"",false,2,{"$f":"VLOOKUP(H1567,Database!$B$1:$E$4891,4,FALSE)","v":{"$error":"#N/A"}},true]
[1567,null,null,null,null,null,null,null,{"$f":"IF(ISERROR(VLOOKUP(H1572,Database!$B$1:$C$5908,2,FALSE)),\"\",VLOOKUP(H1572,Database!$B$1:$C$5908,2,FALSE))","v":""},"",{"$error":"#N/A"},null,null,null,null,null,null,null,null,"",false,2,{"$f":"VLOOKUP(H1572,Database!$B$1:$E$4891,4,FALSE)","v":{"$error":"#N/A"}},true]
[1572,null,null,null,null,null,null,null,{"$f":"IF(ISERROR(VLOOKUP(H1577,Database!$B$1:$C$5908,2,FALSE)),\"\",VLOOKUP(H1577,Database!$B$1:$C$5908,2,FALSE))","v":""},"",{"$error":"#N/A"},null,null,null,null,null,null,null,null,"",false,2,{"$f":"VLOOKUP(H1577,Database!$B$1:$E$4891,4,FALSE)","v":{"$error":"#N/A"}},true]
[1577,null,null,null,null,null,null,null,{"$f":"IF(ISERROR(VLOOKUP(H1582,Database!$B$1:$C$5908,2,FALSE)),\"\",VLOOKUP(H1582,Database!$B$1:$C$5908,2,FALSE))","v":""},"",{"$error":"#N/A"},null,null,null,null,null,null,null,null,"",false,2,{"$f":"VLOOKUP(H1582,Database!$B$1:$E$4891,4,FALSE)","v":{"$error":"#N/A"}},true]
[1582,null,null,null,null,null,null,null,{"$f":"IF(ISERROR(VLOOKUP(H1587,Database!$B$1:$C$5908,2,FALSE)),\"\",VLOOKUP(H1587,Database!$B$1:$C$5908,2,FALSE))","v":""},"",{"$error":"#N/A"},null,null,null,null,null,null,null,null,"",false,2,{"$f":"VLOOKUP(H1587,Database!$B$1:$E$4891,4,FALSE)","v":{"$error":"#N/A"}},true]
[1586,null,null,null,null,null,null,null,{"$f":"IF(ISERROR(VLOOKUP(H1591,Database!$B$1:$C$5908,2,FALSE)),\"\",VLOOKUP(H1591,Database!$B$1:$C$5908,2,FALSE))","v":""},"",{"$error":"#N/A"},null,null,null,null,null,null,null,null,"",false,2,{"$f":"VLOOKUP(H1591,Database!$B$1:$E$4891,4,FALSE)","v":{"$error":"#N/A"}},true]
[1592,null,null,null,null,null,null,null,{"$f":"IF(ISERROR(VLOOKUP(H1597,Database!$B$1:$C$5908,2,FALSE)),\"\",VLOOKUP(H1597,Database!$B$1:$C$5908,2,FALSE))","v":""},"",{"$error":"#N/A"},null,null,null,null,null,null,null,null,"",false,2,{"$f":"VLOOKUP(H1597,Database!$B$1:$E$4891,4,FALSE)","v":{"$error":"#N/A"}},true]
[1598,null,null,null,null,null,null,null,{"$f":"IF(ISERROR(VLOOKUP(H1603,Database!$B$1:$C$5908,2,FALSE)),\"\",VLOOKUP(H1603,Database!$B$1:$C$5908,2,FALSE))","v":""},"",{"$error":"#N/A"},null,null,null,null,null,null,null,null,"",false,2,{"$f":"VLOOKUP(H1603,Database!$B$1:$E$4891,4,FALSE)","v":{"$error":"#N/A"}},true]
[1603,null,null,null,null,null,null,null,{"$f":"IF(ISERROR(VLOOKUP(H1608,Database!$B$1:$C$5908,2,FALSE)),\"\",VLOOKUP(H1608,Database!$B$1:$C$5908,2,FALSE))","v":""},"",{"$error":"#N/A"},null,null,null,null,null,null,null,null,"",false,{"$f":"IF(H1608=\"-\",\"\",IF(AND(T1608=0,U1608=FALSE,I1608=\"\"),1,2))","v":2},{"$f":"VLOOKUP(H1608,Database!$B$1:$E$4891,4,FALSE)","v":{"$error":"#N/A"}},true]
[1605,null,null,null,null,null,null,null,{"$f":"IF(ISERROR(VLOOKUP(H1610,Database!$B$1:$C$5908,2,FALSE)),\"\",VLOOKUP(H1610,Database!$B$1:$C$5908,2,FALSE))","v":""},"",{"$error":"#N/A"},null,null,null,null,null,null,null,null,"",false,2,{"$f":"VLOOKUP(H1610,Database!$B$1:$E$4891,4,FALSE)","v":{"$error":"#N/A"}},true]
[1608,null,null,null,null,null,null,null,{"$f":"IF(ISERROR(VLOOKUP(H1613,Database!$B$1:$C$5908,2,FALSE)),\"\",VLOOKUP(H1613,Database!$B$1:$C$5908,2,FALSE))","v":""},"",{"$error":"#N/A"},null,null,null,null,null,null,null,null,"",false,2,{"$f":"VLOOKUP(H1613,Database!$B$1:$E$4891,4,FALSE)","v":{"$error":"#N/A"}},true]
[1613,null,null,null,null,null,null,null,{"$f":"IF(ISERROR(VLOOKUP(H1618,Database!$B$1:$C$5908,2,FALSE)),\"\",VLOOKUP(H1618,Database!$B$1:$C$5908,2,FALSE))","v":""},"",{"$error":"#N/A"},null,null,null,null,null,null,null,null,"",false,2,{"$f":"VLOOKUP(H1618,Database!$B$1:$E$4891,4,FALSE)","v":{"$error":"#N/A"}},true]
[1619,null,null,null,null,null,null,null,{"$f":"IF(ISERROR(VLOOKUP(H1624,Database!$B$1:$C$5908,2,FALSE)),\"\",VLOOKUP(H1624,Database!$B$1:$C$5908,2,FALSE))","v":""},"",{"$error":"#N/A"},null,null,null,null,null,null,null,null,"",false,2,{"$f":"VLOOKUP(H1624,Database!$B$1:$E$4891,4,FALSE)","v":{"$error":"#N/A"}},true]
[1624,null,null,null,null,null,null,null,{"$f":"IF(ISERROR(VLOOKUP(H1629,Database!$B$1:$C$5908,2,FALSE)),\"\",VLOOKUP(H1629,Database!$B$1:$C$5908,2,FALSE))","v":""},"",{"$error":"#N/A"},null,null,null,null,null,null,null,null,"",false,2,{"$f":"VLOOKUP(H1629,Database!$B$1:$E$4891,4,FALSE)","v":{"$error":"#N/A"}},true]
[1628,null,null,null,null,null,null,null,{"$f":"IF(ISERROR(VLOOKUP(H1633,Database!$B$1:$C$5908,2,FALSE)),\"\",VLOOKUP(H1633,Database!$B$1:$C$5908,2,FALSE))","v":""},"",{"$error":"#N/A"},null,null,null,null,null,null,null,null,"",false,2,{"$f":"VLOOKUP(H1633,Database!$B$1:$E$4891,4,FALSE)","v":{"$error":"#N/A"}},true]
[1634,null,null,null,null,null,null,null,{"$f":"IF(ISERROR(VLOOKUP(H1639,Database!$B$1:$C$5908,2,FALSE)),\"\",VLOOKUP(H1639,Database!$B$1:$C$5908,2,FALSE))","v":""},"",{"$error":"#N/A"},null,null,null,null,null,null,null,null,"",false,2,{"$f":"VLOOKUP(H1639,Database!$B$1:$E$4891,4,FALSE)","v":{"$error":"#N/A"}},true]
[1639,null,null,null,null,null,null,null,{"$f":"IF(ISERROR(VLOOKUP(H1644,Database!$B$1:$C$5908,2,FALSE)),\"\",VLOOKUP(H1644,Database!$B$1:$C$5908,2,FALSE))","v":""},"",{"$error":"#N/A"},null,null,null,null,null,null,null,null,"",false,2,{"$f":"VLOOKUP(H1644,Database!$B$1:$E$4891,4,FALSE)","v":{"$error":"#N/A"}},true]
[1643,null,null,null,null,null,null,null,{"$f":"IF(ISERROR(VLOOKUP(H1648,Database!$B$1:$C$5908,2,FALSE)),\"\",VLOOKUP(H1648,Database!$B$1:$C$5908,2,FALSE))","v":""},"",{"$error":"#N/A"},null,null,null,null,null,null,null,null,"",false,2,{"$f":"VLOOKUP(H1648,Database!$B$1:$E$4891,4,FALSE)","v":{"$error":"#N/A"}},true]
[1649,null,null,null,null,null,null,null,{"$f":"IF(ISERROR(VLOOKUP(H1654,Database!$B$1:$C$5908,2,FALSE)),\"\",VLOOKUP(H1654,Database!$B$1:$C$5908,2,FALSE))","v":""},"",{"$error":"#N/A"},null,null,null,null,null,null,null,null,"",false,2,{"$f":"VLOOKUP(H1654,Database!$B$1:$E$4891,4,FALSE)","v":{"$error":"#N/A"}},true]
[1654,null,null,null,null,null,null,null,{"$f":"IF(ISERROR(VLOOKUP(H1659,Database!$B$1:$C$5908,2,FALSE)),\"\",VLOOKUP(H1659,Database!$B$1:$C$5908,2,FALSE))","v":""},"",{"$error":"#N/A"},null,null,null,null,null,null,null,null,"",false,2,{"$f":"VLOOKUP(H1659,Database!$B$1:$E$4891,4,FALSE)","v":{"$error":"#N/A"}},true]
[1660,null,null,null,null,null,null,null,{"$f":"IF(ISERROR(VLOOKUP(H1665,Database!$B$1:$C$5908,2,FALSE)),\"\",VLOOKUP(H1665,Database!$B$1:$C$5908,2,FALSE))","v":""},"",{"$error":"#N/A"},null,null,null,null,null,null,null,null,"",false,2,{"$f":"VLOOKUP(H1665,Database!$B$1:$E$4891,4,FALSE)","v":{"$error":"#N/A"}},true]
[1662,null,null,null,null,null,null,null,{"$f":"IF(ISERROR(VLOOKUP(H1667,Database!$B$1:$C$5908,2,FALSE)),\"\",VLOOKUP(H1667,Database!$B$1:$C$5908,2,FALSE))","v":""},"",{"$error":"#N/A"},null,null,null,null,null,null,null,null,"",false,2,{"$f":"VLOOKUP(H1667,Database!$B$1:$E$4891,4,FALSE)","v":{"$error":"#N/A"}},true]
[1669,null,null,null,null,null,null,null,{"$f":"IF(ISERROR(VLOOKUP(H1674,Database!$B$1:$C$5908,2,FALSE)),\"\",VLOOKUP(H1674,Database!$B$1:$C$5908,2,FALSE))","v":""},"",{"$error":"#N/A"},null,null,null,null,null,null,null,null,"",false,2,{"$f":"VLOOKUP(H1674,Database!$B$1:$E$4891,4,FALSE)","v":{"$error":"#N/A"}},true]
[1670,null,null,null,null,null,null,null,{"$f":"IF(ISERROR(VLOOKUP(H1675,Database!$B$1:$C$5908,2,FALSE)),\"\",VLOOKUP(H1675,Database!$B$1:$C$5908,2,FALSE))","v":""},"",{"$error":"#N/A"},null,null,null,null,null,null,null,null,"",false,2,{"$f":"VLOOKUP(H1675,Database!$B$1:$E$4891,4,FALSE)","v":{"$error":"#N/A"}},true]
[1675,null,null,null,null,null,null,null,{"$f":"IF(ISERROR(VLOOKUP(H1680,Database!$B$1:$C$5908,2,FALSE)),\"\",VLOOKUP(H1680,Database!$B$1:$C$5908,2,FALSE))","v":""},"",{"$error":"#N/A"},null,null,null,null,null,null,null,null,"",false,2,{"$f":"VLOOKUP(H1680,Database!$B$1:$E$4891,4,FALSE)","v":{"$error":"#N/A"}},true]
[1681,null,null,null,null,null,null,null,{"$f":"IF(ISERROR(VLOOKUP(H1686,Database!$B$1:$C$5908,2,FALSE)),\"\",VLOOKUP(H1686,Database!$B$1:$C$5908,2,FALSE))","v":""},"",{"$error":"#N/A"},null,null,null,null,null,null,null,null,"",false,2,{"$f":"VLOOKUP(H1686,Database!$B$1:$E$4891,4,FALSE)","v":{"$error":"#N/A"}},true]
[1685,null,null,null,null,null,null,null,{"$f":"IF(ISERROR(VLOOKUP(H1690,Database!$B$1:$C$5908,2,FALSE)),\"\",VLOOKUP(H1690,Database!$B$1:$C$5908,2,FALSE))","v":""},"",{"$error":"#N/A"},null,null,null,null,null,null,null,null,"",false,2,{"$f":"VLOOKUP(H1690,Database!$B$1:$E$4891,4,FALSE)","v":{"$error":"#N/A"}},true]
[1690,null,null,null,null,null,null,null,{"$f":"IF(ISERROR(VLOOKUP(H1695,Database!$B$1:$C$5908,2,FALSE)),\"\",VLOOKUP(H1695,Database!$B$1:$C$5908,2,FALSE))","v":""},"",{"$error":"#N/A"},null,null,null,null,null,null,null,null,"",false,2,{"$f":"VLOOKUP(H1695,Database!$B$1:$E$4891,4,FALSE)","v":{"$error":"#N/A"}},true]
[1696,null,null,null,null,null,null,null,{"$f":"IF(ISERROR(VLOOKUP(H1701,Database!$B$1:$C$5908,2,FALSE)),\"\",VLOOKUP(H1701,Database!$B$1:$C$5908,2,FALSE))","v":""},"",{"$error":"#N/A"},null,null,null,null,null,null,null,null,"",false,2,{"$f":"VLOOKUP(H1701,Database!$B$1:$E$4891,4,FALSE)","v":{"$error":"#N/A"}},true]
[1700,null,null,null,null,null,null,null,{"$f":"IF(ISERROR(VLOOKUP(H1705,Database!$B$1:$C$5908,2,FALSE)),\"\",VLOOKUP(H1705,Database!$B$1:$C$5908,2,FALSE))","v":""},"",{"$error":"#N/A"},null,null,null,null,null,null,null,null,"",false,2,{"$f":"VLOOKUP(H1705,Database!$B$1:$E$4891,4,FALSE)","v":{"$error":"#N/A"}},true]
[1705,null,null,null,null,null,null,null,{"$f":"IF(ISERROR(VLOOKUP(H1710,Database!$B$1:$C$5908,2,FALSE)),\"\",VLOOKUP(H1710,Database!$B$1:$C$5908,2,FALSE))","v":""},"",{"$error":"#N/A"},null,null,null,null,null,null,null,null,"",false,2,{"$f":"VLOOKUP(H1710,Database!$B$1:$E$4891,4,FALSE)","v":{"$error":"#N/A"}},true]
[1711,null,null,null,null,null,null,null,{"$f":"IF(ISERROR(VLOOKUP(H1716,Database!$B$1:$C$5908,2,FALSE)),\"\",VLOOKUP(H1716,Database!$B$1:$C$5908,2,FALSE))","v":""},"",{"$error":"#N/A"},null,null,null,null,null,null,null,null,"",false,2,{"$f":"VLOOKUP(H1716,Database!$B$1:$E$4891,4,FALSE)","v":{"$error":"#N/A"}},true]
[1716,null,null,null,null,null,null,null,{"$f":"IF(ISERROR(VLOOKUP(H1721,Database!$B$1:$C$5908,2,FALSE)),\"\",VLOOKUP(H1721,Database!$B$1:$C$5908,2,FALSE))","v":""},"",{"$error":"#N/A"},null,null,null,null,null,null,null,null,"",false,2,{"$f":"VLOOKUP(H1721,Database!$B$1:$E$4891,4,FALSE)","v":{"$error":"#N/A"}},true]
[1719,null,null,null,null,null,null,null,{"$f":"IF(ISERROR(VLOOKUP(H1724,Database!$B$1:$C$5908,2,FALSE)),\"\",VLOOKUP(H1724,Database!$B$1:$C$5908,2,FALSE))","v":""},"",{"$error":"#N/A"},null,null,null,null,null,null,null,null,"",false,2,{"$f":"VLOOKUP(H1724,Database!$B$1:$E$4891,4,FALSE)","v":{"$error":"#N/A"}},true]
[1726,null,null,null,null,null,null,null,{"$f":"IF(ISERROR(VLOOKUP(H1731,Database!$B$1:$C$5908,2,FALSE)),\"\",VLOOKUP(H1731,Database!$B$1:$C$5908,2,FALSE))","v":""},"",{"$error":"#N/A"},null,null,null,null,null,null,null,null,"",false,2,{"$f":"VLOOKUP(H1731,Database!$B$1:$E$4891,4,FALSE)","v":{"$error":"#N/A"}},true]
[1731,null,null,null,null,null,null,null,{"$f":"IF(ISERROR(VLOOKUP(H1736,Database!$B$1:$C$5908,2,FALSE)),\"\",VLOOKUP(H1736,Database!$B$1:$C$5908,2,FALSE))","v":""},"",{"$error":"#N/A"},null,null,null,null,null,null,null,null,"",false,{"$f":"IF(H1736=\"-\",\"\",IF(AND(T1736=0,U1736=FALSE,I1736=\"\"),1,2))","v":2},{"$f":"VLOOKUP(H1736,Database!$B$1:$E$4891,4,FALSE)","v":{"$error":"#N/A"}},true]
[1732,null,null,null,null,null,null,null,{"$f":"IF(ISERROR(VLOOKUP(H1737,Database!$B$1:$C$5908,2,FALSE)),\"\",VLOOKUP(H1737,Database!$B$1:$C$5908,2,FALSE))","v":""},"",{"$error":"#N/A"},null,null,null,null,null,null,null,null,"",false,2,{"$f":"VLOOKUP(H1737,Database!$B$1:$E$4891,4,FALSE)","v":{"$error":"#N/A"}},true]
[1738,null,null,null,null,null,null,null,{"$f":"IF(ISERROR(VLOOKUP(H1743,Database!$B$1:$C$5908,2,FALSE)),\"\",VLOOKUP(H1743,Database!$B$1:$C$5908,2,FALSE))","v":""},"",{"$error":"#N/A"},null,null,null,null,null,null,null,null,"",false,2,{"$f":"VLOOKUP(H1743,Database!$B$1:$E$4891,4,FALSE)","v":{"$error":"#N/A"}},true]
[1741,null,null,null,null,null,null,null,{"$f":"IF(ISERROR(VLOOKUP(H1746,Database!$B$1:$C$5908,2,FALSE)),\"\",VLOOKUP(H1746,Database!$B$1:$C$5908,2,FALSE))","v":""},"",{"$error":"#N/A"},null,null,null,null,null,null,null,null,"",false,2,{"$f":"VLOOKUP(H1746,Database!$B$1:$E$4891,4,FALSE)","v":{"$error":"#N/A"}},true]
[1747,null,null,null,null,null,null,null,{"$f":"IF(ISERROR(VLOOKUP(H1752,Database!$B$1:$C$5908,2,FALSE)),\"\",VLOOKUP(H1752,Database!$B$1:$C$5908,2,FALSE))","v":""},"",{"$error":"#N/A"},null,null,null,null,null,null,null,null,"",false,2,{"$f":"VLOOKUP(H1752,Database!$B$1:$E$4891,4,FALSE)","v":{"$error":"#N/A"}},true]
[1752,null,null,null,null,null,null,null,{"$f":"IF(ISERROR(VLOOKUP(H1757,Database!$B$1:$C$5908,2,FALSE)),\"\",VLOOKUP(H1757,Database!$B$1:$C$5908,2,FALSE))","v":""},"",{"$error":"#N/A"},null,null,null,null,null,null,null,null,"",false,2,{"$f":"VLOOKUP(H1757,Database!$B$1:$E$4891,4,FALSE)","v":{"$error":"#N/A"}},true]
[1757,null,null,null,null,null,null,null,{"$f":"IF(ISERROR(VLOOKUP(H1762,Database!$B$1:$C$5908,2,FALSE)),\"\",VLOOKUP(H1762,Database!$B$1:$C$5908,2,FALSE))","v":""},"",{"$error":"#N/A"},null,null,null,null,null,null,null,null,"",false,2,{"$f":"VLOOKUP(H1762,Database!$B$1:$E$4891,4,FALSE)","v":{"$error":"#N/A"}},true]
[1762,null,null,null,null,null,null,null,{"$f":"IF(ISERROR(VLOOKUP(H1767,Database!$B$1:$C$5908,2,FALSE)),\"\",VLOOKUP(H1767,Database!$B$1:$C$5908,2,FALSE))","v":""},"",{"$error":"#N/A"},null,null,null,null,null,null,null,null,"",false,2,{"$f":"VLOOKUP(H1767,Database!$B$1:$E$4891,4,FALSE)","v":{"$error":"#N/A"}},true]
[1767,null,null,null,null,null,null,null,{"$f":"IF(ISERROR(VLOOKUP(H1772,Database!$B$1:$C$5908,2,FALSE)),\"\",VLOOKUP(H1772,Database!$B$1:$C$5908,2,FALSE))","v":""},"",{"$error":"#N/A"},null,null,null,null,null,null,null,null,"",false,2,{"$f":"VLOOKUP(H1772,Database!$B$1:$E$4891,4,FALSE)","v":{"$error":"#N/A"}},true]
[1773,null,null,null,null,null,null,null,{"$f":"IF(ISERROR(VLOOKUP(H1778,Database!$B$1:$C$5908,2,FALSE)),\"\",VLOOKUP(H1778,Database!$B$1:$C$5908,2,FALSE))","v":""},"",{"$error":"#N/A"},null,null,null,null,null,null,null,null,"",false,2,{"$f":"VLOOKUP(H1778,Database!$B$1:$E$4891,4,FALSE)","v":{"$error":"#N/A"}},true]
[1776,null,null,null,null,null,null,null,{"$f":"IF(ISERROR(VLOOKUP(H1781,Database!$B$1:$C$5908,2,FALSE)),\"\",VLOOKUP(H1781,Database!$B$1:$C$5908,2,FALSE))","v":""},"",{"$error":"#N/A"},null,null,null,null,null,null,null,null,"",false,2,{"$f":"VLOOKUP(H1781,Database!$B$1:$E$4891,4,FALSE)","v":{"$error":"#N/A"}},true]
[1783,null,null,null,null,null,null,null,{"$f":"IF(ISERROR(VLOOKUP(H1788,Database!$B$1:$C$5908,2,FALSE)),\"\",VLOOKUP(H1788,Database!$B$1:$C$5908,2,FALSE))","v":""},"",{"$error":"#N/A"},null,null,null,null,null,null,null,null,"",false,2,{"$f":"VLOOKUP(H1788,Database!$B$1:$E$4891,4,FALSE)","v":{"$error":"#N/A"}},true]
[1788,null,null,null,null,null,null,null,{"$f":"IF(ISERROR(VLOOKUP(H1793,Database!$B$1:$C$5908,2,FALSE)),\"\",VLOOKUP(H1793,Database!$B$1:$C$5908,2,FALSE))","v":""},"",{"$error":"#N/A"},null,null,null,null,null,null,null,null,"",false,2,{"$f":"VLOOKUP(H1793,Database!$B$1:$E$4891,4,FALSE)","v":{"$error":"#N/A"}},true]
[1793,null,null,null,null,null,null,null,{"$f":"IF(ISERROR(VLOOKUP(H1798,Database!$B$1:$C$5908,2,FALSE)),\"\",VLOOKUP(H1798,Database!$B$1:$C$5908,2,FALSE))","v":""},"",{"$error":"#N/A"},null,null,null,null,null,null,null,null,"",false,2,{"$f":"VLOOKUP(H1798,Database!$B$1:$E$4891,4,FALSE)","v":{"$error":"#N/A"}},true]
[1795,null,null,null,null,null,null,null,{"$f":"IF(ISERROR(VLOOKUP(H1800,Database!$B$1:$C$5908,2,FALSE)),\"\",VLOOKUP(H1800,Database!$B$1:$C$5908,2,FALSE))","v":""},"",{"$error":"#N/A"},null,null,null,null,null,null,null,null,"",false,{"$f":"IF(H1800=\"-\",\"\",IF(AND(T1800=0,U1800=FALSE,I1800=\"\"),1,2))","v":2},{"$f":"VLOOKUP(H1800,Database!$B$1:$E$4891,4,FALSE)","v":{"$error":"#N/A"}},true]
[1798,null,null,null,null,null,null,null,{"$f":"IF(ISERROR(VLOOKUP(H1803,Database!$B$1:$C$5908,2,FALSE)),\"\",VLOOKUP(H1803,Database!$B$1:$C$5908,2,FALSE))","v":""},"",{"$error":"#N/A"},null,null,null,null,null,null,null,null,"",false,2,{"$f":"VLOOKUP(H1803,Database!$B$1:$E$4891,4,FALSE)","v":{"$error":"#N/A"}},true]
[1803,null,null,null,null,null,null,null,{"$f":"IF(ISERROR(VLOOKUP(H1808,Database!$B$1:$C$5908,2,FALSE)),\"\",VLOOKUP(H1808,Database!$B$1:$C$5908,2,FALSE))","v":""},"",{"$error":"#N/A"},null,null,null,null,null,null,null,null,"",false,2,{"$f":"VLOOKUP(H1808,Database!$B$1:$E$4891,4,FALSE)","v":{"$error":"#N/A"}},true]
[1809,null,null,null,null,null,null,null,{"$f":"IF(ISERROR(VLOOKUP(H1814,Database!$B$1:$C$5908,2,FALSE)),\"\",VLOOKUP(H1814,Database!$B$1:$C$5908,2,FALSE))","v":""},"",{"$error":"#N/A"},null,null,null,null,null,null,null,null,"",false,2,{"$f":"VLOOKUP(H1814,Database!$B$1:$E$4891,4,FALSE)","v":{"$error":"#N/A"}},true]
[1814,null,null,null,null,null,null,null,{"$f":"IF(ISERROR(VLOOKUP(H1819,Database!$B$1:$C$5908,2,FALSE)),\"\",VLOOKUP(H1819,Database!$B$1:$C$5908,2,FALSE))","v":""},"",{"$error":"#N/A"},null,null,null,null,null,null,null,null,"",false,2,{"$f":"VLOOKUP(H1819,Database!$B$1:$E$4891,4,FALSE)","v":{"$error":"#N/A"}},true]
[1819,null,null,null,null,null,null,null,{"$f":"IF(ISERROR(VLOOKUP(H1824,Database!$B$1:$C$5908,2,FALSE)),\"\",VLOOKUP(H1824,Database!$B$1:$C$5908,2,FALSE))","v":""},"",{"$error":"#N/A"},null,null,null,null,null,null,null,null,"",false,2,{"$f":"VLOOKUP(H1824,Database!$B$1:$E$4891,4,FALSE)","v":{"$error":"#N/A"}},true]
[1824,null,null,null,null,null,null,null,{"$f":"IF(ISERROR(VLOOKUP(H1829,Database!$B$1:$C$5908,2,FALSE)),\"\",VLOOKUP(H1829,Database!$B$1:$C$5908,2,FALSE))","v":""},"",{"$error":"#N/A"},null,null,null,null,null,null,null,null,"",false,2,{"$f":"VLOOKUP(H1829,Database!$B$1:$E$4891,4,FALSE)","v":{"$error":"#N/A"}},true]
[1829,null,null,null,null,null,null,null,{"$f":"IF(ISERROR(VLOOKUP(H1834,Database!$B$1:$C$5908,2,FALSE)),\"\",VLOOKUP(H1834,Database!$B$1:$C$5908,2,FALSE))","v":""},"",{"$error":"#N/A"},null,null,null,null,null,null,null,null,"",false,2,{"$f":"VLOOKUP(H1834,Database!$B$1:$E$4891,4,FALSE)","v":{"$error":"#N/A"}},true]
[1833,null,null,null,null,null,null,null,{"$f":"IF(ISERROR(VLOOKUP(H1838,Database!$B$1:$C$5908,2,FALSE)),\"\",VLOOKUP(H1838,Database!$B$1:$C$5908,2,FALSE))","v":""},"",{"$error":"#N/A"},null,null,null,null,null,null,null,null,"",false,2,{"$f":"VLOOKUP(H1838,Database!$B$1:$E$4891,4,FALSE)","v":{"$error":"#N/A"}},true]
[1839,null,null,null,null,null,null,null,{"$f":"IF(ISERROR(VLOOKUP(H1844,Database!$B$1:$C$5908,2,FALSE)),\"\",VLOOKUP(H1844,Database!$B$1:$C$5908,2,FALSE))","v":""},"",{"$error":"#N/A"},null,null,null,null,null,null,null,null,"",false,2,{"$f":"VLOOKUP(H1844,Database!$B$1:$E$4891,4,FALSE)","v":{"$error":"#N/A"}},true]
[1844,null,null,null,null,null,null,null,{"$f":"IF(ISERROR(VLOOKUP(H1849,Database!$B$1:$C$5908,2,FALSE)),\"\",VLOOKUP(H1849,Database!$B$1:$C$5908,2,FALSE))","v":""},"",{"$error":"#N/A"},null,null,null,null,null,null,null,null,"",false,2,{"$f":"VLOOKUP(H1849,Database!$B$1:$E$4891,4,FALSE)","v":{"$error":"#N/A"}},true]
[1850,null,null,null,null,null,null,null,{"$f":"IF(ISERROR(VLOOKUP(H1855,Database!$B$1:$C$5908,2,FALSE)),\"\",VLOOKUP(H1855,Database!$B$1:$C$5908,2,FALSE))","v":""},"",{"$error":"#N/A"},null,null,null,null,null,null,null,null,"",false,2,{"$f":"VLOOKUP(H1855,Database!$B$1:$E$4891,4,FALSE)","v":{"$error":"#N/A"}},true]
[1852,null,null,null,null,null,null,null,{"$f":"IF(ISERROR(VLOOKUP(H1857,Database!$B$1:$C$5908,2,FALSE)),\"\",VLOOKUP(H1857,Database!$B$1:$C$5908,2,FALSE))","v":""},"",{"$error":"#N/A"},null,null,null,null,null,null,null,null,"",false,2,{"$f":"VLOOKUP(H1857,Database!$B$1:$E$4891,4,FALSE)","v":{"$error":"#N/A"}},true]
[1855,null,null,null,null,null,null,null,{"$f":"IF(ISERROR(VLOOKUP(H1860,Database!$B$1:$C$5908,2,FALSE)),\"\",VLOOKUP(H1860,Database!$B$1:$C$5908,2,FALSE))","v":""},"",{"$error":"#N/A"},null,null,null,null,null,null,null,null,"",false,2,{"$f":"VLOOKUP(H1860,Database!$B$1:$E$4891,4,FALSE)","v":{"$error":"#N/A"}},true]
[1860,null,null,null,null,null,null,null,{"$f":"IF(ISERROR(VLOOKUP(H1865,Database!$B$1:$C$5908,2,FALSE)),\"\",VLOOKUP(H1865,Database!$B$1:$C$5908,2,FALSE))","v":""},"",{"$error":"#N/A"},null,null,null,null,null,null,null,null,"",false,2,{"$f":"VLOOKUP(H1865,Database!$B$1:$E$4891,4,FALSE)","v":{"$error":"#N/A"}},true]
[1865,null,null,null,null,null,null,null,{"$f":"IF(ISERROR(VLOOKUP(H1870,Database!$B$1:$C$5908,2,FALSE)),\"\",VLOOKUP(H1870,Database!$B$1:$C$5908,2,FALSE))","v":""},"",{"$error":"#N/A"},null,null,null,null,null,null,null,null,"",false,2,{"$f":"VLOOKUP(H1870,Database!$B$1:$E$4891,4,FALSE)","v":{"$error":"#N/A"}},true]
[1871,null,null,null,null,null,null,null,{"$f":"IF(ISERROR(VLOOKUP(H1876,Database!$B$1:$C$5908,2,FALSE)),\"\",VLOOKUP(H1876,Database!$B$1:$C$5908,2,FALSE))","v":""},"",{"$error":"#N/A"},null,null,null,null,null,null,null,null,"",false,2,{"$f":"VLOOKUP(H1876,Database!$B$1:$E$4891,4,FALSE)","v":{"$error":"#N/A"}},true]
[1875,null,null,null,null,null,null,null,{"$f":"IF(ISERROR(VLOOKUP(H1880,Database!$B$1:$C$5908,2,FALSE)),\"\",VLOOKUP(H1880,Database!$B$1:$C$5908,2,FALSE))","v":""},"",{"$error":"#N/A"},null,null,null,null,null,null,null,null,"",false,2,{"$f":"VLOOKUP(H1880,Database!$B$1:$E$4891,4,FALSE)","v":{"$error":"#N/A"}},true]
[1881,null,null,null,null,null,null,null,{"$f":"IF(ISERROR(VLOOKUP(H1886,Database!$B$1:$C$5908,2,FALSE)),\"\",VLOOKUP(H1886,Database!$B$1:$C$5908,2,FALSE))","v":""},"",{"$error":"#N/A"},null,null,null,null,null,null,null,null,"",false,2,{"$f":"VLOOKUP(H1886,Database!$B$1:$E$4891,4,FALSE)","v":{"$error":"#N/A"}},true]
[1886,null,null,null,null,null,null,null,{"$f":"IF(ISERROR(VLOOKUP(H1891,Database!$B$1:$C$5908,2,FALSE)),\"\",VLOOKUP(H1891,Database!$B$1:$C$5908,2,FALSE))","v":""},"",{"$error":"#N/A"},null,null,null,null,null,null,null,null,"",false,2,{"$f":"VLOOKUP(H1891,Database!$B$1:$E$4891,4,FALSE)","v":{"$error":"#N/A"}},true]
[1890,null,null,null,null,null,null,null,{"$f":"IF(ISERROR(VLOOKUP(H1895,Database!$B$1:$C$5908,2,FALSE)),\"\",VLOOKUP(H1895,Database!$B$1:$C$5908,2,FALSE))","v":""},"",{"$error":"#N/A"},null,null,null,null,null,null,null,null,"",false,2,{"$f":"VLOOKUP(H1895,Database!$B$1:$E$4891,4,FALSE)","v":{"$error":"#N/A"}},true]
[1896,null,null,null,null,null,null,null,{"$f":"IF(ISERROR(VLOOKUP(H1901,Database!$B$1:$C$5908,2,FALSE)),\"\",VLOOKUP(H1901,Database!$B$1:$C$5908,2,FALSE))","v":""},"",{"$error":"#N/A"},null,null,null,null,null,null,null,null,"",false,2,{"$f":"VLOOKUP(H1901,Database!$B$1:$E$4891,4,FALSE)","v":{"$error":"#N/A"}},true]
[1901,null,null,null,null,null,null,null,{"$f":"IF(ISERROR(VLOOKUP(H1906,Database!$B$1:$C$5908,2,FALSE)),\"\",VLOOKUP(H1906,Database!$B$1:$C$5908,2,FALSE))","v":""},"",{"$error":"#N/A"},null,null,null,null,null,null,null,null,"",false,2,{"$f":"VLOOKUP(H1906,Database!$B$1:$E$4891,4,FALSE)","v":{"$error":"#N/A"}},true]
[1906,null,null,null,null,null,null,null,{"$f":"IF(ISERROR(VLOOKUP(H1911,Database!$B$1:$C$5908,2,FALSE)),\"\",VLOOKUP(H1911,Database!$B$1:$C$5908,2,FALSE))","v":""},"",{"$error":"#N/A"},null,null,null,null,null,null,null,null,"",false,2,{"$f":"VLOOKUP(H1911,Database!$B$1:$E$4891,4,FALSE)","v":{"$error":"#N/A"}},true]
[1909,null,null,null,null,null,null,null,{"$f":"IF(ISERROR(VLOOKUP(H1914,Database!$B$1:$C$5908,2,FALSE)),\"\",VLOOKUP(H1914,Database!$B$1:$C$5908,2,FALSE))","v":""},"",{"$error":"#N/A"},null,null,null,null,null,null,null,null,"",false,2,{"$f":"VLOOKUP(H1914,Database!$B$1:$E$4891,4,FALSE)","v":{"$error":"#N/A"}},true]
[1916,null,null,null,null,null,null,null,{"$f":"IF(ISERROR(VLOOKUP(H1921,Database!$B$1:$C$5908,2,FALSE)),\"\",VLOOKUP(H1921,Database!$B$1:$C$5908,2,FALSE))","v":""},"",{"$error":"#N/A"},null,null,null,null,null,null,null,null,"",false,2,{"$f":"VLOOKUP(H1921,Database!$B$1:$E$4891,4,FALSE)","v":{"$error":"#N/A"}},true]
[1917,null,null,null,null,null,null,null,{"$f":"IF(ISERROR(VLOOKUP(H1922,Database!$B$1:$C$5908,2,FALSE)),\"\",VLOOKUP(H1922,Database!$B$1:$C$5908,2,FALSE))","v":""},"",{"$error":"#N/A"},null,null,null,null,null,null,null,null,"",false,2,{"$f":"VLOOKUP(H1922,Database!$B$1:$E$4891,4,FALSE)","v":{"$error":"#N/A"}},true]
[{"$f":"A1926+1","v":1922},null,null,null,null,null,null,null,{"$f":"IF(ISERROR(VLOOKUP(H1927,Database!$B$1:$C$5908,2,FALSE)),\"\",VLOOKUP(H1927,Database!$B$1:$C$5908,2,FALSE))","v":""},{"$f":"IF(V1927=1,1,IF(AND(T1927=0,F1927=\"SSB\",V1927<>\"\"),2,IF(AND(T1927=0,F1927=\"FM\",V1927<>\"\"),2,IF(AND(T1927=0,F1927=\"DIGI\",V1927<>\"\"),3,IF(AND(T1927=0,F1927=\"CW\",V1927<>\"\"),5,IF(H1927=\"-\",\"\",T1927))))))","v":""},{"$f":"IF(H1927=\"-\",\"\",IF(AND(H1927<>\"\",X1927=TRUE),\"INDIPENDENT\",IF(W1927=0,\"SCRIVI NOME NELLE NOTE\",W1927)))","v":{"$error":"#N/A"}},null,null,null,null,null,null,null,null,{"$f":"IF(H1927=\"\",\"\",IF(H1927=$R$6,25,IF(OR(H1927=$R$7,H1927=$R$8,H1927=$R$9,H1927=$R$10,H1927=$R$11,H1927=$R$12,H1927=$R$13,H1927=$R$14,H1927=$R$15,H1927=$R$16,H1927=$R$17,H1927=$R$18,H1927=$R$19,H1927=$R$20,H1927=$R$21,H1927=$R$22,H1927=$R$23),15,0)))","v":""},{"$f":"ISERROR(I1927)","v":false},2,{"$f":"VLOOKUP(H1927,Database!$B$1:$E$4891,4,FALSE)","v":{"$error":"#N/A"}},{"$f":"ISERROR(W1927)","v":true}]
[1928,null,null,null,null,null,null,null,{"$f":"IF(ISERROR(VLOOKUP(H1933,Database!$B$1:$C$5908,2,FALSE)),\"\",VLOOKUP(H1933,Database!$B$1:$C$5908,2,FALSE))","v":""},"",{"$error":"#N/A"},null,null,null,null,null,null,null,null,"",false,2,{"$f":"VLOOKUP(H1933,Database!$B$1:$E$4891,4,FALSE)","v":{"$error":"#N/A"}},true]
[1932,null,null,null,null,null,null,null,{"$f":"IF(ISERROR(VLOOKUP(H1937,Database!$B$1:$C$5908,2,FALSE)),\"\",VLOOKUP(H1937,Database!$B$1:$C$5908,2,FALSE))","v":""},"",{"$error":"#N/A"},null,null,null,null,null,null,null,null,"",false,2,{"$f":"VLOOKUP(H1937,Database!$B$1:$E$4891,4,FALSE)","v":{"$error":"#N/A"}},true]
[1937,null,null,null,null,null,null,null,{"$f":"IF(ISERROR(VLOOKUP(H1942,Database!$B$1:$C$5908,2,FALSE)),\"\",VLOOKUP(H1942,Database!$B$1:$C$5908,2,FALSE))","v":""},"",{"$error":"#N/A"},null,null,null,null,null,null,null,null,"",false,2,{"$f":"VLOOKUP(H1942,Database!$B$1:$E$4891,4,FALSE)","v":{"$error":"#N/A"}},true]
[1943,null,null,null,null,null,null,null,{"$f":"IF(ISERROR(VLOOKUP(H1948,Database!$B$1:$C$5908,2,FALSE)),\"\",VLOOKUP(H1948,Database!$B$1:$C$5908,2,FALSE))","v":""},"",{"$error":"#N/A"},null,null,null,null,null,null,null,null,"",false,2,{"$f":"VLOOKUP(H1948,Database!$B$1:$E$4891,4,FALSE)","v":{"$error":"#N/A"}},true]
[1947,null,null,null,null,null,null,null,{"$f":"IF(ISERROR(VLOOKUP(H1952,Database!$B$1:$C$5908,2,FALSE)),\"\",VLOOKUP(H1952,Database!$B$1:$C$5908,2,FALSE))","v":""},"",{"$error":"#N/A"},null,null,null,null,null,null,null,null,"",false,2,{"$f":"VLOOKUP(H1952,Database!$B$1:$E$4891,4,FALSE)","v":{"$error":"#N/A"}},true]
[1952,null,null,null,null,null,null,null,{"$f":"IF(ISERROR(VLOOKUP(H1957,Database!$B$1:$C$5908,2,FALSE)),\"\",VLOOKUP(H1957,Database!$B$1:$C$5908,2,FALSE))","v":""},"",{"$error":"#N/A"},null,null,null,null,null,null,null,null,"",false,2,{"$f":"VLOOKUP(H1957,Database!$B$1:$E$4891,4,FALSE)","v":{"$error":"#N/A"}},true]
[1958,null,null,null,null,null,null,null,{"$f":"IF(ISERROR(VLOOKUP(H1963,Database!$B$1:$C$5908,2,FALSE)),\"\",VLOOKUP(H1963,Database!$B$1:$C$5908,2,FALSE))","v":""},"",{"$error":"#N/A"},null,null,null,null,null,null,null,null,"",false,2,{"$f":"VLOOKUP(H1963,Database!$B$1:$E$4891,4,FALSE)","v":{"$error":"#N/A"}},true]
[1963,null,null,null,null,null,null,null,{"$f":"IF(ISERROR(VLOOKUP(H1968,Database!$B$1:$C$5908,2,FALSE)),\"\",VLOOKUP(H1968,Database!$B$1:$C$5908,2,FALSE))","v":""},"",{"$error":"#N/A"},null,null,null,null,null,null,null,null,"",false,2,{"$f":"VLOOKUP(H1968,Database!$B$1:$E$4891,4,FALSE)","v":{"$error":"#N/A"}},true]
[1966,null,null,null,null,null,null,null,{"$f":"IF(ISERROR(VLOOKUP(H1971,Database!$B$1:$C$5908,2,FALSE)),\"\",VLOOKUP(H1971,Database!$B$1:$C$5908,2,FALSE))","v":""},"",{"$error":"#N/A"},null,null,null,null,null,null,null,null,"",false,2,{"$f":"VLOOKUP(H1971,Database!$B$1:$E$4891,4,FALSE)","v":{"$error":"#N/A"}},true]
[1973,null,null,null,null,null,null,null,{"$f":"IF(ISERROR(VLOOKUP(H1978,Database!$B$1:$C$5908,2,FALSE)),\"\",VLOOKUP(H1978,Database!$B$1:$C$5908,2,FALSE))","v":""},"",{"$error":"#N/A"},null,null,null,null,null,null,null,null,"",false,2,{"$f":"VLOOKUP(H1978,Database!$B$1:$E$4891,4,FALSE)","v":{"$error":"#N/A"}},true]
[1978,null,null,null,null,null,null,null,{"$f":"IF(ISERROR(VLOOKUP(H1983,Database!$B$1:$C$5908,2,FALSE)),\"\",VLOOKUP(H1983,Database!$B$1:$C$5908,2,FALSE))","v":""},"",{"$error":"#N/A"},null,null,null,null,null,null,null,null,"",false,2,{"$f":"VLOOKUP(H1983,Database!$B$1:$E$4891,4,FALSE)","v":{"$error":"#N/A"}},true]
[1979,null,null,null,null,null,null,null,{"$f":"IF(ISERROR(VLOOKUP(H1984,Database!$B$1:$C$5908,2,FALSE)),\"\",VLOOKUP(H1984,Database!$B$1:$C$5908,2,FALSE))","v":""},"",{"$error":"#N/A"},null,null,null,null,null,null,null,null,"",false,2,{"$f":"VLOOKUP(H1984,Database!$B$1:$E$4891,4,FALSE)","v":{"$error":"#N/A"}},true]
[1985,null,null,null,null,null,null,null,{"$f":"IF(ISERROR(VLOOKUP(H1990,Database!$B$1:$C$5908,2,FALSE)),\"\",VLOOKUP(H1990,Database!$B$1:$C$5908,2,FALSE))","v":""},"",{"$error":"#N/A"},null,null,null,null,null,null,null,null,"",false,2,{"$f":"VLOOKUP(H1990,Database!$B$1:$E$4891,4,FALSE)","v":{"$error":"#N/A"}},true]
[1988,null,null,null,null,null,null,null,{"$f":"IF(ISERROR(VLOOKUP(H1993,Database!$B$1:$C$5908,2,FALSE)),\"\",VLOOKUP(H1993,Database!$B$1:$C$5908,2,FALSE))","v":""},"",{"$error":"#N/A"},null,null,null,null,null,null,null,null,"",false,2,{"$f":"VLOOKUP(H1993,Database!$B$1:$E$4891,4,FALSE)","v":{"$error":"#N/A"}},true]
[1994,null,null,null,null,null,null,null,{"$f":"IF(ISERROR(VLOOKUP(H1999,Database!$B$1:$C$5908,2,FALSE)),\"\",VLOOKUP(H1999,Database!$B$1:$C$5908,2,FALSE))","v":""},"",{"$error":"#N/A"},null,null,null,null,null,null,null,null,"",false,2,{"$f":"VLOOKUP(H1999,Database!$B$1:$E$4891,4,FALSE)","v":{"$error":"#N/A"}},true]
[1999,null,null,null,null,null,null,null,{"$f":"IF(ISERROR(VLOOKUP(H2004,Database!$B$1:$C$5908,2,FALSE)),\"\",VLOOKUP(H2004,Database!$B$1:$C$5908,2,FALSE))","v":""},"",{"$error":"#N/A"},null,null,null,null,null,null,null,null,"",false,2,{"$f":"VLOOKUP(H2004,Database!$B$1:$E$4891,4,FALSE)","v":{"$error":"#N/A"}},true]
[2004,null,null,null,null,null,null,null,{"$f":"IF(ISERROR(VLOOKUP(H2009,Database!$B$1:$C$5908,2,FALSE)),\"\",VLOOKUP(H2009,Database!$B$1:$C$5908,2,FALSE))","v":""},"",{"$error":"#N/A"},null,null,null,null,null,null,null,null,"",false,2,{"$f":"VLOOKUP(H2009,Database!$B$1:$E$4891,4,FALSE)","v":{"$error":"#N/A"}},true]
[2009,null,null,null,null,null,null,null,{"$f":"IF(ISERROR(VLOOKUP(H2014,Database!$B$1:$C$5908,2,FALSE)),\"\",VLOOKUP(H2014,Database!$B$1:$C$5908,2,FALSE))","v":""},"",{"$error":"#N/A"},null,null,null,null,null,null,null,null,"",false,2,{"$f":"VLOOKUP(H2014,Database!$B$1:$E$4891,4,FALSE)","v":{"$error":"#N/A"}},true]
[2014,null,null,null,null,null,null,null,{"$f":"IF(ISERROR(VLOOKUP(H2019,Database!$B$1:$C$5908,2,FALSE)),\"\",VLOOKUP(H2019,Database!$B$1:$C$5908,2,FALSE))","v":""},"",{"$error":"#N/A"},null,null,null,null,null,null,null,null,"",false,2,{"$f":"VLOOKUP(H2019,Database!$B$1:$E$4891,4,FALSE)","v":{"$error":"#N/A"}},true]
[2020,null,null,null,null,null,null,null,{"$f":"IF(ISERROR(VLOOKUP(H2025,Database!$B$1:$C$5908,2,FALSE)),\"\",VLOOKUP(H2025,Database!$B$1:$C$5908,2,FALSE))","v":""},"",{"$error":"#N/A"},null,null,null,null,null,null,null,null,"",false,2,{"$f":"VLOOKUP(H2025,Database!$B$1:$E$4891,4,FALSE)","v":{"$error":"#N/A"}},true]
[2023,null,null,null,null,null,null,null,{"$f":"IF(ISERROR(VLOOKUP(H2028,Database!$B$1:$C$5908,2,FALSE)),\"\",VLOOKUP(H2028,Database!$B$1:$C$5908,2,FALSE))","v":""},"",{"$error":"#N/A"},null,null,null,null,null,null,null,null,"",false,2,{"$f":"VLOOKUP(H2028,Database!$B$1:$E$4891,4,FALSE)","v":{"$error":"#N/A"}},true]
[2029,null,null,null,null,null,null,null,{"$f":"IF(ISERROR(VLOOKUP(H2034,Database!$B$1:$C$5908,2,FALSE)),\"\",VLOOKUP(H2034,Database!$B$1:$C$5908,2,FALSE))","v":""},"",{"$error":"#N/A"},null,null,null,null,null,null,null,null,"",false,2,{"$f":"VLOOKUP(H2034,Database!$B$1:$E$4891,4,FALSE)","v":{"$error":"#N/A"}},true]
[2035,null,null,null,null,null,null,null,{"$f":"IF(ISERROR(VLOOKUP(H2040,Database!$B$1:$C$5908,2,FALSE)),\"\",VLOOKUP(H2040,Database!$B$1:$C$5908,2,FALSE))","v":""},"",{"$error":"#N/A"},null,null,null,null,null,null,null,null,"",false,2,{"$f":"VLOOKUP(H2040,Database!$B$1:$E$4891,4,FALSE)","v":{"$error":"#N/A"}},true]
[2040,null,null,null,null,null,null,null,{"$f":"IF(ISERROR(VLOOKUP(H2045,Database!$B$1:$C$5908,2,FALSE)),\"\",VLOOKUP(H2045,Database!$B$1:$C$5908,2,FALSE))","v":""},"",{"$error":"#N/A"},null,null,null,null,null,null,null,null,"",false,2,{"$f":"VLOOKUP(H2045,Database!$B$1:$E$4891,4,FALSE)","v":{"$error":"#N/A"}},true]
[2042,null,null,null,null,null,null,null,{"$f":"IF(ISERROR(VLOOKUP(H2047,Database!$B$1:$C$5908,2,FALSE)),\"\",VLOOKUP(H2047,Database!$B$1:$C$5908,2,FALSE))","v":""},"",{"$error":"#N/A"},null,null,null,null,null,null,null,null,"",false,2,{"$f":"VLOOKUP(H2047,Database!$B$1:$E$4891,4,FALSE)","v":{"$error":"#N/A"}},true]
[2045,null,null,null,null,null,null,null,{"$f":"IF(ISERROR(VLOOKUP(H2050,Database!$B$1:$C$5908,2,FALSE)),\"\",VLOOKUP(H2050,Database!$B$1:$C$5908,2,FALSE))","v":""},"",{"$error":"#N/A"},null,null,null,null,null,null,null,null,"",false,2,{"$f":"VLOOKUP(H2050,Database!$B$1:$E$4891,4,FALSE)","v":{"$error":"#N/A"}},true]
[{"$f":"A2054+1","v":2050},null,null,null,null,null,null,null,{"$f":"IF(ISERROR(VLOOKUP(H2055,Database!$B$1:$C$5908,2,FALSE)),\"\",VLOOKUP(H2055,Database!$B$1:$C$5908,2,FALSE))","v":""},{"$f":"IF(V2055=1,1,IF(AND(T2055=0,F2055=\"SSB\",V2055<>\"\"),2,IF(AND(T2055=0,F2055=\"FM\",V2055<>\"\"),2,IF(AND(T2055=0,F2055=\"DIGI\",V2055<>\"\"),3,IF(AND(T2055=0,F2055=\"CW\",V2055<>\"\"),5,IF(H2055=\"-\",\"\",T2055))))))","v":""},{"$f":"IF(H2055=\"-\",\"\",IF(AND(H2055<>\"\",X2055=TRUE),\"INDIPENDENT\",IF(W2055=0,\"SCRIVI NOME NELLE NOTE\",W2055)))","v":{"$error":"#N/A"}},null,null,null,null,null,null,null,null,{"$f":"IF(H2055=\"\",\"\",IF(H2055=$R$6,25,IF(OR(H2055=$R$7,H2055=$R$8,H2055=$R$9,H2055=$R$10,H2055=$R$11,H2055=$R$12,H2055=$R$13,H2055=$R$14,H2055=$R$15,H2055=$R$16,H2055=$R$17,H2055=$R$18,H2055=$R$19,H2055=$R$20,H2055=$R$21,H2055=$R$22,H2055=$R$23),15,0)))","v":""},{"$f":"ISERROR(I2055)","v":false},2,{"$f":"VLOOKUP(H2055,Database!$B$1:$E$4891,4,FALSE)","v":{"$error":"#N/A"}},{"$f":"ISERROR(W2055)","v":true}]
[2056,null,null,null,null,null,null,null,{"$f":"IF(ISERROR(VLOOKUP(H2061,Database!$B$1:$C$5908,2,FALSE)),\"\",VLOOKUP(H2061,Database!$B$1:$C$5908,2,FALSE))","v":""},"",{"$error":"#N/A"},null,null,null,null,null,null,null,null,"",false,2,{"$f":"VLOOKUP(H2061,Database!$B$1:$E$4891,4,FALSE)","v":{"$error":"#N/A"}},true]
[2061,null,null,null,null,null,null,null,{"$f":"IF(ISERROR(VLOOKUP(H2066,Database!$B$1:$C$5908,2,FALSE)),\"\",VLOOKUP(H2066,Database!$B$1:$C$5908,2,FALSE))","v":""},"",{"$error":"#N/A"},null,null,null,null,null,null,null,null,"",false,2,{"$f":"VLOOKUP(H2066,Database!$B$1:$E$4891,4,FALSE)","v":{"$error":"#N/A"}},true]
[2065,null,null,null,null,null,null,null,{"$f":"IF(ISERROR(VLOOKUP(H2070,Database!$B$1:$C$5908,2,FALSE)),\"\",VLOOKUP(H2070,Database!$B$1:$C$5908,2,FALSE))","v":""},"",{"$error":"#N/A"},null,null,null,null,null,null,null,null,"",false,2,{"$f":"VLOOKUP(H2070,Database!$B$1:$E$4891,4,FALSE)","v":{"$error":"#N/A"}},true]
[2071,null,null,null,null,null,null,null,{"$f":"IF(ISERROR(VLOOKUP(H2076,Database!$B$1:$C$5908,2,FALSE)),\"\",VLOOKUP(H2076,Database!$B$1:$C$5908,2,FALSE))","v":""},"",{"$error":"#N/A"},null,null,null,null,null,null,null,null,"",false,2,{"$f":"VLOOKUP(H2076,Database!$B$1:$E$4891,4,FALSE)","v":{"$error":"#N/A"}},true]
[2076,null,null,null,null,null,null,null,{"$f":"IF(ISERROR(VLOOKUP(H2081,Database!$B$1:$C$5908,2,FALSE)),\"\",VLOOKUP(H2081,Database!$B$1:$C$5908,2,FALSE))","v":""},"",{"$error":"#N/A"},null,null,null,null,null,null,null,null,"",false,2,{"$f":"VLOOKUP(H2081,Database!$B$1:$E$4891,4,FALSE)","v":{"$error":"#N/A"}},true]
[2080,null,null,null,null,null,null,null,{"$f":"IF(ISERROR(VLOOKUP(H2085,Database!$B$1:$C$5908,2,FALSE)),\"\",VLOOKUP(H2085,Database!$B$1:$C$5908,2,FALSE))","v":""},"",{"$error":"#N/A"},null,null,null,null,null,null,null,null,"",false,2,{"$f":"VLOOKUP(H2085,Database!$B$1:$E$4891,4,FALSE)","v":{"$error":"#N/A"}},true]
[2086,null,null,null,null,null,null,null,{"$f":"IF(ISERROR(VLOOKUP(H2091,Database!$B$1:$C$5908,2,FALSE)),\"\",VLOOKUP(H2091,Database!$B$1:$C$5908,2,FALSE))","v":""},"",{"$error":"#N/A"},null,null,null,null,null,null,null,null,"",false,2,{"$f":"VLOOKUP(H2091,Database!$B$1:$E$4891,4,FALSE)","v":{"$error":"#N/A"}},true]
[2091,null,null,null,null,null,null,null,{"$f":"IF(ISERROR(VLOOKUP(H2096,Database!$B$1:$C$5908,2,FALSE)),\"\",VLOOKUP(H2096,Database!$B$1:$C$5908,2,FALSE))","v":""},"",{"$error":"#N/A"},null,null,null,null,null,null,null,null,"",false,2,{"$f":"VLOOKUP(H2096,Database!$B$1:$E$4891,4,FALSE)","v":{"$error":"#N/A"}},true]
[2097,null,null,null,null,null,null,null,{"$f":"IF(ISERROR(VLOOKUP(H2102,Database!$B$1:$C$5908,2,FALSE)),\"\",VLOOKUP(H2102,Database!$B$1:$C$5908,2,FALSE))","v":""},"",{"$error":"#N/A"},null,null,null,null,null,null,null,null,"",false,2,{"$f":"VLOOKUP(H2102,Database!$B$1:$E$4891,4,FALSE)","v":{"$error":"#N/A"}},true]
[2099,null,null,null,null,null,null,null,{"$f":"IF(ISERROR(VLOOKUP(H2104,Database!$B$1:$C$5908,2,FALSE)),\"\",VLOOKUP(H2104,Database!$B$1:$C$5908,2,FALSE))","v":""},"",{"$error":"#N/A"},null,null,null,null,null,null,null,null,"",false,2,{"$f":"VLOOKUP(H2104,Database!$B$1:$E$4891,4,FALSE)","v":{"$error":"#N/A"}},true]
[2106,null,null,null,null,null,null,null,{"$f":"IF(ISERROR(VLOOKUP(H2111,Database!$B$1:$C$5908,2,FALSE)),\"\",VLOOKUP(H2111,Database!$B$1:$C$5908,2,FALSE))","v":""},"",{"$error":"#N/A"},null,null,null,null,null,null,null,null,"",false,2,{"$f":"VLOOKUP(H2111,Database!$B$1:$E$4891,4,FALSE)","v":{"$error":"#N/A"}},true]
[2107,null,null,null,null,null,null,null,{"$f":"IF(ISERROR(VLOOKUP(H2112,Database!$B$1:$C$5908,2,FALSE)),\"\",VLOOKUP(H2112,Database!$B$1:$C$5908,2,FALSE))","v":""},"",{"$error":"#N/A"},null,null,null,null,null,null,null,null,"",false,2,{"$f":"VLOOKUP(H2112,Database!$B$1:$E$4891,4,FALSE)","v":{"$error":"#N/A"}},true]
[2112,null,null,null,null,null,null,null,{"$f":"IF(ISERROR(VLOOKUP(H2117,Database!$B$1:$C$5908,2,FALSE)),\"\",VLOOKUP(H2117,Database!$B$1:$C$5908,2,FALSE))","v":""},"",{"$error":"#N/A"},null,null,null,null,null,null,null,null,"",false,2,{"$f":"VLOOKUP(H2117,Database!$B$1:$E$4891,4,FALSE)","v":{"$error":"#N/A"}},true]
[2118,null,null,null,null,null,null,null,{"$f":"IF(ISERROR(VLOOKUP(H2123,Database!$B$1:$C$5908,2,FALSE)),\"\",VLOOKUP(H2123,Database!$B$1:$C$5908,2,FALSE))","v":""},"",{"$error":"#N/A"},null,null,null,null,null,null,null,null,"",false,2,{"$f":"VLOOKUP(H2123,Database!$B$1:$E$4891,4,FALSE)","v":{"$error":"#N/A"}},true]
[2122,null,null,null,null,null,null,null,{"$f":"IF(ISERROR(VLOOKUP(H2127,Database!$B$1:$C$5908,2,FALSE)),\"\",VLOOKUP(H2127,Database!$B$1:$C$5908,2,FALSE))","v":""},"",{"$error":"#N/A"},null,null,null,null,null,null,null,null,"",false,2,{"$f":"VLOOKUP(H2127,Database!$B$1:$E$4891,4,FALSE)","v":{"$error":"#N/A"}},true]
[2127,null,null,null,null,null,null,null,{"$f":"IF(ISERROR(VLOOKUP(H2132,Database!$B$1:$C$5908,2,FALSE)),\"\",VLOOKUP(H2132,Database!$B$1:$C$5908,2,FALSE))","v":""},"",{"$error":"#N/A"},null,null,null,null,null,null,null,null,"",false,2,{"$f":"VLOOKUP(H2132,Database!$B$1:$E$4891,4,FALSE)","v":{"$error":"#N/A"}},true]
[2133,null,null,null,null,null,null,null,{"$f":"IF(ISERROR(VLOOKUP(H2138,Database!$B$1:$C$5908,2,FALSE)),\"\",VLOOKUP(H2138,Database!$B$1:$C$5908,2,FALSE))","v":""},"",{"$error":"#N/A"},null,null,null,null,null,null,null,null,"",false,2,{"$f":"VLOOKUP(H2138,Database!$B$1:$E$4891,4,FALSE)","v":{"$error":"#N/A"}},true]
[2137,null,null,null,null,null,null,null,{"$f":"IF(ISERROR(VLOOKUP(H2142,Database!$B$1:$C$5908,2,FALSE)),\"\",VLOOKUP(H2142,Database!$B$1:$C$5908,2,FALSE))","v":""},"",{"$error":"#N/A"},null,null,null,null,null,null,null,null,"",false,2,{"$f":"VLOOKUP(H2142,Database!$B$1:$E$4891,4,FALSE)","v":{"$error":"#N/A"}},true]
[2143,null,null,null,null,null,null,null,{"$f":"IF(ISERROR(VLOOKUP(H2148,Database!$B$1:$C$5908,2,FALSE)),\"\",VLOOKUP(H2148,Database!$B$1:$C$5908,2,FALSE))","v":""},"",{"$error":"#N/A"},null,null,null,null,null,null,null,null,"",false,2,{"$f":"VLOOKUP(H2148,Database!$B$1:$E$4891,4,FALSE)","v":{"$error":"#N/A"}},true]
[2148,null,null,null,null,null,null,null,{"$f":"IF(ISERROR(VLOOKUP(H2153,Database!$B$1:$C$5908,2,FALSE)),\"\",VLOOKUP(H2153,Database!$B$1:$C$5908,2,FALSE))","v":""},"",{"$error":"#N/A"},null,null,null,null,null,null,null,null,"",false,2,{"$f":"VLOOKUP(H2153,Database!$B$1:$E$4891,4,FALSE)","v":{"$error":"#N/A"}},true]
[2153,null,null,null,null,null,null,null,{"$f":"IF(ISERROR(VLOOKUP(H2158,Database!$B$1:$C$5908,2,FALSE)),\"\",VLOOKUP(H2158,Database!$B$1:$C$5908,2,FALSE))","v":""},"",{"$error":"#N/A"},null,null,null,null,null,null,null,null,"",false,2,{"$f":"VLOOKUP(H2158,Database!$B$1:$E$4891,4,FALSE)","v":{"$error":"#N/A"}},true]
[2156,null,null,null,null,null,null,null,{"$f":"IF(ISERROR(VLOOKUP(H2161,Database!$B$1:$C$5908,2,FALSE)),\"\",VLOOKUP(H2161,Database!$B$1:$C$5908,2,FALSE))","v":""},"",{"$error":"#N/A"},null,null,null,null,null,null,null,null,"",false,2,{"$f":"VLOOKUP(H2161,Database!$B$1:$E$4891,4,FALSE)","v":{"$error":"#N/A"}},true]
[2163,null,null,null,null,null,null,null,{"$f":"IF(ISERROR(VLOOKUP(H2168,Database!$B$1:$C$5908,2,FALSE)),\"\",VLOOKUP(H2168,Database!$B$1:$C$5908,2,FALSE))","v":""},"",{"$error":"#N/A"},null,null,null,null,null,null,null,null,"",false,2,{"$f":"VLOOKUP(H2168,Database!$B$1:$E$4891,4,FALSE)","v":{"$error":"#N/A"}},true]
[2168,null,null,null,null,null,null,null,{"$f":"IF(ISERROR(VLOOKUP(H2173,Database!$B$1:$C$5908,2,FALSE)),\"\",VLOOKUP(H2173,Database!$B$1:$C$5908,2,FALSE))","v":""},"",{"$error":"#N/A"},null,null,null,null,null,null,null,null,"",false,2,{"$f":"VLOOKUP(H2173,Database!$B$1:$E$4891,4,FALSE)","v":{"$error":"#N/A"}},true]
[2169,null,null,null,null,null,null,null,{"$f":"IF(ISERROR(VLOOKUP(H2174,Database!$B$1:$C$5908,2,FALSE)),\"\",VLOOKUP(H2174,Database!$B$1:$C$5908,2,FALSE))","v":""},"",{"$error":"#N/A"},null,null,null,null,null,null,null,null,"",false,2,{"$f":"VLOOKUP(H2174,Database!$B$1:$E$4891,4,FALSE)","v":{"$error":"#N/A"}},true]
[2175,null,null,null,null,null,null,null,{"$f":"IF(ISERROR(VLOOKUP(H2180,Database!$B$1:$C$5908,2,FALSE)),\"\",VLOOKUP(H2180,Database!$B$1:$C$5908,2,FALSE))","v":""},"",{"$error":"#N/A"},null,null,null,null,null,null,null,null,"",false,2,{"$f":"VLOOKUP(H2180,Database!$B$1:$E$4891,4,FALSE)","v":{"$error":"#N/A"}},true]
[2179,null,null,null,null,null,null,null,{"$f":"IF(ISERROR(VLOOKUP(H2184,Database!$B$1:$C$5908,2,FALSE)),\"\",VLOOKUP(H2184,Database!$B$1:$C$5908,2,FALSE))","v":""},"",{"$error":"#N/A"},null,null,null,null,null,null,null,null,"",false,{"$f":"IF(H2184=\"-\",\"\",IF(AND(T2184=0,U2184=FALSE,I2184=\"\"),1,2))","v":2},{"$f":"VLOOKUP(H2184,Database!$B$1:$E$4891,4,FALSE)","v":{"$error":"#N/A"}},true]
[2184,null,null,null,null,null,null,null,{"$f":"IF(ISERROR(VLOOKUP(H2189,Database!$B$1:$C$5908,2,FALSE)),\"\",VLOOKUP(H2189,Database!$B$1:$C$5908,2,FALSE))","v":""},"",{"$error":"#N/A"},null,null,null,null,null,null,null,null,"",false,2,{"$f":"VLOOKUP(H2189,Database!$B$1:$E$4891,4,FALSE)","v":{"$error":"#N/A"}},true]
[2189,null,null,null,null,null,null,null,{"$f":"IF(ISERROR(VLOOKUP(H2194,Database!$B$1:$C$5908,2,FALSE)),\"\",VLOOKUP(H2194,Database!$B$1:$C$5908,2,FALSE))","v":""},"",{"$error":"#N/A"},null,null,null,null,null,null,null,null,"",false,2,{"$f":"VLOOKUP(H2194,Database!$B$1:$E$4891,4,FALSE)","v":{"$error":"#N/A"}},true]
[2195,null,null,null,null,null,null,null,{"$f":"IF(ISERROR(VLOOKUP(H2200,Database!$B$1:$C$5908,2,FALSE)),\"\",VLOOKUP(H2200,Database!$B$1:$C$5908,2,FALSE))","v":""},"",{"$error":"#N/A"},null,null,null,null,null,null,null,null,"",false,2,{"$f":"VLOOKUP(H2200,Database!$B$1:$E$4891,4,FALSE)","v":{"$error":"#N/A"}},true]
[2200,null,null,null,null,null,null,null,{"$f":"IF(ISERROR(VLOOKUP(H2205,Database!$B$1:$C$5908,2,FALSE)),\"\",VLOOKUP(H2205,Database!$B$1:$C$5908,2,FALSE))","v":""},"",{"$error":"#N/A"},null,null,null,null,null,null,null,null,"",false,2,{"$f":"VLOOKUP(H2205,Database!$B$1:$E$4891,4,FALSE)","v":{"$error":"#N/A"}},true]
[2205,null,null,null,null,null,null,null,{"$f":"IF(ISERROR(VLOOKUP(H2210,Database!$B$1:$C$5908,2,FALSE)),\"\",VLOOKUP(H2210,Database!$B$1:$C$5908,2,FALSE))","v":""},"",{"$error":"#N/A"},null,null,null,null,null,null,null,null,"",false,2,{"$f":"VLOOKUP(H2210,Database!$B$1:$E$4891,4,FALSE)","v":{"$error":"#N/A"}},true]
[2210,null,null,null,null,null,null,null,{"$f":"IF(ISERROR(VLOOKUP(H2215,Database!$B$1:$C$5908,2,FALSE)),\"\",VLOOKUP(H2215,Database!$B$1:$C$5908,2,FALSE))","v":""},"",{"$error":"#N/A"},null,null,null,null,null,null,null,null,"",false,2,{"$f":"VLOOKUP(H2215,Database!$B$1:$E$4891,4,FALSE)","v":{"$error":"#N/A"}},true]
[2215,null,null,null,null,null,null,null,{"$f":"IF(ISERROR(VLOOKUP(H2220,Database!$B$1:$C$5908,2,FALSE)),\"\",VLOOKUP(H2220,Database!$B$1:$C$5908,2,FALSE))","v":""},"",{"$error":"#N/A"},null,null,null,null,null,null,null,null,"",false,2,{"$f":"VLOOKUP(H2220,Database!$B$1:$E$4891,4,FALSE)","v":{"$error":"#N/A"}},true]
[2219,null,null,null,null,null,null,null,{"$f":"IF(ISERROR(VLOOKUP(H2224,Database!$B$1:$C$5908,2,FALSE)),\"\",VLOOKUP(H2224,Database!$B$1:$C$5908,2,FALSE))","v":""},"",{"$error":"#N/A"},null,null,null,null,null,null,null,null,"",false,2,{"$f":"VLOOKUP(H2224,Database!$B$1:$E$4891,4,FALSE)","v":{"$error":"#N/A"}},true]
[2225,null,null,null,null,null,null,null,{"$f":"IF(ISERROR(VLOOKUP(H2230,Database!$B$1:$C$5908,2,FALSE)),\"\",VLOOKUP(H2230,Database!$B$1:$C$5908,2,FALSE))","v":""},"",{"$error":"#N/A"},null,null,null,null,null,null,null,null,"",false,2,{"$f":"VLOOKUP(H2230,Database!$B$1:$E$4891,4,FALSE)","v":{"$error":"#N/A"}},true]
[2230,null,null,null,null,null,null,null,{"$f":"IF(ISERROR(VLOOKUP(H2235,Database!$B$1:$C$5908,2,FALSE)),\"\",VLOOKUP(H2235,Database!$B$1:$C$5908,2,FALSE))","v":""},"",{"$error":"#N/A"},null,null,null,null,null,null,null,null,"",false,2,{"$f":"VLOOKUP(H2235,Database!$B$1:$E$4891,4,FALSE)","v":{"$error":"#N/A"}},true]
[2231,null,null,null,null,null,null,null,{"$f":"IF(ISERROR(VLOOKUP(H2236,Database!$B$1:$C$5908,2,FALSE)),\"\",VLOOKUP(H2236,Database!$B$1:$C$5908,2,FALSE))","v":""},"",{"$error":"#N/A"},null,null,null,null,null,null,null,null,"",false,2,{"$f":"VLOOKUP(H2236,Database!$B$1:$E$4891,4,FALSE)","v":{"$error":"#N/A"}},true]
[2238,null,null,null,null,null,null,null,{"$f":"IF(ISERROR(VLOOKUP(H2243,Database!$B$1:$C$5908,2,FALSE)),\"\",VLOOKUP(H2243,Database!$B$1:$C$5908,2,FALSE))","v":""},"",{"$error":"#N/A"},null,null,null,null,null,null,null,null,"",false,2,{"$f":"VLOOKUP(H2243,Database!$B$1:$E$4891,4,FALSE)","v":{"$error":"#N/A"}},true]
[2241,null,null,null,null,null,null,null,{"$f":"IF(ISERROR(VLOOKUP(H2246,Database!$B$1:$C$5908,2,FALSE)),\"\",VLOOKUP(H2246,Database!$B$1:$C$5908,2,FALSE))","v":""},"",{"$error":"#N/A"},null,null,null,null,null,null,null,null,"",false,2,{"$f":"VLOOKUP(H2246,Database!$B$1:$E$4891,4,FALSE)","v":{"$error":"#N/A"}},true]
[2246,null,null,null,null,null,null,null,{"$f":"IF(ISERROR(VLOOKUP(H2251,Database!$B$1:$C$5908,2,FALSE)),\"\",VLOOKUP(H2251,Database!$B$1:$C$5908,2,FALSE))","v":""},"",{"$error":"#N/A"},null,null,null,null,null,null,null,null,"",false,2,{"$f":"VLOOKUP(H2251,Database!$B$1:$E$4891,4,FALSE)","v":{"$error":"#N/A"}},true]
[2251,null,null,null,null,null,null,null,{"$f":"IF(ISERROR(VLOOKUP(H2256,Database!$B$1:$C$5908,2,FALSE)),\"\",VLOOKUP(H2256,Database!$B$1:$C$5908,2,FALSE))","v":""},"",{"$error":"#N/A"},null,null,null,null,null,null,null,null,"",false,2,{"$f":"VLOOKUP(H2256,Database!$B$1:$E$4891,4,FALSE)","v":{"$error":"#N/A"}},true]
[2257,null,null,null,null,null,null,null,{"$f":"IF(ISERROR(VLOOKUP(H2262,Database!$B$1:$C$5908,2,FALSE)),\"\",VLOOKUP(H2262,Database!$B$1:$C$5908,2,FALSE))","v":""},"",{"$error":"#N/A"},null,null,null,null,null,null,null,null,"",false,2,{"$f":"VLOOKUP(H2262,Database!$B$1:$E$4891,4,FALSE)","v":{"$error":"#N/A"}},true]
[2261,null,null,null,null,null,null,null,{"$f":"IF(ISERROR(VLOOKUP(H2266,Database!$B$1:$C$5908,2,FALSE)),\"\",VLOOKUP(H2266,Database!$B$1:$C$5908,2,FALSE))","v":""},"",{"$error":"#N/A"},null,null,null,null,null,null,null,null,"",false,2,{"$f":"VLOOKUP(H2266,Database!$B$1:$E$4891,4,FALSE)","v":{"$error":"#N/A"}},true]
[2266,null,null,null,null,null,null,null,{"$f":"IF(ISERROR(VLOOKUP(H2271,Database!$B$1:$C$5908,2,FALSE)),\"\",VLOOKUP(H2271,Database!$B$1:$C$5908,2,FALSE))","v":""},"",{"$error":"#N/A"},null,null,null,null,null,null,null,null,"",false,2,{"$f":"VLOOKUP(H2271,Database!$B$1:$E$4891,4,FALSE)","v":{"$error":"#N/A"}},true]
[2272,null,null,null,null,null,null,null,{"$f":"IF(ISERROR(VLOOKUP(H2277,Database!$B$1:$C$5908,2,FALSE)),\"\",VLOOKUP(H2277,Database!$B$1:$C$5908,2,FALSE))","v":""},"",{"$error":"#N/A"},null,null,null,null,null,null,null,null,"",false,2,{"$f":"VLOOKUP(H2277,Database!$B$1:$E$4891,4,FALSE)","v":{"$error":"#N/A"}},true]
[2276,null,null,null,null,null,null,null,{"$f":"IF(ISERROR(VLOOKUP(H2281,Database!$B$1:$C$5908,2,FALSE)),\"\",VLOOKUP(H2281,Database!$B$1:$C$5908,2,FALSE))","v":""},"",{"$error":"#N/A"},null,null,null,null,null,null,null,null,"",false,2,{"$f":"VLOOKUP(H2281,Database!$B$1:$E$4891,4,FALSE)","v":{"$error":"#N/A"}},true]
[2282,null,null,null,null,null,null,null,{"$f":"IF(ISERROR(VLOOKUP(H2287,Database!$B$1:$C$5908,2,FALSE)),\"\",VLOOKUP(H2287,Database!$B$1:$C$5908,2,FALSE))","v":""},"",{"$error":"#N/A"},null,null,null,null,null,null,null,null,"",false,2,{"$f":"VLOOKUP(H2287,Database!$B$1:$E$4891,4,FALSE)","v":{"$error":"#N/A"}},true]
[2287,null,null,null,null,null,null,null,{"$f":"IF(ISERROR(VLOOKUP(H2292,Database!$B$1:$C$5908,2,FALSE)),\"\",VLOOKUP(H2292,Database!$B$1:$C$5908,2,FALSE))","v":""},"",{"$error":"#N/A"},null,null,null,null,null,null,null,null,"",false,2,{"$f":"VLOOKUP(H2292,Database!$B$1:$E$4891,4,FALSE)","v":{"$error":"#N/A"}},true]
[2292,null,null,null,null,null,null,null,{"$f":"IF(ISERROR(VLOOKUP(H2297,Database!$B$1:$C$5908,2,FALSE)),\"\",VLOOKUP(H2297,Database!$B$1:$C$5908,2,FALSE))","v":""},"",{"$error":"#N/A"},null,null,null,null,null,null,null,null,"",false,2,{"$f":"VLOOKUP(H2297,Database!$B$1:$E$4891,4,FALSE)","v":{"$error":"#N/A"}},true]
[2295,null,null,null,null,null,null,null,{"$f":"IF(ISERROR(VLOOKUP(H2300,Database!$B$1:$C$5908,2,FALSE)),\"\",VLOOKUP(H2300,Database!$B$1:$C$5908,2,FALSE))","v":""},"",{"$error":"#N/A"},null,null,null,null,null,null,null,null,"",false,2,{"$f":"VLOOKUP(H2300,Database!$B$1:$E$4891,4,FALSE)","v":{"$error":"#N/A"}},true]
[2297,null,null,null,null,null,null,null,{"$f":"IF(ISERROR(VLOOKUP(H2302,Database!$B$1:$C$5908,2,FALSE)),\"\",VLOOKUP(H2302,Database!$B$1:$C$5908,2,FALSE))","v":""},"",{"$error":"#N/A"},null,null,null,null,null,null,null,null,"",false,2,{"$f":"VLOOKUP(H2302,Database!$B$1:$E$4891,4,FALSE)","v":{"$error":"#N/A"}},true]
[2303,null,null,null,null,null,null,null,{"$f":"IF(ISERROR(VLOOKUP(H2308,Database!$B$1:$C$5908,2,FALSE)),\"\",VLOOKUP(H2308,Database!$B$1:$C$5908,2,FALSE))","v":""},"",{"$error":"#N/A"},null,null,null,null,null,null,null,null,"",false,2,{"$f":"VLOOKUP(H2308,Database!$B$1:$E$4891,4,FALSE)","v":{"$error":"#N/A"}},true]
[2308,null,null,null,null,null,null,null,{"$f":"IF(ISERROR(VLOOKUP(H2313,Database!$B$1:$C$5908,2,FALSE)),\"\",VLOOKUP(H2313,Database!$B$1:$C$5908,2,FALSE))","v":""},"",{"$error":"#N/A"},null,null,null,null,null,null,null,null,"",false,2,{"$f":"VLOOKUP(H2313,Database!$B$1:$E$4891,4,FALSE)","v":{"$error":"#N/A"}},true]
[2314,null,null,null,null,null,null,null,{"$f":"IF(ISERROR(VLOOKUP(H2319,Database!$B$1:$C$5908,2,FALSE)),\"\",VLOOKUP(H2319,Database!$B$1:$C$5908,2,FALSE))","v":""},"",{"$error":"#N/A"},null,null,null,null,null,null,null,null,"",false,2,{"$f":"VLOOKUP(H2319,Database!$B$1:$E$4891,4,FALSE)","v":{"$error":"#N/A"}},true]
[2318,null,null,null,null,null,null,null,{"$f":"IF(ISERROR(VLOOKUP(H2323,Database!$B$1:$C$5908,2,FALSE)),\"\",VLOOKUP(H2323,Database!$B$1:$C$5908,2,FALSE))","v":""},"",{"$error":"#N/A"},null,null,null,null,null,null,null,null,"",false,2,{"$f":"VLOOKUP(H2323,Database!$B$1:$E$4891,4,FALSE)","v":{"$error":"#N/A"}},true]
[2323,null,null,null,null,null,null,null,{"$f":"IF(ISERROR(VLOOKUP(H2328,Database!$B$1:$C$5908,2,FALSE)),\"\",VLOOKUP(H2328,Database!$B$1:$C$5908,2,FALSE))","v":""},"",{"$error":"#N/A"},null,null,null,null,null,null,null,null,"",false,2,{"$f":"VLOOKUP(H2328,Database!$B$1:$E$4891,4,FALSE)","v":{"$error":"#N/A"}},true]
[2328,null,null,null,null,null,null,null,{"$f":"IF(ISERROR(VLOOKUP(H2333,Database!$B$1:$C$5908,2,FALSE)),\"\",VLOOKUP(H2333,Database!$B$1:$C$5908,2,FALSE))","v":""},"",{"$error":"#N/A"},null,null,null,null,null,null,null,null,"",false,2,{"$f":"VLOOKUP(H2333,Database!$B$1:$E$4891,4,FALSE)","v":{"$error":"#N/A"}},true]
[2333,null,null,null,null,null,null,null,{"$f":"IF(ISERROR(VLOOKUP(H2338,Database!$B$1:$C$5908,2,FALSE)),\"\",VLOOKUP(H2338,Database!$B$1:$C$5908,2,FALSE))","v":""},"",{"$error":"#N/A"},null,null,null,null,null,null,null,null,"",false,2,{"$f":"VLOOKUP(H2338,Database!$B$1:$E$4891,4,FALSE)","v":{"$error":"#N/A"}},true]
[2338,null,null,null,null,null,null,null,{"$f":"IF(ISERROR(VLOOKUP(H2343,Database!$B$1:$C$5908,2,FALSE)),\"\",VLOOKUP(H2343,Database!$B$1:$C$5908,2,FALSE))","v":""},"",{"$error":"#N/A"},null,null,null,null,null,null,null,null,"",false,2,{"$f":"VLOOKUP(H2343,Database!$B$1:$E$4891,4,FALSE)","v":{"$error":"#N/A"}},true]
[2344,null,null,null,null,null,null,null,{"$f":"IF(ISERROR(VLOOKUP(H2349,Database!$B$1:$C$5908,2,FALSE)),\"\",VLOOKUP(H2349,Database!$B$1:$C$5908,2,FALSE))","v":""},"",{"$error":"#N/A"},null,null,null,null,null,null,null,null,"",false,2,{"$f":"VLOOKUP(H2349,Database!$B$1:$E$4891,4,FALSE)","v":{"$error":"#N/A"}},true]
[2349,null,null,null,null,null,null,null,{"$f":"IF(ISERROR(VLOOKUP(H2354,Database!$B$1:$C$5908,2,FALSE)),\"\",VLOOKUP(H2354,Database!$B$1:$C$5908,2,FALSE))","v":""},"",{"$error":"#N/A"},null,null,null,null,null,null,null,null,"",false,2,{"$f":"VLOOKUP(H2354,Database!$B$1:$E$4891,4,FALSE)","v":{"$error":"#N/A"}},true]
[2352,null,null,null,null,null,null,null,{"$f":"IF(ISERROR(VLOOKUP(H2357,Database!$B$1:$C$5908,2,FALSE)),\"\",VLOOKUP(H2357,Database!$B$1:$C$5908,2,FALSE))","v":""},"",{"$error":"#N/A"},null,null,null,null,null,null,null,null,"",false,2,{"$f":"VLOOKUP(H2357,Database!$B$1:$E$4891,4,FALSE)","v":{"$error":"#N/A"}},true]
[2354,null,null,null,null,null,null,null,{"$f":"IF(ISERROR(VLOOKUP(H2359,Database!$B$1:$C$5908,2,FALSE)),\"\",VLOOKUP(H2359,Database!$B$1:$C$5908,2,FALSE))","v":""},"",{"$error":"#N/A"},null,null,null,null,null,null,null,null,"",false,2,{"$f":"VLOOKUP(H2359,Database!$B$1:$E$4891,4,FALSE)","v":{"$error":"#N/A"}},true]
[2359,null,null,null,null,null,null,null,{"$f":"IF(ISERROR(VLOOKUP(H2364,Database!$B$1:$C$5908,2,FALSE)),\"\",VLOOKUP(H2364,Database!$B$1:$C$5908,2,FALSE))","v":""},"",{"$error":"#N/A"},null,null,null,null,null,null,null,null,"",false,2,{"$f":"VLOOKUP(H2364,Database!$B$1:$E$4891,4,FALSE)","v":{"$error":"#N/A"}},true]
[2365,null,null,null,null,null,null,null,{"$f":"IF(ISERROR(VLOOKUP(H2370,Database!$B$1:$C$5908,2,FALSE)),\"\",VLOOKUP(H2370,Database!$B$1:$C$5908,2,FALSE))","v":""},"",{"$error":"#N/A"},null,null,null,null,null,null,null,null,"",false,2,{"$f":"VLOOKUP(H2370,Database!$B$1:$E$4891,4,FALSE)","v":{"$error":"#N/A"}},true]
[2371,null,null,null,null,null,null,null,{"$f":"IF(ISERROR(VLOOKUP(H2376,Database!$B$1:$C$5908,2,FALSE)),\"\",VLOOKUP(H2376,Database!$B$1:$C$5908,2,FALSE))","v":""},"",{"$error":"#N/A"},null,null,null,null,null,null,null,null,"",false,{"$f":"IF(H2376=\"-\",\"\",IF(AND(T2376=0,U2376=FALSE,I2376=\"\"),1,2))","v":2},{"$f":"VLOOKUP(H2376,Database!$B$1:$E$4891,4,FALSE)","v":{"$error":"#N/A"}},true]
[2374,null,null,null,null,null,null,null,{"$f":"IF(ISERROR(VLOOKUP(H2379,Database!$B$1:$C$5908,2,FALSE)),\"\",VLOOKUP(H2379,Database!$B$1:$C$5908,2,FALSE))","v":""},"",{"$error":"#N/A"},null,null,null,null,null,null,null,null,"",false,2,{"$f":"VLOOKUP(H2379,Database!$B$1:$E$4891,4,FALSE)","v":{"$error":"#N/A"}},true]
[2380,null,null,null,null,null,null,null,{"$f":"IF(ISERROR(VLOOKUP(H2385,Database!$B$1:$C$5908,2,FALSE)),\"\",VLOOKUP(H2385,Database!$B$1:$C$5908,2,FALSE))","v":""},"",{"$error":"#N/A"},null,null,null,null,null,null,null,null,"",false,2,{"$f":"VLOOKUP(H2385,Database!$B$1:$E$4891,4,FALSE)","v":{"$error":"#N/A"}},true]
[2385,null,null,null,null,null,null,null,{"$f":"IF(ISERROR(VLOOKUP(H2390,Database!$B$1:$C$5908,2,FALSE)),\"\",VLOOKUP(H2390,Database!$B$1:$C$5908,2,FALSE))","v":""},"",{"$error":"#N/A"},null,null,null,null,null,null,null,null,"",false,2,{"$f":"VLOOKUP(H2390,Database!$B$1:$E$4891,4,FALSE)","v":{"$error":"#N/A"}},true]
[2390,null,null,null,null,null,null,null,{"$f":"IF(ISERROR(VLOOKUP(H2395,Database!$B$1:$C$5908,2,FALSE)),\"\",VLOOKUP(H2395,Database!$B$1:$C$5908,2,FALSE))","v":""},"",{"$error":"#N/A"},null,null,null,null,null,null,null,null,"",false,2,{"$f":"VLOOKUP(H2395,Database!$B$1:$E$4891,4,FALSE)","v":{"$error":"#N/A"}},true]
[2395,null,null,null,null,null,null,null,{"$f":"IF(ISERROR(VLOOKUP(H2400,Database!$B$1:$C$5908,2,FALSE)),\"\",VLOOKUP(H2400,Database!$B$1:$C$5908,2,FALSE))","v":""},"",{"$error":"#N/A"},null,null,null,null,null,null,null,null,"",false,2,{"$f":"VLOOKUP(H2400,Database!$B$1:$E$4891,4,FALSE)","v":{"$error":"#N/A"}},true]
[2400,null,null,null,null,null,null,null,{"$f":"IF(ISERROR(VLOOKUP(H2405,Database!$B$1:$C$5908,2,FALSE)),\"\",VLOOKUP(H2405,Database!$B$1:$C$5908,2,FALSE))","v":""},"",{"$error":"#N/A"},null,null,null,null,null,null,null,null,"",false,2,{"$f":"VLOOKUP(H2405,Database!$B$1:$E$4891,4,FALSE)","v":{"$error":"#N/A"}},true]
[2406,null,null,null,null,null,null,null,{"$f":"IF(ISERROR(VLOOKUP(H2411,Database!$B$1:$C$5908,2,FALSE)),\"\",VLOOKUP(H2411,Database!$B$1:$C$5908,2,FALSE))","v":""},"",{"$error":"#N/A"},null,null,null,null,null,null,null,null,"",false,2,{"$f":"VLOOKUP(H2411,Database!$B$1:$E$4891,4,FALSE)","v":{"$error":"#N/A"}},true]
[2409,null,null,null,null,null,null,null,{"$f":"IF(ISERROR(VLOOKUP(H2414,Database!$B$1:$C$5908,2,FALSE)),\"\",VLOOKUP(H2414,Database!$B$1:$C$5908,2,FALSE))","v":""},"",{"$error":"#N/A"},null,null,null,null,null,null,null,null,"",false,2,{"$f":"VLOOKUP(H2414,Database!$B$1:$E$4891,4,FALSE)","v":{"$error":"#N/A"}},true]
[2415,null,null,null,null,null,null,null,{"$f":"IF(ISERROR(VLOOKUP(H2420,Database!$B$1:$C$5908,2,FALSE)),\"\",VLOOKUP(H2420,Database!$B$1:$C$5908,2,FALSE))","v":""},"",{"$error":"#N/A"},null,null,null,null,null,null,null,null,"",false,2,{"$f":"VLOOKUP(H2420,Database!$B$1:$E$4891,4,FALSE)","v":{"$error":"#N/A"}},true]
[2416,null,null,null,null,null,null,null,{"$f":"IF(ISERROR(VLOOKUP(H2421,Database!$B$1:$C$5908,2,FALSE)),\"\",VLOOKUP(H2421,Database!$B$1:$C$5908,2,FALSE))","v":""},"",{"$error":"#N/A"},null,null,null,null,null,null,null,null,"",false,2,{"$f":"VLOOKUP(H2421,Database!$B$1:$E$4891,4,FALSE)","v":{"$error":"#N/A"}},true]
[2421,null,null,null,null,null,null,null,{"$f":"IF(ISERROR(VLOOKUP(H2426,Database!$B$1:$C$5908,2,FALSE)),\"\",VLOOKUP(H2426,Database!$B$1:$C$5908,2,FALSE))","v":""},"",{"$error":"#N/A"},null,null,null,null,null,null,null,null,"",false,2,{"$f":"VLOOKUP(H2426,Database!$B$1:$E$4891,4,FALSE)","v":{"$error":"#N/A"}},true]
[2428,null,null,null,null,null,null,null,{"$f":"IF(ISERROR(VLOOKUP(H2433,Database!$B$1:$C$5908,2,FALSE)),\"\",VLOOKUP(H2433,Database!$B$1:$C$5908,2,FALSE))","v":""},"",{"$error":"#N/A"},null,null,null,null,null,null,null,null,"",false,2,{"$f":"VLOOKUP(H2433,Database!$B$1:$E$4891,4,FALSE)","v":{"$error":"#N/A"}},true]
[2431,null,null,null,null,null,null,null,{"$f":"IF(ISERROR(VLOOKUP(H2436,Database!$B$1:$C$5908,2,FALSE)),\"\",VLOOKUP(H2436,Database!$B$1:$C$5908,2,FALSE))","v":""},"",{"$error":"#N/A"},null,null,null,null,null,null,null,null,"",false,2,{"$f":"VLOOKUP(H2436,Database!$B$1:$E$4891,4,FALSE)","v":{"$error":"#N/A"}},true]
[2436,null,null,null,null,null,null,null,{"$f":"IF(ISERROR(VLOOKUP(H2441,Database!$B$1:$C$5908,2,FALSE)),\"\",VLOOKUP(H2441,Database!$B$1:$C$5908,2,FALSE))","v":""},"",{"$error":"#N/A"},null,null,null,null,null,null,null,null,"",false,2,{"$f":"VLOOKUP(H2441,Database!$B$1:$E$4891,4,FALSE)","v":{"$error":"#N/A"}},true]
[2442,null,null,null,null,null,null,null,{"$f":"IF(ISERROR(VLOOKUP(H2447,Database!$B$1:$C$5908,2,FALSE)),\"\",VLOOKUP(H2447,Database!$B$1:$C$5908,2,FALSE))","v":""},"",{"$error":"#N/A"},null,null,null,null,null,null,null,null,"",false,2,{"$f":"VLOOKUP(H2447,Database!$B$1:$E$4891,4,FALSE)","v":{"$error":"#N/A"}},true]
[2447,null,null,null,null,null,null,null,{"$f":"IF(ISERROR(VLOOKUP(H2452,Database!$B$1:$C$5908,2,FALSE)),\"\",VLOOKUP(H2452,Database!$B$1:$C$5908,2,FALSE))","v":""},"",{"$error":"#N/A"},null,null,null,null,null,null,null,null,"",false,2,{"$f":"VLOOKUP(H2452,Database!$B$1:$E$4891,4,FALSE)","v":{"$error":"#N/A"}},true]
[2451,null,null,null,null,null,null,null,{"$f":"IF(ISERROR(VLOOKUP(H2456,Database!$B$1:$C$5908,2,FALSE)),\"\",VLOOKUP(H2456,Database!$B$1:$C$5908,2,FALSE))","v":""},"",{"$error":"#N/A"},null,null,null,null,null,null,null,null,"",false,2,{"$f":"VLOOKUP(H2456,Database!$B$1:$E$4891,4,FALSE)","v":{"$error":"#N/A"}},true]
[2457,null,null,null,null,null,null,null,{"$f":"IF(ISERROR(VLOOKUP(H2462,Database!$B$1:$C$5908,2,FALSE)),\"\",VLOOKUP(H2462,Database!$B$1:$C$5908,2,FALSE))","v":""},"",{"$error":"#N/A"},null,null,null,null,null,null,null,null,"",false,2,{"$f":"VLOOKUP(H2462,Database!$B$1:$E$4891,4,FALSE)","v":{"$error":"#N/A"}},true]
[2462,null,null,null,null,null,null,null,{"$f":"IF(ISERROR(VLOOKUP(H2467,Database!$B$1:$C$5908,2,FALSE)),\"\",VLOOKUP(H2467,Database!$B$1:$C$5908,2,FALSE))","v":""},"",{"$error":"#N/A"},null,null,null,null,null,null,null,null,"",false,2,{"$f":"VLOOKUP(H2467,Database!$B$1:$E$4891,4,FALSE)","v":{"$error":"#N/A"}},true]
[2466,null,null,null,null,null,null,null,{"$f":"IF(ISERROR(VLOOKUP(H2471,Database!$B$1:$C$5908,2,FALSE)),\"\",VLOOKUP(H2471,Database!$B$1:$C$5908,2,FALSE))","v":""},"",{"$error":"#N/A"},null,null,null,null,null,null,null,null,"",false,2,{"$f":"VLOOKUP(H2471,Database!$B$1:$E$4891,4,FALSE)","v":{"$error":"#N/A"}},true]
[2472,null,null,null,null,null,null,null,{"$f":"IF(ISERROR(VLOOKUP(H2477,Database!$B$1:$C$5908,2,FALSE)),\"\",VLOOKUP(H2477,Database!$B$1:$C$5908,2,FALSE))","v":""},"",{"$error":"#N/A"},null,null,null,null,null,null,null,null,"",false,2,{"$f":"VLOOKUP(H2477,Database!$B$1:$E$4891,4,FALSE)","v":{"$error":"#N/A"}},true]
[2477,null,null,null,null,null,null,null,{"$f":"IF(ISERROR(VLOOKUP(H2482,Database!$B$1:$C$5908,2,FALSE)),\"\",VLOOKUP(H2482,Database!$B$1:$C$5908,2,FALSE))","v":""},"",{"$error":"#N/A"},null,null,null,null,null,null,null,null,"",false,2,{"$f":"VLOOKUP(H2482,Database!$B$1:$E$4891,4,FALSE)","v":{"$error":"#N/A"}},true]
[2478,null,null,null,null,null,null,null,{"$f":"IF(ISERROR(VLOOKUP(H2483,Database!$B$1:$C$5908,2,FALSE)),\"\",VLOOKUP(H2483,Database!$B$1:$C$5908,2,FALSE))","v":""},"",{"$error":"#N/A"},null,null,null,null,null,null,null,null,"",false,2,{"$f":"VLOOKUP(H2483,Database!$B$1:$E$4891,4,FALSE)","v":{"$error":"#N/A"}},true]
[2485,null,null,null,null,null,null,null,{"$f":"IF(ISERROR(VLOOKUP(H2490,Database!$B$1:$C$5908,2,FALSE)),\"\",VLOOKUP(H2490,Database!$B$1:$C$5908,2,FALSE))","v":""},"",{"$error":"#N/A"},null,null,null,null,null,null,null,null,"",false,2,{"$f":"VLOOKUP(H2490,Database!$B$1:$E$4891,4,FALSE)","v":{"$error":"#N/A"}},true]
[2487,null,null,null,null,null,null,null,{"$f":"IF(ISERROR(VLOOKUP(H2492,Database!$B$1:$C$5908,2,FALSE)),\"\",VLOOKUP(H2492,Database!$B$1:$C$5908,2,FALSE))","v":""},"",{"$error":"#N/A"},null,null,null,null,null,null,null,null,"",false,2,{"$f":"VLOOKUP(H2492,Database!$B$1:$E$4891,4,FALSE)","v":{"$error":"#N/A"}},true]
[2493,null,null,null,null,null,null,null,{"$f":"IF(ISERROR(VLOOKUP(H2498,Database!$B$1:$C$5908,2,FALSE)),\"\",VLOOKUP(H2498,Database!$B$1:$C$5908,2,FALSE))","v":""},"",{"$error":"#N/A"},null,null,null,null,null,null,null,null,"",false,2,{"$f":"VLOOKUP(H2498,Database!$B$1:$E$4891,4,FALSE)","v":{"$error":"#N/A"}},true]
[{"$f":"A2502+1","v":2498},null,null,null,null,null,null,null,{"$f":"IF(ISERROR(VLOOKUP(H2503,Database!$B$1:$C$5908,2,FALSE)),\"\",VLOOKUP(H2503,Database!$B$1:$C$5908,2,FALSE))","v":""},{"$f":"IF(V2503=1,1,IF(AND(T2503=0,F2503=\"SSB\",V2503<>\"\"),2,IF(AND(T2503=0,F2503=\"FM\",V2503<>\"\"),2,IF(AND(T2503=0,F2503=\"DIGI\",V2503<>\"\"),3,IF(AND(T2503=0,F2503=\"CW\",V2503<>\"\"),5,IF(H2503=\"-\",\"\",T2503))))))","v":""},{"$f":"IF(H2503=\"-\",\"\",IF(AND(H2503<>\"\",X2503=TRUE),\"INDIPENDENT\",IF(W2503=0,\"SCRIVI NOME NELLE NOTE\",W2503)))","v":{"$error":"#N/A"}},null,null,null,null,null,null,null,null,{"$f":"IF(H2503=\"\",\"\",IF(H2503=$R$6,25,IF(OR(H2503=$R$7,H2503=$R$8,H2503=$R$9,H2503=$R$10,H2503=$R$11,H2503=$R$12,H2503=$R$13,H2503=$R$14,H2503=$R$15,H2503=$R$16,H2503=$R$17,H2503=$R$18,H2503=$R$19,H2503=$R$20,H2503=$R$21,H2503=$R$22,H2503=$R$23),15,0)))","v":""},{"$f":"ISERROR(I2503)","v":false},2,{"$f":"VLOOKUP(H2503,Database!$B$1:$E$4891,4,FALSE)","v":{"$error":"#N/A"}},{"$f":"ISERROR(W2503)","v":true}]
[2504,null,null,null,null,null,null,null,{"$f":"IF(ISERROR(VLOOKUP(H2509,Database!$B$1:$C$5908,2,FALSE)),\"\",VLOOKUP(H2509,Database!$B$1:$C$5908,2,FALSE))","v":""},"",{"$error":"#N/A"},null,null,null,null,null,null,null,null,"",false,2,{"$f":"VLOOKUP(H2509,Database!$B$1:$E$4891,4,FALSE)","v":{"$error":"#N/A"}},true]
[2508,null,null,null,null,null,null,null,{"$f":"IF(ISERROR(VLOOKUP(H2513,Database!$B$1:$C$5908,2,FALSE)),\"\",VLOOKUP(H2513,Database!$B$1:$C$5908,2,FALSE))","v":""},"",{"$error":"#N/A"},null,null,null,null,null,null,null,null,"",false,2,{"$f":"VLOOKUP(H2513,Database!$B$1:$E$4891,4,FALSE)","v":{"$error":"#N/A"}},true]
[2513,null,null,null,null,null,null,null,{"$f":"IF(ISERROR(VLOOKUP(H2518,Database!$B$1:$C$5908,2,FALSE)),\"\",VLOOKUP(H2518,Database!$B$1:$C$5908,2,FALSE))","v":""},"",{"$error":"#N/A"},null,null,null,null,null,null,null,null,"",false,2,{"$f":"VLOOKUP(H2518,Database!$B$1:$E$4891,4,FALSE)","v":{"$error":"#N/A"}},true]
[2519,null,null,null,null,null,null,null,{"$f":"IF(ISERROR(VLOOKUP(H2524,Database!$B$1:$C$5908,2,FALSE)),\"\",VLOOKUP(H2524,Database!$B$1:$C$5908,2,FALSE))","v":""},"",{"$error":"#N/A"},null,null,null,null,null,null,null,null,"",false,2,{"$f":"VLOOKUP(H2524,Database!$B$1:$E$4891,4,FALSE)","v":{"$error":"#N/A"}},true]
[2523,null,null,null,null,null,null,null,{"$f":"IF(ISERROR(VLOOKUP(H2528,Database!$B$1:$C$5908,2,FALSE)),\"\",VLOOKUP(H2528,Database!$B$1:$C$5908,2,FALSE))","v":""},"",{"$error":"#N/A"},null,null,null,null,null,null,null,null,"",false,2,{"$f":"VLOOKUP(H2528,Database!$B$1:$E$4891,4,FALSE)","v":{"$error":"#N/A"}},true]
[2528,null,null,null,null,null,null,null,{"$f":"IF(ISERROR(VLOOKUP(H2533,Database!$B$1:$C$5908,2,FALSE)),\"\",VLOOKUP(H2533,Database!$B$1:$C$5908,2,FALSE))","v":""},"",{"$error":"#N/A"},null,null,null,null,null,null,null,null,"",false,2,{"$f":"VLOOKUP(H2533,Database!$B$1:$E$4891,4,FALSE)","v":{"$error":"#N/A"}},true]
[2534,null,null,null,null,null,null,null,{"$f":"IF(ISERROR(VLOOKUP(H2539,Database!$B$1:$C$5908,2,FALSE)),\"\",VLOOKUP(H2539,Database!$B$1:$C$5908,2,FALSE))","v":""},"",{"$error":"#N/A"},null,null,null,null,null,null,null,null,"",false,2,{"$f":"VLOOKUP(H2539,Database!$B$1:$E$4891,4,FALSE)","v":{"$error":"#N/A"}},true]
[2539,null,null,null,null,null,null,null,{"$f":"IF(ISERROR(VLOOKUP(H2544,Database!$B$1:$C$5908,2,FALSE)),\"\",VLOOKUP(H2544,Database!$B$1:$C$5908,2,FALSE))","v":""},"",{"$error":"#N/A"},null,null,null,null,null,null,null,null,"",false,2,{"$f":"VLOOKUP(H2544,Database!$B$1:$E$4891,4,FALSE)","v":{"$error":"#N/A"}},true]
[2542,null,null,null,null,null,null,null,{"$f":"IF(ISERROR(VLOOKUP(H2547,Database!$B$1:$C$5908,2,FALSE)),\"\",VLOOKUP(H2547,Database!$B$1:$C$5908,2,FALSE))","v":""},"",{"$error":"#N/A"},null,null,null,null,null,null,null,null,"",false,2,{"$f":"VLOOKUP(H2547,Database!$B$1:$E$4891,4,FALSE)","v":{"$error":"#N/A"}},true]
[2544,null,null,null,null,null,null,null,{"$f":"IF(ISERROR(VLOOKUP(H2549,Database!$B$1:$C$5908,2,FALSE)),\"\",VLOOKUP(H2549,Database!$B$1:$C$5908,2,FALSE))","v":""},"",{"$error":"#N/A"},null,null,null,null,null,null,null,null,"",false,2,{"$f":"VLOOKUP(H2549,Database!$B$1:$E$4891,4,FALSE)","v":{"$error":"#N/A"}},true]
[2549,null,null,null,null,null,null,null,{"$f":"IF(ISERROR(VLOOKUP(H2554,Database!$B$1:$C$5908,2,FALSE)),\"\",VLOOKUP(H2554,Database!$B$1:$C$5908,2,FALSE))","v":""},"",{"$error":"#N/A"},null,null,null,null,null,null,null,null,"",false,2,{"$f":"VLOOKUP(H2554,Database!$B$1:$E$4891,4,FALSE)","v":{"$error":"#N/A"}},true]
[2555,null,null,null,null,null,null,null,{"$f":"IF(ISERROR(VLOOKUP(H2560,Database!$B$1:$C$5908,2,FALSE)),\"\",VLOOKUP(H2560,Database!$B$1:$C$5908,2,FALSE))","v":""},"",{"$error":"#N/A"},null,null,null,null,null,null,null,null,"",false,2,{"$f":"VLOOKUP(H2560,Database!$B$1:$E$4891,4,FALSE)","v":{"$error":"#N/A"}},true]
[2561,null,null,null,null,null,null,null,{"$f":"IF(ISERROR(VLOOKUP(H2566,Database!$B$1:$C$5908,2,FALSE)),\"\",VLOOKUP(H2566,Database!$B$1:$C$5908,2,FALSE))","v":""},"",{"$error":"#N/A"},null,null,null,null,null,null,null,null,"",false,2,{"$f":"VLOOKUP(H2566,Database!$B$1:$E$4891,4,FALSE)","v":{"$error":"#N/A"}},true]
[2565,null,null,null,null,null,null,null,{"$f":"IF(ISERROR(VLOOKUP(H2570,Database!$B$1:$C$5908,2,FALSE)),\"\",VLOOKUP(H2570,Database!$B$1:$C$5908,2,FALSE))","v":""},"",{"$error":"#N/A"},null,null,null,null,null,null,null,null,"",false,2,{"$f":"VLOOKUP(H2570,Database!$B$1:$E$4891,4,FALSE)","v":{"$error":"#N/A"}},true]
[2570,null,null,null,null,null,null,null,{"$f":"IF(ISERROR(VLOOKUP(H2575,Database!$B$1:$C$5908,2,FALSE)),\"\",VLOOKUP(H2575,Database!$B$1:$C$5908,2,FALSE))","v":""},"",{"$error":"#N/A"},null,null,null,null,null,null,null,null,"",false,2,{"$f":"VLOOKUP(H2575,Database!$B$1:$E$4891,4,FALSE)","v":{"$error":"#N/A"}},true]
[2575,null,null,null,null,null,null,null,{"$f":"IF(ISERROR(VLOOKUP(H2580,Database!$B$1:$C$5908,2,FALSE)),\"\",VLOOKUP(H2580,Database!$B$1:$C$5908,2,FALSE))","v":""},"",{"$error":"#N/A"},null,null,null,null,null,null,null,null,"",false,2,{"$f":"VLOOKUP(H2580,Database!$B$1:$E$4891,4,FALSE)","v":{"$error":"#N/A"}},true]
[2580,null,null,null,null,null,null,null,{"$f":"IF(ISERROR(VLOOKUP(H2585,Database!$B$1:$C$5908,2,FALSE)),\"\",VLOOKUP(H2585,Database!$B$1:$C$5908,2,FALSE))","v":""},"",{"$error":"#N/A"},null,null,null,null,null,null,null,null,"",false,2,{"$f":"VLOOKUP(H2585,Database!$B$1:$E$4891,4,FALSE)","v":{"$error":"#N/A"}},true]
[2585,null,null,null,null,null,null,null,{"$f":"IF(ISERROR(VLOOKUP(H2590,Database!$B$1:$C$5908,2,FALSE)),\"\",VLOOKUP(H2590,Database!$B$1:$C$5908,2,FALSE))","v":""},"",{"$error":"#N/A"},null,null,null,null,null,null,null,null,"",false,2,{"$f":"VLOOKUP(H2590,Database!$B$1:$E$4891,4,FALSE)","v":{"$error":"#N/A"}},true]
[2590,null,null,null,null,null,null,null,{"$f":"IF(ISERROR(VLOOKUP(H2595,Database!$B$1:$C$5908,2,FALSE)),\"\",VLOOKUP(H2595,Database!$B$1:$C$5908,2,FALSE))","v":""},"",{"$error":"#N/A"},null,null,null,null,null,null,null,null,"",false,2,{"$f":"VLOOKUP(H2595,Database!$B$1:$E$4891,4,FALSE)","v":{"$error":"#N/A"}},true]
[2596,null,null,null,null,null,null,null,{"$f":"IF(ISERROR(VLOOKUP(H2601,Database!$B$1:$C$5908,2,FALSE)),\"\",VLOOKUP(H2601,Database!$B$1:$C$5908,2,FALSE))","v":""},"",{"$error":"#N/A"},null,null,null,null,null,null,null,null,"",false,2,{"$f":"VLOOKUP(H2601,Database!$B$1:$E$4891,4,FALSE)","v":{"$error":"#N/A"}},true]
[2599,null,null,null,null,null,null,null,{"$f":"IF(ISERROR(VLOOKUP(H2604,Database!$B$1:$C$5908,2,FALSE)),\"\",VLOOKUP(H2604,Database!$B$1:$C$5908,2,FALSE))","v":""},"",{"$error":"#N/A"},null,null,null,null,null,null,null,null,"",false,2,{"$f":"VLOOKUP(H2604,Database!$B$1:$E$4891,4,FALSE)","v":{"$error":"#N/A"}},true]
[2601,null,null,null,null,null,null,null,{"$f":"IF(ISERROR(VLOOKUP(H2606,Database!$B$1:$C$5908,2,FALSE)),\"\",VLOOKUP(H2606,Database!$B$1:$C$5908,2,FALSE))","v":""},"",{"$error":"#N/A"},null,null,null,null,null,null,null,null,"",false,2,{"$f":"VLOOKUP(H2606,Database!$B$1:$E$4891,4,FALSE)","v":{"$error":"#N/A"}},true]
[2606,null,null,null,null,null,null,null,{"$f":"IF(ISERROR(VLOOKUP(H2611,Database!$B$1:$C$5908,2,FALSE)),\"\",VLOOKUP(H2611,Database!$B$1:$C$5908,2,FALSE))","v":""},"",{"$error":"#N/A"},null,null,null,null,null,null,null,null,"",false,2,{"$f":"VLOOKUP(H2611,Database!$B$1:$E$4891,4,FALSE)","v":{"$error":"#N/A"}},true]
[2611,null,null,null,null,null,null,null,{"$f":"IF(ISERROR(VLOOKUP(H2616,Database!$B$1:$C$5908,2,FALSE)),\"\",VLOOKUP(H2616,Database!$B$1:$C$5908,2,FALSE))","v":""},"",{"$error":"#N/A"},null,null,null,null,null,null,null,null,"",false,2,{"$f":"VLOOKUP(H2616,Database!$B$1:$E$4891,4,FALSE)","v":{"$error":"#N/A"}},true]
[2618,null,null,null,null,null,null,null,{"$f":"IF(ISERROR(VLOOKUP(H2623,Database!$B$1:$C$5908,2,FALSE)),\"\",VLOOKUP(H2623,Database!$B$1:$C$5908,2,FALSE))","v":""},"",{"$error":"#N/A"},null,null,null,null,null,null,null,null,"",false,2,{"$f":"VLOOKUP(H2623,Database!$B$1:$E$4891,4,FALSE)","v":{"$error":"#N/A"}},true]
[2621,null,null,null,null,null,null,null,{"$f":"IF(ISERROR(VLOOKUP(H2626,Database!$B$1:$C$5908,2,FALSE)),\"\",VLOOKUP(H2626,Database!$B$1:$C$5908,2,FALSE))","v":""},"",{"$error":"#N/A"},null,null,null,null,null,null,null,null,"",false,2,{"$f":"VLOOKUP(H2626,Database!$B$1:$E$4891,4,FALSE)","v":{"$error":"#N/A"}},true]
[2627,null,null,null,null,null,null,null,{"$f":"IF(ISERROR(VLOOKUP(H2632,Database!$B$1:$C$5908,2,FALSE)),\"\",VLOOKUP(H2632,Database!$B$1:$C$5908,2,FALSE))","v":""},"",{"$error":"#N/A"},null,null,null,null,null,null,null,null,"",false,{"$f":"IF(H2632=\"-\",\"\",IF(AND(T2632=0,U2632=FALSE,I2632=\"\"),1,2))","v":2},{"$f":"VLOOKUP(H2632,Database!$B$1:$E$4891,4,FALSE)","v":{"$error":"#N/A"}},true]
[2632,null,null,null,null,null,null,null,{"$f":"IF(ISERROR(VLOOKUP(H2637,Database!$B$1:$C$5908,2,FALSE)),\"\",VLOOKUP(H2637,Database!$B$1:$C$5908,2,FALSE))","v":""},"",{"$error":"#N/A"},null,null,null,null,null,null,null,null,"",false,2,{"$f":"VLOOKUP(H2637,Database!$B$1:$E$4891,4,FALSE)","v":{"$error":"#N/A"}},true]
[2637,null,null,null,null,null,null,null,{"$f":"IF(ISERROR(VLOOKUP(H2642,Database!$B$1:$C$5908,2,FALSE)),\"\",VLOOKUP(H2642,Database!$B$1:$C$5908,2,FALSE))","v":""},"",{"$error":"#N/A"},null,null,null,null,null,null,null,null,"",false,2,{"$f":"VLOOKUP(H2642,Database!$B$1:$E$4891,4,FALSE)","v":{"$error":"#N/A"}},true]
[2642,null,null,null,null,null,null,null,{"$f":"IF(ISERROR(VLOOKUP(H2647,Database!$B$1:$C$5908,2,FALSE)),\"\",VLOOKUP(H2647,Database!$B$1:$C$5908,2,FALSE))","v":""},"",{"$error":"#N/A"},null,null,null,null,null,null,null,null,"",false,2,{"$f":"VLOOKUP(H2647,Database!$B$1:$E$4891,4,FALSE)","v":{"$error":"#N/A"}},true]
[2647,null,null,null,null,null,null,null,{"$f":"IF(ISERROR(VLOOKUP(H2652,Database!$B$1:$C$5908,2,FALSE)),\"\",VLOOKUP(H2652,Database!$B$1:$C$5908,2,FALSE))","v":""},"",{"$error":"#N/A"},null,null,null,null,null,null,null,null,"",false,2,{"$f":"VLOOKUP(H2652,Database!$B$1:$E$4891,4,FALSE)","v":{"$error":"#N/A"}},true]
[2652,null,null,null,null,null,null,null,{"$f":"IF(ISERROR(VLOOKUP(H2657,Database!$B$1:$C$5908,2,FALSE)),\"\",VLOOKUP(H2657,Database!$B$1:$C$5908,2,FALSE))","v":""},"",{"$error":"#N/A"},null,null,null,null,null,null,null,null,"",false,2,{"$f":"VLOOKUP(H2657,Database!$B$1:$E$4891,4,FALSE)","v":{"$error":"#N/A"}},true]
[2656,null,null,null,null,null,null,null,{"$f":"IF(ISERROR(VLOOKUP(H2661,Database!$B$1:$C$5908,2,FALSE)),\"\",VLOOKUP(H2661,Database!$B$1:$C$5908,2,FALSE))","v":""},"",{"$error":"#N/A"},null,null,null,null,null,null,null,null,"",false,2,{"$f":"VLOOKUP(H2661,Database!$B$1:$E$4891,4,FALSE)","v":{"$error":"#N/A"}},true]
[2662,null,null,null,null,null,null,null,{"$f":"IF(ISERROR(VLOOKUP(H2667,Database!$B$1:$C$5908,2,FALSE)),\"\",VLOOKUP(H2667,Database!$B$1:$C$5908,2,FALSE))","v":""},"",{"$error":"#N/A"},null,null,null,null,null,null,null,null,"",false,2,{"$f":"VLOOKUP(H2667,Database!$B$1:$E$4891,4,FALSE)","v":{"$error":"#N/A"}},true]
[2663,null,null,null,null,null,null,null,{"$f":"IF(ISERROR(VLOOKUP(H2668,Database!$B$1:$C$5908,2,FALSE)),\"\",VLOOKUP(H2668,Database!$B$1:$C$5908,2,FALSE))","v":""},"",{"$error":"#N/A"},null,null,null,null,null,null,null,null,"",false,2,{"$f":"VLOOKUP(H2668,Database!$B$1:$E$4891,4,FALSE)","v":{"$error":"#N/A"}},true]
[2668,null,null,null,null,null,null,null,{"$f":"IF(ISERROR(VLOOKUP(H2673,Database!$B$1:$C$5908,2,FALSE)),\"\",VLOOKUP(H2673,Database!$B$1:$C$5908,2,FALSE))","v":""},"",{"$error":"#N/A"},null,null,null,null,null,null,null,null,"",false,2,{"$f":"VLOOKUP(H2673,Database!$B$1:$E$4891,4,FALSE)","v":{"$error":"#N/A"}},true]
[2675,null,null,null,null,null,null,null,{"$f":"IF(ISERROR(VLOOKUP(H2680,Database!$B$1:$C$5908,2,FALSE)),\"\",VLOOKUP(H2680,Database!$B$1:$C$5908,2,FALSE))","v":""},"",{"$error":"#N/A"},null,null,null,null,null,null,null,null,"",false,2,{"$f":"VLOOKUP(H2680,Database!$B$1:$E$4891,4,FALSE)","v":{"$error":"#N/A"}},true]
[2678,null,null,null,null,null,null,null,{"$f":"IF(ISERROR(VLOOKUP(H2683,Database!$B$1:$C$5908,2,FALSE)),\"\",VLOOKUP(H2683,Database!$B$1:$C$5908,2,FALSE))","v":""},"",{"$error":"#N/A"},null,null,null,null,null,null,null,null,"",false,2,{"$f":"VLOOKUP(H2683,Database!$B$1:$E$4891,4,FALSE)","v":{"$error":"#N/A"}},true]
[2683,null,null,null,null,null,null,null,{"$f":"IF(ISERROR(VLOOKUP(H2688,Database!$B$1:$C$5908,2,FALSE)),\"\",VLOOKUP(H2688,Database!$B$1:$C$5908,2,FALSE))","v":""},"",{"$error":"#N/A"},null,null,null,null,null,null,null,null,"",false,2,{"$f":"VLOOKUP(H2688,Database!$B$1:$E$4891,4,FALSE)","v":{"$error":"#N/A"}},true]
[2688,null,null,null,null,null,null,null,{"$f":"IF(ISERROR(VLOOKUP(H2693,Database!$B$1:$C$5908,2,FALSE)),\"\",VLOOKUP(H2693,Database!$B$1:$C$5908,2,FALSE))","v":""},"",{"$error":"#N/A"},null,null,null,null,null,null,null,null,"",false,2,{"$f":"VLOOKUP(H2693,Database!$B$1:$E$4891,4,FALSE)","v":{"$error":"#N/A"}},true]
[2694,null,null,null,null,null,null,null,{"$f":"IF(ISERROR(VLOOKUP(H2699,Database!$B$1:$C$5908,2,FALSE)),\"\",VLOOKUP(H2699,Database!$B$1:$C$5908,2,FALSE))","v":""},"",{"$error":"#N/A"},null,null,null,null,null,null,null,null,"",false,2,{"$f":"VLOOKUP(H2699,Database!$B$1:$E$4891,4,FALSE)","v":{"$error":"#N/A"}},true]
[2698,null,null,null,null,null,null,null,{"$f":"IF(ISERROR(VLOOKUP(H2703,Database!$B$1:$C$5908,2,FALSE)),\"\",VLOOKUP(H2703,Database!$B$1:$C$5908,2,FALSE))","v":""},"",{"$error":"#N/A"},null,null,null,null,null,null,null,null,"",false,2,{"$f":"VLOOKUP(H2703,Database!$B$1:$E$4891,4,FALSE)","v":{"$error":"#N/A"}},true]
[2704,null,null,null,null,null,null,null,{"$f":"IF(ISERROR(VLOOKUP(H2709,Database!$B$1:$C$5908,2,FALSE)),\"\",VLOOKUP(H2709,Database!$B$1:$C$5908,2,FALSE))","v":""},"",{"$error":"#N/A"},null,null,null,null,null,null,null,null,"",false,2,{"$f":"VLOOKUP(H2709,Database!$B$1:$E$4891,4,FALSE)","v":{"$error":"#N/A"}},true]
[2709,null,null,null,null,null,null,null,{"$f":"IF(ISERROR(VLOOKUP(H2714,Database!$B$1:$C$5908,2,FALSE)),\"\",VLOOKUP(H2714,Database!$B$1:$C$5908,2,FALSE))","v":""},"",{"$error":"#N/A"},null,null,null,null,null,null,null,null,"",false,2,{"$f":"VLOOKUP(H2714,Database!$B$1:$E$4891,4,FALSE)","v":{"$error":"#N/A"}},true]
[2713,null,null,null,null,null,null,null,{"$f":"IF(ISERROR(VLOOKUP(H2718,Database!$B$1:$C$5908,2,FALSE)),\"\",VLOOKUP(H2718,Database!$B$1:$C$5908,2,FALSE))","v":""},"",{"$error":"#N/A"},null,null,null,null,null,null,null,null,"",false,2,{"$f":"VLOOKUP(H2718,Database!$B$1:$E$4891,4,FALSE)","v":{"$error":"#N/A"}},true]
[2719,null,null,null,null,null,null,null,{"$f":"IF(ISERROR(VLOOKUP(H2724,Database!$B$1:$C$5908,2,FALSE)),\"\",VLOOKUP(H2724,Database!$B$1:$C$5908,2,FALSE))","v":""},"",{"$error":"#N/A"},null,null,null,null,null,null,null,null,"",false,2,{"$f":"VLOOKUP(H2724,Database!$B$1:$E$4891,4,FALSE)","v":{"$error":"#N/A"}},true]
[2724,null,null,null,null,null,null,null,{"$f":"IF(ISERROR(VLOOKUP(H2729,Database!$B$1:$C$5908,2,FALSE)),\"\",VLOOKUP(H2729,Database!$B$1:$C$5908,2,FALSE))","v":""},"",{"$error":"#N/A"},null,null,null,null,null,null,null,null,"",false,2,{"$f":"VLOOKUP(H2729,Database!$B$1:$E$4891,4,FALSE)","v":{"$error":"#N/A"}},true]
[2725,null,null,null,null,null,null,null,{"$f":"IF(ISERROR(VLOOKUP(H2730,Database!$B$1:$C$5908,2,FALSE)),\"\",VLOOKUP(H2730,Database!$B$1:$C$5908,2,FALSE))","v":""},"",{"$error":"#N/A"},null,null,null,null,null,null,null,null,"",false,2,{"$f":"VLOOKUP(H2730,Database!$B$1:$E$4891,4,FALSE)","v":{"$error":"#N/A"}},true]
[2732,null,null,null,null,null,null,null,{"$f":"IF(ISERROR(VLOOKUP(H2737,Database!$B$1:$C$5908,2,FALSE)),\"\",VLOOKUP(H2737,Database!$B$1:$C$5908,2,FALSE))","v":""},"",{"$error":"#N/A"},null,null,null,null,null,null,null,null,"",false,2,{"$f":"VLOOKUP(H2737,Database!$B$1:$E$4891,4,FALSE)","v":{"$error":"#N/A"}},true]
[2734,null,null,null,null,null,null,null,{"$f":"IF(ISERROR(VLOOKUP(H2739,Database!$B$1:$C$5908,2,FALSE)),\"\",VLOOKUP(H2739,Database!$B$1:$C$5908,2,FALSE))","v":""},"",{"$error":"#N/A"},null,null,null,null,null,null,null,null,"",false,2,{"$f":"VLOOKUP(H2739,Database!$B$1:$E$4891,4,FALSE)","v":{"$error":"#N/A"}},true]
[2740,null,null,null,null,null,null,null,{"$f":"IF(ISERROR(VLOOKUP(H2745,Database!$B$1:$C$5908,2,FALSE)),\"\",VLOOKUP(H2745,Database!$B$1:$C$5908,2,FALSE))","v":""},"",{"$error":"#N/A"},null,null,null,null,null,null,null,null,"",false,2,{"$f":"VLOOKUP(H2745,Database!$B$1:$E$4891,4,FALSE)","v":{"$error":"#N/A"}},true]
[2745,null,null,null,null,null,null,null,{"$f":"IF(ISERROR(VLOOKUP(H2750,Database!$B$1:$C$5908,2,FALSE)),\"\",VLOOKUP(H2750,Database!$B$1:$C$5908,2,FALSE))","v":""},"",{"$error":"#N/A"},null,null,null,null,null,null,null,null,"",false,2,{"$f":"VLOOKUP(H2750,Database!$B$1:$E$4891,4,FALSE)","v":{"$error":"#N/A"}},true]
[2751,null,null,null,null,null,null,null,{"$f":"IF(ISERROR(VLOOKUP(H2756,Database!$B$1:$C$5908,2,FALSE)),\"\",VLOOKUP(H2756,Database!$B$1:$C$5908,2,FALSE))","v":""},"",{"$error":"#N/A"},null,null,null,null,null,null,null,null,"",false,2,{"$f":"VLOOKUP(H2756,Database!$B$1:$E$4891,4,FALSE)","v":{"$error":"#N/A"}},true]
[2755,null,null,null,null,null,null,null,{"$f":"IF(ISERROR(VLOOKUP(H2760,Database!$B$1:$C$5908,2,FALSE)),\"\",VLOOKUP(H2760,Database!$B$1:$C$5908,2,FALSE))","v":""},"",{"$error":"#N/A"},null,null,null,null,null,null,null,null,"",false,{"$f":"IF(H2760=\"-\",\"\",IF(AND(T2760=0,U2760=FALSE,I2760=\"\"),1,2))","v":2},{"$f":"VLOOKUP(H2760,Database!$B$1:$E$4891,4,FALSE)","v":{"$error":"#N/A"}},true]
[2760,null,null,null,null,null,null,null,{"$f":"IF(ISERROR(VLOOKUP(H2765,Database!$B$1:$C$5908,2,FALSE)),\"\",VLOOKUP(H2765,Database!$B$1:$C$5908,2,FALSE))","v":""},"",{"$error":"#N/A"},null,null,null,null,null,null,null,null,"",false,2,{"$f":"VLOOKUP(H2765,Database!$B$1:$E$4891,4,FALSE)","v":{"$error":"#N/A"}},true]
[2766,null,null,null,null,null,null,null,{"$f":"IF(ISERROR(VLOOKUP(H2771,Database!$B$1:$C$5908,2,FALSE)),\"\",VLOOKUP(H2771,Database!$B$1:$C$5908,2,FALSE))","v":""},"",{"$error":"#N/A"},null,null,null,null,null,null,null,null,"",false,2,{"$f":"VLOOKUP(H2771,Database!$B$1:$E$4891,4,FALSE)","v":{"$error":"#N/A"}},true]
[2770,null,null,null,null,null,null,null,{"$f":"IF(ISERROR(VLOOKUP(H2775,Database!$B$1:$C$5908,2,FALSE)),\"\",VLOOKUP(H2775,Database!$B$1:$C$5908,2,FALSE))","v":""},"",{"$error":"#N/A"},null,null,null,null,null,null,null,null,"",false,2,{"$f":"VLOOKUP(H2775,Database!$B$1:$E$4891,4,FALSE)","v":{"$error":"#N/A"}},true]
[2775,null,null,null,null,null,null,null,{"$f":"IF(ISERROR(VLOOKUP(H2780,Database!$B$1:$C$5908,2,FALSE)),\"\",VLOOKUP(H2780,Database!$B$1:$C$5908,2,FALSE))","v":""},"",{"$error":"#N/A"},null,null,null,null,null,null,null,null,"",false,2,{"$f":"VLOOKUP(H2780,Database!$B$1:$E$4891,4,FALSE)","v":{"$error":"#N/A"}},true]
[2781,null,null,null,null,null,null,null,{"$f":"IF(ISERROR(VLOOKUP(H2786,Database!$B$1:$C$5908,2,FALSE)),\"\",VLOOKUP(H2786,Database!$B$1:$C$5908,2,FALSE))","v":""},"",{"$error":"#N/A"},null,null,null,null,null,null,null,null,"",false,2,{"$f":"VLOOKUP(H2786,Database!$B$1:$E$4891,4,FALSE)","v":{"$error":"#N/A"}},true]
[2786,null,null,null,null,null,null,null,{"$f":"IF(ISERROR(VLOOKUP(H2791,Database!$B$1:$C$5908,2,FALSE)),\"\",VLOOKUP(H2791,Database!$B$1:$C$5908,2,FALSE))","v":""},"",{"$error":"#N/A"},null,null,null,null,null,null,null,null,"",false,2,{"$f":"VLOOKUP(H2791,Database!$B$1:$E$4891,4,FALSE)","v":{"$error":"#N/A"}},true]
[2789,null,null,null,null,null,null,null,{"$f":"IF(ISERROR(VLOOKUP(H2794,Database!$B$1:$C$5908,2,FALSE)),\"\",VLOOKUP(H2794,Database!$B$1:$C$5908,2,FALSE))","v":""},"",{"$error":"#N/A"},null,null,null,null,null,null,null,null,"",false,2,{"$f":"VLOOKUP(H2794,Database!$B$1:$E$4891,4,FALSE)","v":{"$error":"#N/A"}},true]
[2791,null,null,null,null,null,null,null,{"$f":"IF(ISERROR(VLOOKUP(H2796,Database!$B$1:$C$5908,2,FALSE)),\"\",VLOOKUP(H2796,Database!$B$1:$C$5908,2,FALSE))","v":""},"",{"$error":"#N/A"},null,null,null,null,null,null,null,null,"",false,2,{"$f":"VLOOKUP(H2796,Database!$B$1:$E$4891,4,FALSE)","v":{"$error":"#N/A"}},true]
[2796,null,null,null,null,null,null,null,{"$f":"IF(ISERROR(VLOOKUP(H2801,Database!$B$1:$C$5908,2,FALSE)),\"\",VLOOKUP(H2801,Database!$B$1:$C$5908,2,FALSE))","v":""},"",{"$error":"#N/A"},null,null,null,null,null,null,null,null,"",false,2,{"$f":"VLOOKUP(H2801,Database!$B$1:$E$4891,4,FALSE)","v":{"$error":"#N/A"}},true]
[2802,null,null,null,null,null,null,null,{"$f":"IF(ISERROR(VLOOKUP(H2807,Database!$B$1:$C$5908,2,FALSE)),\"\",VLOOKUP(H2807,Database!$B$1:$C$5908,2,FALSE))","v":""},"",{"$error":"#N/A"},null,null,null,null,null,null,null,null,"",false,2,{"$f":"VLOOKUP(H2807,Database!$B$1:$E$4891,4,FALSE)","v":{"$error":"#N/A"}},true]
[2808,null,null,null,null,null,null,null,{"$f":"IF(ISERROR(VLOOKUP(H2813,Database!$B$1:$C$5908,2,FALSE)),\"\",VLOOKUP(H2813,Database!$B$1:$C$5908,2,FALSE))","v":""},"",{"$error":"#N/A"},null,null,null,null,null,null,null,null,"",false,2,{"$f":"VLOOKUP(H2813,Database!$B$1:$E$4891,4,FALSE)","v":{"$error":"#N/A"}},true]
[2811,null,null,null,null,null,null,null,{"$f":"IF(ISERROR(VLOOKUP(H2816,Database!$B$1:$C$5908,2,FALSE)),\"\",VLOOKUP(H2816,Database!$B$1:$C$5908,2,FALSE))","v":""},"",{"$error":"#N/A"},null,null,null,null,null,null,null,null,"",false,2,{"$f":"VLOOKUP(H2816,Database!$B$1:$E$4891,4,FALSE)","v":{"$error":"#N/A"}},true]
[2817,null,null,null,null,null,null,null,{"$f":"IF(ISERROR(VLOOKUP(H2822,Database!$B$1:$C$5908,2,FALSE)),\"\",VLOOKUP(H2822,Database!$B$1:$C$5908,2,FALSE))","v":""},"",{"$error":"#N/A"},null,null,null,null,null,null,null,null,"",false,2,{"$f":"VLOOKUP(H2822,Database!$B$1:$E$4891,4,FALSE)","v":{"$error":"#N/A"}},true]
[2822,null,null,null,null,null,null,null,{"$f":"IF(ISERROR(VLOOKUP(H2827,Database!$B$1:$C$5908,2,FALSE)),\"\",VLOOKUP(H2827,Database!$B$1:$C$5908,2,FALSE))","v":""},"",{"$error":"#N/A"},null,null,null,null,null,null,null,null,"",false,2,{"$f":"VLOOKUP(H2827,Database!$B$1:$E$4891,4,FALSE)","v":{"$error":"#N/A"}},true]
[2827,null,null,null,null,null,null,null,{"$f":"IF(ISERROR(VLOOKUP(H2832,Database!$B$1:$C$5908,2,FALSE)),\"\",VLOOKUP(H2832,Database!$B$1:$C$5908,2,FALSE))","v":""},"",{"$error":"#N/A"},null,null,null,null,null,null,null,null,"",false,2,{"$f":"VLOOKUP(H2832,Database!$B$1:$E$4891,4,FALSE)","v":{"$error":"#N/A"}},true]
[2832,null,null,null,null,null,null,null,{"$f":"IF(ISERROR(VLOOKUP(H2837,Database!$B$1:$C$5908,2,FALSE)),\"\",VLOOKUP(H2837,Database!$B$1:$C$5908,2,FALSE))","v":""},"",{"$error":"#N/A"},null,null,null,null,null,null,null,null,"",false,2,{"$f":"VLOOKUP(H2837,Database!$B$1:$E$4891,4,FALSE)","v":{"$error":"#N/A"}},true]
[2837,null,null,null,null,null,null,null,{"$f":"IF(ISERROR(VLOOKUP(H2842,Database!$B$1:$C$5908,2,FALSE)),\"\",VLOOKUP(H2842,Database!$B$1:$C$5908,2,FALSE))","v":""},"",{"$error":"#N/A"},null,null,null,null,null,null,null,null,"",false,2,{"$f":"VLOOKUP(H2842,Database!$B$1:$E$4891,4,FALSE)","v":{"$error":"#N/A"}},true]
[2843,null,null,null,null,null,null,null,{"$f":"IF(ISERROR(VLOOKUP(H2848,Database!$B$1:$C$5908,2,FALSE)),\"\",VLOOKUP(H2848,Database!$B$1:$C$5908,2,FALSE))","v":""},"",{"$error":"#N/A"},null,null,null,null,null,null,null,null,"",false,2,{"$f":"VLOOKUP(H2848,Database!$B$1:$E$4891,4,FALSE)","v":{"$error":"#N/A"}},true]
[2846,null,null,null,null,null,null,null,{"$f":"IF(ISERROR(VLOOKUP(H2851,Database!$B$1:$C$5908,2,FALSE)),\"\",VLOOKUP(H2851,Database!$B$1:$C$5908,2,FALSE))","v":""},"",{"$error":"#N/A"},null,null,null,null,null,null,null,null,"",false,2,{"$f":"VLOOKUP(H2851,Database!$B$1:$E$4891,4,FALSE)","v":{"$error":"#N/A"}},true]
[2852,null,null,null,null,null,null,null,{"$f":"IF(ISERROR(VLOOKUP(H2857,Database!$B$1:$C$5908,2,FALSE)),\"\",VLOOKUP(H2857,Database!$B$1:$C$5908,2,FALSE))","v":""},"",{"$error":"#N/A"},null,null,null,null,null,null,null,null,"",false,2,{"$f":"VLOOKUP(H2857,Database!$B$1:$E$4891,4,FALSE)","v":{"$error":"#N/A"}},true]
[2853,null,null,null,null,null,null,null,{"$f":"IF(ISERROR(VLOOKUP(H2858,Database!$B$1:$C$5908,2,FALSE)),\"\",VLOOKUP(H2858,Database!$B$1:$C$5908,2,FALSE))","v":""},"",{"$error":"#N/A"},null,null,null,null,null,null,null,null,"",false,2,{"$f":"VLOOKUP(H2858,Database!$B$1:$E$4891,4,FALSE)","v":{"$error":"#N/A"}},true]
[2858,null,null,null,null,null,null,null,{"$f":"IF(ISERROR(VLOOKUP(H2863,Database!$B$1:$C$5908,2,FALSE)),\"\",VLOOKUP(H2863,Database!$B$1:$C$5908,2,FALSE))","v":""},"",{"$error":"#N/A"},null,null,null,null,null,null,null,null,"",false,2,{"$f":"VLOOKUP(H2863,Database!$B$1:$E$4891,4,FALSE)","v":{"$error":"#N/A"}},true]
[2865,null,null,null,null,null,null,null,{"$f":"IF(ISERROR(VLOOKUP(H2870,Database!$B$1:$C$5908,2,FALSE)),\"\",VLOOKUP(H2870,Database!$B$1:$C$5908,2,FALSE))","v":""},"",{"$error":"#N/A"},null,null,null,null,null,null,null,null,"",false,2,{"$f":"VLOOKUP(H2870,Database!$B$1:$E$4891,4,FALSE)","v":{"$error":"#N/A"}},true]
[2868,null,null,null,null,null,null,null,{"$f":"IF(ISERROR(VLOOKUP(H2873,Database!$B$1:$C$5908,2,FALSE)),\"\",VLOOKUP(H2873,Database!$B$1:$C$5908,2,FALSE))","v":""},"",{"$error":"#N/A"},null,null,null,null,null,null,null,null,"",false,2,{"$f":"VLOOKUP(H2873,Database!$B$1:$E$4891,4,FALSE)","v":{"$error":"#N/A"}},true]
[2873,null,null,null,null,null,null,null,{"$f":"IF(ISERROR(VLOOKUP(H2878,Database!$B$1:$C$5908,2,FALSE)),\"\",VLOOKUP(H2878,Database!$B$1:$C$5908,2,FALSE))","v":""},"",{"$error":"#N/A"},null,null,null,null,null,null,null,null,"",false,2,{"$f":"VLOOKUP(H2878,Database!$B$1:$E$4891,4,FALSE)","v":{"$error":"#N/A"}},true]
[2879,null,null,null,null,null,null,null,{"$f":"IF(ISERROR(VLOOKUP(H2884,Database!$B$1:$C$5908,2,FALSE)),\"\",VLOOKUP(H2884,Database!$B$1:$C$5908,2,FALSE))","v":""},"",{"$error":"#N/A"},null,null,null,null,null,null,null,null,"",false,2,{"$f":"VLOOKUP(H2884,Database!$B$1:$E$4891,4,FALSE)","v":{"$error":"#N/A"}},true]
[2884,null,null,null,null,null,null,null,{"$f":"IF(ISERROR(VLOOKUP(H2889,Database!$B$1:$C$5908,2,FALSE)),\"\",VLOOKUP(H2889,Database!$B$1:$C$5908,2,FALSE))","v":""},"",{"$error":"#N/A"},null,null,null,null,null,null,null,null,"",false,2,{"$f":"VLOOKUP(H2889,Database!$B$1:$E$4891,4,FALSE)","v":{"$error":"#N/A"}},true]
[2889,null,null,null,null,null,null,null,{"$f":"IF(ISERROR(VLOOKUP(H2894,Database!$B$1:$C$5908,2,FALSE)),\"\",VLOOKUP(H2894,Database!$B$1:$C$5908,2,FALSE))","v":""},"",{"$error":"#N/A"},null,null,null,null,null,null,null,null,"",false,2,{"$f":"VLOOKUP(H2894,Database!$B$1:$E$4891,4,FALSE)","v":{"$error":"#N/A"}},true]
[2894,null,null,null,null,null,null,null,{"$f":"IF(ISERROR(VLOOKUP(H2899,Database!$B$1:$C$5908,2,FALSE)),\"\",VLOOKUP(H2899,Database!$B$1:$C$5908,2,FALSE))","v":""},"",{"$error":"#N/A"},null,null,null,null,null,null,null,null,"",false,2,{"$f":"VLOOKUP(H2899,Database!$B$1:$E$4891,4,FALSE)","v":{"$error":"#N/A"}},true]
[2899,null,null,null,null,null,null,null,{"$f":"IF(ISERROR(VLOOKUP(H2904,Database!$B$1:$C$5908,2,FALSE)),\"\",VLOOKUP(H2904,Database!$B$1:$C$5908,2,FALSE))","v":""},"",{"$error":"#N/A"},null,null,null,null,null,null,null,null,"",false,2,{"$f":"VLOOKUP(H2904,Database!$B$1:$E$4891,4,FALSE)","v":{"$error":"#N/A"}},true]
[2903,null,null,null,null,null,null,null,{"$f":"IF(ISERROR(VLOOKUP(H2908,Database!$B$1:$C$5908,2,FALSE)),\"\",VLOOKUP(H2908,Database!$B$1:$C$5908,2,FALSE))","v":""},"",{"$error":"#N/A"},null,null,null,null,null,null,null,null,"",false,2,{"$f":"VLOOKUP(H2908,Database!$B$1:$E$4891,4,FALSE)","v":{"$error":"#N/A"}},true]
[2909,null,null,null,null,null,null,null,{"$f":"IF(ISERROR(VLOOKUP(H2914,Database!$B$1:$C$5908,2,FALSE)),\"\",VLOOKUP(H2914,Database!$B$1:$C$5908,2,FALSE))","v":""},"",{"$error":"#N/A"},null,null,null,null,null,null,null,null,"",false,2,{"$f":"VLOOKUP(H2914,Database!$B$1:$E$4891,4,FALSE)","v":{"$error":"#N/A"}},true]
[2914,null,null,null,null,null,null,null,{"$f":"IF(ISERROR(VLOOKUP(H2919,Database!$B$1:$C$5908,2,FALSE)),\"\",VLOOKUP(H2919,Database!$B$1:$C$5908,2,FALSE))","v":""},"",{"$error":"#N/A"},null,null,null,null,null,null,null,null,"",false,2,{"$f":"VLOOKUP(H2919,Database!$B$1:$E$4891,4,FALSE)","v":{"$error":"#N/A"}},true]
[2915,null,null,null,null,null,null,null,{"$f":"IF(ISERROR(VLOOKUP(H2920,Database!$B$1:$C$5908,2,FALSE)),\"\",VLOOKUP(H2920,Database!$B$1:$C$5908,2,FALSE))","v":""},"",{"$error":"#N/A"},null,null,null,null,null,null,null,null,"",false,2,{"$f":"VLOOKUP(H2920,Database!$B$1:$E$4891,4,FALSE)","v":{"$error":"#N/A"}},true]
[2922,null,null,null,null,null,null,null,{"$f":"IF(ISERROR(VLOOKUP(H2927,Database!$B$1:$C$5908,2,FALSE)),\"\",VLOOKUP(H2927,Database!$B$1:$C$5908,2,FALSE))","v":""},"",{"$error":"#N/A"},null,null,null,null,null,null,null,null,"",false,2,{"$f":"VLOOKUP(H2927,Database!$B$1:$E$4891,4,FALSE)","v":{"$error":"#N/A"}},true]
[2925,null,null,null,null,null,null,null,{"$f":"IF(ISERROR(VLOOKUP(H2930,Database!$B$1:$C$5908,2,FALSE)),\"\",VLOOKUP(H2930,Database!$B$1:$C$5908,2,FALSE))","v":""},"",{"$error":"#N/A"},null,null,null,null,null,null,null,null,"",false,2,{"$f":"VLOOKUP(H2930,Database!$B$1:$E$4891,4,FALSE)","v":{"$error":"#N/A"}},true]
[2930,null,null,null,null,null,null,null,{"$f":"IF(ISERROR(VLOOKUP(H2935,Database!$B$1:$C$5908,2,FALSE)),\"\",VLOOKUP(H2935,Database!$B$1:$C$5908,2,FALSE))","v":""},"",{"$error":"#N/A"},null,null,null,null,null,null,null,null,"",false,2,{"$f":"VLOOKUP(H2935,Database!$B$1:$E$4891,4,FALSE)","v":{"$error":"#N/A"}},true]
[2935,null,null,null,null,null,null,null,{"$f":"IF(ISERROR(VLOOKUP(H2940,Database!$B$1:$C$5908,2,FALSE)),\"\",VLOOKUP(H2940,Database!$B$1:$C$5908,2,FALSE))","v":""},"",{"$error":"#N/A"},null,null,null,null,null,null,null,null,"",false,2,{"$f":"VLOOKUP(H2940,Database!$B$1:$E$4891,4,FALSE)","v":{"$error":"#N/A"}},true]
[2941,null,null,null,null,null,null,null,{"$f":"IF(ISERROR(VLOOKUP(H2946,Database!$B$1:$C$5908,2,FALSE)),\"\",VLOOKUP(H2946,Database!$B$1:$C$5908,2,FALSE))","v":""},"",{"$error":"#N/A"},null,null,null,null,null,null,null,null,"",false,2,{"$f":"VLOOKUP(H2946,Database!$B$1:$E$4891,4,FALSE)","v":{"$error":"#N/A"}},true]
[2945,null,null,null,null,null,null,null,{"$f":"IF(ISERROR(VLOOKUP(H2950,Database!$B$1:$C$5908,2,FALSE)),\"\",VLOOKUP(H2950,Database!$B$1:$C$5908,2,FALSE))","v":""},"",{"$error":"#N/A"},null,null,null,null,null,null,null,null,"",false,2,{"$f":"VLOOKUP(H2950,Database!$B$1:$E$4891,4,FALSE)","v":{"$error":"#N/A"}},true]
[2950,null,null,null,null,null,null,null,{"$f":"IF(ISERROR(VLOOKUP(H2955,Database!$B$1:$C$5908,2,FALSE)),\"\",VLOOKUP(H2955,Database!$B$1:$C$5908,2,FALSE))","v":""},"",{"$error":"#N/A"},null,null,null,null,null,null,null,null,"",false,2,{"$f":"VLOOKUP(H2955,Database!$B$1:$E$4891,4,FALSE)","v":{"$error":"#N/A"}},true]
[2956,null,null,null,null,null,null,null,{"$f":"IF(ISERROR(VLOOKUP(H2961,Database!$B$1:$C$5908,2,FALSE)),\"\",VLOOKUP(H2961,Database!$B$1:$C$5908,2,FALSE))","v":""},"",{"$error":"#N/A"},null,null,null,null,null,null,null,null,"",false,2,{"$f":"VLOOKUP(H2961,Database!$B$1:$E$4891,4,FALSE)","v":{"$error":"#N/A"}},true]
[2960,null,null,null,null,null,null,null,{"$f":"IF(ISERROR(VLOOKUP(H2965,Database!$B$1:$C$5908,2,FALSE)),\"\",VLOOKUP(H2965,Database!$B$1:$C$5908,2,FALSE))","v":""},"",{"$error":"#N/A"},null,null,null,null,null,null,null,null,"",false,2,{"$f":"VLOOKUP(H2965,Database!$B$1:$E$4891,4,FALSE)","v":{"$error":"#N/A"}},true]
[2966,null,null,null,null,null,null,null,{"$f":"IF(ISERROR(VLOOKUP(H2971,Database!$B$1:$C$5908,2,FALSE)),\"\",VLOOKUP(H2971,Database!$B$1:$C$5908,2,FALSE))","v":""},"",{"$error":"#N/A"},null,null,null,null,null,null,null,null,"",false,2,{"$f":"VLOOKUP(H2971,Database!$B$1:$E$4891,4,FALSE)","v":{"$error":"#N/A"}},true]
[2971,null,null,null,null,null,null,null,{"$f":"IF(ISERROR(VLOOKUP(H2976,Database!$B$1:$C$5908,2,FALSE)),\"\",VLOOKUP(H2976,Database!$B$1:$C$5908,2,FALSE))","v":""},"",{"$error":"#N/A"},null,null,null,null,null,null,null,null,"",false,2,{"$f":"VLOOKUP(H2976,Database!$B$1:$E$4891,4,FALSE)","v":{"$error":"#N/A"}},true]
[2976,null,null,null,null,null,null,null,{"$f":"IF(ISERROR(VLOOKUP(H2981,Database!$B$1:$C$5908,2,FALSE)),\"\",VLOOKUP(H2981,Database!$B$1:$C$5908,2,FALSE))","v":""},"",{"$error":"#N/A"},null,null,null,null,null,null,null,null,"",false,2,{"$f":"VLOOKUP(H2981,Database!$B$1:$E$4891,4,FALSE)","v":{"$error":"#N/A"}},true]
[2979,null,null,null,null,null,null,null,{"$f":"IF(ISERROR(VLOOKUP(H2984,Database!$B$1:$C$5908,2,FALSE)),\"\",VLOOKUP(H2984,Database!$B$1:$C$5908,2,FALSE))","v":""},"",{"$error":"#N/A"},null,null,null,null,null,null,null,null,"",false,2,{"$f":"VLOOKUP(H2984,Database!$B$1:$E$4891,4,FALSE)","v":{"$error":"#N/A"}},true]
[2981,null,null,null,null,null,null,null,{"$f":"IF(ISERROR(VLOOKUP(H2986,Database!$B$1:$C$5908,2,FALSE)),\"\",VLOOKUP(H2986,Database!$B$1:$C$5908,2,FALSE))","v":""},"",{"$error":"#N/A"},null,null,null,null,null,null,null,null,"",false,2,{"$f":"VLOOKUP(H2986,Database!$B$1:$E$4891,4,FALSE)","v":{"$error":"#N/A"}},true]
[2987,null,null,null,null,null,null,null,{"$f":"IF(ISERROR(VLOOKUP(H2992,Database!$B$1:$C$5908,2,FALSE)),\"\",VLOOKUP(H2992,Database!$B$1:$C$5908,2,FALSE))","v":""},"",{"$error":"#N/A"},null,null,null,null,null,null,null,null,"",false,2,{"$f":"VLOOKUP(H2992,Database!$B$1:$E$4891,4,FALSE)","v":{"$error":"#N/A"}},true]
[2992,null,null,null,null,null,null,null,{"$f":"IF(ISERROR(VLOOKUP(H2997,Database!$B$1:$C$5908,2,FALSE)),\"\",VLOOKUP(H2997,Database!$B$1:$C$5908,2,FALSE))","v":""},"",{"$error":"#N/A"},null,null,null,null,null,null,null,null,"",false,2,{"$f":"VLOOKUP(H2997,Database!$B$1:$E$4891,4,FALSE)","v":{"$error":"#N/A"}},true]
[2998,null,null,null,null,null,null,null,{"$f":"IF(ISERROR(VLOOKUP(H3003,Database!$B$1:$C$5908,2,FALSE)),\"\",VLOOKUP(H3003,Database!$B$1:$C$5908,2,FALSE))","v":""},"",{"$error":"#N/A"},null,null,null,null,null,null,null,null,"",false,2,{"$f":"VLOOKUP(H3003,Database!$B$1:$E$4891,4,FALSE)","v":{"$error":"#N/A"}},true]
[3002,null,null,null,null,null,null,null,{"$f":"IF(ISERROR(VLOOKUP(H3007,Database!$B$1:$C$5908,2,FALSE)),\"\",VLOOKUP(H3007,Database!$B$1:$C$5908,2,FALSE))","v":""},"",{"$error":"#N/A"},null,null,null,null,null,null,null,null,"",false,2,{"$f":"VLOOKUP(H3007,Database!$B$1:$E$4891,4,FALSE)","v":{"$error":"#N/A"}},true]
[3007,null,null,null,null,null,null,null,{"$f":"IF(ISERROR(VLOOKUP(H3012,Database!$B$1:$C$5908,2,FALSE)),\"\",VLOOKUP(H3012,Database!$B$1:$C$5908,2,FALSE))","v":""},"",{"$error":"#N/A"},null,null,null,null,null,null,null,null,"",false,2,{"$f":"VLOOKUP(H3012,Database!$B$1:$E$4891,4,FALSE)","v":{"$error":"#N/A"}},true]
[3012,null,null,null,null,null,null,null,{"$f":"IF(ISERROR(VLOOKUP(H3017,Database!$B$1:$C$5908,2,FALSE)),\"\",VLOOKUP(H3017,Database!$B$1:$C$5908,2,FALSE))","v":""},"",{"$error":"#N/A"},null,null,null,null,null,null,null,null,"",false,2,{"$f":"VLOOKUP(H3017,Database!$B$1:$E$4891,4,FALSE)","v":{"$error":"#N/A"}},true]
[3017,null,null,null,null,null,null,null,{"$f":"IF(ISERROR(VLOOKUP(H3022,Database!$B$1:$C$5908,2,FALSE)),\"\",VLOOKUP(H3022,Database!$B$1:$C$5908,2,FALSE))","v":""},"",{"$error":"#N/A"},null,null,null,null,null,null,null,null,"",false,2,{"$f":"VLOOKUP(H3022,Database!$B$1:$E$4891,4,FALSE)","v":{"$error":"#N/A"}},true]
[3022,null,null,null,null,null,null,null,{"$f":"IF(ISERROR(VLOOKUP(H3027,Database!$B$1:$C$5908,2,FALSE)),\"\",VLOOKUP(H3027,Database!$B$1:$C$5908,2,FALSE))","v":""},"",{"$error":"#N/A"},null,null,null,null,null,null,null,null,"",false,2,{"$f":"VLOOKUP(H3027,Database!$B$1:$E$4891,4,FALSE)","v":{"$error":"#N/A"}},true]
[3028,null,null,null,null,null,null,null,{"$f":"IF(ISERROR(VLOOKUP(H3033,Database!$B$1:$C$5908,2,FALSE)),\"\",VLOOKUP(H3033,Database!$B$1:$C$5908,2,FALSE))","v":""},"",{"$error":"#N/A"},null,null,null,null,null,null,null,null,"",false,2,{"$f":"VLOOKUP(H3033,Database!$B$1:$E$4891,4,FALSE)","v":{"$error":"#N/A"}},true]
[3033,null,null,null,null,null,null,null,{"$f":"IF(ISERROR(VLOOKUP(H3038,Database!$B$1:$C$5908,2,FALSE)),\"\",VLOOKUP(H3038,Database!$B$1:$C$5908,2,FALSE))","v":""},"",{"$error":"#N/A"},null,null,null,null,null,null,null,null,"",false,2,{"$f":"VLOOKUP(H3038,Database!$B$1:$E$4891,4,FALSE)","v":{"$error":"#N/A"}},true]
[3036,null,null,null,null,null,null,null,{"$f":"IF(ISERROR(VLOOKUP(H3041,Database!$B$1:$C$5908,2,FALSE)),\"\",VLOOKUP(H3041,Database!$B$1:$C$5908,2,FALSE))","v":""},"",{"$error":"#N/A"},null,null,null,null,null,null,null,null,"",false,2,{"$f":"VLOOKUP(H3041,Database!$B$1:$E$4891,4,FALSE)","v":{"$error":"#N/A"}},true]
[3038,null,null,null,null,null,null,null,{"$f":"IF(ISERROR(VLOOKUP(H3043,Database!$B$1:$C$5908,2,FALSE)),\"\",VLOOKUP(H3043,Database!$B$1:$C$5908,2,FALSE))","v":""},"",{"$error":"#N/A"},null,null,null,null,null,null,null,null,"",false,2,{"$f":"VLOOKUP(H3043,Database!$B$1:$E$4891,4,FALSE)","v":{"$error":"#N/A"}},true]
[3043,null,null,null,null,null,null,null,{"$f":"IF(ISERROR(VLOOKUP(H3048,Database!$B$1:$C$5908,2,FALSE)),\"\",VLOOKUP(H3048,Database!$B$1:$C$5908,2,FALSE))","v":""},"",{"$error":"#N/A"},null,null,null,null,null,null,null,null,"",false,2,{"$f":"VLOOKUP(H3048,Database!$B$1:$E$4891,4,FALSE)","v":{"$error":"#N/A"}},true]
[3049,null,null,null,null,null,null,null,{"$f":"IF(ISERROR(VLOOKUP(H3054,Database!$B$1:$C$5908,2,FALSE)),\"\",VLOOKUP(H3054,Database!$B$1:$C$5908,2,FALSE))","v":""},"",{"$error":"#N/A"},null,null,null,null,null,null,null,null,"",false,2,{"$f":"VLOOKUP(H3054,Database!$B$1:$E$4891,4,FALSE)","v":{"$error":"#N/A"}},true]
[3055,null,null,null,null,null,null,null,{"$f":"IF(ISERROR(VLOOKUP(H3060,Database!$B$1:$C$5908,2,FALSE)),\"\",VLOOKUP(H3060,Database!$B$1:$C$5908,2,FALSE))","v":""},"",{"$error":"#N/A"},null,null,null,null,null,null,null,null,"",false,2,{"$f":"VLOOKUP(H3060,Database!$B$1:$E$4891,4,FALSE)","v":{"$error":"#N/A"}},true]
[3058,null,null,null,null,null,null,null,{"$f":"IF(ISERROR(VLOOKUP(H3063,Database!$B$1:$C$5908,2,FALSE)),\"\",VLOOKUP(H3063,Database!$B$1:$C$5908,2,FALSE))","v":""},"",{"$error":"#N/A"},null,null,null,null,null,null,null,null,"",false,2,{"$f":"VLOOKUP(H3063,Database!$B$1:$E$4891,4,FALSE)","v":{"$error":"#N/A"}},true]
[3064,null,null,null,null,null,null,null,{"$f":"IF(ISERROR(VLOOKUP(H3069,Database!$B$1:$C$5908,2,FALSE)),\"\",VLOOKUP(H3069,Database!$B$1:$C$5908,2,FALSE))","v":""},"",{"$error":"#N/A"},null,null,null,null,null,null,null,null,"",false,2,{"$f":"VLOOKUP(H3069,Database!$B$1:$E$4891,4,FALSE)","v":{"$error":"#N/A"}},true]
[3069,null,null,null,null,null,null,null,{"$f":"IF(ISERROR(VLOOKUP(H3074,Database!$B$1:$C$5908,2,FALSE)),\"\",VLOOKUP(H3074,Database!$B$1:$C$5908,2,FALSE))","v":""},"",{"$error":"#N/A"},null,null,null,null,null,null,null,null,"",false,2,{"$f":"VLOOKUP(H3074,Database!$B$1:$E$4891,4,FALSE)","v":{"$error":"#N/A"}},true]
[{"$f":"A3078+1","v":3074},null,null,null,null,null,null,null,{"$f":"IF(ISERROR(VLOOKUP(H3079,Database!$B$1:$C$5908,2,FALSE)),\"\",VLOOKUP(H3079,Database!$B$1:$C$5908,2,FALSE))","v":""},{"$f":"IF(V3079=1,1,IF(AND(T3079=0,F3079=\"SSB\",V3079<>\"\"),2,IF(AND(T3079=0,F3079=\"FM\",V3079<>\"\"),2,IF(AND(T3079=0,F3079=\"DIGI\",V3079<>\"\"),3,IF(AND(T3079=0,F3079=\"CW\",V3079<>\"\"),5,IF(H3079=\"-\",\"\",T3079))))))","v":""},{"$f":"IF(H3079=\"-\",\"\",IF(AND(H3079<>\"\",X3079=TRUE),\"INDIPENDENT\",IF(W3079=0,\"SCRIVI NOME NELLE NOTE\",W3079)))","v":{"$error":"#N/A"}},null,null,null,null,null,null,null,null,{"$f":"IF(H3079=\"\",\"\",IF(H3079=$R$6,25,IF(OR(H3079=$R$7,H3079=$R$8,H3079=$R$9,H3079=$R$10,H3079=$R$11,H3079=$R$12,H3079=$R$13,H3079=$R$14,H3079=$R$15,H3079=$R$16,H3079=$R$17,H3079=$R$18,H3079=$R$19,H3079=$R$20,H3079=$R$21,H3079=$R$22,H3079=$R$23),15,0)))","v":""},{"$f":"ISERROR(I3079)","v":false},2,{"$f":"VLOOKUP(H3079,Database!$B$1:$E$4891,4,FALSE)","v":{"$error":"#N/A"}},{"$f":"ISERROR(W3079)","v":true}]
[3079,null,null,null,null,null,null,null,{"$f":"IF(ISERROR(VLOOKUP(H3084,Database!$B$1:$C$5908,2,FALSE)),\"\",VLOOKUP(H3084,Database!$B$1:$C$5908,2,FALSE))","v":""},"",{"$error":"#N/A"},null,null,null,null,null,null,null,null,"",false,2,{"$f":"VLOOKUP(H3084,Database!$B$1:$E$4891,4,FALSE)","v":{"$error":"#N/A"}},true]
[3084,null,null,null,null,null,null,null,{"$f":"IF(ISERROR(VLOOKUP(H3089,Database!$B$1:$C$5908,2,FALSE)),\"\",VLOOKUP(H3089,Database!$B$1:$C$5908,2,FALSE))","v":""},"",{"$error":"#N/A"},null,null,null,null,null,null,null,null,"",false,2,{"$f":"VLOOKUP(H3089,Database!$B$1:$E$4891,4,FALSE)","v":{"$error":"#N/A"}},true]
[3090,null,null,null,null,null,null,null,{"$f":"IF(ISERROR(VLOOKUP(H3095,Database!$B$1:$C$5908,2,FALSE)),\"\",VLOOKUP(H3095,Database!$B$1:$C$5908,2,FALSE))","v":""},"",{"$error":"#N/A"},null,null,null,null,null,null,null,null,"",false,2,{"$f":"VLOOKUP(H3095,Database!$B$1:$E$4891,4,FALSE)","v":{"$error":"#N/A"}},true]
[3093,null,null,null,null,null,null,null,{"$f":"IF(ISERROR(VLOOKUP(H3098,Database!$B$1:$C$5908,2,FALSE)),\"\",VLOOKUP(H3098,Database!$B$1:$C$5908,2,FALSE))","v":""},"",{"$error":"#N/A"},null,null,null,null,null,null,null,null,"",false,2,{"$f":"VLOOKUP(H3098,Database!$B$1:$E$4891,4,FALSE)","v":{"$error":"#N/A"}},true]
[3099,null,null,null,null,null,null,null,{"$f":"IF(ISERROR(VLOOKUP(H3104,Database!$B$1:$C$5908,2,FALSE)),\"\",VLOOKUP(H3104,Database!$B$1:$C$5908,2,FALSE))","v":""},"",{"$error":"#N/A"},null,null,null,null,null,null,null,null,"",false,2,{"$f":"VLOOKUP(H3104,Database!$B$1:$E$4891,4,FALSE)","v":{"$error":"#N/A"}},true]
[3100,null,null,null,null,null,null,null,{"$f":"IF(ISERROR(VLOOKUP(H3105,Database!$B$1:$C$5908,2,FALSE)),\"\",VLOOKUP(H3105,Database!$B$1:$C$5908,2,FALSE))","v":""},"",{"$error":"#N/A"},null,null,null,null,null,null,null,null,"",false,2,{"$f":"VLOOKUP(H3105,Database!$B$1:$E$4891,4,FALSE)","v":{"$error":"#N/A"}},true]
[3105,null,null,null,null,null,null,null,{"$f":"IF(ISERROR(VLOOKUP(H3110,Database!$B$1:$C$5908,2,FALSE)),\"\",VLOOKUP(H3110,Database!$B$1:$C$5908,2,FALSE))","v":""},"",{"$error":"#N/A"},null,null,null,null,null,null,null,null,"",false,2,{"$f":"VLOOKUP(H3110,Database!$B$1:$E$4891,4,FALSE)","v":{"$error":"#N/A"}},true]
[3112,null,null,null,null,null,null,null,{"$f":"IF(ISERROR(VLOOKUP(H3117,Database!$B$1:$C$5908,2,FALSE)),\"\",VLOOKUP(H3117,Database!$B$1:$C$5908,2,FALSE))","v":""},"",{"$error":"#N/A"},null,null,null,null,null,null,null,null,"",false,2,{"$f":"VLOOKUP(H3117,Database!$B$1:$E$4891,4,FALSE)","v":{"$error":"#N/A"}},true]
[3115,null,null,null,null,null,null,null,{"$f":"IF(ISERROR(VLOOKUP(H3120,Database!$B$1:$C$5908,2,FALSE)),\"\",VLOOKUP(H3120,Database!$B$1:$C$5908,2,FALSE))","v":""},"",{"$error":"#N/A"},null,null,null,null,null,null,null,null,"",false,2,{"$f":"VLOOKUP(H3120,Database!$B$1:$E$4891,4,FALSE)","v":{"$error":"#N/A"}},true]
[3120,null,null,null,null,null,null,null,{"$f":"IF(ISERROR(VLOOKUP(H3125,Database!$B$1:$C$5908,2,FALSE)),\"\",VLOOKUP(H3125,Database!$B$1:$C$5908,2,FALSE))","v":""},"",{"$error":"#N/A"},null,null,null,null,null,null,null,null,"",false,2,{"$f":"VLOOKUP(H3125,Database!$B$1:$E$4891,4,FALSE)","v":{"$error":"#N/A"}},true]
[3126,null,null,null,null,null,null,null,{"$f":"IF(ISERROR(VLOOKUP(H3131,Database!$B$1:$C$5908,2,FALSE)),\"\",VLOOKUP(H3131,Database!$B$1:$C$5908,2,FALSE))","v":""},"",{"$error":"#N/A"},null,null,null,null,null,null,null,null,"",false,2,{"$f":"VLOOKUP(H3131,Database!$B$1:$E$4891,4,FALSE)","v":{"$error":"#N/A"}},true]
[3131,null,null,null,null,null,null,null,{"$f":"IF(ISERROR(VLOOKUP(H3136,Database!$B$1:$C$5908,2,FALSE)),\"\",VLOOKUP(H3136,Database!$B$1:$C$5908,2,FALSE))","v":""},"",{"$error":"#N/A"},null,null,null,null,null,null,null,null,"",false,2,{"$f":"VLOOKUP(H3136,Database!$B$1:$E$4891,4,FALSE)","v":{"$error":"#N/A"}},true]
[3135,null,null,null,null,null,null,null,{"$f":"IF(ISERROR(VLOOKUP(H3140,Database!$B$1:$C$5908,2,FALSE)),\"\",VLOOKUP(H3140,Database!$B$1:$C$5908,2,FALSE))","v":""},"",{"$error":"#N/A"},null,null,null,null,null,null,null,null,"",false,2,{"$f":"VLOOKUP(H3140,Database!$B$1:$E$4891,4,FALSE)","v":{"$error":"#N/A"}},true]
[3141,null,null,null,null,null,null,null,{"$f":"IF(ISERROR(VLOOKUP(H3146,Database!$B$1:$C$5908,2,FALSE)),\"\",VLOOKUP(H3146,Database!$B$1:$C$5908,2,FALSE))","v":""},"",{"$error":"#N/A"},null,null,null,null,null,null,null,null,"",false,2,{"$f":"VLOOKUP(H3146,Database!$B$1:$E$4891,4,FALSE)","v":{"$error":"#N/A"}},true]
[3146,null,null,null,null,null,null,null,{"$f":"IF(ISERROR(VLOOKUP(H3151,Database!$B$1:$C$5908,2,FALSE)),\"\",VLOOKUP(H3151,Database!$B$1:$C$5908,2,FALSE))","v":""},"",{"$error":"#N/A"},null,null,null,null,null,null,null,null,"",false,2,{"$f":"VLOOKUP(H3151,Database!$B$1:$E$4891,4,FALSE)","v":{"$error":"#N/A"}},true]
[3150,null,null,null,null,null,null,null,{"$f":"IF(ISERROR(VLOOKUP(H3155,Database!$B$1:$C$5908,2,FALSE)),\"\",VLOOKUP(H3155,Database!$B$1:$C$5908,2,FALSE))","v":""},"",{"$error":"#N/A"},null,null,null,null,null,null,null,null,"",false,2,{"$f":"VLOOKUP(H3155,Database!$B$1:$E$4891,4,FALSE)","v":{"$error":"#N/A"}},true]
[3156,null,null,null,null,null,null,null,{"$f":"IF(ISERROR(VLOOKUP(H3161,Database!$B$1:$C$5908,2,FALSE)),\"\",VLOOKUP(H3161,Database!$B$1:$C$5908,2,FALSE))","v":""},"",{"$error":"#N/A"},null,null,null,null,null,null,null,null,"",false,2,{"$f":"VLOOKUP(H3161,Database!$B$1:$E$4891,4,FALSE)","v":{"$error":"#N/A"}},true]
[3161,null,null,null,null,null,null,null,{"$f":"IF(ISERROR(VLOOKUP(H3166,Database!$B$1:$C$5908,2,FALSE)),\"\",VLOOKUP(H3166,Database!$B$1:$C$5908,2,FALSE))","v":""},"",{"$error":"#N/A"},null,null,null,null,null,null,null,null,"",false,2,{"$f":"VLOOKUP(H3166,Database!$B$1:$E$4891,4,FALSE)","v":{"$error":"#N/A"}},true]
[3162,null,null,null,null,null,null,null,{"$f":"IF(ISERROR(VLOOKUP(H3167,Database!$B$1:$C$5908,2,FALSE)),\"\",VLOOKUP(H3167,Database!$B$1:$C$5908,2,FALSE))","v":""},"",{"$error":"#N/A"},null,null,null,null,null,null,null,null,"",false,2,{"$f":"VLOOKUP(H3167,Database!$B$1:$E$4891,4,FALSE)","v":{"$error":"#N/A"}},true]
[3169,null,null,null,null,null,null,null,{"$f":"IF(ISERROR(VLOOKUP(H3174,Database!$B$1:$C$5908,2,FALSE)),\"\",VLOOKUP(H3174,Database!$B$1:$C$5908,2,FALSE))","v":""},"",{"$error":"#N/A"},null,null,null,null,null,null,null,null,"",false,2,{"$f":"VLOOKUP(H3174,Database!$B$1:$E$4891,4,FALSE)","v":{"$error":"#N/A"}},true]
[3171,null,null,null,null,null,null,null,{"$f":"IF(ISERROR(VLOOKUP(H3176,Database!$B$1:$C$5908,2,FALSE)),\"\",VLOOKUP(H3176,Database!$B$1:$C$5908,2,FALSE))","v":""},"",{"$error":"#N/A"},null,null,null,null,null,null,null,null,"",false,2,{"$f":"VLOOKUP(H3176,Database!$B$1:$E$4891,4,FALSE)","v":{"$error":"#N/A"}},true]
[3177,null,null,null,null,null,null,null,{"$f":"IF(ISERROR(VLOOKUP(H3182,Database!$B$1:$C$5908,2,FALSE)),\"\",VLOOKUP(H3182,Database!$B$1:$C$5908,2,FALSE))","v":""},"",{"$error":"#N/A"},null,null,null,null,null,null,null,null,"",false,2,{"$f":"VLOOKUP(H3182,Database!$B$1:$E$4891,4,FALSE)","v":{"$error":"#N/A"}},true]
[3182,null,null,null,null,null,null,null,{"$f":"IF(ISERROR(VLOOKUP(H3187,Database!$B$1:$C$5908,2,FALSE)),\"\",VLOOKUP(H3187,Database!$B$1:$C$5908,2,FALSE))","v":""},"",{"$error":"#N/A"},null,null,null,null,null,null,null,null,"",false,2,{"$f":"VLOOKUP(H3187,Database!$B$1:$E$4891,4,FALSE)","v":{"$error":"#N/A"}},true]
[3188,null,null,null,null,null,null,null,{"$f":"IF(ISERROR(VLOOKUP(H3193,Database!$B$1:$C$5908,2,FALSE)),\"\",VLOOKUP(H3193,Database!$B$1:$C$5908,2,FALSE))","v":""},"",{"$error":"#N/A"},null,null,null,null,null,null,null,null,"",false,2,{"$f":"VLOOKUP(H3193,Database!$B$1:$E$4891,4,FALSE)","v":{"$error":"#N/A"}},true]
[3192,null,null,null,null,null,null,null,{"$f":"IF(ISERROR(VLOOKUP(H3197,Database!$B$1:$C$5908,2,FALSE)),\"\",VLOOKUP(H3197,Database!$B$1:$C$5908,2,FALSE))","v":""},"",{"$error":"#N/A"},null,null,null,null,null,null,null,null,"",false,2,{"$f":"VLOOKUP(H3197,Database!$B$1:$E$4891,4,FALSE)","v":{"$error":"#N/A"}},true]
[3197,null,null,null,null,null,null,null,{"$f":"IF(ISERROR(VLOOKUP(H3202,Database!$B$1:$C$5908,2,FALSE)),\"\",VLOOKUP(H3202,Database!$B$1:$C$5908,2,FALSE))","v":""},"",{"$error":"#N/A"},null,null,null,null,null,null,null,null,"",false,2,{"$f":"VLOOKUP(H3202,Database!$B$1:$E$4891,4,FALSE)","v":{"$error":"#N/A"}},true]
[3203,null,null,null,null,null,null,null,{"$f":"IF(ISERROR(VLOOKUP(H3208,Database!$B$1:$C$5908,2,FALSE)),\"\",VLOOKUP(H3208,Database!$B$1:$C$5908,2,FALSE))","v":""},"",{"$error":"#N/A"},null,null,null,null,null,null,null,null,"",false,{"$f":"IF(H3208=\"-\",\"\",IF(AND(T3208=0,U3208=FALSE,I3208=\"\"),1,2))","v":2},{"$f":"VLOOKUP(H3208,Database!$B$1:$E$4891,4,FALSE)","v":{"$error":"#N/A"}},true]
[3207,null,null,null,null,null,null,null,{"$f":"IF(ISERROR(VLOOKUP(H3212,Database!$B$1:$C$5908,2,FALSE)),\"\",VLOOKUP(H3212,Database!$B$1:$C$5908,2,FALSE))","v":""},"",{"$error":"#N/A"},null,null,null,null,null,null,null,null,"",false,2,{"$f":"VLOOKUP(H3212,Database!$B$1:$E$4891,4,FALSE)","v":{"$error":"#N/A"}},true]
[3212,null,null,null,null,null,null,null,{"$f":"IF(ISERROR(VLOOKUP(H3217,Database!$B$1:$C$5908,2,FALSE)),\"\",VLOOKUP(H3217,Database!$B$1:$C$5908,2,FALSE))","v":""},"",{"$error":"#N/A"},null,null,null,null,null,null,null,null,"",false,2,{"$f":"VLOOKUP(H3217,Database!$B$1:$E$4891,4,FALSE)","v":{"$error":"#N/A"}},true]
[3218,null,null,null,null,null,null,null,{"$f":"IF(ISERROR(VLOOKUP(H3223,Database!$B$1:$C$5908,2,FALSE)),\"\",VLOOKUP(H3223,Database!$B$1:$C$5908,2,FALSE))","v":""},"",{"$error":"#N/A"},null,null,null,null,null,null,null,null,"",false,2,{"$f":"VLOOKUP(H3223,Database!$B$1:$E$4891,4,FALSE)","v":{"$error":"#N/A"}},true]
[3223,null,null,null,null,null,null,null,{"$f":"IF(ISERROR(VLOOKUP(H3228,Database!$B$1:$C$5908,2,FALSE)),\"\",VLOOKUP(H3228,Database!$B$1:$C$5908,2,FALSE))","v":""},"",{"$error":"#N/A"},null,null,null,null,null,null,null,null,"",false,2,{"$f":"VLOOKUP(H3228,Database!$B$1:$E$4891,4,FALSE)","v":{"$error":"#N/A"}},true]
[3226,null,null,null,null,null,null,null,{"$f":"IF(ISERROR(VLOOKUP(H3231,Database!$B$1:$C$5908,2,FALSE)),\"\",VLOOKUP(H3231,Database!$B$1:$C$5908,2,FALSE))","v":""},"",{"$error":"#N/A"},null,null,null,null,null,null,null,null,"",false,2,{"$f":"VLOOKUP(H3231,Database!$B$1:$E$4891,4,FALSE)","v":{"$error":"#N/A"}},true]
[3228,null,null,null,null,null,null,null,{"$f":"IF(ISERROR(VLOOKUP(H3233,Database!$B$1:$C$5908,2,FALSE)),\"\",VLOOKUP(H3233,Database!$B$1:$C$5908,2,FALSE))","v":""},"",{"$error":"#N/A"},null,null,null,null,null,null,null,null,"",false,2,{"$f":"VLOOKUP(H3233,Database!$B$1:$E$4891,4,FALSE)","v":{"$error":"#N/A"}},true]
[3233,null,null,null,null,null,null,null,{"$f":"IF(ISERROR(VLOOKUP(H3238,Database!$B$1:$C$5908,2,FALSE)),\"\",VLOOKUP(H3238,Database!$B$1:$C$5908,2,FALSE))","v":""},"",{"$error":"#N/A"},null,null,null,null,null,null,null,null,"",false,2,{"$f":"VLOOKUP(H3238,Database!$B$1:$E$4891,4,FALSE)","v":{"$error":"#N/A"}},true]
[3239,null,null,null,null,null,null,null,{"$f":"IF(ISERROR(VLOOKUP(H3244,Database!$B$1:$C$5908,2,FALSE)),\"\",VLOOKUP(H3244,Database!$B$1:$C$5908,2,FALSE))","v":""},"",{"$error":"#N/A"},null,null,null,null,null,null,null,null,"",false,2,{"$f":"VLOOKUP(H3244,Database!$B$1:$E$4891,4,FALSE)","v":{"$error":"#N/A"}},true]
[3245,null,null,null,null,null,null,null,{"$f":"IF(ISERROR(VLOOKUP(H3250,Database!$B$1:$C$5908,2,FALSE)),\"\",VLOOKUP(H3250,Database!$B$1:$C$5908,2,FALSE))","v":""},"",{"$error":"#N/A"},null,null,null,null,null,null,null,null,"",false,2,{"$f":"VLOOKUP(H3250,Database!$B$1:$E$4891,4,FALSE)","v":{"$error":"#N/A"}},true]
[3249,null,null,null,null,null,null,null,{"$f":"IF(ISERROR(VLOOKUP(H3254,Database!$B$1:$C$5908,2,FALSE)),\"\",VLOOKUP(H3254,Database!$B$1:$C$5908,2,FALSE))","v":""},"",{"$error":"#N/A"},null,null,null,null,null,null,null,null,"",false,2,{"$f":"VLOOKUP(H3254,Database!$B$1:$E$4891,4,FALSE)","v":{"$error":"#N/A"}},true]
[3254,null,null,null,null,null,null,null,{"$f":"IF(ISERROR(VLOOKUP(H3259,Database!$B$1:$C$5908,2,FALSE)),\"\",VLOOKUP(H3259,Database!$B$1:$C$5908,2,FALSE))","v":""},"",{"$error":"#N/A"},null,null,null,null,null,null,null,null,"",false,2,{"$f":"VLOOKUP(H3259,Database!$B$1:$E$4891,4,FALSE)","v":{"$error":"#N/A"}},true]
[3259,null,null,null,null,null,null,null,{"$f":"IF(ISERROR(VLOOKUP(H3264,Database!$B$1:$C$5908,2,FALSE)),\"\",VLOOKUP(H3264,Database!$B$1:$C$5908,2,FALSE))","v":""},"",{"$error":"#N/A"},null,null,null,null,null,null,null,null,"",false,2,{"$f":"VLOOKUP(H3264,Database!$B$1:$E$4891,4,FALSE)","v":{"$error":"#N/A"}},true]
[3264,null,null,null,null,null,null,null,{"$f":"IF(ISERROR(VLOOKUP(H3269,Database!$B$1:$C$5908,2,FALSE)),\"\",VLOOKUP(H3269,Database!$B$1:$C$5908,2,FALSE))","v":""},"",{"$error":"#N/A"},null,null,null,null,null,null,null,null,"",false,2,{"$f":"VLOOKUP(H3269,Database!$B$1:$E$4891,4,FALSE)","v":{"$error":"#N/A"}},true]
[3269,null,null,null,null,null,null,null,{"$f":"IF(ISERROR(VLOOKUP(H3274,Database!$B$1:$C$5908,2,FALSE)),\"\",VLOOKUP(H3274,Database!$B$1:$C$5908,2,FALSE))","v":""},"",{"$error":"#N/A"},null,null,null,null,null,null,null,null,"",false,2,{"$f":"VLOOKUP(H3274,Database!$B$1:$E$4891,4,FALSE)","v":{"$error":"#N/A"}},true]
[3274,null,null,null,null,null,null,null,{"$f":"IF(ISERROR(VLOOKUP(H3279,Database!$B$1:$C$5908,2,FALSE)),\"\",VLOOKUP(H3279,Database!$B$1:$C$5908,2,FALSE))","v":""},"",{"$error":"#N/A"},null,null,null,null,null,null,null,null,"",false,2,{"$f":"VLOOKUP(H3279,Database!$B$1:$E$4891,4,FALSE)","v":{"$error":"#N/A"}},true]
[3280,null,null,null,null,null,null,null,{"$f":"IF(ISERROR(VLOOKUP(H3285,Database!$B$1:$C$5908,2,FALSE)),\"\",VLOOKUP(H3285,Database!$B$1:$C$5908,2,FALSE))","v":""},"",{"$error":"#N/A"},null,null,null,null,null,null,null,null,"",false,2,{"$f":"VLOOKUP(H3285,Database!$B$1:$E$4891,4,FALSE)","v":{"$error":"#N/A"}},true]
[3283,null,null,null,null,null,null,null,{"$f":"IF(ISERROR(VLOOKUP(H3288,Database!$B$1:$C$5908,2,FALSE)),\"\",VLOOKUP(H3288,Database!$B$1:$C$5908,2,FALSE))","v":""},"",{"$error":"#N/A"},null,null,null,null,null,null,null,null,"",false,2,{"$f":"VLOOKUP(H3288,Database!$B$1:$E$4891,4,FALSE)","v":{"$error":"#N/A"}},true]
[3285,null,null,null,null,null,null,null,{"$f":"IF(ISERROR(VLOOKUP(H3290,Database!$B$1:$C$5908,2,FALSE)),\"\",VLOOKUP(H3290,Database!$B$1:$C$5908,2,FALSE))","v":""},"",{"$error":"#N/A"},null,null,null,null,null,null,null,null,"",false,2,{"$f":"VLOOKUP(H3290,Database!$B$1:$E$4891,4,FALSE)","v":{"$error":"#N/A"}},true]
[3290,null,null,null,null,null,null,null,{"$f":"IF(ISERROR(VLOOKUP(H3295,Database!$B$1:$C$5908,2,FALSE)),\"\",VLOOKUP(H3295,Database!$B$1:$C$5908,2,FALSE))","v":""},"",{"$error":"#N/A"},null,null,null,null,null,null,null,null,"",false,2,{"$f":"VLOOKUP(H3295,Database!$B$1:$E$4891,4,FALSE)","v":{"$error":"#N/A"}},true]
[3295,null,null,null,null,null,null,null,{"$f":"IF(ISERROR(VLOOKUP(H3300,Database!$B$1:$C$5908,2,FALSE)),\"\",VLOOKUP(H3300,Database!$B$1:$C$5908,2,FALSE))","v":""},"",{"$error":"#N/A"},null,null,null,null,null,null,null,null,"",false,2,{"$f":"VLOOKUP(H3300,Database!$B$1:$E$4891,4,FALSE)","v":{"$error":"#N/A"}},true]
[3302,null,null,null,null,null,null,null,{"$f":"IF(ISERROR(VLOOKUP(H3307,Database!$B$1:$C$5908,2,FALSE)),\"\",VLOOKUP(H3307,Database!$B$1:$C$5908,2,FALSE))","v":""},"",{"$error":"#N/A"},null,null,null,null,null,null,null,null,"",false,2,{"$f":"VLOOKUP(H3307,Database!$B$1:$E$4891,4,FALSE)","v":{"$error":"#N/A"}},true]
[3305,null,null,null,null,null,null,null,{"$f":"IF(ISERROR(VLOOKUP(H3310,Database!$B$1:$C$5908,2,FALSE)),\"\",VLOOKUP(H3310,Database!$B$1:$C$5908,2,FALSE))","v":""},"",{"$error":"#N/A"},null,null,null,null,null,null,null,null,"",false,2,{"$f":"VLOOKUP(H3310,Database!$B$1:$E$4891,4,FALSE)","v":{"$error":"#N/A"}},true]
[3311,null,null,null,null,null,null,null,{"$f":"IF(ISERROR(VLOOKUP(H3316,Database!$B$1:$C$5908,2,FALSE)),\"\",VLOOKUP(H3316,Database!$B$1:$C$5908,2,FALSE))","v":""},"",{"$error":"#N/A"},null,null,null,null,null,null,null,null,"",false,2,{"$f":"VLOOKUP(H3316,Database!$B$1:$E$4891,4,FALSE)","v":{"$error":"#N/A"}},true]
[3316,null,null,null,null,null,null,null,{"$f":"IF(ISERROR(VLOOKUP(H3321,Database!$B$1:$C$5908,2,FALSE)),\"\",VLOOKUP(H3321,Database!$B$1:$C$5908,2,FALSE))","v":""},"",{"$error":"#N/A"},null,null,null,null,null,null,null,null,"",false,2,{"$f":"VLOOKUP(H3321,Database!$B$1:$E$4891,4,FALSE)","v":{"$error":"#N/A"}},true]
[3321,null,null,null,null,null,null,null,{"$f":"IF(ISERROR(VLOOKUP(H3326,Database!$B$1:$C$5908,2,FALSE)),\"\",VLOOKUP(H3326,Database!$B$1:$C$5908,2,FALSE))","v":""},"",{"$error":"#N/A"},null,null,null,null,null,null,null,null,"",false,2,{"$f":"VLOOKUP(H3326,Database!$B$1:$E$4891,4,FALSE)","v":{"$error":"#N/A"}},true]
[3326,null,null,null,null,null,null,null,{"$f":"IF(ISERROR(VLOOKUP(H3331,Database!$B$1:$C$5908,2,FALSE)),\"\",VLOOKUP(H3331,Database!$B$1:$C$5908,2,FALSE))","v":""},"",{"$error":"#N/A"},null,null,null,null,null,null,null,null,"",false,2,{"$f":"VLOOKUP(H3331,Database!$B$1:$E$4891,4,FALSE)","v":{"$error":"#N/A"}},true]
[3331,null,null,null,null,null,null,null,{"$f":"IF(ISERROR(VLOOKUP(H3336,Database!$B$1:$C$5908,2,FALSE)),\"\",VLOOKUP(H3336,Database!$B$1:$C$5908,2,FALSE))","v":""},"",{"$error":"#N/A"},null,null,null,null,null,null,null,null,"",false,{"$f":"IF(H3336=\"-\",\"\",IF(AND(T3336=0,U3336=FALSE,I3336=\"\"),1,2))","v":2},{"$f":"VLOOKUP(H3336,Database!$B$1:$E$4891,4,FALSE)","v":{"$error":"#N/A"}},true]
[3336,null,null,null,null,null,null,null,{"$f":"IF(ISERROR(VLOOKUP(H3341,Database!$B$1:$C$5908,2,FALSE)),\"\",VLOOKUP(H3341,Database!$B$1:$C$5908,2,FALSE))","v":""},"",{"$error":"#N/A"},null,null,null,null,null,null,null,null,"",false,2,{"$f":"VLOOKUP(H3341,Database!$B$1:$E$4891,4,FALSE)","v":{"$error":"#N/A"}},true]
[3340,null,null,null,null,null,null,null,{"$f":"IF(ISERROR(VLOOKUP(H3345,Database!$B$1:$C$5908,2,FALSE)),\"\",VLOOKUP(H3345,Database!$B$1:$C$5908,2,FALSE))","v":""},"",{"$error":"#N/A"},null,null,null,null,null,null,null,null,"",false,2,{"$f":"VLOOKUP(H3345,Database!$B$1:$E$4891,4,FALSE)","v":{"$error":"#N/A"}},true]
[3346,null,null,null,null,null,null,null,{"$f":"IF(ISERROR(VLOOKUP(H3351,Database!$B$1:$C$5908,2,FALSE)),\"\",VLOOKUP(H3351,Database!$B$1:$C$5908,2,FALSE))","v":""},"",{"$error":"#N/A"},null,null,null,null,null,null,null,null,"",false,2,{"$f":"VLOOKUP(H3351,Database!$B$1:$E$4891,4,FALSE)","v":{"$error":"#N/A"}},true]
[3347,null,null,null,null,null,null,null,{"$f":"IF(ISERROR(VLOOKUP(H3352,Database!$B$1:$C$5908,2,FALSE)),\"\",VLOOKUP(H3352,Database!$B$1:$C$5908,2,FALSE))","v":""},"",{"$error":"#N/A"},null,null,null,null,null,null,null,null,"",false,2,{"$f":"VLOOKUP(H3352,Database!$B$1:$E$4891,4,FALSE)","v":{"$error":"#N/A"}},true]
[3352,null,null,null,null,null,null,null,{"$f":"IF(ISERROR(VLOOKUP(H3357,Database!$B$1:$C$5908,2,FALSE)),\"\",VLOOKUP(H3357,Database!$B$1:$C$5908,2,FALSE))","v":""},"",{"$error":"#N/A"},null,null,null,null,null,null,null,null,"",false,2,{"$f":"VLOOKUP(H3357,Database!$B$1:$E$4891,4,FALSE)","v":{"$error":"#N/A"}},true]
[3359,null,null,null,null,null,null,null,{"$f":"IF(ISERROR(VLOOKUP(H3364,Database!$B$1:$C$5908,2,FALSE)),\"\",VLOOKUP(H3364,Database!$B$1:$C$5908,2,FALSE))","v":""},"",{"$error":"#N/A"},null,null,null,null,null,null,null,null,"",false,2,{"$f":"VLOOKUP(H3364,Database!$B$1:$E$4891,4,FALSE)","v":{"$error":"#N/A"}},true]
[3362,null,null,null,null,null,null,null,{"$f":"IF(ISERROR(VLOOKUP(H3367,Database!$B$1:$C$5908,2,FALSE)),\"\",VLOOKUP(H3367,Database!$B$1:$C$5908,2,FALSE))","v":""},"",{"$error":"#N/A"},null,null,null,null,null,null,null,null,"",false,2,{"$f":"VLOOKUP(H3367,Database!$B$1:$E$4891,4,FALSE)","v":{"$error":"#N/A"}},true]
[3367,null,null,null,null,null,null,null,{"$f":"IF(ISERROR(VLOOKUP(H3372,Database!$B$1:$C$5908,2,FALSE)),\"\",VLOOKUP(H3372,Database!$B$1:$C$5908,2,FALSE))","v":""},"",{"$error":"#N/A"},null,null,null,null,null,null,null,null,"",false,2,{"$f":"VLOOKUP(H3372,Database!$B$1:$E$4891,4,FALSE)","v":{"$error":"#N/A"}},true]
[3372,null,null,null,null,null,null,null,{"$f":"IF(ISERROR(VLOOKUP(H3377,Database!$B$1:$C$5908,2,FALSE)),\"\",VLOOKUP(H3377,Database!$B$1:$C$5908,2,FALSE))","v":""},"",{"$error":"#N/A"},null,null,null,null,null,null,null,null,"",false,2,{"$f":"VLOOKUP(H3377,Database!$B$1:$E$4891,4,FALSE)","v":{"$error":"#N/A"}},true]
[3378,null,null,null,null,null,null,null,{"$f":"IF(ISERROR(VLOOKUP(H3383,Database!$B$1:$C$5908,2,FALSE)),\"\",VLOOKUP(H3383,Database!$B$1:$C$5908,2,FALSE))","v":""},"",{"$error":"#N/A"},null,null,null,null,null,null,null,null,"",false,2,{"$f":"VLOOKUP(H3383,Database!$B$1:$E$4891,4,FALSE)","v":{"$error":"#N/A"}},true]
[3384,null,null,null,null,null,null,null,{"$f":"IF(ISERROR(VLOOKUP(H3389,Database!$B$1:$C$5908,2,FALSE)),\"\",VLOOKUP(H3389,Database!$B$1:$C$5908,2,FALSE))","v":""},"",{"$error":"#N/A"},null,null,null,null,null,null,null,null,"",false,2,{"$f":"VLOOKUP(H3389,Database!$B$1:$E$4891,4,FALSE)","v":{"$error":"#N/A"}},true]
[3388,null,null,null,null,null,null,null,{"$f":"IF(ISERROR(VLOOKUP(H3393,Database!$B$1:$C$5908,2,FALSE)),\"\",VLOOKUP(H3393,Database!$B$1:$C$5908,2,FALSE))","v":""},"",{"$error":"#N/A"},null,null,null,null,null,null,null,null,"",false,2,{"$f":"VLOOKUP(H3393,Database!$B$1:$E$4891,4,FALSE)","v":{"$error":"#N/A"}},true]
[3393,null,null,null,null,null,null,null,{"$f":"IF(ISERROR(VLOOKUP(H3398,Database!$B$1:$C$5908,2,FALSE)),\"\",VLOOKUP(H3398,Database!$B$1:$C$5908,2,FALSE))","v":""},"",{"$error":"#N/A"},null,null,null,null,null,null,null,null,"",false,2,{"$f":"VLOOKUP(H3398,Database!$B$1:$E$4891,4,FALSE)","v":{"$error":"#N/A"}},true]
[3398,null,null,null,null,null,null,null,{"$f":"IF(ISERROR(VLOOKUP(H3403,Database!$B$1:$C$5908,2,FALSE)),\"\",VLOOKUP(H3403,Database!$B$1:$C$5908,2,FALSE))","v":""},"",{"$error":"#N/A"},null,null,null,null,null,null,null,null,"",false,2,{"$f":"VLOOKUP(H3403,Database!$B$1:$E$4891,4,FALSE)","v":{"$error":"#N/A"}},true]
[3403,null,null,null,null,null,null,null,{"$f":"IF(ISERROR(VLOOKUP(H3408,Database!$B$1:$C$5908,2,FALSE)),\"\",VLOOKUP(H3408,Database!$B$1:$C$5908,2,FALSE))","v":""},"",{"$error":"#N/A"},null,null,null,null,null,null,null,null,"",false,2,{"$f":"VLOOKUP(H3408,Database!$B$1:$E$4891,4,FALSE)","v":{"$error":"#N/A"}},true]
[3408,null,null,null,null,null,null,null,{"$f":"IF(ISERROR(VLOOKUP(H3413,Database!$B$1:$C$5908,2,FALSE)),\"\",VLOOKUP(H3413,Database!$B$1:$C$5908,2,FALSE))","v":""},"",{"$error":"#N/A"},null,null,null,null,null,null,null,null,"",false,2,{"$f":"VLOOKUP(H3413,Database!$B$1:$E$4891,4,FALSE)","v":{"$error":"#N/A"}},true]
[3409,null,null,null,null,null,null,null,{"$f":"IF(ISERROR(VLOOKUP(H3414,Database!$B$1:$C$5908,2,FALSE)),\"\",VLOOKUP(H3414,Database!$B$1:$C$5908,2,FALSE))","v":""},"",{"$error":"#N/A"},null,null,null,null,null,null,null,null,"",false,2,{"$f":"VLOOKUP(H3414,Database!$B$1:$E$4891,4,FALSE)","v":{"$error":"#N/A"}},true]
[3414,null,null,null,null,null,null,null,{"$f":"IF(ISERROR(VLOOKUP(H3419,Database!$B$1:$C$5908,2,FALSE)),\"\",VLOOKUP(H3419,Database!$B$1:$C$5908,2,FALSE))","v":""},"",{"$error":"#N/A"},null,null,null,null,null,null,null,null,"",false,2,{"$f":"VLOOKUP(H3419,Database!$B$1:$E$4891,4,FALSE)","v":{"$error":"#N/A"}},true]
[3422,null,null,null,null,null,null,null,{"$f":"IF(ISERROR(VLOOKUP(H3427,Database!$B$1:$C$5908,2,FALSE)),\"\",VLOOKUP(H3427,Database!$B$1:$C$5908,2,FALSE))","v":""},"",{"$error":"#N/A"},null,null,null,null,null,null,null,null,"",false,2,{"$f":"VLOOKUP(H3427,Database!$B$1:$E$4891,4,FALSE)","v":{"$error":"#N/A"}},true]
[3424,null,null,null,null,null,null,null,{"$f":"IF(ISERROR(VLOOKUP(H3429,Database!$B$1:$C$5908,2,FALSE)),\"\",VLOOKUP(H3429,Database!$B$1:$C$5908,2,FALSE))","v":""},"",{"$error":"#N/A"},null,null,null,null,null,null,null,null,"",false,2,{"$f":"VLOOKUP(H3429,Database!$B$1:$E$4891,4,FALSE)","v":{"$error":"#N/A"}},true]
[3429,null,null,null,null,null,null,null,{"$f":"IF(ISERROR(VLOOKUP(H3434,Database!$B$1:$C$5908,2,FALSE)),\"\",VLOOKUP(H3434,Database!$B$1:$C$5908,2,FALSE))","v":""},"",{"$error":"#N/A"},null,null,null,null,null,null,null,null,"",false,2,{"$f":"VLOOKUP(H3434,Database!$B$1:$E$4891,4,FALSE)","v":{"$error":"#N/A"}},true]
[3434,null,null,null,null,null,null,null,{"$f":"IF(ISERROR(VLOOKUP(H3439,Database!$B$1:$C$5908,2,FALSE)),\"\",VLOOKUP(H3439,Database!$B$1:$C$5908,2,FALSE))","v":""},"",{"$error":"#N/A"},null,null,null,null,null,null,null,null,"",false,2,{"$f":"VLOOKUP(H3439,Database!$B$1:$E$4891,4,FALSE)","v":{"$error":"#N/A"}},true]
[3441,null,null,null,null,null,null,null,{"$f":"IF(ISERROR(VLOOKUP(H3446,Database!$B$1:$C$5908,2,FALSE)),\"\",VLOOKUP(H3446,Database!$B$1:$C$5908,2,FALSE))","v":""},"",{"$error":"#N/A"},null,null,null,null,null,null,null,null,"",false,2,{"$f":"VLOOKUP(H3446,Database!$B$1:$E$4891,4,FALSE)","v":{"$error":"#N/A"}},true]
[3444,null,null,null,null,null,null,null,{"$f":"IF(ISERROR(VLOOKUP(H3449,Database!$B$1:$C$5908,2,FALSE)),\"\",VLOOKUP(H3449,Database!$B$1:$C$5908,2,FALSE))","v":""},"",{"$error":"#N/A"},null,null,null,null,null,null,null,null,"",false,2,{"$f":"VLOOKUP(H3449,Database!$B$1:$E$4891,4,FALSE)","v":{"$error":"#N/A"}},true]
[3450,null,null,null,null,null,null,null,{"$f":"IF(ISERROR(VLOOKUP(H3455,Database!$B$1:$C$5908,2,FALSE)),\"\",VLOOKUP(H3455,Database!$B$1:$C$5908,2,FALSE))","v":""},"",{"$error":"#N/A"},null,null,null,null,null,null,null,null,"",false,2,{"$f":"VLOOKUP(H3455,Database!$B$1:$E$4891,4,FALSE)","v":{"$error":"#N/A"}},true]
[3455,null,null,null,null,null,null,null,{"$f":"IF(ISERROR(VLOOKUP(H3460,Database!$B$1:$C$5908,2,FALSE)),\"\",VLOOKUP(H3460,Database!$B$1:$C$5908,2,FALSE))","v":""},"",{"$error":"#N/A"},null,null,null,null,null,null,null,null,"",false,2,{"$f":"VLOOKUP(H3460,Database!$B$1:$E$4891,4,FALSE)","v":{"$error":"#N/A"}},true]
[3460,null,null,null,null,null,null,null,{"$f":"IF(ISERROR(VLOOKUP(H3465,Database!$B$1:$C$5908,2,FALSE)),\"\",VLOOKUP(H3465,Database!$B$1:$C$5908,2,FALSE))","v":""},"",{"$error":"#N/A"},null,null,null,null,null,null,null,null,"",false,2,{"$f":"VLOOKUP(H3465,Database!$B$1:$E$4891,4,FALSE)","v":{"$error":"#N/A"}},true]
[3465,null,null,null,null,null,null,null,{"$f":"IF(ISERROR(VLOOKUP(H3470,Database!$B$1:$C$5908,2,FALSE)),\"\",VLOOKUP(H3470,Database!$B$1:$C$5908,2,FALSE))","v":""},"",{"$error":"#N/A"},null,null,null,null,null,null,null,null,"",false,2,{"$f":"VLOOKUP(H3470,Database!$B$1:$E$4891,4,FALSE)","v":{"$error":"#N/A"}},true]
[3470,null,null,null,null,null,null,null,{"$f":"IF(ISERROR(VLOOKUP(H3475,Database!$B$1:$C$5908,2,FALSE)),\"\",VLOOKUP(H3475,Database!$B$1:$C$5908,2,FALSE))","v":""},"",{"$error":"#N/A"},null,null,null,null,null,null,null,null,"",false,2,{"$f":"VLOOKUP(H3475,Database!$B$1:$E$4891,4,FALSE)","v":{"$error":"#N/A"}},true]
[3471,null,null,null,null,null,null,null,{"$f":"IF(ISERROR(VLOOKUP(H3476,Database!$B$1:$C$5908,2,FALSE)),\"\",VLOOKUP(H3476,Database!$B$1:$C$5908,2,FALSE))","v":""},"",{"$error":"#N/A"},null,null,null,null,null,null,null,null,"",false,2,{"$f":"VLOOKUP(H3476,Database!$B$1:$E$4891,4,FALSE)","v":{"$error":"#N/A"}},true]
[3479,null,null,null,null,null,null,null,{"$f":"IF(ISERROR(VLOOKUP(H3484,Database!$B$1:$C$5908,2,FALSE)),\"\",VLOOKUP(H3484,Database!$B$1:$C$5908,2,FALSE))","v":""},"",{"$error":"#N/A"},null,null,null,null,null,null,null,null,"",false,2,{"$f":"VLOOKUP(H3484,Database!$B$1:$E$4891,4,FALSE)","v":{"$error":"#N/A"}},true]
[3480,null,null,null,null,null,null,null,{"$f":"IF(ISERROR(VLOOKUP(H3485,Database!$B$1:$C$5908,2,FALSE)),\"\",VLOOKUP(H3485,Database!$B$1:$C$5908,2,FALSE))","v":""},"",{"$error":"#N/A"},null,null,null,null,null,null,null,null,"",false,2,{"$f":"VLOOKUP(H3485,Database!$B$1:$E$4891,4,FALSE)","v":{"$error":"#N/A"}},true]
[3486,null,null,null,null,null,null,null,{"$f":"IF(ISERROR(VLOOKUP(H3491,Database!$B$1:$C$5908,2,FALSE)),\"\",VLOOKUP(H3491,Database!$B$1:$C$5908,2,FALSE))","v":""},"",{"$error":"#N/A"},null,null,null,null,null,null,null,null,"",false,2,{"$f":"VLOOKUP(H3491,Database!$B$1:$E$4891,4,FALSE)","v":{"$error":"#N/A"}},true]
[3491,null,null,null,null,null,null,null,{"$f":"IF(ISERROR(VLOOKUP(H3496,Database!$B$1:$C$5908,2,FALSE)),\"\",VLOOKUP(H3496,Database!$B$1:$C$5908,2,FALSE))","v":""},"",{"$error":"#N/A"},null,null,null,null,null,null,null,null,"",false,2,{"$f":"VLOOKUP(H3496,Database!$B$1:$E$4891,4,FALSE)","v":{"$error":"#N/A"}},true]
[3498,null,null,null,null,null,null,null,{"$f":"IF(ISERROR(VLOOKUP(H3503,Database!$B$1:$C$5908,2,FALSE)),\"\",VLOOKUP(H3503,Database!$B$1:$C$5908,2,FALSE))","v":""},"",{"$error":"#N/A"},null,null,null,null,null,null,null,null,"",false,2,{"$f":"VLOOKUP(H3503,Database!$B$1:$E$4891,4,FALSE)","v":{"$error":"#N/A"}},true]
[3501,null,null,null,null,null,null,null,{"$f":"IF(ISERROR(VLOOKUP(H3506,Database!$B$1:$C$5908,2,FALSE)),\"\",VLOOKUP(H3506,Database!$B$1:$C$5908,2,FALSE))","v":""},"",{"$error":"#N/A"},null,null,null,null,null,null,null,null,"",false,2,{"$f":"VLOOKUP(H3506,Database!$B$1:$E$4891,4,FALSE)","v":{"$error":"#N/A"}},true]
[3506,null,null,null,null,null,null,null,{"$f":"IF(ISERROR(VLOOKUP(H3511,Database!$B$1:$C$5908,2,FALSE)),\"\",VLOOKUP(H3511,Database!$B$1:$C$5908,2,FALSE))","v":""},"",{"$error":"#N/A"},null,null,null,null,null,null,null,null,"",false,2,{"$f":"VLOOKUP(H3511,Database!$B$1:$E$4891,4,FALSE)","v":{"$error":"#N/A"}},true]
[3512,null,null,null,null,null,null,null,{"$f":"IF(ISERROR(VLOOKUP(H3517,Database!$B$1:$C$5908,2,FALSE)),\"\",VLOOKUP(H3517,Database!$B$1:$C$5908,2,FALSE))","v":""},"",{"$error":"#N/A"},null,null,null,null,null,null,null,null,"",false,2,{"$f":"VLOOKUP(H3517,Database!$B$1:$E$4891,4,FALSE)","v":{"$error":"#N/A"}},true]
[3517,null,null,null,null,null,null,null,{"$f":"IF(ISERROR(VLOOKUP(H3522,Database!$B$1:$C$5908,2,FALSE)),\"\",VLOOKUP(H3522,Database!$B$1:$C$5908,2,FALSE))","v":""},"",{"$error":"#N/A"},null,null,null,null,null,null,null,null,"",false,2,{"$f":"VLOOKUP(H3522,Database!$B$1:$E$4891,4,FALSE)","v":{"$error":"#N/A"}},true]
[3521,null,null,null,null,null,null,null,{"$f":"IF(ISERROR(VLOOKUP(H3526,Database!$B$1:$C$5908,2,FALSE)),\"\",VLOOKUP(H3526,Database!$B$1:$C$5908,2,FALSE))","v":""},"",{"$error":"#N/A"},null,null,null,null,null,null,null,null,"",false,2,{"$f":"VLOOKUP(H3526,Database!$B$1:$E$4891,4,FALSE)","v":{"$error":"#N/A"}},true]
[3527,null,null,null,null,null,null,null,{"$f":"IF(ISERROR(VLOOKUP(H3532,Database!$B$1:$C$5908,2,FALSE)),\"\",VLOOKUP(H3532,Database!$B$1:$C$5908,2,FALSE))","v":""},"",{"$error":"#N/A"},null,null,null,null,null,null,null,null,"",false,2,{"$f":"VLOOKUP(H3532,Database!$B$1:$E$4891,4,FALSE)","v":{"$error":"#N/A"}},true]
[3532,null,null,null,null,null,null,null,{"$f":"IF(ISERROR(VLOOKUP(H3537,Database!$B$1:$C$5908,2,FALSE)),\"\",VLOOKUP(H3537,Database!$B$1:$C$5908,2,FALSE))","v":""},"",{"$error":"#N/A"},null,null,null,null,null,null,null,null,"",false,2,{"$f":"VLOOKUP(H3537,Database!$B$1:$E$4891,4,FALSE)","v":{"$error":"#N/A"}},true]
[3536,null,null,null,null,null,null,null,{"$f":"IF(ISERROR(VLOOKUP(H3541,Database!$B$1:$C$5908,2,FALSE)),\"\",VLOOKUP(H3541,Database!$B$1:$C$5908,2,FALSE))","v":""},"",{"$error":"#N/A"},null,null,null,null,null,null,null,null,"",false,2,{"$f":"VLOOKUP(H3541,Database!$B$1:$E$4891,4,FALSE)","v":{"$error":"#N/A"}},true]
[3537,null,null,null,null,null,null,null,{"$f":"IF(ISERROR(VLOOKUP(H3542,Database!$B$1:$C$5908,2,FALSE)),\"\",VLOOKUP(H3542,Database!$B$1:$C$5908,2,FALSE))","v":""},"",{"$error":"#N/A"},null,null,null,null,null,null,null,null,"",false,2,{"$f":"VLOOKUP(H3542,Database!$B$1:$E$4891,4,FALSE)","v":{"$error":"#N/A"}},true]
[3542,null,null,null,null,null,null,null,{"$f":"IF(ISERROR(VLOOKUP(H3547,Database!$B$1:$C$5908,2,FALSE)),\"\",VLOOKUP(H3547,Database!$B$1:$C$5908,2,FALSE))","v":""},"",{"$error":"#N/A"},null,null,null,null,null,null,null,null,"",false,2,{"$f":"VLOOKUP(H3547,Database!$B$1:$E$4891,4,FALSE)","v":{"$error":"#N/A"}},true]
[3548,null,null,null,null,null,null,null,{"$f":"IF(ISERROR(VLOOKUP(H3553,Database!$B$1:$C$5908,2,FALSE)),\"\",VLOOKUP(H3553,Database!$B$1:$C$5908,2,FALSE))","v":""},"",{"$error":"#N/A"},null,null,null,null,null,null,null,null,"",false,2,{"$f":"VLOOKUP(H3553,Database!$B$1:$E$4891,4,FALSE)","v":{"$error":"#N/A"}},true]
[3555,null,null,null,null,null,null,null,{"$f":"IF(ISERROR(VLOOKUP(H3560,Database!$B$1:$C$5908,2,FALSE)),\"\",VLOOKUP(H3560,Database!$B$1:$C$5908,2,FALSE))","v":""},"",{"$error":"#N/A"},null,null,null,null,null,null,null,null,"",false,2,{"$f":"VLOOKUP(H3560,Database!$B$1:$E$4891,4,FALSE)","v":{"$error":"#N/A"}},true]
[3557,null,null,null,null,null,null,null,{"$f":"IF(ISERROR(VLOOKUP(H3562,Database!$B$1:$C$5908,2,FALSE)),\"\",VLOOKUP(H3562,Database!$B$1:$C$5908,2,FALSE))","v":""},"",{"$error":"#N/A"},null,null,null,null,null,null,null,null,"",false,2,{"$f":"VLOOKUP(H3562,Database!$B$1:$E$4891,4,FALSE)","v":{"$error":"#N/A"}},true]
[3563,null,null,null,null,null,null,null,{"$f":"IF(ISERROR(VLOOKUP(H3568,Database!$B$1:$C$5908,2,FALSE)),\"\",VLOOKUP(H3568,Database!$B$1:$C$5908,2,FALSE))","v":""},"",{"$error":"#N/A"},null,null,null,null,null,null,null,null,"",false,2,{"$f":"VLOOKUP(H3568,Database!$B$1:$E$4891,4,FALSE)","v":{"$error":"#N/A"}},true]
[3568,null,null,null,null,null,null,null,{"$f":"IF(ISERROR(VLOOKUP(H3573,Database!$B$1:$C$5908,2,FALSE)),\"\",VLOOKUP(H3573,Database!$B$1:$C$5908,2,FALSE))","v":""},"",{"$error":"#N/A"},null,null,null,null,null,null,null,null,"",false,2,{"$f":"VLOOKUP(H3573,Database!$B$1:$E$4891,4,FALSE)","v":{"$error":"#N/A"}},true]
[3574,null,null,null,null,null,null,null,{"$f":"IF(ISERROR(VLOOKUP(H3579,Database!$B$1:$C$5908,2,FALSE)),\"\",VLOOKUP(H3579,Database!$B$1:$C$5908,2,FALSE))","v":""},"",{"$error":"#N/A"},null,null,null,null,null,null,null,null,"",false,2,{"$f":"VLOOKUP(H3579,Database!$B$1:$E$4891,4,FALSE)","v":{"$error":"#N/A"}},true]
[3578,null,null,null,null,null,null,null,{"$f":"IF(ISERROR(VLOOKUP(H3583,Database!$B$1:$C$5908,2,FALSE)),\"\",VLOOKUP(H3583,Database!$B$1:$C$5908,2,FALSE))","v":""},"",{"$error":"#N/A"},null,null,null,null,null,null,null,null,"",false,2,{"$f":"VLOOKUP(H3583,Database!$B$1:$E$4891,4,FALSE)","v":{"$error":"#N/A"}},true]
[3583,null,null,null,null,null,null,null,{"$f":"IF(ISERROR(VLOOKUP(H3588,Database!$B$1:$C$5908,2,FALSE)),\"\",VLOOKUP(H3588,Database!$B$1:$C$5908,2,FALSE))","v":""},"",{"$error":"#N/A"},null,null,null,null,null,null,null,null,"",false,2,{"$f":"VLOOKUP(H3588,Database!$B$1:$E$4891,4,FALSE)","v":{"$error":"#N/A"}},true]
[3589,null,null,null,null,null,null,null,{"$f":"IF(ISERROR(VLOOKUP(H3594,Database!$B$1:$C$5908,2,FALSE)),\"\",VLOOKUP(H3594,Database!$B$1:$C$5908,2,FALSE))","v":""},"",{"$error":"#N/A"},null,null,null,null,null,null,null,null,"",false,2,{"$f":"VLOOKUP(H3594,Database!$B$1:$E$4891,4,FALSE)","v":{"$error":"#N/A"}},true]
[3593,null,null,null,null,null,null,null,{"$f":"IF(ISERROR(VLOOKUP(H3598,Database!$B$1:$C$5908,2,FALSE)),\"\",VLOOKUP(H3598,Database!$B$1:$C$5908,2,FALSE))","v":""},"",{"$error":"#N/A"},null,null,null,null,null,null,null,null,"",false,2,{"$f":"VLOOKUP(H3598,Database!$B$1:$E$4891,4,FALSE)","v":{"$error":"#N/A"}},true]
[3598,null,null,null,null,null,null,null,{"$f":"IF(ISERROR(VLOOKUP(H3603,Database!$B$1:$C$5908,2,FALSE)),\"\",VLOOKUP(H3603,Database!$B$1:$C$5908,2,FALSE))","v":""},"",{"$error":"#N/A"},null,null,null,null,null,null,null,null,"",false,2,{"$f":"VLOOKUP(H3603,Database!$B$1:$E$4891,4,FALSE)","v":{"$error":"#N/A"}},true]
[3599,null,null,null,null,null,null,null,{"$f":"IF(ISERROR(VLOOKUP(H3604,Database!$B$1:$C$5908,2,FALSE)),\"\",VLOOKUP(H3604,Database!$B$1:$C$5908,2,FALSE))","v":""},"",{"$error":"#N/A"},null,null,null,null,null,null,null,null,"",false,2,{"$f":"VLOOKUP(H3604,Database!$B$1:$E$4891,4,FALSE)","v":{"$error":"#N/A"}},true]
[3604,null,null,null,null,null,null,null,{"$f":"IF(ISERROR(VLOOKUP(H3609,Database!$B$1:$C$5908,2,FALSE)),\"\",VLOOKUP(H3609,Database!$B$1:$C$5908,2,FALSE))","v":""},"",{"$error":"#N/A"},null,null,null,null,null,null,null,null,"",false,2,{"$f":"VLOOKUP(H3609,Database!$B$1:$E$4891,4,FALSE)","v":{"$error":"#N/A"}},true]
[3612,null,null,null,null,null,null,null,{"$f":"IF(ISERROR(VLOOKUP(H3617,Database!$B$1:$C$5908,2,FALSE)),\"\",VLOOKUP(H3617,Database!$B$1:$C$5908,2,FALSE))","v":""},"",{"$error":"#N/A"},null,null,null,null,null,null,null,null,"",false,2,{"$f":"VLOOKUP(H3617,Database!$B$1:$E$4891,4,FALSE)","v":{"$error":"#N/A"}},true]
[3614,null,null,null,null,null,null,null,{"$f":"IF(ISERROR(VLOOKUP(H3619,Database!$B$1:$C$5908,2,FALSE)),\"\",VLOOKUP(H3619,Database!$B$1:$C$5908,2,FALSE))","v":""},"",{"$error":"#N/A"},null,null,null,null,null,null,null,null,"",false,2,{"$f":"VLOOKUP(H3619,Database!$B$1:$E$4891,4,FALSE)","v":{"$error":"#N/A"}},true]
[3619,null,null,null,null,null,null,null,{"$f":"IF(ISERROR(VLOOKUP(H3624,Database!$B$1:$C$5908,2,FALSE)),\"\",VLOOKUP(H3624,Database!$B$1:$C$5908,2,FALSE))","v":""},"",{"$error":"#N/A"},null,null,null,null,null,null,null,null,"",false,2,{"$f":"VLOOKUP(H3624,Database!$B$1:$E$4891,4,FALSE)","v":{"$error":"#N/A"}},true]
[3625,null,null,null,null,null,null,null,{"$f":"IF(ISERROR(VLOOKUP(H3630,Database!$B$1:$C$5908,2,FALSE)),\"\",VLOOKUP(H3630,Database!$B$1:$C$5908,2,FALSE))","v":""},"",{"$error":"#N/A"},null,null,null,null,null,null,null,null,"",false,2,{"$f":"VLOOKUP(H3630,Database!$B$1:$E$4891,4,FALSE)","v":{"$error":"#N/A"}},true]
[3631,null,null,null,null,null,null,null,{"$f":"IF(ISERROR(VLOOKUP(H3636,Database!$B$1:$C$5908,2,FALSE)),\"\",VLOOKUP(H3636,Database!$B$1:$C$5908,2,FALSE))","v":""},"",{"$error":"#N/A"},null,null,null,null,null,null,null,null,"",false,2,{"$f":"VLOOKUP(H3636,Database!$B$1:$E$4891,4,FALSE)","v":{"$error":"#N/A"}},true]
[3634,null,null,null,null,null,null,null,{"$f":"IF(ISERROR(VLOOKUP(H3639,Database!$B$1:$C$5908,2,FALSE)),\"\",VLOOKUP(H3639,Database!$B$1:$C$5908,2,FALSE))","v":""},"",{"$error":"#N/A"},null,null,null,null,null,null,null,null,"",false,2,{"$f":"VLOOKUP(H3639,Database!$B$1:$E$4891,4,FALSE)","v":{"$error":"#N/A"}},true]
[3640,null,null,null,null,null,null,null,{"$f":"IF(ISERROR(VLOOKUP(H3645,Database!$B$1:$C$5908,2,FALSE)),\"\",VLOOKUP(H3645,Database!$B$1:$C$5908,2,FALSE))","v":""},"",{"$error":"#N/A"},null,null,null,null,null,null,null,null,"",false,2,{"$f":"VLOOKUP(H3645,Database!$B$1:$E$4891,4,FALSE)","v":{"$error":"#N/A"}},true]
[3645,null,null,null,null,null,null,null,{"$f":"IF(ISERROR(VLOOKUP(H3650,Database!$B$1:$C$5908,2,FALSE)),\"\",VLOOKUP(H3650,Database!$B$1:$C$5908,2,FALSE))","v":""},"",{"$error":"#N/A"},null,null,null,null,null,null,null,null,"",false,2,{"$f":"VLOOKUP(H3650,Database!$B$1:$E$4891,4,FALSE)","v":{"$error":"#N/A"}},true]
[{"$f":"A3654+1","v":3650},null,null,null,null,null,null,null,{"$f":"IF(ISERROR(VLOOKUP(H3655,Database!$B$1:$C$5908,2,FALSE)),\"\",VLOOKUP(H3655,Database!$B$1:$C$5908,2,FALSE))","v":""},{"$f":"IF(V3655=1,1,IF(AND(T3655=0,F3655=\"SSB\",V3655<>\"\"),2,IF(AND(T3655=0,F3655=\"FM\",V3655<>\"\"),2,IF(AND(T3655=0,F3655=\"DIGI\",V3655<>\"\"),3,IF(AND(T3655=0,F3655=\"CW\",V3655<>\"\"),5,IF(H3655=\"-\",\"\",T3655))))))","v":""},{"$f":"IF(H3655=\"-\",\"\",IF(AND(H3655<>\"\",X3655=TRUE),\"INDIPENDENT\",IF(W3655=0,\"SCRIVI NOME NELLE NOTE\",W3655)))","v":{"$error":"#N/A"}},null,null,null,null,null,null,null,null,{"$f":"IF(H3655=\"\",\"\",IF(H3655=$R$6,25,IF(OR(H3655=$R$7,H3655=$R$8,H3655=$R$9,H3655=$R$10,H3655=$R$11,H3655=$R$12,H3655=$R$13,H3655=$R$14,H3655=$R$15,H3655=$R$16,H3655=$R$17,H3655=$R$18,H3655=$R$19,H3655=$R$20,H3655=$R$21,H3655=$R$22,H3655=$R$23),15,0)))","v":""},{"$f":"ISERROR(I3655)","v":false},2,{"$f":"VLOOKUP(H3655,Database!$B$1:$E$4891,4,FALSE)","v":{"$error":"#N/A"}},{"$f":"ISERROR(W3655)","v":true}]
[3655,null,null,null,null,null,null,null,{"$f":"IF(ISERROR(VLOOKUP(H3660,Database!$B$1:$C$5908,2,FALSE)),\"\",VLOOKUP(H3660,Database!$B$1:$C$5908,2,FALSE))","v":""},"",{"$error":"#N/A"},null,null,null,null,null,null,null,null,"",false,2,{"$f":"VLOOKUP(H3660,Database!$B$1:$E$4891,4,FALSE)","v":{"$error":"#N/A"}},true]
[3660,null,null,null,null,null,null,null,{"$f":"IF(ISERROR(VLOOKUP(H3665,Database!$B$1:$C$5908,2,FALSE)),\"\",VLOOKUP(H3665,Database!$B$1:$C$5908,2,FALSE))","v":""},"",{"$error":"#N/A"},null,null,null,null,null,null,null,null,"",false,2,{"$f":"VLOOKUP(H3665,Database!$B$1:$E$4891,4,FALSE)","v":{"$error":"#N/A"}},true]
[3661,null,null,null,null,null,null,null,{"$f":"IF(ISERROR(VLOOKUP(H3666,Database!$B$1:$C$5908,2,FALSE)),\"\",VLOOKUP(H3666,Database!$B$1:$C$5908,2,FALSE))","v":""},"",{"$error":"#N/A"},null,null,null,null,null,null,null,null,"",false,2,{"$f":"VLOOKUP(H3666,Database!$B$1:$E$4891,4,FALSE)","v":{"$error":"#N/A"}},true]
[3669,null,null,null,null,null,null,null,{"$f":"IF(ISERROR(VLOOKUP(H3674,Database!$B$1:$C$5908,2,FALSE)),\"\",VLOOKUP(H3674,Database!$B$1:$C$5908,2,FALSE))","v":""},"",{"$error":"#N/A"},null,null,null,null,null,null,null,null,"",false,2,{"$f":"VLOOKUP(H3674,Database!$B$1:$E$4891,4,FALSE)","v":{"$error":"#N/A"}},true]
[3671,null,null,null,null,null,null,null,{"$f":"IF(ISERROR(VLOOKUP(H3676,Database!$B$1:$C$5908,2,FALSE)),\"\",VLOOKUP(H3676,Database!$B$1:$C$5908,2,FALSE))","v":""},"",{"$error":"#N/A"},null,null,null,null,null,null,null,null,"",false,2,{"$f":"VLOOKUP(H3676,Database!$B$1:$E$4891,4,FALSE)","v":{"$error":"#N/A"}},true]
[3676,null,null,null,null,null,null,null,{"$f":"IF(ISERROR(VLOOKUP(H3681,Database!$B$1:$C$5908,2,FALSE)),\"\",VLOOKUP(H3681,Database!$B$1:$C$5908,2,FALSE))","v":""},"",{"$error":"#N/A"},null,null,null,null,null,null,null,null,"",false,2,{"$f":"VLOOKUP(H3681,Database!$B$1:$E$4891,4,FALSE)","v":{"$error":"#N/A"}},true]
[3681,null,null,null,null,null,null,null,{"$f":"IF(ISERROR(VLOOKUP(H3686,Database!$B$1:$C$5908,2,FALSE)),\"\",VLOOKUP(H3686,Database!$B$1:$C$5908,2,FALSE))","v":""},"",{"$error":"#N/A"},null,null,null,null,null,null,null,null,"",false,2,{"$f":"VLOOKUP(H3686,Database!$B$1:$E$4891,4,FALSE)","v":{"$error":"#N/A"}},true]
[3688,null,null,null,null,null,null,null,{"$f":"IF(ISERROR(VLOOKUP(H3693,Database!$B$1:$C$5908,2,FALSE)),\"\",VLOOKUP(H3693,Database!$B$1:$C$5908,2,FALSE))","v":""},"",{"$error":"#N/A"},null,null,null,null,null,null,null,null,"",false,2,{"$f":"VLOOKUP(H3693,Database!$B$1:$E$4891,4,FALSE)","v":{"$error":"#N/A"}},true]
[3691,null,null,null,null,null,null,null,{"$f":"IF(ISERROR(VLOOKUP(H3696,Database!$B$1:$C$5908,2,FALSE)),\"\",VLOOKUP(H3696,Database!$B$1:$C$5908,2,FALSE))","v":""},"",{"$error":"#N/A"},null,null,null,null,null,null,null,null,"",false,2,{"$f":"VLOOKUP(H3696,Database!$B$1:$E$4891,4,FALSE)","v":{"$error":"#N/A"}},true]
[3696,null,null,null,null,null,null,null,{"$f":"IF(ISERROR(VLOOKUP(H3701,Database!$B$1:$C$5908,2,FALSE)),\"\",VLOOKUP(H3701,Database!$B$1:$C$5908,2,FALSE))","v":""},"",{"$error":"#N/A"},null,null,null,null,null,null,null,null,"",false,2,{"$f":"VLOOKUP(H3701,Database!$B$1:$E$4891,4,FALSE)","v":{"$error":"#N/A"}},true]
[3702,null,null,null,null,null,null,null,{"$f":"IF(ISERROR(VLOOKUP(H3707,Database!$B$1:$C$5908,2,FALSE)),\"\",VLOOKUP(H3707,Database!$B$1:$C$5908,2,FALSE))","v":""},"",{"$error":"#N/A"},null,null,null,null,null,null,null,null,"",false,2,{"$f":"VLOOKUP(H3707,Database!$B$1:$E$4891,4,FALSE)","v":{"$error":"#N/A"}},true]
[3707,null,null,null,null,null,null,null,{"$f":"IF(ISERROR(VLOOKUP(H3712,Database!$B$1:$C$5908,2,FALSE)),\"\",VLOOKUP(H3712,Database!$B$1:$C$5908,2,FALSE))","v":""},"",{"$error":"#N/A"},null,null,null,null,null,null,null,null,"",false,2,{"$f":"VLOOKUP(H3712,Database!$B$1:$E$4891,4,FALSE)","v":{"$error":"#N/A"}},true]
[3712,null,null,null,null,null,null,null,{"$f":"IF(ISERROR(VLOOKUP(H3717,Database!$B$1:$C$5908,2,FALSE)),\"\",VLOOKUP(H3717,Database!$B$1:$C$5908,2,FALSE))","v":""},"",{"$error":"#N/A"},null,null,null,null,null,null,null,null,"",false,2,{"$f":"VLOOKUP(H3717,Database!$B$1:$E$4891,4,FALSE)","v":{"$error":"#N/A"}},true]
[3717,null,null,null,null,null,null,null,{"$f":"IF(ISERROR(VLOOKUP(H3722,Database!$B$1:$C$5908,2,FALSE)),\"\",VLOOKUP(H3722,Database!$B$1:$C$5908,2,FALSE))","v":""},"",{"$error":"#N/A"},null,null,null,null,null,null,null,null,"",false,2,{"$f":"VLOOKUP(H3722,Database!$B$1:$E$4891,4,FALSE)","v":{"$error":"#N/A"}},true]
[3722,null,null,null,null,null,null,null,{"$f":"IF(ISERROR(VLOOKUP(H3727,Database!$B$1:$C$5908,2,FALSE)),\"\",VLOOKUP(H3727,Database!$B$1:$C$5908,2,FALSE))","v":""},"",{"$error":"#N/A"},null,null,null,null,null,null,null,null,"",false,2,{"$f":"VLOOKUP(H3727,Database!$B$1:$E$4891,4,FALSE)","v":{"$error":"#N/A"}},true]
[3726,null,null,null,null,null,null,null,{"$f":"IF(ISERROR(VLOOKUP(H3731,Database!$B$1:$C$5908,2,FALSE)),\"\",VLOOKUP(H3731,Database!$B$1:$C$5908,2,FALSE))","v":""},"",{"$error":"#N/A"},null,null,null,null,null,null,null,null,"",false,2,{"$f":"VLOOKUP(H3731,Database!$B$1:$E$4891,4,FALSE)","v":{"$error":"#N/A"}},true]
[3727,null,null,null,null,null,null,null,{"$f":"IF(ISERROR(VLOOKUP(H3732,Database!$B$1:$C$5908,2,FALSE)),\"\",VLOOKUP(H3732,Database!$B$1:$C$5908,2,FALSE))","v":""},"",{"$error":"#N/A"},null,null,null,null,null,null,null,null,"",false,2,{"$f":"VLOOKUP(H3732,Database!$B$1:$E$4891,4,FALSE)","v":{"$error":"#N/A"}},true]
[3733,null,null,null,null,null,null,null,{"$f":"IF(ISERROR(VLOOKUP(H3738,Database!$B$1:$C$5908,2,FALSE)),\"\",VLOOKUP(H3738,Database!$B$1:$C$5908,2,FALSE))","v":""},"",{"$error":"#N/A"},null,null,null,null,null,null,null,null,"",false,2,{"$f":"VLOOKUP(H3738,Database!$B$1:$E$4891,4,FALSE)","v":{"$error":"#N/A"}},true]
[3738,null,null,null,null,null,null,null,{"$f":"IF(ISERROR(VLOOKUP(H3743,Database!$B$1:$C$5908,2,FALSE)),\"\",VLOOKUP(H3743,Database!$B$1:$C$5908,2,FALSE))","v":""},"",{"$error":"#N/A"},null,null,null,null,null,null,null,null,"",false,2,{"$f":"VLOOKUP(H3743,Database!$B$1:$E$4891,4,FALSE)","v":{"$error":"#N/A"}},true]
[3745,null,null,null,null,null,null,null,{"$f":"IF(ISERROR(VLOOKUP(H3750,Database!$B$1:$C$5908,2,FALSE)),\"\",VLOOKUP(H3750,Database!$B$1:$C$5908,2,FALSE))","v":""},"",{"$error":"#N/A"},null,null,null,null,null,null,null,null,"",false,2,{"$f":"VLOOKUP(H3750,Database!$B$1:$E$4891,4,FALSE)","v":{"$error":"#N/A"}},true]
[3748,null,null,null,null,null,null,null,{"$f":"IF(ISERROR(VLOOKUP(H3753,Database!$B$1:$C$5908,2,FALSE)),\"\",VLOOKUP(H3753,Database!$B$1:$C$5908,2,FALSE))","v":""},"",{"$error":"#N/A"},null,null,null,null,null,null,null,null,"",false,2,{"$f":"VLOOKUP(H3753,Database!$B$1:$E$4891,4,FALSE)","v":{"$error":"#N/A"}},true]
[3753,null,null,null,null,null,null,null,{"$f":"IF(ISERROR(VLOOKUP(H3758,Database!$B$1:$C$5908,2,FALSE)),\"\",VLOOKUP(H3758,Database!$B$1:$C$5908,2,FALSE))","v":""},"",{"$error":"#N/A"},null,null,null,null,null,null,null,null,"",false,2,{"$f":"VLOOKUP(H3758,Database!$B$1:$E$4891,4,FALSE)","v":{"$error":"#N/A"}},true]
[3758,null,null,null,null,null,null,null,{"$f":"IF(ISERROR(VLOOKUP(H3763,Database!$B$1:$C$5908,2,FALSE)),\"\",VLOOKUP(H3763,Database!$B$1:$C$5908,2,FALSE))","v":""},"",{"$error":"#N/A"},null,null,null,null,null,null,null,null,"",false,2,{"$f":"VLOOKUP(H3763,Database!$B$1:$E$4891,4,FALSE)","v":{"$error":"#N/A"}},true]
[3764,null,null,null,null,null,null,null,{"$f":"IF(ISERROR(VLOOKUP(H3769,Database!$B$1:$C$5908,2,FALSE)),\"\",VLOOKUP(H3769,Database!$B$1:$C$5908,2,FALSE))","v":""},"",{"$error":"#N/A"},null,null,null,null,null,null,null,null,"",false,2,{"$f":"VLOOKUP(H3769,Database!$B$1:$E$4891,4,FALSE)","v":{"$error":"#N/A"}},true]
[3768,null,null,null,null,null,null,null,{"$f":"IF(ISERROR(VLOOKUP(H3773,Database!$B$1:$C$5908,2,FALSE)),\"\",VLOOKUP(H3773,Database!$B$1:$C$5908,2,FALSE))","v":""},"",{"$error":"#N/A"},null,null,null,null,null,null,null,null,"",false,2,{"$f":"VLOOKUP(H3773,Database!$B$1:$E$4891,4,FALSE)","v":{"$error":"#N/A"}},true]
[3774,null,null,null,null,null,null,null,{"$f":"IF(ISERROR(VLOOKUP(H3779,Database!$B$1:$C$5908,2,FALSE)),\"\",VLOOKUP(H3779,Database!$B$1:$C$5908,2,FALSE))","v":""},"",{"$error":"#N/A"},null,null,null,null,null,null,null,null,"",false,2,{"$f":"VLOOKUP(H3779,Database!$B$1:$E$4891,4,FALSE)","v":{"$error":"#N/A"}},true]
[3779,null,null,null,null,null,null,null,{"$f":"IF(ISERROR(VLOOKUP(H3784,Database!$B$1:$C$5908,2,FALSE)),\"\",VLOOKUP(H3784,Database!$B$1:$C$5908,2,FALSE))","v":""},"",{"$error":"#N/A"},null,null,null,null,null,null,null,null,"",false,{"$f":"IF(H3784=\"-\",\"\",IF(AND(T3784=0,U3784=FALSE,I3784=\"\"),1,2))","v":2},{"$f":"VLOOKUP(H3784,Database!$B$1:$E$4891,4,FALSE)","v":{"$error":"#N/A"}},true]
[3783,null,null,null,null,null,null,null,{"$f":"IF(ISERROR(VLOOKUP(H3788,Database!$B$1:$C$5908,2,FALSE)),\"\",VLOOKUP(H3788,Database!$B$1:$C$5908,2,FALSE))","v":""},"",{"$error":"#N/A"},null,null,null,null,null,null,null,null,"",false,2,{"$f":"VLOOKUP(H3788,Database!$B$1:$E$4891,4,FALSE)","v":{"$error":"#N/A"}},true]
[3784,null,null,null,null,null,null,null,{"$f":"IF(ISERROR(VLOOKUP(H3789,Database!$B$1:$C$5908,2,FALSE)),\"\",VLOOKUP(H3789,Database!$B$1:$C$5908,2,FALSE))","v":""},"",{"$error":"#N/A"},null,null,null,null,null,null,null,null,"",false,2,{"$f":"VLOOKUP(H3789,Database!$B$1:$E$4891,4,FALSE)","v":{"$error":"#N/A"}},true]
[3789,null,null,null,null,null,null,null,{"$f":"IF(ISERROR(VLOOKUP(H3794,Database!$B$1:$C$5908,2,FALSE)),\"\",VLOOKUP(H3794,Database!$B$1:$C$5908,2,FALSE))","v":""},"",{"$error":"#N/A"},null,null,null,null,null,null,null,null,"",false,2,{"$f":"VLOOKUP(H3794,Database!$B$1:$E$4891,4,FALSE)","v":{"$error":"#N/A"}},true]
[3794,null,null,null,null,null,null,null,{"$f":"IF(ISERROR(VLOOKUP(H3799,Database!$B$1:$C$5908,2,FALSE)),\"\",VLOOKUP(H3799,Database!$B$1:$C$5908,2,FALSE))","v":""},"",{"$error":"#N/A"},null,null,null,null,null,null,null,null,"",false,2,{"$f":"VLOOKUP(H3799,Database!$B$1:$E$4891,4,FALSE)","v":{"$error":"#N/A"}},true]
[3802,null,null,null,null,null,null,null,{"$f":"IF(ISERROR(VLOOKUP(H3807,Database!$B$1:$C$5908,2,FALSE)),\"\",VLOOKUP(H3807,Database!$B$1:$C$5908,2,FALSE))","v":""},"",{"$error":"#N/A"},null,null,null,null,null,null,null,null,"",false,2,{"$f":"VLOOKUP(H3807,Database!$B$1:$E$4891,4,FALSE)","v":{"$error":"#N/A"}},true]
[3804,null,null,null,null,null,null,null,{"$f":"IF(ISERROR(VLOOKUP(H3809,Database!$B$1:$C$5908,2,FALSE)),\"\",VLOOKUP(H3809,Database!$B$1:$C$5908,2,FALSE))","v":""},"",{"$error":"#N/A"},null,null,null,null,null,null,null,null,"",false,2,{"$f":"VLOOKUP(H3809,Database!$B$1:$E$4891,4,FALSE)","v":{"$error":"#N/A"}},true]
[3810,null,null,null,null,null,null,null,{"$f":"IF(ISERROR(VLOOKUP(H3815,Database!$B$1:$C$5908,2,FALSE)),\"\",VLOOKUP(H3815,Database!$B$1:$C$5908,2,FALSE))","v":""},"",{"$error":"#N/A"},null,null,null,null,null,null,null,null,"",false,2,{"$f":"VLOOKUP(H3815,Database!$B$1:$E$4891,4,FALSE)","v":{"$error":"#N/A"}},true]
[3815,null,null,null,null,null,null,null,{"$f":"IF(ISERROR(VLOOKUP(H3820,Database!$B$1:$C$5908,2,FALSE)),\"\",VLOOKUP(H3820,Database!$B$1:$C$5908,2,FALSE))","v":""},"",{"$error":"#N/A"},null,null,null,null,null,null,null,null,"",false,2,{"$f":"VLOOKUP(H3820,Database!$B$1:$E$4891,4,FALSE)","v":{"$error":"#N/A"}},true]
[3821,null,null,null,null,null,null,null,{"$f":"IF(ISERROR(VLOOKUP(H3826,Database!$B$1:$C$5908,2,FALSE)),\"\",VLOOKUP(H3826,Database!$B$1:$C$5908,2,FALSE))","v":""},"",{"$error":"#N/A"},null,null,null,null,null,null,null,null,"",false,2,{"$f":"VLOOKUP(H3826,Database!$B$1:$E$4891,4,FALSE)","v":{"$error":"#N/A"}},true]
[3825,null,null,null,null,null,null,null,{"$f":"IF(ISERROR(VLOOKUP(H3830,Database!$B$1:$C$5908,2,FALSE)),\"\",VLOOKUP(H3830,Database!$B$1:$C$5908,2,FALSE))","v":""},"",{"$error":"#N/A"},null,null,null,null,null,null,null,null,"",false,2,{"$f":"VLOOKUP(H3830,Database!$B$1:$E$4891,4,FALSE)","v":{"$error":"#N/A"}},true]
[3830,null,null,null,null,null,null,null,{"$f":"IF(ISERROR(VLOOKUP(H3835,Database!$B$1:$C$5908,2,FALSE)),\"\",VLOOKUP(H3835,Database!$B$1:$C$5908,2,FALSE))","v":""},"",{"$error":"#N/A"},null,null,null,null,null,null,null,null,"",false,2,{"$f":"VLOOKUP(H3835,Database!$B$1:$E$4891,4,FALSE)","v":{"$error":"#N/A"}},true]
[3836,null,null,null,null,null,null,null,{"$f":"IF(ISERROR(VLOOKUP(H3841,Database!$B$1:$C$5908,2,FALSE)),\"\",VLOOKUP(H3841,Database!$B$1:$C$5908,2,FALSE))","v":""},"",{"$error":"#N/A"},null,null,null,null,null,null,null,null,"",false,2,{"$f":"VLOOKUP(H3841,Database!$B$1:$E$4891,4,FALSE)","v":{"$error":"#N/A"}},true]
[3840,null,null,null,null,null,null,null,{"$f":"IF(ISERROR(VLOOKUP(H3845,Database!$B$1:$C$5908,2,FALSE)),\"\",VLOOKUP(H3845,Database!$B$1:$C$5908,2,FALSE))","v":""},"",{"$error":"#N/A"},null,null,null,null,null,null,null,null,"",false,2,{"$f":"VLOOKUP(H3845,Database!$B$1:$E$4891,4,FALSE)","v":{"$error":"#N/A"}},true]
[3845,null,null,null,null,null,null,null,{"$f":"IF(ISERROR(VLOOKUP(H3850,Database!$B$1:$C$5908,2,FALSE)),\"\",VLOOKUP(H3850,Database!$B$1:$C$5908,2,FALSE))","v":""},"",{"$error":"#N/A"},null,null,null,null,null,null,null,null,"",false,2,{"$f":"VLOOKUP(H3850,Database!$B$1:$E$4891,4,FALSE)","v":{"$error":"#N/A"}},true]
[3846,null,null,null,null,null,null,null,{"$f":"IF(ISERROR(VLOOKUP(H3851,Database!$B$1:$C$5908,2,FALSE)),\"\",VLOOKUP(H3851,Database!$B$1:$C$5908,2,FALSE))","v":""},"",{"$error":"#N/A"},null,null,null,null,null,null,null,null,"",false,2,{"$f":"VLOOKUP(H3851,Database!$B$1:$E$4891,4,FALSE)","v":{"$error":"#N/A"}},true]
[3851,null,null,null,null,null,null,null,{"$f":"IF(ISERROR(VLOOKUP(H3856,Database!$B$1:$C$5908,2,FALSE)),\"\",VLOOKUP(H3856,Database!$B$1:$C$5908,2,FALSE))","v":""},"",{"$error":"#N/A"},null,null,null,null,null,null,null,null,"",false,2,{"$f":"VLOOKUP(H3856,Database!$B$1:$E$4891,4,FALSE)","v":{"$error":"#N/A"}},true]
[3859,null,null,null,null,null,null,null,{"$f":"IF(ISERROR(VLOOKUP(H3864,Database!$B$1:$C$5908,2,FALSE)),\"\",VLOOKUP(H3864,Database!$B$1:$C$5908,2,FALSE))","v":""},"",{"$error":"#N/A"},null,null,null,null,null,null,null,null,"",false,2,{"$f":"VLOOKUP(H3864,Database!$B$1:$E$4891,4,FALSE)","v":{"$error":"#N/A"}},true]
[3861,null,null,null,null,null,null,null,{"$f":"IF(ISERROR(VLOOKUP(H3866,Database!$B$1:$C$5908,2,FALSE)),\"\",VLOOKUP(H3866,Database!$B$1:$C$5908,2,FALSE))","v":""},"",{"$error":"#N/A"},null,null,null,null,null,null,null,null,"",false,2,{"$f":"VLOOKUP(H3866,Database!$B$1:$E$4891,4,FALSE)","v":{"$error":"#N/A"}},true]
[3866,null,null,null,null,null,null,null,{"$f":"IF(ISERROR(VLOOKUP(H3871,Database!$B$1:$C$5908,2,FALSE)),\"\",VLOOKUP(H3871,Database!$B$1:$C$5908,2,FALSE))","v":""},"",{"$error":"#N/A"},null,null,null,null,null,null,null,null,"",false,2,{"$f":"VLOOKUP(H3871,Database!$B$1:$E$4891,4,FALSE)","v":{"$error":"#N/A"}},true]
[3872,null,null,null,null,null,null,null,{"$f":"IF(ISERROR(VLOOKUP(H3877,Database!$B$1:$C$5908,2,FALSE)),\"\",VLOOKUP(H3877,Database!$B$1:$C$5908,2,FALSE))","v":""},"",{"$error":"#N/A"},null,null,null,null,null,null,null,null,"",false,2,{"$f":"VLOOKUP(H3877,Database!$B$1:$E$4891,4,FALSE)","v":{"$error":"#N/A"}},true]
[3878,null,null,null,null,null,null,null,{"$f":"IF(ISERROR(VLOOKUP(H3883,Database!$B$1:$C$5908,2,FALSE)),\"\",VLOOKUP(H3883,Database!$B$1:$C$5908,2,FALSE))","v":""},"",{"$error":"#N/A"},null,null,null,null,null,null,null,null,"",false,2,{"$f":"VLOOKUP(H3883,Database!$B$1:$E$4891,4,FALSE)","v":{"$error":"#N/A"}},true]
[3881,null,null,null,null,null,null,null,{"$f":"IF(ISERROR(VLOOKUP(H3886,Database!$B$1:$C$5908,2,FALSE)),\"\",VLOOKUP(H3886,Database!$B$1:$C$5908,2,FALSE))","v":""},"",{"$error":"#N/A"},null,null,null,null,null,null,null,null,"",false,2,{"$f":"VLOOKUP(H3886,Database!$B$1:$E$4891,4,FALSE)","v":{"$error":"#N/A"}},true]
[3887,null,null,null,null,null,null,null,{"$f":"IF(ISERROR(VLOOKUP(H3892,Database!$B$1:$C$5908,2,FALSE)),\"\",VLOOKUP(H3892,Database!$B$1:$C$5908,2,FALSE))","v":""},"",{"$error":"#N/A"},null,null,null,null,null,null,null,null,"",false,2,{"$f":"VLOOKUP(H3892,Database!$B$1:$E$4891,4,FALSE)","v":{"$error":"#N/A"}},true]
[3892,null,null,null,null,null,null,null,{"$f":"IF(ISERROR(VLOOKUP(H3897,Database!$B$1:$C$5908,2,FALSE)),\"\",VLOOKUP(H3897,Database!$B$1:$C$5908,2,FALSE))","v":""},"",{"$error":"#N/A"},null,null,null,null,null,null,null,null,"",false,2,{"$f":"VLOOKUP(H3897,Database!$B$1:$E$4891,4,FALSE)","v":{"$error":"#N/A"}},true]
[3897,null,null,null,null,null,null,null,{"$f":"IF(ISERROR(VLOOKUP(H3902,Database!$B$1:$C$5908,2,FALSE)),\"\",VLOOKUP(H3902,Database!$B$1:$C$5908,2,FALSE))","v":""},"",{"$error":"#N/A"},null,null,null,null,null,null,null,null,"",false,2,{"$f":"VLOOKUP(H3902,Database!$B$1:$E$4891,4,FALSE)","v":{"$error":"#N/A"}},true]
[3902,null,null,null,null,null,null,null,{"$f":"IF(ISERROR(VLOOKUP(H3907,Database!$B$1:$C$5908,2,FALSE)),\"\",VLOOKUP(H3907,Database!$B$1:$C$5908,2,FALSE))","v":""},"",{"$error":"#N/A"},null,null,null,null,null,null,null,null,"",false,2,{"$f":"VLOOKUP(H3907,Database!$B$1:$E$4891,4,FALSE)","v":{"$error":"#N/A"}},true]
[3907,null,null,null,null,null,null,null,{"$f":"IF(ISERROR(VLOOKUP(H3912,Database!$B$1:$C$5908,2,FALSE)),\"\",VLOOKUP(H3912,Database!$B$1:$C$5908,2,FALSE))","v":""},"",{"$error":"#N/A"},null,null,null,null,null,null,null,null,"",false,{"$f":"IF(H3912=\"-\",\"\",IF(AND(T3912=0,U3912=FALSE,I3912=\"\"),1,2))","v":2},{"$f":"VLOOKUP(H3912,Database!$B$1:$E$4891,4,FALSE)","v":{"$error":"#N/A"}},true]
[3908,null,null,null,null,null,null,null,{"$f":"IF(ISERROR(VLOOKUP(H3913,Database!$B$1:$C$5908,2,FALSE)),\"\",VLOOKUP(H3913,Database!$B$1:$C$5908,2,FALSE))","v":""},"",{"$error":"#N/A"},null,null,null,null,null,null,null,null,"",false,2,{"$f":"VLOOKUP(H3913,Database!$B$1:$E$4891,4,FALSE)","v":{"$error":"#N/A"}},true]
[3916,null,null,null,null,null,null,null,{"$f":"IF(ISERROR(VLOOKUP(H3921,Database!$B$1:$C$5908,2,FALSE)),\"\",VLOOKUP(H3921,Database!$B$1:$C$5908,2,FALSE))","v":""},"",{"$error":"#N/A"},null,null,null,null,null,null,null,null,"",false,2,{"$f":"VLOOKUP(H3921,Database!$B$1:$E$4891,4,FALSE)","v":{"$error":"#N/A"}},true]
[3917,null,null,null,null,null,null,null,{"$f":"IF(ISERROR(VLOOKUP(H3922,Database!$B$1:$C$5908,2,FALSE)),\"\",VLOOKUP(H3922,Database!$B$1:$C$5908,2,FALSE))","v":""},"",{"$error":"#N/A"},null,null,null,null,null,null,null,null,"",false,2,{"$f":"VLOOKUP(H3922,Database!$B$1:$E$4891,4,FALSE)","v":{"$error":"#N/A"}},true]
[3923,null,null,null,null,null,null,null,{"$f":"IF(ISERROR(VLOOKUP(H3928,Database!$B$1:$C$5908,2,FALSE)),\"\",VLOOKUP(H3928,Database!$B$1:$C$5908,2,FALSE))","v":""},"",{"$error":"#N/A"},null,null,null,null,null,null,null,null,"",false,2,{"$f":"VLOOKUP(H3928,Database!$B$1:$E$4891,4,FALSE)","v":{"$error":"#N/A"}},true]
[3928,null,null,null,null,null,null,null,{"$f":"IF(ISERROR(VLOOKUP(H3933,Database!$B$1:$C$5908,2,FALSE)),\"\",VLOOKUP(H3933,Database!$B$1:$C$5908,2,FALSE))","v":""},"",{"$error":"#N/A"},null,null,null,null,null,null,null,null,"",false,2,{"$f":"VLOOKUP(H3933,Database!$B$1:$E$4891,4,FALSE)","v":{"$error":"#N/A"}},true]
[3935,null,null,null,null,null,null,null,{"$f":"IF(ISERROR(VLOOKUP(H3940,Database!$B$1:$C$5908,2,FALSE)),\"\",VLOOKUP(H3940,Database!$B$1:$C$5908,2,FALSE))","v":""},"",{"$error":"#N/A"},null,null,null,null,null,null,null,null,"",false,2,{"$f":"VLOOKUP(H3940,Database!$B$1:$E$4891,4,FALSE)","v":{"$error":"#N/A"}},true]
[3938,null,null,null,null,null,null,null,{"$f":"IF(ISERROR(VLOOKUP(H3943,Database!$B$1:$C$5908,2,FALSE)),\"\",VLOOKUP(H3943,Database!$B$1:$C$5908,2,FALSE))","v":""},"",{"$error":"#N/A"},null,null,null,null,null,null,null,null,"",false,2,{"$f":"VLOOKUP(H3943,Database!$B$1:$E$4891,4,FALSE)","v":{"$error":"#N/A"}},true]
[3943,null,null,null,null,null,null,null,{"$f":"IF(ISERROR(VLOOKUP(H3948,Database!$B$1:$C$5908,2,FALSE)),\"\",VLOOKUP(H3948,Database!$B$1:$C$5908,2,FALSE))","v":""},"",{"$error":"#N/A"},null,null,null,null,null,null,null,null,"",false,2,{"$f":"VLOOKUP(H3948,Database!$B$1:$E$4891,4,FALSE)","v":{"$error":"#N/A"}},true]
[3949,null,null,null,null,null,null,null,{"$f":"IF(ISERROR(VLOOKUP(H3954,Database!$B$1:$C$5908,2,FALSE)),\"\",VLOOKUP(H3954,Database!$B$1:$C$5908,2,FALSE))","v":""},"",{"$error":"#N/A"},null,null,null,null,null,null,null,null,"",false,2,{"$f":"VLOOKUP(H3954,Database!$B$1:$E$4891,4,FALSE)","v":{"$error":"#N/A"}},true]
[3954,null,null,null,null,null,null,null,{"$f":"IF(ISERROR(VLOOKUP(H3959,Database!$B$1:$C$5908,2,FALSE)),\"\",VLOOKUP(H3959,Database!$B$1:$C$5908,2,FALSE))","v":""},"",{"$error":"#N/A"},null,null,null,null,null,null,null,null,"",false,2,{"$f":"VLOOKUP(H3959,Database!$B$1:$E$4891,4,FALSE)","v":{"$error":"#N/A"}},true]
[3958,null,null,null,null,null,null,null,{"$f":"IF(ISERROR(VLOOKUP(H3963,Database!$B$1:$C$5908,2,FALSE)),\"\",VLOOKUP(H3963,Database!$B$1:$C$5908,2,FALSE))","v":""},"",{"$error":"#N/A"},null,null,null,null,null,null,null,null,"",false,2,{"$f":"VLOOKUP(H3963,Database!$B$1:$E$4891,4,FALSE)","v":{"$error":"#N/A"}},true]
[3964,null,null,null,null,null,null,null,{"$f":"IF(ISERROR(VLOOKUP(H3969,Database!$B$1:$C$5908,2,FALSE)),\"\",VLOOKUP(H3969,Database!$B$1:$C$5908,2,FALSE))","v":""},"",{"$error":"#N/A"},null,null,null,null,null,null,null,null,"",false,2,{"$f":"VLOOKUP(H3969,Database!$B$1:$E$4891,4,FALSE)","v":{"$error":"#N/A"}},true]
[3969,null,null,null,null,null,null,null,{"$f":"IF(ISERROR(VLOOKUP(H3974,Database!$B$1:$C$5908,2,FALSE)),\"\",VLOOKUP(H3974,Database!$B$1:$C$5908,2,FALSE))","v":""},"",{"$error":"#N/A"},null,null,null,null,null,null,null,null,"",false,2,{"$f":"VLOOKUP(H3974,Database!$B$1:$E$4891,4,FALSE)","v":{"$error":"#N/A"}},true]
[3973,null,null,null,null,null,null,null,{"$f":"IF(ISERROR(VLOOKUP(H3978,Database!$B$1:$C$5908,2,FALSE)),\"\",VLOOKUP(H3978,Database!$B$1:$C$5908,2,FALSE))","v":""},"",{"$error":"#N/A"},null,null,null,null,null,null,null,null,"",false,2,{"$f":"VLOOKUP(H3978,Database!$B$1:$E$4891,4,FALSE)","v":{"$error":"#N/A"}},true]
[3974,null,null,null,null,null,null,null,{"$f":"IF(ISERROR(VLOOKUP(H3979,Database!$B$1:$C$5908,2,FALSE)),\"\",VLOOKUP(H3979,Database!$B$1:$C$5908,2,FALSE))","v":""},"",{"$error":"#N/A"},null,null,null,null,null,null,null,null,"",false,2,{"$f":"VLOOKUP(H3979,Database!$B$1:$E$4891,4,FALSE)","v":{"$error":"#N/A"}},true]
[3979,null,null,null,null,null,null,null,{"$f":"IF(ISERROR(VLOOKUP(H3984,Database!$B$1:$C$5908,2,FALSE)),\"\",VLOOKUP(H3984,Database!$B$1:$C$5908,2,FALSE))","v":""},"",{"$error":"#N/A"},null,null,null,null,null,null,null,null,"",false,2,{"$f":"VLOOKUP(H3984,Database!$B$1:$E$4891,4,FALSE)","v":{"$error":"#N/A"}},true]
[3985,null,null,null,null,null,null,null,{"$f":"IF(ISERROR(VLOOKUP(H3990,Database!$B$1:$C$5908,2,FALSE)),\"\",VLOOKUP(H3990,Database!$B$1:$C$5908,2,FALSE))","v":""},"",{"$error":"#N/A"},null,null,null,null,null,null,null,null,"",false,2,{"$f":"VLOOKUP(H3990,Database!$B$1:$E$4891,4,FALSE)","v":{"$error":"#N/A"}},true]
[3992,null,null,null,null,null,null,null,{"$f":"IF(ISERROR(VLOOKUP(H3997,Database!$B$1:$C$5908,2,FALSE)),\"\",VLOOKUP(H3997,Database!$B$1:$C$5908,2,FALSE))","v":""},"",{"$error":"#N/A"},null,null,null,null,null,null,null,null,"",false,2,{"$f":"VLOOKUP(H3997,Database!$B$1:$E$4891,4,FALSE)","v":{"$error":"#N/A"}},true]
[3995,null,null,null,null,null,null,null,{"$f":"IF(ISERROR(VLOOKUP(H4000,Database!$B$1:$C$5908,2,FALSE)),\"\",VLOOKUP(H4000,Database!$B$1:$C$5908,2,FALSE))","v":""},"",{"$error":"#N/A"},null,null,null,null,null,null,null,null,"",false,2,{"$f":"VLOOKUP(H4000,Database!$B$1:$E$4891,4,FALSE)","v":{"$error":"#N/A"}},true]
[4000,null,null,null,null,null,null,null,{"$f":"IF(ISERROR(VLOOKUP(H4005,Database!$B$1:$C$5908,2,FALSE)),\"\",VLOOKUP(H4005,Database!$B$1:$C$5908,2,FALSE))","v":""},"",{"$error":"#N/A"},null,null,null,null,null,null,null,null,"",false,2,{"$f":"VLOOKUP(H4005,Database!$B$1:$E$4891,4,FALSE)","v":{"$error":"#N/A"}},true]
[4005,null,null,null,null,null,null,null,{"$f":"IF(ISERROR(VLOOKUP(H4010,Database!$B$1:$C$5908,2,FALSE)),\"\",VLOOKUP(H4010,Database!$B$1:$C$5908,2,FALSE))","v":""},"",{"$error":"#N/A"},null,null,null,null,null,null,null,null,"",false,2,{"$f":"VLOOKUP(H4010,Database!$B$1:$E$4891,4,FALSE)","v":{"$error":"#N/A"}},true]
[4011,null,null,null,null,null,null,null,{"$f":"IF(ISERROR(VLOOKUP(H4016,Database!$B$1:$C$5908,2,FALSE)),\"\",VLOOKUP(H4016,Database!$B$1:$C$5908,2,FALSE))","v":""},"",{"$error":"#N/A"},null,null,null,null,null,null,null,null,"",false,2,{"$f":"VLOOKUP(H4016,Database!$B$1:$E$4891,4,FALSE)","v":{"$error":"#N/A"}},true]
[4015,null,null,null,null,null,null,null,{"$f":"IF(ISERROR(VLOOKUP(H4020,Database!$B$1:$C$5908,2,FALSE)),\"\",VLOOKUP(H4020,Database!$B$1:$C$5908,2,FALSE))","v":""},"",{"$error":"#N/A"},null,null,null,null,null,null,null,null,"",false,2,{"$f":"VLOOKUP(H4020,Database!$B$1:$E$4891,4,FALSE)","v":{"$error":"#N/A"}},true]
[4020,null,null,null,null,null,null,null,{"$f":"IF(ISERROR(VLOOKUP(H4025,Database!$B$1:$C$5908,2,FALSE)),\"\",VLOOKUP(H4025,Database!$B$1:$C$5908,2,FALSE))","v":""},"",{"$error":"#N/A"},null,null,null,null,null,null,null,null,"",false,2,{"$f":"VLOOKUP(H4025,Database!$B$1:$E$4891,4,FALSE)","v":{"$error":"#N/A"}},true]
[4026,null,null,null,null,null,null,null,{"$f":"IF(ISERROR(VLOOKUP(H4031,Database!$B$1:$C$5908,2,FALSE)),\"\",VLOOKUP(H4031,Database!$B$1:$C$5908,2,FALSE))","v":""},"",{"$error":"#N/A"},null,null,null,null,null,null,null,null,"",false,2,{"$f":"VLOOKUP(H4031,Database!$B$1:$E$4891,4,FALSE)","v":{"$error":"#N/A"}},true]
[4030,null,null,null,null,null,null,null,{"$f":"IF(ISERROR(VLOOKUP(H4035,Database!$B$1:$C$5908,2,FALSE)),\"\",VLOOKUP(H4035,Database!$B$1:$C$5908,2,FALSE))","v":""},"",{"$error":"#N/A"},null,null,null,null,null,null,null,null,"",false,2,{"$f":"VLOOKUP(H4035,Database!$B$1:$E$4891,4,FALSE)","v":{"$error":"#N/A"}},true]
[4031,null,null,null,null,null,null,null,{"$f":"IF(ISERROR(VLOOKUP(H4036,Database!$B$1:$C$5908,2,FALSE)),\"\",VLOOKUP(H4036,Database!$B$1:$C$5908,2,FALSE))","v":""},"",{"$error":"#N/A"},null,null,null,null,null,null,null,null,"",false,2,{"$f":"VLOOKUP(H4036,Database!$B$1:$E$4891,4,FALSE)","v":{"$error":"#N/A"}},true]
[4036,null,null,null,null,null,null,null,{"$f":"IF(ISERROR(VLOOKUP(H4041,Database!$B$1:$C$5908,2,FALSE)),\"\",VLOOKUP(H4041,Database!$B$1:$C$5908,2,FALSE))","v":""},"",{"$error":"#N/A"},null,null,null,null,null,null,null,null,"",false,2,{"$f":"VLOOKUP(H4041,Database!$B$1:$E$4891,4,FALSE)","v":{"$error":"#N/A"}},true]
[4041,null,null,null,null,null,null,null,{"$f":"IF(ISERROR(VLOOKUP(H4046,Database!$B$1:$C$5908,2,FALSE)),\"\",VLOOKUP(H4046,Database!$B$1:$C$5908,2,FALSE))","v":""},"",{"$error":"#N/A"},null,null,null,null,null,null,null,null,"",false,2,{"$f":"VLOOKUP(H4046,Database!$B$1:$E$4891,4,FALSE)","v":{"$error":"#N/A"}},true]
[4049,null,null,null,null,null,null,null,{"$f":"IF(ISERROR(VLOOKUP(H4054,Database!$B$1:$C$5908,2,FALSE)),\"\",VLOOKUP(H4054,Database!$B$1:$C$5908,2,FALSE))","v":""},"",{"$error":"#N/A"},null,null,null,null,null,null,null,null,"",false,2,{"$f":"VLOOKUP(H4054,Database!$B$1:$E$4891,4,FALSE)","v":{"$error":"#N/A"}},true]
[4051,null,null,null,null,null,null,null,{"$f":"IF(ISERROR(VLOOKUP(H4056,Database!$B$1:$C$5908,2,FALSE)),\"\",VLOOKUP(H4056,Database!$B$1:$C$5908,2,FALSE))","v":""},"",{"$error":"#N/A"},null,null,null,null,null,null,null,null,"",false,2,{"$f":"VLOOKUP(H4056,Database!$B$1:$E$4891,4,FALSE)","v":{"$error":"#N/A"}},true]
[4056,null,null,null,null,null,null,null,{"$f":"IF(ISERROR(VLOOKUP(H4061,Database!$B$1:$C$5908,2,FALSE)),\"\",VLOOKUP(H4061,Database!$B$1:$C$5908,2,FALSE))","v":""},"",{"$error":"#N/A"},null,null,null,null,null,null,null,null,"",false,2,{"$f":"VLOOKUP(H4061,Database!$B$1:$E$4891,4,FALSE)","v":{"$error":"#N/A"}},true]
[4062,null,null,null,null,null,null,null,{"$f":"IF(ISERROR(VLOOKUP(H4067,Database!$B$1:$C$5908,2,FALSE)),\"\",VLOOKUP(H4067,Database!$B$1:$C$5908,2,FALSE))","v":""},"",{"$error":"#N/A"},null,null,null,null,null,null,null,null,"",false,2,{"$f":"VLOOKUP(H4067,Database!$B$1:$E$4891,4,FALSE)","v":{"$error":"#N/A"}},true]
[4068,null,null,null,null,null,null,null,{"$f":"IF(ISERROR(VLOOKUP(H4073,Database!$B$1:$C$5908,2,FALSE)),\"\",VLOOKUP(H4073,Database!$B$1:$C$5908,2,FALSE))","v":""},"",{"$error":"#N/A"},null,null,null,null,null,null,null,null,"",false,2,{"$f":"VLOOKUP(H4073,Database!$B$1:$E$4891,4,FALSE)","v":{"$error":"#N/A"}},true]
[4072,null,null,null,null,null,null,null,{"$f":"IF(ISERROR(VLOOKUP(H4077,Database!$B$1:$C$5908,2,FALSE)),\"\",VLOOKUP(H4077,Database!$B$1:$C$5908,2,FALSE))","v":""},"",{"$error":"#N/A"},null,null,null,null,null,null,null,null,"",false,2,{"$f":"VLOOKUP(H4077,Database!$B$1:$E$4891,4,FALSE)","v":{"$error":"#N/A"}},true]
[4077,null,null,null,null,null,null,null,{"$f":"IF(ISERROR(VLOOKUP(H4082,Database!$B$1:$C$5908,2,FALSE)),\"\",VLOOKUP(H4082,Database!$B$1:$C$5908,2,FALSE))","v":""},"",{"$error":"#N/A"},null,null,null,null,null,null,null,null,"",false,2,{"$f":"VLOOKUP(H4082,Database!$B$1:$E$4891,4,FALSE)","v":{"$error":"#N/A"}},true]
[4082,null,null,null,null,null,null,null,{"$f":"IF(ISERROR(VLOOKUP(H4087,Database!$B$1:$C$5908,2,FALSE)),\"\",VLOOKUP(H4087,Database!$B$1:$C$5908,2,FALSE))","v":""},"",{"$error":"#N/A"},null,null,null,null,null,null,null,null,"",false,2,{"$f":"VLOOKUP(H4087,Database!$B$1:$E$4891,4,FALSE)","v":{"$error":"#N/A"}},true]
[4087,null,null,null,null,null,null,null,{"$f":"IF(ISERROR(VLOOKUP(H4092,Database!$B$1:$C$5908,2,FALSE)),\"\",VLOOKUP(H4092,Database!$B$1:$C$5908,2,FALSE))","v":""},"",{"$error":"#N/A"},null,null,null,null,null,null,null,null,"",false,2,{"$f":"VLOOKUP(H4092,Database!$B$1:$E$4891,4,FALSE)","v":{"$error":"#N/A"}},true]
[4092,null,null,null,null,null,null,null,{"$f":"IF(ISERROR(VLOOKUP(H4097,Database!$B$1:$C$5908,2,FALSE)),\"\",VLOOKUP(H4097,Database!$B$1:$C$5908,2,FALSE))","v":""},"",{"$error":"#N/A"},null,null,null,null,null,null,null,null,"",false,2,{"$f":"VLOOKUP(H4097,Database!$B$1:$E$4891,4,FALSE)","v":{"$error":"#N/A"}},true]
[4093,null,null,null,null,null,null,null,{"$f":"IF(ISERROR(VLOOKUP(H4098,Database!$B$1:$C$5908,2,FALSE)),\"\",VLOOKUP(H4098,Database!$B$1:$C$5908,2,FALSE))","v":""},"",{"$error":"#N/A"},null,null,null,null,null,null,null,null,"",false,2,{"$f":"VLOOKUP(H4098,Database!$B$1:$E$4891,4,FALSE)","v":{"$error":"#N/A"}},true]
[{"$f":"A4102+1","v":4098},null,null,null,null,null,null,null,{"$f":"IF(ISERROR(VLOOKUP(H4103,Database!$B$1:$C$5908,2,FALSE)),\"\",VLOOKUP(H4103,Database!$B$1:$C$5908,2,FALSE))","v":""},{"$f":"IF(V4103=1,1,IF(AND(T4103=0,F4103=\"SSB\",V4103<>\"\"),2,IF(AND(T4103=0,F4103=\"FM\",V4103<>\"\"),2,IF(AND(T4103=0,F4103=\"DIGI\",V4103<>\"\"),3,IF(AND(T4103=0,F4103=\"CW\",V4103<>\"\"),5,IF(H4103=\"-\",\"\",T4103))))))","v":""},{"$f":"IF(H4103=\"-\",\"\",IF(AND(H4103<>\"\",X4103=TRUE),\"INDIPENDENT\",IF(W4103=0,\"SCRIVI NOME NELLE NOTE\",W4103)))","v":{"$error":"#N/A"}},null,null,null,null,null,null,null,null,{"$f":"IF(H4103=\"\",\"\",IF(H4103=$R$6,25,IF(OR(H4103=$R$7,H4103=$R$8,H4103=$R$9,H4103=$R$10,H4103=$R$11,H4103=$R$12,H4103=$R$13,H4103=$R$14,H4103=$R$15,H4103=$R$16,H4103=$R$17,H4103=$R$18,H4103=$R$19,H4103=$R$20,H4103=$R$21,H4103=$R$22,H4103=$R$23),15,0)))","v":""},{"$f":"ISERROR(I4103)","v":false},2,{"$f":"VLOOKUP(H4103,Database!$B$1:$E$4891,4,FALSE)","v":{"$error":"#N/A"}},{"$f":"ISERROR(W4103)","v":true}]
[4106,null,null,null,null,null,null,null,{"$f":"IF(ISERROR(VLOOKUP(H4111,Database!$B$1:$C$5908,2,FALSE)),\"\",VLOOKUP(H4111,Database!$B$1:$C$5908,2,FALSE))","v":""},"",{"$error":"#N/A"},null,null,null,null,null,null,null,null,"",false,2,{"$f":"VLOOKUP(H4111,Database!$B$1:$E$4891,4,FALSE)","v":{"$error":"#N/A"}},true]
[4108,null,null,null,null,null,null,null,{"$f":"IF(ISERROR(VLOOKUP(H4113,Database!$B$1:$C$5908,2,FALSE)),\"\",VLOOKUP(H4113,Database!$B$1:$C$5908,2,FALSE))","v":""},"",{"$error":"#N/A"},null,null,null,null,null,null,null,null,"",false,2,{"$f":"VLOOKUP(H4113,Database!$B$1:$E$4891,4,FALSE)","v":{"$error":"#N/A"}},true]
[4113,null,null,null,null,null,null,null,{"$f":"IF(ISERROR(VLOOKUP(H4118,Database!$B$1:$C$5908,2,FALSE)),\"\",VLOOKUP(H4118,Database!$B$1:$C$5908,2,FALSE))","v":""},"",{"$error":"#N/A"},null,null,null,null,null,null,null,null,"",false,2,{"$f":"VLOOKUP(H4118,Database!$B$1:$E$4891,4,FALSE)","v":{"$error":"#N/A"}},true]
[4118,null,null,null,null,null,null,null,{"$f":"IF(ISERROR(VLOOKUP(H4123,Database!$B$1:$C$5908,2,FALSE)),\"\",VLOOKUP(H4123,Database!$B$1:$C$5908,2,FALSE))","v":""},"",{"$error":"#N/A"},null,null,null,null,null,null,null,null,"",false,2,{"$f":"VLOOKUP(H4123,Database!$B$1:$E$4891,4,FALSE)","v":{"$error":"#N/A"}},true]
[4125,null,null,null,null,null,null,null,{"$f":"IF(ISERROR(VLOOKUP(H4130,Database!$B$1:$C$5908,2,FALSE)),\"\",VLOOKUP(H4130,Database!$B$1:$C$5908,2,FALSE))","v":""},"",{"$error":"#N/A"},null,null,null,null,null,null,null,null,"",false,2,{"$f":"VLOOKUP(H4130,Database!$B$1:$E$4891,4,FALSE)","v":{"$error":"#N/A"}},true]
[4128,null,null,null,null,null,null,null,{"$f":"IF(ISERROR(VLOOKUP(H4133,Database!$B$1:$C$5908,2,FALSE)),\"\",VLOOKUP(H4133,Database!$B$1:$C$5908,2,FALSE))","v":""},"",{"$error":"#N/A"},null,null,null,null,null,null,null,null,"",false,2,{"$f":"VLOOKUP(H4133,Database!$B$1:$E$4891,4,FALSE)","v":{"$error":"#N/A"}},true]
[4134,null,null,null,null,null,null,null,{"$f":"IF(ISERROR(VLOOKUP(H4139,Database!$B$1:$C$5908,2,FALSE)),\"\",VLOOKUP(H4139,Database!$B$1:$C$5908,2,FALSE))","v":""},"",{"$error":"#N/A"},null,null,null,null,null,null,null,null,"",false,2,{"$f":"VLOOKUP(H4139,Database!$B$1:$E$4891,4,FALSE)","v":{"$error":"#N/A"}},true]
[4139,null,null,null,null,null,null,null,{"$f":"IF(ISERROR(VLOOKUP(H4144,Database!$B$1:$C$5908,2,FALSE)),\"\",VLOOKUP(H4144,Database!$B$1:$C$5908,2,FALSE))","v":""},"",{"$error":"#N/A"},null,null,null,null,null,null,null,null,"",false,2,{"$f":"VLOOKUP(H4144,Database!$B$1:$E$4891,4,FALSE)","v":{"$error":"#N/A"}},true]
[4144,null,null,null,null,null,null,null,{"$f":"IF(ISERROR(VLOOKUP(H4149,Database!$B$1:$C$5908,2,FALSE)),\"\",VLOOKUP(H4149,Database!$B$1:$C$5908,2,FALSE))","v":""},"",{"$error":"#N/A"},null,null,null,null,null,null,null,null,"",false,2,{"$f":"VLOOKUP(H4149,Database!$B$1:$E$4891,4,FALSE)","v":{"$error":"#N/A"}},true]
[4149,null,null,null,null,null,null,null,{"$f":"IF(ISERROR(VLOOKUP(H4154,Database!$B$1:$C$5908,2,FALSE)),\"\",VLOOKUP(H4154,Database!$B$1:$C$5908,2,FALSE))","v":""},"",{"$error":"#N/A"},null,null,null,null,null,null,null,null,"",false,2,{"$f":"VLOOKUP(H4154,Database!$B$1:$E$4891,4,FALSE)","v":{"$error":"#N/A"}},true]
[4154,null,null,null,null,null,null,null,{"$f":"IF(ISERROR(VLOOKUP(H4159,Database!$B$1:$C$5908,2,FALSE)),\"\",VLOOKUP(H4159,Database!$B$1:$C$5908,2,FALSE))","v":""},"",{"$error":"#N/A"},null,null,null,null,null,null,null,null,"",false,2,{"$f":"VLOOKUP(H4159,Database!$B$1:$E$4891,4,FALSE)","v":{"$error":"#N/A"}},true]
[4155,null,null,null,null,null,null,null,{"$f":"IF(ISERROR(VLOOKUP(H4160,Database!$B$1:$C$5908,2,FALSE)),\"\",VLOOKUP(H4160,Database!$B$1:$C$5908,2,FALSE))","v":""},"",{"$error":"#N/A"},null,null,null,null,null,null,null,null,"",false,2,{"$f":"VLOOKUP(H4160,Database!$B$1:$E$4891,4,FALSE)","v":{"$error":"#N/A"}},true]
[4163,null,null,null,null,null,null,null,{"$f":"IF(ISERROR(VLOOKUP(H4168,Database!$B$1:$C$5908,2,FALSE)),\"\",VLOOKUP(H4168,Database!$B$1:$C$5908,2,FALSE))","v":""},"",{"$error":"#N/A"},null,null,null,null,null,null,null,null,"",false,{"$f":"IF(H4168=\"-\",\"\",IF(AND(T4168=0,U4168=FALSE,I4168=\"\"),1,2))","v":2},{"$f":"VLOOKUP(H4168,Database!$B$1:$E$4891,4,FALSE)","v":{"$error":"#N/A"}},true]
[4164,null,null,null,null,null,null,null,{"$f":"IF(ISERROR(VLOOKUP(H4169,Database!$B$1:$C$5908,2,FALSE)),\"\",VLOOKUP(H4169,Database!$B$1:$C$5908,2,FALSE))","v":""},"",{"$error":"#N/A"},null,null,null,null,null,null,null,null,"",false,2,{"$f":"VLOOKUP(H4169,Database!$B$1:$E$4891,4,FALSE)","v":{"$error":"#N/A"}},true]
[4170,null,null,null,null,null,null,null,{"$f":"IF(ISERROR(VLOOKUP(H4175,Database!$B$1:$C$5908,2,FALSE)),\"\",VLOOKUP(H4175,Database!$B$1:$C$5908,2,FALSE))","v":""},"",{"$error":"#N/A"},null,null,null,null,null,null,null,null,"",false,2,{"$f":"VLOOKUP(H4175,Database!$B$1:$E$4891,4,FALSE)","v":{"$error":"#N/A"}},true]
[4175,null,null,null,null,null,null,null,{"$f":"IF(ISERROR(VLOOKUP(H4180,Database!$B$1:$C$5908,2,FALSE)),\"\",VLOOKUP(H4180,Database!$B$1:$C$5908,2,FALSE))","v":""},"",{"$error":"#N/A"},null,null,null,null,null,null,null,null,"",false,2,{"$f":"VLOOKUP(H4180,Database!$B$1:$E$4891,4,FALSE)","v":{"$error":"#N/A"}},true]
[4182,null,null,null,null,null,null,null,{"$f":"IF(ISERROR(VLOOKUP(H4187,Database!$B$1:$C$5908,2,FALSE)),\"\",VLOOKUP(H4187,Database!$B$1:$C$5908,2,FALSE))","v":""},"",{"$error":"#N/A"},null,null,null,null,null,null,null,null,"",false,2,{"$f":"VLOOKUP(H4187,Database!$B$1:$E$4891,4,FALSE)","v":{"$error":"#N/A"}},true]
[4185,null,null,null,null,null,null,null,{"$f":"IF(ISERROR(VLOOKUP(H4190,Database!$B$1:$C$5908,2,FALSE)),\"\",VLOOKUP(H4190,Database!$B$1:$C$5908,2,FALSE))","v":""},"",{"$error":"#N/A"},null,null,null,null,null,null,null,null,"",false,2,{"$f":"VLOOKUP(H4190,Database!$B$1:$E$4891,4,FALSE)","v":{"$error":"#N/A"}},true]
[4190,null,null,null,null,null,null,null,{"$f":"IF(ISERROR(VLOOKUP(H4195,Database!$B$1:$C$5908,2,FALSE)),\"\",VLOOKUP(H4195,Database!$B$1:$C$5908,2,FALSE))","v":""},"",{"$error":"#N/A"},null,null,null,null,null,null,null,null,"",false,2,{"$f":"VLOOKUP(H4195,Database!$B$1:$E$4891,4,FALSE)","v":{"$error":"#N/A"}},true]
[4196,null,null,null,null,null,null,null,{"$f":"IF(ISERROR(VLOOKUP(H4201,Database!$B$1:$C$5908,2,FALSE)),\"\",VLOOKUP(H4201,Database!$B$1:$C$5908,2,FALSE))","v":""},"",{"$error":"#N/A"},null,null,null,null,null,null,null,null,"",false,2,{"$f":"VLOOKUP(H4201,Database!$B$1:$E$4891,4,FALSE)","v":{"$error":"#N/A"}},true]
[4201,null,null,null,null,null,null,null,{"$f":"IF(ISERROR(VLOOKUP(H4206,Database!$B$1:$C$5908,2,FALSE)),\"\",VLOOKUP(H4206,Database!$B$1:$C$5908,2,FALSE))","v":""},"",{"$error":"#N/A"},null,null,null,null,null,null,null,null,"",false,2,{"$f":"VLOOKUP(H4206,Database!$B$1:$E$4891,4,FALSE)","v":{"$error":"#N/A"}},true]
[4205,null,null,null,null,null,null,null,{"$f":"IF(ISERROR(VLOOKUP(H4210,Database!$B$1:$C$5908,2,FALSE)),\"\",VLOOKUP(H4210,Database!$B$1:$C$5908,2,FALSE))","v":""},"",{"$error":"#N/A"},null,null,null,null,null,null,null,null,"",false,2,{"$f":"VLOOKUP(H4210,Database!$B$1:$E$4891,4,FALSE)","v":{"$error":"#N/A"}},true]
[4211,null,null,null,null,null,null,null,{"$f":"IF(ISERROR(VLOOKUP(H4216,Database!$B$1:$C$5908,2,FALSE)),\"\",VLOOKUP(H4216,Database!$B$1:$C$5908,2,FALSE))","v":""},"",{"$error":"#N/A"},null,null,null,null,null,null,null,null,"",false,2,{"$f":"VLOOKUP(H4216,Database!$B$1:$E$4891,4,FALSE)","v":{"$error":"#N/A"}},true]
[4216,null,null,null,null,null,null,null,{"$f":"IF(ISERROR(VLOOKUP(H4221,Database!$B$1:$C$5908,2,FALSE)),\"\",VLOOKUP(H4221,Database!$B$1:$C$5908,2,FALSE))","v":""},"",{"$error":"#N/A"},null,null,null,null,null,null,null,null,"",false,2,{"$f":"VLOOKUP(H4221,Database!$B$1:$E$4891,4,FALSE)","v":{"$error":"#N/A"}},true]
[4220,null,null,null,null,null,null,null,{"$f":"IF(ISERROR(VLOOKUP(H4225,Database!$B$1:$C$5908,2,FALSE)),\"\",VLOOKUP(H4225,Database!$B$1:$C$5908,2,FALSE))","v":""},"",{"$error":"#N/A"},null,null,null,null,null,null,null,null,"",false,2,{"$f":"VLOOKUP(H4225,Database!$B$1:$E$4891,4,FALSE)","v":{"$error":"#N/A"}},true]
[4221,null,null,null,null,null,null,null,{"$f":"IF(ISERROR(VLOOKUP(H4226,Database!$B$1:$C$5908,2,FALSE)),\"\",VLOOKUP(H4226,Database!$B$1:$C$5908,2,FALSE))","v":""},"",{"$error":"#N/A"},null,null,null,null,null,null,null,null,"",false,2,{"$f":"VLOOKUP(H4226,Database!$B$1:$E$4891,4,FALSE)","v":{"$error":"#N/A"}},true]
[{"$f":"A4230+1","v":4226},null,null,null,null,null,null,null,{"$f":"IF(ISERROR(VLOOKUP(H4231,Database!$B$1:$C$5908,2,FALSE)),\"\",VLOOKUP(H4231,Database!$B$1:$C$5908,2,FALSE))","v":""},{"$f":"IF(V4231=1,1,IF(AND(T4231=0,F4231=\"SSB\",V4231<>\"\"),2,IF(AND(T4231=0,F4231=\"FM\",V4231<>\"\"),2,IF(AND(T4231=0,F4231=\"DIGI\",V4231<>\"\"),3,IF(AND(T4231=0,F4231=\"CW\",V4231<>\"\"),5,IF(H4231=\"-\",\"\",T4231))))))","v":""},{"$f":"IF(H4231=\"-\",\"\",IF(AND(H4231<>\"\",X4231=TRUE),\"INDIPENDENT\",IF(W4231=0,\"SCRIVI NOME NELLE NOTE\",W4231)))","v":{"$error":"#N/A"}},null,null,null,null,null,null,null,null,{"$f":"IF(H4231=\"\",\"\",IF(H4231=$R$6,25,IF(OR(H4231=$R$7,H4231=$R$8,H4231=$R$9,H4231=$R$10,H4231=$R$11,H4231=$R$12,H4231=$R$13,H4231=$R$14,H4231=$R$15,H4231=$R$16,H4231=$R$17,H4231=$R$18,H4231=$R$19,H4231=$R$20,H4231=$R$21,H4231=$R$22,H4231=$R$23),15,0)))","v":""},{"$f":"ISERROR(I4231)","v":false},2,{"$f":"VLOOKUP(H4231,Database!$B$1:$E$4891,4,FALSE)","v":{"$error":"#N/A"}},{"$f":"ISERROR(W4231)","v":true}]
[4232,null,null,null,null,null,null,null,{"$f":"IF(ISERROR(VLOOKUP(H4237,Database!$B$1:$C$5908,2,FALSE)),\"\",VLOOKUP(H4237,Database!$B$1:$C$5908,2,FALSE))","v":""},"",{"$error":"#N/A"},null,null,null,null,null,null,null,null,"",false,2,{"$f":"VLOOKUP(H4237,Database!$B$1:$E$4891,4,FALSE)","v":{"$error":"#N/A"}},true]
[4239,null,null,null,null,null,null,null,{"$f":"IF(ISERROR(VLOOKUP(H4244,Database!$B$1:$C$5908,2,FALSE)),\"\",VLOOKUP(H4244,Database!$B$1:$C$5908,2,FALSE))","v":""},"",{"$error":"#N/A"},null,null,null,null,null,null,null,null,"",false,2,{"$f":"VLOOKUP(H4244,Database!$B$1:$E$4891,4,FALSE)","v":{"$error":"#N/A"}},true]
[4241,null,null,null,null,null,null,null,{"$f":"IF(ISERROR(VLOOKUP(H4246,Database!$B$1:$C$5908,2,FALSE)),\"\",VLOOKUP(H4246,Database!$B$1:$C$5908,2,FALSE))","v":""},"",{"$error":"#N/A"},null,null,null,null,null,null,null,null,"",false,2,{"$f":"VLOOKUP(H4246,Database!$B$1:$E$4891,4,FALSE)","v":{"$error":"#N/A"}},true]
[4247,null,null,null,null,null,null,null,{"$f":"IF(ISERROR(VLOOKUP(H4252,Database!$B$1:$C$5908,2,FALSE)),\"\",VLOOKUP(H4252,Database!$B$1:$C$5908,2,FALSE))","v":""},"",{"$error":"#N/A"},null,null,null,null,null,null,null,null,"",false,2,{"$f":"VLOOKUP(H4252,Database!$B$1:$E$4891,4,FALSE)","v":{"$error":"#N/A"}},true]
[4252,null,null,null,null,null,null,null,{"$f":"IF(ISERROR(VLOOKUP(H4257,Database!$B$1:$C$5908,2,FALSE)),\"\",VLOOKUP(H4257,Database!$B$1:$C$5908,2,FALSE))","v":""},"",{"$error":"#N/A"},null,null,null,null,null,null,null,null,"",false,2,{"$f":"VLOOKUP(H4257,Database!$B$1:$E$4891,4,FALSE)","v":{"$error":"#N/A"}},true]
[4258,null,null,null,null,null,null,null,{"$f":"IF(ISERROR(VLOOKUP(H4263,Database!$B$1:$C$5908,2,FALSE)),\"\",VLOOKUP(H4263,Database!$B$1:$C$5908,2,FALSE))","v":""},"",{"$error":"#N/A"},null,null,null,null,null,null,null,null,"",false,2,{"$f":"VLOOKUP(H4263,Database!$B$1:$E$4891,4,FALSE)","v":{"$error":"#N/A"}},true]
[4262,null,null,null,null,null,null,null,{"$f":"IF(ISERROR(VLOOKUP(H4267,Database!$B$1:$C$5908,2,FALSE)),\"\",VLOOKUP(H4267,Database!$B$1:$C$5908,2,FALSE))","v":""},"",{"$error":"#N/A"},null,null,null,null,null,null,null,null,"",false,2,{"$f":"VLOOKUP(H4267,Database!$B$1:$E$4891,4,FALSE)","v":{"$error":"#N/A"}},true]
[4267,null,null,null,null,null,null,null,{"$f":"IF(ISERROR(VLOOKUP(H4272,Database!$B$1:$C$5908,2,FALSE)),\"\",VLOOKUP(H4272,Database!$B$1:$C$5908,2,FALSE))","v":""},"",{"$error":"#N/A"},null,null,null,null,null,null,null,null,"",false,2,{"$f":"VLOOKUP(H4272,Database!$B$1:$E$4891,4,FALSE)","v":{"$error":"#N/A"}},true]
[4273,null,null,null,null,null,null,null,{"$f":"IF(ISERROR(VLOOKUP(H4278,Database!$B$1:$C$5908,2,FALSE)),\"\",VLOOKUP(H4278,Database!$B$1:$C$5908,2,FALSE))","v":""},"",{"$error":"#N/A"},null,null,null,null,null,null,null,null,"",false,2,{"$f":"VLOOKUP(H4278,Database!$B$1:$E$4891,4,FALSE)","v":{"$error":"#N/A"}},true]
[4277,null,null,null,null,null,null,null,{"$f":"IF(ISERROR(VLOOKUP(H4282,Database!$B$1:$C$5908,2,FALSE)),\"\",VLOOKUP(H4282,Database!$B$1:$C$5908,2,FALSE))","v":""},"",{"$error":"#N/A"},null,null,null,null,null,null,null,null,"",false,2,{"$f":"VLOOKUP(H4282,Database!$B$1:$E$4891,4,FALSE)","v":{"$error":"#N/A"}},true]
[4282,null,null,null,null,null,null,null,{"$f":"IF(ISERROR(VLOOKUP(H4287,Database!$B$1:$C$5908,2,FALSE)),\"\",VLOOKUP(H4287,Database!$B$1:$C$5908,2,FALSE))","v":""},"",{"$error":"#N/A"},null,null,null,null,null,null,null,null,"",false,2,{"$f":"VLOOKUP(H4287,Database!$B$1:$E$4891,4,FALSE)","v":{"$error":"#N/A"}},true]
[4283,null,null,null,null,null,null,null,{"$f":"IF(ISERROR(VLOOKUP(H4288,Database!$B$1:$C$5908,2,FALSE)),\"\",VLOOKUP(H4288,Database!$B$1:$C$5908,2,FALSE))","v":""},"",{"$error":"#N/A"},null,null,null,null,null,null,null,null,"",false,2,{"$f":"VLOOKUP(H4288,Database!$B$1:$E$4891,4,FALSE)","v":{"$error":"#N/A"}},true]
[4288,null,null,null,null,null,null,null,{"$f":"IF(ISERROR(VLOOKUP(H4293,Database!$B$1:$C$5908,2,FALSE)),\"\",VLOOKUP(H4293,Database!$B$1:$C$5908,2,FALSE))","v":""},"",{"$error":"#N/A"},null,null,null,null,null,null,null,null,"",false,2,{"$f":"VLOOKUP(H4293,Database!$B$1:$E$4891,4,FALSE)","v":{"$error":"#N/A"}},true]
[4296,null,null,null,null,null,null,null,{"$f":"IF(ISERROR(VLOOKUP(H4301,Database!$B$1:$C$5908,2,FALSE)),\"\",VLOOKUP(H4301,Database!$B$1:$C$5908,2,FALSE))","v":""},"",{"$error":"#N/A"},null,null,null,null,null,null,null,null,"",false,2,{"$f":"VLOOKUP(H4301,Database!$B$1:$E$4891,4,FALSE)","v":{"$error":"#N/A"}},true]
[4298,null,null,null,null,null,null,null,{"$f":"IF(ISERROR(VLOOKUP(H4303,Database!$B$1:$C$5908,2,FALSE)),\"\",VLOOKUP(H4303,Database!$B$1:$C$5908,2,FALSE))","v":""},"",{"$error":"#N/A"},null,null,null,null,null,null,null,null,"",false,2,{"$f":"VLOOKUP(H4303,Database!$B$1:$E$4891,4,FALSE)","v":{"$error":"#N/A"}},true]
[4303,null,null,null,null,null,null,null,{"$f":"IF(ISERROR(VLOOKUP(H4308,Database!$B$1:$C$5908,2,FALSE)),\"\",VLOOKUP(H4308,Database!$B$1:$C$5908,2,FALSE))","v":""},"",{"$error":"#N/A"},null,null,null,null,null,null,null,null,"",false,2,{"$f":"VLOOKUP(H4308,Database!$B$1:$E$4891,4,FALSE)","v":{"$error":"#N/A"}},true]
[4309,null,null,null,null,null,null,null,{"$f":"IF(ISERROR(VLOOKUP(H4314,Database!$B$1:$C$5908,2,FALSE)),\"\",VLOOKUP(H4314,Database!$B$1:$C$5908,2,FALSE))","v":""},"",{"$error":"#N/A"},null,null,null,null,null,null,null,null,"",false,2,{"$f":"VLOOKUP(H4314,Database!$B$1:$E$4891,4,FALSE)","v":{"$error":"#N/A"}},true]
[4315,null,null,null,null,null,null,null,{"$f":"IF(ISERROR(VLOOKUP(H4320,Database!$B$1:$C$5908,2,FALSE)),\"\",VLOOKUP(H4320,Database!$B$1:$C$5908,2,FALSE))","v":""},"",{"$error":"#N/A"},null,null,null,null,null,null,null,null,"",false,2,{"$f":"VLOOKUP(H4320,Database!$B$1:$E$4891,4,FALSE)","v":{"$error":"#N/A"}},true]
[4318,null,null,null,null,null,null,null,{"$f":"IF(ISERROR(VLOOKUP(H4323,Database!$B$1:$C$5908,2,FALSE)),\"\",VLOOKUP(H4323,Database!$B$1:$C$5908,2,FALSE))","v":""},"",{"$error":"#N/A"},null,null,null,null,null,null,null,null,"",false,2,{"$f":"VLOOKUP(H4323,Database!$B$1:$E$4891,4,FALSE)","v":{"$error":"#N/A"}},true]
[4324,null,null,null,null,null,null,null,{"$f":"IF(ISERROR(VLOOKUP(H4329,Database!$B$1:$C$5908,2,FALSE)),\"\",VLOOKUP(H4329,Database!$B$1:$C$5908,2,FALSE))","v":""},"",{"$error":"#N/A"},null,null,null,null,null,null,null,null,"",false,2,{"$f":"VLOOKUP(H4329,Database!$B$1:$E$4891,4,FALSE)","v":{"$error":"#N/A"}},true]
[4329,null,null,null,null,null,null,null,{"$f":"IF(ISERROR(VLOOKUP(H4334,Database!$B$1:$C$5908,2,FALSE)),\"\",VLOOKUP(H4334,Database!$B$1:$C$5908,2,FALSE))","v":""},"",{"$error":"#N/A"},null,null,null,null,null,null,null,null,"",false,2,{"$f":"VLOOKUP(H4334,Database!$B$1:$E$4891,4,FALSE)","v":{"$error":"#N/A"}},true]
[4334,null,null,null,null,null,null,null,{"$f":"IF(ISERROR(VLOOKUP(H4339,Database!$B$1:$C$5908,2,FALSE)),\"\",VLOOKUP(H4339,Database!$B$1:$C$5908,2,FALSE))","v":""},"",{"$error":"#N/A"},null,null,null,null,null,null,null,null,"",false,2,{"$f":"VLOOKUP(H4339,Database!$B$1:$E$4891,4,FALSE)","v":{"$error":"#N/A"}},true]
[4339,null,null,null,null,null,null,null,{"$f":"IF(ISERROR(VLOOKUP(H4344,Database!$B$1:$C$5908,2,FALSE)),\"\",VLOOKUP(H4344,Database!$B$1:$C$5908,2,FALSE))","v":""},"",{"$error":"#N/A"},null,null,null,null,null,null,null,null,"",false,2,{"$f":"VLOOKUP(H4344,Database!$B$1:$E$4891,4,FALSE)","v":{"$error":"#N/A"}},true]
[4344,null,null,null,null,null,null,null,{"$f":"IF(ISERROR(VLOOKUP(H4349,Database!$B$1:$C$5908,2,FALSE)),\"\",VLOOKUP(H4349,Database!$B$1:$C$5908,2,FALSE))","v":""},"",{"$error":"#N/A"},null,null,null,null,null,null,null,null,"",false,2,{"$f":"VLOOKUP(H4349,Database!$B$1:$E$4891,4,FALSE)","v":{"$error":"#N/A"}},true]
[4345,null,null,null,null,null,null,null,{"$f":"IF(ISERROR(VLOOKUP(H4350,Database!$B$1:$C$5908,2,FALSE)),\"\",VLOOKUP(H4350,Database!$B$1:$C$5908,2,FALSE))","v":""},"",{"$error":"#N/A"},null,null,null,null,null,null,null,null,"",false,2,{"$f":"VLOOKUP(H4350,Database!$B$1:$E$4891,4,FALSE)","v":{"$error":"#N/A"}},true]
[4353,null,null,null,null,null,null,null,{"$f":"IF(ISERROR(VLOOKUP(H4358,Database!$B$1:$C$5908,2,FALSE)),\"\",VLOOKUP(H4358,Database!$B$1:$C$5908,2,FALSE))","v":""},"",{"$error":"#N/A"},null,null,null,null,null,null,null,null,"",false,2,{"$f":"VLOOKUP(H4358,Database!$B$1:$E$4891,4,FALSE)","v":{"$error":"#N/A"}},true]
[4355,null,null,null,null,null,null,null,{"$f":"IF(ISERROR(VLOOKUP(H4360,Database!$B$1:$C$5908,2,FALSE)),\"\",VLOOKUP(H4360,Database!$B$1:$C$5908,2,FALSE))","v":""},"",{"$error":"#N/A"},null,null,null,null,null,null,null,null,"",false,{"$f":"IF(H4360=\"-\",\"\",IF(AND(T4360=0,U4360=FALSE,I4360=\"\"),1,2))","v":2},{"$f":"VLOOKUP(H4360,Database!$B$1:$E$4891,4,FALSE)","v":{"$error":"#N/A"}},true]
[4360,null,null,null,null,null,null,null,{"$f":"IF(ISERROR(VLOOKUP(H4365,Database!$B$1:$C$5908,2,FALSE)),\"\",VLOOKUP(H4365,Database!$B$1:$C$5908,2,FALSE))","v":""},"",{"$error":"#N/A"},null,null,null,null,null,null,null,null,"",false,2,{"$f":"VLOOKUP(H4365,Database!$B$1:$E$4891,4,FALSE)","v":{"$error":"#N/A"}},true]
[4365,null,null,null,null,null,null,null,{"$f":"IF(ISERROR(VLOOKUP(H4370,Database!$B$1:$C$5908,2,FALSE)),\"\",VLOOKUP(H4370,Database!$B$1:$C$5908,2,FALSE))","v":""},"",{"$error":"#N/A"},null,null,null,null,null,null,null,null,"",false,2,{"$f":"VLOOKUP(H4370,Database!$B$1:$E$4891,4,FALSE)","v":{"$error":"#N/A"}},true]
[4372,null,null,null,null,null,null,null,{"$f":"IF(ISERROR(VLOOKUP(H4377,Database!$B$1:$C$5908,2,FALSE)),\"\",VLOOKUP(H4377,Database!$B$1:$C$5908,2,FALSE))","v":""},"",{"$error":"#N/A"},null,null,null,null,null,null,null,null,"",false,2,{"$f":"VLOOKUP(H4377,Database!$B$1:$E$4891,4,FALSE)","v":{"$error":"#N/A"}},true]
[4375,null,null,null,null,null,null,null,{"$f":"IF(ISERROR(VLOOKUP(H4380,Database!$B$1:$C$5908,2,FALSE)),\"\",VLOOKUP(H4380,Database!$B$1:$C$5908,2,FALSE))","v":""},"",{"$error":"#N/A"},null,null,null,null,null,null,null,null,"",false,2,{"$f":"VLOOKUP(H4380,Database!$B$1:$E$4891,4,FALSE)","v":{"$error":"#N/A"}},true]
[4380,null,null,null,null,null,null,null,{"$f":"IF(ISERROR(VLOOKUP(H4385,Database!$B$1:$C$5908,2,FALSE)),\"\",VLOOKUP(H4385,Database!$B$1:$C$5908,2,FALSE))","v":""},"",{"$error":"#N/A"},null,null,null,null,null,null,null,null,"",false,2,{"$f":"VLOOKUP(H4385,Database!$B$1:$E$4891,4,FALSE)","v":{"$error":"#N/A"}},true]
[4386,null,null,null,null,null,null,null,{"$f":"IF(ISERROR(VLOOKUP(H4391,Database!$B$1:$C$5908,2,FALSE)),\"\",VLOOKUP(H4391,Database!$B$1:$C$5908,2,FALSE))","v":""},"",{"$error":"#N/A"},null,null,null,null,null,null,null,null,"",false,2,{"$f":"VLOOKUP(H4391,Database!$B$1:$E$4891,4,FALSE)","v":{"$error":"#N/A"}},true]
[4391,null,null,null,null,null,null,null,{"$f":"IF(ISERROR(VLOOKUP(H4396,Database!$B$1:$C$5908,2,FALSE)),\"\",VLOOKUP(H4396,Database!$B$1:$C$5908,2,FALSE))","v":""},"",{"$error":"#N/A"},null,null,null,null,null,null,null,null,"",false,2,{"$f":"VLOOKUP(H4396,Database!$B$1:$E$4891,4,FALSE)","v":{"$error":"#N/A"}},true]
[4396,null,null,null,null,null,null,null,{"$f":"IF(ISERROR(VLOOKUP(H4401,Database!$B$1:$C$5908,2,FALSE)),\"\",VLOOKUP(H4401,Database!$B$1:$C$5908,2,FALSE))","v":""},"",{"$error":"#N/A"},null,null,null,null,null,null,null,null,"",false,2,{"$f":"VLOOKUP(H4401,Database!$B$1:$E$4891,4,FALSE)","v":{"$error":"#N/A"}},true]
[4401,null,null,null,null,null,null,null,{"$f":"IF(ISERROR(VLOOKUP(H4406,Database!$B$1:$C$5908,2,FALSE)),\"\",VLOOKUP(H4406,Database!$B$1:$C$5908,2,FALSE))","v":""},"",{"$error":"#N/A"},null,null,null,null,null,null,null,null,"",false,2,{"$f":"VLOOKUP(H4406,Database!$B$1:$E$4891,4,FALSE)","v":{"$error":"#N/A"}},true]
[4406,null,null,null,null,null,null,null,{"$f":"IF(ISERROR(VLOOKUP(H4411,Database!$B$1:$C$5908,2,FALSE)),\"\",VLOOKUP(H4411,Database!$B$1:$C$5908,2,FALSE))","v":""},"",{"$error":"#N/A"},null,null,null,null,null,null,null,null,"",false,2,{"$f":"VLOOKUP(H4411,Database!$B$1:$E$4891,4,FALSE)","v":{"$error":"#N/A"}},true]
[4410,null,null,null,null,null,null,null,{"$f":"IF(ISERROR(VLOOKUP(H4415,Database!$B$1:$C$5908,2,FALSE)),\"\",VLOOKUP(H4415,Database!$B$1:$C$5908,2,FALSE))","v":""},"",{"$error":"#N/A"},null,null,null,null,null,null,null,null,"",false,2,{"$f":"VLOOKUP(H4415,Database!$B$1:$E$4891,4,FALSE)","v":{"$error":"#N/A"}},true]
[4411,null,null,null,null,null,null,null,{"$f":"IF(ISERROR(VLOOKUP(H4416,Database!$B$1:$C$5908,2,FALSE)),\"\",VLOOKUP(H4416,Database!$B$1:$C$5908,2,FALSE))","v":""},"",{"$error":"#N/A"},null,null,null,null,null,null,null,null,"",false,2,{"$f":"VLOOKUP(H4416,Database!$B$1:$E$4891,4,FALSE)","v":{"$error":"#N/A"}},true]
[4417,null,null,null,null,null,null,null,{"$f":"IF(ISERROR(VLOOKUP(H4422,Database!$B$1:$C$5908,2,FALSE)),\"\",VLOOKUP(H4422,Database!$B$1:$C$5908,2,FALSE))","v":""},"",{"$error":"#N/A"},null,null,null,null,null,null,null,null,"",false,2,{"$f":"VLOOKUP(H4422,Database!$B$1:$E$4891,4,FALSE)","v":{"$error":"#N/A"}},true]
[4422,null,null,null,null,null,null,null,{"$f":"IF(ISERROR(VLOOKUP(H4427,Database!$B$1:$C$5908,2,FALSE)),\"\",VLOOKUP(H4427,Database!$B$1:$C$5908,2,FALSE))","v":""},"",{"$error":"#N/A"},null,null,null,null,null,null,null,null,"",false,2,{"$f":"VLOOKUP(H4427,Database!$B$1:$E$4891,4,FALSE)","v":{"$error":"#N/A"}},true]
[4429,null,null,null,null,null,null,null,{"$f":"IF(ISERROR(VLOOKUP(H4434,Database!$B$1:$C$5908,2,FALSE)),\"\",VLOOKUP(H4434,Database!$B$1:$C$5908,2,FALSE))","v":""},"",{"$error":"#N/A"},null,null,null,null,null,null,null,null,"",false,2,{"$f":"VLOOKUP(H4434,Database!$B$1:$E$4891,4,FALSE)","v":{"$error":"#N/A"}},true]
[4432,null,null,null,null,null,null,null,{"$f":"IF(ISERROR(VLOOKUP(H4437,Database!$B$1:$C$5908,2,FALSE)),\"\",VLOOKUP(H4437,Database!$B$1:$C$5908,2,FALSE))","v":""},"",{"$error":"#N/A"},null,null,null,null,null,null,null,null,"",false,2,{"$f":"VLOOKUP(H4437,Database!$B$1:$E$4891,4,FALSE)","v":{"$error":"#N/A"}},true]
[4437,null,null,null,null,null,null,null,{"$f":"IF(ISERROR(VLOOKUP(H4442,Database!$B$1:$C$5908,2,FALSE)),\"\",VLOOKUP(H4442,Database!$B$1:$C$5908,2,FALSE))","v":""},"",{"$error":"#N/A"},null,null,null,null,null,null,null,null,"",false,2,{"$f":"VLOOKUP(H4442,Database!$B$1:$E$4891,4,FALSE)","v":{"$error":"#N/A"}},true]
[4442,null,null,null,null,null,null,null,{"$f":"IF(ISERROR(VLOOKUP(H4447,Database!$B$1:$C$5908,2,FALSE)),\"\",VLOOKUP(H4447,Database!$B$1:$C$5908,2,FALSE))","v":""},"",{"$error":"#N/A"},null,null,null,null,null,null,null,null,"",false,2,{"$f":"VLOOKUP(H4447,Database!$B$1:$E$4891,4,FALSE)","v":{"$error":"#N/A"}},true]
[4448,null,null,null,null,null,null,null,{"$f":"IF(ISERROR(VLOOKUP(H4453,Database!$B$1:$C$5908,2,FALSE)),\"\",VLOOKUP(H4453,Database!$B$1:$C$5908,2,FALSE))","v":""},"",{"$error":"#N/A"},null,null,null,null,null,null,null,null,"",false,2,{"$f":"VLOOKUP(H4453,Database!$B$1:$E$4891,4,FALSE)","v":{"$error":"#N/A"}},true]
[4452,null,null,null,null,null,null,null,{"$f":"IF(ISERROR(VLOOKUP(H4457,Database!$B$1:$C$5908,2,FALSE)),\"\",VLOOKUP(H4457,Database!$B$1:$C$5908,2,FALSE))","v":""},"",{"$error":"#N/A"},null,null,null,null,null,null,null,null,"",false,2,{"$f":"VLOOKUP(H4457,Database!$B$1:$E$4891,4,FALSE)","v":{"$error":"#N/A"}},true]
[4458,null,null,null,null,null,null,null,{"$f":"IF(ISERROR(VLOOKUP(H4463,Database!$B$1:$C$5908,2,FALSE)),\"\",VLOOKUP(H4463,Database!$B$1:$C$5908,2,FALSE))","v":""},"",{"$error":"#N/A"},null,null,null,null,null,null,null,null,"",false,2,{"$f":"VLOOKUP(H4463,Database!$B$1:$E$4891,4,FALSE)","v":{"$error":"#N/A"}},true]
[4463,null,null,null,null,null,null,null,{"$f":"IF(ISERROR(VLOOKUP(H4468,Database!$B$1:$C$5908,2,FALSE)),\"\",VLOOKUP(H4468,Database!$B$1:$C$5908,2,FALSE))","v":""},"",{"$error":"#N/A"},null,null,null,null,null,null,null,null,"",false,2,{"$f":"VLOOKUP(H4468,Database!$B$1:$E$4891,4,FALSE)","v":{"$error":"#N/A"}},true]
[4467,null,null,null,null,null,null,null,{"$f":"IF(ISERROR(VLOOKUP(H4472,Database!$B$1:$C$5908,2,FALSE)),\"\",VLOOKUP(H4472,Database!$B$1:$C$5908,2,FALSE))","v":""},"",{"$error":"#N/A"},null,null,null,null,null,null,null,null,"",false,2,{"$f":"VLOOKUP(H4472,Database!$B$1:$E$4891,4,FALSE)","v":{"$error":"#N/A"}},true]
[4468,null,null,null,null,null,null,null,{"$f":"IF(ISERROR(VLOOKUP(H4473,Database!$B$1:$C$5908,2,FALSE)),\"\",VLOOKUP(H4473,Database!$B$1:$C$5908,2,FALSE))","v":""},"",{"$error":"#N/A"},null,null,null,null,null,null,null,null,"",false,2,{"$f":"VLOOKUP(H4473,Database!$B$1:$E$4891,4,FALSE)","v":{"$error":"#N/A"}},true]
[4473,null,null,null,null,null,null,null,{"$f":"IF(ISERROR(VLOOKUP(H4478,Database!$B$1:$C$5908,2,FALSE)),\"\",VLOOKUP(H4478,Database!$B$1:$C$5908,2,FALSE))","v":""},"",{"$error":"#N/A"},null,null,null,null,null,null,null,null,"",false,2,{"$f":"VLOOKUP(H4478,Database!$B$1:$E$4891,4,FALSE)","v":{"$error":"#N/A"}},true]
[4478,null,null,null,null,null,null,null,{"$f":"IF(ISERROR(VLOOKUP(H4483,Database!$B$1:$C$5908,2,FALSE)),\"\",VLOOKUP(H4483,Database!$B$1:$C$5908,2,FALSE))","v":""},"",{"$error":"#N/A"},null,null,null,null,null,null,null,null,"",false,2,{"$f":"VLOOKUP(H4483,Database!$B$1:$E$4891,4,FALSE)","v":{"$error":"#N/A"}},true]
[4486,null,null,null,null,null,null,null,{"$f":"IF(ISERROR(VLOOKUP(H4491,Database!$B$1:$C$5908,2,FALSE)),\"\",VLOOKUP(H4491,Database!$B$1:$C$5908,2,FALSE))","v":""},"",{"$error":"#N/A"},null,null,null,null,null,null,null,null,"",false,2,{"$f":"VLOOKUP(H4491,Database!$B$1:$E$4891,4,FALSE)","v":{"$error":"#N/A"}},true]
[4488,null,null,null,null,null,null,null,{"$f":"IF(ISERROR(VLOOKUP(H4493,Database!$B$1:$C$5908,2,FALSE)),\"\",VLOOKUP(H4493,Database!$B$1:$C$5908,2,FALSE))","v":""},"",{"$error":"#N/A"},null,null,null,null,null,null,null,null,"",false,2,{"$f":"VLOOKUP(H4493,Database!$B$1:$E$4891,4,FALSE)","v":{"$error":"#N/A"}},true]
[4494,null,null,null,null,null,null,null,{"$f":"IF(ISERROR(VLOOKUP(H4499,Database!$B$1:$C$5908,2,FALSE)),\"\",VLOOKUP(H4499,Database!$B$1:$C$5908,2,FALSE))","v":""},"",{"$error":"#N/A"},null,null,null,null,null,null,null,null,"",false,2,{"$f":"VLOOKUP(H4499,Database!$B$1:$E$4891,4,FALSE)","v":{"$error":"#N/A"}},true]
[4499,null,null,null,null,null,null,null,{"$f":"IF(ISERROR(VLOOKUP(H4504,Database!$B$1:$C$5908,2,FALSE)),\"\",VLOOKUP(H4504,Database!$B$1:$C$5908,2,FALSE))","v":""},"",{"$error":"#N/A"},null,null,null,null,null,null,null,null,"",false,2,{"$f":"VLOOKUP(H4504,Database!$B$1:$E$4891,4,FALSE)","v":{"$error":"#N/A"}},true]
[4505,null,null,null,null,null,null,null,{"$f":"IF(ISERROR(VLOOKUP(H4510,Database!$B$1:$C$5908,2,FALSE)),\"\",VLOOKUP(H4510,Database!$B$1:$C$5908,2,FALSE))","v":""},"",{"$error":"#N/A"},null,null,null,null,null,null,null,null,"",false,2,{"$f":"VLOOKUP(H4510,Database!$B$1:$E$4891,4,FALSE)","v":{"$error":"#N/A"}},true]
[4509,null,null,null,null,null,null,null,{"$f":"IF(ISERROR(VLOOKUP(H4514,Database!$B$1:$C$5908,2,FALSE)),\"\",VLOOKUP(H4514,Database!$B$1:$C$5908,2,FALSE))","v":""},"",{"$error":"#N/A"},null,null,null,null,null,null,null,null,"",false,2,{"$f":"VLOOKUP(H4514,Database!$B$1:$E$4891,4,FALSE)","v":{"$error":"#N/A"}},true]
[4514,null,null,null,null,null,null,null,{"$f":"IF(ISERROR(VLOOKUP(H4519,Database!$B$1:$C$5908,2,FALSE)),\"\",VLOOKUP(H4519,Database!$B$1:$C$5908,2,FALSE))","v":""},"",{"$error":"#N/A"},null,null,null,null,null,null,null,null,"",false,2,{"$f":"VLOOKUP(H4519,Database!$B$1:$E$4891,4,FALSE)","v":{"$error":"#N/A"}},true]
[4520,null,null,null,null,null,null,null,{"$f":"IF(ISERROR(VLOOKUP(H4525,Database!$B$1:$C$5908,2,FALSE)),\"\",VLOOKUP(H4525,Database!$B$1:$C$5908,2,FALSE))","v":""},"",{"$error":"#N/A"},null,null,null,null,null,null,null,null,"",false,2,{"$f":"VLOOKUP(H4525,Database!$B$1:$E$4891,4,FALSE)","v":{"$error":"#N/A"}},true]
[4524,null,null,null,null,null,null,null,{"$f":"IF(ISERROR(VLOOKUP(H4529,Database!$B$1:$C$5908,2,FALSE)),\"\",VLOOKUP(H4529,Database!$B$1:$C$5908,2,FALSE))","v":""},"",{"$error":"#N/A"},null,null,null,null,null,null,null,null,"",false,2,{"$f":"VLOOKUP(H4529,Database!$B$1:$E$4891,4,FALSE)","v":{"$error":"#N/A"}},true]
[4529,null,null,null,null,null,null,null,{"$f":"IF(ISERROR(VLOOKUP(H4534,Database!$B$1:$C$5908,2,FALSE)),\"\",VLOOKUP(H4534,Database!$B$1:$C$5908,2,FALSE))","v":""},"",{"$error":"#N/A"},null,null,null,null,null,null,null,null,"",false,2,{"$f":"VLOOKUP(H4534,Database!$B$1:$E$4891,4,FALSE)","v":{"$error":"#N/A"}},true]
[4530,null,null,null,null,null,null,null,{"$f":"IF(ISERROR(VLOOKUP(H4535,Database!$B$1:$C$5908,2,FALSE)),\"\",VLOOKUP(H4535,Database!$B$1:$C$5908,2,FALSE))","v":""},"",{"$error":"#N/A"},null,null,null,null,null,null,null,null,"",false,2,{"$f":"VLOOKUP(H4535,Database!$B$1:$E$4891,4,FALSE)","v":{"$error":"#N/A"}},true]
[4535,null,null,null,null,null,null,null,{"$f":"IF(ISERROR(VLOOKUP(H4540,Database!$B$1:$C$5908,2,FALSE)),\"\",VLOOKUP(H4540,Database!$B$1:$C$5908,2,FALSE))","v":""},"",{"$error":"#N/A"},null,null,null,null,null,null,null,null,"",false,2,{"$f":"VLOOKUP(H4540,Database!$B$1:$E$4891,4,FALSE)","v":{"$error":"#N/A"}},true]
[4543,null,null,null,null,null,null,null,{"$f":"IF(ISERROR(VLOOKUP(H4548,Database!$B$1:$C$5908,2,FALSE)),\"\",VLOOKUP(H4548,Database!$B$1:$C$5908,2,FALSE))","v":""},"",{"$error":"#N/A"},null,null,null,null,null,null,null,null,"",false,2,{"$f":"VLOOKUP(H4548,Database!$B$1:$E$4891,4,FALSE)","v":{"$error":"#N/A"}},true]
[4545,null,null,null,null,null,null,null,{"$f":"IF(ISERROR(VLOOKUP(H4550,Database!$B$1:$C$5908,2,FALSE)),\"\",VLOOKUP(H4550,Database!$B$1:$C$5908,2,FALSE))","v":""},"",{"$error":"#N/A"},null,null,null,null,null,null,null,null,"",false,2,{"$f":"VLOOKUP(H4550,Database!$B$1:$E$4891,4,FALSE)","v":{"$error":"#N/A"}},true]
[4550,null,null,null,null,null,null,null,{"$f":"IF(ISERROR(VLOOKUP(H4555,Database!$B$1:$C$5908,2,FALSE)),\"\",VLOOKUP(H4555,Database!$B$1:$C$5908,2,FALSE))","v":""},"",{"$error":"#N/A"},null,null,null,null,null,null,null,null,"",false,2,{"$f":"VLOOKUP(H4555,Database!$B$1:$E$4891,4,FALSE)","v":{"$error":"#N/A"}},true]
[4556,null,null,null,null,null,null,null,{"$f":"IF(ISERROR(VLOOKUP(H4561,Database!$B$1:$C$5908,2,FALSE)),\"\",VLOOKUP(H4561,Database!$B$1:$C$5908,2,FALSE))","v":""},"",{"$error":"#N/A"},null,null,null,null,null,null,null,null,"",false,2,{"$f":"VLOOKUP(H4561,Database!$B$1:$E$4891,4,FALSE)","v":{"$error":"#N/A"}},true]
[4561,null,null,null,null,null,null,null,{"$f":"IF(ISERROR(VLOOKUP(H4566,Database!$B$1:$C$5908,2,FALSE)),\"\",VLOOKUP(H4566,Database!$B$1:$C$5908,2,FALSE))","v":""},"",{"$error":"#N/A"},null,null,null,null,null,null,null,null,"",false,2,{"$f":"VLOOKUP(H4566,Database!$B$1:$E$4891,4,FALSE)","v":{"$error":"#N/A"}},true]
[4564,null,null,null,null,null,null,null,{"$f":"IF(ISERROR(VLOOKUP(H4569,Database!$B$1:$C$5908,2,FALSE)),\"\",VLOOKUP(H4569,Database!$B$1:$C$5908,2,FALSE))","v":""},"",{"$error":"#N/A"},null,null,null,null,null,null,null,null,"",false,2,{"$f":"VLOOKUP(H4569,Database!$B$1:$E$4891,4,FALSE)","v":{"$error":"#N/A"}},true]
[4571,null,null,null,null,null,null,null,{"$f":"IF(ISERROR(VLOOKUP(H4576,Database!$B$1:$C$5908,2,FALSE)),\"\",VLOOKUP(H4576,Database!$B$1:$C$5908,2,FALSE))","v":""},"",{"$error":"#N/A"},null,null,null,null,null,null,null,null,"",false,2,{"$f":"VLOOKUP(H4576,Database!$B$1:$E$4891,4,FALSE)","v":{"$error":"#N/A"}},true]
[4576,null,null,null,null,null,null,null,{"$f":"IF(ISERROR(VLOOKUP(H4581,Database!$B$1:$C$5908,2,FALSE)),\"\",VLOOKUP(H4581,Database!$B$1:$C$5908,2,FALSE))","v":""},"",{"$error":"#N/A"},null,null,null,null,null,null,null,null,"",false,2,{"$f":"VLOOKUP(H4581,Database!$B$1:$E$4891,4,FALSE)","v":{"$error":"#N/A"}},true]
[4582,null,null,null,null,null,null,null,{"$f":"IF(ISERROR(VLOOKUP(H4587,Database!$B$1:$C$5908,2,FALSE)),\"\",VLOOKUP(H4587,Database!$B$1:$C$5908,2,FALSE))","v":""},"",{"$error":"#N/A"},null,null,null,null,null,null,null,null,"",false,2,{"$f":"VLOOKUP(H4587,Database!$B$1:$E$4891,4,FALSE)","v":{"$error":"#N/A"}},true]
[4583,null,null,null,null,null,null,null,{"$f":"IF(ISERROR(VLOOKUP(H4588,Database!$B$1:$C$5908,2,FALSE)),\"\",VLOOKUP(H4588,Database!$B$1:$C$5908,2,FALSE))","v":""},"",{"$error":"#N/A"},null,null,null,null,null,null,null,null,"",false,2,{"$f":"VLOOKUP(H4588,Database!$B$1:$E$4891,4,FALSE)","v":{"$error":"#N/A"}},true]
[4591,null,null,null,null,null,null,null,{"$f":"IF(ISERROR(VLOOKUP(H4596,Database!$B$1:$C$5908,2,FALSE)),\"\",VLOOKUP(H4596,Database!$B$1:$C$5908,2,FALSE))","v":""},"",{"$error":"#N/A"},null,null,null,null,null,null,null,null,"",false,2,{"$f":"VLOOKUP(H4596,Database!$B$1:$E$4891,4,FALSE)","v":{"$error":"#N/A"}},true]
[4592,null,null,null,null,null,null,null,{"$f":"IF(ISERROR(VLOOKUP(H4597,Database!$B$1:$C$5908,2,FALSE)),\"\",VLOOKUP(H4597,Database!$B$1:$C$5908,2,FALSE))","v":""},"",{"$error":"#N/A"},null,null,null,null,null,null,null,null,"",false,2,{"$f":"VLOOKUP(H4597,Database!$B$1:$E$4891,4,FALSE)","v":{"$error":"#N/A"}},true]
[4597,null,null,null,null,null,null,null,{"$f":"IF(ISERROR(VLOOKUP(H4602,Database!$B$1:$C$5908,2,FALSE)),\"\",VLOOKUP(H4602,Database!$B$1:$C$5908,2,FALSE))","v":""},"",{"$error":"#N/A"},null,null,null,null,null,null,null,null,"",false,2,{"$f":"VLOOKUP(H4602,Database!$B$1:$E$4891,4,FALSE)","v":{"$error":"#N/A"}},true]
[4602,null,null,null,null,null,null,null,{"$f":"IF(ISERROR(VLOOKUP(H4607,Database!$B$1:$C$5908,2,FALSE)),\"\",VLOOKUP(H4607,Database!$B$1:$C$5908,2,FALSE))","v":""},"",{"$error":"#N/A"},null,null,null,null,null,null,null,null,"",false,2,{"$f":"VLOOKUP(H4607,Database!$B$1:$E$4891,4,FALSE)","v":{"$error":"#N/A"}},true]
[4607,null,null,null,null,null,null,null,{"$f":"IF(ISERROR(VLOOKUP(H4612,Database!$B$1:$C$5908,2,FALSE)),\"\",VLOOKUP(H4612,Database!$B$1:$C$5908,2,FALSE))","v":""},"",{"$error":"#N/A"},null,null,null,null,null,null,null,null,"",false,2,{"$f":"VLOOKUP(H4612,Database!$B$1:$E$4891,4,FALSE)","v":{"$error":"#N/A"}},true]
[4612,null,null,null,null,null,null,null,{"$f":"IF(ISERROR(VLOOKUP(H4617,Database!$B$1:$C$5908,2,FALSE)),\"\",VLOOKUP(H4617,Database!$B$1:$C$5908,2,FALSE))","v":""},"",{"$error":"#N/A"},null,null,null,null,null,null,null,null,"",false,2,{"$f":"VLOOKUP(H4617,Database!$B$1:$E$4891,4,FALSE)","v":{"$error":"#N/A"}},true]
[4618,null,null,null,null,null,null,null,{"$f":"IF(ISERROR(VLOOKUP(H4623,Database!$B$1:$C$5908,2,FALSE)),\"\",VLOOKUP(H4623,Database!$B$1:$C$5908,2,FALSE))","v":""},"",{"$error":"#N/A"},null,null,null,null,null,null,null,null,"",false,2,{"$f":"VLOOKUP(H4623,Database!$B$1:$E$4891,4,FALSE)","v":{"$error":"#N/A"}},true]
[4621,null,null,null,null,null,null,null,{"$f":"IF(ISERROR(VLOOKUP(H4626,Database!$B$1:$C$5908,2,FALSE)),\"\",VLOOKUP(H4626,Database!$B$1:$C$5908,2,FALSE))","v":""},"",{"$error":"#N/A"},null,null,null,null,null,null,null,null,"",false,2,{"$f":"VLOOKUP(H4626,Database!$B$1:$E$4891,4,FALSE)","v":{"$error":"#N/A"}},true]
[4627,null,null,null,null,null,null,null,{"$f":"IF(ISERROR(VLOOKUP(H4632,Database!$B$1:$C$5908,2,FALSE)),\"\",VLOOKUP(H4632,Database!$B$1:$C$5908,2,FALSE))","v":""},"",{"$error":"#N/A"},null,null,null,null,null,null,null,null,"",false,2,{"$f":"VLOOKUP(H4632,Database!$B$1:$E$4891,4,FALSE)","v":{"$error":"#N/A"}},true]
[4633,null,null,null,null,null,null,null,{"$f":"IF(ISERROR(VLOOKUP(H4638,Database!$B$1:$C$5908,2,FALSE)),\"\",VLOOKUP(H4638,Database!$B$1:$C$5908,2,FALSE))","v":""},"",{"$error":"#N/A"},null,null,null,null,null,null,null,null,"",false,2,{"$f":"VLOOKUP(H4638,Database!$B$1:$E$4891,4,FALSE)","v":{"$error":"#N/A"}},true]
[4638,null,null,null,null,null,null,null,{"$f":"IF(ISERROR(VLOOKUP(H4643,Database!$B$1:$C$5908,2,FALSE)),\"\",VLOOKUP(H4643,Database!$B$1:$C$5908,2,FALSE))","v":""},"",{"$error":"#N/A"},null,null,null,null,null,null,null,null,"",false,2,{"$f":"VLOOKUP(H4643,Database!$B$1:$E$4891,4,FALSE)","v":{"$error":"#N/A"}},true]
[4640,null,null,null,null,null,null,null,{"$f":"IF(ISERROR(VLOOKUP(H4645,Database!$B$1:$C$5908,2,FALSE)),\"\",VLOOKUP(H4645,Database!$B$1:$C$5908,2,FALSE))","v":""},"",{"$error":"#N/A"},null,null,null,null,null,null,null,null,"",false,2,{"$f":"VLOOKUP(H4645,Database!$B$1:$E$4891,4,FALSE)","v":{"$error":"#N/A"}},true]
[4648,null,null,null,null,null,null,null,{"$f":"IF(ISERROR(VLOOKUP(H4653,Database!$B$1:$C$5908,2,FALSE)),\"\",VLOOKUP(H4653,Database!$B$1:$C$5908,2,FALSE))","v":""},"",{"$error":"#N/A"},null,null,null,null,null,null,null,null,"",false,2,{"$f":"VLOOKUP(H4653,Database!$B$1:$E$4891,4,FALSE)","v":{"$error":"#N/A"}},true]
[4653,null,null,null,null,null,null,null,{"$f":"IF(ISERROR(VLOOKUP(H4658,Database!$B$1:$C$5908,2,FALSE)),\"\",VLOOKUP(H4658,Database!$B$1:$C$5908,2,FALSE))","v":""},"",{"$error":"#N/A"},null,null,null,null,null,null,null,null,"",false,2,{"$f":"VLOOKUP(H4658,Database!$B$1:$E$4891,4,FALSE)","v":{"$error":"#N/A"}},true]
[4654,null,null,null,null,null,null,null,{"$f":"IF(ISERROR(VLOOKUP(H4659,Database!$B$1:$C$5908,2,FALSE)),\"\",VLOOKUP(H4659,Database!$B$1:$C$5908,2,FALSE))","v":""},"",{"$error":"#N/A"},null,null,null,null,null,null,null,null,"",false,2,{"$f":"VLOOKUP(H4659,Database!$B$1:$E$4891,4,FALSE)","v":{"$error":"#N/A"}},true]
[4659,null,null,null,null,null,null,null,{"$f":"IF(ISERROR(VLOOKUP(H4664,Database!$B$1:$C$5908,2,FALSE)),\"\",VLOOKUP(H4664,Database!$B$1:$C$5908,2,FALSE))","v":""},"",{"$error":"#N/A"},null,null,null,null,null,null,null,null,"",false,2,{"$f":"VLOOKUP(H4664,Database!$B$1:$E$4891,4,FALSE)","v":{"$error":"#N/A"}},true]
[4663,null,null,null,null,null,null,null,{"$f":"IF(ISERROR(VLOOKUP(H4668,Database!$B$1:$C$5908,2,FALSE)),\"\",VLOOKUP(H4668,Database!$B$1:$C$5908,2,FALSE))","v":""},"",{"$error":"#N/A"},null,null,null,null,null,null,null,null,"",false,2,{"$f":"VLOOKUP(H4668,Database!$B$1:$E$4891,4,FALSE)","v":{"$error":"#N/A"}},true]
[4669,null,null,null,null,null,null,null,{"$f":"IF(ISERROR(VLOOKUP(H4674,Database!$B$1:$C$5908,2,FALSE)),\"\",VLOOKUP(H4674,Database!$B$1:$C$5908,2,FALSE))","v":""},"",{"$error":"#N/A"},null,null,null,null,null,null,null,null,"",false,2,{"$f":"VLOOKUP(H4674,Database!$B$1:$E$4891,4,FALSE)","v":{"$error":"#N/A"}},true]
[{"$f":"A4678+1","v":4674},null,null,null,null,null,null,null,{"$f":"IF(ISERROR(VLOOKUP(H4679,Database!$B$1:$C$5908,2,FALSE)),\"\",VLOOKUP(H4679,Database!$B$1:$C$5908,2,FALSE))","v":""},{"$f":"IF(V4679=1,1,IF(AND(T4679=0,F4679=\"SSB\",V4679<>\"\"),2,IF(AND(T4679=0,F4679=\"FM\",V4679<>\"\"),2,IF(AND(T4679=0,F4679=\"DIGI\",V4679<>\"\"),3,IF(AND(T4679=0,F4679=\"CW\",V4679<>\"\"),5,IF(H4679=\"-\",\"\",T4679))))))","v":""},{"$f":"IF(H4679=\"-\",\"\",IF(AND(H4679<>\"\",X4679=TRUE),\"INDIPENDENT\",IF(W4679=0,\"SCRIVI NOME NELLE NOTE\",W4679)))","v":{"$error":"#N/A"}},null,null,null,null,null,null,null,null,{"$f":"IF(H4679=\"\",\"\",IF(H4679=$R$6,25,IF(OR(H4679=$R$7,H4679=$R$8,H4679=$R$9,H4679=$R$10,H4679=$R$11,H4679=$R$12,H4679=$R$13,H4679=$R$14,H4679=$R$15,H4679=$R$16,H4679=$R$17,H4679=$R$18,H4679=$R$19,H4679=$R$20,H4679=$R$21,H4679=$R$22,H4679=$R$23),15,0)))","v":""},{"$f":"ISERROR(I4679)","v":false},2,{"$f":"VLOOKUP(H4679,Database!$B$1:$E$4891,4,FALSE)","v":{"$error":"#N/A"}},{"$f":"ISERROR(W4679)","v":true}]
[4678,null,null,null,null,null,null,null,{"$f":"IF(ISERROR(VLOOKUP(H4683,Database!$B$1:$C$5908,2,FALSE)),\"\",VLOOKUP(H4683,Database!$B$1:$C$5908,2,FALSE))","v":""},"",{"$error":"#N/A"},null,null,null,null,null,null,null,null,"",false,2,{"$f":"VLOOKUP(H4683,Database!$B$1:$E$4891,4,FALSE)","v":{"$error":"#N/A"}},true]
[4684,null,null,null,null,null,null,null,{"$f":"IF(ISERROR(VLOOKUP(H4689,Database!$B$1:$C$5908,2,FALSE)),\"\",VLOOKUP(H4689,Database!$B$1:$C$5908,2,FALSE))","v":""},"",{"$error":"#N/A"},null,null,null,null,null,null,null,null,"",false,2,{"$f":"VLOOKUP(H4689,Database!$B$1:$E$4891,4,FALSE)","v":{"$error":"#N/A"}},true]
[4689,null,null,null,null,null,null,null,{"$f":"IF(ISERROR(VLOOKUP(H4694,Database!$B$1:$C$5908,2,FALSE)),\"\",VLOOKUP(H4694,Database!$B$1:$C$5908,2,FALSE))","v":""},"",{"$error":"#N/A"},null,null,null,null,null,null,null,null,"",false,2,{"$f":"VLOOKUP(H4694,Database!$B$1:$E$4891,4,FALSE)","v":{"$error":"#N/A"}},true]
[4695,null,null,null,null,null,null,null,{"$f":"IF(ISERROR(VLOOKUP(H4700,Database!$B$1:$C$5908,2,FALSE)),\"\",VLOOKUP(H4700,Database!$B$1:$C$5908,2,FALSE))","v":""},"",{"$error":"#N/A"},null,null,null,null,null,null,null,null,"",false,2,{"$f":"VLOOKUP(H4700,Database!$B$1:$E$4891,4,FALSE)","v":{"$error":"#N/A"}},true]
[4697,null,null,null,null,null,null,null,{"$f":"IF(ISERROR(VLOOKUP(H4702,Database!$B$1:$C$5908,2,FALSE)),\"\",VLOOKUP(H4702,Database!$B$1:$C$5908,2,FALSE))","v":""},"",{"$error":"#N/A"},null,null,null,null,null,null,null,null,"",false,2,{"$f":"VLOOKUP(H4702,Database!$B$1:$E$4891,4,FALSE)","v":{"$error":"#N/A"}},true]
[4704,null,null,null,null,null,null,null,{"$f":"IF(ISERROR(VLOOKUP(H4709,Database!$B$1:$C$5908,2,FALSE)),\"\",VLOOKUP(H4709,Database!$B$1:$C$5908,2,FALSE))","v":""},"",{"$error":"#N/A"},null,null,null,null,null,null,null,null,"",false,2,{"$f":"VLOOKUP(H4709,Database!$B$1:$E$4891,4,FALSE)","v":{"$error":"#N/A"}},true]
[4710,null,null,null,null,null,null,null,{"$f":"IF(ISERROR(VLOOKUP(H4715,Database!$B$1:$C$5908,2,FALSE)),\"\",VLOOKUP(H4715,Database!$B$1:$C$5908,2,FALSE))","v":""},"",{"$error":"#N/A"},null,null,null,null,null,null,null,null,"",false,2,{"$f":"VLOOKUP(H4715,Database!$B$1:$E$4891,4,FALSE)","v":{"$error":"#N/A"}},true]
[4715,null,null,null,null,null,null,null,{"$f":"IF(ISERROR(VLOOKUP(H4720,Database!$B$1:$C$5908,2,FALSE)),\"\",VLOOKUP(H4720,Database!$B$1:$C$5908,2,FALSE))","v":""},"",{"$error":"#N/A"},null,null,null,null,null,null,null,null,"",false,2,{"$f":"VLOOKUP(H4720,Database!$B$1:$E$4891,4,FALSE)","v":{"$error":"#N/A"}},true]
[4716,null,null,null,null,null,null,null,{"$f":"IF(ISERROR(VLOOKUP(H4721,Database!$B$1:$C$5908,2,FALSE)),\"\",VLOOKUP(H4721,Database!$B$1:$C$5908,2,FALSE))","v":""},"",{"$error":"#N/A"},null,null,null,null,null,null,null,null,"",false,2,{"$f":"VLOOKUP(H4721,Database!$B$1:$E$4891,4,FALSE)","v":{"$error":"#N/A"}},true]
[4720,null,null,null,null,null,null,null,{"$f":"IF(ISERROR(VLOOKUP(H4725,Database!$B$1:$C$5908,2,FALSE)),\"\",VLOOKUP(H4725,Database!$B$1:$C$5908,2,FALSE))","v":""},"",{"$error":"#N/A"},null,null,null,null,null,null,null,null,"",false,2,{"$f":"VLOOKUP(H4725,Database!$B$1:$E$4891,4,FALSE)","v":{"$error":"#N/A"}},true]
[4725,null,null,null,null,null,null,null,{"$f":"IF(ISERROR(VLOOKUP(H4730,Database!$B$1:$C$5908,2,FALSE)),\"\",VLOOKUP(H4730,Database!$B$1:$C$5908,2,FALSE))","v":""},"",{"$error":"#N/A"},null,null,null,null,null,null,null,null,"",false,2,{"$f":"VLOOKUP(H4730,Database!$B$1:$E$4891,4,FALSE)","v":{"$error":"#N/A"}},true]
[4731,null,null,null,null,null,null,null,{"$f":"IF(ISERROR(VLOOKUP(H4736,Database!$B$1:$C$5908,2,FALSE)),\"\",VLOOKUP(H4736,Database!$B$1:$C$5908,2,FALSE))","v":""},"",{"$error":"#N/A"},null,null,null,null,null,null,null,null,"",false,2,{"$f":"VLOOKUP(H4736,Database!$B$1:$E$4891,4,FALSE)","v":{"$error":"#N/A"}},true]
[4735,null,null,null,null,null,null,null,{"$f":"IF(ISERROR(VLOOKUP(H4740,Database!$B$1:$C$5908,2,FALSE)),\"\",VLOOKUP(H4740,Database!$B$1:$C$5908,2,FALSE))","v":""},"",{"$error":"#N/A"},null,null,null,null,null,null,null,null,"",false,2,{"$f":"VLOOKUP(H4740,Database!$B$1:$E$4891,4,FALSE)","v":{"$error":"#N/A"}},true]
[4740,null,null,null,null,null,null,null,{"$f":"IF(ISERROR(VLOOKUP(H4745,Database!$B$1:$C$5908,2,FALSE)),\"\",VLOOKUP(H4745,Database!$B$1:$C$5908,2,FALSE))","v":""},"",{"$error":"#N/A"},null,null,null,null,null,null,null,null,"",false,2,{"$f":"VLOOKUP(H4745,Database!$B$1:$E$4891,4,FALSE)","v":{"$error":"#N/A"}},true]
[4746,null,null,null,null,null,null,null,{"$f":"IF(ISERROR(VLOOKUP(H4751,Database!$B$1:$C$5908,2,FALSE)),\"\",VLOOKUP(H4751,Database!$B$1:$C$5908,2,FALSE))","v":""},"",{"$error":"#N/A"},null,null,null,null,null,null,null,null,"",false,2,{"$f":"VLOOKUP(H4751,Database!$B$1:$E$4891,4,FALSE)","v":{"$error":"#N/A"}},true]
[4751,null,null,null,null,null,null,null,{"$f":"IF(ISERROR(VLOOKUP(H4756,Database!$B$1:$C$5908,2,FALSE)),\"\",VLOOKUP(H4756,Database!$B$1:$C$5908,2,FALSE))","v":""},"",{"$error":"#N/A"},null,null,null,null,null,null,null,null,"",false,2,{"$f":"VLOOKUP(H4756,Database!$B$1:$E$4891,4,FALSE)","v":{"$error":"#N/A"}},true]
[4754,null,null,null,null,null,null,null,{"$f":"IF(ISERROR(VLOOKUP(H4759,Database!$B$1:$C$5908,2,FALSE)),\"\",VLOOKUP(H4759,Database!$B$1:$C$5908,2,FALSE))","v":""},"",{"$error":"#N/A"},null,null,null,null,null,null,null,null,"",false,2,{"$f":"VLOOKUP(H4759,Database!$B$1:$E$4891,4,FALSE)","v":{"$error":"#N/A"}},true]
[4761,null,null,null,null,null,null,null,{"$f":"IF(ISERROR(VLOOKUP(H4766,Database!$B$1:$C$5908,2,FALSE)),\"\",VLOOKUP(H4766,Database!$B$1:$C$5908,2,FALSE))","v":""},"",{"$error":"#N/A"},null,null,null,null,null,null,null,null,"",false,2,{"$f":"VLOOKUP(H4766,Database!$B$1:$E$4891,4,FALSE)","v":{"$error":"#N/A"}},true]
[4766,null,null,null,null,null,null,null,{"$f":"IF(ISERROR(VLOOKUP(H4771,Database!$B$1:$C$5908,2,FALSE)),\"\",VLOOKUP(H4771,Database!$B$1:$C$5908,2,FALSE))","v":""},"",{"$error":"#N/A"},null,null,null,null,null,null,null,null,"",false,2,{"$f":"VLOOKUP(H4771,Database!$B$1:$E$4891,4,FALSE)","v":{"$error":"#N/A"}},true]
[4772,null,null,null,null,null,null,null,{"$f":"IF(ISERROR(VLOOKUP(H4777,Database!$B$1:$C$5908,2,FALSE)),\"\",VLOOKUP(H4777,Database!$B$1:$C$5908,2,FALSE))","v":""},"",{"$error":"#N/A"},null,null,null,null,null,null,null,null,"",false,2,{"$f":"VLOOKUP(H4777,Database!$B$1:$E$4891,4,FALSE)","v":{"$error":"#N/A"}},true]
[4773,null,null,null,null,null,null,null,{"$f":"IF(ISERROR(VLOOKUP(H4778,Database!$B$1:$C$5908,2,FALSE)),\"\",VLOOKUP(H4778,Database!$B$1:$C$5908,2,FALSE))","v":""},"",{"$error":"#N/A"},null,null,null,null,null,null,null,null,"",false,2,{"$f":"VLOOKUP(H4778,Database!$B$1:$E$4891,4,FALSE)","v":{"$error":"#N/A"}},true]
[4777,null,null,null,null,null,null,null,{"$f":"IF(ISERROR(VLOOKUP(H4782,Database!$B$1:$C$5908,2,FALSE)),\"\",VLOOKUP(H4782,Database!$B$1:$C$5908,2,FALSE))","v":""},"",{"$error":"#N/A"},null,null,null,null,null,null,null,null,"",false,2,{"$f":"VLOOKUP(H4782,Database!$B$1:$E$4891,4,FALSE)","v":{"$error":"#N/A"}},true]
[4782,null,null,null,null,null,null,null,{"$f":"IF(ISERROR(VLOOKUP(H4787,Database!$B$1:$C$5908,2,FALSE)),\"\",VLOOKUP(H4787,Database!$B$1:$C$5908,2,FALSE))","v":""},"",{"$error":"#N/A"},null,null,null,null,null,null,null,null,"",false,2,{"$f":"VLOOKUP(H4787,Database!$B$1:$E$4891,4,FALSE)","v":{"$error":"#N/A"}},true]
[4787,null,null,null,null,null,null,null,{"$f":"IF(ISERROR(VLOOKUP(H4792,Database!$B$1:$C$5908,2,FALSE)),\"\",VLOOKUP(H4792,Database!$B$1:$C$5908,2,FALSE))","v":""},"",{"$error":"#N/A"},null,null,null,null,null,null,null,null,"",false,2,{"$f":"VLOOKUP(H4792,Database!$B$1:$E$4891,4,FALSE)","v":{"$error":"#N/A"}},true]
[4792,null,null,null,null,null,null,null,{"$f":"IF(ISERROR(VLOOKUP(H4797,Database!$B$1:$C$5908,2,FALSE)),\"\",VLOOKUP(H4797,Database!$B$1:$C$5908,2,FALSE))","v":""},"",{"$error":"#N/A"},null,null,null,null,null,null,null,null,"",false,2,{"$f":"VLOOKUP(H4797,Database!$B$1:$E$4891,4,FALSE)","v":{"$error":"#N/A"}},true]
[4797,null,null,null,null,null,null,null,{"$f":"IF(ISERROR(VLOOKUP(H4802,Database!$B$1:$C$5908,2,FALSE)),\"\",VLOOKUP(H4802,Database!$B$1:$C$5908,2,FALSE))","v":""},"",{"$error":"#N/A"},null,null,null,null,null,null,null,null,"",false,2,{"$f":"VLOOKUP(H4802,Database!$B$1:$E$4891,4,FALSE)","v":{"$error":"#N/A"}},true]
[{"$f":"A4806+1","v":4802},null,null,null,null,null,null,null,{"$f":"IF(ISERROR(VLOOKUP(H4807,Database!$B$1:$C$5908,2,FALSE)),\"\",VLOOKUP(H4807,Database!$B$1:$C$5908,2,FALSE))","v":""},{"$f":"IF(V4807=1,1,IF(AND(T4807=0,F4807=\"SSB\",V4807<>\"\"),2,IF(AND(T4807=0,F4807=\"FM\",V4807<>\"\"),2,IF(AND(T4807=0,F4807=\"DIGI\",V4807<>\"\"),3,IF(AND(T4807=0,F4807=\"CW\",V4807<>\"\"),5,IF(H4807=\"-\",\"\",T4807))))))","v":""},{"$f":"IF(H4807=\"-\",\"\",IF(AND(H4807<>\"\",X4807=TRUE),\"INDIPENDENT\",IF(W4807=0,\"SCRIVI NOME NELLE NOTE\",W4807)))","v":{"$error":"#N/A"}},null,null,null,null,null,null,null,null,{"$f":"IF(H4807=\"\",\"\",IF(H4807=$R$6,25,IF(OR(H4807=$R$7,H4807=$R$8,H4807=$R$9,H4807=$R$10,H4807=$R$11,H4807=$R$12,H4807=$R$13,H4807=$R$14,H4807=$R$15,H4807=$R$16,H4807=$R$17,H4807=$R$18,H4807=$R$19,H4807=$R$20,H4807=$R$21,H4807=$R$22,H4807=$R$23),15,0)))","v":""},{"$f":"ISERROR(I4807)","v":false},2,{"$f":"VLOOKUP(H4807,Database!$B$1:$E$4891,4,FALSE)","v":{"$error":"#N/A"}},{"$f":"ISERROR(W4807)","v":true}]
[4808,null,null,null,null,null,null,null,{"$f":"IF(ISERROR(VLOOKUP(H4813,Database!$B$1:$C$5908,2,FALSE)),\"\",VLOOKUP(H4813,Database!$B$1:$C$5908,2,FALSE))","v":""},"",{"$error":"#N/A"},null,null,null,null,null,null,null,null,"",false,2,{"$f":"VLOOKUP(H4813,Database!$B$1:$E$4891,4,FALSE)","v":{"$error":"#N/A"}},true]
[4811,null,null,null,null,null,null,null,{"$f":"IF(ISERROR(VLOOKUP(H4816,Database!$B$1:$C$5908,2,FALSE)),\"\",VLOOKUP(H4816,Database!$B$1:$C$5908,2,FALSE))","v":""},"",{"$error":"#N/A"},null,null,null,null,null,null,null,null,"",false,2,{"$f":"VLOOKUP(H4816,Database!$B$1:$E$4891,4,FALSE)","v":{"$error":"#N/A"}},true]
[4818,null,null,null,null,null,null,null,{"$f":"IF(ISERROR(VLOOKUP(H4823,Database!$B$1:$C$5908,2,FALSE)),\"\",VLOOKUP(H4823,Database!$B$1:$C$5908,2,FALSE))","v":""},"",{"$error":"#N/A"},null,null,null,null,null,null,null,null,"",false,2,{"$f":"VLOOKUP(H4823,Database!$B$1:$E$4891,4,FALSE)","v":{"$error":"#N/A"}},true]
[4823,null,null,null,null,null,null,null,{"$f":"IF(ISERROR(VLOOKUP(H4828,Database!$B$1:$C$5908,2,FALSE)),\"\",VLOOKUP(H4828,Database!$B$1:$C$5908,2,FALSE))","v":""},"",{"$error":"#N/A"},null,null,null,null,null,null,null,null,"",false,2,{"$f":"VLOOKUP(H4828,Database!$B$1:$E$4891,4,FALSE)","v":{"$error":"#N/A"}},true]
[4828,null,null,null,null,null,null,null,{"$f":"IF(ISERROR(VLOOKUP(H4833,Database!$B$1:$C$5908,2,FALSE)),\"\",VLOOKUP(H4833,Database!$B$1:$C$5908,2,FALSE))","v":""},"",{"$error":"#N/A"},null,null,null,null,null,null,null,null,"",false,2,{"$f":"VLOOKUP(H4833,Database!$B$1:$E$4891,4,FALSE)","v":{"$error":"#N/A"}},true]
[4830,null,null,null,null,null,null,null,{"$f":"IF(ISERROR(VLOOKUP(H4835,Database!$B$1:$C$5908,2,FALSE)),\"\",VLOOKUP(H4835,Database!$B$1:$C$5908,2,FALSE))","v":""},"",{"$error":"#N/A"},null,null,null,null,null,null,null,null,"",false,2,{"$f":"VLOOKUP(H4835,Database!$B$1:$E$4891,4,FALSE)","v":{"$error":"#N/A"}},true]
[4838,null,null,null,null,null,null,null,{"$f":"IF(ISERROR(VLOOKUP(H4843,Database!$B$1:$C$5908,2,FALSE)),\"\",VLOOKUP(H4843,Database!$B$1:$C$5908,2,FALSE))","v":""},"",{"$error":"#N/A"},null,null,null,null,null,null,null,null,"",false,2,{"$f":"VLOOKUP(H4843,Database!$B$1:$E$4891,4,FALSE)","v":{"$error":"#N/A"}},true]
[4839,null,null,null,null,null,null,null,{"$f":"IF(ISERROR(VLOOKUP(H4844,Database!$B$1:$C$5908,2,FALSE)),\"\",VLOOKUP(H4844,Database!$B$1:$C$5908,2,FALSE))","v":""},"",{"$error":"#N/A"},null,null,null,null,null,null,null,null,"",false,2,{"$f":"VLOOKUP(H4844,Database!$B$1:$E$4891,4,FALSE)","v":{"$error":"#N/A"}},true]
[4844,null,null,null,null,null,null,null,{"$f":"IF(ISERROR(VLOOKUP(H4849,Database!$B$1:$C$5908,2,FALSE)),\"\",VLOOKUP(H4849,Database!$B$1:$C$5908,2,FALSE))","v":""},"",{"$error":"#N/A"},null,null,null,null,null,null,null,null,"",false,2,{"$f":"VLOOKUP(H4849,Database!$B$1:$E$4891,4,FALSE)","v":{"$error":"#N/A"}},true]
[4849,null,null,null,null,null,null,null,{"$f":"IF(ISERROR(VLOOKUP(H4854,Database!$B$1:$C$5908,2,FALSE)),\"\",VLOOKUP(H4854,Database!$B$1:$C$5908,2,FALSE))","v":""},"",{"$error":"#N/A"},null,null,null,null,null,null,null,null,"",false,2,{"$f":"VLOOKUP(H4854,Database!$B$1:$E$4891,4,FALSE)","v":{"$error":"#N/A"}},true]
[4854,null,null,null,null,null,null,null,{"$f":"IF(ISERROR(VLOOKUP(H4859,Database!$B$1:$C$5908,2,FALSE)),\"\",VLOOKUP(H4859,Database!$B$1:$C$5908,2,FALSE))","v":""},"",{"$error":"#N/A"},null,null,null,null,null,null,null,null,"",false,2,{"$f":"VLOOKUP(H4859,Database!$B$1:$E$4891,4,FALSE)","v":{"$error":"#N/A"}},true]
[4859,null,null,null,null,null,null,null,{"$f":"IF(ISERROR(VLOOKUP(H4864,Database!$B$1:$C$5908,2,FALSE)),\"\",VLOOKUP(H4864,Database!$B$1:$C$5908,2,FALSE))","v":""},"",{"$error":"#N/A"},null,null,null,null,null,null,null,null,"",false,2,{"$f":"VLOOKUP(H4864,Database!$B$1:$E$4891,4,FALSE)","v":{"$error":"#N/A"}},true]
[4864,null,null,null,null,null,null,null,{"$f":"IF(ISERROR(VLOOKUP(H4869,Database!$B$1:$C$5908,2,FALSE)),\"\",VLOOKUP(H4869,Database!$B$1:$C$5908,2,FALSE))","v":""},"",{"$error":"#N/A"},null,null,null,null,null,null,null,null,"",false,2,{"$f":"VLOOKUP(H4869,Database!$B$1:$E$4891,4,FALSE)","v":{"$error":"#N/A"}},true]
[4868,null,null,null,null,null,null,null,{"$f":"IF(ISERROR(VLOOKUP(H4873,Database!$B$1:$C$5908,2,FALSE)),\"\",VLOOKUP(H4873,Database!$B$1:$C$5908,2,FALSE))","v":""},"",{"$error":"#N/A"},null,null,null,null,null,null,null,null,"",false,2,{"$f":"VLOOKUP(H4873,Database!$B$1:$E$4891,4,FALSE)","v":{"$error":"#N/A"}},true]
[4874,null,null,null,null,null,null,null,{"$f":"IF(ISERROR(VLOOKUP(H4879,Database!$B$1:$C$5908,2,FALSE)),\"\",VLOOKUP(H4879,Database!$B$1:$C$5908,2,FALSE))","v":""},"",{"$error":"#N/A"},null,null,null,null,null,null,null,null,"",false,2,{"$f":"VLOOKUP(H4879,Database!$B$1:$E$4891,4,FALSE)","v":{"$error":"#N/A"}},true]
[4880,null,null,null,null,null,null,null,{"$f":"IF(ISERROR(VLOOKUP(H4885,Database!$B$1:$C$5908,2,FALSE)),\"\",VLOOKUP(H4885,Database!$B$1:$C$5908,2,FALSE))","v":""},"",{"$error":"#N/A"},null,null,null,null,null,null,null,null,"",false,2,{"$f":"VLOOKUP(H4885,Database!$B$1:$E$4891,4,FALSE)","v":{"$error":"#N/A"}},true]
[4885,null,null,null,null,null,null,null,{"$f":"IF(ISERROR(VLOOKUP(H4890,Database!$B$1:$C$5908,2,FALSE)),\"\",VLOOKUP(H4890,Database!$B$1:$C$5908,2,FALSE))","v":""},"",{"$error":"#N/A"},null,null,null,null,null,null,null,null,"",false,2,{"$f":"VLOOKUP(H4890,Database!$B$1:$E$4891,4,FALSE)","v":{"$error":"#N/A"}},true]
[4887,null,null,null,null,null,null,null,{"$f":"IF(ISERROR(VLOOKUP(H4892,Database!$B$1:$C$5908,2,FALSE)),\"\",VLOOKUP(H4892,Database!$B$1:$C$5908,2,FALSE))","v":""},"",{"$error":"#N/A"},null,null,null,null,null,null,null,null,"",false,2,{"$f":"VLOOKUP(H4892,Database!$B$1:$E$4891,4,FALSE)","v":{"$error":"#N/A"}},true]
[4895,null,null,null,null,null,null,null,{"$f":"IF(ISERROR(VLOOKUP(H4900,Database!$B$1:$C$5908,2,FALSE)),\"\",VLOOKUP(H4900,Database!$B$1:$C$5908,2,FALSE))","v":""},"",{"$error":"#N/A"},null,null,null,null,null,null,null,null,"",false,2,{"$f":"VLOOKUP(H4900,Database!$B$1:$E$4891,4,FALSE)","v":{"$error":"#N/A"}},true]
[4900,null,null,null,null,null,null,null,{"$f":"IF(ISERROR(VLOOKUP(H4905,Database!$B$1:$C$5908,2,FALSE)),\"\",VLOOKUP(H4905,Database!$B$1:$C$5908,2,FALSE))","v":""},"",{"$error":"#N/A"},null,null,null,null,null,null,null,null,"",false,2,{"$f":"VLOOKUP(H4905,Database!$B$1:$E$4891,4,FALSE)","v":{"$error":"#N/A"}},true]
[4905,null,null,null,null,null,null,null,{"$f":"IF(ISERROR(VLOOKUP(H4910,Database!$B$1:$C$5908,2,FALSE)),\"\",VLOOKUP(H4910,Database!$B$1:$C$5908,2,FALSE))","v":""},"",{"$error":"#N/A"},null,null,null,null,null,null,null,null,"",false,2,{"$f":"VLOOKUP(H4910,Database!$B$1:$E$4891,4,FALSE)","v":{"$error":"#N/A"}},true]
[4906,null,null,null,null,null,null,null,{"$f":"IF(ISERROR(VLOOKUP(H4911,Database!$B$1:$C$5908,2,FALSE)),\"\",VLOOKUP(H4911,Database!$B$1:$C$5908,2,FALSE))","v":""},"",{"$error":"#N/A"},null,null,null,null,null,null,null,null,"",false,2,{"$f":"VLOOKUP(H4911,Database!$B$1:$E$4891,4,FALSE)","v":{"$error":"#N/A"}},true]
[4910,null,null,null,null,null,null,null,{"$f":"IF(ISERROR(VLOOKUP(H4915,Database!$B$1:$C$5908,2,FALSE)),\"\",VLOOKUP(H4915,Database!$B$1:$C$5908,2,FALSE))","v":""},"",{"$error":"#N/A"},null,null,null,null,null,null,null,null,"",false,2,{"$f":"VLOOKUP(H4915,Database!$B$1:$E$4891,4,FALSE)","v":{"$error":"#N/A"}},true]
[4916,null,null,null,null,null,null,null,{"$f":"IF(ISERROR(VLOOKUP(H4921,Database!$B$1:$C$5908,2,FALSE)),\"\",VLOOKUP(H4921,Database!$B$1:$C$5908,2,FALSE))","v":""},"",{"$error":"#N/A"},null,null,null,null,null,null,null,null,"",false,2,{"$f":"VLOOKUP(H4921,Database!$B$1:$E$4891,4,FALSE)","v":{"$error":"#N/A"}},true]
[4921,null,null,null,null,null,null,null,{"$f":"IF(ISERROR(VLOOKUP(H4926,Database!$B$1:$C$5908,2,FALSE)),\"\",VLOOKUP(H4926,Database!$B$1:$C$5908,2,FALSE))","v":""},"",{"$error":"#N/A"},null,null,null,null,null,null,null,null,"",false,2,{"$f":"VLOOKUP(H4926,Database!$B$1:$E$4891,4,FALSE)","v":{"$error":"#N/A"}},true]
[4925,null,null,null,null,null,null,null,{"$f":"IF(ISERROR(VLOOKUP(H4930,Database!$B$1:$C$5908,2,FALSE)),\"\",VLOOKUP(H4930,Database!$B$1:$C$5908,2,FALSE))","v":""},"",{"$error":"#N/A"},null,null,null,null,null,null,null,null,"",false,2,{"$f":"VLOOKUP(H4930,Database!$B$1:$E$4891,4,FALSE)","v":{"$error":"#N/A"}},true]
[4931,null,null,null,null,null,null,null,{"$f":"IF(ISERROR(VLOOKUP(H4936,Database!$B$1:$C$5908,2,FALSE)),\"\",VLOOKUP(H4936,Database!$B$1:$C$5908,2,FALSE))","v":""},"",{"$error":"#N/A"},null,null,null,null,null,null,null,null,"",false,{"$f":"IF(H4936=\"-\",\"\",IF(AND(T4936=0,U4936=FALSE,I4936=\"\"),1,2))","v":2},{"$f":"VLOOKUP(H4936,Database!$B$1:$E$4891,4,FALSE)","v":{"$error":"#N/A"}},true]
[4936,null,null,null,null,null,null,null,{"$f":"IF(ISERROR(VLOOKUP(H4941,Database!$B$1:$C$5908,2,FALSE)),\"\",VLOOKUP(H4941,Database!$B$1:$C$5908,2,FALSE))","v":""},"",{"$error":"#N/A"},null,null,null,null,null,null,null,null,"",false,2,{"$f":"VLOOKUP(H4941,Database!$B$1:$E$4891,4,FALSE)","v":{"$error":"#N/A"}},true]
[4942,null,null,null,null,null,null,null,{"$f":"IF(ISERROR(VLOOKUP(H4947,Database!$B$1:$C$5908,2,FALSE)),\"\",VLOOKUP(H4947,Database!$B$1:$C$5908,2,FALSE))","v":""},"",{"$error":"#N/A"},null,null,null,null,null,null,null,null,"",false,2,{"$f":"VLOOKUP(H4947,Database!$B$1:$E$4891,4,FALSE)","v":{"$error":"#N/A"}},true]
[4944,null,null,null,null,null,null,null,{"$f":"IF(ISERROR(VLOOKUP(H4949,Database!$B$1:$C$5908,2,FALSE)),\"\",VLOOKUP(H4949,Database!$B$1:$C$5908,2,FALSE))","v":""},"",{"$error":"#N/A"},null,null,null,null,null,null,null,null,"",false,2,{"$f":"VLOOKUP(H4949,Database!$B$1:$E$4891,4,FALSE)","v":{"$error":"#N/A"}},true]
[4951,null,null,null,null,null,null,null,{"$f":"IF(ISERROR(VLOOKUP(H4956,Database!$B$1:$C$5908,2,FALSE)),\"\",VLOOKUP(H4956,Database!$B$1:$C$5908,2,FALSE))","v":""},"",{"$error":"#N/A"},null,null,null,null,null,null,null,null,"",false,2,{"$f":"VLOOKUP(H4956,Database!$B$1:$E$4891,4,FALSE)","v":{"$error":"#N/A"}},true]
[4957,null,null,null,null,null,null,null,{"$f":"IF(ISERROR(VLOOKUP(H4962,Database!$B$1:$C$5908,2,FALSE)),\"\",VLOOKUP(H4962,Database!$B$1:$C$5908,2,FALSE))","v":""},"",{"$error":"#N/A"},null,null,null,null,null,null,null,null,"",false,2,{"$f":"VLOOKUP(H4962,Database!$B$1:$E$4891,4,FALSE)","v":{"$error":"#N/A"}},true]
[4962,null,null,null,null,null,null,null,{"$f":"IF(ISERROR(VLOOKUP(H4967,Database!$B$1:$C$5908,2,FALSE)),\"\",VLOOKUP(H4967,Database!$B$1:$C$5908,2,FALSE))","v":""},"",{"$error":"#N/A"},null,null,null,null,null,null,null,null,"",false,2,{"$f":"VLOOKUP(H4967,Database!$B$1:$E$4891,4,FALSE)","v":{"$error":"#N/A"}},true]
[4963,null,null,null,null,null,null,null,{"$f":"IF(ISERROR(VLOOKUP(H4968,Database!$B$1:$C$5908,2,FALSE)),\"\",VLOOKUP(H4968,Database!$B$1:$C$5908,2,FALSE))","v":""},"",{"$error":"#N/A"},null,null,null,null,null,null,null,null,"",false,2,{"$f":"VLOOKUP(H4968,Database!$B$1:$E$4891,4,FALSE)","v":{"$error":"#N/A"}},true]
[4967,null,null,null,null,null,null,null,{"$f":"IF(ISERROR(VLOOKUP(H4972,Database!$B$1:$C$5908,2,FALSE)),\"\",VLOOKUP(H4972,Database!$B$1:$C$5908,2,FALSE))","v":""},"",{"$error":"#N/A"},null,null,null,null,null,null,null,null,"",false,2,{"$f":"VLOOKUP(H4972,Database!$B$1:$E$4891,4,FALSE)","v":{"$error":"#N/A"}},true]
[4972,null,null,null,null,null,null,null,{"$f":"IF(ISERROR(VLOOKUP(H4977,Database!$B$1:$C$5908,2,FALSE)),\"\",VLOOKUP(H4977,Database!$B$1:$C$5908,2,FALSE))","v":""},"",{"$error":"#N/A"},null,null,null,null,null,null,null,null,"",false,2,{"$f":"VLOOKUP(H4977,Database!$B$1:$E$4891,4,FALSE)","v":{"$error":"#N/A"}},true]
[4978,null,null,null,null,null,null,null,{"$f":"IF(ISERROR(VLOOKUP(H4983,Database!$B$1:$C$5908,2,FALSE)),\"\",VLOOKUP(H4983,Database!$B$1:$C$5908,2,FALSE))","v":""},"",{"$error":"#N/A"},null,null,null,null,null,null,null,null,"",false,2,{"$f":"VLOOKUP(H4983,Database!$B$1:$E$4891,4,FALSE)","v":{"$error":"#N/A"}},true]
[4982,null,null,null,null,null,null,null,{"$f":"IF(ISERROR(VLOOKUP(H4987,Database!$B$1:$C$5908,2,FALSE)),\"\",VLOOKUP(H4987,Database!$B$1:$C$5908,2,FALSE))","v":""},"",{"$error":"#N/A"},null,null,null,null,null,null,null,null,"",false,2,{"$f":"VLOOKUP(H4987,Database!$B$1:$E$4891,4,FALSE)","v":{"$error":"#N/A"}},true]
[4987,null,null,null,null,null,null,null,{"$f":"IF(ISERROR(VLOOKUP(H4992,Database!$B$1:$C$5908,2,FALSE)),\"\",VLOOKUP(H4992,Database!$B$1:$C$5908,2,FALSE))","v":""},"",{"$error":"#N/A"},null,null,null,null,null,null,null,null,"",false,2,{"$f":"VLOOKUP(H4992,Database!$B$1:$E$4891,4,FALSE)","v":{"$error":"#N/A"}},true]
[4993,null,null,null,null,null,null,null,{"$f":"IF(ISERROR(VLOOKUP(H4998,Database!$B$1:$C$5908,2,FALSE)),\"\",VLOOKUP(H4998,Database!$B$1:$C$5908,2,FALSE))","v":""},"",{"$error":"#N/A"},null,null,null,null,null,null,null,null,"",false,2,{"$f":"VLOOKUP(H4998,Database!$B$1:$E$4891,4,FALSE)","v":{"$error":"#N/A"}},true]
[4998,null,null,null,null,null,null,null,{"$f":"IF(ISERROR(VLOOKUP(H5003,Database!$B$1:$C$5908,2,FALSE)),\"\",VLOOKUP(H5003,Database!$B$1:$C$5908,2,FALSE))","v":""},"",{"$error":"#N/A"},null,null,null,null,null,null,null,null,"",false,2,{"$f":"VLOOKUP(H5003,Database!$B$1:$E$4891,4,FALSE)","v":{"$error":"#N/A"}},true]
[5001,null,null,null,null,null,null,null,{"$f":"IF(ISERROR(VLOOKUP(H5006,Database!$B$1:$C$5908,2,FALSE)),\"\",VLOOKUP(H5006,Database!$B$1:$C$5908,2,FALSE))","v":""},"",{"$error":"#N/A"},null,null,null,null,null,null,null,null,"",false,2,{"$f":"VLOOKUP(H5006,Database!$B$1:$E$4891,4,FALSE)","v":{"$error":"#N/A"}},true]
[5008,null,null,null,null,null,null,null,{"$f":"IF(ISERROR(VLOOKUP(H5013,Database!$B$1:$C$5908,2,FALSE)),\"\",VLOOKUP(H5013,Database!$B$1:$C$5908,2,FALSE))","v":""},"",{"$error":"#N/A"},null,null,null,null,null,null,null,null,"",false,2,{"$f":"VLOOKUP(H5013,Database!$B$1:$E$4891,4,FALSE)","v":{"$error":"#N/A"}},true]
[5013,null,null,null,null,null,null,null,{"$f":"IF(ISERROR(VLOOKUP(H5018,Database!$B$1:$C$5908,2,FALSE)),\"\",VLOOKUP(H5018,Database!$B$1:$C$5908,2,FALSE))","v":""},"",{"$error":"#N/A"},null,null,null,null,null,null,null,null,"",false,2,{"$f":"VLOOKUP(H5018,Database!$B$1:$E$4891,4,FALSE)","v":{"$error":"#N/A"}},true]
[5019,null,null,null,null,null,null,null,{"$f":"IF(ISERROR(VLOOKUP(H5024,Database!$B$1:$C$5908,2,FALSE)),\"\",VLOOKUP(H5024,Database!$B$1:$C$5908,2,FALSE))","v":""},"",{"$error":"#N/A"},null,null,null,null,null,null,null,null,"",false,2,{"$f":"VLOOKUP(H5024,Database!$B$1:$E$4891,4,FALSE)","v":{"$error":"#N/A"}},true]
[5020,null,null,null,null,null,null,null,{"$f":"IF(ISERROR(VLOOKUP(H5025,Database!$B$1:$C$5908,2,FALSE)),\"\",VLOOKUP(H5025,Database!$B$1:$C$5908,2,FALSE))","v":""},"",{"$error":"#N/A"},null,null,null,null,null,null,null,null,"",false,2,{"$f":"VLOOKUP(H5025,Database!$B$1:$E$4891,4,FALSE)","v":{"$error":"#N/A"}},true]
[5028,null,null,null,null,null,null,null,{"$f":"IF(ISERROR(VLOOKUP(H5033,Database!$B$1:$C$5908,2,FALSE)),\"\",VLOOKUP(H5033,Database!$B$1:$C$5908,2,FALSE))","v":""},"",{"$error":"#N/A"},null,null,null,null,null,null,null,null,"",false,2,{"$f":"VLOOKUP(H5033,Database!$B$1:$E$4891,4,FALSE)","v":{"$error":"#N/A"}},true]
[5029,null,null,null,null,null,null,null,{"$f":"IF(ISERROR(VLOOKUP(H5034,Database!$B$1:$C$5908,2,FALSE)),\"\",VLOOKUP(H5034,Database!$B$1:$C$5908,2,FALSE))","v":""},"",{"$error":"#N/A"},null,null,null,null,null,null,null,null,"",false,2,{"$f":"VLOOKUP(H5034,Database!$B$1:$E$4891,4,FALSE)","v":{"$error":"#N/A"}},true]
[5034,null,null,null,null,null,null,null,{"$f":"IF(ISERROR(VLOOKUP(H5039,Database!$B$1:$C$5908,2,FALSE)),\"\",VLOOKUP(H5039,Database!$B$1:$C$5908,2,FALSE))","v":""},"",{"$error":"#N/A"},null,null,null,null,null,null,null,null,"",false,2,{"$f":"VLOOKUP(H5039,Database!$B$1:$E$4891,4,FALSE)","v":{"$error":"#N/A"}},true]
[5039,null,null,null,null,null,null,null,{"$f":"IF(ISERROR(VLOOKUP(H5044,Database!$B$1:$C$5908,2,FALSE)),\"\",VLOOKUP(H5044,Database!$B$1:$C$5908,2,FALSE))","v":""},"",{"$error":"#N/A"},null,null,null,null,null,null,null,null,"",false,2,{"$f":"VLOOKUP(H5044,Database!$B$1:$E$4891,4,FALSE)","v":{"$error":"#N/A"}},true]
[5044,null,null,null,null,null,null,null,{"$f":"IF(ISERROR(VLOOKUP(H5049,Database!$B$1:$C$5908,2,FALSE)),\"\",VLOOKUP(H5049,Database!$B$1:$C$5908,2,FALSE))","v":""},"",{"$error":"#N/A"},null,null,null,null,null,null,null,null,"",false,2,{"$f":"VLOOKUP(H5049,Database!$B$1:$E$4891,4,FALSE)","v":{"$error":"#N/A"}},true]
[5049,null,null,null,null,null,null,null,{"$f":"IF(ISERROR(VLOOKUP(H5054,Database!$B$1:$C$5908,2,FALSE)),\"\",VLOOKUP(H5054,Database!$B$1:$C$5908,2,FALSE))","v":""},"",{"$error":"#N/A"},null,null,null,null,null,null,null,null,"",false,2,{"$f":"VLOOKUP(H5054,Database!$B$1:$E$4891,4,FALSE)","v":{"$error":"#N/A"}},true]
[5055,null,null,null,null,null,null,null,{"$f":"IF(ISERROR(VLOOKUP(H5060,Database!$B$1:$C$5908,2,FALSE)),\"\",VLOOKUP(H5060,Database!$B$1:$C$5908,2,FALSE))","v":""},"",{"$error":"#N/A"},null,null,null,null,null,null,null,null,"",false,2,{"$f":"VLOOKUP(H5060,Database!$B$1:$E$4891,4,FALSE)","v":{"$error":"#N/A"}},true]
[{"$f":"A5062+1","v":5058},null,null,null,null,null,null,null,{"$f":"IF(ISERROR(VLOOKUP(H5063,Database!$B$1:$C$5908,2,FALSE)),\"\",VLOOKUP(H5063,Database!$B$1:$C$5908,2,FALSE))","v":""},{"$f":"IF(V5063=1,1,IF(AND(T5063=0,F5063=\"SSB\",V5063<>\"\"),2,IF(AND(T5063=0,F5063=\"FM\",V5063<>\"\"),2,IF(AND(T5063=0,F5063=\"DIGI\",V5063<>\"\"),3,IF(AND(T5063=0,F5063=\"CW\",V5063<>\"\"),5,IF(H5063=\"-\",\"\",T5063))))))","v":""},{"$f":"IF(H5063=\"-\",\"\",IF(AND(H5063<>\"\",X5063=TRUE),\"INDIPENDENT\",IF(W5063=0,\"SCRIVI NOME NELLE NOTE\",W5063)))","v":{"$error":"#N/A"}},null,null,null,null,null,null,null,null,{"$f":"IF(H5063=\"\",\"\",IF(H5063=$R$6,25,IF(OR(H5063=$R$7,H5063=$R$8,H5063=$R$9,H5063=$R$10,H5063=$R$11,H5063=$R$12,H5063=$R$13,H5063=$R$14,H5063=$R$15,H5063=$R$16,H5063=$R$17,H5063=$R$18,H5063=$R$19,H5063=$R$20,H5063=$R$21,H5063=$R$22,H5063=$R$23),15,0)))","v":""},{"$f":"ISERROR(I5063)","v":false},2,{"$f":"VLOOKUP(H5063,Database!$B$1:$E$4891,4,FALSE)","v":{"$error":"#N/A"}},{"$f":"ISERROR(W5063)","v":true}]
[5064,null,null,null,null,null,null,null,{"$f":"IF(ISERROR(VLOOKUP(H5069,Database!$B$1:$C$5908,2,FALSE)),\"\",VLOOKUP(H5069,Database!$B$1:$C$5908,2,FALSE))","v":""},"",{"$error":"#N/A"},null,null,null,null,null,null,null,null,"",false,2,{"$f":"VLOOKUP(H5069,Database!$B$1:$E$4891,4,FALSE)","v":{"$error":"#N/A"}},true]
[5070,null,null,null,null,null,null,null,{"$f":"IF(ISERROR(VLOOKUP(H5075,Database!$B$1:$C$5908,2,FALSE)),\"\",VLOOKUP(H5075,Database!$B$1:$C$5908,2,FALSE))","v":""},"",{"$error":"#N/A"},null,null,null,null,null,null,null,null,"",false,2,{"$f":"VLOOKUP(H5075,Database!$B$1:$E$4891,4,FALSE)","v":{"$error":"#N/A"}},true]
[5075,null,null,null,null,null,null,null,{"$f":"IF(ISERROR(VLOOKUP(H5080,Database!$B$1:$C$5908,2,FALSE)),\"\",VLOOKUP(H5080,Database!$B$1:$C$5908,2,FALSE))","v":""},"",{"$error":"#N/A"},null,null,null,null,null,null,null,null,"",false,2,{"$f":"VLOOKUP(H5080,Database!$B$1:$E$4891,4,FALSE)","v":{"$error":"#N/A"}},true]
[5077,null,null,null,null,null,null,null,{"$f":"IF(ISERROR(VLOOKUP(H5082,Database!$B$1:$C$5908,2,FALSE)),\"\",VLOOKUP(H5082,Database!$B$1:$C$5908,2,FALSE))","v":""},"",{"$error":"#N/A"},null,null,null,null,null,null,null,null,"",false,2,{"$f":"VLOOKUP(H5082,Database!$B$1:$E$4891,4,FALSE)","v":{"$error":"#N/A"}},true]
[5085,null,null,null,null,null,null,null,{"$f":"IF(ISERROR(VLOOKUP(H5090,Database!$B$1:$C$5908,2,FALSE)),\"\",VLOOKUP(H5090,Database!$B$1:$C$5908,2,FALSE))","v":""},"",{"$error":"#N/A"},null,null,null,null,null,null,null,null,"",false,2,{"$f":"VLOOKUP(H5090,Database!$B$1:$E$4891,4,FALSE)","v":{"$error":"#N/A"}},true]
[5090,null,null,null,null,null,null,null,{"$f":"IF(ISERROR(VLOOKUP(H5095,Database!$B$1:$C$5908,2,FALSE)),\"\",VLOOKUP(H5095,Database!$B$1:$C$5908,2,FALSE))","v":""},"",{"$error":"#N/A"},null,null,null,null,null,null,null,null,"",false,2,{"$f":"VLOOKUP(H5095,Database!$B$1:$E$4891,4,FALSE)","v":{"$error":"#N/A"}},true]
[5091,null,null,null,null,null,null,null,{"$f":"IF(ISERROR(VLOOKUP(H5096,Database!$B$1:$C$5908,2,FALSE)),\"\",VLOOKUP(H5096,Database!$B$1:$C$5908,2,FALSE))","v":""},"",{"$error":"#N/A"},null,null,null,null,null,null,null,null,"",false,2,{"$f":"VLOOKUP(H5096,Database!$B$1:$E$4891,4,FALSE)","v":{"$error":"#N/A"}},true]
[5096,null,null,null,null,null,null,null,{"$f":"IF(ISERROR(VLOOKUP(H5101,Database!$B$1:$C$5908,2,FALSE)),\"\",VLOOKUP(H5101,Database!$B$1:$C$5908,2,FALSE))","v":""},"",{"$error":"#N/A"},null,null,null,null,null,null,null,null,"",false,2,{"$f":"VLOOKUP(H5101,Database!$B$1:$E$4891,4,FALSE)","v":{"$error":"#N/A"}},true]
[5101,null,null,null,null,null,null,null,{"$f":"IF(ISERROR(VLOOKUP(H5106,Database!$B$1:$C$5908,2,FALSE)),\"\",VLOOKUP(H5106,Database!$B$1:$C$5908,2,FALSE))","v":""},"",{"$error":"#N/A"},null,null,null,null,null,null,null,null,"",false,2,{"$f":"VLOOKUP(H5106,Database!$B$1:$E$4891,4,FALSE)","v":{"$error":"#N/A"}},true]
[5106,null,null,null,null,null,null,null,{"$f":"IF(ISERROR(VLOOKUP(H5111,Database!$B$1:$C$5908,2,FALSE)),\"\",VLOOKUP(H5111,Database!$B$1:$C$5908,2,FALSE))","v":""},"",{"$error":"#N/A"},null,null,null,null,null,null,null,null,"",false,2,{"$f":"VLOOKUP(H5111,Database!$B$1:$E$4891,4,FALSE)","v":{"$error":"#N/A"}},true]
[5111,null,null,null,null,null,null,null,{"$f":"IF(ISERROR(VLOOKUP(H5116,Database!$B$1:$C$5908,2,FALSE)),\"\",VLOOKUP(H5116,Database!$B$1:$C$5908,2,FALSE))","v":""},"",{"$error":"#N/A"},null,null,null,null,null,null,null,null,"",false,2,{"$f":"VLOOKUP(H5116,Database!$B$1:$E$4891,4,FALSE)","v":{"$error":"#N/A"}},true]
[5115,null,null,null,null,null,null,null,{"$f":"IF(ISERROR(VLOOKUP(H5120,Database!$B$1:$C$5908,2,FALSE)),\"\",VLOOKUP(H5120,Database!$B$1:$C$5908,2,FALSE))","v":""},"",{"$error":"#N/A"},null,null,null,null,null,null,null,null,"",false,2,{"$f":"VLOOKUP(H5120,Database!$B$1:$E$4891,4,FALSE)","v":{"$error":"#N/A"}},true]
[5121,null,null,null,null,null,null,null,{"$f":"IF(ISERROR(VLOOKUP(H5126,Database!$B$1:$C$5908,2,FALSE)),\"\",VLOOKUP(H5126,Database!$B$1:$C$5908,2,FALSE))","v":""},"",{"$error":"#N/A"},null,null,null,null,null,null,null,null,"",false,2,{"$f":"VLOOKUP(H5126,Database!$B$1:$E$4891,4,FALSE)","v":{"$error":"#N/A"}},true]
[5126,null,null,null,null,null,null,null,{"$f":"IF(ISERROR(VLOOKUP(H5131,Database!$B$1:$C$5908,2,FALSE)),\"\",VLOOKUP(H5131,Database!$B$1:$C$5908,2,FALSE))","v":""},"",{"$error":"#N/A"},null,null,null,null,null,null,null,null,"",false,2,{"$f":"VLOOKUP(H5131,Database!$B$1:$E$4891,4,FALSE)","v":{"$error":"#N/A"}},true]
[5132,null,null,null,null,null,null,null,{"$f":"IF(ISERROR(VLOOKUP(H5137,Database!$B$1:$C$5908,2,FALSE)),\"\",VLOOKUP(H5137,Database!$B$1:$C$5908,2,FALSE))","v":""},"",{"$error":"#N/A"},null,null,null,null,null,null,null,null,"",false,2,{"$f":"VLOOKUP(H5137,Database!$B$1:$E$4891,4,FALSE)","v":{"$error":"#N/A"}},true]
[5134,null,null,null,null,null,null,null,{"$f":"IF(ISERROR(VLOOKUP(H5139,Database!$B$1:$C$5908,2,FALSE)),\"\",VLOOKUP(H5139,Database!$B$1:$C$5908,2,FALSE))","v":""},"",{"$error":"#N/A"},null,null,null,null,null,null,null,null,"",false,2,{"$f":"VLOOKUP(H5139,Database!$B$1:$E$4891,4,FALSE)","v":{"$error":"#N/A"}},true]
[5142,null,null,null,null,null,null,null,{"$f":"IF(ISERROR(VLOOKUP(H5147,Database!$B$1:$C$5908,2,FALSE)),\"\",VLOOKUP(H5147,Database!$B$1:$C$5908,2,FALSE))","v":""},"",{"$error":"#N/A"},null,null,null,null,null,null,null,null,"",false,2,{"$f":"VLOOKUP(H5147,Database!$B$1:$E$4891,4,FALSE)","v":{"$error":"#N/A"}},true]
[5147,null,null,null,null,null,null,null,{"$f":"IF(ISERROR(VLOOKUP(H5152,Database!$B$1:$C$5908,2,FALSE)),\"\",VLOOKUP(H5152,Database!$B$1:$C$5908,2,FALSE))","v":""},"",{"$error":"#N/A"},null,null,null,null,null,null,null,null,"",false,2,{"$f":"VLOOKUP(H5152,Database!$B$1:$E$4891,4,FALSE)","v":{"$error":"#N/A"}},true]
[5152,null,null,null,null,null,null,null,{"$f":"IF(ISERROR(VLOOKUP(H5157,Database!$B$1:$C$5908,2,FALSE)),\"\",VLOOKUP(H5157,Database!$B$1:$C$5908,2,FALSE))","v":""},"",{"$error":"#N/A"},null,null,null,null,null,null,null,null,"",false,2,{"$f":"VLOOKUP(H5157,Database!$B$1:$E$4891,4,FALSE)","v":{"$error":"#N/A"}},true]
[5153,null,null,null,null,null,null,null,{"$f":"IF(ISERROR(VLOOKUP(H5158,Database!$B$1:$C$5908,2,FALSE)),\"\",VLOOKUP(H5158,Database!$B$1:$C$5908,2,FALSE))","v":""},"",{"$error":"#N/A"},null,null,null,null,null,null,null,null,"",false,2,{"$f":"VLOOKUP(H5158,Database!$B$1:$E$4891,4,FALSE)","v":{"$error":"#N/A"}},true]
[5157,null,null,null,null,null,null,null,{"$f":"IF(ISERROR(VLOOKUP(H5162,Database!$B$1:$C$5908,2,FALSE)),\"\",VLOOKUP(H5162,Database!$B$1:$C$5908,2,FALSE))","v":""},"",{"$error":"#N/A"},null,null,null,null,null,null,null,null,"",false,2,{"$f":"VLOOKUP(H5162,Database!$B$1:$E$4891,4,FALSE)","v":{"$error":"#N/A"}},true]
[5162,null,null,null,null,null,null,null,{"$f":"IF(ISERROR(VLOOKUP(H5167,Database!$B$1:$C$5908,2,FALSE)),\"\",VLOOKUP(H5167,Database!$B$1:$C$5908,2,FALSE))","v":""},"",{"$error":"#N/A"},null,null,null,null,null,null,null,null,"",false,2,{"$f":"VLOOKUP(H5167,Database!$B$1:$E$4891,4,FALSE)","v":{"$error":"#N/A"}},true]
[5168,null,null,null,null,null,null,null,{"$f":"IF(ISERROR(VLOOKUP(H5173,Database!$B$1:$C$5908,2,FALSE)),\"\",VLOOKUP(H5173,Database!$B$1:$C$5908,2,FALSE))","v":""},"",{"$error":"#N/A"},null,null,null,null,null,null,null,null,"",false,2,{"$f":"VLOOKUP(H5173,Database!$B$1:$E$4891,4,FALSE)","v":{"$error":"#N/A"}},true]
[5172,null,null,null,null,null,null,null,{"$f":"IF(ISERROR(VLOOKUP(H5177,Database!$B$1:$C$5908,2,FALSE)),\"\",VLOOKUP(H5177,Database!$B$1:$C$5908,2,FALSE))","v":""},"",{"$error":"#N/A"},null,null,null,null,null,null,null,null,"",false,2,{"$f":"VLOOKUP(H5177,Database!$B$1:$E$4891,4,FALSE)","v":{"$error":"#N/A"}},true]
[5178,null,null,null,null,null,null,null,{"$f":"IF(ISERROR(VLOOKUP(H5183,Database!$B$1:$C$5908,2,FALSE)),\"\",VLOOKUP(H5183,Database!$B$1:$C$5908,2,FALSE))","v":""},"",{"$error":"#N/A"},null,null,null,null,null,null,null,null,"",false,2,{"$f":"VLOOKUP(H5183,Database!$B$1:$E$4891,4,FALSE)","v":{"$error":"#N/A"}},true]
[5183,null,null,null,null,null,null,null,{"$f":"IF(ISERROR(VLOOKUP(H5188,Database!$B$1:$C$5908,2,FALSE)),\"\",VLOOKUP(H5188,Database!$B$1:$C$5908,2,FALSE))","v":""},"",{"$error":"#N/A"},null,null,null,null,null,null,null,null,"",false,2,{"$f":"VLOOKUP(H5188,Database!$B$1:$E$4891,4,FALSE)","v":{"$error":"#N/A"}},true]
[5188,null,null,null,null,null,null,null,{"$f":"IF(ISERROR(VLOOKUP(H5193,Database!$B$1:$C$5908,2,FALSE)),\"\",VLOOKUP(H5193,Database!$B$1:$C$5908,2,FALSE))","v":""},"",{"$error":"#N/A"},null,null,null,null,null,null,null,null,"",false,2,{"$f":"VLOOKUP(H5193,Database!$B$1:$E$4891,4,FALSE)","v":{"$error":"#N/A"}},true]
[5191,null,null,null,null,null,null,null,{"$f":"IF(ISERROR(VLOOKUP(H5196,Database!$B$1:$C$5908,2,FALSE)),\"\",VLOOKUP(H5196,Database!$B$1:$C$5908,2,FALSE))","v":""},"",{"$error":"#N/A"},null,null,null,null,null,null,null,null,"",false,2,{"$f":"VLOOKUP(H5196,Database!$B$1:$E$4891,4,FALSE)","v":{"$error":"#N/A"}},true]
[5198,null,null,null,null,null,null,null,{"$f":"IF(ISERROR(VLOOKUP(H5203,Database!$B$1:$C$5908,2,FALSE)),\"\",VLOOKUP(H5203,Database!$B$1:$C$5908,2,FALSE))","v":""},"",{"$error":"#N/A"},null,null,null,null,null,null,null,null,"",false,2,{"$f":"VLOOKUP(H5203,Database!$B$1:$E$4891,4,FALSE)","v":{"$error":"#N/A"}},true]
[5204,null,null,null,null,null,null,null,{"$f":"IF(ISERROR(VLOOKUP(H5209,Database!$B$1:$C$5908,2,FALSE)),\"\",VLOOKUP(H5209,Database!$B$1:$C$5908,2,FALSE))","v":""},"",{"$error":"#N/A"},null,null,null,null,null,null,null,null,"",false,2,{"$f":"VLOOKUP(H5209,Database!$B$1:$E$4891,4,FALSE)","v":{"$error":"#N/A"}},true]
[5209,null,null,null,null,null,null,null,{"$f":"IF(ISERROR(VLOOKUP(H5214,Database!$B$1:$C$5908,2,FALSE)),\"\",VLOOKUP(H5214,Database!$B$1:$C$5908,2,FALSE))","v":""},"",{"$error":"#N/A"},null,null,null,null,null,null,null,null,"",false,2,{"$f":"VLOOKUP(H5214,Database!$B$1:$E$4891,4,FALSE)","v":{"$error":"#N/A"}},true]
[5210,null,null,null,null,null,null,null,{"$f":"IF(ISERROR(VLOOKUP(H5215,Database!$B$1:$C$5908,2,FALSE)),\"\",VLOOKUP(H5215,Database!$B$1:$C$5908,2,FALSE))","v":""},"",{"$error":"#N/A"},null,null,null,null,null,null,null,null,"",false,2,{"$f":"VLOOKUP(H5215,Database!$B$1:$E$4891,4,FALSE)","v":{"$error":"#N/A"}},true]
[5214,null,null,null,null,null,null,null,{"$f":"IF(ISERROR(VLOOKUP(H5219,Database!$B$1:$C$5908,2,FALSE)),\"\",VLOOKUP(H5219,Database!$B$1:$C$5908,2,FALSE))","v":""},"",{"$error":"#N/A"},null,null,null,null,null,null,null,null,"",false,2,{"$f":"VLOOKUP(H5219,Database!$B$1:$E$4891,4,FALSE)","v":{"$error":"#N/A"}},true]
[5219,null,null,null,null,null,null,null,{"$f":"IF(ISERROR(VLOOKUP(H5224,Database!$B$1:$C$5908,2,FALSE)),\"\",VLOOKUP(H5224,Database!$B$1:$C$5908,2,FALSE))","v":""},"",{"$error":"#N/A"},null,null,null,null,null,null,null,null,"",false,2,{"$f":"VLOOKUP(H5224,Database!$B$1:$E$4891,4,FALSE)","v":{"$error":"#N/A"}},true]
[5224,null,null,null,null,null,null,null,{"$f":"IF(ISERROR(VLOOKUP(H5229,Database!$B$1:$C$5908,2,FALSE)),\"\",VLOOKUP(H5229,Database!$B$1:$C$5908,2,FALSE))","v":""},"",{"$error":"#N/A"},null,null,null,null,null,null,null,null,"",false,2,{"$f":"VLOOKUP(H5229,Database!$B$1:$E$4891,4,FALSE)","v":{"$error":"#N/A"}},true]
[5229,null,null,null,null,null,null,null,{"$f":"IF(ISERROR(VLOOKUP(H5234,Database!$B$1:$C$5908,2,FALSE)),\"\",VLOOKUP(H5234,Database!$B$1:$C$5908,2,FALSE))","v":""},"",{"$error":"#N/A"},null,null,null,null,null,null,null,null,"",false,2,{"$f":"VLOOKUP(H5234,Database!$B$1:$E$4891,4,FALSE)","v":{"$error":"#N/A"}},true]
[5234,null,null,null,null,null,null,null,{"$f":"IF(ISERROR(VLOOKUP(H5239,Database!$B$1:$C$5908,2,FALSE)),\"\",VLOOKUP(H5239,Database!$B$1:$C$5908,2,FALSE))","v":""},"",{"$error":"#N/A"},null,null,null,null,null,null,null,null,"",false,2,{"$f":"VLOOKUP(H5239,Database!$B$1:$E$4891,4,FALSE)","v":{"$error":"#N/A"}},true]
[5240,null,null,null,null,null,null,null,{"$f":"IF(ISERROR(VLOOKUP(H5245,Database!$B$1:$C$5908,2,FALSE)),\"\",VLOOKUP(H5245,Database!$B$1:$C$5908,2,FALSE))","v":""},"",{"$error":"#N/A"},null,null,null,null,null,null,null,null,"",false,2,{"$f":"VLOOKUP(H5245,Database!$B$1:$E$4891,4,FALSE)","v":{"$error":"#N/A"}},true]
[5245,null,null,null,null,null,null,null,{"$f":"IF(ISERROR(VLOOKUP(H5250,Database!$B$1:$C$5908,2,FALSE)),\"\",VLOOKUP(H5250,Database!$B$1:$C$5908,2,FALSE))","v":""},"",{"$error":"#N/A"},null,null,null,null,null,null,null,null,"",false,2,{"$f":"VLOOKUP(H5250,Database!$B$1:$E$4891,4,FALSE)","v":{"$error":"#N/A"}},true]
[5248,null,null,null,null,null,null,null,{"$f":"IF(ISERROR(VLOOKUP(H5253,Database!$B$1:$C$5908,2,FALSE)),\"\",VLOOKUP(H5253,Database!$B$1:$C$5908,2,FALSE))","v":""},"",{"$error":"#N/A"},null,null,null,null,null,null,null,null,"",false,2,{"$f":"VLOOKUP(H5253,Database!$B$1:$E$4891,4,FALSE)","v":{"$error":"#N/A"}},true]
[5255,null,null,null,null,null,null,null,{"$f":"IF(ISERROR(VLOOKUP(H5260,Database!$B$1:$C$5908,2,FALSE)),\"\",VLOOKUP(H5260,Database!$B$1:$C$5908,2,FALSE))","v":""},"",{"$error":"#N/A"},null,null,null,null,null,null,null,null,"",false,2,{"$f":"VLOOKUP(H5260,Database!$B$1:$E$4891,4,FALSE)","v":{"$error":"#N/A"}},true]
[5260,null,null,null,null,null,null,null,{"$f":"IF(ISERROR(VLOOKUP(H5265,Database!$B$1:$C$5908,2,FALSE)),\"\",VLOOKUP(H5265,Database!$B$1:$C$5908,2,FALSE))","v":""},"",{"$error":"#N/A"},null,null,null,null,null,null,null,null,"",false,2,{"$f":"VLOOKUP(H5265,Database!$B$1:$E$4891,4,FALSE)","v":{"$error":"#N/A"}},true]
[5266,null,null,null,null,null,null,null,{"$f":"IF(ISERROR(VLOOKUP(H5271,Database!$B$1:$C$5908,2,FALSE)),\"\",VLOOKUP(H5271,Database!$B$1:$C$5908,2,FALSE))","v":""},"",{"$error":"#N/A"},null,null,null,null,null,null,null,null,"",false,2,{"$f":"VLOOKUP(H5271,Database!$B$1:$E$4891,4,FALSE)","v":{"$error":"#N/A"}},true]
[5267,null,null,null,null,null,null,null,{"$f":"IF(ISERROR(VLOOKUP(H5272,Database!$B$1:$C$5908,2,FALSE)),\"\",VLOOKUP(H5272,Database!$B$1:$C$5908,2,FALSE))","v":""},"",{"$error":"#N/A"},null,null,null,null,null,null,null,null,"",false,2,{"$f":"VLOOKUP(H5272,Database!$B$1:$E$4891,4,FALSE)","v":{"$error":"#N/A"}},true]
[5275,null,null,null,null,null,null,null,{"$f":"IF(ISERROR(VLOOKUP(H5280,Database!$B$1:$C$5908,2,FALSE)),\"\",VLOOKUP(H5280,Database!$B$1:$C$5908,2,FALSE))","v":""},"",{"$error":"#N/A"},null,null,null,null,null,null,null,null,"",false,2,{"$f":"VLOOKUP(H5280,Database!$B$1:$E$4891,4,FALSE)","v":{"$error":"#N/A"}},true]
[5276,null,null,null,null,null,null,null,{"$f":"IF(ISERROR(VLOOKUP(H5281,Database!$B$1:$C$5908,2,FALSE)),\"\",VLOOKUP(H5281,Database!$B$1:$C$5908,2,FALSE))","v":""},"",{"$error":"#N/A"},null,null,null,null,null,null,null,null,"",false,2,{"$f":"VLOOKUP(H5281,Database!$B$1:$E$4891,4,FALSE)","v":{"$error":"#N/A"}},true]
[5281,null,null,null,null,null,null,null,{"$f":"IF(ISERROR(VLOOKUP(H5286,Database!$B$1:$C$5908,2,FALSE)),\"\",VLOOKUP(H5286,Database!$B$1:$C$5908,2,FALSE))","v":""},"",{"$error":"#N/A"},null,null,null,null,null,null,null,null,"",false,2,{"$f":"VLOOKUP(H5286,Database!$B$1:$E$4891,4,FALSE)","v":{"$error":"#N/A"}},true]
[5286,null,null,null,null,null,null,null,{"$f":"IF(ISERROR(VLOOKUP(H5291,Database!$B$1:$C$5908,2,FALSE)),\"\",VLOOKUP(H5291,Database!$B$1:$C$5908,2,FALSE))","v":""},"",{"$error":"#N/A"},null,null,null,null,null,null,null,null,"",false,2,{"$f":"VLOOKUP(H5291,Database!$B$1:$E$4891,4,FALSE)","v":{"$error":"#N/A"}},true]
[5291,null,null,null,null,null,null,null,{"$f":"IF(ISERROR(VLOOKUP(H5296,Database!$B$1:$C$5908,2,FALSE)),\"\",VLOOKUP(H5296,Database!$B$1:$C$5908,2,FALSE))","v":""},"",{"$error":"#N/A"},null,null,null,null,null,null,null,null,"",false,2,{"$f":"VLOOKUP(H5296,Database!$B$1:$E$4891,4,FALSE)","v":{"$error":"#N/A"}},true]
[5296,null,null,null,null,null,null,null,{"$f":"IF(ISERROR(VLOOKUP(H5301,Database!$B$1:$C$5908,2,FALSE)),\"\",VLOOKUP(H5301,Database!$B$1:$C$5908,2,FALSE))","v":""},"",{"$error":"#N/A"},null,null,null,null,null,null,null,null,"",false,2,{"$f":"VLOOKUP(H5301,Database!$B$1:$E$4891,4,FALSE)","v":{"$error":"#N/A"}},true]
[5302,null,null,null,null,null,null,null,{"$f":"IF(ISERROR(VLOOKUP(H5307,Database!$B$1:$C$5908,2,FALSE)),\"\",VLOOKUP(H5307,Database!$B$1:$C$5908,2,FALSE))","v":""},"",{"$error":"#N/A"},null,null,null,null,null,null,null,null,"",false,2,{"$f":"VLOOKUP(H5307,Database!$B$1:$E$4891,4,FALSE)","v":{"$error":"#N/A"}},true]
[5305,null,null,null,null,null,null,null,{"$f":"IF(ISERROR(VLOOKUP(H5310,Database!$B$1:$C$5908,2,FALSE)),\"\",VLOOKUP(H5310,Database!$B$1:$C$5908,2,FALSE))","v":""},"",{"$error":"#N/A"},null,null,null,null,null,null,null,null,"",false,2,{"$f":"VLOOKUP(H5310,Database!$B$1:$E$4891,4,FALSE)","v":{"$error":"#N/A"}},true]
[5311,null,null,null,null,null,null,null,{"$f":"IF(ISERROR(VLOOKUP(H5316,Database!$B$1:$C$5908,2,FALSE)),\"\",VLOOKUP(H5316,Database!$B$1:$C$5908,2,FALSE))","v":""},"",{"$error":"#N/A"},null,null,null,null,null,null,null,null,"",false,2,{"$f":"VLOOKUP(H5316,Database!$B$1:$E$4891,4,FALSE)","v":{"$error":"#N/A"}},true]
[5317,null,null,null,null,null,null,null,{"$f":"IF(ISERROR(VLOOKUP(H5322,Database!$B$1:$C$5908,2,FALSE)),\"\",VLOOKUP(H5322,Database!$B$1:$C$5908,2,FALSE))","v":""},"",{"$error":"#N/A"},null,null,null,null,null,null,null,null,"",false,2,{"$f":"VLOOKUP(H5322,Database!$B$1:$E$4891,4,FALSE)","v":{"$error":"#N/A"}},true]
[5322,null,null,null,null,null,null,null,{"$f":"IF(ISERROR(VLOOKUP(H5327,Database!$B$1:$C$5908,2,FALSE)),\"\",VLOOKUP(H5327,Database!$B$1:$C$5908,2,FALSE))","v":""},"",{"$error":"#N/A"},null,null,null,null,null,null,null,null,"",false,2,{"$f":"VLOOKUP(H5327,Database!$B$1:$E$4891,4,FALSE)","v":{"$error":"#N/A"}},true]
[5324,null,null,null,null,null,null,null,{"$f":"IF(ISERROR(VLOOKUP(H5329,Database!$B$1:$C$5908,2,FALSE)),\"\",VLOOKUP(H5329,Database!$B$1:$C$5908,2,FALSE))","v":""},"",{"$error":"#N/A"},null,null,null,null,null,null,null,null,"",false,2,{"$f":"VLOOKUP(H5329,Database!$B$1:$E$4891,4,FALSE)","v":{"$error":"#N/A"}},true]
[5332,null,null,null,null,null,null,null,{"$f":"IF(ISERROR(VLOOKUP(H5337,Database!$B$1:$C$5908,2,FALSE)),\"\",VLOOKUP(H5337,Database!$B$1:$C$5908,2,FALSE))","v":""},"",{"$error":"#N/A"},null,null,null,null,null,null,null,null,"",false,2,{"$f":"VLOOKUP(H5337,Database!$B$1:$E$4891,4,FALSE)","v":{"$error":"#N/A"}},true]
[5337,null,null,null,null,null,null,null,{"$f":"IF(ISERROR(VLOOKUP(H5342,Database!$B$1:$C$5908,2,FALSE)),\"\",VLOOKUP(H5342,Database!$B$1:$C$5908,2,FALSE))","v":""},"",{"$error":"#N/A"},null,null,null,null,null,null,null,null,"",false,2,{"$f":"VLOOKUP(H5342,Database!$B$1:$E$4891,4,FALSE)","v":{"$error":"#N/A"}},true]
[5338,null,null,null,null,null,null,null,{"$f":"IF(ISERROR(VLOOKUP(H5343,Database!$B$1:$C$5908,2,FALSE)),\"\",VLOOKUP(H5343,Database!$B$1:$C$5908,2,FALSE))","v":""},"",{"$error":"#N/A"},null,null,null,null,null,null,null,null,"",false,2,{"$f":"VLOOKUP(H5343,Database!$B$1:$E$4891,4,FALSE)","v":{"$error":"#N/A"}},true]
[5343,null,null,null,null,null,null,null,{"$f":"IF(ISERROR(VLOOKUP(H5348,Database!$B$1:$C$5908,2,FALSE)),\"\",VLOOKUP(H5348,Database!$B$1:$C$5908,2,FALSE))","v":""},"",{"$error":"#N/A"},null,null,null,null,null,null,null,null,"",false,2,{"$f":"VLOOKUP(H5348,Database!$B$1:$E$4891,4,FALSE)","v":{"$error":"#N/A"}},true]
[5347,null,null,null,null,null,null,null,{"$f":"IF(ISERROR(VLOOKUP(H5352,Database!$B$1:$C$5908,2,FALSE)),\"\",VLOOKUP(H5352,Database!$B$1:$C$5908,2,FALSE))","v":""},"",{"$error":"#N/A"},null,null,null,null,null,null,null,null,"",false,2,{"$f":"VLOOKUP(H5352,Database!$B$1:$E$4891,4,FALSE)","v":{"$error":"#N/A"}},true]
[5353,null,null,null,null,null,null,null,{"$f":"IF(ISERROR(VLOOKUP(H5358,Database!$B$1:$C$5908,2,FALSE)),\"\",VLOOKUP(H5358,Database!$B$1:$C$5908,2,FALSE))","v":""},"",{"$error":"#N/A"},null,null,null,null,null,null,null,null,"",false,2,{"$f":"VLOOKUP(H5358,Database!$B$1:$E$4891,4,FALSE)","v":{"$error":"#N/A"}},true]
[5358,null,null,null,null,null,null,null,{"$f":"IF(ISERROR(VLOOKUP(H5363,Database!$B$1:$C$5908,2,FALSE)),\"\",VLOOKUP(H5363,Database!$B$1:$C$5908,2,FALSE))","v":""},"",{"$error":"#N/A"},null,null,null,null,null,null,null,null,"",false,2,{"$f":"VLOOKUP(H5363,Database!$B$1:$E$4891,4,FALSE)","v":{"$error":"#N/A"}},true]
[5362,null,null,null,null,null,null,null,{"$f":"IF(ISERROR(VLOOKUP(H5367,Database!$B$1:$C$5908,2,FALSE)),\"\",VLOOKUP(H5367,Database!$B$1:$C$5908,2,FALSE))","v":""},"",{"$error":"#N/A"},null,null,null,null,null,null,null,null,"",false,2,{"$f":"VLOOKUP(H5367,Database!$B$1:$E$4891,4,FALSE)","v":{"$error":"#N/A"}},true]
[5368,null,null,null,null,null,null,null,{"$f":"IF(ISERROR(VLOOKUP(H5373,Database!$B$1:$C$5908,2,FALSE)),\"\",VLOOKUP(H5373,Database!$B$1:$C$5908,2,FALSE))","v":""},"",{"$error":"#N/A"},null,null,null,null,null,null,null,null,"",false,2,{"$f":"VLOOKUP(H5373,Database!$B$1:$E$4891,4,FALSE)","v":{"$error":"#N/A"}},true]
[5373,null,null,null,null,null,null,null,{"$f":"IF(ISERROR(VLOOKUP(H5378,Database!$B$1:$C$5908,2,FALSE)),\"\",VLOOKUP(H5378,Database!$B$1:$C$5908,2,FALSE))","v":""},"",{"$error":"#N/A"},null,null,null,null,null,null,null,null,"",false,2,{"$f":"VLOOKUP(H5378,Database!$B$1:$E$4891,4,FALSE)","v":{"$error":"#N/A"}},true]
[5379,null,null,null,null,null,null,null,{"$f":"IF(ISERROR(VLOOKUP(H5384,Database!$B$1:$C$5908,2,FALSE)),\"\",VLOOKUP(H5384,Database!$B$1:$C$5908,2,FALSE))","v":""},"",{"$error":"#N/A"},null,null,null,null,null,null,null,null,"",false,{"$f":"IF(H5384=\"-\",\"\",IF(AND(T5384=0,U5384=FALSE,I5384=\"\"),1,2))","v":2},{"$f":"VLOOKUP(H5384,Database!$B$1:$E$4891,4,FALSE)","v":{"$error":"#N/A"}},true]
[5381,null,null,null,null,null,null,null,{"$f":"IF(ISERROR(VLOOKUP(H5386,Database!$B$1:$C$5908,2,FALSE)),\"\",VLOOKUP(H5386,Database!$B$1:$C$5908,2,FALSE))","v":""},"",{"$error":"#N/A"},null,null,null,null,null,null,null,null,"",false,2,{"$f":"VLOOKUP(H5386,Database!$B$1:$E$4891,4,FALSE)","v":{"$error":"#N/A"}},true]
[5388,null,null,null,null,null,null,null,{"$f":"IF(ISERROR(VLOOKUP(H5393,Database!$B$1:$C$5908,2,FALSE)),\"\",VLOOKUP(H5393,Database!$B$1:$C$5908,2,FALSE))","v":""},"",{"$error":"#N/A"},null,null,null,null,null,null,null,null,"",false,2,{"$f":"VLOOKUP(H5393,Database!$B$1:$E$4891,4,FALSE)","v":{"$error":"#N/A"}},true]
[5394,null,null,null,null,null,null,null,{"$f":"IF(ISERROR(VLOOKUP(H5399,Database!$B$1:$C$5908,2,FALSE)),\"\",VLOOKUP(H5399,Database!$B$1:$C$5908,2,FALSE))","v":""},"",{"$error":"#N/A"},null,null,null,null,null,null,null,null,"",false,2,{"$f":"VLOOKUP(H5399,Database!$B$1:$E$4891,4,FALSE)","v":{"$error":"#N/A"}},true]
[5399,null,null,null,null,null,null,null,{"$f":"IF(ISERROR(VLOOKUP(H5404,Database!$B$1:$C$5908,2,FALSE)),\"\",VLOOKUP(H5404,Database!$B$1:$C$5908,2,FALSE))","v":""},"",{"$error":"#N/A"},null,null,null,null,null,null,null,null,"",false,2,{"$f":"VLOOKUP(H5404,Database!$B$1:$E$4891,4,FALSE)","v":{"$error":"#N/A"}},true]
[5400,null,null,null,null,null,null,null,{"$f":"IF(ISERROR(VLOOKUP(H5405,Database!$B$1:$C$5908,2,FALSE)),\"\",VLOOKUP(H5405,Database!$B$1:$C$5908,2,FALSE))","v":""},"",{"$error":"#N/A"},null,null,null,null,null,null,null,null,"",false,2,{"$f":"VLOOKUP(H5405,Database!$B$1:$E$4891,4,FALSE)","v":{"$error":"#N/A"}},true]
[5404,null,null,null,null,null,null,null,{"$f":"IF(ISERROR(VLOOKUP(H5409,Database!$B$1:$C$5908,2,FALSE)),\"\",VLOOKUP(H5409,Database!$B$1:$C$5908,2,FALSE))","v":""},"",{"$error":"#N/A"},null,null,null,null,null,null,null,null,"",false,2,{"$f":"VLOOKUP(H5409,Database!$B$1:$E$4891,4,FALSE)","v":{"$error":"#N/A"}},true]
[5409,null,null,null,null,null,null,null,{"$f":"IF(ISERROR(VLOOKUP(H5414,Database!$B$1:$C$5908,2,FALSE)),\"\",VLOOKUP(H5414,Database!$B$1:$C$5908,2,FALSE))","v":""},"",{"$error":"#N/A"},null,null,null,null,null,null,null,null,"",false,2,{"$f":"VLOOKUP(H5414,Database!$B$1:$E$4891,4,FALSE)","v":{"$error":"#N/A"}},true]
[5415,null,null,null,null,null,null,null,{"$f":"IF(ISERROR(VLOOKUP(H5420,Database!$B$1:$C$5908,2,FALSE)),\"\",VLOOKUP(H5420,Database!$B$1:$C$5908,2,FALSE))","v":""},"",{"$error":"#N/A"},null,null,null,null,null,null,null,null,"",false,2,{"$f":"VLOOKUP(H5420,Database!$B$1:$E$4891,4,FALSE)","v":{"$error":"#N/A"}},true]
[5419,null,null,null,null,null,null,null,{"$f":"IF(ISERROR(VLOOKUP(H5424,Database!$B$1:$C$5908,2,FALSE)),\"\",VLOOKUP(H5424,Database!$B$1:$C$5908,2,FALSE))","v":""},"",{"$error":"#N/A"},null,null,null,null,null,null,null,null,"",false,2,{"$f":"VLOOKUP(H5424,Database!$B$1:$E$4891,4,FALSE)","v":{"$error":"#N/A"}},true]
[5424,null,null,null,null,null,null,null,{"$f":"IF(ISERROR(VLOOKUP(H5429,Database!$B$1:$C$5908,2,FALSE)),\"\",VLOOKUP(H5429,Database!$B$1:$C$5908,2,FALSE))","v":""},"",{"$error":"#N/A"},null,null,null,null,null,null,null,null,"",false,2,{"$f":"VLOOKUP(H5429,Database!$B$1:$E$4891,4,FALSE)","v":{"$error":"#N/A"}},true]
[5430,null,null,null,null,null,null,null,{"$f":"IF(ISERROR(VLOOKUP(H5435,Database!$B$1:$C$5908,2,FALSE)),\"\",VLOOKUP(H5435,Database!$B$1:$C$5908,2,FALSE))","v":""},"",{"$error":"#N/A"},null,null,null,null,null,null,null,null,"",false,2,{"$f":"VLOOKUP(H5435,Database!$B$1:$E$4891,4,FALSE)","v":{"$error":"#N/A"}},true]
[5435,null,null,null,null,null,null,null,{"$f":"IF(ISERROR(VLOOKUP(H5440,Database!$B$1:$C$5908,2,FALSE)),\"\",VLOOKUP(H5440,Database!$B$1:$C$5908,2,FALSE))","v":""},"",{"$error":"#N/A"},null,null,null,null,null,null,null,null,"",false,2,{"$f":"VLOOKUP(H5440,Database!$B$1:$E$4891,4,FALSE)","v":{"$error":"#N/A"}},true]
[5438,null,null,null,null,null,null,null,{"$f":"IF(ISERROR(VLOOKUP(H5443,Database!$B$1:$C$5908,2,FALSE)),\"\",VLOOKUP(H5443,Database!$B$1:$C$5908,2,FALSE))","v":""},"",{"$error":"#N/A"},null,null,null,null,null,null,null,null,"",false,2,{"$f":"VLOOKUP(H5443,Database!$B$1:$E$4891,4,FALSE)","v":{"$error":"#N/A"}},true]
[5445,null,null,null,null,null,null,null,{"$f":"IF(ISERROR(VLOOKUP(H5450,Database!$B$1:$C$5908,2,FALSE)),\"\",VLOOKUP(H5450,Database!$B$1:$C$5908,2,FALSE))","v":""},"",{"$error":"#N/A"},null,null,null,null,null,null,null,null,"",false,2,{"$f":"VLOOKUP(H5450,Database!$B$1:$E$4891,4,FALSE)","v":{"$error":"#N/A"}},true]
[5450,null,null,null,null,null,null,null,{"$f":"IF(ISERROR(VLOOKUP(H5455,Database!$B$1:$C$5908,2,FALSE)),\"\",VLOOKUP(H5455,Database!$B$1:$C$5908,2,FALSE))","v":""},"",{"$error":"#N/A"},null,null,null,null,null,null,null,null,"",false,2,{"$f":"VLOOKUP(H5455,Database!$B$1:$E$4891,4,FALSE)","v":{"$error":"#N/A"}},true]
[5456,null,null,null,null,null,null,null,{"$f":"IF(ISERROR(VLOOKUP(H5461,Database!$B$1:$C$5908,2,FALSE)),\"\",VLOOKUP(H5461,Database!$B$1:$C$5908,2,FALSE))","v":""},"",{"$error":"#N/A"},null,null,null,null,null,null,null,null,"",false,2,{"$f":"VLOOKUP(H5461,Database!$B$1:$E$4891,4,FALSE)","v":{"$error":"#N/A"}},true]
[5457,null,null,null,null,null,null,null,{"$f":"IF(ISERROR(VLOOKUP(H5462,Database!$B$1:$C$5908,2,FALSE)),\"\",VLOOKUP(H5462,Database!$B$1:$C$5908,2,FALSE))","v":""},"",{"$error":"#N/A"},null,null,null,null,null,null,null,null,"",false,2,{"$f":"VLOOKUP(H5462,Database!$B$1:$E$4891,4,FALSE)","v":{"$error":"#N/A"}},true]
[5461,null,null,null,null,null,null,null,{"$f":"IF(ISERROR(VLOOKUP(H5466,Database!$B$1:$C$5908,2,FALSE)),\"\",VLOOKUP(H5466,Database!$B$1:$C$5908,2,FALSE))","v":""},"",{"$error":"#N/A"},null,null,null,null,null,null,null,null,"",false,2,{"$f":"VLOOKUP(H5466,Database!$B$1:$E$4891,4,FALSE)","v":{"$error":"#N/A"}},true]
[5466,null,null,null,null,null,null,null,{"$f":"IF(ISERROR(VLOOKUP(H5471,Database!$B$1:$C$5908,2,FALSE)),\"\",VLOOKUP(H5471,Database!$B$1:$C$5908,2,FALSE))","v":""},"",{"$error":"#N/A"},null,null,null,null,null,null,null,null,"",false,2,{"$f":"VLOOKUP(H5471,Database!$B$1:$E$4891,4,FALSE)","v":{"$error":"#N/A"}},true]
[5471,null,null,null,null,null,null,null,{"$f":"IF(ISERROR(VLOOKUP(H5476,Database!$B$1:$C$5908,2,FALSE)),\"\",VLOOKUP(H5476,Database!$B$1:$C$5908,2,FALSE))","v":""},"",{"$error":"#N/A"},null,null,null,null,null,null,null,null,"",false,2,{"$f":"VLOOKUP(H5476,Database!$B$1:$E$4891,4,FALSE)","v":{"$error":"#N/A"}},true]
[5476,null,null,null,null,null,null,null,{"$f":"IF(ISERROR(VLOOKUP(H5481,Database!$B$1:$C$5908,2,FALSE)),\"\",VLOOKUP(H5481,Database!$B$1:$C$5908,2,FALSE))","v":""},"",{"$error":"#N/A"},null,null,null,null,null,null,null,null,"",false,2,{"$f":"VLOOKUP(H5481,Database!$B$1:$E$4891,4,FALSE)","v":{"$error":"#N/A"}},true]
[5481,null,null,null,null,null,null,null,{"$f":"IF(ISERROR(VLOOKUP(H5486,Database!$B$1:$C$5908,2,FALSE)),\"\",VLOOKUP(H5486,Database!$B$1:$C$5908,2,FALSE))","v":""},"",{"$error":"#N/A"},null,null,null,null,null,null,null,null,"",false,2,{"$f":"VLOOKUP(H5486,Database!$B$1:$E$4891,4,FALSE)","v":{"$error":"#N/A"}},true]
[5486,null,null,null,null,null,null,null,{"$f":"IF(ISERROR(VLOOKUP(H5491,Database!$B$1:$C$5908,2,FALSE)),\"\",VLOOKUP(H5491,Database!$B$1:$C$5908,2,FALSE))","v":""},"",{"$error":"#N/A"},null,null,null,null,null,null,null,null,"",false,2,{"$f":"VLOOKUP(H5491,Database!$B$1:$E$4891,4,FALSE)","v":{"$error":"#N/A"}},true]
[5492,null,null,null,null,null,null,null,{"$f":"IF(ISERROR(VLOOKUP(H5497,Database!$B$1:$C$5908,2,FALSE)),\"\",VLOOKUP(H5497,Database!$B$1:$C$5908,2,FALSE))","v":""},"",{"$error":"#N/A"},null,null,null,null,null,null,null,null,"",false,2,{"$f":"VLOOKUP(H5497,Database!$B$1:$E$4891,4,FALSE)","v":{"$error":"#N/A"}},true]
[5495,null,null,null,null,null,null,null,{"$f":"IF(ISERROR(VLOOKUP(H5500,Database!$B$1:$C$5908,2,FALSE)),\"\",VLOOKUP(H5500,Database!$B$1:$C$5908,2,FALSE))","v":""},"",{"$error":"#N/A"},null,null,null,null,null,null,null,null,"",false,2,{"$f":"VLOOKUP(H5500,Database!$B$1:$E$4891,4,FALSE)","v":{"$error":"#N/A"}},true]
[5502,null,null,null,null,null,null,null,{"$f":"IF(ISERROR(VLOOKUP(H5507,Database!$B$1:$C$5908,2,FALSE)),\"\",VLOOKUP(H5507,Database!$B$1:$C$5908,2,FALSE))","v":""},"",{"$error":"#N/A"},null,null,null,null,null,null,null,null,"",false,2,{"$f":"VLOOKUP(H5507,Database!$B$1:$E$4891,4,FALSE)","v":{"$error":"#N/A"}},true]
[5507,null,null,null,null,null,null,null,{"$f":"IF(ISERROR(VLOOKUP(H5512,Database!$B$1:$C$5908,2,FALSE)),\"\",VLOOKUP(H5512,Database!$B$1:$C$5908,2,FALSE))","v":""},"",{"$error":"#N/A"},null,null,null,null,null,null,null,null,"",false,{"$f":"IF(H5512=\"-\",\"\",IF(AND(T5512=0,U5512=FALSE,I5512=\"\"),1,2))","v":2},{"$f":"VLOOKUP(H5512,Database!$B$1:$E$4891,4,FALSE)","v":{"$error":"#N/A"}},true]
[5512,null,null,null,null,null,null,null,{"$f":"IF(ISERROR(VLOOKUP(H5517,Database!$B$1:$C$5908,2,FALSE)),\"\",VLOOKUP(H5517,Database!$B$1:$C$5908,2,FALSE))","v":""},"",{"$error":"#N/A"},null,null,null,null,null,null,null,null,"",false,2,{"$f":"VLOOKUP(H5517,Database!$B$1:$E$4891,4,FALSE)","v":{"$error":"#N/A"}},true]
[5514,null,null,null,null,null,null,null,{"$f":"IF(ISERROR(VLOOKUP(H5519,Database!$B$1:$C$5908,2,FALSE)),\"\",VLOOKUP(H5519,Database!$B$1:$C$5908,2,FALSE))","v":""},"",{"$error":"#N/A"},null,null,null,null,null,null,null,null,"",false,2,{"$f":"VLOOKUP(H5519,Database!$B$1:$E$4891,4,FALSE)","v":{"$error":"#N/A"}},true]
[5522,null,null,null,null,null,null,null,{"$f":"IF(ISERROR(VLOOKUP(H5527,Database!$B$1:$C$5908,2,FALSE)),\"\",VLOOKUP(H5527,Database!$B$1:$C$5908,2,FALSE))","v":""},"",{"$error":"#N/A"},null,null,null,null,null,null,null,null,"",false,2,{"$f":"VLOOKUP(H5527,Database!$B$1:$E$4891,4,FALSE)","v":{"$error":"#N/A"}},true]
[5523,null,null,null,null,null,null,null,{"$f":"IF(ISERROR(VLOOKUP(H5528,Database!$B$1:$C$5908,2,FALSE)),\"\",VLOOKUP(H5528,Database!$B$1:$C$5908,2,FALSE))","v":""},"",{"$error":"#N/A"},null,null,null,null,null,null,null,null,"",false,2,{"$f":"VLOOKUP(H5528,Database!$B$1:$E$4891,4,FALSE)","v":{"$error":"#N/A"}},true]
[5528,null,null,null,null,null,null,null,{"$f":"IF(ISERROR(VLOOKUP(H5533,Database!$B$1:$C$5908,2,FALSE)),\"\",VLOOKUP(H5533,Database!$B$1:$C$5908,2,FALSE))","v":""},"",{"$error":"#N/A"},null,null,null,null,null,null,null,null,"",false,2,{"$f":"VLOOKUP(H5533,Database!$B$1:$E$4891,4,FALSE)","v":{"$error":"#N/A"}},true]
[5533,null,null,null,null,null,null,null,{"$f":"IF(ISERROR(VLOOKUP(H5538,Database!$B$1:$C$5908,2,FALSE)),\"\",VLOOKUP(H5538,Database!$B$1:$C$5908,2,FALSE))","v":""},"",{"$error":"#N/A"},null,null,null,null,null,null,null,null,"",false,2,{"$f":"VLOOKUP(H5538,Database!$B$1:$E$4891,4,FALSE)","v":{"$error":"#N/A"}},true]
[5538,null,null,null,null,null,null,null,{"$f":"IF(ISERROR(VLOOKUP(H5543,Database!$B$1:$C$5908,2,FALSE)),\"\",VLOOKUP(H5543,Database!$B$1:$C$5908,2,FALSE))","v":""},"",{"$error":"#N/A"},null,null,null,null,null,null,null,null,"",false,2,{"$f":"VLOOKUP(H5543,Database!$B$1:$E$4891,4,FALSE)","v":{"$error":"#N/A"}},true]
[5543,null,null,null,null,null,null,null,{"$f":"IF(ISERROR(VLOOKUP(H5548,Database!$B$1:$C$5908,2,FALSE)),\"\",VLOOKUP(H5548,Database!$B$1:$C$5908,2,FALSE))","v":""},"",{"$error":"#N/A"},null,null,null,null,null,null,null,null,"",false,2,{"$f":"VLOOKUP(H5548,Database!$B$1:$E$4891,4,FALSE)","v":{"$error":"#N/A"}},true]
[5548,null,null,null,null,null,null,null,{"$f":"IF(ISERROR(VLOOKUP(H5553,Database!$B$1:$C$5908,2,FALSE)),\"\",VLOOKUP(H5553,Database!$B$1:$C$5908,2,FALSE))","v":""},"",{"$error":"#N/A"},null,null,null,null,null,null,null,null,"",false,2,{"$f":"VLOOKUP(H5553,Database!$B$1:$E$4891,4,FALSE)","v":{"$error":"#N/A"}},true]
[5552,null,null,null,null,null,null,null,{"$f":"IF(ISERROR(VLOOKUP(H5557,Database!$B$1:$C$5908,2,FALSE)),\"\",VLOOKUP(H5557,Database!$B$1:$C$5908,2,FALSE))","v":""},"",{"$error":"#N/A"},null,null,null,null,null,null,null,null,"",false,2,{"$f":"VLOOKUP(H5557,Database!$B$1:$E$4891,4,FALSE)","v":{"$error":"#N/A"}},true]
[5558,null,null,null,null,null,null,null,{"$f":"IF(ISERROR(VLOOKUP(H5563,Database!$B$1:$C$5908,2,FALSE)),\"\",VLOOKUP(H5563,Database!$B$1:$C$5908,2,FALSE))","v":""},"",{"$error":"#N/A"},null,null,null,null,null,null,null,null,"",false,2,{"$f":"VLOOKUP(H5563,Database!$B$1:$E$4891,4,FALSE)","v":{"$error":"#N/A"}},true]
[5564,null,null,null,null,null,null,null,{"$f":"IF(ISERROR(VLOOKUP(H5569,Database!$B$1:$C$5908,2,FALSE)),\"\",VLOOKUP(H5569,Database!$B$1:$C$5908,2,FALSE))","v":""},"",{"$error":"#N/A"},null,null,null,null,null,null,null,null,"",false,2,{"$f":"VLOOKUP(H5569,Database!$B$1:$E$4891,4,FALSE)","v":{"$error":"#N/A"}},true]
[5569,null,null,null,null,null,null,null,{"$f":"IF(ISERROR(VLOOKUP(H5574,Database!$B$1:$C$5908,2,FALSE)),\"\",VLOOKUP(H5574,Database!$B$1:$C$5908,2,FALSE))","v":""},"",{"$error":"#N/A"},null,null,null,null,null,null,null,null,"",false,2,{"$f":"VLOOKUP(H5574,Database!$B$1:$E$4891,4,FALSE)","v":{"$error":"#N/A"}},true]
[5571,null,null,null,null,null,null,null,{"$f":"IF(ISERROR(VLOOKUP(H5576,Database!$B$1:$C$5908,2,FALSE)),\"\",VLOOKUP(H5576,Database!$B$1:$C$5908,2,FALSE))","v":""},"",{"$error":"#N/A"},null,null,null,null,null,null,null,null,"",false,{"$f":"IF(H5576=\"-\",\"\",IF(AND(T5576=0,U5576=FALSE,I5576=\"\"),1,2))","v":2},{"$f":"VLOOKUP(H5576,Database!$B$1:$E$4891,4,FALSE)","v":{"$error":"#N/A"}},true]
[5579,null,null,null,null,null,null,null,{"$f":"IF(ISERROR(VLOOKUP(H5584,Database!$B$1:$C$5908,2,FALSE)),\"\",VLOOKUP(H5584,Database!$B$1:$C$5908,2,FALSE))","v":""},"",{"$error":"#N/A"},null,null,null,null,null,null,null,null,"",false,2,{"$f":"VLOOKUP(H5584,Database!$B$1:$E$4891,4,FALSE)","v":{"$error":"#N/A"}},true]
[5584,null,null,null,null,null,null,null,{"$f":"IF(ISERROR(VLOOKUP(H5589,Database!$B$1:$C$5908,2,FALSE)),\"\",VLOOKUP(H5589,Database!$B$1:$C$5908,2,FALSE))","v":""},"",{"$error":"#N/A"},null,null,null,null,null,null,null,null,"",false,2,{"$f":"VLOOKUP(H5589,Database!$B$1:$E$4891,4,FALSE)","v":{"$error":"#N/A"}},true]
[5589,null,null,null,null,null,null,null,{"$f":"IF(ISERROR(VLOOKUP(H5594,Database!$B$1:$C$5908,2,FALSE)),\"\",VLOOKUP(H5594,Database!$B$1:$C$5908,2,FALSE))","v":""},"",{"$error":"#N/A"},null,null,null,null,null,null,null,null,"",false,2,{"$f":"VLOOKUP(H5594,Database!$B$1:$E$4891,4,FALSE)","v":{"$error":"#N/A"}},true]
[5590,null,null,null,null,null,null,null,{"$f":"IF(ISERROR(VLOOKUP(H5595,Database!$B$1:$C$5908,2,FALSE)),\"\",VLOOKUP(H5595,Database!$B$1:$C$5908,2,FALSE))","v":""},"",{"$error":"#N/A"},null,null,null,null,null,null,null,null,"",false,2,{"$f":"VLOOKUP(H5595,Database!$B$1:$E$4891,4,FALSE)","v":{"$error":"#N/A"}},true]
[5594,null,null,null,null,null,null,null,{"$f":"IF(ISERROR(VLOOKUP(H5599,Database!$B$1:$C$5908,2,FALSE)),\"\",VLOOKUP(H5599,Database!$B$1:$C$5908,2,FALSE))","v":""},"",{"$error":"#N/A"},null,null,null,null,null,null,null,null,"",false,2,{"$f":"VLOOKUP(H5599,Database!$B$1:$E$4891,4,FALSE)","v":{"$error":"#N/A"}},true]
[5600,null,null,null,null,null,null,null,{"$f":"IF(ISERROR(VLOOKUP(H5605,Database!$B$1:$C$5908,2,FALSE)),\"\",VLOOKUP(H5605,Database!$B$1:$C$5908,2,FALSE))","v":""},"",{"$error":"#N/A"},null,null,null,null,null,null,null,null,"",false,2,{"$f":"VLOOKUP(H5605,Database!$B$1:$E$4891,4,FALSE)","v":{"$error":"#N/A"}},true]
[5605,null,null,null,null,null,null,null,{"$f":"IF(ISERROR(VLOOKUP(H5610,Database!$B$1:$C$5908,2,FALSE)),\"\",VLOOKUP(H5610,Database!$B$1:$C$5908,2,FALSE))","v":""},"",{"$error":"#N/A"},null,null,null,null,null,null,null,null,"",false,2,{"$f":"VLOOKUP(H5610,Database!$B$1:$E$4891,4,FALSE)","v":{"$error":"#N/A"}},true]
[5609,null,null,null,null,null,null,null,{"$f":"IF(ISERROR(VLOOKUP(H5614,Database!$B$1:$C$5908,2,FALSE)),\"\",VLOOKUP(H5614,Database!$B$1:$C$5908,2,FALSE))","v":""},"",{"$error":"#N/A"},null,null,null,null,null,null,null,null,"",false,2,{"$f":"VLOOKUP(H5614,Database!$B$1:$E$4891,4,FALSE)","v":{"$error":"#N/A"}},true]
[5615,null,null,null,null,null,null,null,{"$f":"IF(ISERROR(VLOOKUP(H5620,Database!$B$1:$C$5908,2,FALSE)),\"\",VLOOKUP(H5620,Database!$B$1:$C$5908,2,FALSE))","v":""},"",{"$error":"#N/A"},null,null,null,null,null,null,null,null,"",false,2,{"$f":"VLOOKUP(H5620,Database!$B$1:$E$4891,4,FALSE)","v":{"$error":"#N/A"}},true]
[5620,null,null,null,null,null,null,null,{"$f":"IF(ISERROR(VLOOKUP(H5625,Database!$B$1:$C$5908,2,FALSE)),\"\",VLOOKUP(H5625,Database!$B$1:$C$5908,2,FALSE))","v":""},"",{"$error":"#N/A"},null,null,null,null,null,null,null,null,"",false,2,{"$f":"VLOOKUP(H5625,Database!$B$1:$E$4891,4,FALSE)","v":{"$error":"#N/A"}},true]
[5626,null,null,null,null,null,null,null,{"$f":"IF(ISERROR(VLOOKUP(H5631,Database!$B$1:$C$5908,2,FALSE)),\"\",VLOOKUP(H5631,Database!$B$1:$C$5908,2,FALSE))","v":""},"",{"$error":"#N/A"},null,null,null,null,null,null,null,null,"",false,2,{"$f":"VLOOKUP(H5631,Database!$B$1:$E$4891,4,FALSE)","v":{"$error":"#N/A"}},true]
[5628,null,null,null,null,null,null,null,{"$f":"IF(ISERROR(VLOOKUP(H5633,Database!$B$1:$C$5908,2,FALSE)),\"\",VLOOKUP(H5633,Database!$B$1:$C$5908,2,FALSE))","v":""},"",{"$error":"#N/A"},null,null,null,null,null,null,null,null,"",false,2,{"$f":"VLOOKUP(H5633,Database!$B$1:$E$4891,4,FALSE)","v":{"$error":"#N/A"}},true]
[5635,null,null,null,null,null,null,null,{"$f":"IF(ISERROR(VLOOKUP(H5640,Database!$B$1:$C$5908,2,FALSE)),\"\",VLOOKUP(H5640,Database!$B$1:$C$5908,2,FALSE))","v":""},"",{"$error":"#N/A"},null,null,null,null,null,null,null,null,"",false,{"$f":"IF(H5640=\"-\",\"\",IF(AND(T5640=0,U5640=FALSE,I5640=\"\"),1,2))","v":2},{"$f":"VLOOKUP(H5640,Database!$B$1:$E$4891,4,FALSE)","v":{"$error":"#N/A"}},true]
[5641,null,null,null,null,null,null,null,{"$f":"IF(ISERROR(VLOOKUP(H5646,Database!$B$1:$C$5908,2,FALSE)),\"\",VLOOKUP(H5646,Database!$B$1:$C$5908,2,FALSE))","v":""},"",{"$error":"#N/A"},null,null,null,null,null,null,null,null,"",false,2,{"$f":"VLOOKUP(H5646,Database!$B$1:$E$4891,4,FALSE)","v":{"$error":"#N/A"}},true]
[5646,null,null,null,null,null,null,null,{"$f":"IF(ISERROR(VLOOKUP(H5651,Database!$B$1:$C$5908,2,FALSE)),\"\",VLOOKUP(H5651,Database!$B$1:$C$5908,2,FALSE))","v":""},"",{"$error":"#N/A"},null,null,null,null,null,null,null,null,"",false,2,{"$f":"VLOOKUP(H5651,Database!$B$1:$E$4891,4,FALSE)","v":{"$error":"#N/A"}},true]
[5647,null,null,null,null,null,null,null,{"$f":"IF(ISERROR(VLOOKUP(H5652,Database!$B$1:$C$5908,2,FALSE)),\"\",VLOOKUP(H5652,Database!$B$1:$C$5908,2,FALSE))","v":""},"",{"$error":"#N/A"},null,null,null,null,null,null,null,null,"",false,2,{"$f":"VLOOKUP(H5652,Database!$B$1:$E$4891,4,FALSE)","v":{"$error":"#N/A"}},true]
[5651,null,null,null,null,null,null,null,{"$f":"IF(ISERROR(VLOOKUP(H5656,Database!$B$1:$C$5908,2,FALSE)),\"\",VLOOKUP(H5656,Database!$B$1:$C$5908,2,FALSE))","v":""},"",{"$error":"#N/A"},null,null,null,null,null,null,null,null,"",false,2,{"$f":"VLOOKUP(H5656,Database!$B$1:$E$4891,4,FALSE)","v":{"$error":"#N/A"}},true]
[5656,null,null,null,null,null,null,null,{"$f":"IF(ISERROR(VLOOKUP(H5661,Database!$B$1:$C$5908,2,FALSE)),\"\",VLOOKUP(H5661,Database!$B$1:$C$5908,2,FALSE))","v":""},"",{"$error":"#N/A"},null,null,null,null,null,null,null,null,"",false,2,{"$f":"VLOOKUP(H5661,Database!$B$1:$E$4891,4,FALSE)","v":{"$error":"#N/A"}},true]
[5662,null,null,null,null,null,null,null,{"$f":"IF(ISERROR(VLOOKUP(H5667,Database!$B$1:$C$5908,2,FALSE)),\"\",VLOOKUP(H5667,Database!$B$1:$C$5908,2,FALSE))","v":""},"",{"$error":"#N/A"},null,null,null,null,null,null,null,null,"",false,2,{"$f":"VLOOKUP(H5667,Database!$B$1:$E$4891,4,FALSE)","v":{"$error":"#N/A"}},true]
[5666,null,null,null,null,null,null,null,{"$f":"IF(ISERROR(VLOOKUP(H5671,Database!$B$1:$C$5908,2,FALSE)),\"\",VLOOKUP(H5671,Database!$B$1:$C$5908,2,FALSE))","v":""},"",{"$error":"#N/A"},null,null,null,null,null,null,null,null,"",false,2,{"$f":"VLOOKUP(H5671,Database!$B$1:$E$4891,4,FALSE)","v":{"$error":"#N/A"}},true]
[5671,null,null,null,null,null,null,null,{"$f":"IF(ISERROR(VLOOKUP(H5676,Database!$B$1:$C$5908,2,FALSE)),\"\",VLOOKUP(H5676,Database!$B$1:$C$5908,2,FALSE))","v":""},"",{"$error":"#N/A"},null,null,null,null,null,null,null,null,"",false,2,{"$f":"VLOOKUP(H5676,Database!$B$1:$E$4891,4,FALSE)","v":{"$error":"#N/A"}},true]
[5677,null,null,null,null,null,null,null,{"$f":"IF(ISERROR(VLOOKUP(H5682,Database!$B$1:$C$5908,2,FALSE)),\"\",VLOOKUP(H5682,Database!$B$1:$C$5908,2,FALSE))","v":""},"",{"$error":"#N/A"},null,null,null,null,null,null,null,null,"",false,2,{"$f":"VLOOKUP(H5682,Database!$B$1:$E$4891,4,FALSE)","v":{"$error":"#N/A"}},true]
[5682,null,null,null,null,null,null,null,{"$f":"IF(ISERROR(VLOOKUP(H5687,Database!$B$1:$C$5908,2,FALSE)),\"\",VLOOKUP(H5687,Database!$B$1:$C$5908,2,FALSE))","v":""},"",{"$error":"#N/A"},null,null,null,null,null,null,null,null,"",false,2,{"$f":"VLOOKUP(H5687,Database!$B$1:$E$4891,4,FALSE)","v":{"$error":"#N/A"}},true]
[5685,null,null,null,null,null,null,null,{"$f":"IF(ISERROR(VLOOKUP(H5690,Database!$B$1:$C$5908,2,FALSE)),\"\",VLOOKUP(H5690,Database!$B$1:$C$5908,2,FALSE))","v":""},"",{"$error":"#N/A"},null,null,null,null,null,null,null,null,"",false,2,{"$f":"VLOOKUP(H5690,Database!$B$1:$E$4891,4,FALSE)","v":{"$error":"#N/A"}},true]
[5692,null,null,null,null,null,null,null,{"$f":"IF(ISERROR(VLOOKUP(H5697,Database!$B$1:$C$5908,2,FALSE)),\"\",VLOOKUP(H5697,Database!$B$1:$C$5908,2,FALSE))","v":""},"",{"$error":"#N/A"},null,null,null,null,null,null,null,null,"",false,2,{"$f":"VLOOKUP(H5697,Database!$B$1:$E$4891,4,FALSE)","v":{"$error":"#N/A"}},true]
[5697,null,null,null,null,null,null,null,{"$f":"IF(ISERROR(VLOOKUP(H5702,Database!$B$1:$C$5908,2,FALSE)),\"\",VLOOKUP(H5702,Database!$B$1:$C$5908,2,FALSE))","v":""},"",{"$error":"#N/A"},null,null,null,null,null,null,null,null,"",false,2,{"$f":"VLOOKUP(H5702,Database!$B$1:$E$4891,4,FALSE)","v":{"$error":"#N/A"}},true]
[5703,null,null,null,null,null,null,null,{"$f":"IF(ISERROR(VLOOKUP(H5708,Database!$B$1:$C$5908,2,FALSE)),\"\",VLOOKUP(H5708,Database!$B$1:$C$5908,2,FALSE))","v":""},"",{"$error":"#N/A"},null,null,null,null,null,null,null,null,"",false,2,{"$f":"VLOOKUP(H5708,Database!$B$1:$E$4891,4,FALSE)","v":{"$error":"#N/A"}},true]
[5704,null,null,null,null,null,null,null,{"$f":"IF(ISERROR(VLOOKUP(H5709,Database!$B$1:$C$5908,2,FALSE)),\"\",VLOOKUP(H5709,Database!$B$1:$C$5908,2,FALSE))","v":""},"",{"$error":"#N/A"},null,null,null,null,null,null,null,null,"",false,2,{"$f":"VLOOKUP(H5709,Database!$B$1:$E$4891,4,FALSE)","v":{"$error":"#N/A"}},true]
[5712,null,null,null,null,null,null,null,{"$f":"IF(ISERROR(VLOOKUP(H5717,Database!$B$1:$C$5908,2,FALSE)),\"\",VLOOKUP(H5717,Database!$B$1:$C$5908,2,FALSE))","v":""},"",{"$error":"#N/A"},null,null,null,null,null,null,null,null,"",false,2,{"$f":"VLOOKUP(H5717,Database!$B$1:$E$4891,4,FALSE)","v":{"$error":"#N/A"}},true]
[5713,null,null,null,null,null,null,null,{"$f":"IF(ISERROR(VLOOKUP(H5718,Database!$B$1:$C$5908,2,FALSE)),\"\",VLOOKUP(H5718,Database!$B$1:$C$5908,2,FALSE))","v":""},"",{"$error":"#N/A"},null,null,null,null,null,null,null,null,"",false,2,{"$f":"VLOOKUP(H5718,Database!$B$1:$E$4891,4,FALSE)","v":{"$error":"#N/A"}},true]
[5718,null,null,null,null,null,null,null,{"$f":"IF(ISERROR(VLOOKUP(H5723,Database!$B$1:$C$5908,2,FALSE)),\"\",VLOOKUP(H5723,Database!$B$1:$C$5908,2,FALSE))","v":""},"",{"$error":"#N/A"},null,null,null,null,null,null,null,null,"",false,2,{"$f":"VLOOKUP(H5723,Database!$B$1:$E$4891,4,FALSE)","v":{"$error":"#N/A"}},true]
[5723,null,null,null,null,null,null,null,{"$f":"IF(ISERROR(VLOOKUP(H5728,Database!$B$1:$C$5908,2,FALSE)),\"\",VLOOKUP(H5728,Database!$B$1:$C$5908,2,FALSE))","v":""},"",{"$error":"#N/A"},null,null,null,null,null,null,null,null,"",false,2,{"$f":"VLOOKUP(H5728,Database!$B$1:$E$4891,4,FALSE)","v":{"$error":"#N/A"}},true]
[5728,null,null,null,null,null,null,null,{"$f":"IF(ISERROR(VLOOKUP(H5733,Database!$B$1:$C$5908,2,FALSE)),\"\",VLOOKUP(H5733,Database!$B$1:$C$5908,2,FALSE))","v":""},"",{"$error":"#N/A"},null,null,null,null,null,null,null,null,"",false,2,{"$f":"VLOOKUP(H5733,Database!$B$1:$E$4891,4,FALSE)","v":{"$error":"#N/A"}},true]
[5733,null,null,null,null,null,null,null,{"$f":"IF(ISERROR(VLOOKUP(H5738,Database!$B$1:$C$5908,2,FALSE)),\"\",VLOOKUP(H5738,Database!$B$1:$C$5908,2,FALSE))","v":""},"",{"$error":"#N/A"},null,null,null,null,null,null,null,null,"",false,2,{"$f":"VLOOKUP(H5738,Database!$B$1:$E$4891,4,FALSE)","v":{"$error":"#N/A"}},true]
[5739,null,null,null,null,null,null,null,{"$f":"IF(ISERROR(VLOOKUP(H5744,Database!$B$1:$C$5908,2,FALSE)),\"\",VLOOKUP(H5744,Database!$B$1:$C$5908,2,FALSE))","v":""},"",{"$error":"#N/A"},null,null,null,null,null,null,null,null,"",false,2,{"$f":"VLOOKUP(H5744,Database!$B$1:$E$4891,4,FALSE)","v":{"$error":"#N/A"}},true]
[5744,null,null,null,null,null,null,null,{"$f":"IF(ISERROR(VLOOKUP(H5749,Database!$B$1:$C$5908,2,FALSE)),\"\",VLOOKUP(H5749,Database!$B$1:$C$5908,2,FALSE))","v":""},"",{"$error":"#N/A"},null,null,null,null,null,null,null,null,"",false,2,{"$f":"VLOOKUP(H5749,Database!$B$1:$E$4891,4,FALSE)","v":{"$error":"#N/A"}},true]
[5747,null,null,null,null,null,null,null,{"$f":"IF(ISERROR(VLOOKUP(H5752,Database!$B$1:$C$5908,2,FALSE)),\"\",VLOOKUP(H5752,Database!$B$1:$C$5908,2,FALSE))","v":""},"",{"$error":"#N/A"},null,null,null,null,null,null,null,null,"",false,2,{"$f":"VLOOKUP(H5752,Database!$B$1:$E$4891,4,FALSE)","v":{"$error":"#N/A"}},true]
[5748,null,null,null,null,null,null,null,{"$f":"IF(ISERROR(VLOOKUP(H5753,Database!$B$1:$C$5908,2,FALSE)),\"\",VLOOKUP(H5753,Database!$B$1:$C$5908,2,FALSE))","v":""},"",{"$error":"#N/A"},null,null,null,null,null,null,null,null,"",false,2,{"$f":"VLOOKUP(H5753,Database!$B$1:$E$4891,4,FALSE)","v":{"$error":"#N/A"}},true]
[5749,null,null,null,null,null,null,null,{"$f":"IF(ISERROR(VLOOKUP(H5754,Database!$B$1:$C$5908,2,FALSE)),\"\",VLOOKUP(H5754,Database!$B$1:$C$5908,2,FALSE))","v":""},"",{"$error":"#N/A"},null,null,null,null,null,null,null,null,"",false,2,{"$f":"VLOOKUP(H5754,Database!$B$1:$E$4891,4,FALSE)","v":{"$error":"#N/A"}},true]
[5750,null,null,null,null,null,null,null,{"$f":"IF(ISERROR(VLOOKUP(H5755,Database!$B$1:$C$5908,2,FALSE)),\"\",VLOOKUP(H5755,Database!$B$1:$C$5908,2,FALSE))","v":""},"",{"$error":"#N/A"},null,null,null,null,null,null,null,null,"",false,2,{"$f":"VLOOKUP(H5755,Database!$B$1:$E$4891,4,FALSE)","v":{"$error":"#N/A"}},true]
[5751,null,null,null,null,null,null,null,{"$f":"IF(ISERROR(VLOOKUP(H5756,Database!$B$1:$C$5908,2,FALSE)),\"\",VLOOKUP(H5756,Database!$B$1:$C$5908,2,FALSE))","v":""},"",{"$error":"#N/A"},null,null,null,null,null,null,null,null,"",false,2,{"$f":"VLOOKUP(H5756,Database!$B$1:$E$4891,4,FALSE)","v":{"$error":"#N/A"}},true]
[5752,null,null,null,null,null,null,null,{"$f":"IF(ISERROR(VLOOKUP(H5757,Database!$B$1:$C$5908,2,FALSE)),\"\",VLOOKUP(H5757,Database!$B$1:$C$5908,2,FALSE))","v":""},"",{"$error":"#N/A"},null,null,null,null,null,null,null,null,"",false,2,{"$f":"VLOOKUP(H5757,Database!$B$1:$E$4891,4,FALSE)","v":{"$error":"#N/A"}},true]
[5753,null,null,null,null,null,null,null,{"$f":"IF(ISERROR(VLOOKUP(H5758,Database!$B$1:$C$5908,2,FALSE)),\"\",VLOOKUP(H5758,Database!$B$1:$C$5908,2,FALSE))","v":""},"",{"$error":"#N/A"},null,null,null,null,null,null,null,null,"",false,2,{"$f":"VLOOKUP(H5758,Database!$B$1:$E$4891,4,FALSE)","v":{"$error":"#N/A"}},true]
[5754,null,null,null,null,null,null,null,{"$f":"IF(ISERROR(VLOOKUP(H5759,Database!$B$1:$C$5908,2,FALSE)),\"\",VLOOKUP(H5759,Database!$B$1:$C$5908,2,FALSE))","v":""},"",{"$error":"#N/A"},null,null,null,null,null,null,null,null,"",false,2,{"$f":"VLOOKUP(H5759,Database!$B$1:$E$4891,4,FALSE)","v":{"$error":"#N/A"}},true]
[5755,null,null,null,null,null,null,null,{"$f":"IF(ISERROR(VLOOKUP(H5760,Database!$B$1:$C$5908,2,FALSE)),\"\",VLOOKUP(H5760,Database!$B$1:$C$5908,2,FALSE))","v":""},"",{"$error":"#N/A"},null,null,null,null,null,null,null,null,"",false,2,{"$f":"VLOOKUP(H5760,Database!$B$1:$E$4891,4,FALSE)","v":{"$error":"#N/A"}},true]
[5756,null,null,null,null,null,null,null,{"$f":"IF(ISERROR(VLOOKUP(H5761,Database!$B$1:$C$5908,2,FALSE)),\"\",VLOOKUP(H5761,Database!$B$1:$C$5908,2,FALSE))","v":""},"",{"$error":"#N/A"},null,null,null,null,null,null,null,null,"",false,2,{"$f":"VLOOKUP(H5761,Database!$B$1:$E$4891,4,FALSE)","v":{"$error":"#N/A"}},true]
[5757,null,null,null,null,null,null,null,{"$f":"IF(ISERROR(VLOOKUP(H5762,Database!$B$1:$C$5908,2,FALSE)),\"\",VLOOKUP(H5762,Database!$B$1:$C$5908,2,FALSE))","v":""},"",{"$error":"#N/A"},null,null,null,null,null,null,null,null,"",false,2,{"$f":"VLOOKUP(H5762,Database!$B$1:$E$4891,4,FALSE)","v":{"$error":"#N/A"}},true]
[5758,null,null,null,null,null,null,null,{"$f":"IF(ISERROR(VLOOKUP(H5763,Database!$B$1:$C$5908,2,FALSE)),\"\",VLOOKUP(H5763,Database!$B$1:$C$5908,2,FALSE))","v":""},"",{"$error":"#N/A"},null,null,null,null,null,null,null,null,"",false,2,{"$f":"VLOOKUP(H5763,Database!$B$1:$E$4891,4,FALSE)","v":{"$error":"#N/A"}},true]
[5759,null,null,null,null,null,null,null,{"$f":"IF(ISERROR(VLOOKUP(H5764,Database!$B$1:$C$5908,2,FALSE)),\"\",VLOOKUP(H5764,Database!$B$1:$C$5908,2,FALSE))","v":""},"",{"$error":"#N/A"},null,null,null,null,null,null,null,null,"",false,2,{"$f":"VLOOKUP(H5764,Database!$B$1:$E$4891,4,FALSE)","v":{"$error":"#N/A"}},true]
[5760,null,null,null,null,null,null,null,{"$f":"IF(ISERROR(VLOOKUP(H5765,Database!$B$1:$C$5908,2,FALSE)),\"\",VLOOKUP(H5765,Database!$B$1:$C$5908,2,FALSE))","v":""},"",{"$error":"#N/A"},null,null,null,null,null,null,null,null,"",false,2,{"$f":"VLOOKUP(H5765,Database!$B$1:$E$4891,4,FALSE)","v":{"$error":"#N/A"}},true]
[5761,null,null,null,null,null,null,null,{"$f":"IF(ISERROR(VLOOKUP(H5766,Database!$B$1:$C$5908,2,FALSE)),\"\",VLOOKUP(H5766,Database!$B$1:$C$5908,2,FALSE))","v":""},"",{"$error":"#N/A"},null,null,null,null,null,null,null,null,"",false,2,{"$f":"VLOOKUP(H5766,Database!$B$1:$E$4891,4,FALSE)","v":{"$error":"#N/A"}},true]
[{"$f":"A5766+1","v":5762},null,null,null,null,null,null,null,{"$f":"IF(ISERROR(VLOOKUP(H5767,Database!$B$1:$C$5908,2,FALSE)),\"\",VLOOKUP(H5767,Database!$B$1:$C$5908,2,FALSE))","v":""},{"$f":"IF(V5767=1,1,IF(AND(T5767=0,F5767=\"SSB\",V5767<>\"\"),2,IF(AND(T5767=0,F5767=\"FM\",V5767<>\"\"),2,IF(AND(T5767=0,F5767=\"DIGI\",V5767<>\"\"),3,IF(AND(T5767=0,F5767=\"CW\",V5767<>\"\"),5,IF(H5767=\"-\",\"\",T5767))))))","v":""},{"$f":"IF(H5767=\"-\",\"\",IF(AND(H5767<>\"\",X5767=TRUE),\"INDIPENDENT\",IF(W5767=0,\"SCRIVI NOME NELLE NOTE\",W5767)))","v":{"$error":"#N/A"}},null,null,null,null,null,null,null,null,{"$f":"IF(H5767=\"\",\"\",IF(H5767=$R$6,25,IF(OR(H5767=$R$7,H5767=$R$8,H5767=$R$9,H5767=$R$10,H5767=$R$11,H5767=$R$12,H5767=$R$13,H5767=$R$14,H5767=$R$15,H5767=$R$16,H5767=$R$17,H5767=$R$18,H5767=$R$19,H5767=$R$20,H5767=$R$21,H5767=$R$22,H5767=$R$23),15,0)))","v":""},{"$f":"ISERROR(I5767)","v":false},2,{"$f":"VLOOKUP(H5767,Database!$B$1:$E$4891,4,FALSE)","v":{"$error":"#N/A"}},{"$f":"ISERROR(W5767)","v":true}]
[5763,null,null,null,null,null,null,null,{"$f":"IF(ISERROR(VLOOKUP(H5768,Database!$B$1:$C$5908,2,FALSE)),\"\",VLOOKUP(H5768,Database!$B$1:$C$5908,2,FALSE))","v":""},"",{"$error":"#N/A"},null,null,null,null,null,null,null,null,"",false,{"$f":"IF(H5768=\"-\",\"\",IF(AND(T5768=0,U5768=FALSE,I5768=\"\"),1,2))","v":2},{"$f":"VLOOKUP(H5768,Database!$B$1:$E$4891,4,FALSE)","v":{"$error":"#N/A"}},true]
[5764,null,null,null,null,null,null,null,{"$f":"IF(ISERROR(VLOOKUP(H5769,Database!$B$1:$C$5908,2,FALSE)),\"\",VLOOKUP(H5769,Database!$B$1:$C$5908,2,FALSE))","v":""},"",{"$error":"#N/A"},null,null,null,null,null,null,null,null,"",false,2,{"$f":"VLOOKUP(H5769,Database!$B$1:$E$4891,4,FALSE)","v":{"$error":"#N/A"}},true]
[5765,null,null,null,null,null,null,null,{"$f":"IF(ISERROR(VLOOKUP(H5770,Database!$B$1:$C$5908,2,FALSE)),\"\",VLOOKUP(H5770,Database!$B$1:$C$5908,2,FALSE))","v":""},"",{"$error":"#N/A"},null,null,null,null,null,null,null,null,"",false,2,{"$f":"VLOOKUP(H5770,Database!$B$1:$E$4891,4,FALSE)","v":{"$error":"#N/A"}},true]
[5766,null,null,null,null,null,null,null,{"$f":"IF(ISERROR(VLOOKUP(H5771,Database!$B$1:$C$5908,2,FALSE)),\"\",VLOOKUP(H5771,Database!$B$1:$C$5908,2,FALSE))","v":""},"",{"$error":"#N/A"},null,null,null,null,null,null,null,null,"",false,2,{"$f":"VLOOKUP(H5771,Database!$B$1:$E$4891,4,FALSE)","v":{"$error":"#N/A"}},true]
[5767,null,null,null,null,null,null,null,{"$f":"IF(ISERROR(VLOOKUP(H5772,Database!$B$1:$C$5908,2,FALSE)),\"\",VLOOKUP(H5772,Database!$B$1:$C$5908,2,FALSE))","v":""},"",{"$error":"#N/A"},null,null,null,null,null,null,null,null,"",false,2,{"$f":"VLOOKUP(H5772,Database!$B$1:$E$4891,4,FALSE)","v":{"$error":"#N/A"}},true]
[5768,null,null,null,null,null,null,null,{"$f":"IF(ISERROR(VLOOKUP(H5773,Database!$B$1:$C$5908,2,FALSE)),\"\",VLOOKUP(H5773,Database!$B$1:$C$5908,2,FALSE))","v":""},"",{"$error":"#N/A"},null,null,null,null,null,null,null,null,"",false,2,{"$f":"VLOOKUP(H5773,Database!$B$1:$E$4891,4,FALSE)","v":{"$error":"#N/A"}},true]
[5769,null,null,null,null,null,null,null,{"$f":"IF(ISERROR(VLOOKUP(H5774,Database!$B$1:$C$5908,2,FALSE)),\"\",VLOOKUP(H5774,Database!$B$1:$C$5908,2,FALSE))","v":""},"",{"$error":"#N/A"},null,null,null,null,null,null,null,null,"",false,2,{"$f":"VLOOKUP(H5774,Database!$B$1:$E$4891,4,FALSE)","v":{"$error":"#N/A"}},true]
[5770,null,null,null,null,null,null,null,{"$f":"IF(ISERROR(VLOOKUP(H5775,Database!$B$1:$C$5908,2,FALSE)),\"\",VLOOKUP(H5775,Database!$B$1:$C$5908,2,FALSE))","v":""},"",{"$error":"#N/A"},null,null,null,null,null,null,null,null,"",false,2,{"$f":"VLOOKUP(H5775,Database!$B$1:$E$4891,4,FALSE)","v":{"$error":"#N/A"}},true]
[5771,null,null,null,null,null,null,null,{"$f":"IF(ISERROR(VLOOKUP(H5776,Database!$B$1:$C$5908,2,FALSE)),\"\",VLOOKUP(H5776,Database!$B$1:$C$5908,2,FALSE))","v":""},"",{"$error":"#N/A"},null,null,null,null,null,null,null,null,"",false,2,{"$f":"VLOOKUP(H5776,Database!$B$1:$E$4891,4,FALSE)","v":{"$error":"#N/A"}},true]
[5772,null,null,null,null,null,null,null,{"$f":"IF(ISERROR(VLOOKUP(H5777,Database!$B$1:$C$5908,2,FALSE)),\"\",VLOOKUP(H5777,Database!$B$1:$C$5908,2,FALSE))","v":""},"",{"$error":"#N/A"},null,null,null,null,null,null,null,null,"",false,2,{"$f":"VLOOKUP(H5777,Database!$B$1:$E$4891,4,FALSE)","v":{"$error":"#N/A"}},true]
[5773,null,null,null,null,null,null,null,{"$f":"IF(ISERROR(VLOOKUP(H5778,Database!$B$1:$C$5908,2,FALSE)),\"\",VLOOKUP(H5778,Database!$B$1:$C$5908,2,FALSE))","v":""},"",{"$error":"#N/A"},null,null,null,null,null,null,null,null,"",false,2,{"$f":"VLOOKUP(H5778,Database!$B$1:$E$4891,4,FALSE)","v":{"$error":"#N/A"}},true]
[5774,null,null,null,null,null,null,null,{"$f":"IF(ISERROR(VLOOKUP(H5779,Database!$B$1:$C$5908,2,FALSE)),\"\",VLOOKUP(H5779,Database!$B$1:$C$5908,2,FALSE))","v":""},"",{"$error":"#N/A"},null,null,null,null,null,null,null,null,"",false,2,{"$f":"VLOOKUP(H5779,Database!$B$1:$E$4891,4,FALSE)","v":{"$error":"#N/A"}},true]
[5775,null,null,null,null,null,null,null,{"$f":"IF(ISERROR(VLOOKUP(H5780,Database!$B$1:$C$5908,2,FALSE)),\"\",VLOOKUP(H5780,Database!$B$1:$C$5908,2,FALSE))","v":""},"",{"$error":"#N/A"},null,null,null,null,null,null,null,null,"",false,2,{"$f":"VLOOKUP(H5780,Database!$B$1:$E$4891,4,FALSE)","v":{"$error":"#N/A"}},true]
[5776,null,null,null,null,null,null,null,{"$f":"IF(ISERROR(VLOOKUP(H5781,Database!$B$1:$C$5908,2,FALSE)),\"\",VLOOKUP(H5781,Database!$B$1:$C$5908,2,FALSE))","v":""},"",{"$error":"#N/A"},null,null,null,null,null,null,null,null,"",false,2,{"$f":"VLOOKUP(H5781,Database!$B$1:$E$4891,4,FALSE)","v":{"$error":"#N/A"}},true]
[5777,null,null,null,null,null,null,null,{"$f":"IF(ISERROR(VLOOKUP(H5782,Database!$B$1:$C$5908,2,FALSE)),\"\",VLOOKUP(H5782,Database!$B$1:$C$5908,2,FALSE))","v":""},"",{"$error":"#N/A"},null,null,null,null,null,null,null,null,"",false,2,{"$f":"VLOOKUP(H5782,Database!$B$1:$E$4891,4,FALSE)","v":{"$error":"#N/A"}},true]
[5778,null,null,null,null,null,null,null,{"$f":"IF(ISERROR(VLOOKUP(H5783,Database!$B$1:$C$5908,2,FALSE)),\"\",VLOOKUP(H5783,Database!$B$1:$C$5908,2,FALSE))","v":""},"",{"$error":"#N/A"},null,null,null,null,null,null,null,null,"",false,2,{"$f":"VLOOKUP(H5783,Database!$B$1:$E$4891,4,FALSE)","v":{"$error":"#N/A"}},true]
[5779,null,null,null,null,null,null,null,{"$f":"IF(ISERROR(VLOOKUP(H5784,Database!$B$1:$C$5908,2,FALSE)),\"\",VLOOKUP(H5784,Database!$B$1:$C$5908,2,FALSE))","v":""},"",{"$error":"#N/A"},null,null,null,null,null,null,null,null,"",false,2,{"$f":"VLOOKUP(H5784,Database!$B$1:$E$4891,4,FALSE)","v":{"$error":"#N/A"}},true]
[5780,null,null,null,null,null,null,null,{"$f":"IF(ISERROR(VLOOKUP(H5785,Database!$B$1:$C$5908,2,FALSE)),\"\",VLOOKUP(H5785,Database!$B$1:$C$5908,2,FALSE))","v":""},"",{"$error":"#N/A"},null,null,null,null,null,null,null,null,"",false,2,{"$f":"VLOOKUP(H5785,Database!$B$1:$E$4891,4,FALSE)","v":{"$error":"#N/A"}},true]
[5781,null,null,null,null,null,null,null,{"$f":"IF(ISERROR(VLOOKUP(H5786,Database!$B$1:$C$5908,2,FALSE)),\"\",VLOOKUP(H5786,Database!$B$1:$C$5908,2,FALSE))","v":""},"",{"$error":"#N/A"},null,null,null,null,null,null,null,null,"",false,2,{"$f":"VLOOKUP(H5786,Database!$B$1:$E$4891,4,FALSE)","v":{"$error":"#N/A"}},true]
[5782,null,null,null,null,null,null,null,{"$f":"IF(ISERROR(VLOOKUP(H5787,Database!$B$1:$C$5908,2,FALSE)),\"\",VLOOKUP(H5787,Database!$B$1:$C$5908,2,FALSE))","v":""},"",{"$error":"#N/A"},null,null,null,null,null,null,null,null,"",false,2,{"$f":"VLOOKUP(H5787,Database!$B$1:$E$4891,4,FALSE)","v":{"$error":"#N/A"}},true]
[5783,null,null,null,null,null,null,null,{"$f":"IF(ISERROR(VLOOKUP(H5788,Database!$B$1:$C$5908,2,FALSE)),\"\",VLOOKUP(H5788,Database!$B$1:$C$5908,2,FALSE))","v":""},"",{"$error":"#N/A"},null,null,null,null,null,null,null,null,"",false,2,{"$f":"VLOOKUP(H5788,Database!$B$1:$E$4891,4,FALSE)","v":{"$error":"#N/A"}},true]
[5784,null,null,null,null,null,null,null,{"$f":"IF(ISERROR(VLOOKUP(H5789,Database!$B$1:$C$5908,2,FALSE)),\"\",VLOOKUP(H5789,Database!$B$1:$C$5908,2,FALSE))","v":""},"",{"$error":"#N/A"},null,null,null,null,null,null,null,null,"",false,2,{"$f":"VLOOKUP(H5789,Database!$B$1:$E$4891,4,FALSE)","v":{"$error":"#N/A"}},true]
[5785,null,null,null,null,null,null,null,{"$f":"IF(ISERROR(VLOOKUP(H5790,Database!$B$1:$C$5908,2,FALSE)),\"\",VLOOKUP(H5790,Database!$B$1:$C$5908,2,FALSE))","v":""},"",{"$error":"#N/A"},null,null,null,null,null,null,null,null,"",false,2,{"$f":"VLOOKUP(H5790,Database!$B$1:$E$4891,4,FALSE)","v":{"$error":"#N/A"}},true]
[5786,null,null,null,null,null,null,null,{"$f":"IF(ISERROR(VLOOKUP(H5791,Database!$B$1:$C$5908,2,FALSE)),\"\",VLOOKUP(H5791,Database!$B$1:$C$5908,2,FALSE))","v":""},"",{"$error":"#N/A"},null,null,null,null,null,null,null,null,"",false,2,{"$f":"VLOOKUP(H5791,Database!$B$1:$E$4891,4,FALSE)","v":{"$error":"#N/A"}},true]
[5787,null,null,null,null,null,null,null,{"$f":"IF(ISERROR(VLOOKUP(H5792,Database!$B$1:$C$5908,2,FALSE)),\"\",VLOOKUP(H5792,Database!$B$1:$C$5908,2,FALSE))","v":""},"",{"$error":"#N/A"},null,null,null,null,null,null,null,null,"",false,2,{"$f":"VLOOKUP(H5792,Database!$B$1:$E$4891,4,FALSE)","v":{"$error":"#N/A"}},true]
[5788,null,null,null,null,null,null,null,{"$f":"IF(ISERROR(VLOOKUP(H5793,Database!$B$1:$C$5908,2,FALSE)),\"\",VLOOKUP(H5793,Database!$B$1:$C$5908,2,FALSE))","v":""},"",{"$error":"#N/A"},null,null,null,null,null,null,null,null,"",false,2,{"$f":"VLOOKUP(H5793,Database!$B$1:$E$4891,4,FALSE)","v":{"$error":"#N/A"}},true]
[5789,null,null,null,null,null,null,null,{"$f":"IF(ISERROR(VLOOKUP(H5794,Database!$B$1:$C$5908,2,FALSE)),\"\",VLOOKUP(H5794,Database!$B$1:$C$5908,2,FALSE))","v":""},"",{"$error":"#N/A"},null,null,null,null,null,null,null,null,"",false,2,{"$f":"VLOOKUP(H5794,Database!$B$1:$E$4891,4,FALSE)","v":{"$error":"#N/A"}},true]
[5790,null,null,null,null,null,null,null,{"$f":"IF(ISERROR(VLOOKUP(H5795,Database!$B$1:$C$5908,2,FALSE)),\"\",VLOOKUP(H5795,Database!$B$1:$C$5908,2,FALSE))","v":""},"",{"$error":"#N/A"},null,null,null,null,null,null,null,null,"",false,2,{"$f":"VLOOKUP(H5795,Database!$B$1:$E$4891,4,FALSE)","v":{"$error":"#N/A"}},true]
[5791,null,null,null,null,null,null,null,{"$f":"IF(ISERROR(VLOOKUP(H5796,Database!$B$1:$C$5908,2,FALSE)),\"\",VLOOKUP(H5796,Database!$B$1:$C$5908,2,FALSE))","v":""},"",{"$error":"#N/A"},null,null,null,null,null,null,null,null,"",false,2,{"$f":"VLOOKUP(H5796,Database!$B$1:$E$4891,4,FALSE)","v":{"$error":"#N/A"}},true]
[5792,null,null,null,null,null,null,null,{"$f":"IF(ISERROR(VLOOKUP(H5797,Database!$B$1:$C$5908,2,FALSE)),\"\",VLOOKUP(H5797,Database!$B$1:$C$5908,2,FALSE))","v":""},"",{"$error":"#N/A"},null,null,null,null,null,null,null,null,"",false,2,{"$f":"VLOOKUP(H5797,Database!$B$1:$E$4891,4,FALSE)","v":{"$error":"#N/A"}},true]
[5793,null,null,null,null,null,null,null,{"$f":"IF(ISERROR(VLOOKUP(H5798,Database!$B$1:$C$5908,2,FALSE)),\"\",VLOOKUP(H5798,Database!$B$1:$C$5908,2,FALSE))","v":""},"",{"$error":"#N/A"},null,null,null,null,null,null,null,null,"",false,2,{"$f":"VLOOKUP(H5798,Database!$B$1:$E$4891,4,FALSE)","v":{"$error":"#N/A"}},true]
[5794,null,null,null,null,null,null,null,{"$f":"IF(ISERROR(VLOOKUP(H5799,Database!$B$1:$C$5908,2,FALSE)),\"\",VLOOKUP(H5799,Database!$B$1:$C$5908,2,FALSE))","v":""},"",{"$error":"#N/A"},null,null,null,null,null,null,null,null,"",false,2,{"$f":"VLOOKUP(H5799,Database!$B$1:$E$4891,4,FALSE)","v":{"$error":"#N/A"}},true]
[5795,null,null,null,null,null,null,null,{"$f":"IF(ISERROR(VLOOKUP(H5800,Database!$B$1:$C$5908,2,FALSE)),\"\",VLOOKUP(H5800,Database!$B$1:$C$5908,2,FALSE))","v":""},"",{"$error":"#N/A"},null,null,null,null,null,null,null,null,"",false,2,{"$f":"VLOOKUP(H5800,Database!$B$1:$E$4891,4,FALSE)","v":{"$error":"#N/A"}},true]
[5796,null,null,null,null,null,null,null,{"$f":"IF(ISERROR(VLOOKUP(H5801,Database!$B$1:$C$5908,2,FALSE)),\"\",VLOOKUP(H5801,Database!$B$1:$C$5908,2,FALSE))","v":""},"",{"$error":"#N/A"},null,null,null,null,null,null,null,null,"",false,2,{"$f":"VLOOKUP(H5801,Database!$B$1:$E$4891,4,FALSE)","v":{"$error":"#N/A"}},true]
[5797,null,null,null,null,null,null,null,{"$f":"IF(ISERROR(VLOOKUP(H5802,Database!$B$1:$C$5908,2,FALSE)),\"\",VLOOKUP(H5802,Database!$B$1:$C$5908,2,FALSE))","v":""},"",{"$error":"#N/A"},null,null,null,null,null,null,null,null,"",false,2,{"$f":"VLOOKUP(H5802,Database!$B$1:$E$4891,4,FALSE)","v":{"$error":"#N/A"}},true]
[5798,null,null,null,null,null,null,null,{"$f":"IF(ISERROR(VLOOKUP(H5803,Database!$B$1:$C$5908,2,FALSE)),\"\",VLOOKUP(H5803,Database!$B$1:$C$5908,2,FALSE))","v":""},"",{"$error":"#N/A"},null,null,null,null,null,null,null,null,"",false,2,{"$f":"VLOOKUP(H5803,Database!$B$1:$E$4891,4,FALSE)","v":{"$error":"#N/A"}},true]
[5799,null,null,null,null,null,null,null,{"$f":"IF(ISERROR(VLOOKUP(H5804,Database!$B$1:$C$5908,2,FALSE)),\"\",VLOOKUP(H5804,Database!$B$1:$C$5908,2,FALSE))","v":""},"",{"$error":"#N/A"},null,null,null,null,null,null,null,null,"",false,2,{"$f":"VLOOKUP(H5804,Database!$B$1:$E$4891,4,FALSE)","v":{"$error":"#N/A"}},true]
[5800,null,null,null,null,null,null,null,{"$f":"IF(ISERROR(VLOOKUP(H5805,Database!$B$1:$C$5908,2,FALSE)),\"\",VLOOKUP(H5805,Database!$B$1:$C$5908,2,FALSE))","v":""},"",{"$error":"#N/A"},null,null,null,null,null,null,null,null,"",false,2,{"$f":"VLOOKUP(H5805,Database!$B$1:$E$4891,4,FALSE)","v":{"$error":"#N/A"}},true]
[5801,null,null,null,null,null,null,null,{"$f":"IF(ISERROR(VLOOKUP(H5806,Database!$B$1:$C$5908,2,FALSE)),\"\",VLOOKUP(H5806,Database!$B$1:$C$5908,2,FALSE))","v":""},"",{"$error":"#N/A"},null,null,null,null,null,null,null,null,"",false,2,{"$f":"VLOOKUP(H5806,Database!$B$1:$E$4891,4,FALSE)","v":{"$error":"#N/A"}},true]
[5802,null,null,null,null,null,null,null,{"$f":"IF(ISERROR(VLOOKUP(H5807,Database!$B$1:$C$5908,2,FALSE)),\"\",VLOOKUP(H5807,Database!$B$1:$C$5908,2,FALSE))","v":""},"",{"$error":"#N/A"},null,null,null,null,null,null,null,null,"",false,2,{"$f":"VLOOKUP(H5807,Database!$B$1:$E$4891,4,FALSE)","v":{"$error":"#N/A"}},true]
[5803,null,null,null,null,null,null,null,{"$f":"IF(ISERROR(VLOOKUP(H5808,Database!$B$1:$C$5908,2,FALSE)),\"\",VLOOKUP(H5808,Database!$B$1:$C$5908,2,FALSE))","v":""},"",{"$error":"#N/A"},null,null,null,null,null,null,null,null,"",false,2,{"$f":"VLOOKUP(H5808,Database!$B$1:$E$4891,4,FALSE)","v":{"$error":"#N/A"}},true]
[5804,null,null,null,null,null,null,null,{"$f":"IF(ISERROR(VLOOKUP(H5809,Database!$B$1:$C$5908,2,FALSE)),\"\",VLOOKUP(H5809,Database!$B$1:$C$5908,2,FALSE))","v":""},"",{"$error":"#N/A"},null,null,null,null,null,null,null,null,"",false,2,{"$f":"VLOOKUP(H5809,Database!$B$1:$E$4891,4,FALSE)","v":{"$error":"#N/A"}},true]
[5805,null,null,null,null,null,null,null,{"$f":"IF(ISERROR(VLOOKUP(H5810,Database!$B$1:$C$5908,2,FALSE)),\"\",VLOOKUP(H5810,Database!$B$1:$C$5908,2,FALSE))","v":""},"",{"$error":"#N/A"},null,null,null,null,null,null,null,null,"",false,2,{"$f":"VLOOKUP(H5810,Database!$B$1:$E$4891,4,FALSE)","v":{"$error":"#N/A"}},true]
[5806,null,null,null,null,null,null,null,{"$f":"IF(ISERROR(VLOOKUP(H5811,Database!$B$1:$C$5908,2,FALSE)),\"\",VLOOKUP(H5811,Database!$B$1:$C$5908,2,FALSE))","v":""},"",{"$error":"#N/A"},null,null,null,null,null,null,null,null,"",false,2,{"$f":"VLOOKUP(H5811,Database!$B$1:$E$4891,4,FALSE)","v":{"$error":"#N/A"}},true]
[5807,null,null,null,null,null,null,null,{"$f":"IF(ISERROR(VLOOKUP(H5812,Database!$B$1:$C$5908,2,FALSE)),\"\",VLOOKUP(H5812,Database!$B$1:$C$5908,2,FALSE))","v":""},"",{"$error":"#N/A"},null,null,null,null,null,null,null,null,"",false,2,{"$f":"VLOOKUP(H5812,Database!$B$1:$E$4891,4,FALSE)","v":{"$error":"#N/A"}},true]
[5808,null,null,null,null,null,null,null,{"$f":"IF(ISERROR(VLOOKUP(H5813,Database!$B$1:$C$5908,2,FALSE)),\"\",VLOOKUP(H5813,Database!$B$1:$C$5908,2,FALSE))","v":""},"",{"$error":"#N/A"},null,null,null,null,null,null,null,null,"",false,2,{"$f":"VLOOKUP(H5813,Database!$B$1:$E$4891,4,FALSE)","v":{"$error":"#N/A"}},true]
[5809,null,null,null,null,null,null,null,{"$f":"IF(ISERROR(VLOOKUP(H5814,Database!$B$1:$C$5908,2,FALSE)),\"\",VLOOKUP(H5814,Database!$B$1:$C$5908,2,FALSE))","v":""},"",{"$error":"#N/A"},null,null,null,null,null,null,null,null,"",false,2,{"$f":"VLOOKUP(H5814,Database!$B$1:$E$4891,4,FALSE)","v":{"$error":"#N/A"}},true]
[5810,null,null,null,null,null,null,null,{"$f":"IF(ISERROR(VLOOKUP(H5815,Database!$B$1:$C$5908,2,FALSE)),\"\",VLOOKUP(H5815,Database!$B$1:$C$5908,2,FALSE))","v":""},"",{"$error":"#N/A"},null,null,null,null,null,null,null,null,"",false,2,{"$f":"VLOOKUP(H5815,Database!$B$1:$E$4891,4,FALSE)","v":{"$error":"#N/A"}},true]
[5811,null,null,null,null,null,null,null,{"$f":"IF(ISERROR(VLOOKUP(H5816,Database!$B$1:$C$5908,2,FALSE)),\"\",VLOOKUP(H5816,Database!$B$1:$C$5908,2,FALSE))","v":""},"",{"$error":"#N/A"},null,null,null,null,null,null,null,null,"",false,2,{"$f":"VLOOKUP(H5816,Database!$B$1:$E$4891,4,FALSE)","v":{"$error":"#N/A"}},true]
[5812,null,null,null,null,null,null,null,{"$f":"IF(ISERROR(VLOOKUP(H5817,Database!$B$1:$C$5908,2,FALSE)),\"\",VLOOKUP(H5817,Database!$B$1:$C$5908,2,FALSE))","v":""},"",{"$error":"#N/A"},null,null,null,null,null,null,null,null,"",false,2,{"$f":"VLOOKUP(H5817,Database!$B$1:$E$4891,4,FALSE)","v":{"$error":"#N/A"}},true]
[5813,null,null,null,null,null,null,null,{"$f":"IF(ISERROR(VLOOKUP(H5818,Database!$B$1:$C$5908,2,FALSE)),\"\",VLOOKUP(H5818,Database!$B$1:$C$5908,2,FALSE))","v":""},"",{"$error":"#N/A"},null,null,null,null,null,null,null,null,"",false,2,{"$f":"VLOOKUP(H5818,Database!$B$1:$E$4891,4,FALSE)","v":{"$error":"#N/A"}},true]
[5814,null,null,null,null,null,null,null,{"$f":"IF(ISERROR(VLOOKUP(H5819,Database!$B$1:$C$5908,2,FALSE)),\"\",VLOOKUP(H5819,Database!$B$1:$C$5908,2,FALSE))","v":""},"",{"$error":"#N/A"},null,null,null,null,null,null,null,null,"",false,2,{"$f":"VLOOKUP(H5819,Database!$B$1:$E$4891,4,FALSE)","v":{"$error":"#N/A"}},true]
[5815,null,null,null,null,null,null,null,{"$f":"IF(ISERROR(VLOOKUP(H5820,Database!$B$1:$C$5908,2,FALSE)),\"\",VLOOKUP(H5820,Database!$B$1:$C$5908,2,FALSE))","v":""},"",{"$error":"#N/A"},null,null,null,null,null,null,null,null,"",false,2,{"$f":"VLOOKUP(H5820,Database!$B$1:$E$4891,4,FALSE)","v":{"$error":"#N/A"}},true]
[5816,null,null,null,null,null,null,null,{"$f":"IF(ISERROR(VLOOKUP(H5821,Database!$B$1:$C$5908,2,FALSE)),\"\",VLOOKUP(H5821,Database!$B$1:$C$5908,2,FALSE))","v":""},"",{"$error":"#N/A"},null,null,null,null,null,null,null,null,"",false,2,{"$f":"VLOOKUP(H5821,Database!$B$1:$E$4891,4,FALSE)","v":{"$error":"#N/A"}},true]
[5817,null,null,null,null,null,null,null,{"$f":"IF(ISERROR(VLOOKUP(H5822,Database!$B$1:$C$5908,2,FALSE)),\"\",VLOOKUP(H5822,Database!$B$1:$C$5908,2,FALSE))","v":""},"",{"$error":"#N/A"},null,null,null,null,null,null,null,null,"",false,2,{"$f":"VLOOKUP(H5822,Database!$B$1:$E$4891,4,FALSE)","v":{"$error":"#N/A"}},true]
[5818,null,null,null,null,null,null,null,{"$f":"IF(ISERROR(VLOOKUP(H5823,Database!$B$1:$C$5908,2,FALSE)),\"\",VLOOKUP(H5823,Database!$B$1:$C$5908,2,FALSE))","v":""},"",{"$error":"#N/A"},null,null,null,null,null,null,null,null,"",false,2,{"$f":"VLOOKUP(H5823,Database!$B$1:$E$4891,4,FALSE)","v":{"$error":"#N/A"}},true]
[5819,null,null,null,null,null,null,null,{"$f":"IF(ISERROR(VLOOKUP(H5824,Database!$B$1:$C$5908,2,FALSE)),\"\",VLOOKUP(H5824,Database!$B$1:$C$5908,2,FALSE))","v":""},"",{"$error":"#N/A"},null,null,null,null,null,null,null,null,"",false,2,{"$f":"VLOOKUP(H5824,Database!$B$1:$E$4891,4,FALSE)","v":{"$error":"#N/A"}},true]
[5820,null,null,null,null,null,null,null,{"$f":"IF(ISERROR(VLOOKUP(H5825,Database!$B$1:$C$5908,2,FALSE)),\"\",VLOOKUP(H5825,Database!$B$1:$C$5908,2,FALSE))","v":""},"",{"$error":"#N/A"},null,null,null,null,null,null,null,null,"",false,2,{"$f":"VLOOKUP(H5825,Database!$B$1:$E$4891,4,FALSE)","v":{"$error":"#N/A"}},true]
[5821,null,null,null,null,null,null,null,{"$f":"IF(ISERROR(VLOOKUP(H5826,Database!$B$1:$C$5908,2,FALSE)),\"\",VLOOKUP(H5826,Database!$B$1:$C$5908,2,FALSE))","v":""},"",{"$error":"#N/A"},null,null,null,null,null,null,null,null,"",false,2,{"$f":"VLOOKUP(H5826,Database!$B$1:$E$4891,4,FALSE)","v":{"$error":"#N/A"}},true]
[5822,null,null,null,null,null,null,null,{"$f":"IF(ISERROR(VLOOKUP(H5827,Database!$B$1:$C$5908,2,FALSE)),\"\",VLOOKUP(H5827,Database!$B$1:$C$5908,2,FALSE))","v":""},"",{"$error":"#N/A"},null,null,null,null,null,null,null,null,"",false,2,{"$f":"VLOOKUP(H5827,Database!$B$1:$E$4891,4,FALSE)","v":{"$error":"#N/A"}},true]
[5823,null,null,null,null,null,null,null,{"$f":"IF(ISERROR(VLOOKUP(H5828,Database!$B$1:$C$5908,2,FALSE)),\"\",VLOOKUP(H5828,Database!$B$1:$C$5908,2,FALSE))","v":""},"",{"$error":"#N/A"},null,null,null,null,null,null,null,null,"",false,2,{"$f":"VLOOKUP(H5828,Database!$B$1:$E$4891,4,FALSE)","v":{"$error":"#N/A"}},true]
[5824,null,null,null,null,null,null,null,{"$f":"IF(ISERROR(VLOOKUP(H5829,Database!$B$1:$C$5908,2,FALSE)),\"\",VLOOKUP(H5829,Database!$B$1:$C$5908,2,FALSE))","v":""},"",{"$error":"#N/A"},null,null,null,null,null,null,null,null,"",false,2,{"$f":"VLOOKUP(H5829,Database!$B$1:$E$4891,4,FALSE)","v":{"$error":"#N/A"}},true]
[5825,null,null,null,null,null,null,null,{"$f":"IF(ISERROR(VLOOKUP(H5830,Database!$B$1:$C$5908,2,FALSE)),\"\",VLOOKUP(H5830,Database!$B$1:$C$5908,2,FALSE))","v":""},"",{"$error":"#N/A"},null,null,null,null,null,null,null,null,"",false,2,{"$f":"VLOOKUP(H5830,Database!$B$1:$E$4891,4,FALSE)","v":{"$error":"#N/A"}},true]
[{"$f":"A5830+1","v":5826},null,null,null,null,null,null,null,{"$f":"IF(ISERROR(VLOOKUP(H5831,Database!$B$1:$C$5908,2,FALSE)),\"\",VLOOKUP(H5831,Database!$B$1:$C$5908,2,FALSE))","v":""},{"$f":"IF(V5831=1,1,IF(AND(T5831=0,F5831=\"SSB\",V5831<>\"\"),2,IF(AND(T5831=0,F5831=\"FM\",V5831<>\"\"),2,IF(AND(T5831=0,F5831=\"DIGI\",V5831<>\"\"),3,IF(AND(T5831=0,F5831=\"CW\",V5831<>\"\"),5,IF(H5831=\"-\",\"\",T5831))))))","v":""},{"$f":"IF(H5831=\"-\",\"\",IF(AND(H5831<>\"\",X5831=TRUE),\"INDIPENDENT\",IF(W5831=0,\"SCRIVI NOME NELLE NOTE\",W5831)))","v":{"$error":"#N/A"}},null,null,null,null,null,null,null,null,{"$f":"IF(H5831=\"\",\"\",IF(H5831=$R$6,25,IF(OR(H5831=$R$7,H5831=$R$8,H5831=$R$9,H5831=$R$10,H5831=$R$11,H5831=$R$12,H5831=$R$13,H5831=$R$14,H5831=$R$15,H5831=$R$16,H5831=$R$17,H5831=$R$18,H5831=$R$19,H5831=$R$20,H5831=$R$21,H5831=$R$22,H5831=$R$23),15,0)))","v":""},{"$f":"ISERROR(I5831)","v":false},2,{"$f":"VLOOKUP(H5831,Database!$B$1:$E$4891,4,FALSE)","v":{"$error":"#N/A"}},{"$f":"ISERROR(W5831)","v":true}]
[5827,null,null,null,null,null,null,null,{"$f":"IF(ISERROR(VLOOKUP(H5832,Database!$B$1:$C$5908,2,FALSE)),\"\",VLOOKUP(H5832,Database!$B$1:$C$5908,2,FALSE))","v":""},"",{"$error":"#N/A"},null,null,null,null,null,null,null,null,"",false,{"$f":"IF(H5832=\"-\",\"\",IF(AND(T5832=0,U5832=FALSE,I5832=\"\"),1,2))","v":2},{"$f":"VLOOKUP(H5832,Database!$B$1:$E$4891,4,FALSE)","v":{"$error":"#N/A"}},true]
[5828,null,null,null,null,null,null,null,{"$f":"IF(ISERROR(VLOOKUP(H5833,Database!$B$1:$C$5908,2,FALSE)),\"\",VLOOKUP(H5833,Database!$B$1:$C$5908,2,FALSE))","v":""},"",{"$error":"#N/A"},null,null,null,null,null,null,null,null,"",false,2,{"$f":"VLOOKUP(H5833,Database!$B$1:$E$4891,4,FALSE)","v":{"$error":"#N/A"}},true]
[5829,null,null,null,null,null,null,null,{"$f":"IF(ISERROR(VLOOKUP(H5834,Database!$B$1:$C$5908,2,FALSE)),\"\",VLOOKUP(H5834,Database!$B$1:$C$5908,2,FALSE))","v":""},"",{"$error":"#N/A"},null,null,null,null,null,null,null,null,"",false,2,{"$f":"VLOOKUP(H5834,Database!$B$1:$E$4891,4,FALSE)","v":{"$error":"#N/A"}},true]
[5830,null,null,null,null,null,null,null,{"$f":"IF(ISERROR(VLOOKUP(H5835,Database!$B$1:$C$5908,2,FALSE)),\"\",VLOOKUP(H5835,Database!$B$1:$C$5908,2,FALSE))","v":""},"",{"$error":"#N/A"},null,null,null,null,null,null,null,null,"",false,2,{"$f":"VLOOKUP(H5835,Database!$B$1:$E$4891,4,FALSE)","v":{"$error":"#N/A"}},true]
[5831,null,null,null,null,null,null,null,{"$f":"IF(ISERROR(VLOOKUP(H5836,Database!$B$1:$C$5908,2,FALSE)),\"\",VLOOKUP(H5836,Database!$B$1:$C$5908,2,FALSE))","v":""},"",{"$error":"#N/A"},null,null,null,null,null,null,null,null,"",false,2,{"$f":"VLOOKUP(H5836,Database!$B$1:$E$4891,4,FALSE)","v":{"$error":"#N/A"}},true]
[5832,null,null,null,null,null,null,null,{"$f":"IF(ISERROR(VLOOKUP(H5837,Database!$B$1:$C$5908,2,FALSE)),\"\",VLOOKUP(H5837,Database!$B$1:$C$5908,2,FALSE))","v":""},"",{"$error":"#N/A"},null,null,null,null,null,null,null,null,"",false,2,{"$f":"VLOOKUP(H5837,Database!$B$1:$E$4891,4,FALSE)","v":{"$error":"#N/A"}},true]
[5833,null,null,null,null,null,null,null,{"$f":"IF(ISERROR(VLOOKUP(H5838,Database!$B$1:$C$5908,2,FALSE)),\"\",VLOOKUP(H5838,Database!$B$1:$C$5908,2,FALSE))","v":""},"",{"$error":"#N/A"},null,null,null,null,null,null,null,null,"",false,2,{"$f":"VLOOKUP(H5838,Database!$B$1:$E$4891,4,FALSE)","v":{"$error":"#N/A"}},true]
[5834,null,null,null,null,null,null,null,{"$f":"IF(ISERROR(VLOOKUP(H5839,Database!$B$1:$C$5908,2,FALSE)),\"\",VLOOKUP(H5839,Database!$B$1:$C$5908,2,FALSE))","v":""},"",{"$error":"#N/A"},null,null,null,null,null,null,null,null,"",false,2,{"$f":"VLOOKUP(H5839,Database!$B$1:$E$4891,4,FALSE)","v":{"$error":"#N/A"}},true]
[5835,null,null,null,null,null,null,null,{"$f":"IF(ISERROR(VLOOKUP(H5840,Database!$B$1:$C$5908,2,FALSE)),\"\",VLOOKUP(H5840,Database!$B$1:$C$5908,2,FALSE))","v":""},"",{"$error":"#N/A"},null,null,null,null,null,null,null,null,"",false,2,{"$f":"VLOOKUP(H5840,Database!$B$1:$E$4891,4,FALSE)","v":{"$error":"#N/A"}},true]
[5836,null,null,null,null,null,null,null,{"$f":"IF(ISERROR(VLOOKUP(H5841,Database!$B$1:$C$5908,2,FALSE)),\"\",VLOOKUP(H5841,Database!$B$1:$C$5908,2,FALSE))","v":""},"",{"$error":"#N/A"},null,null,null,null,null,null,null,null,"",false,2,{"$f":"VLOOKUP(H5841,Database!$B$1:$E$4891,4,FALSE)","v":{"$error":"#N/A"}},true]
[5837,null,null,null,null,null,null,null,{"$f":"IF(ISERROR(VLOOKUP(H5842,Database!$B$1:$C$5908,2,FALSE)),\"\",VLOOKUP(H5842,Database!$B$1:$C$5908,2,FALSE))","v":""},"",{"$error":"#N/A"},null,null,null,null,null,null,null,null,"",false,2,{"$f":"VLOOKUP(H5842,Database!$B$1:$E$4891,4,FALSE)","v":{"$error":"#N/A"}},true]
[5838,null,null,null,null,null,null,null,{"$f":"IF(ISERROR(VLOOKUP(H5843,Database!$B$1:$C$5908,2,FALSE)),\"\",VLOOKUP(H5843,Database!$B$1:$C$5908,2,FALSE))","v":""},"",{"$error":"#N/A"},null,null,null,null,null,null,null,null,"",false,2,{"$f":"VLOOKUP(H5843,Database!$B$1:$E$4891,4,FALSE)","v":{"$error":"#N/A"}},true]
[5839,null,null,null,null,null,null,null,{"$f":"IF(ISERROR(VLOOKUP(H5844,Database!$B$1:$C$5908,2,FALSE)),\"\",VLOOKUP(H5844,Database!$B$1:$C$5908,2,FALSE))","v":""},"",{"$error":"#N/A"},null,null,null,null,null,null,null,null,"",false,2,{"$f":"VLOOKUP(H5844,Database!$B$1:$E$4891,4,FALSE)","v":{"$error":"#N/A"}},true]
[5840,null,null,null,null,null,null,null,{"$f":"IF(ISERROR(VLOOKUP(H5845,Database!$B$1:$C$5908,2,FALSE)),\"\",VLOOKUP(H5845,Database!$B$1:$C$5908,2,FALSE))","v":""},"",{"$error":"#N/A"},null,null,null,null,null,null,null,null,"",false,2,{"$f":"VLOOKUP(H5845,Database!$B$1:$E$4891,4,FALSE)","v":{"$error":"#N/A"}},true]
[5841,null,null,null,null,null,null,null,{"$f":"IF(ISERROR(VLOOKUP(H5846,Database!$B$1:$C$5908,2,FALSE)),\"\",VLOOKUP(H5846,Database!$B$1:$C$5908,2,FALSE))","v":""},"",{"$error":"#N/A"},null,null,null,null,null,null,null,null,"",false,2,{"$f":"VLOOKUP(H5846,Database!$B$1:$E$4891,4,FALSE)","v":{"$error":"#N/A"}},true]
[5842,null,null,null,null,null,null,null,{"$f":"IF(ISERROR(VLOOKUP(H5847,Database!$B$1:$C$5908,2,FALSE)),\"\",VLOOKUP(H5847,Database!$B$1:$C$5908,2,FALSE))","v":""},"",{"$error":"#N/A"},null,null,null,null,null,null,null,null,"",false,2,{"$f":"VLOOKUP(H5847,Database!$B$1:$E$4891,4,FALSE)","v":{"$error":"#N/A"}},true]
[5843,null,null,null,null,null,null,null,{"$f":"IF(ISERROR(VLOOKUP(H5848,Database!$B$1:$C$5908,2,FALSE)),\"\",VLOOKUP(H5848,Database!$B$1:$C$5908,2,FALSE))","v":""},"",{"$error":"#N/A"},null,null,null,null,null,null,null,null,"",false,2,{"$f":"VLOOKUP(H5848,Database!$B$1:$E$4891,4,FALSE)","v":{"$error":"#N/A"}},true]
[5844,null,null,null,null,null,null,null,{"$f":"IF(ISERROR(VLOOKUP(H5849,Database!$B$1:$C$5908,2,FALSE)),\"\",VLOOKUP(H5849,Database!$B$1:$C$5908,2,FALSE))","v":""},"",{"$error":"#N/A"},null,null,null,null,null,null,null,null,"",false,2,{"$f":"VLOOKUP(H5849,Database!$B$1:$E$4891,4,FALSE)","v":{"$error":"#N/A"}},true]
[5845,null,null,null,null,null,null,null,{"$f":"IF(ISERROR(VLOOKUP(H5850,Database!$B$1:$C$5908,2,FALSE)),\"\",VLOOKUP(H5850,Database!$B$1:$C$5908,2,FALSE))","v":""},"",{"$error":"#N/A"},null,null,null,null,null,null,null,null,"",false,2,{"$f":"VLOOKUP(H5850,Database!$B$1:$E$4891,4,FALSE)","v":{"$error":"#N/A"}},true]
[5846,null,null,null,null,null,null,null,{"$f":"IF(ISERROR(VLOOKUP(H5851,Database!$B$1:$C$5908,2,FALSE)),\"\",VLOOKUP(H5851,Database!$B$1:$C$5908,2,FALSE))","v":""},"",{"$error":"#N/A"},null,null,null,null,null,null,null,null,"",false,2,{"$f":"VLOOKUP(H5851,Database!$B$1:$E$4891,4,FALSE)","v":{"$error":"#N/A"}},true]
[5847,null,null,null,null,null,null,null,{"$f":"IF(ISERROR(VLOOKUP(H5852,Database!$B$1:$C$5908,2,FALSE)),\"\",VLOOKUP(H5852,Database!$B$1:$C$5908,2,FALSE))","v":""},"",{"$error":"#N/A"},null,null,null,null,null,null,null,null,"",false,2,{"$f":"VLOOKUP(H5852,Database!$B$1:$E$4891,4,FALSE)","v":{"$error":"#N/A"}},true]
[5848,null,null,null,null,null,null,null,{"$f":"IF(ISERROR(VLOOKUP(H5853,Database!$B$1:$C$5908,2,FALSE)),\"\",VLOOKUP(H5853,Database!$B$1:$C$5908,2,FALSE))","v":""},"",{"$error":"#N/A"},null,null,null,null,null,null,null,null,"",false,2,{"$f":"VLOOKUP(H5853,Database!$B$1:$E$4891,4,FALSE)","v":{"$error":"#N/A"}},true]
[5849,null,null,null,null,null,null,null,{"$f":"IF(ISERROR(VLOOKUP(H5854,Database!$B$1:$C$5908,2,FALSE)),\"\",VLOOKUP(H5854,Database!$B$1:$C$5908,2,FALSE))","v":""},"",{"$error":"#N/A"},null,null,null,null,null,null,null,null,"",false,2,{"$f":"VLOOKUP(H5854,Database!$B$1:$E$4891,4,FALSE)","v":{"$error":"#N/A"}},true]
[5850,null,null,null,null,null,null,null,{"$f":"IF(ISERROR(VLOOKUP(H5855,Database!$B$1:$C$5908,2,FALSE)),\"\",VLOOKUP(H5855,Database!$B$1:$C$5908,2,FALSE))","v":""},"",{"$error":"#N/A"},null,null,null,null,null,null,null,null,"",false,2,{"$f":"VLOOKUP(H5855,Database!$B$1:$E$4891,4,FALSE)","v":{"$error":"#N/A"}},true]
[5851,null,null,null,null,null,null,null,{"$f":"IF(ISERROR(VLOOKUP(H5856,Database!$B$1:$C$5908,2,FALSE)),\"\",VLOOKUP(H5856,Database!$B$1:$C$5908,2,FALSE))","v":""},"",{"$error":"#N/A"},null,null,null,null,null,null,null,null,"",false,2,{"$f":"VLOOKUP(H5856,Database!$B$1:$E$4891,4,FALSE)","v":{"$error":"#N/A"}},true]
[5852,null,null,null,null,null,null,null,{"$f":"IF(ISERROR(VLOOKUP(H5857,Database!$B$1:$C$5908,2,FALSE)),\"\",VLOOKUP(H5857,Database!$B$1:$C$5908,2,FALSE))","v":""},"",{"$error":"#N/A"},null,null,null,null,null,null,null,null,"",false,2,{"$f":"VLOOKUP(H5857,Database!$B$1:$E$4891,4,FALSE)","v":{"$error":"#N/A"}},true]
[5853,null,null,null,null,null,null,null,{"$f":"IF(ISERROR(VLOOKUP(H5858,Database!$B$1:$C$5908,2,FALSE)),\"\",VLOOKUP(H5858,Database!$B$1:$C$5908,2,FALSE))","v":""},"",{"$error":"#N/A"},null,null,null,null,null,null,null,null,"",false,2,{"$f":"VLOOKUP(H5858,Database!$B$1:$E$4891,4,FALSE)","v":{"$error":"#N/A"}},true]
[5854,null,null,null,null,null,null,null,{"$f":"IF(ISERROR(VLOOKUP(H5859,Database!$B$1:$C$5908,2,FALSE)),\"\",VLOOKUP(H5859,Database!$B$1:$C$5908,2,FALSE))","v":""},"",{"$error":"#N/A"},null,null,null,null,null,null,null,null,"",false,2,{"$f":"VLOOKUP(H5859,Database!$B$1:$E$4891,4,FALSE)","v":{"$error":"#N/A"}},true]
[5855,null,null,null,null,null,null,null,{"$f":"IF(ISERROR(VLOOKUP(H5860,Database!$B$1:$C$5908,2,FALSE)),\"\",VLOOKUP(H5860,Database!$B$1:$C$5908,2,FALSE))","v":""},"",{"$error":"#N/A"},null,null,null,null,null,null,null,null,"",false,2,{"$f":"VLOOKUP(H5860,Database!$B$1:$E$4891,4,FALSE)","v":{"$error":"#N/A"}},true]
[5856,null,null,null,null,null,null,null,{"$f":"IF(ISERROR(VLOOKUP(H5861,Database!$B$1:$C$5908,2,FALSE)),\"\",VLOOKUP(H5861,Database!$B$1:$C$5908,2,FALSE))","v":""},"",{"$error":"#N/A"},null,null,null,null,null,null,null,null,"",false,2,{"$f":"VLOOKUP(H5861,Database!$B$1:$E$4891,4,FALSE)","v":{"$error":"#N/A"}},true]
[5857,null,null,null,null,null,null,null,{"$f":"IF(ISERROR(VLOOKUP(H5862,Database!$B$1:$C$5908,2,FALSE)),\"\",VLOOKUP(H5862,Database!$B$1:$C$5908,2,FALSE))","v":""},"",{"$error":"#N/A"},null,null,null,null,null,null,null,null,"",false,2,{"$f":"VLOOKUP(H5862,Database!$B$1:$E$4891,4,FALSE)","v":{"$error":"#N/A"}},true]
[5858,null,null,null,null,null,null,null,{"$f":"IF(ISERROR(VLOOKUP(H5863,Database!$B$1:$C$5908,2,FALSE)),\"\",VLOOKUP(H5863,Database!$B$1:$C$5908,2,FALSE))","v":""},"",{"$error":"#N/A"},null,null,null,null,null,null,null,null,"",false,2,{"$f":"VLOOKUP(H5863,Database!$B$1:$E$4891,4,FALSE)","v":{"$error":"#N/A"}},true]
[5859,null,null,null,null,null,null,null,{"$f":"IF(ISERROR(VLOOKUP(H5864,Database!$B$1:$C$5908,2,FALSE)),\"\",VLOOKUP(H5864,Database!$B$1:$C$5908,2,FALSE))","v":""},"",{"$error":"#N/A"},null,null,null,null,null,null,null,null,"",false,2,{"$f":"VLOOKUP(H5864,Database!$B$1:$E$4891,4,FALSE)","v":{"$error":"#N/A"}},true]
[5860,null,null,null,null,null,null,null,{"$f":"IF(ISERROR(VLOOKUP(H5865,Database!$B$1:$C$5908,2,FALSE)),\"\",VLOOKUP(H5865,Database!$B$1:$C$5908,2,FALSE))","v":""},"",{"$error":"#N/A"},null,null,null,null,null,null,null,null,"",false,2,{"$f":"VLOOKUP(H5865,Database!$B$1:$E$4891,4,FALSE)","v":{"$error":"#N/A"}},true]
[5861,null,null,null,null,null,null,null,{"$f":"IF(ISERROR(VLOOKUP(H5866,Database!$B$1:$C$5908,2,FALSE)),\"\",VLOOKUP(H5866,Database!$B$1:$C$5908,2,FALSE))","v":""},"",{"$error":"#N/A"},null,null,null,null,null,null,null,null,"",false,2,{"$f":"VLOOKUP(H5866,Database!$B$1:$E$4891,4,FALSE)","v":{"$error":"#N/A"}},true]
[5862,null,null,null,null,null,null,null,{"$f":"IF(ISERROR(VLOOKUP(H5867,Database!$B$1:$C$5908,2,FALSE)),\"\",VLOOKUP(H5867,Database!$B$1:$C$5908,2,FALSE))","v":""},"",{"$error":"#N/A"},null,null,null,null,null,null,null,null,"",false,2,{"$f":"VLOOKUP(H5867,Database!$B$1:$E$4891,4,FALSE)","v":{"$error":"#N/A"}},true]
[5863,null,null,null,null,null,null,null,{"$f":"IF(ISERROR(VLOOKUP(H5868,Database!$B$1:$C$5908,2,FALSE)),\"\",VLOOKUP(H5868,Database!$B$1:$C$5908,2,FALSE))","v":""},"",{"$error":"#N/A"},null,null,null,null,null,null,null,null,"",false,2,{"$f":"VLOOKUP(H5868,Database!$B$1:$E$4891,4,FALSE)","v":{"$error":"#N/A"}},true]
[5864,null,null,null,null,null,null,null,{"$f":"IF(ISERROR(VLOOKUP(H5869,Database!$B$1:$C$5908,2,FALSE)),\"\",VLOOKUP(H5869,Database!$B$1:$C$5908,2,FALSE))","v":""},"",{"$error":"#N/A"},null,null,null,null,null,null,null,null,"",false,2,{"$f":"VLOOKUP(H5869,Database!$B$1:$E$4891,4,FALSE)","v":{"$error":"#N/A"}},true]
[5865,null,null,null,null,null,null,null,{"$f":"IF(ISERROR(VLOOKUP(H5870,Database!$B$1:$C$5908,2,FALSE)),\"\",VLOOKUP(H5870,Database!$B$1:$C$5908,2,FALSE))","v":""},"",{"$error":"#N/A"},null,null,null,null,null,null,null,null,"",false,2,{"$f":"VLOOKUP(H5870,Database!$B$1:$E$4891,4,FALSE)","v":{"$error":"#N/A"}},true]
[5866,null,null,null,null,null,null,null,{"$f":"IF(ISERROR(VLOOKUP(H5871,Database!$B$1:$C$5908,2,FALSE)),\"\",VLOOKUP(H5871,Database!$B$1:$C$5908,2,FALSE))","v":""},"",{"$error":"#N/A"},null,null,null,null,null,null,null,null,"",false,2,{"$f":"VLOOKUP(H5871,Database!$B$1:$E$4891,4,FALSE)","v":{"$error":"#N/A"}},true]
[5867,null,null,null,null,null,null,null,{"$f":"IF(ISERROR(VLOOKUP(H5872,Database!$B$1:$C$5908,2,FALSE)),\"\",VLOOKUP(H5872,Database!$B$1:$C$5908,2,FALSE))","v":""},"",{"$error":"#N/A"},null,null,null,null,null,null,null,null,"",false,2,{"$f":"VLOOKUP(H5872,Database!$B$1:$E$4891,4,FALSE)","v":{"$error":"#N/A"}},true]
[5868,null,null,null,null,null,null,null,{"$f":"IF(ISERROR(VLOOKUP(H5873,Database!$B$1:$C$5908,2,FALSE)),\"\",VLOOKUP(H5873,Database!$B$1:$C$5908,2,FALSE))","v":""},"",{"$error":"#N/A"},null,null,null,null,null,null,null,null,"",false,2,{"$f":"VLOOKUP(H5873,Database!$B$1:$E$4891,4,FALSE)","v":{"$error":"#N/A"}},true]
[5869,null,null,null,null,null,null,null,{"$f":"IF(ISERROR(VLOOKUP(H5874,Database!$B$1:$C$5908,2,FALSE)),\"\",VLOOKUP(H5874,Database!$B$1:$C$5908,2,FALSE))","v":""},"",{"$error":"#N/A"},null,null,null,null,null,null,null,null,"",false,2,{"$f":"VLOOKUP(H5874,Database!$B$1:$E$4891,4,FALSE)","v":{"$error":"#N/A"}},true]
[5870,null,null,null,null,null,null,null,{"$f":"IF(ISERROR(VLOOKUP(H5875,Database!$B$1:$C$5908,2,FALSE)),\"\",VLOOKUP(H5875,Database!$B$1:$C$5908,2,FALSE))","v":""},"",{"$error":"#N/A"},null,null,null,null,null,null,null,null,"",false,2,{"$f":"VLOOKUP(H5875,Database!$B$1:$E$4891,4,FALSE)","v":{"$error":"#N/A"}},true]
[5871,null,null,null,null,null,null,null,{"$f":"IF(ISERROR(VLOOKUP(H5876,Database!$B$1:$C$5908,2,FALSE)),\"\",VLOOKUP(H5876,Database!$B$1:$C$5908,2,FALSE))","v":""},"",{"$error":"#N/A"},null,null,null,null,null,null,null,null,"",false,2,{"$f":"VLOOKUP(H5876,Database!$B$1:$E$4891,4,FALSE)","v":{"$error":"#N/A"}},true]
[5872,null,null,null,null,null,null,null,{"$f":"IF(ISERROR(VLOOKUP(H5877,Database!$B$1:$C$5908,2,FALSE)),\"\",VLOOKUP(H5877,Database!$B$1:$C$5908,2,FALSE))","v":""},"",{"$error":"#N/A"},null,null,null,null,null,null,null,null,"",false,2,{"$f":"VLOOKUP(H5877,Database!$B$1:$E$4891,4,FALSE)","v":{"$error":"#N/A"}},true]
[5873,null,null,null,null,null,null,null,{"$f":"IF(ISERROR(VLOOKUP(H5878,Database!$B$1:$C$5908,2,FALSE)),\"\",VLOOKUP(H5878,Database!$B$1:$C$5908,2,FALSE))","v":""},"",{"$error":"#N/A"},null,null,null,null,null,null,null,null,"",false,2,{"$f":"VLOOKUP(H5878,Database!$B$1:$E$4891,4,FALSE)","v":{"$error":"#N/A"}},true]
[5874,null,null,null,null,null,null,null,{"$f":"IF(ISERROR(VLOOKUP(H5879,Database!$B$1:$C$5908,2,FALSE)),\"\",VLOOKUP(H5879,Database!$B$1:$C$5908,2,FALSE))","v":""},"",{"$error":"#N/A"},null,null,null,null,null,null,null,null,"",false,2,{"$f":"VLOOKUP(H5879,Database!$B$1:$E$4891,4,FALSE)","v":{"$error":"#N/A"}},true]
[5875,null,null,null,null,null,null,null,{"$f":"IF(ISERROR(VLOOKUP(H5880,Database!$B$1:$C$5908,2,FALSE)),\"\",VLOOKUP(H5880,Database!$B$1:$C$5908,2,FALSE))","v":""},"",{"$error":"#N/A"},null,null,null,null,null,null,null,null,"",false,2,{"$f":"VLOOKUP(H5880,Database!$B$1:$E$4891,4,FALSE)","v":{"$error":"#N/A"}},true]
[5876,null,null,null,null,null,null,null,{"$f":"IF(ISERROR(VLOOKUP(H5881,Database!$B$1:$C$5908,2,FALSE)),\"\",VLOOKUP(H5881,Database!$B$1:$C$5908,2,FALSE))","v":""},"",{"$error":"#N/A"},null,null,null,null,null,null,null,null,"",false,2,{"$f":"VLOOKUP(H5881,Database!$B$1:$E$4891,4,FALSE)","v":{"$error":"#N/A"}},true]
[5877,null,null,null,null,null,null,null,{"$f":"IF(ISERROR(VLOOKUP(H5882,Database!$B$1:$C$5908,2,FALSE)),\"\",VLOOKUP(H5882,Database!$B$1:$C$5908,2,FALSE))","v":""},"",{"$error":"#N/A"},null,null,null,null,null,null,null,null,"",false,2,{"$f":"VLOOKUP(H5882,Database!$B$1:$E$4891,4,FALSE)","v":{"$error":"#N/A"}},true]
[5878,null,null,null,null,null,null,null,{"$f":"IF(ISERROR(VLOOKUP(H5883,Database!$B$1:$C$5908,2,FALSE)),\"\",VLOOKUP(H5883,Database!$B$1:$C$5908,2,FALSE))","v":""},"",{"$error":"#N/A"},null,null,null,null,null,null,null,null,"",false,2,{"$f":"VLOOKUP(H5883,Database!$B$1:$E$4891,4,FALSE)","v":{"$error":"#N/A"}},true]
[5879,null,null,null,null,null,null,null,{"$f":"IF(ISERROR(VLOOKUP(H5884,Database!$B$1:$C$5908,2,FALSE)),\"\",VLOOKUP(H5884,Database!$B$1:$C$5908,2,FALSE))","v":""},"",{"$error":"#N/A"},null,null,null,null,null,null,null,null,"",false,2,{"$f":"VLOOKUP(H5884,Database!$B$1:$E$4891,4,FALSE)","v":{"$error":"#N/A"}},true]
[5880,null,null,null,null,null,null,null,{"$f":"IF(ISERROR(VLOOKUP(H5885,Database!$B$1:$C$5908,2,FALSE)),\"\",VLOOKUP(H5885,Database!$B$1:$C$5908,2,FALSE))","v":""},"",{"$error":"#N/A"},null,null,null,null,null,null,null,null,"",false,2,{"$f":"VLOOKUP(H5885,Database!$B$1:$E$4891,4,FALSE)","v":{"$error":"#N/A"}},true]
[5881,null,null,null,null,null,null,null,{"$f":"IF(ISERROR(VLOOKUP(H5886,Database!$B$1:$C$5908,2,FALSE)),\"\",VLOOKUP(H5886,Database!$B$1:$C$5908,2,FALSE))","v":""},"",{"$error":"#N/A"},null,null,null,null,null,null,null,null,"",false,2,{"$f":"VLOOKUP(H5886,Database!$B$1:$E$4891,4,FALSE)","v":{"$error":"#N/A"}},true]
[5882,null,null,null,null,null,null,null,{"$f":"IF(ISERROR(VLOOKUP(H5887,Database!$B$1:$C$5908,2,FALSE)),\"\",VLOOKUP(H5887,Database!$B$1:$C$5908,2,FALSE))","v":""},"",{"$error":"#N/A"},null,null,null,null,null,null,null,null,"",false,2,{"$f":"VLOOKUP(H5887,Database!$B$1:$E$4891,4,FALSE)","v":{"$error":"#N/A"}},true]
[5883,null,null,null,null,null,null,null,{"$f":"IF(ISERROR(VLOOKUP(H5888,Database!$B$1:$C$5908,2,FALSE)),\"\",VLOOKUP(H5888,Database!$B$1:$C$5908,2,FALSE))","v":""},"",{"$error":"#N/A"},null,null,null,null,null,null,null,null,"",false,2,{"$f":"VLOOKUP(H5888,Database!$B$1:$E$4891,4,FALSE)","v":{"$error":"#N/A"}},true]
[5884,null,null,null,null,null,null,null,{"$f":"IF(ISERROR(VLOOKUP(H5889,Database!$B$1:$C$5908,2,FALSE)),\"\",VLOOKUP(H5889,Database!$B$1:$C$5908,2,FALSE))","v":""},"",{"$error":"#N/A"},null,null,null,null,null,null,null,null,"",false,2,{"$f":"VLOOKUP(H5889,Database!$B$1:$E$4891,4,FALSE)","v":{"$error":"#N/A"}},true]
[5885,null,null,null,null,null,null,null,{"$f":"IF(ISERROR(VLOOKUP(H5890,Database!$B$1:$C$5908,2,FALSE)),\"\",VLOOKUP(H5890,Database!$B$1:$C$5908,2,FALSE))","v":""},"",{"$error":"#N/A"},null,null,null,null,null,null,null,null,"",false,2,{"$f":"VLOOKUP(H5890,Database!$B$1:$E$4891,4,FALSE)","v":{"$error":"#N/A"}},true]
[5886,null,null,null,null,null,null,null,{"$f":"IF(ISERROR(VLOOKUP(H5891,Database!$B$1:$C$5908,2,FALSE)),\"\",VLOOKUP(H5891,Database!$B$1:$C$5908,2,FALSE))","v":""},"",{"$error":"#N/A"},null,null,null,null,null,null,null,null,"",false,2,{"$f":"VLOOKUP(H5891,Database!$B$1:$E$4891,4,FALSE)","v":{"$error":"#N/A"}},true]
[5887,null,null,null,null,null,null,null,{"$f":"IF(ISERROR(VLOOKUP(H5892,Database!$B$1:$C$5908,2,FALSE)),\"\",VLOOKUP(H5892,Database!$B$1:$C$5908,2,FALSE))","v":""},"",{"$error":"#N/A"},null,null,null,null,null,null,null,null,"",false,2,{"$f":"VLOOKUP(H5892,Database!$B$1:$E$4891,4,FALSE)","v":{"$error":"#N/A"}},true]
[5888,null,null,null,null,null,null,null,{"$f":"IF(ISERROR(VLOOKUP(H5893,Database!$B$1:$C$5908,2,FALSE)),\"\",VLOOKUP(H5893,Database!$B$1:$C$5908,2,FALSE))","v":""},"",{"$error":"#N/A"},null,null,null,null,null,null,null,null,"",false,2,{"$f":"VLOOKUP(H5893,Database!$B$1:$E$4891,4,FALSE)","v":{"$error":"#N/A"}},true]
[5889,null,null,null,null,null,null,null,{"$f":"IF(ISERROR(VLOOKUP(H5894,Database!$B$1:$C$5908,2,FALSE)),\"\",VLOOKUP(H5894,Database!$B$1:$C$5908,2,FALSE))","v":""},"",{"$error":"#N/A"},null,null,null,null,null,null,null,null,"",false,2,{"$f":"VLOOKUP(H5894,Database!$B$1:$E$4891,4,FALSE)","v":{"$error":"#N/A"}},true]
[{"$f":"A5894+1","v":5890},null,null,null,null,null,null,null,{"$f":"IF(ISERROR(VLOOKUP(H5895,Database!$B$1:$C$5908,2,FALSE)),\"\",VLOOKUP(H5895,Database!$B$1:$C$5908,2,FALSE))","v":""},{"$f":"IF(V5895=1,1,IF(AND(T5895=0,F5895=\"SSB\",V5895<>\"\"),2,IF(AND(T5895=0,F5895=\"FM\",V5895<>\"\"),2,IF(AND(T5895=0,F5895=\"DIGI\",V5895<>\"\"),3,IF(AND(T5895=0,F5895=\"CW\",V5895<>\"\"),5,IF(H5895=\"-\",\"\",T5895))))))","v":""},{"$f":"IF(H5895=\"-\",\"\",IF(AND(H5895<>\"\",X5895=TRUE),\"INDIPENDENT\",IF(W5895=0,\"SCRIVI NOME NELLE NOTE\",W5895)))","v":{"$error":"#N/A"}},null,null,null,null,null,null,null,null,{"$f":"IF(H5895=\"\",\"\",IF(H5895=$R$6,25,IF(OR(H5895=$R$7,H5895=$R$8,H5895=$R$9,H5895=$R$10,H5895=$R$11,H5895=$R$12,H5895=$R$13,H5895=$R$14,H5895=$R$15,H5895=$R$16,H5895=$R$17,H5895=$R$18,H5895=$R$19,H5895=$R$20,H5895=$R$21,H5895=$R$22,H5895=$R$23),15,0)))","v":""},{"$f":"ISERROR(I5895)","v":false},2,{"$f":"VLOOKUP(H5895,Database!$B$1:$E$4891,4,FALSE)","v":{"$error":"#N/A"}},{"$f":"ISERROR(W5895)","v":true}]
[5891,null,null,null,null,null,null,null,{"$f":"IF(ISERROR(VLOOKUP(H5896,Database!$B$1:$C$5908,2,FALSE)),\"\",VLOOKUP(H5896,Database!$B$1:$C$5908,2,FALSE))","v":""},"",{"$error":"#N/A"},null,null,null,null,null,null,null,null,"",false,{"$f":"IF(H5896=\"-\",\"\",IF(AND(T5896=0,U5896=FALSE,I5896=\"\"),1,2))","v":2},{"$f":"VLOOKUP(H5896,Database!$B$1:$E$4891,4,FALSE)","v":{"$error":"#N/A"}},true]
[5892,null,null,null,null,null,null,null,{"$f":"IF(ISERROR(VLOOKUP(H5897,Database!$B$1:$C$5908,2,FALSE)),\"\",VLOOKUP(H5897,Database!$B$1:$C$5908,2,FALSE))","v":""},"",{"$error":"#N/A"},null,null,null,null,null,null,null,null,"",false,2,{"$f":"VLOOKUP(H5897,Database!$B$1:$E$4891,4,FALSE)","v":{"$error":"#N/A"}},true]
[5893,null,null,null,null,null,null,null,{"$f":"IF(ISERROR(VLOOKUP(H5898,Database!$B$1:$C$5908,2,FALSE)),\"\",VLOOKUP(H5898,Database!$B$1:$C$5908,2,FALSE))","v":""},"",{"$error":"#N/A"},null,null,null,null,null,null,null,null,"",false,2,{"$f":"VLOOKUP(H5898,Database!$B$1:$E$4891,4,FALSE)","v":{"$error":"#N/A"}},true]
[5894,null,null,null,null,null,null,null,{"$f":"IF(ISERROR(VLOOKUP(H5899,Database!$B$1:$C$5908,2,FALSE)),\"\",VLOOKUP(H5899,Database!$B$1:$C$5908,2,FALSE))","v":""},"",{"$error":"#N/A"},null,null,null,null,null,null,null,null,"",false,2,{"$f":"VLOOKUP(H5899,Database!$B$1:$E$4891,4,FALSE)","v":{"$error":"#N/A"}},true]
[5895,null,null,null,null,null,null,null,{"$f":"IF(ISERROR(VLOOKUP(H5900,Database!$B$1:$C$5908,2,FALSE)),\"\",VLOOKUP(H5900,Database!$B$1:$C$5908,2,FALSE))","v":""},"",{"$error":"#N/A"},null,null,null,null,null,null,null,null,"",false,2,{"$f":"VLOOKUP(H5900,Database!$B$1:$E$4891,4,FALSE)","v":{"$error":"#N/A"}},true]
[5896,null,null,null,null,null,null,null,{"$f":"IF(ISERROR(VLOOKUP(H5901,Database!$B$1:$C$5908,2,FALSE)),\"\",VLOOKUP(H5901,Database!$B$1:$C$5908,2,FALSE))","v":""},"",{"$error":"#N/A"},null,null,null,null,null,null,null,null,"",false,2,{"$f":"VLOOKUP(H5901,Database!$B$1:$E$4891,4,FALSE)","v":{"$error":"#N/A"}},true]
[5897,null,null,null,null,null,null,null,{"$f":"IF(ISERROR(VLOOKUP(H5902,Database!$B$1:$C$5908,2,FALSE)),\"\",VLOOKUP(H5902,Database!$B$1:$C$5908,2,FALSE))","v":""},"",{"$error":"#N/A"},null,null,null,null,null,null,null,null,"",false,2,{"$f":"VLOOKUP(H5902,Database!$B$1:$E$4891,4,FALSE)","v":{"$error":"#N/A"}},true]
[5898,null,null,null,null,null,null,null,{"$f":"IF(ISERROR(VLOOKUP(H5903,Database!$B$1:$C$5908,2,FALSE)),\"\",VLOOKUP(H5903,Database!$B$1:$C$5908,2,FALSE))","v":""},"",{"$error":"#N/A"},null,null,null,null,null,null,null,null,"",false,2,{"$f":"VLOOKUP(H5903,Database!$B$1:$E$4891,4,FALSE)","v":{"$error":"#N/A"}},true]
[5899,null,null,null,null,null,null,null,{"$f":"IF(ISERROR(VLOOKUP(H5904,Database!$B$1:$C$5908,2,FALSE)),\"\",VLOOKUP(H5904,Database!$B$1:$C$5908,2,FALSE))","v":""},"",{"$error":"#N/A"},null,null,null,null,null,null,null,null,"",false,2,{"$f":"VLOOKUP(H5904,Database!$B$1:$E$4891,4,FALSE)","v":{"$error":"#N/A"}},true]
[5900,null,null,null,null,null,null,null,{"$f":"IF(ISERROR(VLOOKUP(H5905,Database!$B$1:$C$5908,2,FALSE)),\"\",VLOOKUP(H5905,Database!$B$1:$C$5908,2,FALSE))","v":""},"",{"$error":"#N/A"},null,null,null,null,null,null,null,null,"",false,2,{"$f":"VLOOKUP(H5905,Database!$B$1:$E$4891,4,FALSE)","v":{"$error":"#N/A"}},true]
[5901,null,null,null,null,null,null,null,{"$f":"IF(ISERROR(VLOOKUP(H5906,Database!$B$1:$C$5908,2,FALSE)),\"\",VLOOKUP(H5906,Database!$B$1:$C$5908,2,FALSE))","v":""},"",{"$error":"#N/A"},null,null,null,null,null,null,null,null,"",false,2,{"$f":"VLOOKUP(H5906,Database!$B$1:$E$4891,4,FALSE)","v":{"$error":"#N/A"}},true]
[5902,null,null,null,null,null,null,null,{"$f":"IF(ISERROR(VLOOKUP(H5907,Database!$B$1:$C$5908,2,FALSE)),\"\",VLOOKUP(H5907,Database!$B$1:$C$5908,2,FALSE))","v":""},"",{"$error":"#N/A"},null,null,null,null,null,null,null,null,"",false,2,{"$f":"VLOOKUP(H5907,Database!$B$1:$E$4891,4,FALSE)","v":{"$error":"#N/A"}},true]
[5903,null,null,null,null,null,null,null,{"$f":"IF(ISERROR(VLOOKUP(H5908,Database!$B$1:$C$5908,2,FALSE)),\"\",VLOOKUP(H5908,Database!$B$1:$C$5908,2,FALSE))","v":""},"",{"$error":"#N/A"},null,null,null,null,null,null,null,null,"",false,2,{"$f":"VLOOKUP(H5908,Database!$B$1:$E$4891,4,FALSE)","v":{"$error":"#N/A"}},true]
[5904,null,null,null,null,null,null,null,{"$f":"IF(ISERROR(VLOOKUP(H5909,Database!$B$1:$C$5908,2,FALSE)),\"\",VLOOKUP(H5909,Database!$B$1:$C$5908,2,FALSE))","v":""},"",{"$error":"#N/A"},null,null,null,null,null,null,null,null,"",false,2,{"$f":"VLOOKUP(H5909,Database!$B$1:$E$4891,4,FALSE)","v":{"$error":"#N/A"}},true]
[5905,null,null,null,null,null,null,null,{"$f":"IF(ISERROR(VLOOKUP(H5910,Database!$B$1:$C$5908,2,FALSE)),\"\",VLOOKUP(H5910,Database!$B$1:$C$5908,2,FALSE))","v":""},"",{"$error":"#N/A"},null,null,null,null,null,null,null,null,"",false,2,{"$f":"VLOOKUP(H5910,Database!$B$1:$E$4891,4,FALSE)","v":{"$error":"#N/A"}},true]
[5906,null,null,null,null,null,null,null,{"$f":"IF(ISERROR(VLOOKUP(H5911,Database!$B$1:$C$5908,2,FALSE)),\"\",VLOOKUP(H5911,Database!$B$1:$C$5908,2,FALSE))","v":""},"",{"$error":"#N/A"},null,null,null,null,null,null,null,null,"",false,2,{"$f":"VLOOKUP(H5911,Database!$B$1:$E$4891,4,FALSE)","v":{"$error":"#N/A"}},true]
[5907,null,null,null,null,null,null,null,{"$f":"IF(ISERROR(VLOOKUP(H5912,Database!$B$1:$C$5908,2,FALSE)),\"\",VLOOKUP(H5912,Database!$B$1:$C$5908,2,FALSE))","v":""},"",{"$error":"#N/A"},null,null,null,null,null,null,null,null,"",false,2,{"$f":"VLOOKUP(H5912,Database!$B$1:$E$4891,4,FALSE)","v":{"$error":"#N/A"}},true]
[5908,null,null,null,null,null,null,null,{"$f":"IF(ISERROR(VLOOKUP(H5913,Database!$B$1:$C$5908,2,FALSE)),\"\",VLOOKUP(H5913,Database!$B$1:$C$5908,2,FALSE))","v":""},"",{"$error":"#N/A"},null,null,null,null,null,null,null,null,"",false,2,{"$f":"VLOOKUP(H5913,Database!$B$1:$E$4891,4,FALSE)","v":{"$error":"#N/A"}},true]
[5909,null,null,null,null,null,null,null,{"$f":"IF(ISERROR(VLOOKUP(H5914,Database!$B$1:$C$5908,2,FALSE)),\"\",VLOOKUP(H5914,Database!$B$1:$C$5908,2,FALSE))","v":""},"",{"$error":"#N/A"},null,null,null,null,null,null,null,null,"",false,2,{"$f":"VLOOKUP(H5914,Database!$B$1:$E$4891,4,FALSE)","v":{"$error":"#N/A"}},true]
[5910,null,null,null,null,null,null,null,{"$f":"IF(ISERROR(VLOOKUP(H5915,Database!$B$1:$C$5908,2,FALSE)),\"\",VLOOKUP(H5915,Database!$B$1:$C$5908,2,FALSE))","v":""},"",{"$error":"#N/A"},null,null,null,null,null,null,null,null,"",false,2,{"$f":"VLOOKUP(H5915,Database!$B$1:$E$4891,4,FALSE)","v":{"$error":"#N/A"}},true]
[5911,null,null,null,null,null,null,null,{"$f":"IF(ISERROR(VLOOKUP(H5916,Database!$B$1:$C$5908,2,FALSE)),\"\",VLOOKUP(H5916,Database!$B$1:$C$5908,2,FALSE))","v":""},"",{"$error":"#N/A"},null,null,null,null,null,null,null,null,"",false,2,{"$f":"VLOOKUP(H5916,Database!$B$1:$E$4891,4,FALSE)","v":{"$error":"#N/A"}},true]
[5912,null,null,null,null,null,null,null,{"$f":"IF(ISERROR(VLOOKUP(H5917,Database!$B$1:$C$5908,2,FALSE)),\"\",VLOOKUP(H5917,Database!$B$1:$C$5908,2,FALSE))","v":""},"",{"$error":"#N/A"},null,null,null,null,null,null,null,null,"",false,2,{"$f":"VLOOKUP(H5917,Database!$B$1:$E$4891,4,FALSE)","v":{"$error":"#N/A"}},true]
[5913,null,null,null,null,null,null,null,{"$f":"IF(ISERROR(VLOOKUP(H5918,Database!$B$1:$C$5908,2,FALSE)),\"\",VLOOKUP(H5918,Database!$B$1:$C$5908,2,FALSE))","v":""},"",{"$error":"#N/A"},null,null,null,null,null,null,null,null,"",false,2,{"$f":"VLOOKUP(H5918,Database!$B$1:$E$4891,4,FALSE)","v":{"$error":"#N/A"}},true]
[5914,null,null,null,null,null,null,null,{"$f":"IF(ISERROR(VLOOKUP(H5919,Database!$B$1:$C$5908,2,FALSE)),\"\",VLOOKUP(H5919,Database!$B$1:$C$5908,2,FALSE))","v":""},"",{"$error":"#N/A"},null,null,null,null,null,null,null,null,"",false,2,{"$f":"VLOOKUP(H5919,Database!$B$1:$E$4891,4,FALSE)","v":{"$error":"#N/A"}},true]
[5915,null,null,null,null,null,null,null,{"$f":"IF(ISERROR(VLOOKUP(H5920,Database!$B$1:$C$5908,2,FALSE)),\"\",VLOOKUP(H5920,Database!$B$1:$C$5908,2,FALSE))","v":""},"",{"$error":"#N/A"},null,null,null,null,null,null,null,null,"",false,2,{"$f":"VLOOKUP(H5920,Database!$B$1:$E$4891,4,FALSE)","v":{"$error":"#N/A"}},true]
[5916,null,null,null,null,null,null,null,{"$f":"IF(ISERROR(VLOOKUP(H5921,Database!$B$1:$C$5908,2,FALSE)),\"\",VLOOKUP(H5921,Database!$B$1:$C$5908,2,FALSE))","v":""},"",{"$error":"#N/A"},null,null,null,null,null,null,null,null,"",false,2,{"$f":"VLOOKUP(H5921,Database!$B$1:$E$4891,4,FALSE)","v":{"$error":"#N/A"}},true]
[5917,null,null,null,null,null,null,null,{"$f":"IF(ISERROR(VLOOKUP(H5922,Database!$B$1:$C$5908,2,FALSE)),\"\",VLOOKUP(H5922,Database!$B$1:$C$5908,2,FALSE))","v":""},"",{"$error":"#N/A"},null,null,null,null,null,null,null,null,"",false,2,{"$f":"VLOOKUP(H5922,Database!$B$1:$E$4891,4,FALSE)","v":{"$error":"#N/A"}},true]
[5918,null,null,null,null,null,null,null,{"$f":"IF(ISERROR(VLOOKUP(H5923,Database!$B$1:$C$5908,2,FALSE)),\"\",VLOOKUP(H5923,Database!$B$1:$C$5908,2,FALSE))","v":""},"",{"$error":"#N/A"},null,null,null,null,null,null,null,null,"",false,2,{"$f":"VLOOKUP(H5923,Database!$B$1:$E$4891,4,FALSE)","v":{"$error":"#N/A"}},true]
[5919,null,null,null,null,null,null,null,{"$f":"IF(ISERROR(VLOOKUP(H5924,Database!$B$1:$C$5908,2,FALSE)),\"\",VLOOKUP(H5924,Database!$B$1:$C$5908,2,FALSE))","v":""},"",{"$error":"#N/A"},null,null,null,null,null,null,null,null,"",false,2,{"$f":"VLOOKUP(H5924,Database!$B$1:$E$4891,4,FALSE)","v":{"$error":"#N/A"}},true]
[5920,null,null,null,null,null,null,null,{"$f":"IF(ISERROR(VLOOKUP(H5925,Database!$B$1:$C$5908,2,FALSE)),\"\",VLOOKUP(H5925,Database!$B$1:$C$5908,2,FALSE))","v":""},"",{"$error":"#N/A"},null,null,null,null,null,null,null,null,"",false,2,{"$f":"VLOOKUP(H5925,Database!$B$1:$E$4891,4,FALSE)","v":{"$error":"#N/A"}},true]
[5921,null,null,null,null,null,null,null,{"$f":"IF(ISERROR(VLOOKUP(H5926,Database!$B$1:$C$5908,2,FALSE)),\"\",VLOOKUP(H5926,Database!$B$1:$C$5908,2,FALSE))","v":""},"",{"$error":"#N/A"},null,null,null,null,null,null,null,null,"",false,2,{"$f":"VLOOKUP(H5926,Database!$B$1:$E$4891,4,FALSE)","v":{"$error":"#N/A"}},true]
[5922,null,null,null,null,null,null,null,{"$f":"IF(ISERROR(VLOOKUP(H5927,Database!$B$1:$C$5908,2,FALSE)),\"\",VLOOKUP(H5927,Database!$B$1:$C$5908,2,FALSE))","v":""},"",{"$error":"#N/A"},null,null,null,null,null,null,null,null,"",false,2,{"$f":"VLOOKUP(H5927,Database!$B$1:$E$4891,4,FALSE)","v":{"$error":"#N/A"}},true]
[5923,null,null,null,null,null,null,null,{"$f":"IF(ISERROR(VLOOKUP(H5928,Database!$B$1:$C$5908,2,FALSE)),\"\",VLOOKUP(H5928,Database!$B$1:$C$5908,2,FALSE))","v":""},"",{"$error":"#N/A"},null,null,null,null,null,null,null,null,"",false,2,{"$f":"VLOOKUP(H5928,Database!$B$1:$E$4891,4,FALSE)","v":{"$error":"#N/A"}},true]
[5924,null,null,null,null,null,null,null,{"$f":"IF(ISERROR(VLOOKUP(H5929,Database!$B$1:$C$5908,2,FALSE)),\"\",VLOOKUP(H5929,Database!$B$1:$C$5908,2,FALSE))","v":""},"",{"$error":"#N/A"},null,null,null,null,null,null,null,null,"",false,2,{"$f":"VLOOKUP(H5929,Database!$B$1:$E$4891,4,FALSE)","v":{"$error":"#N/A"}},true]
[5925,null,null,null,null,null,null,null,{"$f":"IF(ISERROR(VLOOKUP(H5930,Database!$B$1:$C$5908,2,FALSE)),\"\",VLOOKUP(H5930,Database!$B$1:$C$5908,2,FALSE))","v":""},"",{"$error":"#N/A"},null,null,null,null,null,null,null,null,"",false,2,{"$f":"VLOOKUP(H5930,Database!$B$1:$E$4891,4,FALSE)","v":{"$error":"#N/A"}},true]
[5926,null,null,null,null,null,null,null,{"$f":"IF(ISERROR(VLOOKUP(H5931,Database!$B$1:$C$5908,2,FALSE)),\"\",VLOOKUP(H5931,Database!$B$1:$C$5908,2,FALSE))","v":""},"",{"$error":"#N/A"},null,null,null,null,null,null,null,null,"",false,2,{"$f":"VLOOKUP(H5931,Database!$B$1:$E$4891,4,FALSE)","v":{"$error":"#N/A"}},true]
[5927,null,null,null,null,null,null,null,{"$f":"IF(ISERROR(VLOOKUP(H5932,Database!$B$1:$C$5908,2,FALSE)),\"\",VLOOKUP(H5932,Database!$B$1:$C$5908,2,FALSE))","v":""},"",{"$error":"#N/A"},null,null,null,null,null,null,null,null,"",false,2,{"$f":"VLOOKUP(H5932,Database!$B$1:$E$4891,4,FALSE)","v":{"$error":"#N/A"}},true]
[5928,null,null,null,null,null,null,null,{"$f":"IF(ISERROR(VLOOKUP(H5933,Database!$B$1:$C$5908,2,FALSE)),\"\",VLOOKUP(H5933,Database!$B$1:$C$5908,2,FALSE))","v":""},"",{"$error":"#N/A"},null,null,null,null,null,null,null,null,"",false,2,{"$f":"VLOOKUP(H5933,Database!$B$1:$E$4891,4,FALSE)","v":{"$error":"#N/A"}},true]
[5929,null,null,null,null,null,null,null,{"$f":"IF(ISERROR(VLOOKUP(H5934,Database!$B$1:$C$5908,2,FALSE)),\"\",VLOOKUP(H5934,Database!$B$1:$C$5908,2,FALSE))","v":""},"",{"$error":"#N/A"},null,null,null,null,null,null,null,null,"",false,2,{"$f":"VLOOKUP(H5934,Database!$B$1:$E$4891,4,FALSE)","v":{"$error":"#N/A"}},true]
[5930,null,null,null,null,null,null,null,{"$f":"IF(ISERROR(VLOOKUP(H5935,Database!$B$1:$C$5908,2,FALSE)),\"\",VLOOKUP(H5935,Database!$B$1:$C$5908,2,FALSE))","v":""},"",{"$error":"#N/A"},null,null,null,null,null,null,null,null,"",false,2,{"$f":"VLOOKUP(H5935,Database!$B$1:$E$4891,4,FALSE)","v":{"$error":"#N/A"}},true]
[5931,null,null,null,null,null,null,null,{"$f":"IF(ISERROR(VLOOKUP(H5936,Database!$B$1:$C$5908,2,FALSE)),\"\",VLOOKUP(H5936,Database!$B$1:$C$5908,2,FALSE))","v":""},"",{"$error":"#N/A"},null,null,null,null,null,null,null,null,"",false,2,{"$f":"VLOOKUP(H5936,Database!$B$1:$E$4891,4,FALSE)","v":{"$error":"#N/A"}},true]
[5932,null,null,null,null,null,null,null,{"$f":"IF(ISERROR(VLOOKUP(H5937,Database!$B$1:$C$5908,2,FALSE)),\"\",VLOOKUP(H5937,Database!$B$1:$C$5908,2,FALSE))","v":""},"",{"$error":"#N/A"},null,null,null,null,null,null,null,null,"",false,2,{"$f":"VLOOKUP(H5937,Database!$B$1:$E$4891,4,FALSE)","v":{"$error":"#N/A"}},true]
[5933,null,null,null,null,null,null,null,{"$f":"IF(ISERROR(VLOOKUP(H5938,Database!$B$1:$C$5908,2,FALSE)),\"\",VLOOKUP(H5938,Database!$B$1:$C$5908,2,FALSE))","v":""},"",{"$error":"#N/A"},null,null,null,null,null,null,null,null,"",false,2,{"$f":"VLOOKUP(H5938,Database!$B$1:$E$4891,4,FALSE)","v":{"$error":"#N/A"}},true]
[5934,null,null,null,null,null,null,null,{"$f":"IF(ISERROR(VLOOKUP(H5939,Database!$B$1:$C$5908,2,FALSE)),\"\",VLOOKUP(H5939,Database!$B$1:$C$5908,2,FALSE))","v":""},"",{"$error":"#N/A"},null,null,null,null,null,null,null,null,"",false,2,{"$f":"VLOOKUP(H5939,Database!$B$1:$E$4891,4,FALSE)","v":{"$error":"#N/A"}},true]
[5935,null,null,null,null,null,null,null,{"$f":"IF(ISERROR(VLOOKUP(H5940,Database!$B$1:$C$5908,2,FALSE)),\"\",VLOOKUP(H5940,Database!$B$1:$C$5908,2,FALSE))","v":""},"",{"$error":"#N/A"},null,null,null,null,null,null,null,null,"",false,2,{"$f":"VLOOKUP(H5940,Database!$B$1:$E$4891,4,FALSE)","v":{"$error":"#N/A"}},true]
[5936,null,null,null,null,null,null,null,{"$f":"IF(ISERROR(VLOOKUP(H5941,Database!$B$1:$C$5908,2,FALSE)),\"\",VLOOKUP(H5941,Database!$B$1:$C$5908,2,FALSE))","v":""},"",{"$error":"#N/A"},null,null,null,null,null,null,null,null,"",false,2,{"$f":"VLOOKUP(H5941,Database!$B$1:$E$4891,4,FALSE)","v":{"$error":"#N/A"}},true]
[5937,null,null,null,null,null,null,null,{"$f":"IF(ISERROR(VLOOKUP(H5942,Database!$B$1:$C$5908,2,FALSE)),\"\",VLOOKUP(H5942,Database!$B$1:$C$5908,2,FALSE))","v":""},"",{"$error":"#N/A"},null,null,null,null,null,null,null,null,"",false,2,{"$f":"VLOOKUP(H5942,Database!$B$1:$E$4891,4,FALSE)","v":{"$error":"#N/A"}},true]
[5938,null,null,null,null,null,null,null,{"$f":"IF(ISERROR(VLOOKUP(H5943,Database!$B$1:$C$5908,2,FALSE)),\"\",VLOOKUP(H5943,Database!$B$1:$C$5908,2,FALSE))","v":""},"",{"$error":"#N/A"},null,null,null,null,null,null,null,null,"",false,2,{"$f":"VLOOKUP(H5943,Database!$B$1:$E$4891,4,FALSE)","v":{"$error":"#N/A"}},true]
[5939,null,null,null,null,null,null,null,{"$f":"IF(ISERROR(VLOOKUP(H5944,Database!$B$1:$C$5908,2,FALSE)),\"\",VLOOKUP(H5944,Database!$B$1:$C$5908,2,FALSE))","v":""},"",{"$error":"#N/A"},null,null,null,null,null,null,null,null,"",false,2,{"$f":"VLOOKUP(H5944,Database!$B$1:$E$4891,4,FALSE)","v":{"$error":"#N/A"}},true]
[5940,null,null,null,null,null,null,null,{"$f":"IF(ISERROR(VLOOKUP(H5945,Database!$B$1:$C$5908,2,FALSE)),\"\",VLOOKUP(H5945,Database!$B$1:$C$5908,2,FALSE))","v":""},"",{"$error":"#N/A"},null,null,null,null,null,null,null,null,"",false,2,{"$f":"VLOOKUP(H5945,Database!$B$1:$E$4891,4,FALSE)","v":{"$error":"#N/A"}},true]
[5941,null,null,null,null,null,null,null,{"$f":"IF(ISERROR(VLOOKUP(H5946,Database!$B$1:$C$5908,2,FALSE)),\"\",VLOOKUP(H5946,Database!$B$1:$C$5908,2,FALSE))","v":""},"",{"$error":"#N/A"},null,null,null,null,null,null,null,null,"",false,2,{"$f":"VLOOKUP(H5946,Database!$B$1:$E$4891,4,FALSE)","v":{"$error":"#N/A"}},true]
[5942,null,null,null,null,null,null,null,{"$f":"IF(ISERROR(VLOOKUP(H5947,Database!$B$1:$C$5908,2,FALSE)),\"\",VLOOKUP(H5947,Database!$B$1:$C$5908,2,FALSE))","v":""},"",{"$error":"#N/A"},null,null,null,null,null,null,null,null,"",false,2,{"$f":"VLOOKUP(H5947,Database!$B$1:$E$4891,4,FALSE)","v":{"$error":"#N/A"}},true]
[5943,null,null,null,null,null,null,null,{"$f":"IF(ISERROR(VLOOKUP(H5948,Database!$B$1:$C$5908,2,FALSE)),\"\",VLOOKUP(H5948,Database!$B$1:$C$5908,2,FALSE))","v":""},"",{"$error":"#N/A"},null,null,null,null,null,null,null,null,"",false,2,{"$f":"VLOOKUP(H5948,Database!$B$1:$E$4891,4,FALSE)","v":{"$error":"#N/A"}},true]
[5944,null,null,null,null,null,null,null,{"$f":"IF(ISERROR(VLOOKUP(H5949,Database!$B$1:$C$5908,2,FALSE)),\"\",VLOOKUP(H5949,Database!$B$1:$C$5908,2,FALSE))","v":""},"",{"$error":"#N/A"},null,null,null,null,null,null,null,null,"",false,2,{"$f":"VLOOKUP(H5949,Database!$B$1:$E$4891,4,FALSE)","v":{"$error":"#N/A"}},true]
[5945,null,null,null,null,null,null,null,{"$f":"IF(ISERROR(VLOOKUP(H5950,Database!$B$1:$C$5908,2,FALSE)),\"\",VLOOKUP(H5950,Database!$B$1:$C$5908,2,FALSE))","v":""},"",{"$error":"#N/A"},null,null,null,null,null,null,null,null,"",false,2,{"$f":"VLOOKUP(H5950,Database!$B$1:$E$4891,4,FALSE)","v":{"$error":"#N/A"}},true]
[5946,null,null,null,null,null,null,null,{"$f":"IF(ISERROR(VLOOKUP(H5951,Database!$B$1:$C$5908,2,FALSE)),\"\",VLOOKUP(H5951,Database!$B$1:$C$5908,2,FALSE))","v":""},"",{"$error":"#N/A"},null,null,null,null,null,null,null,null,"",false,2,{"$f":"VLOOKUP(H5951,Database!$B$1:$E$4891,4,FALSE)","v":{"$error":"#N/A"}},true]
[5947,null,null,null,null,null,null,null,{"$f":"IF(ISERROR(VLOOKUP(H5952,Database!$B$1:$C$5908,2,FALSE)),\"\",VLOOKUP(H5952,Database!$B$1:$C$5908,2,FALSE))","v":""},"",{"$error":"#N/A"},null,null,null,null,null,null,null,null,"",false,2,{"$f":"VLOOKUP(H5952,Database!$B$1:$E$4891,4,FALSE)","v":{"$error":"#N/A"}},true]
[5948,null,null,null,null,null,null,null,{"$f":"IF(ISERROR(VLOOKUP(H5953,Database!$B$1:$C$5908,2,FALSE)),\"\",VLOOKUP(H5953,Database!$B$1:$C$5908,2,FALSE))","v":""},"",{"$error":"#N/A"},null,null,null,null,null,null,null,null,"",false,2,{"$f":"VLOOKUP(H5953,Database!$B$1:$E$4891,4,FALSE)","v":{"$error":"#N/A"}},true]
[5949,null,null,null,null,null,null,null,{"$f":"IF(ISERROR(VLOOKUP(H5954,Database!$B$1:$C$5908,2,FALSE)),\"\",VLOOKUP(H5954,Database!$B$1:$C$5908,2,FALSE))","v":""},"",{"$error":"#N/A"},null,null,null,null,null,null,null,null,"",false,2,{"$f":"VLOOKUP(H5954,Database!$B$1:$E$4891,4,FALSE)","v":{"$error":"#N/A"}},true]
[5950,null,null,null,null,null,null,null,{"$f":"IF(ISERROR(VLOOKUP(H5955,Database!$B$1:$C$5908,2,FALSE)),\"\",VLOOKUP(H5955,Database!$B$1:$C$5908,2,FALSE))","v":""},"",{"$error":"#N/A"},null,null,null,null,null,null,null,null,"",false,2,{"$f":"VLOOKUP(H5955,Database!$B$1:$E$4891,4,FALSE)","v":{"$error":"#N/A"}},true]
[5951,null,null,null,null,null,null,null,{"$f":"IF(ISERROR(VLOOKUP(H5956,Database!$B$1:$C$5908,2,FALSE)),\"\",VLOOKUP(H5956,Database!$B$1:$C$5908,2,FALSE))","v":""},"",{"$error":"#N/A"},null,null,null,null,null,null,null,null,"",false,2,{"$f":"VLOOKUP(H5956,Database!$B$1:$E$4891,4,FALSE)","v":{"$error":"#N/A"}},true]
[5952,null,null,null,null,null,null,null,{"$f":"IF(ISERROR(VLOOKUP(H5957,Database!$B$1:$C$5908,2,FALSE)),\"\",VLOOKUP(H5957,Database!$B$1:$C$5908,2,FALSE))","v":""},"",{"$error":"#N/A"},null,null,null,null,null,null,null,null,"",false,2,{"$f":"VLOOKUP(H5957,Database!$B$1:$E$4891,4,FALSE)","v":{"$error":"#N/A"}},true]
[5953,null,null,null,null,null,null,null,{"$f":"IF(ISERROR(VLOOKUP(H5958,Database!$B$1:$C$5908,2,FALSE)),\"\",VLOOKUP(H5958,Database!$B$1:$C$5908,2,FALSE))","v":""},"",{"$error":"#N/A"},null,null,null,null,null,null,null,null,"",false,2,{"$f":"VLOOKUP(H5958,Database!$B$1:$E$4891,4,FALSE)","v":{"$error":"#N/A"}},true]
[{"$f":"A5958+1","v":5954},null,null,null,null,null,null,null,{"$f":"IF(ISERROR(VLOOKUP(H5959,Database!$B$1:$C$5908,2,FALSE)),\"\",VLOOKUP(H5959,Database!$B$1:$C$5908,2,FALSE))","v":""},{"$f":"IF(V5959=1,1,IF(AND(T5959=0,F5959=\"SSB\",V5959<>\"\"),2,IF(AND(T5959=0,F5959=\"FM\",V5959<>\"\"),2,IF(AND(T5959=0,F5959=\"DIGI\",V5959<>\"\"),3,IF(AND(T5959=0,F5959=\"CW\",V5959<>\"\"),5,IF(H5959=\"-\",\"\",T5959))))))","v":""},{"$f":"IF(H5959=\"-\",\"\",IF(AND(H5959<>\"\",X5959=TRUE),\"INDIPENDENT\",IF(W5959=0,\"SCRIVI NOME NELLE NOTE\",W5959)))","v":{"$error":"#N/A"}},null,null,null,null,null,null,null,null,{"$f":"IF(H5959=\"\",\"\",IF(H5959=$R$6,25,IF(OR(H5959=$R$7,H5959=$R$8,H5959=$R$9,H5959=$R$10,H5959=$R$11,H5959=$R$12,H5959=$R$13,H5959=$R$14,H5959=$R$15,H5959=$R$16,H5959=$R$17,H5959=$R$18,H5959=$R$19,H5959=$R$20,H5959=$R$21,H5959=$R$22,H5959=$R$23),15,0)))","v":""},{"$f":"ISERROR(I5959)","v":false},2,{"$f":"VLOOKUP(H5959,Database!$B$1:$E$4891,4,FALSE)","v":{"$error":"#N/A"}},{"$f":"ISERROR(W5959)","v":true}]
[5955,null,null,null,null,null,null,null,{"$f":"IF(ISERROR(VLOOKUP(H5960,Database!$B$1:$C$5908,2,FALSE)),\"\",VLOOKUP(H5960,Database!$B$1:$C$5908,2,FALSE))","v":""},"",{"$error":"#N/A"},null,null,null,null,null,null,null,null,"",false,{"$f":"IF(H5960=\"-\",\"\",IF(AND(T5960=0,U5960=FALSE,I5960=\"\"),1,2))","v":2},{"$f":"VLOOKUP(H5960,Database!$B$1:$E$4891,4,FALSE)","v":{"$error":"#N/A"}},true]
[5956,null,null,null,null,null,null,null,{"$f":"IF(ISERROR(VLOOKUP(H5961,Database!$B$1:$C$5908,2,FALSE)),\"\",VLOOKUP(H5961,Database!$B$1:$C$5908,2,FALSE))","v":""},"",{"$error":"#N/A"},null,null,null,null,null,null,null,null,"",false,2,{"$f":"VLOOKUP(H5961,Database!$B$1:$E$4891,4,FALSE)","v":{"$error":"#N/A"}},true]
[5957,null,null,null,null,null,null,null,{"$f":"IF(ISERROR(VLOOKUP(H5962,Database!$B$1:$C$5908,2,FALSE)),\"\",VLOOKUP(H5962,Database!$B$1:$C$5908,2,FALSE))","v":""},"",{"$error":"#N/A"},null,null,null,null,null,null,null,null,"",false,2,{"$f":"VLOOKUP(H5962,Database!$B$1:$E$4891,4,FALSE)","v":{"$error":"#N/A"}},true]
[5958,null,null,null,null,null,null,null,{"$f":"IF(ISERROR(VLOOKUP(H5963,Database!$B$1:$C$5908,2,FALSE)),\"\",VLOOKUP(H5963,Database!$B$1:$C$5908,2,FALSE))","v":""},"",{"$error":"#N/A"},null,null,null,null,null,null,null,null,"",false,2,{"$f":"VLOOKUP(H5963,Database!$B$1:$E$4891,4,FALSE)","v":{"$error":"#N/A"}},true]
[5959,null,null,null,null,null,null,null,{"$f":"IF(ISERROR(VLOOKUP(H5964,Database!$B$1:$C$5908,2,FALSE)),\"\",VLOOKUP(H5964,Database!$B$1:$C$5908,2,FALSE))","v":""},"",{"$error":"#N/A"},null,null,null,null,null,null,null,null,"",false,2,{"$f":"VLOOKUP(H5964,Database!$B$1:$E$4891,4,FALSE)","v":{"$error":"#N/A"}},true]
[5960,null,null,null,null,null,null,null,{"$f":"IF(ISERROR(VLOOKUP(H5965,Database!$B$1:$C$5908,2,FALSE)),\"\",VLOOKUP(H5965,Database!$B$1:$C$5908,2,FALSE))","v":""},"",{"$error":"#N/A"},null,null,null,null,null,null,null,null,"",false,2,{"$f":"VLOOKUP(H5965,Database!$B$1:$E$4891,4,FALSE)","v":{"$error":"#N/A"}},true]
[5961,null,null,null,null,null,null,null,{"$f":"IF(ISERROR(VLOOKUP(H5966,Database!$B$1:$C$5908,2,FALSE)),\"\",VLOOKUP(H5966,Database!$B$1:$C$5908,2,FALSE))","v":""},"",{"$error":"#N/A"},null,null,null,null,null,null,null,null,"",false,2,{"$f":"VLOOKUP(H5966,Database!$B$1:$E$4891,4,FALSE)","v":{"$error":"#N/A"}},true]
[5962,null,null,null,null,null,null,null,{"$f":"IF(ISERROR(VLOOKUP(H5967,Database!$B$1:$C$5908,2,FALSE)),\"\",VLOOKUP(H5967,Database!$B$1:$C$5908,2,FALSE))","v":""},"",{"$error":"#N/A"},null,null,null,null,null,null,null,null,"",false,2,{"$f":"VLOOKUP(H5967,Database!$B$1:$E$4891,4,FALSE)","v":{"$error":"#N/A"}},true]
[5963,null,null,null,null,null,null,null,{"$f":"IF(ISERROR(VLOOKUP(H5968,Database!$B$1:$C$5908,2,FALSE)),\"\",VLOOKUP(H5968,Database!$B$1:$C$5908,2,FALSE))","v":""},"",{"$error":"#N/A"},null,null,null,null,null,null,null,null,"",false,2,{"$f":"VLOOKUP(H5968,Database!$B$1:$E$4891,4,FALSE)","v":{"$error":"#N/A"}},true]
[5964,null,null,null,null,null,null,null,{"$f":"IF(ISERROR(VLOOKUP(H5969,Database!$B$1:$C$5908,2,FALSE)),\"\",VLOOKUP(H5969,Database!$B$1:$C$5908,2,FALSE))","v":""},"",{"$f":"IF(H5969=\"-\",\"\",IF(AND(H5969<>\"\",X5969=TRUE),\"INDIPENDENT\",IF(W5969=0,\"SCRIVI NOME NELLE NOTE\",W5969)))","v":{"$error":"#N/A"}},null,null,null,null,null,null,null,null,"",false,2,{"$f":"VLOOKUP(H5969,Database!$B$1:$E$4891,4,FALSE)","v":{"$error":"#N/A"}},true]
[5965,null,null,null,null,null,null,null,{"$f":"IF(ISERROR(VLOOKUP(H5970,Database!$B$1:$C$5908,2,FALSE)),\"\",VLOOKUP(H5970,Database!$B$1:$C$5908,2,FALSE))","v":""},"",{"$error":"#N/A"},null,null,null,null,null,null,null,null,"",false,2,{"$f":"VLOOKUP(H5970,Database!$B$1:$E$4891,4,FALSE)","v":{"$error":"#N/A"}},true]
[5966,null,null,null,null,null,null,null,{"$f":"IF(ISERROR(VLOOKUP(H5971,Database!$B$1:$C$5908,2,FALSE)),\"\",VLOOKUP(H5971,Database!$B$1:$C$5908,2,FALSE))","v":""},"",{"$error":"#N/A"},null,null,null,null,null,null,null,null,"",false,2,{"$f":"VLOOKUP(H5971,Database!$B$1:$E$4891,4,FALSE)","v":{"$error":"#N/A"}},true]
[5967,null,null,null,null,null,null,null,{"$f":"IF(ISERROR(VLOOKUP(H5972,Database!$B$1:$C$5908,2,FALSE)),\"\",VLOOKUP(H5972,Database!$B$1:$C$5908,2,FALSE))","v":""},"",{"$error":"#N/A"},null,null,null,null,null,null,null,null,"",false,2,{"$f":"VLOOKUP(H5972,Database!$B$1:$E$4891,4,FALSE)","v":{"$error":"#N/A"}},true]
[5968,null,null,null,null,null,null,null,{"$f":"IF(ISERROR(VLOOKUP(H5973,Database!$B$1:$C$5908,2,FALSE)),\"\",VLOOKUP(H5973,Database!$B$1:$C$5908,2,FALSE))","v":""},"",{"$error":"#N/A"},null,null,null,null,null,null,null,null,"",false,2,{"$f":"VLOOKUP(H5973,Database!$B$1:$E$4891,4,FALSE)","v":{"$error":"#N/A"}},true]
[5969,null,null,null,null,null,null,null,{"$f":"IF(ISERROR(VLOOKUP(H5974,Database!$B$1:$C$5908,2,FALSE)),\"\",VLOOKUP(H5974,Database!$B$1:$C$5908,2,FALSE))","v":""},"",{"$error":"#N/A"},null,null,null,null,null,null,null,null,"",false,2,{"$f":"VLOOKUP(H5974,Database!$B$1:$E$4891,4,FALSE)","v":{"$error":"#N/A"}},true]
[5970,null,null,null,null,null,null,null,{"$f":"IF(ISERROR(VLOOKUP(H5975,Database!$B$1:$C$5908,2,FALSE)),\"\",VLOOKUP(H5975,Database!$B$1:$C$5908,2,FALSE))","v":""},"",{"$error":"#N/A"},null,null,null,null,null,null,null,null,"",false,2,{"$f":"VLOOKUP(H5975,Database!$B$1:$E$4891,4,FALSE)","v":{"$error":"#N/A"}},true]
[5971,null,null,null,null,null,null,null,{"$f":"IF(ISERROR(VLOOKUP(H5976,Database!$B$1:$C$5908,2,FALSE)),\"\",VLOOKUP(H5976,Database!$B$1:$C$5908,2,FALSE))","v":""},"",{"$error":"#N/A"},null,null,null,null,null,null,null,null,"",false,2,{"$f":"VLOOKUP(H5976,Database!$B$1:$E$4891,4,FALSE)","v":{"$error":"#N/A"}},true]
[5972,null,null,null,null,null,null,null,{"$f":"IF(ISERROR(VLOOKUP(H5977,Database!$B$1:$C$5908,2,FALSE)),\"\",VLOOKUP(H5977,Database!$B$1:$C$5908,2,FALSE))","v":""},"",{"$error":"#N/A"},null,null,null,null,null,null,null,null,"",false,2,{"$f":"VLOOKUP(H5977,Database!$B$1:$E$4891,4,FALSE)","v":{"$error":"#N/A"}},true]
[5973,null,null,null,null,null,null,null,{"$f":"IF(ISERROR(VLOOKUP(H5978,Database!$B$1:$C$5908,2,FALSE)),\"\",VLOOKUP(H5978,Database!$B$1:$C$5908,2,FALSE))","v":""},"",{"$error":"#N/A"},null,null,null,null,null,null,null,null,"",false,2,{"$f":"VLOOKUP(H5978,Database!$B$1:$E$4891,4,FALSE)","v":{"$error":"#N/A"}},true]
[5974,null,null,null,null,null,null,null,{"$f":"IF(ISERROR(VLOOKUP(H5979,Database!$B$1:$C$5908,2,FALSE)),\"\",VLOOKUP(H5979,Database!$B$1:$C$5908,2,FALSE))","v":""},"",{"$error":"#N/A"},null,null,null,null,null,null,null,null,"",false,2,{"$f":"VLOOKUP(H5979,Database!$B$1:$E$4891,4,FALSE)","v":{"$error":"#N/A"}},true]
[5975,null,null,null,null,null,null,null,{"$f":"IF(ISERROR(VLOOKUP(H5980,Database!$B$1:$C$5908,2,FALSE)),\"\",VLOOKUP(H5980,Database!$B$1:$C$5908,2,FALSE))","v":""},"",{"$error":"#N/A"},null,null,null,null,null,null,null,null,"",false,2,{"$f":"VLOOKUP(H5980,Database!$B$1:$E$4891,4,FALSE)","v":{"$error":"#N/A"}},true]
[5976,null,null,null,null,null,null,null,{"$f":"IF(ISERROR(VLOOKUP(H5981,Database!$B$1:$C$5908,2,FALSE)),\"\",VLOOKUP(H5981,Database!$B$1:$C$5908,2,FALSE))","v":""},"",{"$error":"#N/A"},null,null,null,null,null,null,null,null,"",false,2,{"$f":"VLOOKUP(H5981,Database!$B$1:$E$4891,4,FALSE)","v":{"$error":"#N/A"}},true]
[5977,null,null,null,null,null,null,null,{"$f":"IF(ISERROR(VLOOKUP(H5982,Database!$B$1:$C$5908,2,FALSE)),\"\",VLOOKUP(H5982,Database!$B$1:$C$5908,2,FALSE))","v":""},"",{"$error":"#N/A"},null,null,null,null,null,null,null,null,"",false,2,{"$f":"VLOOKUP(H5982,Database!$B$1:$E$4891,4,FALSE)","v":{"$error":"#N/A"}},true]
[5978,null,null,null,null,null,null,null,{"$f":"IF(ISERROR(VLOOKUP(H5983,Database!$B$1:$C$5908,2,FALSE)),\"\",VLOOKUP(H5983,Database!$B$1:$C$5908,2,FALSE))","v":""},"",{"$error":"#N/A"},null,null,null,null,null,null,null,null,"",false,2,{"$f":"VLOOKUP(H5983,Database!$B$1:$E$4891,4,FALSE)","v":{"$error":"#N/A"}},true]
[5979,null,null,null,null,null,null,null,{"$f":"IF(ISERROR(VLOOKUP(H5984,Database!$B$1:$C$5908,2,FALSE)),\"\",VLOOKUP(H5984,Database!$B$1:$C$5908,2,FALSE))","v":""},"",{"$error":"#N/A"},null,null,null,null,null,null,null,null,"",false,2,{"$f":"VLOOKUP(H5984,Database!$B$1:$E$4891,4,FALSE)","v":{"$error":"#N/A"}},true]
[5980,null,null,null,null,null,null,null,{"$f":"IF(ISERROR(VLOOKUP(H5985,Database!$B$1:$C$5908,2,FALSE)),\"\",VLOOKUP(H5985,Database!$B$1:$C$5908,2,FALSE))","v":""},"",{"$error":"#N/A"},null,null,null,null,null,null,null,null,"",false,2,{"$f":"VLOOKUP(H5985,Database!$B$1:$E$4891,4,FALSE)","v":{"$error":"#N/A"}},true]
[5981,null,null,null,null,null,null,null,{"$f":"IF(ISERROR(VLOOKUP(H5986,Database!$B$1:$C$5908,2,FALSE)),\"\",VLOOKUP(H5986,Database!$B$1:$C$5908,2,FALSE))","v":""},"",{"$error":"#N/A"},null,null,null,null,null,null,null,null,"",false,2,{"$f":"VLOOKUP(H5986,Database!$B$1:$E$4891,4,FALSE)","v":{"$error":"#N/A"}},true]
[5982,null,null,null,null,null,null,null,{"$f":"IF(ISERROR(VLOOKUP(H5987,Database!$B$1:$C$5908,2,FALSE)),\"\",VLOOKUP(H5987,Database!$B$1:$C$5908,2,FALSE))","v":""},"",{"$error":"#N/A"},null,null,null,null,null,null,null,null,"",false,2,{"$f":"VLOOKUP(H5987,Database!$B$1:$E$4891,4,FALSE)","v":{"$error":"#N/A"}},true]
[5983,null,null,null,null,null,null,null,{"$f":"IF(ISERROR(VLOOKUP(H5988,Database!$B$1:$C$5908,2,FALSE)),\"\",VLOOKUP(H5988,Database!$B$1:$C$5908,2,FALSE))","v":""},"",{"$error":"#N/A"},null,null,null,null,null,null,null,null,"",false,2,{"$f":"VLOOKUP(H5988,Database!$B$1:$E$4891,4,FALSE)","v":{"$error":"#N/A"}},true]
[5984,null,null,null,null,null,null,null,{"$f":"IF(ISERROR(VLOOKUP(H5989,Database!$B$1:$C$5908,2,FALSE)),\"\",VLOOKUP(H5989,Database!$B$1:$C$5908,2,FALSE))","v":""},"",{"$error":"#N/A"},null,null,null,null,null,null,null,null,"",false,2,{"$f":"VLOOKUP(H5989,Database!$B$1:$E$4891,4,FALSE)","v":{"$error":"#N/A"}},true]
[5985,null,null,null,null,null,null,null,{"$f":"IF(ISERROR(VLOOKUP(H5990,Database!$B$1:$C$5908,2,FALSE)),\"\",VLOOKUP(H5990,Database!$B$1:$C$5908,2,FALSE))","v":""},"",{"$error":"#N/A"},null,null,null,null,null,null,null,null,"",false,2,{"$f":"VLOOKUP(H5990,Database!$B$1:$E$4891,4,FALSE)","v":{"$error":"#N/A"}},true]
[5986,null,null,null,null,null,null,null,{"$f":"IF(ISERROR(VLOOKUP(H5991,Database!$B$1:$C$5908,2,FALSE)),\"\",VLOOKUP(H5991,Database!$B$1:$C$5908,2,FALSE))","v":""},"",{"$error":"#N/A"},null,null,null,null,null,null,null,null,"",false,2,{"$f":"VLOOKUP(H5991,Database!$B$1:$E$4891,4,FALSE)","v":{"$error":"#N/A"}},true]
[5987,null,null,null,null,null,null,null,{"$f":"IF(ISERROR(VLOOKUP(H5992,Database!$B$1:$C$5908,2,FALSE)),\"\",VLOOKUP(H5992,Database!$B$1:$C$5908,2,FALSE))","v":""},"",{"$error":"#N/A"},null,null,null,null,null,null,null,null,"",false,2,{"$f":"VLOOKUP(H5992,Database!$B$1:$E$4891,4,FALSE)","v":{"$error":"#N/A"}},true]
[5988,null,null,null,null,null,null,null,{"$f":"IF(ISERROR(VLOOKUP(H5993,Database!$B$1:$C$5908,2,FALSE)),\"\",VLOOKUP(H5993,Database!$B$1:$C$5908,2,FALSE))","v":""},"",{"$error":"#N/A"},null,null,null,null,null,null,null,null,"",false,2,{"$f":"VLOOKUP(H5993,Database!$B$1:$E$4891,4,FALSE)","v":{"$error":"#N/A"}},true]
[5989,null,null,null,null,null,null,null,{"$f":"IF(ISERROR(VLOOKUP(H5994,Database!$B$1:$C$5908,2,FALSE)),\"\",VLOOKUP(H5994,Database!$B$1:$C$5908,2,FALSE))","v":""},"",{"$error":"#N/A"},null,null,null,null,null,null,null,null,"",false,2,{"$f":"VLOOKUP(H5994,Database!$B$1:$E$4891,4,FALSE)","v":{"$error":"#N/A"}},true]
[5990,null,null,null,null,null,null,null,{"$f":"IF(ISERROR(VLOOKUP(H5995,Database!$B$1:$C$5908,2,FALSE)),\"\",VLOOKUP(H5995,Database!$B$1:$C$5908,2,FALSE))","v":""},"",{"$error":"#N/A"},null,null,null,null,null,null,null,null,"",false,2,{"$f":"VLOOKUP(H5995,Database!$B$1:$E$4891,4,FALSE)","v":{"$error":"#N/A"}},true]
[5991,null,null,null,null,null,null,null,{"$f":"IF(ISERROR(VLOOKUP(H5996,Database!$B$1:$C$5908,2,FALSE)),\"\",VLOOKUP(H5996,Database!$B$1:$C$5908,2,FALSE))","v":""},"",{"$error":"#N/A"},null,null,null,null,null,null,null,null,"",false,2,{"$f":"VLOOKUP(H5996,Database!$B$1:$E$4891,4,FALSE)","v":{"$error":"#N/A"}},true]
[5992,null,null,null,null,null,null,null,{"$f":"IF(ISERROR(VLOOKUP(H5997,Database!$B$1:$C$5908,2,FALSE)),\"\",VLOOKUP(H5997,Database!$B$1:$C$5908,2,FALSE))","v":""},"",{"$error":"#N/A"},null,null,null,null,null,null,null,null,"",false,2,{"$f":"VLOOKUP(H5997,Database!$B$1:$E$4891,4,FALSE)","v":{"$error":"#N/A"}},true]
[5993,null,null,null,null,null,null,null,{"$f":"IF(ISERROR(VLOOKUP(H5998,Database!$B$1:$C$5908,2,FALSE)),\"\",VLOOKUP(H5998,Database!$B$1:$C$5908,2,FALSE))","v":""},"",{"$error":"#N/A"},null,null,null,null,null,null,null,null,"",false,2,{"$f":"VLOOKUP(H5998,Database!$B$1:$E$4891,4,FALSE)","v":{"$error":"#N/A"}},true]
[5994,null,null,null,null,null,null,null,{"$f":"IF(ISERROR(VLOOKUP(H5999,Database!$B$1:$C$5908,2,FALSE)),\"\",VLOOKUP(H5999,Database!$B$1:$C$5908,2,FALSE))","v":""},"",{"$error":"#N/A"},null,null,null,null,null,null,null,null,"",{"$f":"ISERROR(I5999)","v":false},2,{"$f":"VLOOKUP(H5999,Database!$B$1:$E$4891,4,FALSE)","v":{"$error":"#N/A"}},{"$f":"ISERROR(W5999)","v":true}]
[5995,null,null,null,null,null,null,null,{"$f":"IF(ISERROR(VLOOKUP(H6000,Database!$B$1:$C$5908,2,FALSE)),\"\",VLOOKUP(H6000,Database!$B$1:$C$5908,2,FALSE))","v":""},"",{"$error":"#N/A"},null,null,null,null,null,null,null,null,"",{"$f":"ISERROR(I6000)","v":false},2,{"$f":"VLOOKUP(H6000,Database!$B$1:$E$4891,4,FALSE)","v":{"$error":"#N/A"}},{"$f":"ISERROR(W6000)","v":true}]
[null,null,null,null,null,null,null,null,null,{"$f":"IF(V6001=1,1,IF(AND(T6001=0,F6001=\"SSB\",V6001<>\"\"),2,IF(AND(T6001=0,F6001=\"FM\",V6001<>\"\"),2,IF(AND(T6001=0,F6001=\"PSK31\",V6001<>\"\"),3,IF(AND(T6001=0,F6001=\"RTTY\",V6001<>\"\"),3,IF(AND(T6001=0,F6001=\"CW\",V6001<>\"\"),5,IF(H6001=\"-\",\"\",T6001)))))))","v":""},null,null,null,null,null,null,null,null,null,""]

{"sheet":"Statisti","index":2,"n_rows":3,"n_cols":7,"rows_kept":3,"cut":false,"hidden":false,"merged":[[2,6,2,13],[27,7,27,12]]}
[]
[]
[null,null,null,null,null,null,"STATISTICA CONTEST"]

{"sheet":"Database","index":3,"n_rows":5001,"n_cols":9,"rows_kept":5001,"cut":false,"hidden":false,"merged":[]}
["N°","    NOMINATIVO","N° ASSOC.","ASSOCIAZIONE","NOME","DATABASE AGGIORNATO AL ","2016-09-10","Righe prenotate fino a 5001"]
[{"$f":"ROW(A1)","v":1},"IT9MRM","MI001","ARMI","ALBERTO "]
[{"$f":"ROW(A2)","v":2},"IT9QQL","MI002","ARMI","NICOLA"]
[{"$f":"ROW(A3)","v":3},"IT9PIY","MI003","ARMI","RAFFAELE ","Associazione","Totali Associati ","Ultimo Socio","Totali"]
[4,"IK4NYY","MI005","ARMI","ELIO","ARMI",{"$f":"COUNTIF(D3:D4888,\"ARMI\")+1","v":1262},{"$f":"VLOOKUP(I5,A3:E4888,3)","v":"MI1354"},{"$f":"G5","v":1262}]
[5,"IZ7ANO","MI007","ARMI","LEONARDO ","BMARS",{"$f":"COUNTIF(D3:D4888,\"BMARS\")","v":121},{"$f":"VLOOKUP(I6,A3:E4888,3)","v":"BM146"},{"$f":"I5+G6","v":1383}]
[6,"IK2SOE","MI008","ARMI","ANDREA","FNARS",{"$f":"COUNTIF(D4:D4889,\"FNARS\")","v":54},"FN600",1437]
[7,"IK6IJF","MI009","ARMI","ALFREDO","INORC",{"$f":"COUNTIF(D5:D4890,\"INORC\")","v":260},"IN648",1697]
[8,"IT9WKX","MI010","ARMI","VITTORIO ","MARAC",{"$f":"COUNTIF(D6:D4891,\"MARAC\")","v":183},"MA1000",1880]
[9,"IK1DQW","MI011","ARMI","ADOLFO","MF",{"$f":"COUNTIF(D7:D4894,\"MF\")","v":373},{"$f":"VLOOKUP(I10,A7:E4894,3)","v":"MF570"},2253]
[10,"I8XTX","MI012","ARMI","PASQUALE","MFCA",{"$f":"COUNTIF(D8:D4895,\"MFCA\")","v":127},{"$f":"VLOOKUP(I11,A8:E4895,3)","v":"CA300"},2380]
[11,"IK4WLG","MI013","ARMI","LUIGI","NRA",{"$f":"COUNTIF(D9:D4896,\"NRA\")","v":93},{"$f":"VLOOKUP(I12,A9:E4896,3)","v":"PN077"},2473]
[12,"IT9DTU","MI014","ARMI","NUNZIO","RNARS",{"$f":"COUNTIF(D10:D4897,\"RNARS\")","v":800},{"$f":"VLOOKUP(I13,A10:E4897,3)","v":"RN4923"},3273]
[13,"IC8GVV","MI015","ARMI","LUIGI","YOMARC",{"$f":"COUNTIF(D11:D4898,\"YOMARC\")","v":113},{"$f":"VLOOKUP(I14,A11:E4898,3)","v":"YO129"},3386]
[14,"IK0YKK","MI016","ARMI","PIERPAOLO","TOTALE",{"$f":"SUM(G5:G14)","v":3386},"DATABASE",{"$f":"I14","v":3386}]
[15,"IZ2CDQ","MI017","ARMI","GIOVANNI"]
[16,"IC8CQF","MI019","ARMI","PASQUALE"]
[17,"I5DOF","MI020","ARMI","FRANCO"]
[18,"IK1MVX","MI021","ARMI","ANDREA"]
[19,"IK2PYX","MI022","ARMI","PIERLUIGI"]
[20,"IK8VKW","MI024","ARMI","FRANCESCO"]
[21,"IW7BWW","MI025","ARMI","VINCENZO"]
[22,"IT9YMX","MI026","ARMI","CARLO"]
[23,"IT9WDY","MI027","ARMI","ALFONSO"]
[24,"IK8YSV","MI028","ARMI","MASSIMO"]
[25,"I7TZU","MI029","ARMI","FERNANDO"]
[26,"IV3UHX","MI030","ARMI","VINICIO"]
[27,"I6HWD","MI031","ARMI","DOMENICO"]
[28,"IZ8AZC","MI032","ARMI","VINCENZO"]
[29,"IK6VHL","MI033","ARMI","FABIO"]
[30,"IZ1ELP","MI034","ARMI","EDGARDO"]
[31,"I6BQI","MI035","ARMI","ANGELO"]
[32,"I6FDJ","MI036","ARMI","FILIPPO"]
[33,"IW2LRJ","MI037","ARMI","ZERLINO"]
[34,"IW2JQT","MI038","ARMI","STEFANO"]
[35,"I4JCJ","MI039","ARMI","GIOVANNI"]
[36,"I0DFY","MI040","ARMI","DOMENICO"]
[37,"IZ6EGW","MI041","ARMI","ERCOLE"]
[38,"IK0XFW","MI042","ARMI","MATTEO"]
[39,"I7WYF","MI043","ARMI","FRANCO"]
[40,"IK6IOK","MI044","ARMI","WALTER"]
[41,"IK1BES","MI045","ARMI","GUIDO"]
[42,"IV3-1069","MI046","ARMI","MARIO"]
[43,"IW3FLC","MI047","ARMI","RAFFAELE"]
[44,"IK1DLW","MI048","ARMI","GIOVANNI"]
[45,"IK3ZBD","MI049","ARMI","ANTONIO"]
[46,"IV3ZUY","MI050","ARMI","GIOVANNI"]
[47,"IK5EED","MI051","ARMI","ASPASIO"]
[48,"IZ0CDM","MI052","ARMI","ROBERTO"]
[49,"ON4CBM","MI053","ARMI","BERT"]
[50,"IZ0DGI","MI054","ARMI","GIANCARLO"]
[51,"IK4PNE","MI056","ARMI","PAOLO"]
[52,"IK7AGH","MI057","ARMI","VITTORIO"]
[53,"I8HXG","MI058","ARMI","GIUSEPPE"]
[54,"I2AZ","MI060","ARMI","GIUSEPPE"]
[55,"IT9RUT","MI062","ARMI","SEBASTIANO"]
[56,"IW9FQJ","MI063","ARMI","FABIO"]
[57,"KE6CVH","MI064","ARMI","MIKE"]
[58,"IK6UGD","MI065","ARMI","CLAUDIO"]
[59,"IK6PUO","MI066","ARMI","FILIPPO"]
[60,"IZ8EQK","MI067","ARMI","GIUSEPPE"]
[61,"I7OXH","MI068","ARMI","ALDO"]
[62,"IW2NKY","MI069","ARMI","GIUSEPPE"]
[63,"I0AIL","MI070","ARMI","GIANCARLO"]
[64,"IW2NXN","MI071","ARMI","CARLO"]
[65,"IZ4BYD","MI072","ARMI","FRANCO"]
[66,"IZ0EGC","MI073","ARMI","CARLO"]
[{"$f":"ROW(A67)","v":67},"IV3AJZ","MI074","ARMI","CLAUDIO"]
[68,"IZ8FCN","MI075","ARMI","ALESSANDRO"]
[69,"I5NQK","MI076","ARMI","ANTONIO"]
[70,"IT9EJW","MI077","ARMI","ALFIO"]
[71,"IW2NBV","MI078","ARMI","ALESSIO"]
[72,"IW2LGL","MI079","ARMI","RENATO"]
[73,"IZ7EDQ","MI080","ARMI","LEONARDO"]
[74,"IT9MNW","MI081","ARMI","GIOVANNI"]
[75,"DL0MF","MI082","ARMI","MARINEFUNKER"]
[76,"I7HQS","MI083","ARMI","GIUSEPPE"]
[77,"IZ2NAB","MI084","ARMI","GIANCARLO"]
[78,"IK1MAJ","MI085","ARMI","BRUNO"]
[79,"IZ0AIO","MI086","ARMI","ANGELO"]
[80,"IZ7HNO","MI087","ARMI","BARTOLOMEO"]
[81,"DP1POL","MI088","ARMI","FELIX"]
[82,"IV3XYM","MI089","ARMI","ALESSANDRO"]
[83,"IK1NLZ","MI090","ARMI","PAOLO"]
[84,"IW8EHK","MI091","ARMI","ALESSANDRO"]
[85,"IK0OZB","MI092","ARMI","LUIGI"]
[86,"IW7CYA","MI093","ARMI","MASSIMILIANO"]
[87,"IV3PTU","MI094","ARMI","FRANCO"]
[88,"IM0SDX","MI095","ARMI","PIERGIORGIO"]
[89,"IW3IE","MI096","ARMI","GIACOMO"]
[90,"IZ7AUH","MI097","ARMI","FRANCESCO"]
[91,"IW3ICC","MI098","ARMI","VIVIAN"]
[92,"IK4-1781","MI099","ARMI","DUZZI"]
[93,"IK1QLD","MI100","ARMI","ANGELO"]
[94,"IW9GXT","MI101","ARMI","DANIELE"]
[95,"IK2QBA","MI102","ARMI","ENRICO"]
[96,"IW8EYM","MI103","ARMI","DAVIDE"]
[97,"IK6ZTK","MI104","ARMI","MARINO"]
[98,"IZ1GTB","MI105","ARMI","CLAUDIO"]
[99,"IK0JFS","MI106","ARMI","COSMO"]
[100,"IV3GCD","MI107","ARMI","STEFANO"]
[101,"IT9OTF","MI108","ARMI","FRANCESCO"]
[102,"SV1UG","MI109","ARMI","ATHANASIOU"]
[103,"IW9HCI","MI110","ARMI","GIACOMO"]
[104,"IK0WFZ","MI111","ARMI","ROLANDO"]
[105,"IZ1EGT","MI112","ARMI","FABIO"]
[106,"IZ1CCH","MI113","ARMI","ORAZIO"]
[107,"IZ0JSD","MI114","ARMI","ALESSANDRO"]
[108,"IW1RLR","MI116","ARMI","NICOLA"]
[109,"IK8XVA","MI117","ARMI","ANTONIO"]
[110,"IK8TEO","MI118","ARMI","FRANCESCO"]
[111,"I1-09/SP","MI119","ARMI","SALVATORE"]
[112,"IW1RHG","MI120","ARMI","MAURO"]
[113,"IT9PPX","MI121","ARMI","GIOVANNI"]
[114,"IV3DVE","MI123","ARMI","CORRADO"]
[115,"IZ0FKO","MI124","ARMI","STEFANO"]
[116,"ON4CBI","MI125","ARMI","CHRISTIANE"]
[117,"IW9EFS","MI126","ARMI","ANTONINO"]
[118,"IT9YDY","MI127","ARMI","CARLO"]
[119,"IW9BMQ","MI129","ARMI","MADDALENA"]
[120,"IT9PLM","MI130","ARMI","GIOVANNI"]
[121,"IW8EYK","MI131","ARMI","SERGIO"]
[122,"I8JYK","MI132","ARMI","LUIGI"]
[123,"I6KIU","MI133","ARMI","ANTONIO"]
[124,"IW1RHR","MI134","ARMI","ROBERTO"]
[125,"IW2EJH","MI135","ARMI","MARINO"]
[126,"IW3HER","MI136","ARMI","LORENZO"]
[127,"IT9HTL","MI137","ARMI","FILIPPO"]
[128,"IZ7DOG","MI138","ARMI","VITO"]
[129,"IZ1FGY","MI139","ARMI","HERVÈ"]
[130,"IZ2GAL","MI140","ARMI","SILVIO"]
[{"$f":"ROW(A131)","v":131},"IS0RYD","MI141","ARMI","MARCO"]
[132,"IW6CZF","MI142","ARMI","GIOVANNI"]
[133,"IZ8FAV","MI143","ARMI","GIORGIO"]
[{"$f":"ROW(#REF!)","v":{"$error":"#REF!"}},"IK8MFA","MI145","ARMI","PIER"]
[135,"IK2CGH","MI146","ARMI","GIOACCHINO"]
[136,"IS0IGV","MI147","ARMI","GIANNI"]
[137,"IZ7CDE","MI148","ARMI","MARCO"]
[138,"I4IZZ","MI149","ARMI","SANDRO"]
[139,"I4RZJ","MI150","ARMI","GIOVANNI"]
[140,"IZ8EDG","MI151","ARMI","CARMINE"]
[141,"IT9JCF","MI152","ARMI","GILIBERTO"]
[142,"IZ7FUL","MI153","ARMI","NICOLA"]
[143,"I1SAF","MI154","ARMI","GIULIANO"]
[144,"IZ1FCF","MI155","ARMI","FABRIZIO"]
[145,"IW1QQV","MI156","ARMI","ALESSIO"]
[146,"IK6IHK","MI157","ARMI","LUCA"]
[147,"IW5EH","MI158","ARMI","PAOLO"]
[148,"IT9DFA","MI159","ARMI","MASSIMILIANO"]
[149,"IZ6FHZ","MI160","ARMI","ROSVELDO"]
[150,"IT9STX","MI162","ARMI","ROBERTO"]
[151,"IT9WMB","MI163","ARMI","VINCENZO"]
[152,"IZ6FUR","MI164","ARMI","ODDONE"]
[153,"IW0FUT","MI165","ARMI","GIOVANNI"]
[154,"IZ6FTX","MI166","ARMI","GIOVANNI"]
[155,"IT9XCV","MI167","ARMI","SALVATORE"]
[156,"IV3TWP","MI168","ARMI","GIORGIO"]
[157,"IK1XHN","MI169","ARMI","DANILO"]
[158,"IW3IAQ","MI170","ARMI","STEFANO"]
[159,"IZ2FRG","MI171","ARMI","GIUSEPPE"]
[160,"IS0MKX","MI172","ARMI","GIUSEPPE"]
[161,"IT9IJI","MI173","ARMI","GIUSEPPE"]
[162,"IK7TAM","MI174","ARMI","DOMENICO"]
[163,"IZ3HPH","MI176","ARMI","GIANCARLO"]
[164,"IT9JDB","MI177","ARMI","ONOFRIO"]
[165,"IZ8GCB","MI178","ARMI","GAETANO"]
[166,"IK2IZY","MI180","ARMI","PAOLO"]
[167,"IC8PSO","MI181","ARMI","FABIEN"]
[168,"IZ7ETP","MI182","ARMI","MICHELE"]
[169,"IV3JTG","MI183","ARMI","MAURO"]
[170,"IK7TVE","MI184","ARMI","PASQUALE"]
[171,"IZ6DWH","MI185","ARMI","SALVATORE"]
[172,"IV3HAE","MI187","ARMI","FULVIO"]
[173,"IZ1HGP","MI188","ARMI","GIORGIO"]
[174,"IW9HMA","MI189","ARMI","NICOLA"]
[175,"IW9HMB","MI190","ARMI","DOMENICO"]
[176,"IT9KPE","MI191","ARMI","GIUSEPPE"]
[177,"IW9CBN","MI192","ARMI","BENEDETTO"]
[178,"IK0AAE","MI193","ARMI","DAMIANO"]
[179,"IW3ILA","MI194","ARMI","PAOLO"]
[180,"IW9GSP","MI195","ARMI","NICOLA"]
[181,"IW9GZI","MI196","ARMI","SAVERIO"]
[182,"IZ0GIF","MI197","ARMI","ERMINIO"]
[183,"I7HMP","MI198","ARMI","PASQUALE"]
[184,"EA8AJX","MI199","ARMI","LORENZO"]
[185,"ON4BRN","MI200","ARMI","B.M.A.R.S."]
[186,"IW3RMV","MI201","ARMI","MARCO"]
[187,"W1QWT","MI203","ARMI","BOB"]
[188,"OE6NFK","MI204","ARMI","WERNER"]
[189,"IW2NZR","MI205","ARMI","DAVIDE"]
[190,"IZ8HNC","MI206","ARMI","DOMENICO"]
[191,"IK2WIU","MI207","ARMI","CARLO"]
[192,"IW0HPH","MI208","ARMI","OSCAR"]
[193,"IT9RYK","MI209","ARMI","PIETRO"]
[{"$f":"ROW(A194)","v":194},"G3LIK","MI210","ARMI","MICK"]
[195,"KA2ZJE","MI211","ARMI","IRVING"]
[196,"IZ1DLZ","MI212","ARMI","RICCARDO"]
[197,"IK1FVO","MI213","ARMI","MASSIMO"]
[198,"ON4CKZ","MI214","ARMI","RYCKAERT"]
[199,"IT9BQK","MI215","ARMI","FABIO"]
[200,"IW9HLX","MI216","ARMI","MARCO"]
[201,"IT9CFS","MI217","ARMI","SALVATORE"]
[202,"IT9YHT","MI218","ARMI","GIANLUCA"]
[203,"IV3EWO","MI219","ARMI","STEFANO"]
[204,"IW7EFC","MI220","ARMI","TIZIANO"]
[205,"IZ6BYS","MI221","ARMI","FRANCO"]
[206,"IV3CXS","MI222","ARMI","ALESSIO"]
[207,"I7XUW","MI224","ARMI","EDOARDO"]
[208,"IZ8JPV","MI225","ARMI","GIOVANNI"]
[209,"IW2OHM","MI226","ARMI","GUIDO"]
[210,"IW0HP","MI227","ARMI","COSMO"]
[211,"IW9HPH","MI228","ARMI","GIUSEPPE"]
[212,"IT9SPA","MI229","ARMI","GIUSEPPE"]
[213,"IV3XPP","MI230","ARMI","GIULIANO"]
[214,"IZ3GVL","MI231","ARMI","CORRADO"]
[215,"IZ0DDD","MI232","ARMI","NATALE"]
[216,"IK3AWP","MI233","ARMI","ROBERTO"]
[217,"IW9HRL","MI235","ARMI","SALVATORE"]
[218,"IW9FRA","MI236","ARMI","SALVATORE"]
[219,"I2FB","MI237","ARMI","PIERLUIGI"]
[220,"IZ0GJA","MI238","ARMI","LUCA"]
[221,"IZ0GPN","MI239","ARMI","CRISTIANO"]
[222,"IW8EPX","MI240","ARMI","GIUSEPPE"]
[223,"IZ0GZW","MI241","ARMI","GIUSEPPE"]
[224,"IK0XEZ","MI242","ARMI","SALVATORE"]
[225,"IZ0GUS","MI243","ARMI","SALVATORE"]
[226,"I1MQ","MI244","ARMI","ADA"]
[227,"IK4HAQ","MI245","ARMI","MARIO"]
[228,"KM1R","MI246","ARMI","MICHELE"]
[229,"IV3YFX","MI247","ARMI","MANUEL"]
[230,"IZ8BIE","MI249","ARMI","ANTONIO"]
[231,"IS0KEB","MI250","ARMI","MARCO"]
[232,"IW0BTN","MI251","ARMI","GIOVANNI"]
[233,"IZ2YAV","MI252","ARMI","PAOLO"]
[234,"I0MPX","MI255","ARMI","PIETRO"]
[235,"IW3RGT","MI256","ARMI","PIETRO"]
[236,"IZ3CAR","MI257","ARMI","CESARE"]
[237,"IW9HQZ","MI258","ARMI","SALVATORE"]
[238,"I4WJO","MI259","ARMI","CLARBRUNO"]
[239,"IW1PDP","MI260","ARMI","RUBENS"]
[240,"IZ8EZP","MI261","ARMI","MARIO"]
[241,"IK5ZOT","MI262","ARMI","MARCO"]
[242,"I1SCL","MI264","ARMI","OVIDIO"]
[243,"IZ5GTV","MI265","ARMI","PAOLO"]
[244,"IW1RFZ","MI266","ARMI","MASSIMILIANO"]
[245,"IZ0IJC","MI267","ARMI","CARLO"]
[246,"PA5UL","MI268","ARMI","PAUL"]
[247,"I1ANP","MI269","ARMI","MARIO"]
[248,"I1ZB","MI270","ARMI","ANTONIO"]
[249,"IK2WXO","MI271","ARMI","CIRO"]
[250,"IN3VHA","MI272","ARMI","SILVANO"]
[251,"IZ5ILX","MI273","ARMI","VALENTINO"]
[252,"IZ0HSE","MI274","ARMI","MASSIMO"]
[253,"IZ0INU","MI275","ARMI","ALDO"]
[254,"I4YHH","MI276","ARMI","CLAUDIO"]
[255,"IK1UVQ","MI277","ARMI","MASSIMO"]
[256,"IZ1HIE","MI278","ARMI","FRANCO"]
[257,"IZ0KON","MI279","ARMI","GIOVANNI"]
[{"$f":"ROW(A258)","v":258},"IZ5KYZ","MI280","ARMI","ROBERTO"]
[259,"IZ0FVJ","MI281","ARMI","FABRIZIO"]
[260,"IZ1CLA","MI282","ARMI","SAURO"]
[261,"I4THX","MI283","ARMI","CRISTOFORO"]
[262,"IZ7FLL","MI284","ARMI","ALESSANDRO"]
[263,"I2KAJ","MI287","ARMI","TOMMASO"]
[264,"IZ1JFK","MI288","ARMI","CLAUDIO"]
[265,"IK0TXG","MI290","ARMI","FRANCESCO"]
[266,"I7UOZ","MI291","ARMI","ALFREDO"]
[267,"IZ2KPF","MI292","ARMI","MICHELE"]
[268,"IZ1DXP","MI293","ARMI","GAETANO"]
[269,"IZ8JCW","MI294","ARMI","FABIO"]
[270,"I7LMR","MI295","ARMI","LUCA"]
[271,"IK1VGK","MI296","ARMI","ROBERTO"]
[272,"I1YTO","MI297","ARMI","CARMELO"]
[273,"IS0QCV","MI299","ARMI","ALBINO"]
[274,"IQ9MQ","MI300","ARMI","HEADQUARTERS"]
[275,"I5ES","MI301","ARMI","EGIDIO"]
[276,"IK6YXM","MI302","ARMI","MATTEO"]
[277,"IZ1GJK","MI303","ARMI","MAURIZIO"]
[278,"DL6LAO","MI304","ARMI","WOLFGANG"]
[{"$f":"ROW(#REF!)","v":{"$error":"#REF!"}},"IZ3DBA","MI306","ARMI","GIACOMO"]
[280,"IT9YEM","MI307","ARMI","MARIO"]
[281,"IK7WDS","MI308","ARMI","ANTONIO"]
[282,"IZ0KNA","MI309","ARMI","ENZO"]
[283,"IZ0IWL","MI310","ARMI","GABRIELE"]
[284,"IT9RJQ","MI311","ARMI","LORENZO"]
[285,"HB9EDG","MI313","ARMI","FRANCO"]
[286,"IK1WVG","MI314","ARMI","BRUNO"]
[287,"IK4NOW","MI315","ARMI","GIOVANNI"]
[288,"IZ1LEB","MI316","ARMI","MARIA"]
[289,"DE3MKM","MI317","ARMI","MICHAEL"]
[290,"IW2CMA","MI318","ARMI","GIOVANNI"]
[291,"I6DRF","MI319","ARMI","FRANCESCO"]
[292,"IZ6BUV","MI320","ARMI","LEO"]
[293,"IZ1LRB","MI321","ARMI","ANTONIO"]
[294,"IZ7CTE","MI322","ARMI","ANGELO"]
[295,"IK7LQE","MI323","ARMI","VINCENZO"]
[296,"IW5DIB","MI324","ARMI","ANTONELLO"]
[297,"M0HEM","MI325","ARMI","JOHN"]
[298,"YO6EX","MI326","ARMI","VASILE"]
[299,"IZ0FVD","MI327","ARMI","GIULIO"]
[300,"IZ3FJJ","MI328","ARMI","LARRY"]
[301,"IZ1HKE","MI329","ARMI","ALESSANDRO"]
[302,"IZ1JJE","MI330","ARMI","LUCIA"]
[303,"IW1QN","MI331","ARMI","FEDERICO"]
[304,"IW3IKR","MI332","ARMI","MAURO"]
[305,"IZ2ELV","MI333","ARMI","EMANUELA"]
[306,"IZ2EXA","MI334","ARMI","FULVIO"]
[307,"IZ3LHX","MI335","ARMI","RAUL"]
[308,"I8URR","MI336","ARMI","ANTONIO"]
[309,"DL6ATM","MI337","ARMI","WILFRIED"]
[310,"IS0RDY","MI338","ARMI","MARIANO"]
[311,"DE3EAR","MI339","ARMI","HANS-JURGEN"]
[312,"IZ0IMU","MI340","ARMI","LAURO"]
[313,"IZ2BQD","MI341","ARMI","MARCO"]
[314,"IZ5IOX","MI342","ARMI","MICHELE"]
[315,"IK5DEZ","MI343","ARMI","MAURIZIO"]
[316,"IZ1MLV","MI344","ARMI","ERMANNO"]
[317,"IT9COG","MI345","ARMI","GIUSEPPE"]
[318,"IZ7MFF","MI347","ARMI","GIORGIO"]
[319,"DH2MS","MI348","ARMI","MANFRED"]
[320,"IK5TBI","MI349","ARMI","EMILIO"]
[{"$f":"ROW(A321)","v":321},"IZ0EIK","MI350","ARMI","ERICA"]
[322,"IZ5MOQ","MI351","ARMI","ALESSANDRO"]
[323,"IZ8IYX","MI352","ARMI","PASQUALE"]
[324,"IT9QPZ","MI353","ARMI","LEONARDO"]
[325,"IZ7LFR","MI354","ARMI","LEONARDO"]
[326,"IZ6ASI","MI355","ARMI","MARCO"]
[327,"IZ7FLP","MI356","ARMI","GIOVANNI"]
[328,"IK1RKN","MI357","ARMI","GINO"]
[329,"IW9DBE","MI358","ARMI","CLAUDIO"]
[330,"IW9HDM","MI359","ARMI","SANTI"]
[331,"IZ8IZA","MI360","ARMI","RAFFAELE"]
[332,"IZ7NDH","MI361","ARMI","MASSIMO"]
[333,"IZ6MPZ","MI362","ARMI","CRISTIANO"]
[334,"IZ0MXW","MI363","ARMI","FRANCESCO"]
[335,"I6PMV","MI364","ARMI","VITTORIO"]
[336,"CT1CZT","MI365","ARMI","ANTONIO"]
[337,"CT1EGH","MI366","ARMI","ANTONIO"]
[338,"IZ4AGI","MI367","ARMI","MAURIZIO"]
[339,"IZ6FUQ","MI368","ARMI","STEFANO"]
[340,"SV5DKL","MI369","ARMI","EFSTATHIOS"]
[341,"HE9SOL","MI370","ARMI","FRANZ"]
[342,"I2WEQ","MI371","ARMI","MARCO"]
[343,"I1UMK","MI372","ARMI","MARCO"]
[344,"I1NVW","MI373","ARMI","ANNA"]
[345,"IK1MDF","MI374","ARMI","LORENZO"]
[346,"IW0GBU","MI375","ARMI","GIOVANNI"]
[{"$f":"ROW(#REF!)","v":{"$error":"#REF!"}},"IW0HOQ","MI377","ARMI","ALBERTO"]
[348,"IZ0IVZ","MI378","ARMI","ALFREDO"]
[349,"IS0YHV","MI379","ARMI","ANTONIO"]
[350,"IN3UFW","MI380","ARMI","MARCO"]
[351,"IZ1LHE","MI381","ARMI","MAURIZIO"]
[352,"IZ0GXD","MI382","ARMI","FRANCO"]
[353,"DL0ITU","MI383","ARMI","DARC"]
[354,"I1QOD","MI383","ARMI","ALBERTO"]
[355,"CS5NRA","MI385","ARMI","NUCLEO"]
[356,"IZ0IMR","MI387","ARMI","DOMENICO"]
[357,"IZ5MXZ","MI388","ARMI","LEONARDO"]
[358,"F6BNM","MI389","ARMI","STEPHANE"]
[359,"IW9ESK","MI390","ARMI","FRANCESCO"]
[360,"IK0QDI","MI392","ARMI","BENEDETTO"]
[{"$f":"ROW(#REF!)","v":{"$error":"#REF!"}},"IW8RRB","MI394","ARMI","PAOLO"]
[362,"IK2UCF","MI396","ARMI","LORIS"]
[363,"2E0RPS","MI397","ARMI","RODRIGO"]
[364,"IZ2GIL","MI398","ARMI","GILBERTO"]
[365,"I2FGT","MI399","ARMI","GIULIO"]
[366,"IY1SP","MI400","ARMI","MUSEO"]
[367,"IW2NUY","MI401","ARMI","MARCO"]
[368,"IW7CFO","MI402","ARMI","IGNAZIO"]
[369,"IZ0HPX","MI403","ARMI","DINO"]
[370,"I1CMA","MI404","ARMI","MARCO"]
[371,"IZ5MMK","MI405","ARMI","MIRKO"]
[372,"I7IJU","MI406","ARMI","CARLO"]
[373,"IK3RBT","MI407","ARMI","ARISTIDE"]
[374,"IW7AUH","MI408","ARMI","ERNESTO"]
[375,"IT9DQM","MI409","ARMI","GIOVANNI"]
[376,"IQ7TA","MI410","ARMI","ARI"]
[377,"IK7BPV","MI411","ARMI","RAFFAELE"]
[378,"IK7GIM","MI412","ARMI","EUPREMIO"]
[379,"IK1FXX","MI414","ARMI","ANGELO"]
[380,"IW1FGY","MI415","ARMI","MASSIMO"]
[381,"IW5EEC","MI416","ARMI","FRANCO"]
[382,"R5GM","MI417","ARMI","GIONNJ"]
[{"$f":"ROW(A383)","v":383},"IZ0EHW","MI418","ARMI","YURI"]
[384,"I0SNA","MI419","ARMI","GAETANO"]
[{"$f":"ROW(#REF!)","v":{"$error":"#REF!"}},"IK7MJA","MI421","ARMI","COSIMO"]
[386,"IK6BGJ","MI422","ARMI","GIUSTINO"]
[387,"SWL","MI423","ARMI","LUCA"]
[388,"DF4BV","MI424","ARMI","HEINZ"]
[389,"OH1NAVY","MI425","ARMI","CLUBSTATION"]
[390,"LY2MM","MI426","ARMI","ALBINAS"]
[391,"IZ4GAC","MI427","ARMI","STEFANO"]
[392,"SV1HEM","MI428","ARMI","GIORGOS"]
[393,"IZ7SGV","MI429","ARMI","GIOVANNI"]
[394,"IZ7NRJ","MI430","ARMI","RAFFAELE"]
[395,"IW3IBF","MI431","ARMI","STEFANO"]
[396,"IZ6FZS","MI432","ARMI","MIRKO"]
[397,"IK7ARK","MI433","ARMI","FRANCESCO"]
[398,"IW7CIV","MI434","ARMI","VINCENZO"]
[399,"IZ7MSJ","MI435","ARMI","LUIGI"]
[400,"IZ7NTJ","MI436","ARMI","ROCCO"]
[401,"IS0UWS","MI438","ARMI","FERNANDO"]
[402,"IK1AAS","MI439","ARMI","BRUNO"]
[403,"IZ7OJL","MI441","ARMI","ENZO"]
[404,"IS0MMM","MI442","ARMI","MARCO"]
[405,"IS0RVH","MI443","ARMI","PAOLO"]
[406,"IW1PRT","MI444","ARMI","ALBERTO"]
[407,"IK2OFR","MI446","ARMI","MASSIMO"]
[408,"IZ3NVC","MI447","ARMI","CARLO"]
[409,"IK0UAG","MI448","ARMI","FRANCESCO"]
[410,"IT9CPV","MI449","ARMI","NICOLÒ"]
[411,"II1ICS","MI450","ARMI","MARITELE LA SPEZIA"]
[412,"IT9HUV","MI451","ARMI","SALVATORE"]
[413,"IZ0DZM","MI452","ARMI","STEFANIA"]
[414,"I6CAD","MI453","ARMI","PASQUALINO"]
[415,"I1DWD","MI454","ARMI","DOMENICO"]
[416,"IQ2MI","MI455","ARMI","ARI"]
[417,"IW6PEN","MI457","ARMI","LORENZO"]
[418,"IT9VIH","MI458","ARMI","SALVATORE"]
[419,"IZ7NPH","MI459","ARMI","ONOFRIO"]
[420,"IS0MLS","MI460","ARMI","ANTONELLO"]
[421,"IS0FQK","MI461","ARMI","PATRIZIO"]
[422,"IT9ENJ","MI462","ARMI","SALVATORE"]
[423,"IS0PEV","MI464","ARMI","SERGIO"]
[424,"IZ0MJH","MI465","ARMI","MARY"]
[425,"IZ5OWZ","MI466","ARMI","MARIO"]
[426,"IZ1BZV","MI467","ARMI","GIORGIO"]
[427,"IZ1MHQ","MI468","ARMI","ANDREA"]
[428,"I1ULJ","MI469","ARMI","SALVATORE"]
[429,"IT9PBR","MI470","ARMI","PIERO"]
[430,"IZ1MHY","MI471","ARMI","ANDREA"]
[431,"IK7FBK","MI472","ARMI","LUCIO"]
[432,"IK1SLO","MI473","ARMI","GABRIELE"]
[433,"IK7EOT","MI475","ARMI","FRANCESO"]
[434,"IZ0AMM","MI477","ARMI","LORENZO"]
[435,"IK3OGI","MI478","ARMI","SALVATORE"]
[436,"IK1ZFO","MI479","ARMI","LUIGI"]
[437,"IZ3NYS","MI480","ARMI","ALESSANDRO"]
[438,"I0YQX","MI481","ARMI","ITALO"]
[439,"S53EO","MI483","ARMI","MILOS"]
[440,"IZ8NXG","MI484","ARMI","RENATO"]
[441,"IW3IMF","MI485","ARMI","DANIELE"]
[442,"IZ1PNY","MI486","ARMI","CARMELO"]
[443,"IW3GTM","MI487","ARMI","ROBERTO"]
[444,"IK2SON","MI488","ARMI","ANTONIO"]
[445,"IZ2HDJ","MI489","ARMI","GIANMICHELE"]
[{"$f":"ROW(A446)","v":446},"IK0IXI","MI490","ARMI","FABIO"]
[447,"IW9HMQ","MI492","ARMI","MAURO"]
[448,"IZ1PIO","MI493","ARMI","ANGELO"]
[449,"IT9LYF","MI494","ARMI","ACHILLE"]
[450,"IK1OOG","MI495","ARMI","GIORGIO"]
[451,"IZ8PPI","MI496","ARMI","LUIGI"]
[452,"I1YRL","MI497","ARMI","LUC"]
[453,"IK7EJT","MI498","ARMI","SIMPLICIO"]
[454,"I8MTQ","MI499","ARMI","PAOLO"]
[455,"II0IDP","MI500","ARMI","MARITELE CAGLIARI"]
[456,"IZ8OGK","MI501","ARMI","GENNARO "]
[457,"DL5OCC","MI502","ARMI","KURT"]
[458,"IZ4HXT","MI503","ARMI","ANTONIO"]
[459,"IW0HAQ","MI504","ARMI","VITO"]
[460,"IQ4VU","MI505","ARMI","C.E.R."]
[461,"IZ7AVR","MI506","ARMI","ALBERTO"]
[462,"IZ2QGJ","MI507","ARMI","CARLO"]
[463,"IT9RRU","MI508","ARMI","MAURIZIO"]
[464,"IW5EJP","MI510","ARMI","BRUNO"]
[465,"IZ0PAU","MI511","ARMI","MARCELLO"]
[466,"IZ2HAN","MI512","ARMI","FRANCO"]
[467,"IT9AWC","MI513","ARMI","SALVATORE"]
[468,"IZ8QNX","MI514","ARMI","LUCIO"]
[469,"IZ0OVZ","MI516","ARMI","ANGELO"]
[470,"IZ8OFO","MI517","ARMI","CARLO"]
[471,"IZ3XGV","MI518","ARMI","EMILIO"]
[472,"IT9NVA","MI519","ARMI","VINCENZO"]
[473,"IT9NCO","MI520","ARMI","ANTONIO"]
[474,"IK8SOL","MI521","ARMI","FRANCESCO"]
[475,"IK0VSV","MI522","ARMI","MARCO"]
[476,"IT9APJ","MI523","ARMI","MICHELE"]
[477,"IZ7QFX","MI524","ARMI","ELIGIO"]
[478,"IZ0JOY","MI525","ARMI","ANGELO"]
[479,"IZ5QFV","MI526","ARMI","MARIO"]
[480,"IS0ISJ","MI527","ARMI","GIANCARLO"]
[481,"IS0EUJ","MI528","ARMI","FRANCO"]
[482,"IW9GUQ","MI529","ARMI","GIOVANNI"]
[483,"IZ0RGA","MI530","ARMI","MANUEL"]
[484,"I5OYY","MI531","ARMI","DANIO"]
[485,"IW5CEE","MI532","ARMI","STEFANO"]
[486,"CT5JZX","MI533","ARMI","PEDRO"]
[487,"IW2CNR","MI534","ARMI","GIORDANO"]
[488,"IK0PRH","MI535","ARMI","BIAGIO"]
[489,"IK0PHU","MI536","ARMI","ANTONELLO"]
[490,"IK7OFI","MI537","ARMI","GIUSEPPE"]
[491,"IZ1HBX","MI538","ARMI","LUCA"]
[492,"IN3EAV","MI539","ARMI","GIORGIO"]
[493,"IW8FEI","MI540","ARMI","ANTONIO"]
[494,"IZ0CHJ","MI541","ARMI","BRUNO"]
[495,"S52MZ","MI542","ARMI","MARIJAN"]
[496,"DL1HRN","MI543","ARMI","JUERGEN"]
[497,"HB9DOT","MI544","ARMI","DEAN"]
[498,"IZ1RNB","MI546","ARMI","GIOVANNI"]
[499,"IZ2KTD","MI547","ARMI","GIACOMO"]
[500,"IW0URG","MI548","ARMI","SIRO"]
[501,"IW0HOP","MI549","ARMI","FRANCESCO"]
[502,"II0IGU","MI550","ARMI","MARITELE GAETA"]
[503,"I1PIK","MI551","ARMI","PIETRO   "]
[504,"IK0LZR","MI552","ARMI","RAUL   "]
[505,"IS0UNG","MI553","ARMI","CASIMIRO   "]
[506,"IS0VSU","MI554","ARMI","FRANCO   "]
[507,"IS0BMU","MI555","ARMI","NICOLA "]
[508,"IZ3KVD","MI556","ARMI","GIORGIO "]
[509,"IS0SZU","MI557","ARMI","FRANCO "]
[{"$f":"ROW(A510)","v":510},"IZ4RTB","MI558","ARMI","MARIO "]
[511,"IS0AEL","MI559","ARMI","LUCA"]
[512,"IS0JMA","MI560","ARMI","ROBERTO"]
[513,"IS0ILP","MI561","ARMI","MASSIMO"]
[514,"IW0UWL","MI562","ARMI","ENRICO"]
[515,"IS0BGL","MI563","ARMI","DANIELE"]
[516,"IZ0RIV","MI564","ARMI","FRANCESCO"]
[517,"IZ4BQV","MI565","ARMI","LUIGI"]
[518,"IZ1PMC","MI566","ARMI","MARCO"]
[519,"I5BYL","MI567","ARMI","FRANCO"]
[520,"IT9ECQ","MI568","ARMI","VINCENZO"]
[521,"IS0TOU","MI569","ARMI","LUISA"]
[522,"IS0UOI","MI570","ARMI","VALENTINA"]
[523,"IT9KKE","MI571","ARMI","CARLO"]
[524,"IT9JZK","MI572","ARMI","MARIO"]
[525,"IZ6OVE","MI573","ARMI","BRYAN"]
[526,"IT9GDS","MI574","ARMI","VITO"]
[527,"IT9JUP","MI575","ARMI","GIOVANNI"]
[528,"IZ3QLR","MI576","ARMI","GUGLIELMO"]
[529,"IW6CIE","MI577","ARMI","LORENZO"]
[530,"IW5ELA","MI579","ARMI","ALESSANDRO"]
[531,"IW8RUD","MI580","ARMI","GIUSEPPE"]
[532,"IZ1GZH","MI581","ARMI","NICOLA"]
[533,"IW1RIE","MI582","ARMI","FABIO"]
[534,"IW1RID","MI583","ARMI","ALESSANDRO"]
[535,"IZ1FGW","MI584","ARMI","GERMANO"]
[536,"I1RHL","MI585","ARMI","ANGELO"]
[537,"IZ1GZU","MI586","ARMI","ALBERTO"]
[538,"IK3YBX","MI587","ARMI","CORRADO"]
[539,"IK3RET","MI588","ARMI","TIZIANO"]
[540,"IK3ITV","MI589","ARMI","ANDREA"]
[541,"IQ0FM","MI590","ARMI","SEZIONE"]
[542,"IZ3APL","MI591","ARMI","GIUSEPPE"]
[543,"IK3HMB","MI592","ARMI","GIORGIO"]
[544,"IW2JSX","MI593","ARMI","LUCA"]
[545,"IK3SSW","MI594","ARMI","ANTONIO"]
[546,"I5OBQ","MI595","ARMI","VITTORIO"]
[547,"IK1NPP","MI596","ARMI","PIERGIOVANNI"]
[548,"IZ5HEV","MI597","ARMI","MARCO"]
[549,"IW9GTD","MI598","ARMI","DOMENICO"]
[550,"IW1RMV","MI599","ARMI","FRANCESCO"]
[551,"II7ICT","MI600","ARMI","MARITELE TARANTO"]
[552,"IS0FDW","MI601","ARMI","ANGELO"]
[553,"IW4CXK","MI602","ARMI","ANDREA"]
[554,"IK6TOT","MI603","ARMI","GIORGIO"]
[555,"IK6TIL","MI604","ARMI","PASQUALE"]
[556,"IT9SKH","MI605","ARMI","AGOSTINO"]
[557,"IW9CTJ","MI606","ARMI","CONCETTO"]
[558,"IZ1DXV","MI607","ARMI","VINCENZO"]
[559,"I1FEQ","MI608","ARMI","FERDINANDO"]
[560,"IK1CCS","MI609","ARMI","FERRUCCIO"]
[561,"IZ1GWQ","MI610","ARMI","GIOVANNI"]
[562,"IS0UTA","MI611","ARMI","ANDREA"]
[563,"IT9BUW","MI612","ARMI","SALVATORE"]
[564,"IK2NUX","MI613","ARMI","FRANCESCO"]
[565,"IK6NUA","MI614","ARMI","CORRADO"]
[566,"IW3INQ","MI615","ARMI","ALESSANDRO"]
[567,"IZ1RFV","MI616","ARMI","PAOLO"]
[568,"IW6CJM","MI617","ARMI","SERAFINO"]
[569,"IT9LWP","MI618","ARMI","FABIO"]
[570,"IT9GQO","MI619","ARMI","GIUSEPPE"]
[571,"IM0GNF","MI621","ARMI","SALVATORE"]
[572,"IK6TOS","MI622","ARMI","GIOVANNI"]
[573,"IM0QMA","MI623","ARMI","FABRIZIO"]
[{"$f":"ROW(A574)","v":574},"IZ3QHB","MI624","ARMI","LUCA"]
[575,"IZ3ODB","MI625","ARMI","PIETRO"]
[576,"IW3IFZ","MI626","ARMI","BRUNO"]
[577,"IZ3ASA","MI627","ARMI","RODOLFO"]
[578,"IZ7QEB","MI628","ARMI","ANGELO"]
[579,"IW1PEL","MI630","ARMI","SILVIO"]
[580,"I2RGV","MI632","ARMI","GIOVANNI"]
[581,"IT9DSA","MI633","ARMI","ANTONIO"]
[582,"IT9QQO","MI634","ARMI","CLAUDIO"]
[583,"IZ8SYB","MI635","ARMI","GERARDO"]
[584,"IV3BGV","MI636","ARMI","GIULIANO"]
[585,"IW1ECD","MI637","ARMI","GIAN"]
[586,"IW5BOI","MI638","ARMI","SEVERINO"]
[587,"IZ0OSI","MI639","ARMI","PATRIZIO"]
[588,"IZ7SID","MI640","ARMI","GIANFRANCO"]
[589,"IZ8IET","MI641","ARMI","VITTORIO"]
[590,"IK0WGD","MI642","ARMI","SANDRO"]
[591,"IZ8PPJ","MI643","ARMI","BRUNO"]
[592,"IZ1RFU","MI644","ARMI","ANTONIO"]
[593,"IW0GFS","MI645","ARMI","LEONE"]
[594,"F6FNG","MI646","ARMI","ALAIN"]
[595,"IZ0FUW","MI647","ARMI","MARCO"]
[596,"IV3IXN","MI648","ARMI","CLAUDIO"]
[597,"IK8RIJ","MI649","ARMI","MARCO"]
[598,"II9ICF","MI650","ARMI","MARITELE MESSINA"]
[599,"IT9DVZ","MI652","ARMI","ROBERTO"]
[600,"IT9JPL","MI653","ARMI","ANDREA"]
[601,"IT9RDZ","MI654","ARMI","DARIO"]
[602,"IZ1PLI","MI655","ARMI","GIAN"]
[603,"I8AWN","MI656","ARMI","ANTONIO"]
[604,"IZ1GDT","MI657","ARMI","ALBERTO"]
[605,"IK0JOS","MI658","ARMI","ROBERTO"]
[606,"IK1OXG","MI659","ARMI","UGO"]
[607,"WN6H","MI660","ARMI","MAURIZIO"]
[608,"IZ1RTD","MI661","ARMI","UGO"]
[609,"IZ8TFA","MI662","ARMI","GIUSEPPE"]
[610,"IK5PKF","MI663","ARMI","RAFFAELE"]
[611,"IV3BLS","MI664","ARMI","GIOVANNI"]
[612,"OH3GZ","MI665","ARMI","JUKKA"]
[613,"IZ0TBQ","MI666","ARMI","ANGELO"]
[614,"IK3JBP","MI668","ARMI","AMPELIO"]
[615,"IW3ILM","MI669","ARMI","MASSIMO"]
[616,"IV3ALF","MI670","ARMI","CLAUDIO"]
[617,"IZ0EUS","MI671","ARMI","MAURO"]
[618,"IK8CKG","MI672","ARMI","SALVATORE"]
[619,"IN3AEF","MI673","ARMI","MARIO"]
[620,"IK2AQZ","MI674","ARMI","OSCAR"]
[621,"I8PXT","MI675","ARMI","PIETRO"]
[622,"DO1TN","MI676","ARMI","RALF-MICHAEL"]
[623,"IV3BUC","MI677","ARMI","GIUSEPPE"]
[624,"IW3RUA","MI678","ARMI","PIETRO"]
[625,"IZ2SOB","MI679","ARMI","DAVIDE"]
[626,"IK5ZUJ","MI680","ARMI","VALTER"]
[627,"IK7IMQ","MI682","ARMI","FELICE"]
[628,"IZ3QCH","MI683","ARMI","ALBERTO"]
[629,"IZ8OGR","MI684","ARMI","TOMMY"]
[630,"IZ7LDC","MI685","ARMI","FABRIZIO"]
[631,"IZ3KJH","MI686","ARMI","ANGELO"]
[632,"IZ3SZQ","MI687","ARMI","MARINO"]
[633,"IK1GKH","MI688","ARMI","CARLO"]
[634,"IM0ZKX","MI689","ARMI","GIUSEPPE"]
[635,"IZ7UAJ","MI690","ARMI","PIERANTONIO"]
[636,"IW7EGJ","MI691","ARMI","LUCA"]
[637,"IZ8LLH","MI692","ARMI","LUCA"]
[{"$f":"ROW(A638)","v":638},"IK8SDA","MI693","ARMI","ALDO"]
[639,"IZ0CDM","MI694","ARMI","ROBERTO"]
[640,"IZ8PPH","MI695","ARMI","DANIELE"]
[641,"IK8OFW","MI696","ARMI","ANTONIO"]
[642,"IK7JGI","MI697","ARMI","ALFREDO"]
[643,"IZ8JBS","MI698","ARMI","NINO"]
[644,"II9IGJ","MI700","ARMI","MARITELE PALOMBARA"]
[645,"IW7EBB","MI701","ARMI","GIANLUCA "]
[646,"IZ0RFJ","MI703","ARMI","MAURIZIO"]
[647,"IZ1UKT","MI705","ARMI","IVANO"]
[648,"IW6PUY","MI706","ARMI","FRANCESCO"]
[649,"IZ8EYN","MI707","ARMI","MARIO"]
[650,"IZ8MEW","MI708","ARMI","PIERLUIGI"]
[651,"IK5GUO","MI709","ARMI","ENNIO"]
[652,"IZ7LFP","MI710","ARMI","VINCENZO"]
[653,"IZ0JSE","MI712","ARMI","ARCHIMEDE"]
[654,"IZ0CRQ","MI713","ARMI","NICOLA"]
[655,"IK8NFA","MI714","ARMI","SALVATORE"]
[656,"IK1VDQ","MI715","ARMI","GIANNI"]
[657,"IZ2FLX","MI716","ARMI","MAURO"]
[658,"IZ5AHB","MI717","ARMI","ALBERTO"]
[659,"IK1JFZ","MI718","ARMI","VINICIO"]
[660,"IZ5RID","MI719","ARMI","ROBERTO"]
[661,"IZ5TJB","MI720","ARMI","IZABELA"]
[662,"IZ5BRO","MI721","ARMI","ROSSELLA"]
[663,"IZ5PFQ","MI722","ARMI","CIRO"]
[664,"I5NIC","MI723","ARMI","GIANFRANCO"]
[665,"IS0ANU","MI724","ARMI","STEFANO"]
[666,"IZ8PRH","MI726","ARMI","MARIO"]
[667,"IK8WEJ","MI727","ARMI","FRANCESCO"]
[668,"IZ4UFG","MI728","ARMI","LUCA"]
[669,"IZ0AYM","MI729","ARMI","CARMELO"]
[670,"I1OOI","MI730","ARMI","CLAUDIO"]
[671,"IK7MXH","MI731","ARMI","MICHELE"]
[672,"IZ2QDQ","MI732","ARMI","GIANNI"]
[673,"IZ3JQQ","MI733","ARMI","GIUSEPPE"]
[674,"IW5CSJ","MI734","ARMI","ROBERTO"]
[675,"IZ0ROW","MI735","ARMI","GIANCARLO"]
[676,"IZ8QIN","MI736","ARMI","NICOLA"]
[677,"IK7BEF","MI737","ARMI","ANTONIO"]
[678,"I2MDI","MI738","ARMI","SILVANO"]
[679,"IZ1NFG","MI739","ARMI","ATTILIO"]
[680,"IT9OER","MI740","ARMI","GIANCARLO"]
[681,"I8YLW","MI741","ARMI","VINCENZO"]
[682,"IZ0IXN","MI742","ARMI","ANTONIO"]
[683,"IZ0ENB","MI743","ARMI","ANGELO"]
[684,"IV3TRK","MI744","ARMI","SILVIO"]
[685,"IK3GER","MI745","ARMI","PAOLO"]
[686,"I3VAD","MI746","ARMI","GIANCARLO"]
[687,"IK1JTQ","MI747","ARMI","SERGIO"]
[688,"I3XMQ","MI748","ARMI","ADRIANO"]
[689,"IS0AFM","MI749","ARMI","SIMONE"]
[690,"II1IGG","MI750","ARMI","MARITELE GENOVA"]
[691,"IZ6ITZ","MI751","ARMI","FERNANDO "]
[692,"IW8EFO","MI752","ARMI","NUNZIO "]
[693,"IK8ACR","MI753","ARMI","MICHELANGELO "]
[694,"IK8URG","MI754","ARMI","GIUSEPPE "]
[695,"IZ5RIE","MI755","ARMI","MARCO "]
[696,"IZ4HVS","MI756","ARMI","PASQUALE "]
[697,"EB3WH","MI757","ARMI","JUAN"]
[698,"IK2PTB","MI758","ARMI","GIANLUIGI "]
[699,"IZ7UEE","MI760","ARMI","ASCANIO "]
[700,"IT9BNX","MI762","ARMI","NICOLA"]
[701,"IT9NJE","MI763","ARMI","EUGENIO"]
[{"$f":"ROW(A702)","v":702},"IK8CQH","MI764","ARMI","GIOVANNI"]
[703,"IZ5BSA","MI765","ARMI","ROBERTO"]
[704,"IZ8VGD","MI766","ARMI","ALESSIO"]
[705,"IT9UQW","MI767","ARMI","GIUSEPPE"]
[706,"I8IEM","MI768","ARMI","ALFREDO"]
[707,"I2MQP","MI769","ARMI","MARIO"]
[708,"IZ8EDJ","MI770","ARMI","ORESTE"]
[709,"IT9CKA","MI771","ARMI","SERAFINO"]
[710,"IZ0BTV","MI772","ARMI","SIMONE"]
[711,"IZ7FMI","MI773","ARMI","GIOACCHINO"]
[712,"IK8VMU","MI774","ARMI","FRANCO"]
[713,"IK8LVZ","MI775","ARMI","GIOVANGIUSEPPE"]
[714,"I7LGM","MI776","ARMI","GELSOMINO"]
[715,"IZ7FMM","MI777","ARMI","ALESSANDRO"]
[716,"IZ7KDX","MI778","ARMI","ANTONIO"]
[717,"IW7EBA","MI779","ARMI","DAVIDE"]
[718,"IZ7HYA","MI780","ARMI","LUIGI"]
[719,"IZ7NLZ","MI781","ARMI","IVANO"]
[720,"IZ7FLQ","MI782","ARMI","FABIO"]
[721,"IW9GDC","MI783","ARMI","EMANUELE"]
[722,"IT9AQO","MI784","ARMI","JOSEPH"]
[723,"IK8OWF","MI785","ARMI","RAIMONDO"]
[724,"IZ0PVL","MI786","ARMI","LUIGI"]
[725,"IZ3VLK","MI787","ARMI","ONOFRIO"]
[726,"IW5CSQ","MI788","ARMI","STEFANO"]
[727,"IK8GDA","MI789","ARMI","ANDREA"]
[728,"IK6IWM","MI790","ARMI","WALTER"]
[729,"IV3ZXQ","MI794","ARMI","MAURIZIO"]
[730,"IW0GHW","MI795","ARMI","MASIMO"]
[731,"IZ0TTD","MI796","ARMI","UMBERTO"]
[732,"IK7TAB","MI797","ARMI","VALTER"]
[733,"I1YOD","MI798","ARMI","ANTONIO"]
[734,"IZ1FKB","MI799","ARMI","PIETRO"]
[735,"II8ICN","MI800","ARMI","MARITELE NAPOLI"]
[736,"IK0ZME","MI801","ARMI","GIANFRANCO"]
[737,"IZ0NNI","MI802","ARMI","EMILIO"]
[738,"IW6ATQ","MI803","ARMI","GIANCARLO"]
[739,"IZ2OIF","MI804","ARMI","MICHAEL"]
[740,"IK6OCX","MI805","ARMI","CAMILLO"]
[741,"IZ0INX","MI806","ARMI","FILIPPO"]
[742,"IT9AZP","MI808","ARMI","ROBERTO"]
[743,"IZ2KLV","MI809","ARMI","GENEROSO"]
[744,"IK1RTP","MI811","ARMI","ALESSANDRO"]
[745,"IZ0TTB","MI812","ARMI","DANIELA"]
[746,"IW7CRP","MI813","ARMI","LUIGI"]
[747,"IZ0PAW","MI814","ARMI","GABRIELE"]
[748,"IZ1DFE","MI815","ARMI","MARIO"]
[749,"IZ1VWD","MI816","ARMI","EMILIANO"]
[750,"IZ8IBB","MI817","ARMI","ANGELO"]
[751,"I5NXH","MI818","ARMI","FABRIZIO"]
[752,"IZ5KID","MI820","ARMI","MASSIMO"]
[753,"IK6VXR","MI821","ARMI","ANTONIO"]
[754,"I6TIH","MI822","ARMI","GIUSEPPE"]
[755,"IZ3VEH","MI823","ARMI","PAOLO"]
[756,"IZ8IQL","MI825","ARMI","ANTONIO"]
[757,"IZ0JGE","MI826","ARMI","LORENZO"]
[758,"IW3SGT","MI827","ARMI","ALESSANDRO"]
[759,"IW1DG","MI828","ARMI","GIUSEPPE"]
[760,"IK5JWQ","MI829","ARMI","GIUSEPPE"]
[761,"IZ0FCV","MI830","ARMI","FLAVIO"]
[762,"IZ0ORT","MI831","ARMI","FABRIZIO"]
[763,"IK6ARS","MI832","ARMI","DANIELE"]
[764,"IZ8UVQ","MI833","ARMI","MASSIMO"]
[765,"IW0HME","MI834","ARMI","MARCO "]
[{"$f":"ROW(A766)","v":766},"IZ0DIB","MI835","ARMI","BRUNO"]
[767,"IW0CGT","MI836","ARMI","CARLO"]
[768,"IZ0KBW","MI837","ARMI","LUIGI"]
[769,"IT9ULN","MI839","ARMI","ANGELO"]
[770,"IT9ING","MI840","ARMI","SAVERIO"]
[771,"IT9CNO","MI841","ARMI","GASPARE"]
[772,"IK5YZV","MI842","ARMI","ALBERTO"]
[773,"IZ2QPZ","MI843","ARMI","FULVIO"]
[774,"IT9CLY","MI844","ARMI","FRANCESCO"]
[775,"IZ3SEV","MI845","ARMI","WALTER"]
[776,"IW4ECL","MI846","ARMI","GIANCARLO"]
[777,"IZ3OCD","MI847","ARMI","MAURO"]
[778,"IZ5RKC","MI848","ARMI","ENRICO"]
[779,"IZ3VDA","MI849","ARMI","DONATO"]
[780,"II2IGTO","MI850","ARMI","SOMMERGIBILE TOTI"]
[781,"II3JD","MI851","ARMI","SOMMERGIBILE DANDOLO"]
[782,"II2EBE","MI852","ARMI","GOLETTA EBE"]
[783,"II1IAME","MI853","ARMI","NAVE MAESTRALE"]
[{"$f":"ROW(A784)","v":784},"IK1OUK","MI855","ARMI","BRUNO"]
[{"$f":"ROW(A785)","v":785},"II5IAFR","MI856","ARMI","NAVE CANOPO"]
[{"$f":"ROW(A786)","v":786},"IW0HPT","MI857","ARMI","GIUSEPPE"]
[787,"IZ1VNT","MI859","ARMI","ROBERTO"]
[788,"IZ2PDR","MI860","ARMI","PAOLO"]
[789,"IZ0VZR","MI861","ARMI","MAURIZIO"]
[790,"IW0GOA","MI862","ARMI","GABRIELE"]
[791,"IK8GYQ","MI863","ARMI","CARMINE"]
[792,"IZ4OUJ","MI864","ARMI","FERRUCCIO"]
[793,"IZ0EUX","MI865","ARMI","SALVATORE"]
[794,"IW5BNC","MI867","ARMI","RODOLFO"]
[795,"DL2HUC","MI868","ARMI","ERICH"]
[796,"I6ONE","MI869","ARMI","SERGIO"]
[797,"IZ0FKQ","MI870","ARMI","RENATO"]
[798,"IK0REM","MI871","ARMI","GIANCARLO"]
[799,"IZ3WPN","MI872","ARMI","ROBERTO"]
[800,"IZ1POA","MI873","ARMI","MICHELE"]
[801,"IK2UJF","MI874","ARMI","ERMANNO"]
[802,"IW2IGO","MI875","ARMI","FRANCESCO"]
[803,"IT9CLM","MI876","ARMI","GIUSEPPE"]
[804,"IW9HPW","MI877","ARMI","MICHELE"]
[805,"IK6DIP","MI878","ARMI","CARLO"]
[806,"IT9JSL","MI879","ARMI","GIUSEPPE"]
[807,"IT9APL","MI880","ARMI","LETIZIA"]
[808,"OK1RO","MI881","ARMI","JAN"]
[809,"IW3BQK","MI882","ARMI","FRANCO"]
[810,"IK1FEG","MI883","ARMI","ROBERTO"]
[811,"IT9CLU","MI884","ARMI","SALVATORE"]
[812,"IT9TAP","MI885","ARMI","RICCARDO"]
[813,"IW2GPM","MI886","ARMI","STEFANO"]
[814,"IW0ELT","MI887","ARMI","DANILO"]
[815,"IZ6OYT","MI888","ARMI","ELIA"]
[816,"IT9JPW","MI889","ARMI","MARCO"]
[817,"IK6TIG","MI890","ARMI","NINO"]
[818,"IW3SSD","MI891","ARMI","ANDREA"]
[819,"IW4EPO","MI894","ARMI","PAOLO"]
[820,"IZ8XTO","MI895","ARMI","GENNARO"]
[821,"IK2YHL","MI896","ARMI","MARCO"]
[822,"IT9GCG","MI897","ARMI","VINCENZO"]
[823,"II2IBCI","MI898","ARMI","SS"]
[824,"II7IAJV","MI899","ARMI","NAVE"]
[825,"II1ADV","MI900","ARMI","NAVE"]
[826,"II9AS","MI901","ARMI","40°"]
[827,"IZ1CKN","MI902","ARMI","CHRISTIAN"]
[828,"IZ5RKW","MI903","ARMI","FULVIO"]
[829,"IZ5FXD","MI904","ARMI","FRANCO"]
[830,"IT9CNK","MI905","ARMI","GIUSEPPE"]
[{"$f":"ROW(A831)","v":831},"IW4CGR","MI906","ARMI","LUIGI"]
[832,"I2CZQ","MI907","ARMI","PIETRO"]
[833,"HB9EUY","MI908","ARMI","MARCO"]
[834,"IZ3KLF","MI909","ARMI","SILVANO"]
[835,"IK5IWU","MI910","ARMI","CARLO"]
[836,"IZ3KMY","MI911","ARMI","FERNANDO"]
[837,"IZ7VHF","MI913","ARMI","ROBERTO"]
[838,"IZ5HNI","MI915","ARMI","MAURIZIO"]
[839,"I3GHD","MI917","ARMI","MAURIZIO"]
[840,"I3FOM","MI918","ARMI","DOMENICO"]
[841,"IU7FKP","MI919","ARMI","GIANLUCA"]
[842,"IW1GHS","MI920","ARMI","ANTONIO"]
[843,"IZ5EBL","MI921","ARMI","RICCARDO"]
[844,"IW9FI","MI923","ARMI","CARMELO"]
[845,"IT9CGR","MI924","ARMI","ROSARIO"]
[846,"IK8YTF","MI925","ARMI","ALFREDO"]
[847,"IZ0TTE","MI926","ARMI","ANTONIO"]
[848,"IZ6WOJ","MI927","ARMI","CARLO"]
[849,"IZ8EGM","MI928","ARMI","AURELIO"]
[850,"IZ3VDU","MI929","ARMI","PAOLO"]
[851,"IZ3KRP","MI930","ARMI","IRENEO"]
[852,"IW1QIH","MI932","ARMI","GIAN"]
[853,"IK2WAD","MI933","ARMI","GIOSUE'"]
[854,"I2XBO","MI934","ARMI","ADRIANO"]
[855,"IZ7XMX","MI935","ARMI","GIOVANNI"]
[856,"IK5AIO","MI936","ARMI","ILICO"]
[857,"IK1WKS","MI937","ARMI","CARLO"]
[858,"IZ1GVG","MI938","ARMI","GIACOMO"]
[859,"HB9ASZ","MI939","ARMI","BERNHARD"]
[860,"IK5LGM","MI940","ARMI","ANTONIO"]
[861,"IZ1CCF","MI941","ARMI","ALBERTO"]
[862,"IS0ANZ","MI942","ARMI","ALESANDRO"]
[863,"YO4DCF","MI943","ARMI","MARIN"]
[864,"IK5VLO","MI945","ARMI","PAOLO"]
[865,"IZ1TTR","MI946","ARMI","FILIPPO"]
[866,"IZ1BMI","MI947","ARMI","CRISTIAN"]
[867,"IK6REB","MI948","ARMI","SIMONE"]
[868,"I0PAB","MI949","ARMI","GIOVANNI"]
[869,"II0IDR","MI950","ARMI","MARITELE ROMA"]
[870,"II0SB","MI951","ARMI","SANTA BARBARA CAGLIARI"]
[871,"II3SB","MI952","ARMI","SANTA BARBARA VENEZIA"]
[872,"II3ICZ","MI953","ARMI","MARITELE VENEZIA"]
[873,"II2MM ","MI954","ARMI","GIORNATA DELLE FF.AA. (2010)"]
[874,"II0ICH","MI955","ARMI","MARITELE LA MADDALENA"]
[875,"II9IGA","MI956","ARMI","MARITELE TRAPANI "]
[876,"II0IASM","MI957","ARMI","NAVE CAVOUR (CIVITAVECCHIA)"]
[877,"II7IASM","MI957","ARMI","NAVE CAVOUR (TARANTO)"]
[878,"II1IALV","MI958","ARMI","SOMMERGIBILE L. DA VINCI"]
[879,"II1IARD","MI959","ARMI","NAVE ARDITO (LA SPEZIA)"]
[880,"II7IARD","MI959","ARMI","NAVE ARDITO (TARANTO)"]
[881,"II7IADU","MI960","ARMI","NAVE C. DUILIO (TARANTO)"]
[882,"II0IADU","MI960","ARMI","NAVE C. DUILIO (GAETA)"]
[883,"II2SB","MI961","ARMI","SANTA BARBARA COMO"]
[884,"II7IGPR","MI962","ARMI","SOMMERGIBILE G.PRINI "]
[885,"IA7MM","MI963","ARMI","150° ANNIVERSARIO MARINA MILITARE"]
[886,"II3MM","MI964","ARMI","151° ANNIVERSARIO MARINA MILITARE"]
[887,"IP1NAVY","MI965","ARMI","152° ANNIVERSARIO MARINA MILITARE"]
[888,"II6ICA","MI966","ARMI","MARITELE ANCONA"]
[889,"II7ICE","MI967","ARMI","MARITELE BRINDISI"]
[890,"II0ICV","MI968","ARMI","MARITELE TAVOLARA"]
[891,"II5IDK","MI969","ARMI","MARITELE LIVORNO  "]
[892,"II9IGB","MI970","ARMI","MARITELE PANTELLERIA"]
[893,"II1NS","MI971","ARMI","SOMMERGIBILE N. SAURO"]
[894,"II7IAOI","MI972","ARMI","NAVE BERGAMINI"]
[{"$f":"ROW(A895)","v":895},"IZ0WBO","MI973","ARMI","MARTINO"]
[896,"IT9YVO","MI974","ARMI","ANTONELLO"]
[897,"II7IADO","MI975","ARMI","NAVE DORIA"]
[898,"IZ3VEN","MI976","ARMI","DANIELE"]
[899,"II0IAFM","MI977","ARMI","NAVE F. MIMBELLI"]
[900,"IK1UGX","MI978","ARMI","ANGELO"]
[901,"IT9BLI","MI979","ARMI","CALOGERO"]
[902,"IZ4YEP","MI980","ARMI","ALEX"]
[903,"IK1PCC","MI981","ARMI","GIORGIO"]
[904,"IK1OXE","MI982","ARMI","MAURIZIO"]
[905,"IZ1RDO","MI983","ARMI","ANTONIO"]
[906,"IT9CAR","MI984","ARMI","STEFANO"]
[907,"IK5VLL","MI987","ARMI","ANDREA"]
[908,"IW5ABB","MI988","ARMI","MARCELLO"]
[909,"I5UIG","MI989","ARMI","GIANCARLO"]
[910,"IQ7UJ","MI990","ARMI","SEZ. ARMI TARANTO"]
[911,"I5VNJ","MI991","ARMI","GIOVANNI"]
[912,"IZ0KMC","MI992","ARMI","PASQUALE"]
[913,"IZ3ZMJ","MI994","ARMI","DARIO"]
[914,"IW5ACI","MI995","ARMI","FRANCO"]
[{"$f":"ROW(#REF!)","v":{"$error":"#REF!"}},"HB9FGG","MI997","ARMI","ANTONINA"]
[916,"IZ0LKW","MI998","ARMI","CARLO"]
[917,"I1OGN","MI999","ARMI","NATALE"]
[918,"II7ARMI","MI1000","ARMI","10° ANNIVERSARIO ARMI - 1° RADUNO NAZIONALE A TARANTO"]
[919,"II0ELET","MI1001","ARMI","NAVE ELETTRA (SALARADIO) - MUSEO PT ROMA"]
[920,"IT9ASD","MI1002","ARMI","IVAN"]
[921,"IZ3ZFF","MI1004","ARMI","ANNA"]
[922,"IT9CLN","MI1005","ARMI","IVANO"]
[923,"IK7FPV","MI1006","ARMI","GIUSEPPE"]
[924,"IW1RLE","MI1007","ARMI","CARLO"]
[925,"IZ8VNQ","MI1008","ARMI","DOMENICO"]
[926,"IT9LOL","MI1009","ARMI","FRANCESCO"]
[927,"IZ4GOL","MI1010","ARMI","LUIGI"]
[928,"IK7FPU","MI1013","ARMI","ANTONIO"]
[929,"IT9BRY","MI1014","ARMI","AMERIGO"]
[930,"IZ5ZCC","MI1015","ARMI","MARCO"]
[931,"IZ7SLZ","MI1016","ARMI","DOMENICO"]
[932,"IZ1WTM","MI1017","ARMI","PIERO"]
[933,"IZ1ZCT","MI1018","ARMI","ROBERTO"]
[934,"IW5AX","MI1019","ARMI","RICCARDO"]
[935,"HB9BQR","MI1020","ARMI","ROLAND"]
[936,"IU1AAH","MI1021","ARMI","ENZO"]
[937,"II7WARD","MI1022","ARMI","WORLD AMATEUR RADIO DAY"]
[938,"IZ0TKD","MI1024","ARMI","MASSIMO"]
[939,"IZ3YKV","MI1025","ARMI","ROBERTO"]
[940,"IZ3LCK","MI1026","ARMI","GIULIO"]
[941,"IZ0WIG","MI1027","ARMI","MARCO"]
[942,"IT9OZS","MI1028","ARMI","SALVATORE"]
[943,"IT9ARZ","MI1029","ARMI","GIUSEPPE"]
[944,"IW9FNV","MI1030","ARMI","SALVATORE"]
[945,"II1IARU","MI1031","ARMI","NAVE AUDACE"]
[946,"IT9CBR","MI1033","ARMI","SALVATORE"]
[947,"II9IACR","MI1034","ARMI","NAVE PIETRO DE CRISTOFORO"]
[948,"IK6MNB","MI1035","ARMI","CLAUDIO"]
[949,"AG6SH","MI1037","ARMI","MARK"]
[950,"II0IABJ","MI1038","ARMI","NAVE AMERIGO VESPUCCI"]
[951,"IV3FHS","MI1039","ARMI","ANTONIO"]
[952,"II9IAGM","MI1040","ARMI","SOMMERGIBILE MARCONI"]
[953,"IZ5GRS","MI1041","ARMI","ANDREA "]
[954,"IZ5ZEB","MI1042","ARMI","ELISA"]
[955,"IU5AJQ","MI1043","ARMI","MARCO"]
[956,"IZ0WPA","MI1044","ARMI","PAOLO"]
[957,"IZ4IPJ","MI1045","ARMI","ROSSANO"]
[{"$f":"ROW(A958)","v":958},"IZ0HQN","MI1046","ARMI","CRISTIANO"]
[959,"IW9FRB","MI1047","ARMI","FILIPPO"]
[960,"IT9DBF","MI1048","ARMI","ORAZIO"]
[961,"IK1ZVJ","MI1049","ARMI","FELICE"]
[962,"II0IAML","MI1050","ARMI","NAVE IMPAVIDO"]
[963,"IT9NSL","MI1051","ARMI","PAOLO"]
[964,"IW1BCO","MI1052","ARMI","MARCO"]
[965,"IZ5CMG","MI1053","ARMI","ROBERTO"]
[966,"IZ7FMJ","MI1054","ARMI","LUCIANO"]
[967,"IZ1ELQ","MI1055","ARMI","PAOLO"]
[968,"IK8PXZ","MI1056","ARMI","VITTORIO"]
[969,"IZ7XVG","MI1058","ARMI","VITTORIO"]
[970,"IZ4WBA","MI1059","ARMI","DAVIDE"]
[971,"IZ7ATN","MI1060","ARMI","SIMON"]
[972,"IW4DXO","MI1061","ARMI","LORENZO"]
[973,"IW0HLE","MI1062","ARMI","GIANNI"]
[974,"IV3ALL","MI1063","ARMI","GAETANO"]
[975,"IV3AZV","MI1064","ARMI","MAURO"]
[976,"IV3BBZ","MI1065","ARMI","SERGIO"]
[977,"IV3BCA","MI1066","ARMI","PAOLO"]
[978,"IV3BCM","MI1067","ARMI","OSCAR"]
[979,"IV3CNZ","MI1068","ARMI","ANGELO"]
[980,"IV3DDN","MI1069","ARMI","STEFANO"]
[981,"IV3GFL","MI1070","ARMI","MARIA"]
[982,"IV3UTV","MI1071","ARMI","MAURIZIO"]
[983,"IZ5VVA","MI1072","ARMI","RICCARDO"]
[984,"IZ5XGQ","MI1073","ARMI","SALVATORE"]
[985,"IZ3YGA","MI1074","ARMI","PAOLO"]
[986,"IW0HQG","MI1075","ARMI","FERNANDO"]
[987,"IZ1HKK","MI1076","ARMI","CIRO"]
[988,"IK1NDD","MI1077","ARMI","CARLO"]
[989,"IZ1ASM","MI1078","ARMI","NICOLA"]
[990,"IU1BEL","MI1079","ARMI","GIANPAOLO"]
[991,"HZ1PS","MI1080","ARMI","PETER"]
[992,"IZ7QEN","MI1082","ARMI","TOMMASO"]
[993,"IZ1WJF","MI1083","ARMI","ROCCO"]
[994,"IZ7BRC","MI1084","ARMI","ANTONIO"]
[995,"RK3SWB","MI1085","ARMI","RYAZAN"]
[996,"IN3DQW","MI1086","ARMI","GIANCARLO"]
[997,"IS0DZM","MI1087","ARMI","STEFANO"]
[998,"DL2NAI","MI1088","ARMI","ISRAEL"]
[999,"OE1GTU","MI1089","ARMI","GERHARD"]
[1000,"EA3ERD","MI1090","ARMI","ERNESTO"]
[1001,"LZ3QC","MI1091","ARMI","IVAYLO"]
[1002,"IZ1WEZ","MI1092","ARMI","GIORGIO"]
[1003,"I0FTB","MI1093","ARMI","FRANCESCO"]
[1004,"IT9DWF","MI1094","ARMI","DOMENICO"]
[1005,"IZ8SWO","MI1095","ARMI","EVERALDO"]
[1006,"IZ1VZG","MI1096","ARMI","MORENO"]
[1007,"HA1XU","MI1097","ARMI","JANOS"]
[1008,"IU5AVW","MI1098","ARMI","ANTONINO"]
[1009,"IU1ATD","MI1099","ARMI","ANTONIO"]
[1010,"II0ROMA","MI1100","ARMI","REGIA NAVE ROMA (SARDEGNA)"]
[1011,"II1ROMA","MI1100","ARMI","REGIA NAVE ROMA (LA SPEZIA)"]
[1012,"IR1OMA","MI1100","ARMI","REGIA NAVE ROMA (GENOVA"]
[1013,"IR0MA","MI1100","ARMI","REGIA NAVE ROMA (ROMA)"]
[1014,"II3ROMA","MI1100","ARMI","REGIA NAVE ROMA (MONFALCONE)"]
[1015,"II7ROMA","MI1100","ARMI","REGIA NAVE ROMA (TARANTO)"]
[1016,"II3CW","MI1101","ARMI","TELEGRAPHY HERITAGE HUMANITY"]
[1017,"IK4YFQ","MI1102","ARMI","MARCELLO"]
[1018,"IT9CFP","MI1103","ARMI","GIUSEPPE"]
[1019,"IZ8GUN","MI1105","ARMI","GIOVANNI"]
[1020,"IZ2ZPH","MI1106","ARMI","PAOLO"]
[1021,"IT9IFI","MI1107","ARMI","SERGIO"]
[{"$f":"ROW(A1022)","v":1022},"IK1BUW","MI1109","ARMI","VINCENZO"]
[1023,"II1IAST","MI1110","ARMI","NAVE TODARO"]
[1024,"II7LDP","MI1111","ARMI","CENTENARIO DELLA NASCITA DI L.D.LA PENNE 1914-2014"]
[1025,"IZ7JYG","MI1112","ARMI","NICOLA"]
[1026,"SWL","MI1113","ARMI","NADIA"]
[1027,"IU2CBI","MI1114","ARMI","MARCO"]
[1028,"IT9CEL","MI1116","ARMI","SANTO"]
[1029,"IS0MNR","MI1117","ARMI","VALENTE"]
[1030,"IS0HFE","MI1118","ARMI","SIMONE"]
[1031,"IT9ZZO","MI1119","ARMI","DARIO"]
[1032,"IU7BTO","MI1120","ARMI","GIUSEPPE"]
[1033,"CT1ELF","MI1121","ARMI","FERNANDO"]
[1034,"IZ8QIH","MI1122","ARMI","FERNANDO"]
[1035,"IK0LWQ","MI1123","ARMI","ENRICO "]
[1036,"IS0DZU","MI1124","ARMI","PAOLA"]
[1037,"IT9DQT","MI1125","ARMI","ALEX "]
[1038,"I1FX","MI1126","ARMI","FRANCESCO"]
[1039,"I3JYL","MI1127","ARMI","LINO"]
[1040,"IZ2CDR","MI1128","ARMI","ANGELO"]
[1041,"IK7XNA","MI1130","ARMI","SERGIO"]
[1042,"II0IAET","MI1131","ARMI","NAVE ETNA"]
[1043,"IT9FBT","MI1132","ARMI","GIUSEPPE"]
[1044,"IS0PAH","MI1133","ARMI","SALVATORE"]
[1045,"IW1DSA","MI1134","ARMI","MARCO"]
[1046,"II5IHLP","MI1135","ARMI","NAVE PLATANO"]
[1047,"II1IBFL","MI1136","ARMI","MEMORIAL"]
[1048,"IZ7ZKS","MI1138","ARMI","EMANUELE"]
[1049,"IT9DGZ","MI1139","ARMI","PIETRO"]
[1050,"II9IAOC","MI1140","ARMI","NAVE DANAIDE"]
[1051,"II9IAIQ","MI1141","ARMI","NAVE GARIBALDI"]
[1052,"IZ5IXJ","MI1142","ARMI","CARLO"]
[1053,"IK3JLV","MI1143","ARMI","GIOVANNI"]
[1054,"IZ4ZBN","MI1144","ARMI","URIA"]
[1055,"IS0CDS","MI1145","ARMI","SALVATORE"]
[1056,"IS0DRF","MI1146","ARMI","ANDREA"]
[1057,"IZ2WYA","MI1147","ARMI","CHRISTIAN"]
[1058,"IT9YBL","MI1148","ARMI","ANDREA"]
[1059,"IZ1SCM","MI1149","ARMI","RODOLFO"]
[1060,"IT9CVX","MI1150","ARMI","ROSARIO"]
[1061,"I5SOD","MI1151","ARMI","GIANCARLO"]
[1062,"IT9ELT","MI1152","ARMI","SALVATORE"]
[1063,"SWL","MI1153","ARMI","SERGIO"]
[1064,"IU8CEZ","MI1154","ARMI","GIUSEPPE"]
[1065,"DK6LH","MI1155","ARMI","GUENTER"]
[1066,"IZ0TWS","MI1156","ARMI","ANDREA"]
[1067,"IT9EYV","MI1157","ARMI","MARIO"]
[1068,"IW8ENL","MI1158","ARMI","FRANCESCO"]
[1069,"IZ6ZFM","MI1159","ARMI","GILBERTO"]
[1070,"IW3RWZ","MI1160","ARMI","GIUSEPPE"]
[1071,"IS0BWM","MI1161","ARMI","CHRISTIAN"]
[1072,"IS0FFR","MI1162","ARMI","LOREDANA"]
[1073,"IZ1YCL","MI1163","ARMI","ANDREA"]
[1074,"SWL","MI1164","ARMI","GIANLUCA"]
[1075,"IZ7ZKC","MI1165","ARMI","FRANCESCO"]
[1076,"IS0FEZ","MI1166","ARMI","MARIO"]
[1077,"IS0QQA","MI1167","ARMI","FILIPPO"]
[1078,"IU0BVT","MI1168","ARMI","ARMANDO"]
[1079,"IU1DEI","MI1169","ARMI","PIETRO"]
[1080,"IS0FFV","MI1170","ARMI","MASSIMILIANO"]
[1081,"IS0DJA","MI1171","ARMI","LUCA"]
[1082,"IS0EIR","MI1172","ARMI","STEFANO"]
[1083,"IV3JWY","MI1173","ARMI","BRUNO"]
[1084,"IS0AGY","MI1174","ARMI","AMPELIO"]
[1085,"SWL","MI1175","ARMI","PAOLO"]
[{"$f":"ROW(A1086)","v":1086},"IW0CPJ","MI1176","ARMI","CLAUDIO"]
[1087,"IU8CEU","MI1177","ARMI","MICHELE"]
[1088,"IZ8EEO","MI1178","ARMI","SILVESTRO"]
[1089,"IZ8EZV","MI1179","ARMI","PIETRO"]
[1090,"IS0CVH","MI1180","ARMI","MATTEO"]
[1091,"I2QIL","MI1181","ARMI","ANTONIO"]
[1092,"IK0PRD","MI1182","ARMI","CLAUDIO"]
[1093,"IZ8KZN","MI1183","ARMI","ANGELO"]
[1094,"IZ5WSR","MI1184","ARMI","SALVATORE"]
[1095,"PA9IGB","MI1185","ARMI","GIUSEPPE"]
[1096,"IZ0YIM","MI1186","ARMI","ERMES"]
[1097,"SQ5JBO","MI1187","ARMI","ARTUR"]
[1098,"IW0GWT","MI1188","ARMI","PAOLO"]
[1099,"IN3FOS","MI1189","ARMI","ALESSANDRA"]
[1100,"IZ0RUS","MI1190","ARMI","VINCENZO"]
[1101,"IZ0CUX","MI1191","ARMI","PAOLO"]
[1102,"IZ3ZUS","MI1192","ARMI","ANDREA"]
[1103,"IS0QQA","MI1193","ARMI","FILIPPO"]
[1104,"IZ5MMB","MI1194","ARMI","PIER"]
[1105,"EA4014SW","MI1195","ARMI","GIULIANO"]
[1106,"IU8EDV","MI1196","ARMI","SALVATORE"]
[1107,"IW2CTQ","MI1197","ARMI","MAURIZIO"]
[1108,"IZ8FPF","MI1198","ARMI","ROBERTO"]
[1109,"IK8FIQ","MI1199","ARMI","AGOSTINO"]
[1110,"II0IABH","MI1200","ARMI","NAVE FOSCARI"]
[1111,"IV3DBT","MI1201","ARMI","LUCIANO"]
[1112,"I3SBB","MI1202","ARMI","GIUSEPPE"]
[1113,"II1SAP","MI1203","ARMI","REGIO SOMMERGIBILE PROVANA"]
[1114,"IZ6FCK","MI1204","ARMI","GIANPIERO"]
[1115,"IZ5MXA","MI1205","ARMI","ROBERTO"]
[1116,"I1PJK","MI1206","ARMI","MAURIZIO"]
[1117,"IK8MFJ","MI1207","ARMI","MICHELE"]
[1118,"II2IAOG","MI1210","ARMI","NAVE FENICE"]
[1119,"IT9QEI","MI1211","ARMI","SALVATORE"]
[1120,"II9IAVE","MI1212","ARMI","NAVE VISINTINI"]
[1121,"IQ5XH","MI1213","ARMI","SEZ. ARMI TARANTO"]
[1122,"IK2ILG","MI1214","ARMI","FERMO"]
[1123,"II1IAFC","MI1215","ARMI","SOMMERGIBILE DI COSSATO"]
[1124,"IJ7TA","MI1216","ARMI","IS. SAN PIETRO DIST. M.M."]
[1125,"IU7EHF","MI1217","ARMI","ALESSIO"]
[1126,"IQ2IR","MI1218","ARMI","INSUBRIA RADIO CLUB"]
[1127,"IS0FXJ","MI1219","ARMI","DAVIDE"]
[1128,"II1BRT","MI1220","ARMI","BIAGI RED TENT"]
[1129,"II0IADC","MI1221","ARMI","NAVE CORSARO II"]
[1130,"IV3DSB","MI1222","ARMI","ROBERTO"]
[1131,"IK7QBS","MI1223","ARMI","GIOVANNI"]
[1132,"IV3FNR","MI1224","ARMI","GIANNINO"]
[1133,"IK7FMQ","MI1225","ARMI","GABRIELE"]
[1134,"OH2BFG","MI1226","ARMI","JARI"]
[1135,"IS0FWY","MI1227","ARMI","SERGIO"]
[1136,"IV3BSL","MI1228","ARMI","ALESSANDRA"]
[1137,"IW2JJS","MI1229","ARMI","GIORGIO"]
[1138,"IZ1ZYB","MI1230","ARMI","MARCO"]
[1139,"IW0DPJ","MI1231","ARMI","GIOVANNI"]
[1140,"IZ1WWX","MI1232","ARMI","MARCO"]
[1141,"IW6CAE","MI1233","ARMI","SIMONE"]
[1142,"IZ7XWO","MI1234","ARMI","FERDINANDO"]
[1143,"IK3GLF","MI1235","ARMI","NICOLA"]
[1144,"IU0DZA","MI1236","ARMI","ROBERTO"]
[1145,"IZ3ZMC","MI1237","ARMI","LUIGI"]
[1146,"IZ4EKI","MI1238","ARMI","TOMASO"]
[1147,"IZ5UFM","MI1239","ARMI","ROBERTO"]
[1148,"IS0FFQ","MI1240","ARMI","ELIO"]
[1149,"IS0FKA","MI1241","ARMI","ALESSANDRO"]
[1150,"IK7XTA","MI1242","ARMI","DOMENICO"]
[{"$f":"ROW(A1151)","v":1151},"IT9GCJ","MI1243","ARMI","FABIO"]
[1152,"IF9ZWA","MI1244","ARMI","MICHELE"]
[1153,"IS0BZR","MI1245","ARMI","FRANCO"]
[1154,"DL1HBL","MI1246","ARMI","CLAUS"]
[1155,"DL9LBR","MI1247","ARMI","REIMER"]
[1156,"IN3EYM","MI1248","ARMI","FABIO"]
[1157,"IU8ERA","MI1249","ARMI","ANTONIO"]
[1158,"IS0XBS","MI1250","ARMI","BRUNO"]
[1159,"IU2BYH","MI1251","ARMI","IVAN"]
[1160,"IU4DEG","MI1252","ARMI","ANDREA"]
[1161,"IM0DTF","MI1253","ARMI","AURELIO"]
[1162,"IZ5MMQ","MI1254","ARMI","MARIO"]
[1163,"IT9FTU","MI1255","ARMI","FRANCESCO"]
[1164,"IU8AEY","MI1256","ARMI","ELIO"]
[1165,"IU8FSU","MI1257","ARMI","PIETRO"]
[1166,"II1IYBJ","MI1258","ARMI","MV SAN GIUSEPPE DUE"]
[1167,"IU8EZU","MI1259","ARMI","NICOLA"]
[1168,"IZ8FOM","MI1260","ARMI","GAETANO"]
[1169,"IZ8EZU","MI1261","ARMI","LUIGI"]
[1170,"IZ8EZL","MI1262","ARMI","CARMELO"]
[1171,"IK8LMW","MI1263","ARMI","GIACOMO"]
[1172,"IU0AZQ","MI1264","ARMI","PAOLO"]
[1173,"IK8MJP","MI1265","ARMI","VINCENZO"]
[1174,"IT9FDB","MI1266","ARMI","SALVATORE"]
[1175,"IZ5RAQ","MI1267","ARMI","FABRIZIO"]
[1176,"IT9-037SWL","MI1268","ARMI","RICCARDO"]
[1177,"IV3DRZ","MI1269","ARMI","MAURO"]
[1178,"IQ8XS","MI1270","ARMI","ARMI CALVI RISORTA"]
[1179,"IZ5JNS","MI1271","ARMI","MARCO"]
[1180,"IZ3ZMS","MI1272","ARMI","ANDREA"]
[1181,"IU1CYA","MI1273","ARMI","GIUSEPPE"]
[1182,"IZ1GKS","MI1274","ARMI","BERNARDO"]
[1183,"ON8SGA","MI1275","ARMI","GENNARO"]
[1184,"DL2AMM","MI1276","ARMI","MANFRED"]
[1185,"I0YJT","MI1277","ARMI","ELIO"]
[1186,"IU8CEE","MI1278","ARMI","FRANCESCO"]
[1187,"IZ8XXE","MI1279","ARMI","DOMENICO"]
[1188,"IZ8YAA","MI1281","ARMI","AURELIO"]
[1189,"IK8GGD","MI1282","ARMI","NICOLINO"]
[1190,"IU8CFX","MI1283","ARMI","YLENIA"]
[1191,"I3-165438VE","MI1284","ARMI","GIUSEPPE"]
[1192,"IS0GGA","MI1285","ARMI","MASSIMO"]
[1193,"IS0GFR","MI1286","ARMI","MAURIZIO"]
[1194,"IU0GJB","MI1287","ARMI","PIETRO"]
[1195,"IU8CPT","MI1288","ARMI","CARLO"]
[1196,"IS0BYY","MI1289","ARMI","ROBERTO"]
[{"$f":"ROW(A1197)","v":1197},"IN3IJL","MI1290","ARMI","GIANCARLO"]
[1198,"IW1RIK","MI1291","ARMI","MARCO"]
[1199,"IT9GDY","MI1292","ARMI","SALVATORE"]
[1200,"IT9AVP","MI1293","ARMI","GIUSEPPE"]
[1201,"IU0AHC","MI1294","ARMI","FABRIZIO"]
[1202,"IT9ZMV","MI1295","ARMI","SALVATORE"]
[1203,"IZ0MQV","MI1296","ARMI","BRUNO"]
[1204,"IZ1TEJ","MI1297","ARMI","GIANLUCA"]
[1205,"IZ1HLU","MI1298","ARMI","SANDRO"]
[1206,"IU5BKR","MI1299","ARMI","RICCARDO"]
[1207,"II8IHBC","MI1300","ARMI","NAVE VESUVIO"]
[1208,"I1GEI","MI1301","ARMI","GIUSEPPE"]
[1209,"IW5BBV","MI1302","ARMI","BRUNO"]
[1210,"IS0DSW","MI1303","ARMI","STEFANO"]
[1211,"IK5NTH","MI1304","ARMI","MAURO"]
[1212,"IU8GUZ","MI1305","ARMI","AGOSTINO"]
[1213,"IK7RVV","MI1306","ARMI","ENANUELE"]
[1214,"IW7AZG","MI1307","ARMI","LORENZO"]
[1215,"IK7QME","MI1308","ARMI","DOMENICO"]
[1216,"IZ0HDB","MI1309","ARMI","DARIO"]
[1217,"IQ8NB","MI1310","ARMI","SEZ. ERA PAOLA (CS)"]
[1218,"IU3GPT","MI1311","ARMI","CARMELO"]
[1219,"YO2DGR","MI1312","ARMI","NICUSOR DICK"]
[1220,"IZ8VBI","MI1313","ARMI","GIUSEPPE"]
[1221,"IU8CEC","MI1314","ARMI","CIRO"]
[1222,"II0IATO","MI1315","ARMI","SOMMERGIBILE TODARO"]
[1223,"IC8FFP","MI1316","ARMI","ROBERO"]
[1224,"IU1FIV","MI1317","ARMI","CAMILLO"]
[1225,"IZ8IJO","MI1318","ARMI","ANTONIO"]
[1226,"IK8SQQ","MI1319","ARMI","GIUSEPPE"]
[1227,"IZ8SUI","MI1320","ARMI","GIANLUCA"]
[1228,"IC8FJX","MI1321","ARMI","CAMILLO"]
[1229,"IZ8XTX","MI1322","ARMI","ARTURO"]
[1230,"IZ8GNR","MI1323","ARMI","CARLO"]
[1231,"IU8EQF","MI1324","ARMI","SALVATORE"]
[1232,"IZ8LFI","MI1325","ARMI","VINCENZO"]
[1233,"I1-0167IM","MI1326","ARMI","FABIO MARIA"]
[1234,"IW0HIQ","MI1327","ARMI","DAVID"]
[1235,"IN3GIN","MI1328","ARMI","HARALD"]
[1236,"IV3ISG","MI1329","ARMI","ROBERTO"]
[1237,"II9IABA","MI1330","ARMI","NAVE ARETUSA"]
[1238,"IU1FGO","MI1331","ARMI","JEAN RAOUL"]
[1239,"IS0UMP","MI1332","ARMI","ANTONELLO"]
[1240,"II9IHPM","MI1333","ARMI","NAVE ALBATROS"]
[1241,"M6GVF","MI1334","ARMI","GIOVANNI"]
[1242,"IU4DTT","MI1335","ARMI","CLAUDIO"]
[1243,"I3SY","MI1336","ARMI","SERGIO"]
[1244,"IV3FYV","MI1337","ARMI","ERVINO"]
[1245,"I6CXB","MI1338","ARMI","FABIO"]
[{"$f":"ROW(A1246)","v":1246},"IZ3LMO","MI1339","ARMI","BRUNO"]
[1247,"IQ7QN","MI1340","ARMI","SEZ. ARMI SUD SALENTO (LE)"]
[1248,"I2EDZ","MI1341","ARMI","NADIR"]
[1249,"IU2DOZ","MI1342","ARMI","GIUSEPPE"]
[1250,"IU8BBO","MI1343","ARMI","CIRO"]
[1251,"YU1WAT","MI1344","ARMI","VINKO"]
[1252,"IK8UDH","MI1345","ARMI","NICOLA"]
[1253,"IU8FUL","MI1346","ARMI","RICCARDO"]
[1254,"IU8FRE","MI1347","ARMI","LUCA"]
[1255,"IU8CNF","MI1348","ARMI","PASQUALE"]
[1256,"IU8CPQ","MI1349","ARMI","MARIO"]
[1257,"IZ8ALA","MI1350","ARMI","GIANCARLO"]
[1258,"IZ8IAZ","MI1351","ARMI","CARMELO"]
[1259,"IZ8DFO","MI1352","ARMI","ALDO"]
[1260,"IK1WVR","MI1353","ARMI","MIRCO"]
[1261,"IU1DUK","MI1036","ARMI","GIANNI"]
[1262,"IZ8LLQ","MI1354","ARMI","GENNARO"]
[1263,"ON4BRN","BM001","BMARS"]
[1264,"OR0OST","BM002","BMARS","BMARS"]
[1265,"ON8SUB","BM003","BMARS",0]
[1266,"ON6WR ","BM012","BMARS","ROGER"]
[1267,"ON4WD ","BM013","BMARS","JULES"]
[1268,"PA3FSF","BM014","BMARS","KAREL"]
[1269,"ON4AGV","BM015","BMARS","RUDI"]
[1270,"SWL ONL4823","BM017","BMARS","DANIEL"]
[1271,"ON6WX","BM018","BMARS","BOB"]
[1272,"ON6NF ","BM019","BMARS","PAUL"]
[1273,"GB2RN","BM020","BMARS","BELFAST"]
[1274,"ON4AZM","BM021","BMARS","IWAN"]
[1275,"ON6KN","BM023","BMARS","SWA"]
[1276,"G0FEK","BM025","BMARS","WILSON"]
[1277,"PA3CTK","BM026","BMARS","HARM"]
[1278,"ON4RO","BM027","BMARS","GUY"]
[1279,"ON5BF","BM029","BMARS","FRANK"]
[1280,"OH1AJ","BM030","BMARS","NARS"]
[1281,"ON1AAI","BM031","BMARS","LOUIS"]
[1282,"ON4NU ","BM032","BMARS","MAURICE"]
[1283,"ON4CAB","BM034","BMARS","BART"]
[1284,"ON4BYD","BM035","BMARS","GEORGES"]
[1285,"ON4NS","BM039","BMARS","NOEL"]
[1286,"MF CLUB","BM040","BMARS"]
[1287,"ON4UK","BM041","BMARS","OHAN"]
[1288,"ON5FU","BM042","BMARS","AIME"]
[1289,"ON4TJ","BM043","BMARS","EORGES"]
[1290,"ON4CBM","BM044","BMARS"]
[1291,"ON4BDJ","BM045","BMARS","JEANPAUL"]
[1292,"ON4VC","BM046","BMARS","MICHEL"]
[1293,"ON4GPS","BM047","BMARS","RIK"]
[1294," ON4BBA","BM048","BMARS","JEANPIERRE"]
[1295,"ON4CKI","BM049","BMARS","CAMERLY"]
[1296,"GB3RN","BM050","BMARS","STATION"]
[1297,"G1LEH","BM051","BMARS"]
[1298,"GM0RYD","BM052","BMARS"]
[1299,"OE8NIK","BM053","BMARS","NIVK"]
[1300,"ON7PP","BM056","BMARS"]
[1301,"ON4VDC","BM057","BMARS","VINCENT"]
[1302,"DL5XI","BM058","BMARS","JOORMANN"]
[1303,"GW0VSW","BM060","BMARS","W NO"]
[1304,"ON7WF ","BM062","BMARS","WELLECAN"]
[1305,"DF7PM ","BM063","BMARS","MARIELUISE"]
[1306,"DC7QN ","BM064","BMARS"]
[1307,"I6HWD ","BM066","BMARS"]
[1308,"DL1NL ","BM067","BMARS","FRED"]
[1309,"OE6ESG ","BM069","BMARS","SEPP"]
[{"$f":"ROW(A1310)","v":1310},"DK9OS","BM071","BMARS","HANS"]
[1311,"ON4CJJ","BM072","BMARS","LUC"]
[1312,"ON4CBI","BM073","BMARS","VAN"]
[1313,"G0HNU","BM074","BMARS","ROGER"]
[1314,"G0ELZ","BM075","BMARS","BILL "]
[1315,"ON4KJ ","BM076","BMARS","JOZEF"]
[1316," PA3EBA","BM077","BMARS","STAPP"]
[1317,"ON5KK","BM078","BMARS","JONCKHERE"]
[1318,"EA7GSY","BM079","BMARS","FLOR"]
[1319,"PI4MRC","BM080","BMARS","MARAC"]
[1320,"PA0VLA ","BM081","BMARS","VAN"]
[1321,"ON1AEI ","BM082","BMARS","COLONNE"]
[1322,"ON4CBK","BM083","BMARS","MARTIN"]
[1323,"DE0WAF","BM084","BMARS","A "]
[1324,"DL1EKN","BM085","BMARS","HANS"]
[1325,"DK5UR ","BM086","BMARS","URBAN"]
[1326,"ON4KV","BM087","BMARS","VANDERV"]
[1327,"ON4AUP","BM088","BMARS","VAN"]
[1328,"YO4DCF","BM089","BMARS","MARIO"]
[1329,"OE6XMF","BM090","BMARS","MFCA"]
[1330,"ON7DSP","BM091","BMARS","CASIER"]
[1331,"EA3CYA","BM092","BMARS","CARPI"]
[1332,"ON5UE","BM093","BMARS","DANNY"]
[1333,"SWL - ONL","BM094","BMARS","JENS"]
[1334,"DH2UK","BM095","BMARS","KOCH"]
[1335,"DF6LI","BM096","BMARS","LINN "]
[1336,"DK3UZ","BM097","BMARS","H"]
[1337,"DL6DCC","BM098","BMARS","HAFEDORN"]
[1338,"ON4AEX","BM099","BMARS","JP "]
[1339,"ON5DDG","BM101","BMARS","GROTE"]
[1340,"ON4TB","BM102","BMARS","HEO"]
[1341,"DL5XL","BM103","BMARS","FELIX"]
[1342,"ON4DTK","BM104","BMARS","LEON"]
[1343,"GI4MFM","BM105","BMARS","MC"]
[1344,"ON4CKZ","BM106","BMARS","PATRICK"]
[1345,"OH1WR","BM107","BMARS","KEKALA"]
[1346,"PB2BRU","BM108","BMARS","AJ "]
[1347,"ON4BNR","BM109","BMARS","NAHOEL"]
[1348,"ON4YP","BM111","BMARS","YESERB"]
[1349,"CT1DYV","BM112","BMARS"]
[1350,"IZ0AIO","BM113","BMARS","ANGELO"]
[1351,"ON5RKN","BM114","BMARS","SUSANNE"]
[1352,"OE3SOB","BM115","BMARS","OTTER"]
[1353,"RA6LMF","BM116","BMARS","DEN"]
[1354," ON5JD","BM117","BMARS","JAN "]
[1355,"ON4AC","BM118","BMARS","ARNOYS"]
[1356,"DH1BMV","BM119","BMARS"," RAINER"]
[1357,"ON7EQ ","BM121","BMARS","EAN"]
[1358,"ON4CGA","BM122","BMARS","PETER"]
[1359,"ON4NW","BM123","BMARS","WALTER"]
[1360,"ON7CK","BM124","BMARS","JACK"]
[1361,"OR7A","BM124","BMARS","JACK"]
[1362,"ON6PQ","BM125","BMARS","EDGARD"]
[1363,"ON4CJT","BM126","BMARS","EDDY"]
[1364,"ON8AM","BM127","BMARS","LUC"]
[1365,"OQ2F","BM127","BMARS","LUC"]
[1366,"ON4VHF","BM128","BMARS","KARIN"]
[1367,"SWL ONL306","BM129","BMARS","GYSBER"]
[1368,"ON4IBM","BM131","BMARS","IVA"]
[1369,"ON6CQ","BM132","BMARS","RONNY"]
[1370,"M0HEM ","BM133","BMARS","OTOLE"]
[1371,"K7VV","BM134","BMARS","VINCENT"]
[1372,"DL7DG","BM135","BMARS","GENZEL"]
[1373,"ON7BZ","BM136","BMARS","WILLY"]
[{"$f":"ROW(A1374)","v":1374}," DK5FH","BM137","BMARS","ARMIN"]
[1375,"DB1HBA","BM138","BMARS","HELENE"]
[1376,"ON5CF","BM139","BMARS","ROBERT"]
[1377,"SWL ONL8594","BM141","BMARS"," PIOTTE"]
[1378,"ON4AAK","BM142","BMARS","MARC"]
[1379,"ON3CAT","BM143","BMARS","TUYARTS"]
[1380,"ON3OPA","BM144","BMARS","ANDRE"]
[1381,"ON8CQ","BM145","BMARS","WALTER"]
[1382,"ON7STV","BM146","BMARS","STEFAN"]
[1383,"OT2F","BM146","BMARS","STEFAN"]
[1384,"OH1LD","FN001","FNARS"]
[1385,"OH1WR ","FN002","FNARS"]
[1386,"OH1MQ ","FN003","FNARS"]
[1387,"OH1ZK ","FN005","FNARS"]
[1388,"OH1JM ","FN006","FNARS"]
[1389,"OH1PP ","FN007","FNARS"]
[1390,"OH1LR ","FN008","FNARS"]
[1391,"OH2BEF","FN009","FNARS"]
[1392,"OH1KW ","FN011","FNARS"]
[1393,"OH2RL","FN016","FNARS"]
[1394,"OH3VX","FN016","FNARS"]
[1395,"OH3RU ","FN017","FNARS"]
[1396,"OH1FQ ","FN018","FNARS"]
[1397,"OH1CO ","FN019","FNARS"]
[1398,"OH1PE ","FN020","FNARS"]
[1399,"OH1MIE","FN021","FNARS"]
[1400,"OH1LT ","FN022","FNARS"]
[1401,"OH6IG ","FN024","FNARS"]
[1402,"OH1NHU","FN025","FNARS"]
[1403,"OH1CM ","FN026","FNARS"]
[1404,"OH1NYD","FN027","FNARS"]
[1405,"OH1GI","FN028","FNARS"]
[1406,"OH3GI","FN028","FNARS"]
[1407,"OH1CK ","FN029","FNARS"]
[1408,"OH6RJ ","FN030","FNARS"]
[1409,"OH1UP","FN031","FNARS"]
[1410,"OH1SR","FN032","FNARS"]
[1411,"SM3IIB","FN033","FNARS"]
[1412,"OH6MHN","FN034","FNARS"]
[1413,"ON4AGV","FN035","FNARS"]
[1414,"OH1MVO","FN036","FNARS"]
[1415,"OH1KYN","FN038","FNARS"]
[1416,"DJ2HN","FN039","FNARS"]
[1417,"I6HWD","FN040","FNARS"]
[1418,"DL5XI","FN041","FNARS"]
[1419,"RZ6MF","FN043","FNARS"]
[1420,"OH1KZI","FN044","FNARS"]
[1421,"OH1BGG","FN045","FNARS"]
[1422,"OH1JX","FN046","FNARS"]
[1423,"OH2BCV","FN047","FNARS"]
[1424,"OH3UU","FN047","FNARS"]
[1425,"OH8UL","FN048","FNARS"]
[1426,"OH1UC","FN049","FNARS"]
[1427,"OH1NM","FN050","FNARS"]
[1428,"OH2NII","FN051","FNARS"]
[1429,"OH1NT","FN052","FNARS"]
[1430,"OH1NC","FN053","FNARS"]
[1431,"OH1AJ ","FN100","FNARS"]
[1432,"OH1NAVY","FN150","FNARS"]
[1433,"OH1AT ","FN200","FNARS"]
[1434,"OI1AY ","FN300","FNARS"]
[1435,"OI1AXA","FN400","FNARS"]
[1436,"OI2HJ ","FN500","FNARS"]
[1437,"ON4BRN","FN600","FNARS"]
[{"$f":"ROW(A1438)","v":1438},"IT9PBR","IN004","INORC","PIERO"]
[1439,"I8CXU","IN014","INORC","ROCCO"]
[1440,"I0PAB","IN033","INORC","GIOVANNI"]
[1441,"I6LWK","IN034","INORC","MARINO"]
[1442,"IC8CQF","IN036","INORC","PASQUALE"]
[1443,"IS0IGV","IN044","INORC","GIOVANNI"]
[1444,"I7PHH","IN050","INORC","GIANNI"]
[1445,"I1ZB","IN051","INORC","ANTONIO"]
[1446,"IV3TRK","IN056","INORC","SILVIO"]
[1447,"I0ZRM","IN063","INORC","VINCENZO"]
[1448,"I1AND","IN065","INORC","NICOLINO"]
[1449,"I0SNA","IN075","INORC","ANTONIO"]
[1450,"I4ZFY","IN082","INORC","SERGIO"]
[1451,"I0VPK","IN088","INORC","ENZO"]
[1452,"I7CPA","IN093","INORC","ALDO"]
[1453,"IT9DTU","IN094","INORC","NUNZIO REMO"]
[1454,"I5NQK","IN102","INORC","ANTONIO"]
[1455,"I8SCY","IN110","INORC","GIOVANNI"]
[1456,"I4CQO","IN112","INORC","GIACOMO"]
[1457,"I7LMR","IN121","INORC","LUCA"]
[1458,"IT9JDB","IN125","INORC","ONOFRIO"]
[1459,"I0ZYA","IN129","INORC","ALDO"]
[1460,"I0IRS","IN131","INORC","SERGIO"]
[1461,"W8KJP","IN133","INORC","LUCA"]
[1462,"I1FEQ","IN141","INORC","FERNANDO"]
[1463,"I4YTE","IN144","INORC","URBANO"]
[1464,"IK1CCS","IN147","INORC","FERRUCCIO"]
[1465,"IT9CFS","IN153","INORC","SALVATORE"]
[1466,"DL0MF","IN160","INORC","?"]
[1467,"I3DBD","IN163","INORC","DINO"]
[1468,"I3FDZ","IN168","INORC","FIORINO"]
[1469,"IK0CAJ","IN172","INORC","PIETRO"]
[1470,"I0UYI","IN176","INORC","ROVERTO"]
[1471,"I7OEB","IN177","INORC","MAURO"]
[1472,"G3LIK","IN185","INORC","MICK"]
[1473,"IZ1GAR","IN186","INORC","EMILIO"]
[1474,"HB9ASZ","IN191","INORC","BERNHARD"]
[1475,"I3LVK","IN199","INORC","SERGIO"]
[1476,"IK8FIQ","IN200","INORC","AGOSTINO"]
[1477,"I5OBQ","IN212","INORC","VITTORIO"]
[1478,"4X1FC","IN219","INORC","DANIEL"]
[1479,"IK7IBC","IN230","INORC","GIROLAMO"]
[1480,"IK6IJF","IN231","INORC","ALFREDO"]
[1481,"IK6ARS","IN232","INORC","DANIELE"]
[1482,"IK2ILG","IN236","INORC","NORIS"]
[1483,"IK8ACR","IN240","INORC","MICHELANGELO"]
[1484,"IK0AAE","IN241","INORC","DAMIANO"]
[1485,"OE8NIK","IN242","INORC","NIK"]
[1486,"I7FML","IN250","INORC","FRANCESCO"]
[1487,"I1FX","IN254","INORC","FRANCESCO"]
[1488,"I1ZYR","IN256","INORC","ARMANDO"]
[1489,"I1FLC","IN258","INORC","LUIGI"]
[1490,"IK3HZS","IN260","INORC","BRUNO"]
[1491,"IK3OGI","IN263","INORC","SALVATORE"]
[1492,"I8JYK","IN266","INORC","LUIGI"]
[1493,"IK2NUX","IN277","INORC","FRANCESCO"]
[1494,"IK1QBT","IN292","INORC","ANTONIO"]
[1495,"IK1FXX","IN295","INORC","MASSIMO"]
[1496,"IK1PML","IN303","INORC","OTTAVIO"]
[1497,"I8KCL","IN306","INORC","LUIGI"]
[1498,"IK1VGK","IN307","INORC","ROBERTO"]
[1499,"TK5MP","IN308","INORC","TOMASO"]
[1500,"IK0SWT","IN309","INORC","GERARDO"]
[1501,"IM0GNF","IN316","INORC","SALVATORE"]
[{"$f":"ROW(A1502)","v":1502},"IK2BQN","IN320","INORC","LORENZO"]
[1503,"IK2SOE","IN325","INORC","ANDREA"]
[1504,"IK2UJF","IN327","INORC","ERMANNO"]
[1505,"IK0UQX","IN328","INORC","LUIGI"]
[1506,"IZ0AMM","IN329","INORC","LORENZO"]
[1507,"IK0GHA","IN332","INORC","MASSIMO"]
[1508,"IT9DSA","IN333","INORC","ANTONIO"]
[1509,"IK1YIG","IN335","INORC","MARIO"]
[1510,"I3TXQ","IN336","INORC","GIULIO"]
[1511,"I6HWD","IN337","INORC","DOMENICO"]
[1512,"IK0XBE","IN338","INORC","GIOVANNI"]
[1513,"I6FDJ","IN342","INORC","FILIPPO"]
[1514,"I0MPX","IN345","INORC","PIETRO"]
[1515,"IK7TVE","IN348","INORC","PASQUALE"]
[1516,"IK5SRJ","IN351","INORC","LORENZO"]
[1517,"IK0VNQ","IN358","INORC","FILIPPO"]
[1518,"IK1CME","IN361","INORC","DEMETRIO"]
[1519,"IK7AGT","IN362","INORC","GIUSEPPE"]
[1520,"IT9MRM","IN363","INORC","ALBERTO"]
[1521,"IK0PRH","IN364","INORC","BIAGIO"]
[1522,"IM0SDX","IN366","INORC","PIERGIORGIO"]
[1523,"I2XBO","IN367","INORC","ADRIANO"]
[1524,"IZ6BUV","IN370","INORC","LEONARDO"]
[1525,"I1OXO","IN371","INORC","UMBERTO"]
[1526,"IZ5BBU","IN373","INORC","GIUSEPPE"]
[1527,"IZ0DDD","IN374","INORC","NATALE"]
[1528,"IT9ULI","IN375","INORC","FRANCESCO"]
[1529,"I8MTQ","IN382","INORC","PAOLO"]
[1530,"IK0IJY","IN383","INORC","CLAUDIO"]
[1531,"I6EWK","IN384","INORC","ENRICO"]
[1532,"IZ3DRU","IN385","INORC","FERNANDO"]
[1533,"I1XTA","IN388","INORC","GAETANO"]
[1534,"I1PIM","IN389","INORC","ARMANDO"]
[1535,"I1SAF","IN391","INORC","GIULIANO"]
[1536,"IZ1CDM","IN393","INORC","ROBERTO"]
[1537,"IT9DNW","IN396","INORC","SALVATORE"]
[1538,"IK1FVO","IN397","INORC","MASSIMO"]
[1539,"I1OFN","IN399","INORC","LAURA"]
[1540,"IK8FSK","IN400","INORC","VINCENZO"]
[1541,"IS0PZR","IN401","INORC","ALBERTO"]
[1542,"IZ1FZJ","IN403","INORC","NAZZARENO"]
[1543,"I1MQ","IN419","INORC","ADA"]
[1544,"IK0ATK","IN421","INORC","SALVATORE"]
[1545,"I7OHP","IN426","INORC","OSCAR"]
[1546,"IK8VRP","IN429","INORC","ANDREA"]
[1547,"I0WOK","IN431","INORC","CARLO"]
[1548,"I0FUQ","IN434","INORC","SERGIO"]
[1549,"I1RGF","IN439","INORC","GIUSEPPE"]
[1550,"IT9ULN","IN445","INORC","ANGELO"]
[1551,"IK5ZQB","IN450","INORC","LAURO"]
[1552,"I0YQX","IN452","INORC","ITALO"]
[1553,"IZ0AIP ","IN453","INORC","STEFANO"]
[1554,"ON0AIP","IN453","INORC","=="]
[1555,"F6DUR","IN455","INORC","GASPARD"]
[1556,"IK0RFV","IN456","INORC","SILVANO"]
[1557,"I0MVL","IN457","INORC","VITTORIO"]
[1558,"I2CZQ","IN458","INORC","PIETRO"]
[1559,"HB9KAZ","IN459","INORC","AGOSTINO"]
[1560,"I2RTF","IN460","INORC","PIETRO"]
[1561,"IK0IXI","IN462","INORC","FABIO"]
[1562,"I7ALE","IN471","INORC","SANDRO"]
[1563,"I2QIL","IN472","INORC","ANTONIO"]
[1564,"IZ1CLA","IN477","INORC","SAURO"]
[1565,"I1RQJ","IN479","INORC","CESARE"]
[{"$f":"ROW(A1566)","v":1566},"F6IIE","IN480","INORC","MAURICE"]
[1567,"I2AZ","IN481","INORC","GIUSEPPE"]
[1568,"I0AHV","IN484","INORC","GIORGIO"]
[1569,"I0XXR","IN486","INORC","GIANCARLO"]
[1570,"I0VOK","IN489","INORC","OLGA"]
[1571,"IT9SIJ","IN490","INORC","GAETANO"]
[1572,"IK2WYW","IN492","INORC","UGO"]
[1573,"IZ3ASA","IN496","INORC","RODOLFO"]
[1574,"IK0XKN","IN497","INORC","GIOVANNI"]
[1575,"I7PXV","IN499","INORC","VINCENZO"]
[1576,"IZ4AGI","IN501","INORC","MAURIZIO"]
[1577,"IK1WNO","IN509","INORC","ENRICO"]
[1578,"I1UP","IN511","INORC","GIORGIO"]
[1579,"IZ0EHW","IN513","INORC","GAETANO"]
[1580,"IZ6FCK","IN514","INORC","GIANPIERO"]
[1581,"IK1EZC","IN516","INORC","MICHELINO"]
[1582,"I3JSS","IN517","INORC","ADRIANO"]
[1583,"IZ3CQI","IN518","INORC","CRISTIANO"]
[1584,"IK8CQH","IN519","INORC","GIOVANNI"]
[1585,"IZ6FYI","IN520","INORC","GIUSEPPE"]
[1586,"I5OUL","IN521","INORC","LUCIANO"]
[1587,"ISØPGF","IN523","INORC","GIOVANNI"]
[1588,"IZ7FUN","IN527","INORC","VITO"]
[1589,"IS0UWX","IN528","INORC","MARCO"]
[1590,"IS0HQJ","IN529","INORC","FRANCO"]
[1591,"IK3WUZ","IN530","INORC","DIEGO"]
[1592,"IK5SRD","IN531","INORC","ANDREA"]
[1593,"IK1VEI","IN532","INORC","MARIO"]
[1594,"N2DE","IN533","INORC","ULRICH"]
[1595,"IK2CZQ","IN534","INORC","ANTONIO"]
[1596,"IK4HAQ","IN535","INORC","MARIO"]
[1597,"IK0BOU","IN537","INORC","PAOLO"]
[1598,"9A2ZR","IN538","INORC","DUSAN"]
[1599,"IK4UQK","IN539","INORC","FRANCO"]
[1600,"IK1YBL","IN542","INORC","PAOLO"]
[1601,"IZ1ELP","IN543","INORC","EDGARDO"]
[1602,"IZ0DBA","IN544","INORC","GIACOMO"]
[1603,"IV3YNB","IN545","INORC","MATTEO"]
[1604,"IZ1FCF","IN547","INORC","FRABRIZIO"]
[1605,"IZ0INZ","IN548","INORC","ELIO"]
[1606,"IT9NCO","IN549","INORC","ANTONIO"]
[1607,"IK4UPB","IN551","INORC","GABRIELE"]
[1608,"IK5TSZ","IN552","INORC","PATRIZIO"]
[1609,"I1YTO","IN553","INORC","CARMELO"]
[1610,"IZ0CWW","IN555","INORC","FRANCESCO"]
[1611,"I1XSG","IN557","INORC","GIANFRANCO"]
[1612,"IZ7NDH","IN558","INORC","MASSIMO"]
[1613,"I4CEA","IN559","INORC","CARLO"]
[1614,"I1ANP","IN560","INORC","MARIO"]
[1615,"IZ7MFF","IN561","INORC","GIORGIO"]
[1616,"I4OYU","IN562","INORC","GABRIELLA"]
[1617,"IK5DEZ","IN563","INORC","MAURIZIO"]
[1618,"IW5ELP","IN564","INORC","SIMONE"]
[1619,"IZ5MOQ","IN565","INORC","ALESSANDRO"]
[1620,"IZ3GHP","IN566","INORC","MAT"]
[1621,"IK6BAK","IN567","INORC","ELISEO"]
[1622,"I6MAT","IN568","INORC","GIORGIO"]
[1623,"IS0FQK","IN569","INORC","PATRIZIO"]
[1624,"RW3GA","IN570","INORC","YURI"]
[1625,"IK3TZB","IN572","INORC","GINO"]
[1626,"IK0LZR","IN573","INORC","RAUL"]
[1627,"I5NOC","IN574","INORC","GIAMPIERO"]
[1628,"DL9CM","IN575","INORC","ROLF"]
[1629,"IK2JUB","IN576","INORC","STEFANO"]
[{"$f":"ROW(A1630)","v":1630},"IN3FHE","IN577","INORC","HELGA"]
[1631,"SV1UG","IN578","INORC","NASOS"]
[1632,"UA0IDZ","IN580","INORC","IGOR"]
[1633,"IK0QDI","IN581","INORC","BENEDETTO"]
[1634,"IK1XHN","IN582","INORC","DANILO"]
[1635,"IZ4PHG","IN583","INORC","SALVATORE"]
[1636,"IK5ZAA","IN584","INORC","ROBERTO"]
[1637,"IT9RRU","IN585","INORC","MAURIZIO"]
[1638,"I1GIS","IN586","INORC","DOBERTO"]
[1639,"IZ0SPE","IN587","INORC","RINO"]
[1640,"I5BYL","IN588","INORC","FRANCESCO"]
[1641,"IN3ACV","IN589","INORC"]
[1642,"IK5VLP","IN591","INORC"]
[1643,"I8PXT","IN592","INORC"]
[1644,"I2MDI","IN594","INORC"]
[1645,"IZ0ETE","IN595","INORC"]
[1646,"I5NXH","IN596","INORC"]
[1647,"HB9ETS","IN596","INORC"]
[1648,"IZ3JQQ","IN598","INORC"]
[1649,"IZ8GCB","IN599","INORC"]
[1650,"I1QII","IN600","INORC"]
[1651,"IZ4RTE","IN601","INORC"]
[1652,"IZ5GRS ","IN602","INORC"]
[1653,"IK5VLL ","IN603","INORC"]
[1654,"IZ8NGH ","IN604","INORC"]
[1655,"IK1JFZ ","IN605","INORC"]
[1656,"R7BN","IN606","INORC"]
[1657,"IT9BUA","IN607","INORC"]
[1658,"DL7DO","IN608","INORC"]
[1659,"IS0PEV","IN609","INORC"]
[1660,"W1ZMB","IN610","INORC"]
[1661,"WB2LQF","IN611","INORC"]
[1662,"PA7RA","IN612","INORC"]
[1663,"IZ0LKW","IN613","INORC"]
[1664,"IT9LWP","IN614","INORC"]
[1665,"IZ2RBR","IN615","INORC"]
[1666,"IK0TUJ","IN617","INORC"]
[1667,"IK6REB","IN618","INORC"]
[1668,"IW7EEX","IN619","INORC"]
[1669,"IZ1VNT","IN620","INORC"]
[1670,"IT9BVO","IN621","INORC"]
[1671,"IT9BRY","IN622","INORC"]
[1672,"IK6DIN","IN623","INORC"]
[1673,"I6QON","IN624","INORC"]
[1674,"IZ8DSS","IN625","INORC"]
[1675,"IK1QAD","IN626","INORC"]
[1676,"IN3AEF","IN627","INORC"]
[1677,"IW2MXE","IN628","INORC"]
[1678,"IZ0TZI","IN629","INORC"]
[1679,"IK5DNB","IN630","INORC"]
[1680,"IZ3NWT","IN631","INORC"]
[1681,"IK0PHU","IN632","INORC"]
[1682,"IK2DED","IN633","INORC"]
[1683,"IZ8NXG","IN634","INORC"]
[1684,"IK0NOJ","IN635","INORC"]
[1685,"IZ8SWO","IN636","INORC"]
[1686,"IK8TEO","IN637","INORC"]
[1687,"I1MMN","IN638","INORC"]
[1688,"IK1RDN","IN639","INORC","PIER LUIGI"]
[1689,"IZ6TGS","IN640","INORC","ADRIO"]
[1690,"IZ8YUB","IN641","INORC","NICO"]
[1691,"IZ0WIT","IN642","INORC","GIUSEPPE"]
[1692,"IT9XUA","IN643","INORC","FRANCESCO"]
[1693,"IZ4ZBN","IN644","INORC","URIA"]
[{"$f":"ROW(A1694)","v":1694},"I5ECW","IN645","INORC","VANNI"]
[1695,"IT9IWU","IN646","INORC","ENZO"]
[1696,"IC8FBU","IN647","INORC","ANTONIO"]
[1697,"IK7OFI","IN648","INORC","GIUSEPPE"]
[1698,"PJ2VV","MA002","MARAC"]
[1699,"PA3CTK","MA003","MARAC"]
[1700,"PA5UL","MA005","MARAC"]
[1701,"PA3CWG","MA010","MARAC"]
[1702,"PD0MNF","MA011","MARAC"]
[1703,"PA0JAW","MA012","MARAC"]
[1704,"PA3CNI","MA014","MARAC"]
[1705,"PA3DAU","MA023","MARAC"]
[1706,"PA1D","MA024","MARAC"]
[1707,"PA2CHM","MA026","MARAC"]
[1708,"PA3GXQ","MA027","MARAC"]
[1709,"PD0CER","MA028","MARAC"]
[1710,"PA3DJT","MA030","MARAC"]
[1711,"PJ4LS","MA031","MARAC"]
[1712,"PA0JLS","MA031","MARAC"]
[1713,"PA7X","MA038","MARAC"]
[1714,"SWL PA 7889","MA039","MARAC"]
[1715,"ZS6C","MA040","MARAC"]
[1716,"PD0GIP","MA047","MARAC"]
[1717,"PE2L0J","MA048","MARAC"]
[1718,"PA0NAT","MA049","MARAC"]
[1719,"PA0QLD","MA052","MARAC"]
[1720,"PA5JW","MA054","MARAC"]
[1721,"PA0VLA","MA055","MARAC"]
[1722,"PE1JBG","MA056","MARAC"]
[1723,"DL0MF","MA060","MARAC"]
[1724,"PA3CNK","MA070","MARAC"]
[1725,"PA0TK","MA071","MARAC"]
[1726,"PA2HDY","MA082","MARAC"]
[1727,"PA3CUJ","MA083","MARAC"]
[1728,"PE1P0I","MA093","MARAC"]
[1729,"PD0NEM","MA094","MARAC"]
[1730,"PI4MRC","MA100","MARAC"]
[1731,"PA3DRA","MA105","MARAC"]
[1732,"PD0OZN","MA111","MARAC"]
[1733,"PA3EBA","MA112","MARAC"]
[1734,"PA7FB","MA115","MARAC"]
[1735,"PA3DCQ","MA116","MARAC"]
[1736,"DL1EV","MA118","MARAC"]
[1737,"PF9A","MA122","MARAC"]
[1738,"PA3BWO","MA124","MARAC"]
[1739,"PE1KHR","MA129","MARAC"]
[1740,"PA0ANK","MA130","MARAC"]
[1741,"PA3BWR","MA132","MARAC"]
[1742,"PA3ASE","MA133","MARAC"]
[1743,"WP3UX","MA139","MARAC"]
[1744,"PA2PRU","MA142","MARAC"]
[1745,"PA1LQS","MA144","MARAC"]
[1746,"HB9DOD","MA147","MARAC"]
[1747,"PE1KVO","MA149","MARAC"]
[1748,"PA0BVD","MA150","MARAC"]
[1749,"PA2REH","MA153","MARAC"]
[1750,"PA3EVY","MA164","MARAC"]
[1751,"PA3EGH","MA173","MARAC"]
[1752,"PE1DMH","MA175","MARAC"]
[1753,"PC2A","MA183","MARAC"]
[1754,"PA0ADG","MA187","MARAC"]
[1755,"PA2THD","MA188","MARAC"]
[1756,"PA3GKU","MA192","MARAC"]
[1757,"PD2PN","MA199","MARAC"]
[{"$f":"ROW(A1758)","v":1758},"PA3FEA","MA206","MARAC"]
[1759,"PA0FJH","MA211","MARAC"]
[1760,"PA3ESG","MA220","MARAC"]
[1761,"PA3EML","MA224","MARAC"]
[1762,"PD0ORT","MA226","MARAC"]
[1763,"PA3GNY","MA229","MARAC"]
[1764,"PA3DWU","MA230","MARAC"]
[1765,"PA0LL","MA233","MARAC"]
[1766,"PA3BWS","MA234","MARAC"]
[1767,"PA3DBJ","MA238","MARAC"]
[1768,"PA3FHB","MA249","MARAC"]
[1769,"PA2CNR","MA255","MARAC"]
[1770,"PA1ZM","MA257","MARAC"]
[1771,"PA0MJK","MA258","MARAC"]
[1772,"PA3DYP","MA262","MARAC"]
[1773,"PA3BLP","MA265","MARAC"]
[1774,"PA0A","MA266","MARAC"]
[1775,"PD0PXX","MA267","MARAC"]
[1776,"PA0NF","MA269","MARAC"]
[1777,"OE8NIK","MA272","MARAC"]
[1778,"DL5XI","MA275","MARAC"]
[1779,"PA3GLP","MA278","MARAC"]
[1780,"PE1CEX","MA282","MARAC"]
[1781,"PA0JBB","MA285","MARAC"]
[1782,"PD0GIB","MA292","MARAC"]
[1783,"PA1OVN","MA307","MARAC"]
[1784,"PD0DDA","MA310","MARAC"]
[1785,"PA3GAU","MA312","MARAC"]
[1786,"PA3B","MA313","MARAC"]
[1787,"PA3EVV","MA314","MARAC"]
[1788,"PA3EHP","MA318","MARAC"]
[1789,"PC7T","MA322","MARAC"]
[1790,"PA0BKI","MA324","MARAC"]
[1791,"PA3CCQ","MA330","MARAC"]
[1792,"PA3CFB","MA331","MARAC"]
[1793,"PD0ILD","MA336","MARAC"]
[1794,"PE1OHT","MA337","MARAC"]
[1795,"PA3BTQ","MA339","MARAC"]
[1796,"PA0HRM","MA345","MARAC"]
[1797,"PA0DXK","MA350","MARAC"]
[1798,"PA0JED","MA352","MARAC"]
[1799,"PA1ALG","MA354","MARAC"]
[1800,"PA3HGP","MA360","MARAC"]
[1801,"PA0JOT","MA362","MARAC"]
[1802,"PA2JWY","MA365","MARAC"]
[1803,"PA0SAN","MA366","MARAC"]
[1804,"PE0RES","MA368","MARAC"]
[1805,"PA3AYD","MA370","MARAC"]
[1806,"PD0RON","MA371","MARAC"]
[1807,"PA0XAW","MA375","MARAC"]
[1808,"PD0RCW","MA378","MARAC"]
[1809,"PE1OWO","MA379","MARAC"]
[1810,"PE1PBL","MA381","MARAC"]
[1811,"PA0GCM","MA382","MARAC"]
[1812,"PA3DSW","MA383","MARAC"]
[1813,"PG7C","MA384","MARAC"]
[1814,"PD0SAC","MA387","MARAC"]
[1815,"PA3GXB","MA391","MARAC"]
[1816,"PA2E","MA392","MARAC"]
[1817,"ON4BF","MA393","MARAC"]
[1818,"PA0WRS","MA396","MARAC"]
[1819,"G0LEH","MA399","MARAC"]
[1820,"DL0MFS","MA400","MARAC"]
[1821,"ON4CBM","MA401","MARAC"]
[{"$f":"ROW(A1822)","v":1822},"VE3PA","MA405","MARAC"]
[1823,"VE3ILE","MA405","MARAC"]
[1824,"PA5AD","MA415","MARAC"]
[1825,"DF7PM","MA417","MARAC"]
[1826,"DF7QN","MA418","MARAC"]
[1827,"DL6LAO","MA420","MARAC"]
[1828,"I6HWD","MA421","MARAC"]
[1829,"PA0MBD","MA422","MARAC"]
[1830,"SWL NL-679","MA423","MARAC"]
[1831,"PA1FR","MA427","MARAC"]
[1832,"PD2MAT","MA429","MARAC"]
[1833,"PA1BE","MA430","MARAC"]
[1834,"DJ0PM","MA432","MARAC"]
[1835,"ON4CBI","MA433","MARAC"]
[1836,"DK9OS","MA434","MARAC"]
[1837,"PA3EEG","MA436","MARAC"]
[1838,"DK5UR","MA438","MARAC"]
[1839,"DL1EKN","MA439","MARAC"]
[1840,"SWL NL-12869","MA440","MARAC"]
[1841,"SM6VWG","MA442","MARAC"]
[1842,"PG9T","MA446","MARAC"]
[1843,"PE1LNO","MA447","MARAC"]
[1844,"PB4TUG","MA448","MARAC"]
[1845,"PA3ENL","MA450","MARAC"]
[1846,"PA5P","MA451","MARAC"]
[1847,"ON4UK","MA452","MARAC"]
[1848,"ON4CKZ","MA453","MARAC"]
[1849,"PE2ELS","MA454","MARAC"]
[1850,"SWL PA-10744","MA455","MARAC"]
[1851,"PB2BRU","MA456","MARAC"]
[1852,"PA3CW","MA457","MARAC"]
[1853,"PA0BCW","MA459","MARAC"]
[1854,"PD2KLB","MA460","MARAC"]
[1855,"PA5EDW","MA462","MARAC"]
[1856,"PA3CYE","MA463","MARAC"]
[1857,"PA0LFE","MA464","MARAC"]
[1858,"PD0LGG","MA465","MARAC"]
[1859,"PE1HTW","MA466","MARAC"]
[1860,"PA2PCH","MA467","MARAC"]
[1861,"R5GM","MA468","MARAC"]
[1862,"PA2MS","MA469","MARAC"]
[1863,"PG2WK","MA470","MARAC"]
[1864,"PA0QRB","MA471","MARAC"]
[1865,"PD2RVH","MA474","MARAC"]
[1866,"PA3GQY","MA475","MARAC"]
[1867,"PG2GP","MA476","MARAC"]
[1868,"PD1DK","MA477","MARAC"]
[1869,"TB5ZND    ","MA477","MARAC"]
[1870,"DK0DW","MA500","MARAC"]
[1871,"PI64MRC","MA600","MARAC"]
[1872,"PI9NHL","MA612","MARAC"]
[1873,"PI9SZR","MA615","MARAC"]
[1874,"PC25MRC","MA625","MARAC"]
[1875,"OE6XMF","MA700","MARAC"]
[1876,"PI9MER","MA750","MARAC"]
[1877,"ON4BRN","MA800","MARAC"]
[1878,"PA6QPO","MA900","MARAC"]
[1879,"PI4NAF","MA999","MARAC"]
[1880,"PA6MLD","MA1000","MARAC","STEFAN"]
[1881,"DJ3WR","MF020","MF"]
[1882,"DJ9WB","MF025","MF","EDUARD"]
[1883,"DL9CJ","MF031","MF","HEINZ"]
[1884,"DJ1QV","MF032","MF","HUBERT"]
[1885,"DL9QP","MF044","MF","ALFRED"]
[{"$f":"ROW(A1886)","v":1886},"DK1LR","MF052","MF","GEORG"]
[1887,"DK5VC","MF074","MF","RAY"]
[1888,"DL8CS","MF088","MF","WALTER"]
[1889,"DF5LW","MF173","MF","WOLFRAM"]
[1890,"DF6OK","MF206","MF","HANS"]
[1891,"DF1TX","MF207","MF","ALOIS"]
[1892,"DL5XI","MF218","MF","HARALD"]
[1893,"DK4VQ","MF221","MF","HANS"]
[1894,"DK9HH","MF228","MF","HEINO"]
[1895,"DL8NBM","MF231","MF","HORST"]
[1896,"DF9IU","MF235","MF","JORG"]
[1897,"DL2GBH","MF255","MF","HORST"]
[1898,"DL2OAJ","MF267","MF","EINZ"]
[1899,"DL5SAO","MF273","MF","PETER"]
[1900,"DL8LD","MF274","MF","DIERK"]
[1901,"DL1GBW","MF276","MF"]
[1902,"DL5HCS","MF308","MF","HEINZ"]
[1903,"DL9SJ","MF311","MF","PETER"]
[1904,"DL4LAZ","MF320","MF"]
[1905,"DK7FZ","MF322","MF","HAJO"]
[1906,"DF2WZ","MF325","MF","HARALD"]
[1907,"DJ6TK","MF328","MF","WILFRIED"]
[1908,"DJ7AC","MF329","MF","WOLF"]
[1909,"DJ1IZ","MF332","MF","EGON"]
[1910,"G3LIK","MF334","MF","MICK"]
[1911,"DF2CQ","MF337","MF"]
[1912,"DL6BAI","MF343","MF","OLAF"]
[1913,"DL1LAL","MF346","MF","DIETER"]
[1914,"DJ7QV","MF351","MF","ERNST"]
[1915,"DF6LI","MF371","MF","KLAUS"]
[1916,"DL4HBF","MF380","MF"]
[1917,"DL1MDB","MF381","MF","RUDOLF"]
[1918,"DL8KAZ","MF395","MF","DIETER"]
[1919,"PI4MRC","MF400","MF","MARAC  HQ CLUB"]
[1920,"HB9ANE","MF408","MF"]
[1921,"DL5LAV","MF411","MF","HEINO"]
[1922,"HB9ASZ","MF419","MF","BERNH"]
[1923,"PA3EBA","MF423","MF","JAN"]
[1924,"OE8NIK","MF426","MF","NIK"]
[1925,"DL2YAG","MF440","MF","JURGEN"]
[1926,"SV0IE","MF440","MF","JURGE"]
[1927,"DD3LM","MF451","MF","MICHAEL"]
[1928,"DK9HU","MF457","MF","KARL"]
[1929,"DL4HAJ","MF458","MF"]
[1930,"DL1EEW","MF459","MF"]
[1931,"DL2NY","MF462","MF","GUNTER"]
[1932,"SP7DTP","MF470","MF","ZYG"]
[1933,"DF4DT","MF472","MF","JULES"]
[1934,"DL9EE","MF475","MF","HOLGER"]
[1935,"DL1LAE","MF479","MF","FRITZ"]
[1936,"HB9BHY","MF486","MF","MF486"]
[1937,"DL2HCB","MF490","MF","BERT"]
[1938,"DF4QP","MF493","MF"]
[1939,"UA1ADQ","MF494","MF","VLAD"]
[1940,"DJ8GY","MF496","MF","FRIEDR"]
[1941,"DJ0ZI","MF497","MF","RACI "]
[1942,"DK5PZ","MF502","MF","DIETER"]
[1943,"DL2AMF","MF508","MF","REINHARD"]
[1944,"RA1AMW","MF513","MF","VASILY"]
[1945,"RA1AOM","MF515","MF","VALERY"]
[1946,"DL6COR","MF518","MF"]
[1947,"DL5AMF","MF527","MF"]
[1948,"DL4HW","MF534","MF","EBERHARD"]
[1949,"DL5MET","MF539","MF","WERNER"]
[{"$f":"ROW(A1950)","v":1950},"Z38D","MF539","MF","FRITZ"]
[1951,"DH6JL","MF541","MF","FRANK"]
[1952,"DL3HRH","MF542","MF","JURGEN"]
[1953,"DL5HL","MF543","MF","MANFRED"]
[1954,"UY5OQ","MF546","MF","LERY"]
[1955,"DL2TG","MF547","MF","FRED"]
[1956,"DL0MFB","MF550","MF","SCHNEICHE CLUB"]
[1957,"DL6LAO","MF551","MF","WOLF"]
[1958,"DL3LAH","MF553","MF"]
[1959,"OK1NH","MF554","MF","JAROSLAV"]
[1960,"UA1ATI","MF555","MF","IGOR"]
[1961,"DJ1PQ","MF558","MF","OBERT"]
[1962,"DF9AS","MF565","MF","ALFRED"]
[1963,"DL1BJA","MF568","MF","KLAAUS"]
[1964,"DL1ALN","MF569","MF","THOMAS"]
[1965,"DL4BCG","MF571","MF","PAUL"]
[1966,"DJ7XU","MF572","MF","HERMAN"]
[1967,"DL1BJR","MF573","MF","JENS"]
[1968,"DL3FCG","MF575","MF","MICHA"]
[1969,"DL1JHR","MF578","MF","MICHAEL"]
[1970,"DL4HJ","MF581","MF","JURGEN"]
[1971,"HA2RQ","MF582","MF","ZOLI"]
[1972,"DL2JRM","MF586","MF","RENE"]
[1973,"DJ3XM","MF587","MF","ULFERT"]
[1974,"UA2FM","MF588","MF","VICTOR"]
[1975,"DL2NBR","MF591","MF","DOROYHEA"]
[1976,"DL1DCT","MF594","MF","MARTIN"]
[1977,"DL0MFS","MF600","MF","SIGNAL SCH CLUB "]
[1978,"DL4VAJ","MF601","MF","MFSCHCLUB"]
[1979,"R3AR","MF603","MF","IVO"]
[1980,"DL1DRA","MF604","MF"]
[1981,"DC0UH","MF608","MF"]
[1982,"DL1GQE","MF620","MF","ERICH"]
[1983,"DE1GSW","MF624","MF"]
[1984,"UY5OO","MF627","MF","YURI"]
[1985,"DL2GWR","MF633","MF","WALTER"]
[1986,"DL4NBE","MF634","MF","LEO"]
[1987,"DG1FAX","MF637","MF","DIETER"]
[1988,"DL2HV","MF647","MF","HANS"]
[1989,"DF0MV","MF650","MF","CLUB"]
[1990,"DL3MF","MF651","MF","JURGEN"]
[1991,"DF2FZ","MF652","MF","PETER"]
[1992,"DL2ARH","MF658","MF","ROLF"]
[1993,"RN1NW","MF661","MF","TED"]
[1994,"UA2DK","MF667","MF","VICTOR"]
[1995,"DL1MDX","MF669","MF"]
[1996,"OH1AJ","MF676","MF","LUB"]
[1997,"OH1WR","MF678","MF","RAUNO"]
[1998,"OH1LD","MF680","MF","ARTO"]
[1999,"DD9ZJ","MF682","MF","JOHN"]
[2000,"DH9FAV","MF683","MF","HOLGER"]
[2001,"DK4FR","MF684","MF","THEO"]
[2002,"DL9UAA","MF687","MF","GUENTER"]
[2003,"DL8BEL","MF689","MF","HANS"]
[2004,"DL6ME","MF690","MF","ROLF"]
[2005,"OH1PP","MF694","MF","PEKKA"]
[2006,"OH2RL","MF695","MF","VEIKO"]
[2007,"OH3VX","MF695","MF","VEIKO"]
[2008,"DH4LAP","MF703","MF","UWE"]
[2009,"DL5WC","MF705","MF","WOLF"]
[2010,"OH6RJ","MF707","MF","KARL"]
[2011,"DL4BCE","MF713","MF","ONNO"]
[2012,"YO4DCF","MF716","MF","MARIO"]
[2013,"DH6BAN","MF717","MF","HANS"]
[{"$f":"ROW(A2014)","v":2014},"DF1RL","MF721","MF"]
[2015,"DL9LBQ","MF722","MF","SIEGFRIED"]
[2016,"OI1AXA","MF723","MF","FINCLUB"]
[2017,"R2MWO","MF725","MF","CLUB"]
[2018,"DH1MFF","MF727","MF","DIETRICH"]
[2019,"DL1KKH","MF728","MF","HEINZ"]
[2020,"DL7QQ","MF732","MF","HOLGER"]
[2021,"DG3YGF","MF733","MF"]
[2022,"DK9QD","MF734","MF","DIETER"]
[2023,"DK5BE","MF735","MF","EBERHARD"]
[2024,"DL2HUM","MF736","MF","MANFRED"]
[2025,"DL1EED","MF738","MF","DOROTHEA"]
[2026,"DK6LH","MF739","MF","GUENTER"]
[2027,"DJ7DH","MF740","MF","KLAUS"]
[2028,"DF4BV","MF742","MF"]
[2029,"DL6HBX","MF747","MF","MANFRED"]
[2030,"DG3LAR","MF748","MF"]
[2031,"HA5FA","MF752","MF","JENO"]
[2032,"DG1MNJ","MF754","MF","PETER"]
[2033,"ON4CBM","MF756","MF","BERT"]
[2034,"YO2DFA","MF758","MF","OVIDIU"]
[2035,"OE5BRP","MF762","MF","HANS"]
[2036,"DK6HD","MF765","MF","GERD"]
[2037,"DH1LAO","MF769","MF"]
[2038,"DL2CHN","MF771","MF","JURGEN"]
[2039,"DF6LP","MF776","MF","JUTTA"]
[2040,"DF7PM","MF777","MF"]
[2041,"DC7QN","MF778","MF"]
[2042,"DL1NL","MF779","MF","FRED"]
[2043,"DF8DX","MF780","MF","BODO"]
[2044,"HB9EHJ","MF780","MF","BODO"]
[2045,"DL9BCC","MF782","MF","DIETER"]
[2046,"DK9OS","MF787","MF"]
[2047,"DL6DCC","MF790","MF","BRIGITTE"]
[2048,"DH0AAM","MF795","MF","OZ2CBA"]
[2049,"OZ2CBA","MF795","MF","FRANK"]
[2050,"5P2BA","MF795","MF","FRANK"]
[2051,"DL6BE","MF796","MF","WOLKERT"]
[2052,"DF8LD","MF797","MF","ALBERT"]
[2053,"DF9EU","MF806","MF","BDERN"]
[2054,"DH1HA","MF808","MF","HARALD"]
[2055,"DL8HCI","MF812","MF","JURGEN"]
[2056,"DL4FBZ","MF813","MF","HARRI"]
[2057,"SP6LV","MF814","MF","ANDR"]
[2058,"DL6UBM","MF817","MF","FRANK"]
[2059,"ON4AGV","MF819","MF","RUDY"]
[2060,"DK5OE","MF821","MF","KLAUS"]
[2061,"DF9YG","MF824","MF","WALTER"]
[2062,"ON4BRN","MF825","MF","BRN CLUB "]
[2063,"DF2HBW","MF827","MF","HORST"]
[2064,"DF5LZ","MF829","MF"]
[2065,"DL3KDL","MF831","MF"]
[2066,"DL5ASE","MF833","MF","MARIO"]
[2067,"DL9SBO","MF834","MF","WERNER"]
[2068,"DM5LW","MF837","MF","FREDDI"]
[2069,"DF1KBM","MF838","MF","WILFRIED"]
[2070,"OE6NFK","MF841","MF","WERNER"]
[2071,"OE3OLC","MF843","MF","SEPP"]
[2072,"DL5MF ","MF845","MF","ULRICH"]
[2073,"DJ2NW","MF847","MF","GREGOR"]
[2074,"DG6BDZ","MF848","MF","WERNER"]
[2075,"DL0MFL","MF850","MF","MFCLUB"]
[2076,"DL2VFR","MF851","MF","ENRICO"]
[2077,"SD7V","MF851","MF","RICO "]
[{"$f":"ROW(A2078)","v":2078},"DK6XT","MF852","MF","JOACHIM"]
[2079,"DK2VN","MF857","MF","MANFRED"]
[2080,"DG3WY","MF865","MF","DIETER"]
[2081,"DJ1HND","MF867","MF","ANDY"]
[2082,"DL8LJ","MF868","MF","TINO"]
[2083,"DJ1TM","MF869","MF","TERRY"]
[2084,"G0FEK","MF874","MF"]
[2085,"DL0MFF","MF875","MF","CLUB"]
[2086,"DL1HBL","MF876","MF","CLAU"]
[2087,"DH4BEN","MF884","MF","BENEDICT"]
[2088,"DL0MFK","MF885","MF","KEIL CLUB "]
[2089,"OE6XMF","MF888","MF","MFCA"]
[2090,"ON4CBI","MF889","MF","CHRISTI"]
[2091,"DL2BJW","MF894","MF","MARITA"]
[2092,"DL0MFH","MF900","MF","HAMBURG CLUB "]
[2093,"DK3UZ","MF902","MF","EDMUND"]
[2094,"DL4HO","MF903","MF","DIETER"]
[2095,"DF5FD","MF904","MF","SIEGLINDE"]
[2096,"DL8SMC","MF905","MF","BERNHARD"]
[2097,"DL6RDT","MF909","MF","BJORN"]
[2098,"DJ7CR","MF913","MF","GEORG"]
[2099,"DL1GEO","MF914","MF","RALF"]
[2100,"DH2RD","MF915","MF","ERNST"]
[2101,"DJ2IT","MF917","MF","HEINZ"]
[2102,"HB9KOJ","MF918","MF","ROLF"]
[2103,"DF7VY","MF920","MF","LUTZ"]
[2104,"DL5OCC","MF921","MF","KURT"]
[2105,"DL2NFC","MF923","MF","CHRIS"]
[2106,"PF9A","MF926","MF","MARTIN"]
[2107,"DJ7RU","MF927","MF","MAX"]
[2108,"HB9DAR","MF928","MF","JOSEF"]
[2109,"DL5XL","MF932","MF","FELIX"]
[2110,"DL3DBN","MF933","MF","DOROTHEA"]
[2111,"4Z5LA","MF936","MF","RUSLAN"]
[2112,"PA3AYD","MF937","MF","RONALD"]
[2113,"DO5CO","MF942","MF","SEBASTIAN"]
[2114,"IT9MRM","MF943","MF","ALBERTO"]
[2115,"DL3HCV","MF944","MF","GERHARD"]
[2116,"DF6VR","MF945","MF","GUENTER"]
[2117,"ON4CKZ","MF946","MF","PATRICK"]
[2118,"DF1OLS","MF949","MF","LEO"]
[2119,"DM2FEH","MF952","MF","FRANK"]
[2120,"DH2MS","MF954","MF"]
[2121,"DL4JYT","MF956","MF","GUENTER"]
[2122,"DH5NT","MF957","MF","ARNO"]
[2123,"DL2LAB","MF958","MF","KARL"]
[2124,"5P0MF","MF960","MF","CLUB"]
[2125,"OZ0MF","MF960","MF","CLUB"]
[2126,"DL2LH","MF961","MF","DIETER"]
[2127,"OE3SOB","MF962","MF","SIEGFR"]
[2128,"DG6YDY","MF964","MF","PETER"]
[2129,"DL3GEG","MF965","MF"]
[2130,"DJ6XB","MF967","MF","RAINE"]
[2131,"G0ELZ","MF969","MF","BILLI"]
[2132,"DL7LPH","MF973","MF","PETER"]
[2133,"DB7AT","MF974","MF","HANS"]
[2134,"DL0MFM","MF975","MF","OBERNDORF CLUB "]
[2135,"PD2PN","MF976","MF","PETER"]
[2136,"DL5HAN","MF977","MF","JURGEN"]
[2137,"DF2HA","MF978","MF","HANS"]
[2138,"DL5SE","MF981","MF","DANIEL"]
[2139,"DL3HBZ","MF982","MF","SIEGFRIED"]
[2140,"UA0ZC","MF983","MF","VALERY"]
[2141,"DJ5LB","MF984","MF","MICHAEL"]
[{"$f":"ROW(A2142)","v":2142},"DL7JSN","MF986","MF","STEFFI"]
[2143,"DK2DL","MF987","MF","WERNER"]
[2144,"DL3JST","MF988","MF","JORG"]
[2145,"DK0SN","MF990","MF","CLUB"]
[2146,"DK4ER","MF991","MF"]
[2147,"DG6LAU","MF992","MF","UDON"]
[2148,"DM1YP","MF993","MF","KLAUS"]
[2149,"DL0DMB","MF995","MF","CLUB"]
[2150,"DB7LM","MF996","MF"]
[2151,"GB3RN","MF999","MF","CLUB"]
[2152,"DL0MF","MF1000","MF","MFHQ"]
[2153,"DL8HHS","MF1002","MF","HANS"]
[2154,"DK0MHD","MF1005","MF","CLUB"]
[2155,"DJ7AL","MF1006","MF","JURGEN"]
[2156,"DM5LP","MF1007","MF","MARTIN"]
[2157,"DL7SN","MF1008","MF","JORG"]
[2158,"HE9SOL","MF1009","MF","FRANZ"]
[2159,"GB2RN","MF1010","MF","HMS"]
[2160,"DH1BMV","MF1011","MF"," RAINER"]
[2161,"DL1RI","MF1012","MF","WERNER"]
[2162,"HB9XJ","MF1013","MF","HANS"]
[2163,"DL6CSG","MF1015","MF","BENNO"]
[2164,"DL2JX","MF1017","MF","ERICH"]
[2165,"OE1WED","MF1018","MF","GERHARD"]
[2166,"DK9WE","MF1019","MF","TIMO"]
[2167,"SO1WE","MF1019","MF","TOM"]
[2168,"DH9GB","MF1021","MF","BERND"]
[2169,"DF5KW","MF1023","MF","HEINRICH"]
[2170,"DJ1TA","MF1024","MF","WOLF"]
[2171,"CT1CZT","MF1026","MF"]
[2172,"UA9FGR","MF1027","MF","KEN"]
[2173,"DL1NGL","MF1028","MF","GISELA"]
[2174,"DL7NDF","MF1029","MF","DETLEFF"]
[2175,"N4XAT","MF1031","MF","ROBERT"]
[2176,"CT1EGH","MF1032","MF"]
[2177,"DL6CL","MF1033","MF","HRIS"]
[2178,"OE7CMI","MF1035","MF","MARTIN"]
[2179,"DK6HT","MF1036","MF","PETER"]
[2180,"R5GM","MF1038","MF","YURI"]
[2181,"DK9XR","MF1039","MF","RAY"]
[2182,"K7VV","MF1041","MF","VINCENT"]
[2183,"DL2SD","MF1042","MF","ROLAND"]
[2184,"DO6MF","MF1043","MF","MONIKA"]
[2185,"OE1TKW","MF1044","MF","HELMUT"]
[2186,"DL3XAQ","MF1045","MF"]
[2187,"DL1DAL","MF1046","MF","WOLF"]
[2188,"IK0IXI","MF1047","MF","FABIO"]
[2189,"DF3IS","MF1051","MF"]
[2190,"DJ8NU","MF1054","MF"]
[2191,"DM3G","MF1055","MF"]
[2192,"DL3RHN","MF1056","MF"]
[2193,"DJ3TA","MF1057","MF"]
[2194,"HB9PL","MF1058","MF"]
[2195,"DF2OR","MF1059","MF"]
[2196,"DL0MFX","MF1060","MF","CLUB"]
[2197,"DJ4SO","MF1061","MF"]
[2198,"OH7QR","MF1062","MF"]
[2199,"SP1KQR","MF1070","MF","MS "]
[2200,"DA0UBOOT","MF1100","MF"]
[2201,"CS5DFG","MF1200","MF"]
[2202,"DE2CHM","MF1071","MF"]
[2203,"G3UFO","MF1072","MF"]
[2204,"DL9GTI","MF1074","MF"]
[2205,"DL6OCH","MF1075","MF"]
[{"$f":"ROW(A2206)","v":2206},"DC5CQ","MF1076","MF"]
[2207,"DL6LV","MF1077","MF"]
[2208,"DD2KY","MF1078","MF"]
[2209,"DL7PL","MF1079","MF"]
[2210,"DL0SFK","MF1080","MF"]
[2211,"HB9CUI","MF1081","MF"]
[2212,"HB9AIQ","MF1082","MF"]
[2213,"DL2RPS","MF1083","MF"]
[2214,"DK8FA","MF1085","MF"]
[2215,"OH8XAT","MF1086","MF"]
[2216,"DL3GC","MF1087","MF"]
[2217,"OE4PPW","MF1088","MF"]
[2218,"DB1LI","MF1089","MF"]
[2219,"DL0MFN","MF1090","MF"]
[2220,"DL8TL","MF1091","MF"]
[2221,"DJ6DN","MF1092","MF"]
[2222,"DL1PBC","MF1093","MF"]
[2223,"DJ4BP","MF1094","MF"]
[2224,"OE1-100-1007","MF1095","MF"]
[2225,"DG6FDT","MF1096","MF"]
[2226,"DO1SFK","MF1097","MF"]
[2227,"DH3LK","MF1098","MF"]
[2228,"DL3SEM","MF1099","MF"]
[2229,"DL5ZC","MF1101","MF"]
[2230,"DL2BRN","MF1102","MF"]
[2231,"DO5DL","MF1103","MF"]
[2232,"M0BZZ","MF1104","MF"]
[2233,"IK2CZQ","MF1105","MF"]
[2234,"DF6UH","MF1106","MF"]
[2235,"DL8RB","MF1107","MF"]
[2236,"DL0DAN","MF1110","MF"]
[2237,"I5EFO","MF1108","MF","EMILIO"]
[2238,"DE8MHO","MF1064","MF"]
[2239,"HB9CWA","MF1065","MF"]
[2240,"DK9HE","MF1066","MF"]
[2241,"HB9DON","MF1067","MF"]
[2242,"DF3LZ","MF1069","MF"]
[2243,"DF3GF","MF966","MF"]
[2244,"OZ0NAVY","MF960","MF"]
[2245,"DL0SMD","MF955","MF"]
[2246,"DL0MFW","MF950","MF","CLUB"]
[2247,"EA6AFS","MF917","MF"]
[2248,"DH2MS","MF954","MF"]
[2249,"DF1KAG","MF849","MF"]
[2250,"DG7EE","MF956","MF"]
[2251,"DD1WG","MF839","MF"]
[2252,"DG6OBP","MF816","MF"]
[2253,"DL1BHM","MF570","MF"]
[2254,"OE8NIK","CA003","MFCA","NIK"]
[2255,"DL6BAI","CA010","MFCA","OLAF"]
[2256,"OE6RED","CA011","MFCA","HERMAN"]
[2257,"OE8KIK","CA013","MFCA","HANS"]
[2258,"OE6FYG","CA015","MFCA","HERBERT"]
[2259,"OE3OLC","CA017","MFCA","SEPP"]
[2260,"DL1EKN","CA019","MFCA","HANS"]
[2261,"OE4FWE","CA021","MFCA","FRANZ"]
[2262,"DL8KAZ ","CA023","MFCA","RAINER"]
[2263,"OE5DCM ","CA024","MFCA","DIETER"]
[2264,"OE4FCD","CA026","MFCA","KARL"]
[2265,"HA1FCD","CA026","MFCA","FRANZ"]
[2266,"DL4NBE","CA028","MFCA","LEO"]
[2267,"DL9LBQ","CA029","MFCA","SIEGFRIED"]
[2268,"DL2HUM","CA031","MFCA","MANFRED"]
[2269,"DH7AFV","CA032","MFCA","JURGRN"]
[{"$f":"ROW(A2270)","v":2270},"DF7PM ","CA033","MFCA","MARIELUISE"]
[2271,"DF7QN","CA034","MFCA","HERMANN"]
[2272,"OE6AIG","CA035","MFCA"]
[2273,"OE5RGP","CA036","MFCA","ROBERT"]
[2274,"OE3KJN ","CA037","MFCA","HERBERT"]
[2275,"DK1LR","CA038","MFCA","GEORG"]
[2276,"OE1GTU","CA039","MFCA","GERHARD"]
[2277,"OE4GTU","CA039","MFCA","GERHARD"]
[2278,"OE6DPG ","CA040","MFCA","GERHARD"]
[2279,"OE8TZK ","CA041","MFCA","HERBERT"]
[2280,"OE6AKD","CA042","MFCA"]
[2281,"OE1JJB","CA043","MFCA","HANNO"]
[2282,"OE8NNK","CA044","MFCA","RENE"]
[2283,"OE3REB","CA045","MFCA","RON "]
[{"$f":"ROW(#REF!)","v":{"$error":"#REF!"}},"9A5JR","CA045","MFCA","RON"]
[2285,"OE6KCD","CA047","MFCA"]
[2286,"OE6JSE","CA048","MFCA","NANS"]
[2287,"OE6VYD","CA049","MFCA","VERONICA"]
[2288,"ON4BRN","CA050","MFCA"]
[2289,"OE2DMP","CA051","MFCA","MARTIN"]
[2290,"DL5GCO","CA052","MFCA","CHRISTIAN"]
[2291,"DJ7AC","CA053","MFCA","WOLFANG"]
[2292,"PA3EBA ","CA054","MFCA","JAN"]
[2293,"OE1FEB","CA055","MFCA","FRANZ"]
[2294,"OE3RNS","CA056","MFCA","ROBERT"]
[2295,"OE6SSD","CA057","MFCA","WERNER"]
[2296,"OE6NFK","CA058","MFCA","WERNER"]
[2297,"G0FEK","CA059","MFCA","BOB "]
[2298,"G0LEH ","CA060","MFCA","GRAHAM"]
[2299,"GW0VSW","CA061","MFCA","CARL"]
[2300,"ON4AGV","CA062","MFCA","RUDY"]
[2301,"WA1HMW","CA063","MFCA","BILLI"]
[2302,"OE6GVG","CA064","MFCA","GERD"]
[2303,"DL9SJ","CA066","MFCA","PETER"]
[2304,"DG1FAX","CA067","MFCA","DIETER"]
[2305,"DK9OS","CA068","MFCA","HANS"]
[{"$f":"ROW(#REF!)","v":{"$error":"#REF!"}},"DF6LI ","CA069","MFCA","KLAUS"]
[2307,"DL1EEW","CA071","MFCA","WIN"]
[2308,"DL6DCC","CA072","MFCA","BRIGITTE"]
[2309,"OE2EY","CA073","MFCA","KARL"]
[2310,"OE5IHP ","CA074","MFCA","HEINZ"]
[2311,"DL5XI ","CA075","MFCA","HARALD"]
[2312,"OE7GAT ","CA076","MFCA","THOMAS"]
[2313,"OE1WED","CA079","MFCA","GERHARD"]
[2314,"OE8WED ","CA079","MFCA","GERHARD"]
[2315,"OE3GGS","CA080","MFCA","GUSTAV"]
[2316,"F5VHQ","CA081","MFCA","JOHN"]
[2317,"ON4CBM","CA082","MFCA","BERT"]
[{"$f":"ROW(#REF!)","v":{"$error":"#REF!"}},"DL1NL ","CA083","MFCA","FRED"]
[2319,"ON4CBI","CA085","MFCA","CHRISTI"]
[2320,"DL9UAA","CA086","MFCA","GUN"]
[{"$f":"ROW(#REF!)","v":{"$error":"#REF!"}},"OE6FRD","CA087","MFCA","PETER"]
[2322,"DH1LAO ","CA090","MFCA","VOLER"]
[2323,"OE1MBW ","CA091","MFCA","MARTIN"]
[2324,"OE6GWG ","CA092","MFCA","WERNER"]
[2325,"DK5UR ","CA093","MFCA","HEINZ"]
[2326,"DG3YFB","CA094","MFCA","FRITZ"]
[2327,"NN6N ","CA095","MFCA","FRANZ"]
[2328,"OE3CDS ","CA096","MFCA","CHRIS"]
[{"$f":"ROW(A2329)","v":2329},"OE5LKL ","CA097","MFCA"]
[2330,"OE1KMB ","CA098","MFCA","KLAUS"]
[2331,"OE3SOB ","CA099","MFCA","CHARLI"]
[2332,"OE6XMF ","CA100","MFCA","SIGI"]
[2333,"OE6NZG ","CA101","MFCA","GUNTRAM"]
[2334,"OE1SWS","CA102","MFCA","WOLFANG"]
[2335,"OE3KPW","CA103","MFCA","KURT"]
[2336,"DK9HH  ","CA104","MFCA","HEIN"]
[2337,"OE6HPF","CA106","MFCA","HEIN"]
[2338,"DE1GSW  ","CA108","MFCA"]
[2339,"OE1TKW ","CA109","MFCA","HELMUT"]
[2340,"ON4CKZ","CA110","MFCA","PATRICK"]
[2341,"HB9DAR","CA111","MFCA","JOSEPH"]
[2342,"OE6GKG ","CA112","MFCA","KLAUS"]
[2343,"OE1PZC","CA113","MFCA","PETER"]
[{"$f":"ROW(#REF!)","v":{"$error":"#REF!"}},"DM6PA","CA114","MFCA","JOHN"]
[2345,"IT9MRM","CA117","MFCA","ALBERTO"]
[2346,"G0ELZ ","CA119","MFCA","BILL "]
[{"$f":"ROW(#REF!)","v":{"$error":"#REF!"}},"DB1HBA","CA121","MFCA"]
[2348,"ON7CK","CA123","MFCA","JAAK"]
[2349,"ON6PQ","CA124","MFCA","EDGARD"]
[2350,"OE5BRP","CA125","MFCA","HANS"]
[2351,"OE8AJK","CA126","MFCA"]
[2352,"DL7DG","CA127","MFCA"]
[2353,"DK6XC ","CA128","MFCA","CLEMENS"]
[2354,"G3LIK ","CA129","MFCA","MICK"]
[2355,"OE5YDL ","CA130","MFCA","BARBARA"]
[2356,"OE1EOA ","CA133","MFCA","HANS"]
[2357,"OE1WWW ","CA134","MFCA","ERNST"]
[2358,"OE4PWW","CA135","MFCA","WALTER"]
[2359,"OE5OZL ","CA136","MFCA","WALTER"]
[2360,"OE1DPW","CA137","MFCA","OTTO"]
[2361,"OE3KJN","CA138","MFCA","DIETMAR"]
[2362,"DL6CSG","CA139","MFCA","HERA"]
[2363,"R5GM ","CA140","MFCA","NO"]
[2364,"DK6LH","CA141","MFCA","YURI"]
[2365,"OE3FFC","CA143","MFCA","FRANZ"]
[2366,"OE9LGH","CA144","MFCA","GERHARD"]
[2367,"CT1CZT","CA145","MFCA"]
[2368,"OE3RBS","CA146","MFCA"]
[2369,"G0TOC","CA147","MFCA"]
[2370,"DK7FX","CA149","MFCA"]
[2371,"PI4MRC ","CA150","MFCA"]
[2372,"DL0MFM ","CA200","MFCA"]
[2373,"CS5NRA ","CA250","MFCA"]
[2374,"OE1DGW","CA151","MFCA","GERHARD"]
[2375,"OE4DGW","CA151","MFCA","GERHARD"]
[2376,"DJ2IT","CA152","MFCA","ERNST"]
[2377,"EA6AFS","CA152","MFCA","ERNST"]
[2378,"DL0MFM","CA200","MFCA","CLUB MF"]
[2379,"CS5NRA","CA250","MFCA","CLUB NRA"]
[2380,"DL0MKW","CA300","MFCA","MK WESEL"]
[2381,"CT1CZT","PN001","NRA"]
[2382,"CT1EGH","PN002","NRA"]
[2383,"CT1CLO","PN003","NRA"]
[2384,"CT2ENW","PN004","NRA"]
[2385,"CT1FOG","PN005","NRA"]
[2386,"CT1FOA","PN006","NRA"]
[2387,"CT1FKX","PN007","NRA"]
[2388,"CT1BXT","PN008","NRA"]
[2389,"CT2GPU","PN009","NRA"]
[2390,"CT1EKY","PN010","NRA"]
[{"$f":"ROW(A2391)","v":2391},"CT1FAN","PN011","NRA"]
[2392,"CT1FHZ","PN012","NRA"]
[2393,"CT1ACY","PN013","NRA"]
[{"$f":"ROW(#REF!)","v":{"$error":"#REF!"}},"CT1BYQ","PN014","NRA"]
[2395,"CT1ELX","PN017","NRA"]
[2396,"CT1FGX","PN018","NRA"]
[2397,"CT1EWL","PN019","NRA"]
[2398,"CT4GN","PN020","NRA"]
[2399,"CT1GXC","PN021","NRA"]
[2400,"CT1FKA","PN022","NRA"]
[2401,"CU3DI","PN023","NRA"]
[2402,"CT1AKJ","PN024","NRA"]
[2403,"CT2HAD","PN025","NRA"]
[2404,"SWL","PN026","NRA"]
[2405,"CT1FYY","PN027","NRA"]
[2406,"CT2IAS","PN028","NRA"]
[2407,"CT1CRO","PN029","NRA"]
[2408,"CT1FLH","PN030","NRA"]
[2409,"CT1APP","PN031","NRA"]
[2410,"CT1FKN","PN032","NRA"]
[2411,"CT1HVL","PN033","NRA"]
[2412,"CT1JQC","PN034","NRA"]
[2413,"C31PP","PN035","NRA"]
[2414,"CT4KO","PN036","NRA"]
[2415,"CT1DYV","PN037","NRA"]
[2416,"CT1AGC","PN038","NRA"]
[2417,"CT2GOY","PN039","NRA"]
[2418,"CT1VV","PN040","NRA"]
[2419,"CT4DZ","PN041","NRA"]
[2420,"EA1LQ","PN042","NRA"]
[2421,"CT1DOV","PN043","NRA"]
[2422,"CT1DRB","PN044","NRA"]
[2423,"SWL","PN045","NRA"]
[2424,"IT9MRM","PN046","NRA"]
[2425,"G3LIK","PN047","NRA"]
[2426,"DL1NL","PN048","NRA"]
[2427,"DF7PM","PN049","NRA"]
[2428,"DF7QN","PN050","NRA"]
[2429,"EA1TF","PN051","NRA"]
[2430,"CT2ISX","PN052","NRA"]
[2431,"CT1BWW","PN053","NRA"]
[2432,"CT2IIT","PN054","NRA"]
[2433,"CT1EHK","PN055","NRA"]
[2434,"PT7ZT","PN056","NRA"]
[2435,"CT1ILO","PN057","NRA"]
[2436,"CT1ETL","PN058","NRA"]
[2437,"IK1CCS","PN059","NRA"]
[2438,"R5GM","PN060","NRA"]
[2439,"CT1ALP","PN061","NRA"]
[2440,"CT1ELF","PN062","NRA"]
[2441,"CT5JZX","PN063","NRA"]
[2442,"CT2HPS","PN064","NRA"]
[2443,"CT2YTY","PN065","NRA"]
[2444,"CT1FFU","PN066","NRA"]
[2445,"CT1ANO","PN067","NRA"]
[2446,"F8ATS","PN068","NRA"]
[2447,"CT1IPB","PN069","NRA"]
[2448,"CT1ELZ","PN070","NRA"]
[2449,"CT2FTD","PN071","NRA"]
[2450,"CT1FMX","PN072","NRA"]
[2451,"CT1JQK","PN073","NRA"]
[2452,"CT1JPV","PN074","NRA"]
[2453,"EA1AQ","PN075","NRA"]
[{"$f":"ROW(A2454)","v":2454},"CT1HIX","PN076","NRA"]
[2455,"CR7AHW","PN078","NRA"]
[2456,"CR7000","PN079","NRA"]
[2457,"CR7AJL","PN080","NRA"]
[2458,"CT7ABF","PN081","NRA"]
[2459,"CT1DBS","PN082","NRA"]
[2460,"CS5SUB","PN200","NRA"]
[2461,"CS5NRA","PN100","NRA"]
[2462,"OE6NFK","PN101","NRA"]
[2463,"OH1KW","PN102","NRA"]
[2464,"ON4AGV","PN103","NRA"]
[2465,"DL0MF","PN110","NRA"]
[2466,"CQ7GIL","PN120","NRA"]
[2467,"OE6XMF","PN130","NRA"]
[2468,"IQ9MQ","PN140","NRA"]
[2469,"CS5DFG","PN150","NRA"]
[2470,"ON4BRN","PN160","NRA"]
[2471,"OH1AJ","PN170","NRA"]
[2472,"CS5SUB","PN200","NRA"]
[2473,"CT1GZB","PN077","NRA","JOSE LUIS"]
[2474,"G1BZU","RN0001","RNARS"]
[2475,"GB3RN","RN0001","RNARS"]
[2476,"G3LIK","RN0004","RNARS"]
[2477,"GB4RN","RN0004","RNARS"]
[2478,"GB2BP","RN0011","RNARS"]
[2479,"VK2AYD","RN0013","RNARS"]
[2480,"ON4BRN","RN0020","RNARS"]
[2481,"G3MTP","RN0021","RNARS"]
[2482,"G3ENI","RN0023","RNARS"]
[2483,"GM3HUN","RN0032","RNARS"]
[2484,"7Q7BP","RN0033","RNARS"]
[2485,"G3MRC","RN0033","RNARS"]
[2486,"G4HMS","RN0034","RNARS"]
[2487,"GB2RN","RN0034","RNARS"]
[2488,"G3LCS","RN0038","RNARS"]
[2489,"G3KEL","RN0053","RNARS"]
[2490,"G2JL","RN0055","RNARS"]
[2491,"G3OPQ","RN0084","RNARS"]
[2492,"VK2UG","RN0091","RNARS"]
[2493,"G0CWF","RN0092","RNARS"]
[2494,"G3NIR","RN0111","RNARS"]
[2495,"G3VLL","RN0120","RNARS"]
[2496,"GM4AGL","RN0123","RNARS"]
[2497,"G3LME","RN0129","RNARS"]
[2498,"G3NXV","RN0139","RNARS"]
[2499,"VE6BF","RN0142","RNARS"]
[2500,"G3PQC","RN0145","RNARS"]
[2501,"GI3OBO","RN0150","RNARS"]
[2502,"ZL3CE","RN0158","RNARS"]
[2503,"G3RFH","RN0175","RNARS"]
[2504,"G3LXQ","RN0180","RNARS"]
[2505,"G3UMM","RN0185","RNARS"]
[2506,"G3LPN","RN0193","RNARS"]
[2507,"ZL2TX","RN0200","RNARS"]
[2508,"G3TVI","RN0210","RNARS"]
[2509,"G3WP","RN0236","RNARS"]
[2510,"G3THU","RN0239","RNARS"]
[2511,"G3TWG","RN0268","RNARS"]
[2512,"G3JFS","RN0276","RNARS"]
[2513,"G3VNH","RN0292","RNARS"]
[2514,"G4BOI","RN0297","RNARS"]
[2515,"G3TIX","RN0298","RNARS"]
[2516,"G3UEN","RN0305","RNARS"]
[2517,"G0JKV","RN0306","RNARS"]
[{"$f":"ROW(A2518)","v":2518},"G3SRQ","RN0313","RNARS"]
[2519,"G3LET","RN0318","RNARS"]
[2520,"G3VRY","RN0326","RNARS"]
[2521,"G3VCN","RN0327","RNARS"]
[2522,"9H1BX","RN0328","RNARS"]
[2523,"G3TZM","RN0328","RNARS"]
[2524,"G6PMT","RN0332","RNARS"]
[2525,"G3VCM","RN0343","RNARS"]
[2526,"W4/G3VCM","RN0343","RNARS"]
[2527,"G3UVS","RN0356","RNARS"]
[2528,"G2HKU","RN0357","RNARS"]
[2529,"G3YLR","RN0364","RNARS"]
[2530,"G4KNM","RN0378","RNARS"]
[2531,"G3BHK","RN0382","RNARS"]
[2532,"G4DIU","RN0391","RNARS"]
[2533,"G3VNU","RN0393","RNARS"]
[2534,"G3TZQ","RN0407","RNARS"]
[2535,"G3SWH","RN0409","RNARS"]
[2536,"G3IPV","RN0411","RNARS"]
[2537,"G3MXZ","RN0431","RNARS"]
[2538,"G3VXM","RN0433","RNARS"]
[2539,"G4JBE","RN0434","RNARS"]
[2540,"G3ZYY","RN0436","RNARS"]
[2541,"9M6XRO","RN0437","RNARS"]
[2542,"G3OOK","RN0437","RNARS"]
[2543,"GM3OOK","RN0437","RNARS"]
[2544,"G3IZD","RN0450","RNARS"]
[2545,"GM3NCS","RN0453","RNARS"]
[2546,"G3LGS","RN0458","RNARS"]
[2547,"G3ZUN","RN0459","RNARS"]
[2548,"G4BIC","RN0461","RNARS"]
[2549,"G4JYL","RN0463","RNARS"]
[2550,"G3ZBP","RN0466","RNARS"]
[2551,"GM0OWM","RN0468","RNARS"]
[2552,"G3SXE","RN0475","RNARS"]
[2553,"G3TZL","RN0480","RNARS"]
[2554,"G4WZI","RN0483","RNARS"]
[2555,"G3AQB","RN0486","RNARS"]
[2556,"ZC4HMS","RN0493","RNARS"]
[2557,"7S6W","RN0507","RNARS"]
[2558,"SM6DER","RN0507","RNARS"]
[2559,"G3ZGC","RN0508","RNARS"]
[2560,"G3RSP","RN0510","RNARS"]
[2561,"G4ABG","RN0511","RNARS"]
[2562,"G3ZGI","RN0514","RNARS"]
[2563,"G3KMY","RN0520","RNARS"]
[2564,"G4GSA","RN0524","RNARS"]
[2565,"G4FKY","RN0526","RNARS"]
[2566,"G4BUL","RN0559","RNARS"]
[2567,"GM3TYS","RN0570","RNARS"]
[2568,"G4DII","RN0571","RNARS"]
[2569,"G3ZDF","RN0585","RNARS"]
[2570,"G3JPX","RN0587","RNARS"]
[2571,"G4HJE","RN0592","RNARS"]
[2572,"G3KOJ","RN0594","RNARS"]
[2573,"W4FLZ","RN0598","RNARS"]
[2574,"G4ASK","RN0603","RNARS"]
[2575,"GI3GTR","RN0605","RNARS"]
[2576,"G4DIE","RN0612","RNARS"]
[2577,"VK6DV","RN0615","RNARS"]
[2578,"G3LEO","RN0616","RNARS"]
[2579,"G4BEQ","RN0626","RNARS"]
[2580,"G4BKF","RN0638","RNARS"]
[2581,"VK6PK","RN0658","RNARS"]
[{"$f":"ROW(A2582)","v":2582},"G3YTQ","RN0690","RNARS"]
[2583,"GW3YSF","RN0695","RNARS"]
[2584,"G3ZTI","RN0708","RNARS"]
[2585,"G4CNH","RN0714","RNARS"]
[2586,"G3UJA","RN0730","RNARS"]
[2587,"G3LSQ","RN0734","RNARS"]
[2588,"G3XUF","RN0745","RNARS"]
[2589,"G3ZUC","RN0763","RNARS"]
[2590,"G4DJN","RN0767","RNARS"]
[2591,"VE6DXX","RN0772","RNARS"]
[2592,"G3VPF","RN0786","RNARS"]
[2593,"G4HAB","RN0790","RNARS"]
[2594,"G0RIZ","RN0794","RNARS"]
[2595,"GM3CFS","RN0803","RNARS"]
[2596,"GM4DPC","RN0808","RNARS"]
[2597,"GM3MAS","RN0829","RNARS"]
[2598,"GM4GIF","RN0852","RNARS"]
[2599,"G0HHF","RN0860","RNARS"]
[2600,"G8HRR","RN0862","RNARS"]
[2601,"G3NVM","RN0878","RNARS"]
[2602,"GM4FIB","RN0883","RNARS"]
[2603,"GW7EUL","RN0890","RNARS"]
[2604,"G4BMR","RN0897","RNARS"]
[2605,"G4CNW","RN0900","RNARS"]
[2606,"GM4ELV","RN0901","RNARS"]
[2607,"G4DDH","RN0903","RNARS"]
[2608,"ZL3WD","RN0909","RNARS"]
[2609,"GM3IBU","RN0920","RNARS"]
[2610,"WA1HMW","RN0926","RNARS"]
[2611,"G3ZIN","RN0930","RNARS"]
[2612,"G4FRN","RN0937","RNARS"]
[2613,"PA0VLA","RN0944","RNARS"]
[2614,"LA0BM","RN0957","RNARS"]
[2615,"G8OIH","RN0958","RNARS"]
[2616,"MX0SBV","RN0960","RNARS"]
[2617,"G3TSZ","RN0962","RNARS"]
[2618,"G3XON","RN0966","RNARS"]
[2619,"G4EMM","RN0968","RNARS"]
[2620,"G4IFO","RN0973","RNARS"]
[2621,"G3OKH","RN0976","RNARS"]
[2622,"G4IWQ","RN0986","RNARS"]
[2623,"G4JMJ","RN0992","RNARS"]
[2624,"K4NCG","RN1007","RNARS"]
[2625,"G4ELG","RN1023","RNARS"]
[2626,"HB9ASX","RN1033","RNARS"]
[2627,"GM3WIJ","RN1034","RNARS"]
[2628,"G4LDI","RN1041","RNARS"]
[2629,"VK3UE","RN1041","RNARS"]
[2630,"G4GJY","RN1042","RNARS"]
[2631,"G4GXK","RN1043","RNARS"]
[2632,"G8SAL","RN1043","RNARS"]
[2633,"M0AEK","RN1050","RNARS"]
[2634,"G8TKR","RN1052","RNARS"]
[2635,"G4EMH","RN1082","RNARS"]
[2636,"G4CRW","RN1087","RNARS"]
[2637,"G0BWG","RN1092","RNARS"]
[2638,"G3ZBA","RN1099","RNARS"]
[2639,"GM0IMH","RN1109","RNARS"]
[2640,"GI3YMT","RN1116","RNARS"]
[2641,"G4GXD","RN1124","RNARS"]
[2642,"G0UUG","RN1134","RNARS"]
[2643,"G2IV","RN1136","RNARS"]
[2644,"G3LHB","RN1148","RNARS"]
[2645,"G4KIO","RN1159","RNARS"]
[{"$f":"ROW(A2646)","v":2646},"G4GIG","RN1164","RNARS"]
[2647,"VK6AU","RN1172","RNARS"]
[2648,"G3GB","RN1199","RNARS"]
[2649,"G4DRX","RN1213","RNARS"]
[2650,"G4FMA","RN1217","RNARS"]
[2651,"G4DVJ","RN1223","RNARS"]
[2652,"G3MLY","RN1230","RNARS"]
[2653,"PA0HIS","RN1242","RNARS"]
[2654,"G4LRK","RN1278","RNARS"]
[2655,"ON6WR","RN1282","RNARS"]
[2656,"VK2NCE","RN1283","RNARS"]
[2657,"G4IZU","RN1295","RNARS"]
[2658,"G8SKK","RN1313","RNARS"]
[2659,"G3VXF","RN1330","RNARS"]
[2660,"W1DMD","RN1347","RNARS"]
[2661,"G4JFO","RN1352","RNARS"]
[2662,"G0EDM","RN1353","RNARS"]
[2663,"G3PFZ","RN1359","RNARS"]
[2664,"G4KGT","RN1364","RNARS"]
[2665,"G4LNR","RN1381","RNARS"]
[2666,"G4LRY","RN1381","RNARS"]
[2667,"ZL2JK","RN1396","RNARS"]
[2668,"G4HWK","RN1402","RNARS"]
[2669,"G4SKS","RN1404","RNARS"]
[2670,"GM4GVJ","RN1409","RNARS"]
[2671,"G4KLW","RN1410","RNARS"]
[2672,"G3CXP","RN1413","RNARS"]
[2673,"GM4BKV","RN1418","RNARS"]
[2674,"VK5BRN","RN1419","RNARS"]
[2675,"G4PRG","RN1420","RNARS"]
[2676,"HZ1PS","RN1440","RNARS"]
[2677,"VK6APW","RN1440","RNARS"]
[2678,"G0ICW","RN1444","RNARS"]
[2679,"G4IUV","RN1462","RNARS"]
[2680,"K8BBT","RN1467","RNARS"]
[2681,"GW4HDB","RN1474","RNARS"]
[2682,"ON4WD","RN1492","RNARS"]
[2683,"G4IVC","RN1513","RNARS"]
[2684,"M0IMJ","RN1532","RNARS"]
[2685,"G4JRN","RN1541","RNARS"]
[2686,"VK6JP","RN1544","RNARS"]
[2687,"VK4CU","RN1561","RNARS"]
[2688,"VK5NP","RN1563","RNARS"]
[2689,"G4LEC","RN1566","RNARS"]
[2690,"GM4TQ","RN1568","RNARS"]
[2691,"G3XKQ","RN1575","RNARS"]
[2692,"GM4FGD","RN1581","RNARS"]
[2693,"G4NNP","RN1584","RNARS"]
[2694,"W6BNJ","RN1604","RNARS"]
[2695,"G4IPV","RN1625","RNARS"]
[2696,"GM4SID","RN1629","RNARS"]
[2697,"G3YWD","RN1633","RNARS"]
[2698,"G3CRS","RN1636","RNARS"]
[2699,"G4KNR","RN1639","RNARS"]
[2700,"G4KKZ","RN1642","RNARS"]
[2701,"VK9NL","RN1650","RNARS"]
[2702,"G8CJM","RN1657","RNARS"]
[2703,"VA3ICC","RN1673","RNARS"]
[2704,"G4LEG","RN1680","RNARS"]
[2705,"G4KLD","RN1681","RNARS"]
[2706,"G4NXG","RN1684","RNARS"]
[2707,"G4IZI","RN1695","RNARS"]
[2708,"KA2GCU","RN1700","RNARS"]
[2709,"G0JSC","RN1702","RNARS"]
[{"$f":"ROW(A2710)","v":2710},"G4KJD","RN1708","RNARS"]
[2711,"G4FVG","RN1722","RNARS"]
[2712,"G3YEC","RN1727","RNARS"]
[2713,"G2DBT","RN1764","RNARS"]
[2714,"W8TP","RN1779","RNARS"]
[2715,"G0FBA","RN1816","RNARS"]
[2716,"EA5GGV","RN1820","RNARS"]
[2717,"G4TKF","RN1837","RNARS"]
[2718,"GM4GZQ","RN1856","RNARS"]
[2719,"G4JSS","RN1860","RNARS"]
[2720,"GM6HGW","RN1870","RNARS"]
[2721,"GM8HCN","RN1870","RNARS"]
[2722,"N2BAT","RN1873","RNARS"]
[2723,"G4MXU","RN1892","RNARS"]
[2724,"G4MPI","RN1897","RNARS"]
[2725,"G3JSU","RN1903","RNARS"]
[2726,"G3LSU","RN1903","RNARS"]
[2727,"GM3YTS","RN1907","RNARS"]
[2728,"G0EMQ","RN1908","RNARS"]
[2729,"VE3IQ","RN1909","RNARS"]
[2730,"G3PEM","RN1917","RNARS"]
[2731,"G4MZL","RN1923","RNARS"]
[2732,"G4UJR","RN1929","RNARS"]
[2733,"G8WTN","RN1935","RNARS"]
[2734,"G3APO","RN1936","RNARS"]
[2735,"DL0MF","RN1942","RNARS"]
[2736,"G4FBS","RN1944","RNARS"]
[2737,"G4KCB","RN1947","RNARS"]
[2738,"G3UAZ","RN1962","RNARS"]
[2739,"M0GMI","RN1962","RNARS"]
[2740,"G4OLA","RN1965","RNARS"]
[2741,"G4PEA","RN1975","RNARS"]
[2742,"G4PSA","RN1978","RNARS"]
[2743,"G4NFT","RN1990","RNARS"]
[2744,"G4MSR","RN2000","RNARS"]
[2745,"G4RAP","RN2002","RNARS"]
[2746,"G4PTE","RN2008","RNARS"]
[2747,"G4RTH","RN2011","RNARS"]
[2748,"G4LIH","RN2014","RNARS"]
[2749,"G4UPT","RN2032","RNARS"]
[2750,"G4SNR","RN2033","RNARS"]
[2751,"GD3LSF","RN2049","RNARS"]
[2752,"G4BUW","RN2053","RNARS"]
[2753,"G4LNA","RN2069","RNARS"]
[2754,"G0SJQ","RN2075","RNARS"]
[2755,"EI7H","RN2076","RNARS"]
[2756,"OZ1FJB","RN2087","RNARS"]
[2757,"G4ZIY","RN2122","RNARS"]
[2758,"G4WWP","RN2126","RNARS"]
[2759,"G4UZJ","RN2136","RNARS"]
[2760,"G4PTN","RN2139","RNARS"]
[2761,"G0JCF","RN2142","RNARS"]
[2762,"G4RNR","RN2145","RNARS"]
[2763,"G0AFN","RN2151","RNARS"]
[2764,"OZ1ANE","RN2153","RNARS"]
[2765,"G4ALY","RN2154","RNARS"]
[2766,"G8KJP","RN2167","RNARS"]
[2767,"G4TMW","RN2181","RNARS"]
[2768,"G0FEK","RN2182","RNARS"]
[2769,"G6NVA","RN2191","RNARS"]
[2770,"G4XZS","RN2194","RNARS"]
[2771,"G3KQV","RN2207","RNARS"]
[2772,"G4MWL","RN2215","RNARS"]
[2773,"G4SJJ","RN2217","RNARS"]
[{"$f":"ROW(A2774)","v":2774},"G4TUO","RN2218","RNARS"]
[2775,"EI3ER","RN2234","RNARS"]
[2776,"GM4VUG","RN2241","RNARS"]
[2777,"GM4GJS","RN2243","RNARS"]
[2778,"G4ZQJ","RN2249","RNARS"]
[2779,"G4AST","RN2251","RNARS"]
[2780,"GM4RXW","RN2254","RNARS"]
[2781,"G6EHL","RN2270","RNARS"]
[2782,"G4HL","RN2273","RNARS"]
[2783,"G0ELZ","RN2278","RNARS"]
[2784,"GM4RJF","RN2281","RNARS"]
[2785,"GD3JIU","RN2288","RNARS"]
[2786,"G4TNI","RN2294","RNARS"]
[2787,"G0CAU","RN2302","RNARS"]
[2788,"GD3ZEX","RN2324","RNARS"]
[2789,"9J2DR","RN2328","RNARS"]
[2790,"F8LPX","RN2328","RNARS"]
[2791,"GM0OPS","RN2333","RNARS"]
[2792,"G4UNM","RN2346","RNARS"]
[2793,"G4UMW","RN2369","RNARS"]
[2794,"G4RKE","RN2388","RNARS"]
[2795,"GW4SPL","RN2400","RNARS"]
[2796,"DL8LD","RN2402","RNARS"]
[2797,"G3HWS","RN2409","RNARS"]
[2798,"G3OPL","RN2431","RNARS"]
[2799,"G6ION","RN2432","RNARS"]
[2800,"GM0EQS","RN2436","RNARS"]
[2801,"G0VEP","RN2447","RNARS"]
[2802,"G1DMH","RN2449","RNARS"]
[2803,"G4VVL","RN2450","RNARS"]
[2804,"GM0WOF","RN2459","RNARS"]
[2805,"G4ZAW","RN2462","RNARS"]
[2806,"ON4AGV","RN2464","RNARS"]
[2807,"G4DAQ","RN2487","RNARS"]
[2808,"GM8YUI","RN2493","RNARS"]
[2809,"G4CLX","RN2498","RNARS"]
[2810,"DK4VQ","RN2508","RNARS"]
[2811,"G4JZC","RN2509","RNARS"]
[2812,"G4UDO","RN2513","RNARS"]
[2813,"G3LWI","RN2523","RNARS"]
[2814,"G3EWF","RN2526","RNARS"]
[2815,"G0LEH","RN2529","RNARS"]
[2816,"G2CHI","RN2531","RNARS"]
[2817,"G4UYR","RN2532","RNARS"]
[2818,"HB9ASZ","RN2539","RNARS"]
[2819,"G4JSW","RN2545","RNARS"]
[2820,"G0HMS","RN2549","RNARS"]
[2821,"GW4VEK","RN2550","RNARS"]
[2822,"G4ZMP","RN2616","RNARS"]
[2823,"GW4GJT","RN2617","RNARS"]
[2824,"G0DVT","RN2619","RNARS"]
[2825,"G4ZXK","RN2633","RNARS"]
[2826,"DL1JE","RN2657","RNARS"]
[2827,"G4ZPB","RN2661","RNARS"]
[2828,"G0IEY","RN2662","RNARS"]
[2829,"G4XBU","RN2665","RNARS"]
[2830,"G4OYF","RN2669","RNARS"]
[2831,"OZ1EHC","RN2673","RNARS"]
[2832,"G1JEP","RN2689","RNARS"]
[2833,"GI4OYI","RN2694","RNARS"]
[2834,"G4EBN","RN2705","RNARS"]
[2835,"G8IUQ","RN2714","RNARS"]
[2836,"MW0CLU","RN2726","RNARS"]
[2837,"GM0KTJ","RN2738","RNARS"]
[{"$f":"ROW(A2838)","v":2838},"GM4HWO","RN2741","RNARS"]
[2839,"G4YZC","RN2754","RNARS"]
[2840,"G4EZF","RN2761","RNARS"]
[2841,"OZ2JI","RN2765","RNARS"]
[2842,"G4SSH","RN2770","RNARS"]
[2843,"GM3BKC","RN2777","RNARS"]
[2844,"G3NCB","RN2799","RNARS"]
[2845,"G8WSG","RN2813","RNARS"]
[2846,"G3BBR","RN2817","RNARS"]
[2847,"GM3AHR","RN2834","RNARS"]
[2848,"GU0ALD","RN2868","RNARS"]
[2849,"GW0ANA","RN2877","RNARS"]
[2850,"G4UJI","RN2881","RNARS"]
[2851,"G0KHN","RN2884","RNARS"]
[2852,"PA0HRM","RN2885","RNARS"]
[2853,"PF9A","RN2887","RNARS"]
[2854,"G4LUN","RN2891","RNARS"]
[2855,"GM6GJW","RN2894","RNARS"]
[2856,"G7IIO","RN2899","RNARS"]
[2857,"G4VSR","RN2906","RNARS"]
[2858,"VK6VE","RN2907","RNARS"]
[2859,"G3TFV","RN2909","RNARS"]
[2860,"PI4MRC","RN2915","RNARS"]
[2861,"G0DID","RN2917","RNARS"]
[2862,"G4MZS","RN2923","RNARS"]
[2863,"G4HQQ","RN2926","RNARS"]
[2864,"G0FEO","RN2935","RNARS"]
[2865,"GM3LGM","RN2940","RNARS"]
[2866,"G4USW","RN2942","RNARS"]
[2867,"G3XGE","RN2951","RNARS"]
[2868,"G1LKJ","RN2954","RNARS"]
[2869,"G0GIA","RN2955","RNARS"]
[2870,"G1RZM","RN2960","RNARS"]
[2871,"GW0OHJ","RN2981","RNARS"]
[2872,"G0EHO","RN2988","RNARS"]
[2873,"G0LFW","RN2994","RNARS"]
[2874,"G0GAL","RN3003","RNARS"]
[2875,"VK6RAN","RN3024","RNARS"]
[2876,"G1VYK","RN3030","RNARS"]
[2877,"GM0DJI","RN3031","RNARS"]
[2878,"G0CWK","RN3035","RNARS"]
[2879,"G3LPT","RN3039","RNARS"]
[2880,"VK3SV","RN3048","RNARS"]
[2881,"G0EBR","RN3052","RNARS"]
[2882,"G1OCN","RN3085","RNARS"]
[2883,"G0ISJ","RN3108","RNARS"]
[2884,"GM1VWA","RN3112","RNARS"]
[2885,"G0BUW","RN3116","RNARS"]
[2886,"G1SSS","RN3117","RNARS"]
[2887,"G0FQT","RN3139","RNARS"]
[2888,"VE1CYO","RN3148","RNARS"]
[2889,"G4CCB","RN3150","RNARS"]
[2890,"GM0FRQ","RN3152","RNARS"]
[2891,"PA3DSJ","RN3164","RNARS"]
[2892,"G0FOD","RN3170","RNARS"]
[2893,"G3LCI","RN3175","RNARS"]
[2894,"GW0JTE","RN3181","RNARS"]
[2895,"G1VGM","RN3184","RNARS"]
[2896,"G0ITS","RN3191","RNARS"]
[2897,"GI4BTG","RN3218","RNARS"]
[2898,"G0GHY","RN3219","RNARS"]
[2899,"G0GUF","RN3227","RNARS"]
[2900,"G0GPO","RN3230","RNARS"]
[2901,"G0OVI","RN3231","RNARS"]
[{"$f":"ROW(A2902)","v":2902},"G3WWS","RN3233","RNARS"]
[2903,"G1ORK","RN3243","RNARS"]
[2904,"G4KLF","RN3246","RNARS"]
[2905,"G3XPU","RN3249","RNARS"]
[2906,"G0GRY","RN3256","RNARS"]
[2907,"GM0CDV","RN3268","RNARS"]
[2908,"G0GEZ","RN3278","RNARS"]
[2909,"G0SWS","RN3286","RNARS"]
[2910,"VK2CCV","RN3293","RNARS"]
[2911,"G1RXC","RN3307","RNARS"]
[2912,"GW4ZAR","RN3325","RNARS"]
[2913,"DJ7AC","RN3328","RNARS"]
[2914,"G4ZEZ","RN3332","RNARS"]
[2915,"9H1RN","RN3355","RNARS"]
[2916,"G4TDS","RN3355","RNARS"]
[2917,"GM0KBC","RN3363","RNARS"]
[2918,"G1IIO","RN3372","RNARS"]
[2919,"G0ITI","RN3381","RNARS"]
[2920,"G3YAJ","RN3384","RNARS"]
[2921,"G0KQS","RN3406","RNARS"]
[2922,"G0SUB","RN3408","RNARS"]
[2923,"G3BZU","RN3408","RNARS"]
[2924,"G0KGE","RN3413","RNARS"]
[2925,"GM0HCQ","RN3455","RNARS"]
[2926,"VP8CMH","RN3455","RNARS"]
[2927,"G0CHV","RN3460","RNARS"]
[2928,"G4LOI","RN3472","RNARS"]
[2929,"G3DID","RN3476","RNARS"]
[2930,"G0GBI","RN3481","RNARS"]
[2931,"G3BKJ","RN3482","RNARS"]
[2932,"HB9ANE","RN3493","RNARS"]
[2933,"G3MLD","RN3499","RNARS"]
[2934,"G3SMW","RN3511","RNARS"]
[2935,"PA3CTK","RN3521","RNARS"]
[2936,"G0IEC","RN3526","RNARS"]
[2937,"G4UST","RN3527","RNARS"]
[2938,"G0MFB","RN3530","RNARS"]
[2939,"G4PIJ","RN3532","RNARS"]
[2940,"G7ARJ","RN3535","RNARS"]
[2941,"G0BMH","RN3544","RNARS"]
[2942,"G0NCW","RN3558","RNARS"]
[2943,"GM0KDF","RN3560","RNARS"]
[2944,"G4SMU","RN3561","RNARS"]
[2945,"ZL4QO","RN3567","RNARS"]
[2946,"G3MXJ","RN3570","RNARS"]
[2947,"G0MEY","RN3582","RNARS"]
[2948,"G7EYR","RN3583","RNARS"]
[2949,"EI6HD","RN3598","RNARS"]
[2950,"G3KKJ","RN3601","RNARS"]
[2951,"G0MIU","RN3606","RNARS"]
[2952,"G4NRW","RN3614","RNARS"]
[2953,"VK2WL","RN3627","RNARS"]
[2954,"KB8APS","RN3628","RNARS"]
[2955,"G0JJD","RN3638","RNARS"]
[2956,"G8LTW","RN3654","RNARS"]
[2957,"G0ETL","RN3673","RNARS"]
[2958,"G0WNT","RN3674","RNARS"]
[2959,"G7ZGK","RN3677","RNARS"]
[2960,"G0NII","RN3684","RNARS"]
[2961,"G0LDJ","RN3686","RNARS"]
[2962,"G4NCZ","RN3688","RNARS"]
[2963,"DL5XI","RN3695","RNARS"]
[2964,"DL5XI","RN3695","RNARS"]
[2965,"G7HFH","RN3702","RNARS"]
[{"$f":"ROW(A2966)","v":2966},"G0RDO","RN3703","RNARS"]
[2967,"G4ZKE","RN3715","RNARS"]
[2968,"G1YCM","RN3731","RNARS"]
[2969,"G0GQJ","RN3751","RNARS"]
[2970,"G0OKA","RN3765","RNARS"]
[2971,"G4HOK","RN3774","RNARS"]
[2972,"G0SCY","RN3780","RNARS"]
[2973,"HB9BHS","RN3786","RNARS"]
[2974,"GM4ARJ","RN3799","RNARS"]
[2975,"G4UXC","RN3805","RNARS"]
[2976,"G0IPG","RN3809","RNARS"]
[2977,"G0WVM","RN3854","RNARS"]
[2978,"G0SLP","RN3861","RNARS"]
[2979,"G0RPK","RN3886","RNARS"]
[2980,"G0TAR","RN3888","RNARS"]
[2981,"W1USN","RN3889","RNARS"]
[2982,"VK2CNI","RN3890","RNARS"]
[2983,"G7KDJ","RN3904","RNARS"]
[2984,"2E0TDC","RN3909","RNARS"]
[2985,"N8NAV","RN3913","RNARS"]
[2986,"N8NAV","RN3913","RNARS"]
[2987,"G0PJK","RN3916","RNARS"]
[2988,"G4XHK","RN3917","RNARS"]
[2989,"GW0SFI","RN3919","RNARS"]
[2990,"G0RJM","RN3920","RNARS"]
[2991,"M0DBT","RN3922","RNARS"]
[2992,"G0RNO","RN3926","RNARS"]
[2993,"G0RJD","RN3932","RNARS"]
[2994,"ON6KN","RN3933","RNARS"]
[2995,"G0NZT","RN3936","RNARS"]
[2996,"G0PWP","RN3947","RNARS"]
[2997,"G0RRF","RN3949","RNARS"]
[2998,"G3ZOU","RN3953","RNARS"]
[2999,"G7KES","RN3961","RNARS"]
[3000,"G3WQG","RN3966","RNARS"]
[3001,"VE3CGJ","RN3977","RNARS"]
[3002,"G4XJU","RN3980","RNARS"]
[3003,"GM4UFD","RN3983","RNARS"]
[3004,"G8CVF","RN3991","RNARS"]
[3005,"G0UMI","RN4001","RNARS"]
[3006,"7Q7YL","RN4003","RNARS"]
[3007,"M0JMP","RN4003","RNARS"]
[3008,"G0UKX","RN4023","RNARS"]
[3009,"AA6NM","RN4042","RNARS"]
[3010,"G3DCO","RN4042","RNARS"]
[3011,"G0TBC","RN4050","RNARS"]
[3012,"GM0SRD","RN4053","RNARS"]
[3013,"G0IGB","RN4057","RNARS"]
[3014,"G7OJH","RN4067","RNARS"]
[3015,"G8TTU","RN4075","RNARS"]
[3016,"G0SMW","RN4078","RNARS"]
[3017,"G0UTP","RN4085","RNARS"]
[3018,"G0TKZ","RN4086","RNARS"]
[3019,"G0MAT","RN4090","RNARS"]
[3020,"G3LNK","RN4094","RNARS"]
[3021,"MM0DYX","RN4097","RNARS"]
[3022,"G0TZK","RN4101","RNARS"]
[3023,"G0OBM","RN4104","RNARS"]
[3024,"DL1DRA","RN4123","RNARS"]
[3025,"G4ZCN","RN4133","RNARS"]
[3026,"G0KDL","RN4134","RNARS"]
[3027,"G0KDL","RN4134","RNARS"]
[3028,"G0CEP","RN4138","RNARS"]
[3029,"9H1ZY","RN4152","RNARS"]
[{"$f":"ROW(A3030)","v":3030},"GM0RYD","RN4152","RNARS"]
[3031,"G0SOX","RN4158","RNARS"]
[3032,"G7RIU","RN4170","RNARS"]
[3033,"G7USQ","RN4176","RNARS"]
[3034,"GM0SYY","RN4182","RNARS"]
[3035,"MW1AXV","RN4188","RNARS"]
[3036,"G0UVB","RN4194","RNARS"]
[3037,"G7EIE","RN4196","RNARS"]
[3038,"OE8NIK","RN4198","RNARS"]
[3039,"OE8NIK","RN4198","RNARS"]
[3040,"G0VCV","RN4208","RNARS"]
[3041,"G0TZM","RN4213","RNARS"]
[3042,"W1MXI","RN4217","RNARS"]
[3043,"G0KXN","RN4221","RNARS"]
[3044,"DL4BCJ","RN4224","RNARS"]
[3045,"ON5BF","RN4228","RNARS"]
[3046,"ON4CAB","RN4234","RNARS"]
[3047,"GW0VSW","RN4238","RNARS"]
[3048,"EA8CN","RN4240","RNARS"]
[3049,"GM7RDH","RN4241","RNARS"]
[3050,"G0GNI","RN4253","RNARS"]
[3051,"G0WAE","RN4254","RNARS"]
[3052,"G3YCH","RN4271","RNARS"]
[3053,"G4BYJ","RN4274","RNARS"]
[3054,"GI4MFM","RN4275","RNARS"]
[3055,"G4FUJ","RN4285","RNARS"]
[3056,"M1AFM","RN4295","RNARS"]
[3057,"G7MAR","RN4298","RNARS"]
[3058,"G1IND","RN4302","RNARS"]
[3059,"G3PLE","RN4304","RNARS"]
[3060,"KA6ILO","RN4306","RNARS"]
[3061,"G7USV","RN4307","RNARS"]
[3062,"GW7VHD","RN4310","RNARS"]
[3063,"G4OVD","RN4311","RNARS"]
[3064,"G7AFS","RN4315","RNARS"]
[3065,"G0VIX","RN4322","RNARS"]
[3066,"MW0AQZ","RN4323","RNARS"]
[3067,"ON4UK","RN4327","RNARS"]
[3068,"G4PRI","RN4328","RNARS"]
[3069,"ON4CBM","RN4334","RNARS"]
[3070,"G0TEL","RN4337","RNARS"]
[3071,"G0WEN","RN4341","RNARS"]
[3072,"G0PMS","RN4342","RNARS"]
[3073,"G3RMZ","RN4349","RNARS"]
[3074,"GM3XGX","RN4352","RNARS"]
[3075,"GW0WWQ","RN4367","RNARS"]
[3076,"M0AHF","RN4369","RNARS"]
[3077,"G3WBB","RN4372","RNARS"]
[3078,"G0WPH","RN4375","RNARS"]
[3079,"GD3TNS","RN4410","RNARS"]
[3080,"VE3FAB","RN4414","RNARS"]
[3081,"G0WKH","RN4416","RNARS"]
[3082,"EA5AOR","RN4419","RNARS"]
[3083,"GM4BBF","RN4419","RNARS"]
[3084,"G4BNU","RN4421","RNARS"]
[3085,"M0AST","RN4426","RNARS"]
[3086,"M1ACJ","RN4432","RNARS"]
[3087,"VK7CAJ","RN4444","RNARS"]
[3088,"G4PZV","RN4449","RNARS"]
[3089,"G4IBW","RN4456","RNARS"]
[3090,"OH1SR","RN4458","RNARS"]
[3091,"M0BHC","RN4468","RNARS"]
[3092,"G8BIX","RN4472","RNARS"]
[3093,"2E0COL","RN4474","RNARS"]
[{"$f":"ROW(A3094)","v":3094},"M0BUY","RN4477","RNARS"]
[3095,"SM3AHM","RN4485","RNARS"]
[3096,"MM0BED","RN4486","RNARS"]
[3097,"G1GXB","RN4490","RNARS"]
[3098,"G0PPH","RN4491","RNARS"]
[3099,"G3ZNR","RN4496","RNARS"]
[3100,"GM0VYL","RN4497","RNARS"]
[3101,"G4TNN","RN4501","RNARS"]
[3102,"GW4TUC","RN4506","RNARS"]
[3103,"G4AFR","RN4509","RNARS"]
[3104,"GM0FHS","RN4512","RNARS"]
[3105,"G3CCO","RN4514","RNARS"]
[3106,"EI5DS","RN4515","RNARS"]
[3107,"G0VPF","RN4520","RNARS"]
[3108,"M0COA","RN4524","RNARS"]
[3109,"G3DXY","RN4530","RNARS"]
[3110,"M0BTY","RN4536","RNARS"]
[3111,"G0WZH","RN4537","RNARS"]
[3112,"M0CSE","RN4540","RNARS"]
[3113,"DF4BV","RN4556","RNARS"]
[3114,"G0RPX","RN4557","RNARS"]
[3115,"M0RYA","RN4563","RNARS"]
[3116,"M5JGP","RN4563","RNARS"]
[3117,"M1CNH","RN4564","RNARS"]
[3118,"OZ1RDN","RN4565","RNARS"]
[3119,"M0LLE","RN4567","RNARS"]
[3120,"K7VV","RN4571","RNARS"]
[3121,"M0CVJ","RN4578","RNARS"]
[3122,"G3WNQ","RN4581","RNARS"]
[3123,"OE6NFK","RN4582","RNARS"]
[3124,"DF7QN","RN4583","RNARS"]
[3125,"OR0OST","RN4585","RNARS"]
[3126,"M0CFY","RN4590","RNARS"]
[3127,"2E0CTS","RN4591","RNARS"]
[3128,"MM0CJF","RN4593","RNARS"]
[3129,"ZL1VA","RN4594","RNARS"]
[3130,"G0MYP","RN4596","RNARS"]
[3131,"DL1NL","RN4598","RNARS"]
[3132,"DL6LAO","RN4603","RNARS"]
[3133,"M0CPH","RN4604","RNARS"]
[3134,"G3GUR","RN4606","RNARS"]
[3135,"M0RNR","RN4613","RNARS"]
[3136,"M0RMW","RN4617","RNARS"]
[3137,"I6FDJ","RN4620","RNARS"]
[3138,"W0TUT","RN4622","RNARS"]
[3139,"M0CVR","RN4626","RNARS"]
[3140,"G3LAA","RN4630","RNARS"]
[3141,"G4VBI","RN4631","RNARS"]
[3142,"G2FSH","RN4633","RNARS"]
[3143,"DK6OS","RN4636","RNARS"]
[3144,"ON4CBI","RN4637","RNARS"]
[3145,"OK1FCA","RN4639","RNARS"]
[3146,"G3ZJY","RN4641","RNARS"]
[3147,"SM5VWG","RN4644","RNARS"]
[3148,"G0VFE","RN4655","RNARS"]
[3149,"DL1EKN","RN4659","RNARS"]
[3150,"I7OEB","RN4666","RNARS"]
[3151,"GM4LHJ","RN4670","RNARS"]
[3152,"G3PDH","RN4672","RNARS"]
[3153,"OE3OLC","RN4675","RNARS"]
[3154,"M0ETY","RN4684","RNARS"]
[3155,"G7ESM","RN4692","RNARS"]
[3156,"M1GDH","RN4693","RNARS"]
[3157,"DK3UZ","RN4695","RNARS"]
[{"$f":"ROW(A3158)","v":3158},"M0VNG","RN4701","RNARS"]
[3159,"M0STS","RN4708","RNARS"]
[3160,"DL5XL","RN4709","RNARS"]
[3161,"G3EBE","RN4710","RNARS"]
[3162,"2E0MUW","RN4713","RNARS"]
[3163,"DL8BEL","RN4715","RNARS"]
[3164,"2E0BYC","RN4718","RNARS"]
[3165,"M0ROA","RN4719","RNARS"]
[3166,"KB9NYC","RN4726","RNARS"]
[3167,"M0DAY","RN4727","RNARS"]
[3168,"ON4CKZ","RN4728","RNARS"]
[3169,"M0XTN","RN4735","RNARS"]
[3170,"G3XVF","RN4737","RNARS"]
[3171,"DF4QP","RN4738","RNARS"]
[3172,"DL3HRH","RN4739","RNARS"]
[3173,"2E0PLE","RN4742","RNARS"]
[3174,"M3PLE","RN4742","RNARS"]
[3175,"M3PBZ","RN4747","RNARS"]
[3176,"MU3NTH","RN4749","RNARS"]
[3177,"M0MOL","RN4754","RNARS"]
[3178,"AA1XX","RN4755","RNARS"]
[3179,"DL1JHR","RN4757","RNARS"]
[3180,"M0SSC","RN4761","RNARS"]
[3181,"M0CNU","RN4764","RNARS"]
[3182,"G3XRN","RN4768","RNARS"]
[3183,"2E0DHB","RN4775","RNARS"]
[3184,"M0TEH","RN4777","RNARS"]
[3185,"M0PSW","RN4778","RNARS"]
[3186,"M3PPG","RN4778","RNARS"]
[3187,"M0BZZ","RN4779","RNARS"]
[3188,"G4TAD","RN4780","RNARS"]
[3189,"OZ9MM","RN4781","RNARS"]
[3190,"N4XAT","RN4783","RNARS"]
[3191,"WW2DD","RN4785","RNARS"]
[3192,"WW2DD","RN4785","RNARS"]
[3193,"G6YGP","RN4788","RNARS"]
[3194,"M0VBY","RN4789","RNARS"]
[3195,"G1THJ","RN4791","RNARS"]
[3196,"G4GSL","RN4792","RNARS"]
[3197,"G3ORC","RN4796","RNARS"]
[3198,"MW0EAT","RN4798","RNARS"]
[3199,"MM0DUC","RN4800","RNARS"]
[3200,"M3IAA","RN4804","RNARS"]
[3201,"GW3LNR","RN4809","RNARS"]
[3202,"G0OAK","RN4811","RNARS"]
[3203,"M5PSL","RN4813","RNARS"]
[3204,"G3RPV","RN4815","RNARS"]
[3205,"G4ZUQ","RN4816","RNARS"]
[3206,"M0HJO","RN4819","RNARS"]
[3207,"G3KDW","RN4823","RNARS"]
[3208,"2M0BZZ","RN4824","RNARS"]
[3209,"G7IZS","RN4825","RNARS"]
[3210,"M0EHL","RN4827","RNARS"]
[3211,"G3FNZ","RN4829","RNARS"]
[3212,"G0PSE","RN4831","RNARS"]
[3213,"2E0JJR","RN4833","RNARS"]
[3214,"2E0DTO","RN4834","RNARS"]
[3215,"M0HFF","RN4834","RNARS"]
[3216,"2E0RPS","RN4835","RNARS"]
[3217,"M3WYW","RN4837","RNARS"]
[3218,"N9SBQ","RN4839","RNARS"]
[3219,"M0MGF","RN4842","RNARS"]
[3220,"G4PRL","RN4844","RNARS"]
[3221,"8P9GK","RN4848","RNARS"]
[{"$f":"ROW(A3222)","v":3222},"G6DGK","RN4848","RNARS"]
[3223,"G0BUX","RN4849","RNARS"]
[3224,"W0BUX","RN4849","RNARS"]
[3225,"G0CWP","RN4851","RNARS"]
[3226,"VK2DPE","RN4856","RNARS"]
[3227,"2E0RFS","RN4858","RNARS"]
[3228,"VK3MRH","RN4864","RNARS"]
[3229,"DL0DMB","RN4865","RNARS"]
[3230,"M3MUB","RN4866","RNARS"]
[3231,"G4EOA","RN4867","RNARS"]
[3232,"M0SNT","RN4868","RNARS"]
[3233,"M5ALG","RN4869","RNARS"]
[3234,"K3ORS","RN4872","RNARS"]
[3235,"2E0RNR","RN4873","RNARS"]
[3236,"2E0JVM","RN4875","RNARS"]
[3237,"G0TOC","RN4876","RNARS"]
[3238,"G4HOF","RN4878","RNARS"]
[3239,"M5AEC","RN4880","RNARS"]
[3240,"G1DJI","RN4881","RNARS"]
[3241,"KC2TFI","RN4883","RNARS"]
[3242,"G0RVT","RN4885","RNARS"]
[3243,"M0WAH","RN4886","RNARS"]
[3244,"EA5AVL","RN4888","RNARS"]
[3245,"G3WMZ","RN4888","RNARS"]
[3246,"2E0TRW","RN4889","RNARS"]
[3247,"2E0AZK","RN4890","RNARS"]
[3248,"G0LFI","RN4891","RNARS"]
[3249,"G1AYH","RN4893","RNARS"]
[3250,"2E0KN","RN4894","RNARS"]
[3251,"M0JAD","RN4895","RNARS"]
[3252,"G4LEL","RN4896","RNARS"]
[3253,"MM1AWV","RN4897","RNARS"]
[3254,"9H1SF","RN4898","RNARS"]
[3255,"M3TRC","RN4899","RNARS"]
[3256,"G0UZJ","RN4900","RNARS"]
[3257,"G3RJS","RN4901","RNARS"]
[3258,"IK0IXI","RN4903","RNARS"]
[3259,"G7DSU","RN4904","RNARS"]
[3260,"GW3OQK","RN4905","RNARS"]
[3261,"2E1HHA","RN4906","RNARS"]
[3262,"2E0GGT","RN4907","RNARS"]
[3263,"2E0PIL","RN4909","RNARS"]
[3264,"M0KJB","RN4913","RNARS"]
[3265,"IK0AAE ","RN4914","RNARS"]
[3266,"M0XIG","RN4915","RNARS"]
[3267,"G8HI","RN4916","RNARS"]
[3268,"2E0GEF","RN4918","RNARS"]
[3269,"2E0RNO","RN4919","RNARS"]
[3270,"M0VOP","RN4920","RNARS"]
[3271,"M0NCN","RN4921","RNARS"]
[3272,"G4TZA","RN4922","RNARS"]
[3273,"2E1RAF","RN4923","RNARS"]
[3274,"YO4WV","YO002","YOMARC","VASILE"]
[3275,"YO3AAJ","YO003","YOMARC","NICOLAE"]
[3276,"YO4WI","YO004","YOMARC","OLIMPIU"]
[3277,"YO4WO","YO005","YOMARC","MARCEL"]
[3278,"YO4AB","YO007","YOMARC","MIRCEA"]
[3279,"YO4WQ","YO009","YOMARC","CORNEL"]
[3280,"YO4AUL","YO010","YOMARC","SORIN"]
[3281,"YO4UC","YO011","YOMARC","GEORGE"]
[3282,"YO4CSG","YO012","YOMARC","TIBERIU"]
[3283,"YO4QX","YO013","YOMARC","MIHAO"]
[3284,"YO9DML","YO014","YOMARC"]
[3285,"YO4BTB","YO015","YOMARC","CORNELIUS"]
[{"$f":"ROW(A3286)","v":3286},"YO4DW","YO016","YOMARC"]
[3287,"YO4DCY","YO017","YOMARC","STELICOICA"]
[3288,"YO4FM","YO018","YOMARC","EMANOIL"]
[3289,"YO4GDG","YO019","YOMARC","VIOREL"]
[3290,"YO4FGW","YO020","YOMARC","MARIO"]
[3291,"YO4DCF","YO021","YOMARC","AUREL"]
[3292,"YO4DKY","YO022","YOMARC","IANCU"]
[3293,"YO4FJY","YO023","YOMARC","OVIDIU"]
[3294,"YO2DFA","YO024","YOMARC","GEORGE"]
[3295,"YO4AAC","YO025","YOMARC","EUGENIU"]
[3296,"YO7BKU","YO026","YOMARC","COSTY"]
[3297,"YO4CSE","YO027","YOMARC","VIOREL"]
[3298,"YO4GM","YO028","YOMARC","VALI"]
[3299,"YO9CNZ","YO029","YOMARC","NELU"]
[3300,"YO4DEU","YO030","YOMARC","NICOLAE"]
[3301,"YO4FHQ","YO031","YOMARC","OVIDIU"]
[3302,"YO5LU","YO032","YOMARC","DUMITRU"]
[3303,"YO4FNG","YO033","YOMARC","ACCADEMY"]
[3304,"YO4KCP","YO034","YOMARC","VALENTIN"]
[3305,"YO4FUM","YO035","YOMARC","DAN"]
[3306,"YO4FPF","YO036","YOMARC","MIRCEA"]
[3307,"YO6GO","YO037","YOMARC","TITUS"]
[3308,"YO3FK","YO038","YOMARC","CIPRIAN"]
[3309,"VE7QTC","YO039","YOMARC","ROMEO"]
[3310,"YO4FYJ","YO040","YOMARC","LIONEL"]
[3311,"YO9CFR","YO041","YOMARC","COSTEL"]
[3312,"YO9FLG","YO042","YOMARC","FERMO"]
[3313,"YO4FRF","YO043","YOMARC","ROTO"]
[3314,"IK2ILG","YO044","YOMARC","MARIAN"]
[3315,"YO4FZT","YO047","YOMARC","CATALIN"]
[3316,"YO8RIX","YO048","YOMARC"]
[3317,"G3HZL/EI4HM","YO049","YOMARC"," YO MARC"]
[3318,"YO4KMR","YO050","YOMARC","VASILE"]
[3319,"YO4CGA","YO051","YOMARC","ION"]
[3320,"YO4-2819/CT","YO052","YOMARC"]
[3321,"YO2LDE","YO053","YOMARC","MAURO"]
[3322,"I7OEB","YO055","YOMARC","DANIEL"]
[3323,"YO4FPS","YO056","YOMARC","MARCEL"]
[3324,"YO4ATW","YO058","YOMARC","REMO"]
[3325,"YO4FKO","YO059","YOMARC","NICU"]
[3326,"YO4XZ","YO061","YOMARC","VALI"]
[3327,"YO4KRF","YO064","YOMARC","BORCEA"]
[3328,"YO4AH","YO065","YOMARC","BORIS"]
[3329,"YO4GEO","YO066","YOMARC","GEORGE"]
[3330,"YO4RDN","YO067","YOMARC","EUGEN"]
[3331,"YO4RFV","YO068","YOMARC","FLORIN"]
[3332,"YO4RXX","YO069","YOMARC","BOGDAN"]
[3333,"YO4RIU","YO070","YOMARC","GABBRIEL"]
[3334,"YO4GDP","YO071","YOMARC","PETRU"]
[3335,"YO4DEQ","YO072","YOMARC","MIHAI"]
[3336,"YO4WJ","YO075","YOMARC","NICIU"]
[3337,"YO4GAV","YO076","YOMARC","ION"]
[3338,"YO4ARR","YO077","YOMARC","AUREL"]
[3339,"YO4BXT","YO078","YOMARC","VASILE"]
[3340,"YO4CPO","YO079","YOMARC","ROMEL"]
[3341,"YO4CTO","YO080","YOMARC","RADU"]
[3342,"YO4FYK","YO081","YOMARC","AUREL"]
[3343,"YO4GPA","YO082","YOMARC","NICUSOR"]
[3344,"YO4LHR","YO083","YOMARC","GEO"]
[3345,"YO4ASV","YO084","YOMARC","MACK"]
[3346,"YO4BBH","YO085","YOMARC","CORNEL"]
[3347,"YO4GHL","YO086","YOMARC","TED Y"]
[3348,"K1BV","YO087","YOMARC","BOB"]
[3349,"YO4FEI","YO088","YOMARC","NICU"]
[{"$f":"ROW(A3350)","v":3350},"YO4RDP","YO089","YOMARC","MIRCEA"]
[3351,"YO9OC","YO090","YOMARC","MIHAI"]
[3352,"YO4RDJ","YO091","YOMARC","MARIAN"]
[3353,"G4DIU","YO092","YOMARC","DAN"]
[3354,"YO4BSZ","YO093","YOMARC","NICU"]
[3355,"YO4BOC","YO094","YOMARC","LUCIAN"]
[3356,"YO4GGA","YO095","YOMARC","GEORGE"]
[3357,"YO4BQV","YO096","YOMARC","GEORGE"]
[3358,"YO4WA","YO097","YOMARC","VASILE"]
[3359,"YO4BGW","YO098","YOMARC","CRISTI"]
[3360,"YO4CJS","YO099","YOMARC","MV/MIRCEA"]
[3361,"YO4CP/MM","YO100","YOMARC","NICO"]
[3362,"YO3AIS","YO101","YOMARC","INO"]
[3363,"YV6QD","YO102","YOMARC","VALENTIN"]
[3364,"YO4PZ","YO103","YOMARC","VILI"]
[3365,"YO4CAI","YO104","YOMARC","LIVIU"]
[3366,"YO4RTW","YO105","YOMARC","IONEL"]
[3367,"YO4FZQ","YO106","YOMARC","JEAN"]
[3368,"YO4ASD","YO107","YOMARC","MARIAN"]
[3369,"YO4ADL","YO108","YOMARC","CORNEL"]
[3370,"YO7AWQ","YO111","YOMARC","LUCIAN"]
[3371,"YO4NA","YO112","YOMARC","FELIX"]
[3372,"YO4CIS","YO113","YOMARC","RAZVAN"]
[3373,"YO4WP","YO114","YOMARC","HORST"]
[3374,"YO4FVP","YO115","YOMARC","ALEX"]
[3375,"DJ2HN","YO116","YOMARC","SANDI"]
[3376,"YO4FHN","YO117","YOMARC","TAVI"]
[3377,"YO4BGJ","YO118","YOMARC","SANDU"]
[3378,"YO2LDK","YO120","YOMARC"]
[3379,"YO4CAH","YO122","YOMARC","RICA"]
[3380,"YO4-095/BR","YO123","YOMARC","CORNEL"]
[3381,"YO4ASG","YO124","YOMARC","JOSEPH"]
[3382,"9M8FC","YO125","YOMARC","PETRICA"]
[3383,"YO8RIJ","YO126","YOMARC","LAUR"]
[3384,"YO4FZV","YO127","YOMARC","BERT"]
[3385,"ON4CBM","YO128","YOMARC","IOSIF"]
[3386,"YO5BJA","YO129","YOMARC"]
[3387]
[3388]
[3389]
[3390]
[3391]
[3392]
[3393]
[3394]
[3395]
[3396]
[3397]
[3398]
[3399]
[3400]
[3401]
[3402]
[3403]
[3404]
[3405]
[3406]
[3407]
[3408]
[3409]
[3410]
[3411]
[3412]
[3413]
[{"$f":"ROW(A3414)","v":3414}]
[3415]
[3416]
[3417]
[3418]
[3419]
[3420]
[3421]
[3422]
[3423]
[3424]
[3425]
[3426]
[3427]
[3428]
[3429]
[3430]
[3431]
[3432]
[3433]
[3434]
[3435]
[3436]
[3437]
[3438]
[3439]
[3440]
[3441]
[3442]
[3443]
[3444]
[3445]
[3446]
[3447]
[3448]
[3449]
[3450]
[3451]
[3452]
[3453]
[3454]
[3455]
[3456]
[3457]
[3458]
[3459]
[3460]
[3461]
[3462]
[3463]
[3464]
[3465]
[3466]
[3467]
[3468]
[3469]
[3470]
[3471]
[3472]
[3473]
[3474]
[3475]
[3476]
[3477]
[{"$f":"ROW(A3478)","v":3478}]
[3479]
[3480]
[3481]
[3482]
[3483]
[3484]
[3485]
[3486]
[3487]
[3488]
[3489]
[3490]
[3491]
[3492]
[3493]
[3494]
[3495]
[3496]
[3497]
[3498]
[3499]
[3500]
[3501]
[3502]
[3503]
[3504]
[3505]
[3506]
[3507]
[3508]
[3509]
[3510]
[3511]
[3512]
[3513]
[3514]
[3515]
[3516]
[3517]
[3518]
[3519]
[3520]
[3521]
[3522]
[3523]
[3524]
[3525]
[3526]
[3527]
[3528]
[3529]
[3530]
[3531]
[3532]
[3533]
[3534]
[3535]
[3536]
[3537]
[3538]
[3539]
[3540]
[3541]
[{"$f":"ROW(A3542)","v":3542}]
[3543]
[3544]
[3545]
[3546]
[3547]
[3548]
[3549]
[3550]
[3551]
[3552]
[3553]
[3554]
[3555]
[3556]
[3557]
[3558]
[3559]
[3560]
[3561]
[3562]
[3563]
[3564]
[3565]
[3566]
[3567]
[3568]
[3569]
[3570]
[3571]
[3572]
[3573]
[3574]
[3575]
[3576]
[3577]
[3578]
[3579]
[3580]
[3581]
[3582]
[3583]
[3584]
[3585]
[3586]
[3587]
[3588]
[3589]
[3590]
[3591]
[3592]
[3593]
[3594]
[3595]
[3596]
[3597]
[3598]
[3599]
[3600]
[3601]
[3602]
[3603]
[3604]
[3605]
[{"$f":"ROW(A3606)","v":3606}]
[3607]
[3608]
[3609]
[3610]
[3611]
[3612]
[3613]
[3614]
[3615]
[3616]
[3617]
[3618]
[3619]
[3620]
[3621]
[3622]
[3623]
[3624]
[3625]
[3626]
[3627]
[3628]
[3629]
[3630]
[3631]
[3632]
[3633]
[3634]
[3635]
[3636]
[3637]
[3638]
[3639]
[3640]
[3641]
[3642]
[3643]
[3644]
[3645]
[3646]
[3647]
[3648]
[3649]
[3650]
[3651]
[3652]
[3653]
[3654]
[3655]
[3656]
[3657]
[3658]
[3659]
[3660]
[3661]
[3662]
[3663]
[3664]
[3665]
[3666]
[3667]
[3668]
[3669]
[{"$f":"ROW(A3670)","v":3670}]
[3671]
[3672]
[3673]
[3674]
[3675]
[3676]
[3677]
[3678]
[3679]
[3680]
[3681]
[3682]
[3683]
[3684]
[3685]
[3686]
[3687]
[3688]
[3689]
[3690]
[3691]
[3692]
[3693]
[3694]
[3695]
[3696]
[3697]
[3698]
[3699]
[3700]
[3701]
[3702]
[3703]
[3704]
[3705]
[3706]
[3707]
[3708]
[3709]
[3710]
[3711]
[3712]
[3713]
[3714]
[3715]
[3716]
[3717]
[3718]
[3719]
[3720]
[3721]
[3722]
[3723]
[3724]
[3725]
[3726]
[3727]
[3728]
[3729]
[3730]
[3731]
[3732]
[3733]
[{"$f":"ROW(A3734)","v":3734}]
[3735]
[3736]
[3737]
[3738]
[3739]
[3740]
[3741]
[3742]
[3743]
[3744]
[3745]
[3746]
[3747]
[3748]
[3749]
[3750]
[3751]
[3752]
[3753]
[3754]
[3755]
[3756]
[3757]
[3758]
[3759]
[3760]
[3761]
[3762]
[3763]
[3764]
[3765]
[3766]
[3767]
[3768]
[3769]
[3770]
[3771]
[3772]
[3773]
[3774]
[3775]
[3776]
[3777]
[3778]
[3779]
[3780]
[3781]
[3782]
[3783]
[3784]
[3785]
[3786]
[3787]
[3788]
[3789]
[3790]
[3791]
[3792]
[3793]
[3794]
[3795]
[3796]
[3797]
[{"$f":"ROW(A3798)","v":3798}]
[3799]
[3800]
[3801]
[3802]
[3803]
[3804]
[3805]
[3806]
[3807]
[3808]
[3809]
[3810]
[3811]
[3812]
[3813]
[3814]
[3815]
[3816]
[3817]
[3818]
[3819]
[3820]
[3821]
[3822]
[3823]
[3824]
[3825]
[3826]
[3827]
[3828]
[3829]
[3830]
[3831]
[3832]
[3833]
[3834]
[3835]
[3836]
[3837]
[3838]
[3839]
[3840]
[3841]
[3842]
[3843]
[3844]
[3845]
[3846]
[3847]
[3848]
[3849]
[3850]
[3851]
[3852]
[3853]
[3854]
[3855]
[3856]
[3857]
[3858]
[3859]
[3860]
[3861]
[{"$f":"ROW(A3862)","v":3862}]
[3863]
[3864]
[3865]
[3866]
[3867]
[3868]
[3869]
[3870]
[3871]
[3872]
[3873]
[3874]
[3875]
[3876]
[3877]
[3878]
[3879]
[3880]
[3881]
[3882]
[3883]
[3884]
[3885]
[3886]
[3887]
[3888]
[3889]
[3890]
[3891]
[3892]
[3893]
[3894]
[3895]
[3896]
[3897]
[3898]
[3899]
[3900]
[3901]
[3902]
[3903]
[3904]
[3905]
[3906]
[3907]
[3908]
[3909]
[3910]
[3911]
[3912]
[3913]
[3914]
[3915]
[3916]
[3917]
[3918]
[3919]
[3920]
[3921]
[3922]
[3923]
[3924]
[3925]
[{"$f":"ROW(A3926)","v":3926}]
[3927]
[3928]
[3929]
[3930]
[3931]
[3932]
[3933]
[3934]
[3935]
[3936]
[3937]
[3938]
[3939]
[3940]
[3941]
[3942]
[3943]
[3944]
[3945]
[3946]
[3947]
[3948]
[3949]
[3950]
[3951]
[3952]
[3953]
[3954]
[3955]
[3956]
[3957]
[3958]
[3959]
[3960]
[3961]
[3962]
[3963]
[3964]
[3965]
[3966]
[3967]
[3968]
[3969]
[3970]
[3971]
[3972]
[3973]
[3974]
[3975]
[3976]
[3977]
[3978]
[3979]
[3980]
[3981]
[3982]
[3983]
[3984]
[3985]
[3986]
[3987]
[3988]
[3989]
[{"$f":"ROW(A3990)","v":3990}]
[3991]
[3992]
[3993]
[3994]
[3995]
[3996]
[3997]
[3998]
[3999]
[4000]
[4001]
[4002]
[4003]
[4004]
[4005]
[4006]
[4007]
[4008]
[4009]
[4010]
[4011]
[4012]
[4013]
[4014]
[4015]
[4016]
[4017]
[4018]
[4019]
[4020]
[4021]
[4022]
[4023]
[4024]
[4025]
[4026]
[4027]
[4028]
[4029]
[4030]
[4031]
[4032]
[4033]
[4034]
[4035]
[4036]
[4037]
[4038]
[4039]
[4040]
[4041]
[4042]
[4043]
[4044]
[4045]
[4046]
[4047]
[4048]
[4049]
[4050]
[4051]
[4052]
[4053]
[{"$f":"ROW(A4054)","v":4054}]
[4055]
[4056]
[4057]
[4058]
[4059]
[4060]
[4061]
[4062]
[4063]
[4064]
[4065]
[4066]
[4067]
[4068]
[4069]
[4070]
[4071]
[4072]
[4073]
[4074]
[4075]
[4076]
[4077]
[4078]
[4079]
[4080]
[4081]
[4082]
[4083]
[4084]
[4085]
[4086]
[4087]
[4088]
[4089]
[4090]
[4091]
[4092]
[4093]
[4094]
[4095]
[4096]
[4097]
[4098]
[4099]
[4100]
[4101]
[4102]
[4103]
[4104]
[4105]
[4106]
[4107]
[4108]
[4109]
[4110]
[4111]
[4112]
[4113]
[4114]
[4115]
[4116]
[4117]
[{"$f":"ROW(A4118)","v":4118}]
[4119]
[4120]
[4121]
[4122]
[4123]
[4124]
[4125]
[4126]
[4127]
[4128]
[4129]
[4130]
[4131]
[4132]
[4133]
[4134]
[4135]
[4136]
[4137]
[4138]
[4139]
[4140]
[4141]
[4142]
[4143]
[4144]
[4145]
[4146]
[4147]
[4148]
[4149]
[4150]
[4151]
[4152]
[4153]
[4154]
[4155]
[4156]
[4157]
[4158]
[4159]
[4160]
[4161]
[4162]
[4163]
[4164]
[4165]
[4166]
[4167]
[4168]
[4169]
[4170]
[4171]
[4172]
[4173]
[4174]
[4175]
[4176]
[4177]
[4178]
[4179]
[4180]
[4181]
[{"$f":"ROW(A4182)","v":4182}]
[4183]
[4184]
[4185]
[4186]
[4187]
[4188]
[4189]
[4190]
[4191]
[4192]
[4193]
[4194]
[4195]
[4196]
[4197]
[4198]
[4199]
[4200]
[4201]
[4202]
[4203]
[4204]
[4205]
[4206]
[4207]
[4208]
[4209]
[4210]
[4211]
[4212]
[4213]
[4214]
[4215]
[4216]
[4217]
[4218]
[4219]
[4220]
[4221]
[4222]
[4223]
[4224]
[4225]
[4226]
[4227]
[4228]
[4229]
[4230]
[4231]
[4232]
[4233]
[4234]
[4235]
[4236]
[4237]
[4238]
[4239]
[4240]
[4241]
[4242]
[4243]
[4244]
[4245]
[{"$f":"ROW(A4246)","v":4246}]
[4247]
[4248]
[4249]
[4250]
[4251]
[4252]
[4253]
[4254]
[4255]
[4256]
[4257]
[4258]
[4259]
[4260]
[4261]
[4262]
[4263]
[4264]
[4265]
[4266]
[4267]
[4268]
[4269]
[4270]
[4271]
[4272]
[4273]
[4274]
[4275]
[4276]
[4277]
[4278]
[4279]
[4280]
[4281]
[4282]
[4283]
[4284]
[4285]
[4286]
[4287]
[4288]
[4289]
[4290]
[4291]
[4292]
[4293]
[4294]
[4295]
[4296]
[4297]
[4298]
[4299]
[4300]
[4301]
[4302]
[4303]
[4304]
[4305]
[4306]
[4307]
[4308]
[4309]
[{"$f":"ROW(A4310)","v":4310}]
[4311]
[4312]
[4313]
[4314]
[4315]
[4316]
[4317]
[4318]
[4319]
[4320]
[4321]
[4322]
[4323]
[4324]
[4325]
[4326]
[4327]
[4328]
[4329]
[4330]
[4331]
[4332]
[4333]
[4334]
[4335]
[4336]
[4337]
[4338]
[4339]
[4340]
[4341]
[4342]
[4343]
[4344]
[4345]
[4346]
[4347]
[4348]
[4349]
[4350]
[4351]
[4352]
[4353]
[4354]
[4355]
[4356]
[4357]
[4358]
[4359]
[4360]
[4361]
[4362]
[4363]
[4364]
[4365]
[4366]
[4367]
[4368]
[4369]
[4370]
[4371]
[4372]
[4373]
[{"$f":"ROW(A4374)","v":4374}]
[4375]
[4376]
[4377]
[4378]
[4379]
[4380]
[4381]
[4382]
[4383]
[4384]
[4385]
[4386]
[4387]
[4388]
[4389]
[4390]
[4391]
[4392]
[4393]
[4394]
[4395]
[4396]
[4397]
[4398]
[4399]
[4400]
[4401]
[4402]
[4403]
[4404]
[4405]
[4406]
[4407]
[4408]
[4409]
[4410]
[4411]
[4412]
[4413]
[4414]
[4415]
[4416]
[4417]
[4418]
[4419]
[4420]
[4421]
[4422]
[4423]
[4424]
[4425]
[4426]
[4427]
[4428]
[4429]
[4430]
[4431]
[4432]
[4433]
[4434]
[4435]
[4436]
[4437]
[{"$f":"ROW(A4438)","v":4438}]
[4439]
[4440]
[4441]
[4442]
[4443]
[4444]
[4445]
[4446]
[4447]
[4448]
[4449]
[4450]
[4451]
[4452]
[4453]
[4454]
[4455]
[4456]
[4457]
[4458]
[4459]
[4460]
[4461]
[4462]
[4463]
[4464]
[4465]
[4466]
[4467]
[4468]
[4469]
[4470]
[4471]
[4472]
[4473]
[4474]
[4475]
[4476]
[4477]
[4478]
[4479]
[4480]
[4481]
[4482]
[4483]
[4484]
[4485]
[4486]
[4487]
[4488]
[4489]
[4490]
[4491]
[4492]
[4493]
[4494]
[4495]
[4496]
[4497]
[4498]
[4499]
[4500]
[4501]
[{"$f":"ROW(A4502)","v":4502}]
[4503]
[4504]
[4505]
[4506]
[4507]
[4508]
[4509]
[4510]
[4511]
[4512]
[4513]
[4514]
[4515]
[4516]
[4517]
[4518]
[4519]
[4520]
[4521]
[4522]
[4523]
[4524]
[4525]
[4526]
[4527]
[4528]
[4529]
[4530]
[4531]
[4532]
[4533]
[4534]
[4535]
[4536]
[4537]
[4538]
[4539]
[4540]
[4541]
[4542]
[4543]
[4544]
[4545]
[4546]
[4547]
[4548]
[4549]
[4550]
[4551]
[4552]
[4553]
[4554]
[4555]
[4556]
[4557]
[4558]
[4559]
[4560]
[4561]
[4562]
[4563]
[4564]
[4565]
[{"$f":"ROW(A4566)","v":4566}]
[4567]
[4568]
[4569]
[4570]
[4571]
[4572]
[4573]
[4574]
[4575]
[4576]
[4577]
[4578]
[4579]
[4580]
[4581]
[4582]
[4583]
[4584]
[4585]
[4586]
[4587]
[4588]
[4589]
[4590]
[4591]
[4592]
[4593]
[4594]
[4595]
[4596]
[4597]
[4598]
[4599]
[4600]
[4601]
[4602]
[4603]
[4604]
[4605]
[4606]
[4607]
[4608]
[4609]
[4610]
[4611]
[4612]
[4613]
[4614]
[4615]
[4616]
[4617]
[4618]
[4619]
[4620]
[4621]
[4622]
[4623]
[4624]
[4625]
[4626]
[4627]
[4628]
[4629]
[{"$f":"ROW(A4630)","v":4630}]
[4631]
[4632]
[4633]
[4634]
[4635]
[4636]
[4637]
[4638]
[4639]
[4640]
[4641]
[4642]
[4643]
[4644]
[4645]
[4646]
[4647]
[4648]
[4649]
[4650]
[4651]
[4652]
[4653]
[4654]
[4655]
[4656]
[4657]
[4658]
[4659]
[4660]
[4661]
[4662]
[4663]
[4664]
[4665]
[4666]
[4667]
[4668]
[4669]
[4670]
[4671]
[4672]
[4673]
[4674]
[4675]
[4676]
[4677]
[4678]
[4679]
[4680]
[4681]
[4682]
[4683]
[4684]
[4685]
[4686]
[4687]
[4688]
[4689]
[4690]
[4691]
[4692]
[4693]
[{"$f":"ROW(A4694)","v":4694}]
[4695]
[4696]
[4697]
[4698]
[4699]
[4700]
[4701]
[4702]
[4703]
[4704]
[4705]
[4706]
[4707]
[4708]
[4709]
[4710]
[4711]
[4712]
[4713]
[4714]
[4715]
[4716]
[4717]
[4718]
[4719]
[4720]
[4721]
[4722]
[4723]
[4724]
[4725]
[4726]
[4727]
[4728]
[4729]
[4730]
[4731]
[4732]
[4733]
[4734]
[4735]
[4736]
[4737]
[4738]
[4739]
[4740]
[4741]
[4742]
[4743]
[4744]
[4745]
[4746]
[4747]
[4748]
[4749]
[4750]
[4751]
[4752]
[4753]
[4754]
[4755]
[4756]
[4757]
[{"$f":"ROW(A4758)","v":4758}]
[4759]
[4760]
[4761]
[4762]
[4763]
[4764]
[4765]
[4766]
[4767]
[4768]
[4769]
[4770]
[4771]
[4772]
[4773]
[4774]
[4775]
[4776]
[4777]
[4778]
[4779]
[4780]
[4781]
[4782]
[4783]
[4784]
[4785]
[4786]
[4787]
[4788]
[4789]
[4790]
[4791]
[4792]
[4793]
[4794]
[4795]
[4796]
[4797]
[4798]
[4799]
[4800]
[4801]
[4802]
[4803]
[4804]
[4805]
[4806]
[4807]
[4808]
[4809]
[4810]
[4811]
[4812]
[4813]
[4814]
[4815]
[4816]
[4817]
[4818]
[4819]
[4820]
[4821]
[{"$f":"ROW(A4822)","v":4822}]
[4823]
[4824]
[4825]
[4826]
[4827]
[4828]
[4829]
[4830]
[4831]
[4832]
[4833]
[4834]
[4835]
[4836]
[4837]
[4838]
[4839]
[4840]
[4841]
[4842]
[4843]
[4844]
[4845]
[4846]
[4847]
[4848]
[4849]
[4850]
[4851]
[4852]
[4853]
[4854]
[4855]
[4856]
[4857]
[4858]
[4859]
[4860]
[4861]
[4862]
[4863]
[4864]
[4865]
[4866]
[4867]
[4868]
[4869]
[4870]
[4871]
[4872]
[4873]
[4874]
[4875]
[4876]
[4877]
[4878]
[4879]
[4880]
[4881]
[4882]
[4883]
[4884]
[4885]
[{"$f":"ROW(A4886)","v":4886}]
[4887]
[4888]
[4889]
[4890]
[4891]
[4892]
[4893]
[4894]
[4895]
[4896]
[4897]
[4898]
[4899]
[4900]
[4901]
[4902]
[4903]
[4904]
[4905]
[4906]
[4907]
[4908]
[4909]
[4910]
[4911]
[4912]
[4913]
[4914]
[4915]
[4916]
[4917]
[4918]
[4919]
[4920]
[4921]
[4922]
[4923]
[4924]
[4925]
[4926]
[4927]
[4928]
[4929]
[4930]
[4931]
[4932]
[4933]
[4934]
[4935]
[4936]
[4937]
[4938]
[4939]
[4940]
[4941]
[4942]
[4943]
[4944]
[4945]
[4946]
[4947]
[4948]
[4949]
[{"$f":"ROW(A4950)","v":4950}]
[4951]
[4952]
[4953]
[4954]
[4955]
[4956]
[4957]
[4958]
[4959]
[4960]
[4961]
[4962]
[4963]
[4964]
[4965]
[4966]
[4967]
[4968]
[4969]
[4970]
[4971]
[4972]
[4973]
[4974]
[4975]
[4976]
[4977]
[4978]
[4979]
[4980]
[4981]
[4982]
[4983]
[4984]
[4985]
[4986]
[4987]
[4988]
[4989]
[4990]
[4991]
[4992]
[4993]
[4994]
[4995]
[4996]
[4997]
[4998]
[4999]
[5000]

{"sheet":"info","index":4,"n_rows":271,"n_cols":4,"rows_kept":271,"cut":false,"hidden":false,"merged":[]}
[null,null,null,"L I B E R A T O R I A"]
[null,null,null,"Gli Autori dichiarano che il file è privo di virus trojan e quant'altro a carattere distruttivo, "]
[null,null,null,"e declinano ogni responsabilità per il suo uso."]
[null,null,null,"Pertanto l'utilizzatore usa il file a suo rischio e pericolo e premendo il tasto HOMEaccetta, "]
[null,null,null," assumendone la responsabilità, altrimendi rifiuta chiudendo il file con i normali "]
[null,null,null,"sistemi di Office o Window "]
[]
[]
[]
[null,null,null,{"$f":"new!B2","v":"SHIP RADIO STATION"}]
[null,null,null,"LOG DI STAZIONE "]
[]
[null,null,null,"                                                              I S T R U Z I O N I "]
[]
[null,null,null,"PREMESSA: Si raccomanda vivamente di muoversi con gli appositi tasti di navigazione così"]
[null,null,null,"da utilizzare le relative macro (formato, moltiplicatore ecc.) necessarie per il continuo"]
[null,null,null,"aggiornamento del LOG. Pertanto evitate di mostrare le schede appositamente  nascoste."]
[]
[null,null,null,"All'avvio del file excel si aprira sempre alla Home Page anche se si è chiuso su altro foglio."]
[]
[null,null,null,"La prima volta che viene aperto il file, essendo i "]
[null,null,null,"dati stazione vuoti, esce l'avviso che chiede se"]
[null,null,null,"l'operatore è un SWL. Avendo attivo il tasto"]
[null,null,null,"NO premendo invio confermiamo che non siamo"]
[null,null,null," SWL ma OM quindi pronto per i dati stazione."]
[null,null,null,"Invece nel caso di un SWL obbligatoriamente"]
[null,null,null,"bisogna spostarsi sul tasto SI e nella cella"]
[null,null,null,"categoria apparirà la scritta SWL quindi pronto"]
[null,null,null,"per l'inserimento dei dati stazione"]
[]
[]
[null,null,null,"Dati stazione nel caso di un SWL (da inserire il"]
[null,null,null,"nominativo) poi vedi come OM"]
[]
[]
[]
[null,null,null,"Dopo aver stabilito il tipo di stazione, esce "]
[null,null,null,"l'avviso che chiede se si sono lette le informazioni"]
[null,null,null,"Anche qui il tasto attivo è NO per cui confermando"]
[null,null,null,"siete diretti a questo foglio che oltre a contenere"]
[null,null,null,"tutte le istruzioni alla fine trovate la liberatoria per"]
[null,null,null,"gli autori e il tasto HOME per andare avanti con il"]
[null,null,null,"quale accettate l'uso a vostro rischio andando "]
[null,null,null,"avanti per l'inserimento dati stazione. Nel caso"]
[null,null,null,"che si rifiuta il rischio uscire senza toccare il tasto"]
[null,null,null,"Home e chiudere direttamente il file. Scegliendo "]
[null,null,null,"il tasto SI il programma continua regolarmente "]
[null,null,null,"confermando di aver letto le informazioni e fatta"]
[null,null,null,"la scelta della liberatoria."]
[]
[]
[null,null,null,"Nell'inserimento dei dati stazione  si potrà avere:"]
[]
[null,null,null,"1) il nominativo viene trovato nel database insieme al nome dell’operatore per cui di"]
[null,null,null,"fianco uscirà in automatico la registrazione"]
[null,null,null,"all’associazione e il nome nella cella sotto"]
[null,null,null,"mentre nella categoria uscirà NAVAL per cui"]
[null,null,null,"muovendoci con il TAB lasceremo libera"]
[null,null,null," la cella dell’operatore e saremo pronti per la scelta tra i tasti di navigazione"]
[]
[null,null,null,"2) il nominativo si trova nel database ma manca il nome dell’operatore per cui"]
[null,null,null,"leggeremo il numero di registrazione all’associazione al fianco al nominativo e nella"]
[null,null,null,"cella sotto l’avviso che non c’è il nome nel DB"]
[null,null,null,"per cui spostandoci con il TAB ci fermeremo "]
[null,null,null,"nella cella operatore e scriveremo il nome"]
[null,null,null,"mentre nella categoria uscirà NAVAL "]
[null,null,null,"saremo pronti per la scelta tra i tasti di navigazione"]
[]
[null,null,null,"3) il nominativo non viene trovato nel DB allora di fianco e sotto il nominativo non uscirà"]
[null,null,null,"nulla ma nella categoria uscirà Indipendent"]
[null,null,null,"quindi si scriverà il nome dell'operatore"]
[null,null,null,"nell'apposita casella e saremo pronti per la "]
[null,null,null," scelta tra i tasti di navigazione"]
[]
[null,null,null,"Nota: che è inutile preoccuparci se scrivere in maiuscolo o minuscolo poiché in"]
[null,null,null,"qualsiasi maniera si scrive automaticamente sarà tutto trasformato in MAIUSCOLO."]
[]
[null,null,null,"Questo discorso è valido anche per i QSO ( tutto maiuscolo) con la sola eccezione della"]
[null,null,null,"colonna NOTE in cui avremo sempre il primo carattere in maiuscolo e tutto il resto"]
[null,null,null,"minuscolo"]
[]
[null,null,null,"Sono state predisposte alcune caselle dove"]
[null,null,null,"inserire i dati personali dell'operatore, questo per"]
[null,null,null,"dare modo al Manager di contattare subito, tramite"]
[null,null,null,"mail, l'operatore qualora ci fossero problemi con"]
[null,null,null,"il log ricevuto mentre le altre info servono per "]
[null,null,null,"conoscere l'esatto indirizzo dove inviare il diploma"]
[null,null,null,"cartaceo evitando una non sempre fruttuosa e"]
[null,null,null,"valida ricerca su QRZ.In NOTE si potrà indicare il"]
[null,null,null,"telefono, l'avvenuto pagamento ecc.ecc."]
[null,null,null,"Si prega vivamente di riempire queste caselle che"]
[null,null,null,"saranno utilizzati solo per l'invio di mail o diploma"]
[]
[]
[null,null,null,"In basso a sinistra della Home è stato posizionato il calcolo del punteggio"]
[null,null,null,"Si ha la somma parziale che rappresenta la "]
[null,null,null,"somma della colonna punti del LOG relativa ai"]
[null,null,null,"QSO, moltiplicatore che è il numero delle "]
[null,null,null,"stazioni collegate prese in considerazione"]
[null,null,null,"una sola volta, comprese le Jolly, mentre la "]
[null,null,null,"somma totale è somma parziale per moltiplicatore."]
[]
[]
[]
[null,null,null,"questo tasto ci porta al foglio delle informazioni il quale risulta già consultato all'avvio per la"]
[null,null,null,"prima volta del file ma puo' ritornare utile se ci cerca qualche spiegazioni "]
[null,null,null,"."]
[]
[null,null,null,"questo tasto ci porta al regolamento del Diploma"]
[]
[]
[]
[null,null,null,"questo tasto ci porta al Log dove andremo ad inserire tutti i QSO e tutte le volte che apriremo"]
[null,null,null,"il log la cella attiva sarà la prima utile per l'iserimento del qso"]
[]
[null,null,null,"Per velocizzare al massimo l’inserimento del QSO dobbiamo inserire i dati in questo"]
[null,null,null,"modo:"]
[]
[]
[]
[]
[null,null,null,"                                                     nel formato ggmmaaaa"]
[null,null,null,"Non preoccupatevi di inserire le barre (/) poiché queste saranno inserite automaticamente"]
[null,null,null,"alla chiusura del foglio."]
[]
[null,null,null,"NOTA: la data deve essere SEMPRE inserita e non ci dovrà essere mai una cella vuota!!!!"]
[]
[]
[]
[]
[]
[null,null,null,"                                                           nel formato hhmm"]
[null,null,null,"Non preoccupatevi di inserire due punti (:) saranno inseriti automaticamente alla chiusura"]
[null,null,null,"del foglio."]
[]
[]
[]
[]
[null,null,null,"È stata inserita una finestra a discesa per la scelta della banda comprendendo tutte le bande "]
[null,null,null,"HF, secondo il Band Plane IARU. Inserendo a mano mettere solo la banda senza la \"m\"(metri)"]
[]
[]
[]
[null,null,null,"Nella formattazione di queste celle si è tenuto conto dei decimali."]
[]
[]
[]
[null,null,null,"La finestra a discesa contiene i 3 modi stabiliti dal regolamento. CW - SSB - DICI(psk31/rtty)"]
[null,null,null,"ATTENZIONE: inserite sempre il modo perché in base al modo verrà dato il punteggio"]
[]
[]
[]
[null,null,null,"non presenta particolarità."]
[]
[]
[null,null,null,"non presenta particolarità se non come specificato sopra insieme a modo saranno sempre"]
[null,null,null,"in maiuscolo."]
[]
[]
[null,null,null,"mi uscirà automaticamente la sigla e il numero se il call è un Naval altrimenti resterà vuota"]
[]
[]
[null,null,null,"uscirà il punteggio per il QSO quindi terrà conto del MODO del tipo di stazione e di tutti i casi "]
[null,null,null,"previsti dal regolamento."]
[]
[]
[null,null,null,"qui troveremo come già specificato nell'inserimento del nominativo stazione :"]
[null,null,null,"il nome dell'operatore (call e nome nel DB)"]
[null,null,null,"la scritta \"scrivi nome nelle note\"(call nel DB ma manca nome)"]
[null,null,null,"la  scritta \"indipendent\" (non c'è nulla nel  DB)"]
[]
[]
[]
[null,null,null,"inseriremo le eventuali NOTE.La prima lettera della nota sarà maiuscolo il resto tutto "]
[null,null,null,"minuscolo"]
[]
[]
[]
[null,null,null,"questo tasto non solo ci porta alla Home ma ci consente di aggiornare i dati inseriti nel log"]
[null,null,null,"come data e ora nel formato secondo regolamento "]
[]
[null,null,null,"si è provveduto a colorare le celle secondo il giorno dei QSO."]
[null,null,null,"Al variare del giorno varia il colore delle celle in questo modo "]
[null,null,null,"si ha una visione piu' completa e ordinata del Log"]
[null,null,null,"Anche in questo caso le celle si coloreranno quando "]
[null,null,null,"usciremo dal foglio e andremo alla Home"]
[]
[]
[]
[null,null,null,"questo tasto effettua il controllo del log in cerca di duplicati"]
[null,null,null,"vale a dire se erroneamente nello stesso giorno con lo"]
[null,null,null,"stessa modo (cs-ssb-dici) si hanno più di un QSO con lo "]
[null,null,null," stesso nominativo."]
[null,null,null,"Alla richiesta verrà mostrato un avviso che vi dirà cosa fare."]
[null,null,null,"I QSO duplicati saranno indicati tutti in rosso in modo "]
[null,null,null,"da essere subito riconosciuti. Del nominativo duplicato,"]
[null,null,null,"che potranno essere anche più di due, conservarne "]
[null,null,null,"uno solo e cancellare manualmente tutti gli altri"]
[null,null,null,"inserendo al posto del nominativo duplicato il segno trattino "]
[null,null,null,"o meno (-) in modo tale da correggere il punteggio."]
[null,null,null,"Una volta pulito il log dai duplicati si può ripetere subito il "]
[null,null,null,"controllo in modo tale da cambiare il colore dei nominativi "]
[null,null,null,"che non sono più i duplicati e avere il log  in ordine."]
[]
[]
[]
[null,null,null,"questo tasto vi permette di andare a vedere le statistiche"]
[null,null,null,"dei qso mostrando due grafici uno per modi e altro per "]
[null,null,null,"banda"]
[null,null,null,"Il tasto home vi permetterà di ritornare alla HOME  pagina"]
[null,null,null,"principale del programma."]
[]
[]
[]
[]
[]
[]
[null,null,null,"questo tasto ci porta al database dove sono elencati tutti"]
[null,null,null,"i nominativi iscritti alle relative associazioni nonché"]
[null,null,null,"eventuale nome di battesimo vale a dire tutti i NAVAL."]
[null,null,null,"Il database puo' essere solo consultato e per questo"]
[null,null,null,"troviamo due frecce che servono per andare al"]
[null,null,null,"primo nominativo \"freccia su\" o all'ultimo nominativo"]
[null,null,null,"dell'elenco con \"freccia giù\". Leggeremo nella casella"]
[null,null,null,"dedicata la data di aggiornamento del database"]
[null,null,null,"NOTA: Solo il Manager può inserire i nuovi nominativi e"]
[null,null,null,"tenere aggiornato il database attraverso il suo foglio."]
[]
[]
[]
[]
[null,null,null,"Tasto da essere utilizzato solo dal Manager (richiede una password di accesso)"]
[]
[null,null,null,"Inserendo i dati nelle celle grigie automaticamente viene "]
[null,null,null,"preparato il Log per il relativo anno."]
[null,null,null,"I dati qui inseriti permettono l'aggiornamento delle formule"]
[null,null,null,"nonché tutte quelle voci in cui i dati sono riportati come ad "]
[null,null,null,"esempio la Home o nel regolamento. "]
[null,null,null,"ATTENZIONE: il tasto \"PULISCI\" mi permette di pulire"]
[null,null,null,"il log qualora ci siano vecchi QSO. Questo puo' avvenire"]
[null,null,null,"quando si prepara un nuovo Award."]
[]
[]
[]
[]
[]
[null,null,null,"I tasti Aggiorna e Riordina database invece"]
[null,null,null,"permettono l'inserimento e riordino dello stesso"]
[null,null,null,"Una volta inseriti i nuovi nominativi si dovrà uscire e"]
[null,null,null,"rientrare in manager e utilizzare il tasto riordina."]
[null,null,null,"La colonna associazione dovrà avere tutte le celle occupate altrimenti NON riordina!!!"]
[]
[null,null,null,"                                                               NOTE IMPORTANTI"]
[null,null,null,"Dal secondo avvio in poi non usciranno gli avvisi \"sei un QSL\" e \" letto informazioni\" "]
[]
[null,null,null,"L’aggiornamento del database può essere fatto solo dal Manager inserendo i nuovi iscritti "]
[null,null,null,"NAVAL in fondo alla lista del database (freccia in giù) allo stesso modo di tutti gli altri per "]
[null,null,null,"poi aggiornare l'elenco con il relativo tasto e aggiornando la data nella relativa casella "]
[]
[]
[null,null,null,"L I B E R A T O R I A"]
[null,null,null,"Gli Autori dichiarano che il file è privo di virus trojan e quant'altro a carattere distruttivo, "]
[null,null,null,"e declinano ogni responsabilità per il suo uso."]
[null,null,null,"Pertanto l'utilizzatore usa il file a suo rischio e pericolo e premendo il tasto HOMEaccetta, "]
[null,null,null," assumendone la responsabilità, altrimendi rifiuta chiudendo il file con i normali "]
[null,null,null,"sistemi di Office o di Window "]
[]
[]
[]
[]
[null,null,null,"IZ8OGK - IT9MRM (Giugno 2016)"]

{"sheet":"Regol","index":5,"n_rows":110,"n_cols":2,"rows_kept":110,"cut":false,"hidden":false,"merged":[]}
[null,"A.R.M.I. & A.R.I."]
[null,"presentano"]
[null,"REGOLAMENTO"]
[null,"Il  Diploma  A.R.M.I.  denominato  \"ITALIAN  NAVY  SHIP  RADIO  STATIONS\"  è  stato  ideato  per"]
[null,"ricordare le Stazioni Radio Navali della Marina Militare Italiana. Il Diploma è conseguibile da tutti gli OM e SWL del mondo. "]
[null,{"$f":"\"Per il \"& new!K7&\" la stazione Jolly è la stazione radio Nave \"&new!K19","v":"Per il 2016 la stazione Jolly è la stazione radio Nave Fenice "}]
[null,{"$f":"new!J19","v":"II2IAOG"}]
[null,"PERIODO di validità"]
[null,{"$f":"\"Il diploma avrà inizio  \"&new!N28& \" e si concluderà  \"&new!N29","v":"Il diploma avrà inizio  dalle 0001 UTC sabato 10 Settembre e si concluderà  alle 2359 UTC domenica 25 Settembre"}]
[null,"STAZIONI"]
[null,"Saranno attive le seguenti stazioni:"]
[null,"- Stazioni con nominativo speciale in rappresentanza delle Stazioni Costiere della Marina Militare:"]
[null,"(Elenco riportato sul sito dell’ARMI http://www.assoradiomarinai.it)"]
[null,"- Stazioni iscritte all'A.R.M.I.;"]
[null,"- Stazioni iscritte ad altri Naval Clubs;"]
[null,"- Stazioni indipendenti."]
[null,"MODI"]
[null,"Sono consentiti i seguenti modi : CW - SSB – DIGI (PSK31 – RTTY)"]
[null,"BANDE"]
[null,"Tutte le bande HF, secondo il Band Plan IARU"]
[null,"PUNTI QSO"]
[null,"QSOs (HRD) con Navy SHIP Radio Stations valgono 15 punti (tutti i modi);"]
[null,"QSOs (HRD) con A.R.M.I. Club e Naval Clubs Stations valgono 5 punti (CW);"]
[null,"QSOs (HRD) con A.R.M.I. Club e Naval Clubs Stations valgono 3 punti (PSK31 / RTTY);"]
[null,"QSOs (HRD) con A.R.M.I. Club e Naval Clubs Stations valgono 2 punti (SSB);"]
[null,"QSOs (HRD) con INDIPENDENT valgono 1 punto (tutti i modi)"]
[null,{"$f":"\"QSOs (HRD) con la ITALIAN  NAVY  SHIP  RADIO  STATIONS  JOLLY \"&new!J19 &  \" valgono 25 punti (tutti i modi);\"","v":"QSOs (HRD) con la ITALIAN  NAVY  SHIP  RADIO  STATIONS  JOLLY II2IAOG valgono 25 punti (tutti i modi);"}]
[]
[null,"N.B.  :  Tutte  le  stazioni  (stazione  JOLLY,  stazioni  NAVAL,  stazioni  costiere  e  le  stazioni  INDIPENDENT),"]
[null,"possono essere collegate solo una volta al giorno per ogni modalità di emissione (SSB – CW – DIGIMODE) e "]
[null,"le stesse per tutto il periodo della gara. Non saranno presi in considerazione tutti i collegamenti doppi."]
[null,"Esempio:"]
[null,"IT9MRM giorno 10 settembre 2016 14 MHz SSB (vale 2 punti)"]
[null,"IT9MRM giorno 10 settembre 2016 7 MHz CW (vale 5 punti)"]
[null,"IT9MRM giorno 10 settembre 2016 14 MHz PSK-31 (vale 3 punti)"]
[null,"IT9MRM giorno 11 settembre2016 14 MHz SSB (vale 2 punti)"]
[null,"IT9MRM giorno 11 settembre2016 14 MHz PSK-31 (vale 3 punti)"]
[null,"…ecc…."]
[null,"II8IHBC giorno 10 settembre 2016 7 MHz PSK-31 (vale 15 punti)"]
[null,"II8IHBC giorno 10 settembre 2016 14 MHz SSB (vale 15 punti)"]
[null,"II8IHBC giorno 10 settembre 2016 7 MHz CW (vale 15 punti)"]
[null,"II8IHBC giorno 11 settembre2016 7 MHz SSB (vale 15 punti)"]
[null,"II8IHBC giorno 11 settembre2016 14 MHz CW (vale 15 punti)"]
[null,"…ecc…"]
[null,"II2IAOG giorno 10 settembre 2016 14 MHz PSK-31 (vale 25 punti)"]
[null,"II2IAOG giorno 10 settembre 2016 14 MHz SSB (vale 25 punti)"]
[null,"II2IAOG giorno 10 settembre 2016 14 MHz CW (vale 25 punti)"]
[null,"II2IAOG giorno 11 settembre2016 7 MHz SSB (vale 25 punti)"]
[null,"II2IAOG giorno 11 settembre2016 14 MHz CW (vale 25 punti)"]
[null,"…ecc…"]
[null,"MOLTIPLICATORE"]
[null,"per ogni stazione radio navale collegata."]
[null,"Es. Se al termine della gara ho collegato in tutto 5 stazioni costiere diverse, il mio risultato devo moltiplicarlo per 5."]
[null,"PUNTI DIPLOMA"]
[null,"Per ottenere il diploma è necessario un minimo di punti come segue :"]
[null,"Stazioni Italiane :50 punti; "]
[null,"Stazione Europee: 25 punti;"]
[null,"Stazioni extra-Europee: 10 punti;"]
[null,"CHIAMATA"]
[null,"La chiamata sarà come segue :"]
[null,"CW / PSK31-RTTY : CQ CQ DE II2IAOG II2IAOG AWARD IT NAVY SHIP RADIO STATIONS K "]
[null,"SSB : CQ CQ da II2IAOG – CHIAMATA PER IL DIPLOMA DELLE STAZIONI RADIO NAVALI  DELLA MARINA MILITARE ITALIANA – ."]
[]
[null,"RAPPORTI E NUMERI"]
[null,"Le Stazioni Radio Navali passeranno i rapporti RST seguiti dal numero di iscrizione (MI#)."]
[null,"Le stazioni A.R.M.I. passeranno i rapporti RST seguiti dal numero di iscrizione (MI#) "]
[null,"Le stazioni NAVAL (*) passeranno i rapporti RST seguiti dal numero di iscrizione corrispondente al proprio club (MF# - IN# - RN#....)."]
[null,"CATEGORIE"]
[null,"Sono previste tre categorie :"]
[null,"\"NAVAL\" per le stazioni ARMI e gli appartenenti ad altri Naval Club (*)"]
[null,"\"INDIPENDENT\" per tutti gli altri OM"]
[null,"\"SWL"]
[null,"SOTTOCATEGORIE"]
[null,"Sono previste tre sottocategorie: "]
[null,"\"MIXED\" (SSB/CW/PSK31/RTTY) "]
[null,"\"PHONE\" (SSB)"]
[null,"\"MORSE\" (CW)"]
[]
[null,"E’ ammessa la partecipazione solo ad una sottocategoria."]
[null,"PREMI"]
[null,"La stazione che avrà il punteggio più elevato in assoluto, riceverà un premio messo in palio dallo sponsor unico "]
[null,"“PRINTED.IT” Deu Fratelli Bonanno (fornitura di 1000 QSL fronte/retro a colori);"]
[null,"Il punteggio più elevato di ogni Categoria/Sottocategoria riceverà una targa premio;"]
[null,"Per gli SWL è prevista una sola Sottocategoria (MIXED); Per le stazioni costiere, saranno premiati il I°, II° e III° posto con una coppa."]
[null,"I  premi  saranno  rilasciati  per  tutte  le  categorie/sottocategorie,  solo  se  in  classifica  risulteranno  almeno  5 stazioni in concorso."]
[null,"A tutti i partecipati alla gara e se richiesto tramite EnzoLog sarà inviato totalmente gratuito, un “attestato di partecipazione” in formato PDF."]
[]
[null,"RICHIESTE"]
[null,"Il Diploma andrà richiesto all' Award manager :"]
[null,"IT9MRM Alberto Mattei - Via E. Millo, 20 - 96011 Augusta (SR) - Italy -"]
[null,"email: it9mrm@gmail.com"]
[null,"La richiesta dell’award deve avvenire on-line tramite EnzoLog, oppure tradizionalmente via posta, farà fede il log inserito."]
[null,"Il richiedente  per  partecipare  alla  gara,  deve  inviare  un  contributo  di €  10,00  oppure  $ 15,00 (USD). "]
[null,"Questo darà diritto a ricevere l’Award in formato cartaceo (con relativa posizione di classifica, modo di partecipazione e punteggio finale) "]
[null,"ed a concorrere per il premio finale (il contributo deve essere versato al termine della gara e non oltre il termine prefissato)."]
[null,"LOGS"]
[null,"Devono essere in formato ADIF ed inseriti automaticamente tramite il sito web “ENZOLog” (Log on-line) al seguente link http://www.enzolog.org/itnavySHIPradio/"]
[null,"In opzione si accettano anche Logs in formato digitale (files tipo .xls, .doc)."]
[null,"E’ concesso l’uso di Log elettronici diversi, importante è che al termine della gara il file ADIF venga inserito su EnzoLog oppure, farlo pervenire all’Award Manager."]
[null,"Tutti i logs saranno censiti tramite il foglio  elettronico per  la gestione del  diploma, questo sarà  l’unico programma ufficiale per poter stilare la classifica."]
[null,"E’ di massima richiesto a tutti di utilizzare il “Foglio Elettronico per il calcolo del punteggio”, scaricabile da sito web dell’A.R.M.I. (http://www.assoradiomarinai.it)"]
[null,"Tutti  i  log  che  riporteranno  delle  incongruenze,  saranno  esclusi  dalla  classifica  ed  inseriti  nella  lista  dei Control Log."]
[null,"Le  stazioni  italiane  che  lo  desiderano,  potranno  inviare  il  contributo  per  il  Diploma  tramite  le  seguenti modalità:"]
[null,"- via “POSTEPAY” 4023600645946221 intestata a Mattei Alberto (c.f. MTTLRT63L22I535Z);"]
[null,"- via “PAYPAL” al seguente indirizzo it9mrm@gnail,com"]
[null,"- BONIFICO BANCARIO: IBAN IT64E0306984620100000004132 c/o INTESA-S.PAOLO filiale di Augusta."]
[null,"SCADENZA"]
[null,{"$f":"\"Le richieste per il diploma dovranno pervenire non oltre il 30. 11. \"&new!K7","v":"Le richieste per il diploma dovranno pervenire non oltre il 30. 11. 2016"}]
[null,"INFORMAZIONI"]
[null,"Eventuali informazioni in merito alle stazioni partecipanti ed al diploma possono essere prelevate dal sito ufficiale dell’A.R.M.I. http://www.assoradiomarinai.it"]

{"sheet":"new","index":6,"n_rows":37,"n_cols":27,"rows_kept":37,"cut":false,"hidden":true,"merged":[[35,7,35,8],[1,1,1,5],[1,8,3,10],[6,14,6,15],[7,8,10,8],[7,13,7,16],[8,13,8,16],[9,13,9,16],[10,13,10,16],[11,13,11,16],[12,8,15,8],[12,13,12,16],[13,13,13,16],[14,13,14,16],[17,14,17,15],[18,13,18,16],[27,13,27,16],[28,13,28,16],[24,13,24,16],[25,13,25,16],[19,13,19,16],[20,13,20,16],[21,13,21,16],[22,13,22,16],[23,13,23,16],[26,13,26,16]]}
[]
[null,"SHIP RADIO STATION",null,null,null,null,null,null,"Foglio ad uso esclusivo del MANAGER"]
[null,null,null,{"$f":"K7","v":2016}]
[]
[]
[null,null,null,null,null,null,null,null,null,null,null,null,null,null,null,null,null,null,null,null,null,null,null,"ANNO","gg sett.","gg mese","mese"]
[null,null,null,null,null,null,null,null,null,"ANNO",2016,null,null,null,"ISTRUZIONI",null,null,null,null,null,null,null,null,2015,"lunedì",1,"Gennaio"]
[null,null,null,null,null,null,null,null,"INIZIO","Giorno settimana","sabato",null,null,"Inserire i dati solo nelle celle grigie che",null,null,null,null,null,null,null,null,null,2016,"martedì",2,"Febbraio"]
[null,null,null,null,null,null,null,null,null,"Giorno del mese",10,null,null,"verranno automaticamente riportate sia ",null,null,null,null,null,null,null,null,null,2017,"mercoledì",3,"Marzo"]
[null,null,null,null,null,null,null,null,null,"mese","Settembre",null,null,"nella Home page che nelle formule dove",null,null,null,null,null,null,null,null,null,2018,"giovedì",4,"Aprile"]
[null,null,null,null,null,null,null,null,null,"ora (utc)","0001",null,null,"necessitano.",null,null,null,null,null,null,null,null,null,2019,"venerdì",5,"Maggio"]
[null,null,null,null,null,null,null,null,null,null,null,null,null,"Andando nella cella si aprirà la relativa",null,null,null,null,null,null,null,null,null,2020,"sabato",6,"Giugno"]
[null,null,null,null,null,null,null,null,"FINE","Giorno settimana","domenica",null,null,"finestra a discesa in modo da scegliere",null,null,null,null,null,null,null,null,null,2021,"domenica",7,"Luglio"]
[null,null,null,null,null,null,null,null,null,"Giorno del mese",25,null,null,"subito il dato da immettere mentre l'ora",null,null,null,null,null,null,null,null,null,2022,null,8,"Agosto"]
[null,null,null,null,null,null,null,null,null,"mese","Settembre",null,null,"e le stazioni saranno scritte a mano",null,null,null,null,null,null,null,null,null,2023,null,9,"Settembre"]
[null,null,null,null,null,null,null,null,null,"ora (utc)","2359",null,null,null,null,null,null,null,null,null,null,null,null,2024,null,10,"Ottobre"]
[null,null,null,null,null,null,null,null,null,null,null,null,null,null,null,null,null,null,null,null,null,null,null,2025,null,11,"Novembre"]
[null,null,null,null,null,null,null,null,null,"STAZIONE ","UBICAZIONE",null,null,null,{"$f":"IF(LOG!B6<>\"\",\"A V V I S O \",\"\")","v":""},null,null,null,null,null,null,null,null,2026,null,12,"Dicembre"]
[null,null,null,null,null,null,null,null,"JOLLY","II2IAOG","Fenice ",null,null,{"$f":"IF(LOG!B6<>\"\",\"ATTENZIONE: ci sono dei qso nel LOG\",\"\")","v":""},null,null,null,null,null,null,null,null,null,2027,null,13]
[null,null,null,null,null,null,null,null,"1a  ","II0IADC","Corsaro 2",null,null,{"$f":"IF(LOG!B6<>\"\",\"di Stazione pertanto se si stanno\",\"\")","v":""},null,null,null,null,null,null,null,null,null,2028,null,14]
[null,null,null,null,null,null,null,null,"2a","II0IATO","Todaro ",null,null,{"$f":"IF(LOG!B6<>\"\",\"inserendo dati per un nuovo log\",\"\")","v":""},null,null,null,null,null,null,null,null,null,2029,null,15]
[null,null,null,null,null,null,null,null,"3a","II1IAME","Maestrale",null,null,{"$f":"IF(LOG!B6<>\"\",\"provvedere a cancellarli prima di\",\"\")","v":""},null,null,null,null,null,null,null,null,null,2030,null,16]
[null,null,null,null,null,null,null,null,"4a","II5IAFR","Canopo",null,null,{"$f":"IF(LOG!B6<>\"\",\"chiudere il file utilizzando PULISCI\",\"\")","v":""},null,null,null,null,null,null,null,null,null,null,null,17]
[null,null,null,null,null,null,null,null,"5a","II8IHBC","Vesuvio",null,null,null,null,null,null,null,null,null,null,null,null,null,null,18]
[null,null,null,null,null,null,null,null,"6a","II9IABA","Aretusa",null,null,null,null,null,null,null,null,null,null,null,null,null,null,19]
[null,null,null,null,null,null,null,null,"7a","II9IACR","De Cristoforo",null,null,"CONTROLLO DATA",null,null,null,null,null,null,null,null,null,null,null,20]
[null,null,null,null,null,null,null,null,"8a","II9IHPM","Albatros",null,null,null,null,null,null,null,null,null,null,null,null,null,null,21]
[null,null,null,null,null,null,null,null,"9a","II5IHLP","Platano",null,null,{"$f":"\"dalle \"&K11&\" UTC \"&K8&\" \"&K9&\" \"&K10","v":"dalle 0001 UTC sabato 10 Settembre"},null,null,null,null,null,null,null,null,null,null,null,22]
[null,null,null,null,null,null,null,null,"10a",null,null,null,null,{"$f":"\"alle \"&K16&\" UTC \"&K13&\" \"&K14&\" \"&K15","v":"alle 2359 UTC domenica 25 Settembre"},null,null,null,null,null,null,null,null,null,null,null,23]
[null,null,null,null,null,null,null,null,"11a",null,null,null,null,null,null,null,null,null,null,null,null,null,null,null,null,24]
[null,null,null,null,null,null,null,null,"12a",null,null,null,null,null,null,null,null,null,null,null,null,null,null,null,null,25]
[null,null,null,null,null,null,null,null,"13a",null,null,null,null,null,null,null,null,null,null,null,null,null,null,null,null,26]
[null,null,null,null,null,null,null,null,"14a",null,null,null,null,null,null,null,null,null,null,null,null,null,null,null,null,27]
[null,null,null,null,null,null,null,null,"15a",null,null,null,null,null,null,null,null,null,null,null,null,null,null,null,null,28]
[null,null,null,null,null,null,null,null,"16a",null,null,null,null,null,null,null,null,null,null,null,null,null,null,null,null,29]
[null,null,null,null,null,null,null,null,null,null,null,null,null,null,null,null,null,null,null,null,null,null,null,null,null,30]
[null,null,null,null,null,null,null,null,null,null,null,null,null,null,null,null,null,null,null,null,null,null,null,null,null,31]

{"sheet":"immagini","index":7,"n_rows":25,"n_cols":2,"rows_kept":25,"cut":false,"hidden":false,"merged":[]}
[]
[]
[null,1]
[]
[]
[]
[]
[]
[]
[]
[null,1]
[]
[]
[]
[]
[]
[]
[null,2]
[]
[]
[]
[]
[]
[]
[null,3]

{"sheet":"Foglio1","index":8,"n_rows":103,"n_cols":1,"rows_kept":103,"cut":false,"hidden":false,"merged":[]}
["Il Diploma A.R.M.I. denominato “ITALIAN NAVY SHIP RADIO STATIONS” è stato ideato per ricordare le"]
["Stazioni Radio Navali della Marina Militare Italiana dal 1960 ad oggi ed incentivare le radiocomunicazioni"]
["in tutti i modi con tutte le stazioni radioamatoriali. Il Diploma è conseguibile da tutti gli OM e SWL del"]
["mondo. La stazione Jolly per questo evento sarà II0IABH."]
["PERIODO di validità"]
["Il diploma avrà inizio il 12 settembre 2015 (00:00 UTC) e si concluderà il 27 settembre 2015 (24.00"]
["UTC)."]
["STAZIONI"]
["Saranno attive le seguenti stazioni:"]
["- Stazioni con nominativo speciale in rappresentanza delle Stazioni Radio Navali della Marina Militare"]
["- Stazioni iscritte all’A.R.M.I.;"]
["- Stazioni iscritte ad altri Naval Clubs;"]
["- Stazioni indipendenti."]
["MODI"]
["Sono consentiti i seguenti modi : CW - SSB – DIGI ( solo PSK31 – RTTY)"]
["BANDE"]
["Tutte le bande HF, secondo il Band Plan IARU"]
["PUNTI QSO"]
["QSOs (HRD) con la IT Navy Ship Radio Station “JOLLY” valgono 25 punti (tutti i modi);"]
["QSOs (HRD) con IT Navy Ship Radio Stations valgono 15 punti (tutti i modi);"]
["QSOs (HRD) con A.R.M.I. Club e Naval Clubs members valgono 5 punti (CW);"]
["QSOs (HRD) con A.R.M.I. Club e Naval Clubs members valgono 3 punti (PSK31 / RTTY);"]
["QSOs (HRD) con A.R.M.I. Club e Naval Clubs members valgono 2 punti (SSB);"]
["QSOs (HRD) con INDIPENDENT stations valgono 1 punto (SSB-CW-DIGI);"]
["http://www.assoradiomarinai.it"]
["MOLTIPLICATORE"]
["per ogni “Ship Radio Stations” collegata."]
["Es. Se al termine della gara ho collegato in tutto 5 stazioni radio navali diverse, il mio risultato devo"]
["moltiplicarlo per 5."]
["PUNTI DIPLOMA"]
["Per ottenere il diploma è necessario un minimo di punti come segue :"]
["Stazioni Italiane : 30 punti;"]
["Stazione Europee: 20 punti;"]
["Stazioni extra-Europee: 10 punti;"]
["CHIAMATA"]
["La chiamata sarà come segue :"]
["CW / PSK31-RTTY : CQ CQ DE II0IABH II0IABH AWARD IT NAVY SHIP RADIO STATIONS K"]
["SSB : CQ CQ da II0IABH – CHIAMATA PER IL DIPLOMA DELLE STAZIONI RADIO NAVALI DELLA MARINA"]
["MILITARE ITALIANA – ."]
["RAPPORTI E NUMERI"]
["Le Stazioni Radio Navali passeranno i rapporti RST."]
["Le stazioni A.R.M.I. passeranno i rapporti RST seguiti dal numero di iscrizione (MI#)"]
["Le stazioni NAVAL (*) passeranno i rapporti RST seguiti dal numero di iscrizione corrispondente al proprio"]
["club (MF# - IN# - RN#....)."]
["CATEGORIE"]
["Sono previste tre categorie :"]
["“NAVAL” per le stazioni ARMI e gli appartenenti ad altri Naval Club (*)"]
["“INDIPENDENT” per tutti gli altri OM"]
["“SWL”"]
["SOTTOCATEGORIE"]
["Sono previste tre sottocategorie:"]
["“MIXED” (SSB/CW/PSK31/RTTY)"]
["“PHONE” (SSB)"]
["“MORSE” (CW)"]
["PREMI"]
["La stazione che avrà ottenuto il punteggio più elevato in assoluto, indipendentemente che sia un NAVAL"]
["o un INDIPENDENT, riceverà un premio donato dalla ditta “PRINTED.IT” dei Fratelli Bonanno (http://"]
["www.printed.it) (consiste in una stampa gratuita di 1000 QSL fronte retro a colori – il fronte sarà plasti-"]
["ficato lucido);"]
["Il punteggio più elevato di ogni Categoria/Sottocategoria riceverà una coppa premio;"]
["Per gli SWL è prevista una sola Sottocategoria (MIXED);"]
["Per le stazioni “Ship Radio Station”, saranno premiati il I°, II° e III° posto con una coppa."]
["I premi saranno rilasciati per tutte le categorie/sottocategorie, solo se in classifica risulteranno almeno"]
["5 stazioni in concorso."]
["A tutti se richiesto tramite EnzoLog sarà inviato un “attestato di partecipazione” in formato PDF."]
["RICHIESTE"]
["Il Diploma andrà richiesto all’Award manager :"]
["IT9MRM Alberto Mattei - Via E. Millo, 20 - 96011 Augusta (SR) - Italy -"]
["email: it9mrm@gmail.com"]
["La richiesta dell’award deve avvenire on-line tramite EnzoLog, oppure tradizionalmente via posta, farà"]
["fede il log inserito. Il richiedente per partecipare alla gara, deve inviare un contributo di € 10,00 op-"]
["pure $ 15,00 (USD). Questo darà diritto a ricevere l’Award in formato cartaceo (con relativa posizione"]
["di classifica, modo di partecipazione e punteggio finale) ed a concorrere per il premio finale. (Il contributo"]
["deve essere versato al termine della gara)."]
["http://www.assoradiomarinai.it"]
["In opzione si accettano anche Logs in formato digitale (files tipo .xls, .doc)."]
["E’ stato creato un foglio elettronico in Excel denominato ARMISHIPSLOG2015, da scaricare dal sito web"]
["dell’ARMI, questo programma è il foglio elettronico ufficiale per il conteggio dei punti da accreditare."]
["E’ concesso anche l’uso di altri Log elettronici, importante è che al termine della gara il file ADIF venga"]
["inserito su EnzoLog oppure, farlo pervenire all’Award Manager che provvederà ad inserirlo sul log elettro-"]
["nico, per il controllo ed il conteggio dei punti."]
["Sarà cura da parte dell’Award Manager controllare a campione i log e i relativi contatti delle stazioni"]
["partecipanti, se ci saranno delle incongruenze, saranno esclusi dalla classifica ed inseriti nella lista dei"]
["Control Log."]
["E’ obbligatorio indicare per quale sottocategoria si sta partecipando. La partecipazione implica l’uso di"]
["una sola sottocategoria."]
["L’inserimento nella classifica finale sarà solo per la sottocategoria in cui si partecipa."]
["Se viene inviato un log comprensivo di collegamenti in vari modi (SSB/CW/PSK), e non viene indicato su"]
["quale sottocategoria si sta per partecipare, d’ufficio viene inserito nella sottocategoria MIXED. Lo stesso"]
["se viene inviato un log solo nei modi SSB o CW viene inserito nella sottocategoria PHONE o CW."]
["Le stazioni italiane che lo desiderano, potranno inviare il contributo per il Diploma tramite le seguenti"]
["modalità:"]
["- via “POSTEPAY” 4023600645946759 intestata a Mattei Alberto"]
["(c.f. MTTLRT63L22I535Z);"]
["- via “PAYPAL” al seguente indirizzo it9mrm@gmail.com"]
["- BONIFICO BANCARIO: IBAN IT64E0306984620100000004132"]
["c/o INTESA-S.PAOLO filiale di Augusta."]
["SCADENZA"]
["Le richieste per il diploma dovranno pervenire non oltre il 30. 11. 2015."]
["INFORMAZIONI"]
["Eventuali informazioni in merito alle stazioni partecipanti ed al diploma possono essere prelevate dal sito"]
["ufficiale dell’A.R.M.I. http://www.assoradiomarinai.it"]
["http://www.assoradiomarinai.it"]