{"text_format":"1","workbook":"xlsx","n_sheets":4,"sheets":["LOG","database","info","JPG"],"not_rendered":{"charts":0,"images":3,"macros":1,"external_links":0,"defined_names":100,"comments":0,"pivot_tables":0},"unopened":[],"bounds":{"document_bytes":16777216,"sheet_cells":100000,"rows_first":2000,"rows_last":500,"rows_between":2000,"halvings":0,"cell_chars":16384,"cell_head_chars":4096},"cells_cut":0,"cells_raw":0,"read":"whole","date_system":"1900"}

{"sheet":"LOG","index":0,"n_rows":6016,"n_cols":20,"rows_kept":4500,"cut":true,"hidden":false,"merged":[[28,12,28,13],[0,9,0,10],[0,12,0,13],[2,12,2,13],[9,12,9,13],[21,12,21,13],[19,12,19,13],[20,12,20,13],[5,12,5,13],[6,12,6,13],[7,12,7,13],[8,12,8,13],[13,12,13,13],[3,12,4,13],[10,12,10,13],[11,12,11,13],[25,12,25,13],[26,12,26,13],[12,12,12,13],[14,12,14,13],[22,12,22,13],[23,12,23,13],[24,12,24,13],[15,12,15,13],[16,12,16,13],[17,12,17,13],[18,12,18,13]],"bounds":{"rows_first":2000,"rows_last":500,"rows_between":2000,"halvings":0}}
[null,"AWARD REGIA MARINA ",null,null,null,"(AWARD PERMANENTE)",null,null,null,{"$f":"\"Stazioni accreditate n. \"&R1","v":"Stazioni accreditate n. 87"},null,{"$f":"\"TOTALE PUNTI \"&P1","v":"TOTALE PUNTI 0"},{"$f":"IF(M3=\"\",\"Non hai punti x un Diploma\",\"Puoi richiedere il\")","v":"Non hai punti x un Diploma"},null,{"$f":"IF(OR(I1=\"\",K1=\"\",L1=\"\"),0,1)","v":0},{"$f":"SUM(G4:G5996)","v":0},null,{"$f":"COUNT(database!B6:B206)","v":87},{"$f":"IF(ISERROR(VLOOKUP(N6,#REF!,2,FALSE)),\"\",VLOOKUP(N6,#REF!,2,FALSE))","v":""},{"$f":"IF(ISERROR(VLOOKUP(N6,#REF!,4,FALSE)),\"\",VLOOKUP(N6,#REF!,4,FALSE))","v":""}]
[null,"xy",null,"xy","xy"]
["QSO#","CALL","D.O.","DATA","UTC","MODE","PUNTI","BANDA","FREQ.ZA","RST","Nome Operatore","N O T E",{"$f":"IF(P1>=75,\"Top Honour Plaque\",IF(P1>=50,\"Diploma d'Oro\",IF(P1>=25,\"Diploma d'Argento\",IF(P1>=15,\"Diploma di Bronzo\",\"\"))))","v":""},null,null,"PUNTEGGIO",null," STAZIONI ACCREDITATE"]
[{"$f":"IF(B4=\"\",\"\",ROW(A1))","v":""},null,{"$f":"IF(B4=\"\",\"\",IF(ISERROR(VLOOKUP(B4,database!$A$6:$BFQ$206,4,FALSE)),\"\",VLOOKUP(B4,database!$A$6:$BFQ$206,4,FALSE)))","v":""},"","",null,{"$f":"IF(B4=\"\",\"\",IF(C4=\"\",0,1))","v":""},null,"","",{"$f":"IF(B4=\"\",\"\",IF(ISERROR(VLOOKUP(B4,database!$A$6:$BFQ$206,3,FALSE)),\"\",VLOOKUP(B4,database!$A$6:$BFQ$206,3,FALSE)))","v":""},null,"DATI STAZIONE"]
[{"$f":"IF(B5=\"\",\"\",ROW(A2))","v":""},null,{"$f":"IF(B5=\"\",\"\",IF(ISERROR(VLOOKUP(B5,database!$A$6:$BFQ$206,4,FALSE)),\"\",VLOOKUP(B5,database!$A$6:$BFQ$206,4,FALSE)))","v":""},null,null,null,{"$f":"IF(B5=\"\",\"\",IF(C5=\"\",0,1))","v":""},null,null,null,{"$f":"IF(B5=\"\",\"\",IF(ISERROR(VLOOKUP(B5,database!$A$6:$BFQ$206,3,FALSE)),\"\",VLOOKUP(B5,database!$A$6:$BFQ$206,3,FALSE)))","v":""},null,null,null,"SSB"]
["",null,{"$f":"IF(B6=\"\",\"\",IF(ISERROR(VLOOKUP(B6,database!$A$6:$BFQ$206,4,FALSE)),\"\",VLOOKUP(B6,database!$A$6:$BFQ$206,4,FALSE)))","v":""},null,null,null,"",null,null,null,{"$f":"IF(B6=\"\",\"\",IF(ISERROR(VLOOKUP(B6,database!$A$6:$BFQ$206,3,FALSE)),\"\",VLOOKUP(B6,database!$A$6:$BFQ$206,3,FALSE)))","v":""},null,"Nominativo",null,"DIGI"]
["",null,{"$f":"IF(B7=\"\",\"\",IF(ISERROR(VLOOKUP(B7,database!$A$6:$BFQ$206,4,FALSE)),\"\",VLOOKUP(B7,database!$A$6:$BFQ$206,4,FALSE)))","v":""},null,null,null,"",null,null,null,{"$f":"IF(B7=\"\",\"\",IF(ISERROR(VLOOKUP(B7,database!$A$6:$BFQ$206,3,FALSE)),\"\",VLOOKUP(B7,database!$A$6:$BFQ$206,3,FALSE)))","v":""},null,null,null,"CW"]
["",null,{"$f":"IF(B8=\"\",\"\",IF(ISERROR(VLOOKUP(B8,database!$A$6:$BFQ$206,4,FALSE)),\"\",VLOOKUP(B8,database!$A$6:$BFQ$206,4,FALSE)))","v":""},null,null,null,"",null,null,null,{"$f":"IF(B8=\"\",\"\",IF(ISERROR(VLOOKUP(B8,database!$A$6:$BFQ$206,3,FALSE)),\"\",VLOOKUP(B8,database!$A$6:$BFQ$206,3,FALSE)))","v":""},null,"Operatore"]
["",null,{"$f":"IF(B9=\"\",\"\",IF(ISERROR(VLOOKUP(B9,database!$A$6:$BFQ$206,4,FALSE)),\"\",VLOOKUP(B9,database!$A$6:$BFQ$206,4,FALSE)))","v":""},null,null,null,"",null,null,null,{"$f":"IF(B9=\"\",\"\",IF(ISERROR(VLOOKUP(B9,database!$A$6:$BFQ$206,3,FALSE)),\"\",VLOOKUP(B9,database!$A$6:$BFQ$206,3,FALSE)))","v":""}]
["",null,{"$f":"IF(B10=\"\",\"\",IF(ISERROR(VLOOKUP(B10,database!$A$6:$BFQ$206,4,FALSE)),\"\",VLOOKUP(B10,database!$A$6:$BFQ$206,4,FALSE)))","v":""},null,null,null,"",null,null,null,{"$f":"IF(B10=\"\",\"\",IF(ISERROR(VLOOKUP(B10,database!$A$6:$BFQ$206,3,FALSE)),\"\",VLOOKUP(B10,database!$A$6:$BFQ$206,3,FALSE)))","v":""}]
["",null,{"$f":"IF(B11=\"\",\"\",IF(ISERROR(VLOOKUP(B11,database!$A$6:$BFQ$206,4,FALSE)),\"\",VLOOKUP(B11,database!$A$6:$BFQ$206,4,FALSE)))","v":""},null,null,null,"",null,null,null,{"$f":"IF(B11=\"\",\"\",IF(ISERROR(VLOOKUP(B11,database!$A$6:$BFQ$206,3,FALSE)),\"\",VLOOKUP(B11,database!$A$6:$BFQ$206,3,FALSE)))","v":""},null,"Indirizzo e-mail",null,{"$f":"COUNTIF($F$4:$F$5996,O5)","v":0},null,{"$f":"COUNTIF($R$4:$R$5996,P11)","v":0}]
["",null,{"$f":"IF(B12=\"\",\"\",IF(ISERROR(VLOOKUP(B12,database!$A$6:$BFQ$206,4,FALSE)),\"\",VLOOKUP(B12,database!$A$6:$BFQ$206,4,FALSE)))","v":""},null,null,null,"",null,null,null,{"$f":"IF(B12=\"\",\"\",IF(ISERROR(VLOOKUP(B12,database!$A$6:$BFQ$206,3,FALSE)),\"\",VLOOKUP(B12,database!$A$6:$BFQ$206,3,FALSE)))","v":""},null,null,null,{"$f":"COUNTIF($F$4:$F$5996,O6)","v":0},null,{"$f":"COUNTIF($R$4:$R$5996,P12)","v":0}]
["",null,{"$f":"IF(B13=\"\",\"\",IF(ISERROR(VLOOKUP(B13,database!$A$6:$BFQ$206,4,FALSE)),\"\",VLOOKUP(B13,database!$A$6:$BFQ$206,4,FALSE)))","v":""},null,null,null,"",null,null,null,{"$f":"IF(B13=\"\",\"\",IF(ISERROR(VLOOKUP(B13,database!$A$6:$BFQ$206,3,FALSE)),\"\",VLOOKUP(B13,database!$A$6:$BFQ$206,3,FALSE)))","v":""},null,"inviare TOP HONOUR PLAQUE a",null,{"$f":"COUNTIF($F$4:$F$5996,O7)","v":0},"ARMI",{"$f":"COUNTIF($R$4:$R$5996,P13)","v":0}]
["",null,{"$f":"IF(B14=\"\",\"\",IF(ISERROR(VLOOKUP(B14,database!$A$6:$BFQ$206,4,FALSE)),\"\",VLOOKUP(B14,database!$A$6:$BFQ$206,4,FALSE)))","v":""},null,null,null,"",null,null,null,{"$f":"IF(B14=\"\",\"\",IF(ISERROR(VLOOKUP(B14,database!$A$6:$BFQ$206,3,FALSE)),\"\",VLOOKUP(B14,database!$A$6:$BFQ$206,3,FALSE)))","v":""},null,null,null,{"$f":"COUNTIF($F$4:$F$5996,O8)","v":0},"SWL",{"$f":"COUNTIF($R$4:$R$5996,P14)","v":0}]
["",null,{"$f":"IF(B15=\"\",\"\",IF(ISERROR(VLOOKUP(B15,database!$A$6:$BFQ$206,4,FALSE)),\"\",VLOOKUP(B15,database!$A$6:$BFQ$206,4,FALSE)))","v":""},null,null,null,"",null,null,null,{"$f":"IF(B15=\"\",\"\",IF(ISERROR(VLOOKUP(B15,database!$A$6:$BFQ$206,3,FALSE)),\"\",VLOOKUP(B15,database!$A$6:$BFQ$206,3,FALSE)))","v":""},null,null,null,null,"INDIPENDENTE"]
["",null,{"$f":"IF(B16=\"\",\"\",IF(ISERROR(VLOOKUP(B16,database!$A$6:$BFQ$206,4,FALSE)),\"\",VLOOKUP(B16,database!$A$6:$BFQ$206,4,FALSE)))","v":""},null,null,null,"",null,null,null,{"$f":"IF(B16=\"\",\"\",IF(ISERROR(VLOOKUP(B16,database!$A$6:$BFQ$206,3,FALSE)),\"\",VLOOKUP(B16,database!$A$6:$BFQ$206,3,FALSE)))","v":""},null,null,null,160]
["",null,{"$f":"IF(B17=\"\",\"\",IF(ISERROR(VLOOKUP(B17,database!$A$6:$BFQ$206,4,FALSE)),\"\",VLOOKUP(B17,database!$A$6:$BFQ$206,4,FALSE)))","v":""},null,null,null,"",null,null,null,{"$f":"IF(B17=\"\",\"\",IF(ISERROR(VLOOKUP(B17,database!$A$6:$BFQ$206,3,FALSE)),\"\",VLOOKUP(B17,database!$A$6:$BFQ$206,3,FALSE)))","v":""},null,null,null,80]
["",null,{"$f":"IF(B18=\"\",\"\",IF(ISERROR(VLOOKUP(B18,database!$A$6:$BFQ$206,4,FALSE)),\"\",VLOOKUP(B18,database!$A$6:$BFQ$206,4,FALSE)))","v":""},null,null,null,"",null,null,null,{"$f":"IF(B18=\"\",\"\",IF(ISERROR(VLOOKUP(B18,database!$A$6:$BFQ$206,3,FALSE)),\"\",VLOOKUP(B18,database!$A$6:$BFQ$206,3,FALSE)))","v":""},null,null,null,40]
["",null,{"$f":"IF(B19=\"\",\"\",IF(ISERROR(VLOOKUP(B19,database!$A$6:$BFQ$206,4,FALSE)),\"\",VLOOKUP(B19,database!$A$6:$BFQ$206,4,FALSE)))","v":""},null,null,null,"",null,null,null,{"$f":"IF(B19=\"\",\"\",IF(ISERROR(VLOOKUP(B19,database!$A$6:$BFQ$206,3,FALSE)),\"\",VLOOKUP(B19,database!$A$6:$BFQ$206,3,FALSE)))","v":""},null,null,null,30]
["",null,{"$f":"IF(B20=\"\",\"\",IF(ISERROR(VLOOKUP(B20,database!$A$6:$BFQ$206,4,FALSE)),\"\",VLOOKUP(B20,database!$A$6:$BFQ$206,4,FALSE)))","v":""},null,null,null,"",null,null,null,{"$f":"IF(B20=\"\",\"\",IF(ISERROR(VLOOKUP(B20,database!$A$6:$BFQ$206,3,FALSE)),\"\",VLOOKUP(B20,database!$A$6:$BFQ$206,3,FALSE)))","v":""},null,null,null,20]
["",null,{"$f":"IF(B21=\"\",\"\",IF(ISERROR(VLOOKUP(B21,database!$A$6:$BFQ$206,4,FALSE)),\"\",VLOOKUP(B21,database!$A$6:$BFQ$206,4,FALSE)))","v":""},null,null,null,"",null,null,null,{"$f":"IF(B21=\"\",\"\",IF(ISERROR(VLOOKUP(B21,database!$A$6:$BFQ$206,3,FALSE)),\"\",VLOOKUP(B21,database!$A$6:$BFQ$206,3,FALSE)))","v":""},null,null,null,17]
["",null,{"$f":"IF(B22=\"\",\"\",IF(ISERROR(VLOOKUP(B22,database!$A$6:$BFQ$206,4,FALSE)),\"\",VLOOKUP(B22,database!$A$6:$BFQ$206,4,FALSE)))","v":""},null,null,null,"",null,null,null,{"$f":"IF(B22=\"\",\"\",IF(ISERROR(VLOOKUP(B22,database!$A$6:$BFQ$206,3,FALSE)),\"\",VLOOKUP(B22,database!$A$6:$BFQ$206,3,FALSE)))","v":""},null,"Tasti blocco e sblocca celle",null,15]
["",null,{"$f":"IF(B23=\"\",\"\",IF(ISERROR(VLOOKUP(B23,database!$A$6:$BFQ$206,4,FALSE)),\"\",VLOOKUP(B23,database!$A$6:$BFQ$206,4,FALSE)))","v":""},null,null,null,"",null,null,null,{"$f":"IF(B23=\"\",\"\",IF(ISERROR(VLOOKUP(B23,database!$A$6:$BFQ$206,3,FALSE)),\"\",VLOOKUP(B23,database!$A$6:$BFQ$206,3,FALSE)))","v":""},null,"(DATA-MODE-BANDA-FREQ.ZA)",null,12]
["",null,{"$f":"IF(B24=\"\",\"\",IF(ISERROR(VLOOKUP(B24,database!$A$6:$BFQ$206,4,FALSE)),\"\",VLOOKUP(B24,database!$A$6:$BFQ$206,4,FALSE)))","v":""},null,null,null,"",null,null,null,{"$f":"IF(B24=\"\",\"\",IF(ISERROR(VLOOKUP(B24,database!$A$6:$BFQ$206,3,FALSE)),\"\",VLOOKUP(B24,database!$A$6:$BFQ$206,3,FALSE)))","v":""},null,null,null,10]
["",null,{"$f":"IF(B25=\"\",\"\",IF(ISERROR(VLOOKUP(B25,database!$A$6:$BFQ$206,4,FALSE)),\"\",VLOOKUP(B25,database!$A$6:$BFQ$206,4,FALSE)))","v":""},null,null,null,"",null,null,null,{"$f":"IF(B25=\"\",\"\",IF(ISERROR(VLOOKUP(B25,database!$A$6:$BFQ$206,3,FALSE)),\"\",VLOOKUP(B25,database!$A$6:$BFQ$206,3,FALSE)))","v":""}]
["",null,{"$f":"IF(B26=\"\",\"\",IF(ISERROR(VLOOKUP(B26,database!$A$6:$BFQ$206,4,FALSE)),\"\",VLOOKUP(B26,database!$A$6:$BFQ$206,4,FALSE)))","v":""},null,null,null,"",null,null,null,{"$f":"IF(B26=\"\",\"\",IF(ISERROR(VLOOKUP(B26,database!$A$6:$BFQ$206,3,FALSE)),\"\",VLOOKUP(B26,database!$A$6:$BFQ$206,3,FALSE)))","v":""},null,null,null,null,"MIXED (ssb/digi/cw)"]
["",null,{"$f":"IF(B27=\"\",\"\",IF(ISERROR(VLOOKUP(B27,database!$A$6:$BFQ$206,4,FALSE)),\"\",VLOOKUP(B27,database!$A$6:$BFQ$206,4,FALSE)))","v":""},null,null,null,"",null,null,null,{"$f":"IF(B27=\"\",\"\",IF(ISERROR(VLOOKUP(B27,database!$A$6:$BFQ$206,3,FALSE)),\"\",VLOOKUP(B27,database!$A$6:$BFQ$206,3,FALSE)))","v":""},null,null,null,null,"PHONE (ssb)"]
["",null,{"$f":"IF(B28=\"\",\"\",IF(ISERROR(VLOOKUP(B28,database!$A$6:$BFQ$206,4,FALSE)),\"\",VLOOKUP(B28,database!$A$6:$BFQ$206,4,FALSE)))","v":""},null,null,null,"",null,null,null,{"$f":"IF(B28=\"\",\"\",IF(ISERROR(VLOOKUP(B28,database!$A$6:$BFQ$206,3,FALSE)),\"\",VLOOKUP(B28,database!$A$6:$BFQ$206,3,FALSE)))","v":""},null,null,null,null,"MORSE (cw)"]
["",null,{"$f":"IF(B29=\"\",\"\",IF(ISERROR(VLOOKUP(B29,database!$A$6:$BFQ$206,4,FALSE)),\"\",VLOOKUP(B29,database!$A$6:$BFQ$206,4,FALSE)))","v":""},null,null,null,"",null,null,null,{"$f":"IF(B29=\"\",\"\",IF(ISERROR(VLOOKUP(B29,database!$A$6:$BFQ$206,3,FALSE)),\"\",VLOOKUP(B29,database!$A$6:$BFQ$206,3,FALSE)))","v":""},null,"Free software by IZ8OGK",null,null,"DIGI"]
["",null,{"$f":"IF(B30=\"\",\"\",IF(ISERROR(VLOOKUP(B30,database!$A$6:$BFQ$206,4,FALSE)),\"\",VLOOKUP(B30,database!$A$6:$BFQ$206,4,FALSE)))","v":""},null,null,null,"",null,null,null,{"$f":"IF(B30=\"\",\"\",IF(ISERROR(VLOOKUP(B30,database!$A$6:$BFQ$206,3,FALSE)),\"\",VLOOKUP(B30,database!$A$6:$BFQ$206,3,FALSE)))","v":""},null,"sviluppato su licenza GNU GPL vedi:",null,null,"SWL"]
["",null,{"$f":"IF(B31=\"\",\"\",IF(ISERROR(VLOOKUP(B31,database!$A$6:$BFQ$206,4,FALSE)),\"\",VLOOKUP(B31,database!$A$6:$BFQ$206,4,FALSE)))","v":""},null,null,null,"",null,null,null,{"$f":"IF(B31=\"\",\"\",IF(ISERROR(VLOOKUP(B31,database!$A$6:$BFQ$206,3,FALSE)),\"\",VLOOKUP(B31,database!$A$6:$BFQ$206,3,FALSE)))","v":""}]
["",null,{"$f":"IF(B32=\"\",\"\",IF(ISERROR(VLOOKUP(B32,database!$A$6:$BFQ$206,4,FALSE)),\"\",VLOOKUP(B32,database!$A$6:$BFQ$206,4,FALSE)))","v":""},null,null,null,"",null,null,null,{"$f":"IF(B32=\"\",\"\",IF(ISERROR(VLOOKUP(B32,database!$A$6:$BFQ$206,3,FALSE)),\"\",VLOOKUP(B32,database!$A$6:$BFQ$206,3,FALSE)))","v":""}]
["",null,{"$f":"IF(B33=\"\",\"\",IF(ISERROR(VLOOKUP(B33,database!$A$6:$BFQ$206,4,FALSE)),\"\",VLOOKUP(B33,database!$A$6:$BFQ$206,4,FALSE)))","v":""},null,null,null,"",null,null,null,{"$f":"IF(B33=\"\",\"\",IF(ISERROR(VLOOKUP(B33,database!$A$6:$BFQ$206,3,FALSE)),\"\",VLOOKUP(B33,database!$A$6:$BFQ$206,3,FALSE)))","v":""},null,"quando richiesta password = regia"]
["",null,{"$f":"IF(B34=\"\",\"\",IF(ISERROR(VLOOKUP(B34,database!$A$6:$BFQ$206,4,FALSE)),\"\",VLOOKUP(B34,database!$A$6:$BFQ$206,4,FALSE)))","v":""},null,null,null,"",null,null,null,{"$f":"IF(B34=\"\",\"\",IF(ISERROR(VLOOKUP(B34,database!$A$6:$BFQ$206,3,FALSE)),\"\",VLOOKUP(B34,database!$A$6:$BFQ$206,3,FALSE)))","v":""}]
["",null,{"$f":"IF(B35=\"\",\"\",IF(ISERROR(VLOOKUP(B35,database!$A$6:$BFQ$206,4,FALSE)),\"\",VLOOKUP(B35,database!$A$6:$BFQ$206,4,FALSE)))","v":""},null,null,null,"",null,null,null,{"$f":"IF(B35=\"\",\"\",IF(ISERROR(VLOOKUP(B35,database!$A$6:$BFQ$206,3,FALSE)),\"\",VLOOKUP(B35,database!$A$6:$BFQ$206,3,FALSE)))","v":""}]
["",null,{"$f":"IF(B36=\"\",\"\",IF(ISERROR(VLOOKUP(B36,database!$A$6:$BFQ$206,4,FALSE)),\"\",VLOOKUP(B36,database!$A$6:$BFQ$206,4,FALSE)))","v":""},null,null,null,"",null,null,null,{"$f":"IF(B36=\"\",\"\",IF(ISERROR(VLOOKUP(B36,database!$A$6:$BFQ$206,3,FALSE)),\"\",VLOOKUP(B36,database!$A$6:$BFQ$206,3,FALSE)))","v":""}]
["",null,{"$f":"IF(B37=\"\",\"\",IF(ISERROR(VLOOKUP(B37,database!$A$6:$BFQ$206,4,FALSE)),\"\",VLOOKUP(B37,database!$A$6:$BFQ$206,4,FALSE)))","v":""},null,null,null,"",null,null,null,{"$f":"IF(B37=\"\",\"\",IF(ISERROR(VLOOKUP(B37,database!$A$6:$BFQ$206,3,FALSE)),\"\",VLOOKUP(B37,database!$A$6:$BFQ$206,3,FALSE)))","v":""}]
["",null,{"$f":"IF(B38=\"\",\"\",IF(ISERROR(VLOOKUP(B38,database!$A$6:$BFQ$206,4,FALSE)),\"\",VLOOKUP(B38,database!$A$6:$BFQ$206,4,FALSE)))","v":""},null,null,null,"",null,null,null,{"$f":"IF(B38=\"\",\"\",IF(ISERROR(VLOOKUP(B38,database!$A$6:$BFQ$206,3,FALSE)),\"\",VLOOKUP(B38,database!$A$6:$BFQ$206,3,FALSE)))","v":""}]
["",null,{"$f":"IF(B39=\"\",\"\",IF(ISERROR(VLOOKUP(B39,database!$A$6:$BFQ$206,4,FALSE)),\"\",VLOOKUP(B39,database!$A$6:$BFQ$206,4,FALSE)))","v":""},null,null,null,"",null,null,null,{"$f":"IF(B39=\"\",\"\",IF(ISERROR(VLOOKUP(B39,database!$A$6:$BFQ$206,3,FALSE)),\"\",VLOOKUP(B39,database!$A$6:$BFQ$206,3,FALSE)))","v":""}]
["",null,{"$f":"IF(B40=\"\",\"\",IF(ISERROR(VLOOKUP(B40,database!$A$6:$BFQ$206,4,FALSE)),\"\",VLOOKUP(B40,database!$A$6:$BFQ$206,4,FALSE)))","v":""},null,null,null,"",null,null,null,{"$f":"IF(B40=\"\",\"\",IF(ISERROR(VLOOKUP(B40,database!$A$6:$BFQ$206,3,FALSE)),\"\",VLOOKUP(B40,database!$A$6:$BFQ$206,3,FALSE)))","v":""}]
["",null,{"$f":"IF(B41=\"\",\"\",IF(ISERROR(VLOOKUP(B41,database!$A$6:$BFQ$206,4,FALSE)),\"\",VLOOKUP(B41,database!$A$6:$BFQ$206,4,FALSE)))","v":""},null,null,null,"",null,null,null,{"$f":"IF(B41=\"\",\"\",IF(ISERROR(VLOOKUP(B41,database!$A$6:$BFQ$206,3,FALSE)),\"\",VLOOKUP(B41,database!$A$6:$BFQ$206,3,FALSE)))","v":""}]
["",null,{"$f":"IF(B42=\"\",\"\",IF(ISERROR(VLOOKUP(B42,database!$A$6:$BFQ$206,4,FALSE)),\"\",VLOOKUP(B42,database!$A$6:$BFQ$206,4,FALSE)))","v":""},null,null,null,"",null,null,null,{"$f":"IF(B42=\"\",\"\",IF(ISERROR(VLOOKUP(B42,database!$A$6:$BFQ$206,3,FALSE)),\"\",VLOOKUP(B42,database!$A$6:$BFQ$206,3,FALSE)))","v":""}]
["",null,{"$f":"IF(B43=\"\",\"\",IF(ISERROR(VLOOKUP(B43,database!$A$6:$BFQ$206,4,FALSE)),\"\",VLOOKUP(B43,database!$A$6:$BFQ$206,4,FALSE)))","v":""},null,null,null,"",null,null,null,{"$f":"IF(B43=\"\",\"\",IF(ISERROR(VLOOKUP(B43,database!$A$6:$BFQ$206,3,FALSE)),\"\",VLOOKUP(B43,database!$A$6:$BFQ$206,3,FALSE)))","v":""}]
["",null,{"$f":"IF(B44=\"\",\"\",IF(ISERROR(VLOOKUP(B44,database!$A$6:$BFQ$206,4,FALSE)),\"\",VLOOKUP(B44,database!$A$6:$BFQ$206,4,FALSE)))","v":""},null,null,null,"",null,null,null,{"$f":"IF(B44=\"\",\"\",IF(ISERROR(VLOOKUP(B44,database!$A$6:$BFQ$206,3,FALSE)),\"\",VLOOKUP(B44,database!$A$6:$BFQ$206,3,FALSE)))","v":""}]
["",null,{"$f":"IF(B45=\"\",\"\",IF(ISERROR(VLOOKUP(B45,database!$A$6:$BFQ$206,4,FALSE)),\"\",VLOOKUP(B45,database!$A$6:$BFQ$206,4,FALSE)))","v":""},null,null,null,"",null,null,null,{"$f":"IF(B45=\"\",\"\",IF(ISERROR(VLOOKUP(B45,database!$A$6:$BFQ$206,3,FALSE)),\"\",VLOOKUP(B45,database!$A$6:$BFQ$206,3,FALSE)))","v":""}]
["",null,{"$f":"IF(B46=\"\",\"\",IF(ISERROR(VLOOKUP(B46,database!$A$6:$BFQ$206,4,FALSE)),\"\",VLOOKUP(B46,database!$A$6:$BFQ$206,4,FALSE)))","v":""},null,null,null,"",null,null,null,{"$f":"IF(B46=\"\",\"\",IF(ISERROR(VLOOKUP(B46,database!$A$6:$BFQ$206,3,FALSE)),\"\",VLOOKUP(B46,database!$A$6:$BFQ$206,3,FALSE)))","v":""}]
["",null,{"$f":"IF(B47=\"\",\"\",IF(ISERROR(VLOOKUP(B47,database!$A$6:$BFQ$206,4,FALSE)),\"\",VLOOKUP(B47,database!$A$6:$BFQ$206,4,FALSE)))","v":""},null,null,null,"",null,null,null,{"$f":"IF(B47=\"\",\"\",IF(ISERROR(VLOOKUP(B47,database!$A$6:$BFQ$206,3,FALSE)),\"\",VLOOKUP(B47,database!$A$6:$BFQ$206,3,FALSE)))","v":""}]
["",null,{"$f":"IF(B48=\"\",\"\",IF(ISERROR(VLOOKUP(B48,database!$A$6:$BFQ$206,4,FALSE)),\"\",VLOOKUP(B48,database!$A$6:$BFQ$206,4,FALSE)))","v":""},null,null,null,"",null,null,null,{"$f":"IF(B48=\"\",\"\",IF(ISERROR(VLOOKUP(B48,database!$A$6:$BFQ$206,3,FALSE)),\"\",VLOOKUP(B48,database!$A$6:$BFQ$206,3,FALSE)))","v":""}]
["",null,{"$f":"IF(B49=\"\",\"\",IF(ISERROR(VLOOKUP(B49,database!$A$6:$BFQ$206,4,FALSE)),\"\",VLOOKUP(B49,database!$A$6:$BFQ$206,4,FALSE)))","v":""},null,null,null,"",null,null,null,{"$f":"IF(B49=\"\",\"\",IF(ISERROR(VLOOKUP(B49,database!$A$6:$BFQ$206,3,FALSE)),\"\",VLOOKUP(B49,database!$A$6:$BFQ$206,3,FALSE)))","v":""}]
["",null,{"$f":"IF(B50=\"\",\"\",IF(ISERROR(VLOOKUP(B50,database!$A$6:$BFQ$206,4,FALSE)),\"\",VLOOKUP(B50,database!$A$6:$BFQ$206,4,FALSE)))","v":""},null,null,null,"",null,null,null,{"$f":"IF(B50=\"\",\"\",IF(ISERROR(VLOOKUP(B50,database!$A$6:$BFQ$206,3,FALSE)),\"\",VLOOKUP(B50,database!$A$6:$BFQ$206,3,FALSE)))","v":""}]
["",null,{"$f":"IF(B51=\"\",\"\",IF(ISERROR(VLOOKUP(B51,database!$A$6:$BFQ$206,4,FALSE)),\"\",VLOOKUP(B51,database!$A$6:$BFQ$206,4,FALSE)))","v":""},null,null,null,"",null,null,null,{"$f":"IF(B51=\"\",\"\",IF(ISERROR(VLOOKUP(B51,database!$A$6:$BFQ$206,3,FALSE)),\"\",VLOOKUP(B51,database!$A$6:$BFQ$206,3,FALSE)))","v":""}]
["",null,{"$f":"IF(B52=\"\",\"\",IF(ISERROR(VLOOKUP(B52,database!$A$6:$BFQ$206,4,FALSE)),\"\",VLOOKUP(B52,database!$A$6:$BFQ$206,4,FALSE)))","v":""},null,null,null,"",null,"",null,{"$f":"IF(B52=\"\",\"\",IF(ISERROR(VLOOKUP(B52,database!$A$6:$BFQ$206,3,FALSE)),\"\",VLOOKUP(B52,database!$A$6:$BFQ$206,3,FALSE)))","v":""}]
["",null,{"$f":"IF(B53=\"\",\"\",IF(ISERROR(VLOOKUP(B53,database!$A$6:$BFQ$206,4,FALSE)),\"\",VLOOKUP(B53,database!$A$6:$BFQ$206,4,FALSE)))","v":""},null,null,null,"",null,null,null,{"$f":"IF(B53=\"\",\"\",IF(ISERROR(VLOOKUP(B53,database!$A$6:$BFQ$206,3,FALSE)),\"\",VLOOKUP(B53,database!$A$6:$BFQ$206,3,FALSE)))","v":""}]
["",null,{"$f":"IF(B54=\"\",\"\",IF(ISERROR(VLOOKUP(B54,database!$A$6:$BFQ$206,4,FALSE)),\"\",VLOOKUP(B54,database!$A$6:$BFQ$206,4,FALSE)))","v":""},null,null,null,"",null,"",null,{"$f":"IF(B54=\"\",\"\",IF(ISERROR(VLOOKUP(B54,database!$A$6:$BFQ$206,3,FALSE)),\"\",VLOOKUP(B54,database!$A$6:$BFQ$206,3,FALSE)))","v":""}]
["",null,{"$f":"IF(B55=\"\",\"\",IF(ISERROR(VLOOKUP(B55,database!$A$6:$BFQ$206,4,FALSE)),\"\",VLOOKUP(B55,database!$A$6:$BFQ$206,4,FALSE)))","v":""},null,null,null,"",null,null,null,{"$f":"IF(B55=\"\",\"\",IF(ISERROR(VLOOKUP(B55,database!$A$6:$BFQ$206,3,FALSE)),\"\",VLOOKUP(B55,database!$A$6:$BFQ$206,3,FALSE)))","v":""}]
["",null,{"$f":"IF(B56=\"\",\"\",IF(ISERROR(VLOOKUP(B56,database!$A$6:$BFQ$206,4,FALSE)),\"\",VLOOKUP(B56,database!$A$6:$BFQ$206,4,FALSE)))","v":""},null,null,null,"",null,null,null,{"$f":"IF(B56=\"\",\"\",IF(ISERROR(VLOOKUP(B56,database!$A$6:$BFQ$206,3,FALSE)),\"\",VLOOKUP(B56,database!$A$6:$BFQ$206,3,FALSE)))","v":""}]
["",null,{"$f":"IF(B57=\"\",\"\",IF(ISERROR(VLOOKUP(B57,database!$A$6:$BFQ$206,4,FALSE)),\"\",VLOOKUP(B57,database!$A$6:$BFQ$206,4,FALSE)))","v":""},null,null,null,"",null,null,null,{"$f":"IF(B57=\"\",\"\",IF(ISERROR(VLOOKUP(B57,database!$A$6:$BFQ$206,3,FALSE)),\"\",VLOOKUP(B57,database!$A$6:$BFQ$206,3,FALSE)))","v":""}]
["",null,{"$f":"IF(B58=\"\",\"\",IF(ISERROR(VLOOKUP(B58,database!$A$6:$BFQ$206,4,FALSE)),\"\",VLOOKUP(B58,database!$A$6:$BFQ$206,4,FALSE)))","v":""},null,null,null,"",null,null,null,{"$f":"IF(B58=\"\",\"\",IF(ISERROR(VLOOKUP(B58,database!$A$6:$BFQ$206,3,FALSE)),\"\",VLOOKUP(B58,database!$A$6:$BFQ$206,3,FALSE)))","v":""}]
["",null,{"$f":"IF(B59=\"\",\"\",IF(ISERROR(VLOOKUP(B59,database!$A$6:$BFQ$206,4,FALSE)),\"\",VLOOKUP(B59,database!$A$6:$BFQ$206,4,FALSE)))","v":""},null,null,null,"",null,null,null,{"$f":"IF(B59=\"\",\"\",IF(ISERROR(VLOOKUP(B59,database!$A$6:$BFQ$206,3,FALSE)),\"\",VLOOKUP(B59,database!$A$6:$BFQ$206,3,FALSE)))","v":""}]
["",null,{"$f":"IF(B60=\"\",\"\",IF(ISERROR(VLOOKUP(B60,database!$A$6:$BFQ$206,4,FALSE)),\"\",VLOOKUP(B60,database!$A$6:$BFQ$206,4,FALSE)))","v":""},null,null,null,"",null,null,null,{"$f":"IF(B60=\"\",\"\",IF(ISERROR(VLOOKUP(B60,database!$A$6:$BFQ$206,3,FALSE)),\"\",VLOOKUP(B60,database!$A$6:$BFQ$206,3,FALSE)))","v":""}]
["",null,{"$f":"IF(B61=\"\",\"\",IF(ISERROR(VLOOKUP(B61,database!$A$6:$BFQ$206,4,FALSE)),\"\",VLOOKUP(B61,database!$A$6:$BFQ$206,4,FALSE)))","v":""},null,null,null,"",null,null,null,{"$f":"IF(B61=\"\",\"\",IF(ISERROR(VLOOKUP(B61,database!$A$6:$BFQ$206,3,FALSE)),\"\",VLOOKUP(B61,database!$A$6:$BFQ$206,3,FALSE)))","v":""}]
["",null,{"$f":"IF(B62=\"\",\"\",IF(ISERROR(VLOOKUP(B62,database!$A$6:$BFQ$206,4,FALSE)),\"\",VLOOKUP(B62,database!$A$6:$BFQ$206,4,FALSE)))","v":""},null,null,null,"",null,null,null,{"$f":"IF(B62=\"\",\"\",IF(ISERROR(VLOOKUP(B62,database!$A$6:$BFQ$206,3,FALSE)),\"\",VLOOKUP(B62,database!$A$6:$BFQ$206,3,FALSE)))","v":""}]
["",null,{"$f":"IF(B63=\"\",\"\",IF(ISERROR(VLOOKUP(B63,database!$A$6:$BFQ$206,4,FALSE)),\"\",VLOOKUP(B63,database!$A$6:$BFQ$206,4,FALSE)))","v":""},null,null,null,"",null,null,null,{"$f":"IF(B63=\"\",\"\",IF(ISERROR(VLOOKUP(B63,database!$A$6:$BFQ$206,3,FALSE)),\"\",VLOOKUP(B63,database!$A$6:$BFQ$206,3,FALSE)))","v":""}]
["",null,{"$f":"IF(B64=\"\",\"\",IF(ISERROR(VLOOKUP(B64,database!$A$6:$BFQ$206,4,FALSE)),\"\",VLOOKUP(B64,database!$A$6:$BFQ$206,4,FALSE)))","v":""},null,null,null,"",null,null,null,{"$f":"IF(B64=\"\",\"\",IF(ISERROR(VLOOKUP(B64,database!$A$6:$BFQ$206,3,FALSE)),\"\",VLOOKUP(B64,database!$A$6:$BFQ$206,3,FALSE)))","v":""}]
[{"$f":"IF(B65=\"\",\"\",ROW(A62))","v":""},null,{"$f":"IF(B65=\"\",\"\",IF(ISERROR(VLOOKUP(B65,database!$A$6:$BFQ$206,4,FALSE)),\"\",VLOOKUP(B65,database!$A$6:$BFQ$206,4,FALSE)))","v":""},null,null,null,{"$f":"IF(B65=\"\",\"\",IF(C65=\"\",0,1))","v":""},null,null,null,{"$f":"IF(B65=\"\",\"\",IF(ISERROR(VLOOKUP(B65,database!$A$6:$BFQ$206,3,FALSE)),\"\",VLOOKUP(B65,database!$A$6:$BFQ$206,3,FALSE)))","v":""}]
["",null,{"$f":"IF(B66=\"\",\"\",IF(ISERROR(VLOOKUP(B66,database!$A$6:$BFQ$206,4,FALSE)),\"\",VLOOKUP(B66,database!$A$6:$BFQ$206,4,FALSE)))","v":""},null,null,null,"",null,null,null,{"$f":"IF(B66=\"\",\"\",IF(ISERROR(VLOOKUP(B66,database!$A$6:$BFQ$206,3,FALSE)),\"\",VLOOKUP(B66,database!$A$6:$BFQ$206,3,FALSE)))","v":""}]
["",null,{"$f":"IF(B67=\"\",\"\",IF(ISERROR(VLOOKUP(B67,database!$A$6:$BFQ$206,4,FALSE)),\"\",VLOOKUP(B67,database!$A$6:$BFQ$206,4,FALSE)))","v":""},null,null,null,"",null,null,null,{"$f":"IF(B67=\"\",\"\",IF(ISERROR(VLOOKUP(B67,database!$A$6:$BFQ$206,3,FALSE)),\"\",VLOOKUP(B67,database!$A$6:$BFQ$206,3,FALSE)))","v":""}]
["",null,{"$f":"IF(B68=\"\",\"\",IF(ISERROR(VLOOKUP(B68,database!$A$6:$BFQ$206,4,FALSE)),\"\",VLOOKUP(B68,database!$A$6:$BFQ$206,4,FALSE)))","v":""},null,null,null,"",null,null,null,{"$f":"IF(B68=\"\",\"\",IF(ISERROR(VLOOKUP(B68,database!$A$6:$BFQ$206,3,FALSE)),\"\",VLOOKUP(B68,database!$A$6:$BFQ$206,3,FALSE)))","v":""}]
["",null,{"$f":"IF(B69=\"\",\"\",IF(ISERROR(VLOOKUP(B69,database!$A$6:$BFQ$206,4,FALSE)),\"\",VLOOKUP(B69,database!$A$6:$BFQ$206,4,FALSE)))","v":""},null,null,null,"",null,null,null,{"$f":"IF(B69=\"\",\"\",IF(ISERROR(VLOOKUP(B69,database!$A$6:$BFQ$206,3,FALSE)),\"\",VLOOKUP(B69,database!$A$6:$BFQ$206,3,FALSE)))","v":""}]
["",null,{"$f":"IF(B70=\"\",\"\",IF(ISERROR(VLOOKUP(B70,database!$A$6:$BFQ$206,4,FALSE)),\"\",VLOOKUP(B70,database!$A$6:$BFQ$206,4,FALSE)))","v":""},null,null,null,"",null,null,null,{"$f":"IF(B70=\"\",\"\",IF(ISERROR(VLOOKUP(B70,database!$A$6:$BFQ$206,3,FALSE)),\"\",VLOOKUP(B70,database!$A$6:$BFQ$206,3,FALSE)))","v":""}]
["",null,{"$f":"IF(B71=\"\",\"\",IF(ISERROR(VLOOKUP(B71,database!$A$6:$BFQ$206,4,FALSE)),\"\",VLOOKUP(B71,database!$A$6:$BFQ$206,4,FALSE)))","v":""},null,null,null,"",null,null,null,{"$f":"IF(B71=\"\",\"\",IF(ISERROR(VLOOKUP(B71,database!$A$6:$BFQ$206,3,FALSE)),\"\",VLOOKUP(B71,database!$A$6:$BFQ$206,3,FALSE)))","v":""}]
["",null,{"$f":"IF(B72=\"\",\"\",IF(ISERROR(VLOOKUP(B72,database!$A$6:$BFQ$206,4,FALSE)),\"\",VLOOKUP(B72,database!$A$6:$BFQ$206,4,FALSE)))","v":""},null,null,null,"",null,null,null,{"$f":"IF(B72=\"\",\"\",IF(ISERROR(VLOOKUP(B72,database!$A$6:$BFQ$206,3,FALSE)),\"\",VLOOKUP(B72,database!$A$6:$BFQ$206,3,FALSE)))","v":""}]
["",null,{"$f":"IF(B73=\"\",\"\",IF(ISERROR(VLOOKUP(B73,database!$A$6:$BFQ$206,4,FALSE)),\"\",VLOOKUP(B73,database!$A$6:$BFQ$206,4,FALSE)))","v":""},null,null,null,"",null,null,null,{"$f":"IF(B73=\"\",\"\",IF(ISERROR(VLOOKUP(B73,database!$A$6:$BFQ$206,3,FALSE)),\"\",VLOOKUP(B73,database!$A$6:$BFQ$206,3,FALSE)))","v":""}]
["",null,{"$f":"IF(B74=\"\",\"\",IF(ISERROR(VLOOKUP(B74,database!$A$6:$BFQ$206,4,FALSE)),\"\",VLOOKUP(B74,database!$A$6:$BFQ$206,4,FALSE)))","v":""},null,null,null,"",null,null,null,{"$f":"IF(B74=\"\",\"\",IF(ISERROR(VLOOKUP(B74,database!$A$6:$BFQ$206,3,FALSE)),\"\",VLOOKUP(B74,database!$A$6:$BFQ$206,3,FALSE)))","v":""}]
["",null,{"$f":"IF(B75=\"\",\"\",IF(ISERROR(VLOOKUP(B75,database!$A$6:$BFQ$206,4,FALSE)),\"\",VLOOKUP(B75,database!$A$6:$BFQ$206,4,FALSE)))","v":""},null,null,null,"",null,null,null,{"$f":"IF(B75=\"\",\"\",IF(ISERROR(VLOOKUP(B75,database!$A$6:$BFQ$206,3,FALSE)),\"\",VLOOKUP(B75,database!$A$6:$BFQ$206,3,FALSE)))","v":""}]
["",null,{"$f":"IF(B76=\"\",\"\",IF(ISERROR(VLOOKUP(B76,database!$A$6:$BFQ$206,4,FALSE)),\"\",VLOOKUP(B76,database!$A$6:$BFQ$206,4,FALSE)))","v":""},null,null,null,"",null,null,null,{"$f":"IF(B76=\"\",\"\",IF(ISERROR(VLOOKUP(B76,database!$A$6:$BFQ$206,3,FALSE)),\"\",VLOOKUP(B76,database!$A$6:$BFQ$206,3,FALSE)))","v":""}]
["",null,{"$f":"IF(B77=\"\",\"\",IF(ISERROR(VLOOKUP(B77,database!$A$6:$BFQ$206,4,FALSE)),\"\",VLOOKUP(B77,database!$A$6:$BFQ$206,4,FALSE)))","v":""},null,null,null,"",null,null,null,{"$f":"IF(B77=\"\",\"\",IF(ISERROR(VLOOKUP(B77,database!$A$6:$BFQ$206,3,FALSE)),\"\",VLOOKUP(B77,database!$A$6:$BFQ$206,3,FALSE)))","v":""}]
["",null,{"$f":"IF(B78=\"\",\"\",IF(ISERROR(VLOOKUP(B78,database!$A$6:$BFQ$206,4,FALSE)),\"\",VLOOKUP(B78,database!$A$6:$BFQ$206,4,FALSE)))","v":""},null,null,null,"",null,null,null,{"$f":"IF(B78=\"\",\"\",IF(ISERROR(VLOOKUP(B78,database!$A$6:$BFQ$206,3,FALSE)),\"\",VLOOKUP(B78,database!$A$6:$BFQ$206,3,FALSE)))","v":""}]
["",null,{"$f":"IF(B79=\"\",\"\",IF(ISERROR(VLOOKUP(B79,database!$A$6:$BFQ$206,4,FALSE)),\"\",VLOOKUP(B79,database!$A$6:$BFQ$206,4,FALSE)))","v":""},null,null,null,"",null,null,null,{"$f":"IF(B79=\"\",\"\",IF(ISERROR(VLOOKUP(B79,database!$A$6:$BFQ$206,3,FALSE)),\"\",VLOOKUP(B79,database!$A$6:$BFQ$206,3,FALSE)))","v":""}]
["",null,{"$f":"IF(B80=\"\",\"\",IF(ISERROR(VLOOKUP(B80,database!$A$6:$BFQ$206,4,FALSE)),\"\",VLOOKUP(B80,database!$A$6:$BFQ$206,4,FALSE)))","v":""},null,null,null,"",null,null,null,{"$f":"IF(B80=\"\",\"\",IF(ISERROR(VLOOKUP(B80,database!$A$6:$BFQ$206,3,FALSE)),\"\",VLOOKUP(B80,database!$A$6:$BFQ$206,3,FALSE)))","v":""}]
["",null,{"$f":"IF(B81=\"\",\"\",IF(ISERROR(VLOOKUP(B81,database!$A$6:$BFQ$206,4,FALSE)),\"\",VLOOKUP(B81,database!$A$6:$BFQ$206,4,FALSE)))","v":""},null,null,null,"",null,null,null,{"$f":"IF(B81=\"\",\"\",IF(ISERROR(VLOOKUP(B81,database!$A$6:$BFQ$206,3,FALSE)),\"\",VLOOKUP(B81,database!$A$6:$BFQ$206,3,FALSE)))","v":""}]
["",null,{"$f":"IF(B82=\"\",\"\",IF(ISERROR(VLOOKUP(B82,database!$A$6:$BFQ$206,4,FALSE)),\"\",VLOOKUP(B82,database!$A$6:$BFQ$206,4,FALSE)))","v":""},null,null,null,"",null,null,null,{"$f":"IF(B82=\"\",\"\",IF(ISERROR(VLOOKUP(B82,database!$A$6:$BFQ$206,3,FALSE)),\"\",VLOOKUP(B82,database!$A$6:$BFQ$206,3,FALSE)))","v":""}]
["",null,{"$f":"IF(B83=\"\",\"\",IF(ISERROR(VLOOKUP(B83,database!$A$6:$BFQ$206,4,FALSE)),\"\",VLOOKUP(B83,database!$A$6:$BFQ$206,4,FALSE)))","v":""},null,null,null,"",null,null,null,{"$f":"IF(B83=\"\",\"\",IF(ISERROR(VLOOKUP(B83,database!$A$6:$BFQ$206,3,FALSE)),\"\",VLOOKUP(B83,database!$A$6:$BFQ$206,3,FALSE)))","v":""}]
["",null,{"$f":"IF(B84=\"\",\"\",IF(ISERROR(VLOOKUP(B84,database!$A$6:$BFQ$206,4,FALSE)),\"\",VLOOKUP(B84,database!$A$6:$BFQ$206,4,FALSE)))","v":""},null,null,null,"",null,null,null,{"$f":"IF(B84=\"\",\"\",IF(ISERROR(VLOOKUP(B84,database!$A$6:$BFQ$206,3,FALSE)),\"\",VLOOKUP(B84,database!$A$6:$BFQ$206,3,FALSE)))","v":""}]
["",null,{"$f":"IF(B85=\"\",\"\",IF(ISERROR(VLOOKUP(B85,database!$A$6:$BFQ$206,4,FALSE)),\"\",VLOOKUP(B85,database!$A$6:$BFQ$206,4,FALSE)))","v":""},null,null,null,"",null,null,null,{"$f":"IF(B85=\"\",\"\",IF(ISERROR(VLOOKUP(B85,database!$A$6:$BFQ$206,3,FALSE)),\"\",VLOOKUP(B85,database!$A$6:$BFQ$206,3,FALSE)))","v":""}]
["",null,{"$f":"IF(B86=\"\",\"\",IF(ISERROR(VLOOKUP(B86,database!$A$6:$BFQ$206,4,FALSE)),\"\",VLOOKUP(B86,database!$A$6:$BFQ$206,4,FALSE)))","v":""},null,null,null,"",null,null,null,{"$f":"IF(B86=\"\",\"\",IF(ISERROR(VLOOKUP(B86,database!$A$6:$BFQ$206,3,FALSE)),\"\",VLOOKUP(B86,database!$A$6:$BFQ$206,3,FALSE)))","v":""}]
["",null,{"$f":"IF(B87=\"\",\"\",IF(ISERROR(VLOOKUP(B87,database!$A$6:$BFQ$206,4,FALSE)),\"\",VLOOKUP(B87,database!$A$6:$BFQ$206,4,FALSE)))","v":""},null,null,null,"",null,null,null,{"$f":"IF(B87=\"\",\"\",IF(ISERROR(VLOOKUP(B87,database!$A$6:$BFQ$206,3,FALSE)),\"\",VLOOKUP(B87,database!$A$6:$BFQ$206,3,FALSE)))","v":""}]
["",null,{"$f":"IF(B88=\"\",\"\",IF(ISERROR(VLOOKUP(B88,database!$A$6:$BFQ$206,4,FALSE)),\"\",VLOOKUP(B88,database!$A$6:$BFQ$206,4,FALSE)))","v":""},null,null,null,"",null,null,null,{"$f":"IF(B88=\"\",\"\",IF(ISERROR(VLOOKUP(B88,database!$A$6:$BFQ$206,3,FALSE)),\"\",VLOOKUP(B88,database!$A$6:$BFQ$206,3,FALSE)))","v":""}]
["",null,{"$f":"IF(B89=\"\",\"\",IF(ISERROR(VLOOKUP(B89,database!$A$6:$BFQ$206,4,FALSE)),\"\",VLOOKUP(B89,database!$A$6:$BFQ$206,4,FALSE)))","v":""},null,null,null,"",null,null,null,{"$f":"IF(B89=\"\",\"\",IF(ISERROR(VLOOKUP(B89,database!$A$6:$BFQ$206,3,FALSE)),\"\",VLOOKUP(B89,database!$A$6:$BFQ$206,3,FALSE)))","v":""}]
["",null,{"$f":"IF(B90=\"\",\"\",IF(ISERROR(VLOOKUP(B90,database!$A$6:$BFQ$206,4,FALSE)),\"\",VLOOKUP(B90,database!$A$6:$BFQ$206,4,FALSE)))","v":""},null,null,null,"",null,null,null,{"$f":"IF(B90=\"\",\"\",IF(ISERROR(VLOOKUP(B90,database!$A$6:$BFQ$206,3,FALSE)),\"\",VLOOKUP(B90,database!$A$6:$BFQ$206,3,FALSE)))","v":""}]
["",null,{"$f":"IF(B91=\"\",\"\",IF(ISERROR(VLOOKUP(B91,database!$A$6:$BFQ$206,4,FALSE)),\"\",VLOOKUP(B91,database!$A$6:$BFQ$206,4,FALSE)))","v":""},null,null,null,"",null,null,null,{"$f":"IF(B91=\"\",\"\",IF(ISERROR(VLOOKUP(B91,database!$A$6:$BFQ$206,3,FALSE)),\"\",VLOOKUP(B91,database!$A$6:$BFQ$206,3,FALSE)))","v":""}]
["",null,{"$f":"IF(B92=\"\",\"\",IF(ISERROR(VLOOKUP(B92,database!$A$6:$BFQ$206,4,FALSE)),\"\",VLOOKUP(B92,database!$A$6:$BFQ$206,4,FALSE)))","v":""},null,null,null,"",null,null,null,{"$f":"IF(B92=\"\",\"\",IF(ISERROR(VLOOKUP(B92,database!$A$6:$BFQ$206,3,FALSE)),\"\",VLOOKUP(B92,database!$A$6:$BFQ$206,3,FALSE)))","v":""}]
["",null,{"$f":"IF(B93=\"\",\"\",IF(ISERROR(VLOOKUP(B93,database!$A$6:$BFQ$206,4,FALSE)),\"\",VLOOKUP(B93,database!$A$6:$BFQ$206,4,FALSE)))","v":""},null,null,null,"",null,null,null,{"$f":"IF(B93=\"\",\"\",IF(ISERROR(VLOOKUP(B93,database!$A$6:$BFQ$206,3,FALSE)),\"\",VLOOKUP(B93,database!$A$6:$BFQ$206,3,FALSE)))","v":""}]
["",null,{"$f":"IF(B94=\"\",\"\",IF(ISERROR(VLOOKUP(B94,database!$A$6:$BFQ$206,4,FALSE)),\"\",VLOOKUP(B94,database!$A$6:$BFQ$206,4,FALSE)))","v":""},null,null,null,"",null,null,null,{"$f":"IF(B94=\"\",\"\",IF(ISERROR(VLOOKUP(B94,database!$A$6:$BFQ$206,3,FALSE)),\"\",VLOOKUP(B94,database!$A$6:$BFQ$206,3,FALSE)))","v":""}]
["",null,{"$f":"IF(B95=\"\",\"\",IF(ISERROR(VLOOKUP(B95,database!$A$6:$BFQ$206,4,FALSE)),\"\",VLOOKUP(B95,database!$A$6:$BFQ$206,4,FALSE)))","v":""},null,null,null,"",null,null,null,{"$f":"IF(B95=\"\",\"\",IF(ISERROR(VLOOKUP(B95,database!$A$6:$BFQ$206,3,FALSE)),\"\",VLOOKUP(B95,database!$A$6:$BFQ$206,3,FALSE)))","v":""}]
["",null,{"$f":"IF(B96=\"\",\"\",IF(ISERROR(VLOOKUP(B96,database!$A$6:$BFQ$206,4,FALSE)),\"\",VLOOKUP(B96,database!$A$6:$BFQ$206,4,FALSE)))","v":""},null,null,null,"",null,null,null,{"$f":"IF(B96=\"\",\"\",IF(ISERROR(VLOOKUP(B96,database!$A$6:$BFQ$206,3,FALSE)),\"\",VLOOKUP(B96,database!$A$6:$BFQ$206,3,FALSE)))","v":""}]
["",null,{"$f":"IF(B97=\"\",\"\",IF(ISERROR(VLOOKUP(B97,database!$A$6:$BFQ$206,4,FALSE)),\"\",VLOOKUP(B97,database!$A$6:$BFQ$206,4,FALSE)))","v":""},null,null,null,"",null,null,null,{"$f":"IF(B97=\"\",\"\",IF(ISERROR(VLOOKUP(B97,database!$A$6:$BFQ$206,3,FALSE)),\"\",VLOOKUP(B97,database!$A$6:$BFQ$206,3,FALSE)))","v":""}]
["",null,{"$f":"IF(B98=\"\",\"\",IF(ISERROR(VLOOKUP(B98,database!$A$6:$BFQ$206,4,FALSE)),\"\",VLOOKUP(B98,database!$A$6:$BFQ$206,4,FALSE)))","v":""},null,null,null,"",null,null,null,{"$f":"IF(B98=\"\",\"\",IF(ISERROR(VLOOKUP(B98,database!$A$6:$BFQ$206,3,FALSE)),\"\",VLOOKUP(B98,database!$A$6:$BFQ$206,3,FALSE)))","v":""}]
["",null,{"$f":"IF(B99=\"\",\"\",IF(ISERROR(VLOOKUP(B99,database!$A$6:$BFQ$206,4,FALSE)),\"\",VLOOKUP(B99,database!$A$6:$BFQ$206,4,FALSE)))","v":""},null,null,null,"",null,null,null,{"$f":"IF(B99=\"\",\"\",IF(ISERROR(VLOOKUP(B99,database!$A$6:$BFQ$206,3,FALSE)),\"\",VLOOKUP(B99,database!$A$6:$BFQ$206,3,FALSE)))","v":""}]
["",null,{"$f":"IF(B100=\"\",\"\",IF(ISERROR(VLOOKUP(B100,database!$A$6:$BFQ$206,4,FALSE)),\"\",VLOOKUP(B100,database!$A$6:$BFQ$206,4,FALSE)))","v":""},null,null,null,"",null,null,null,{"$f":"IF(B100=\"\",\"\",IF(ISERROR(VLOOKUP(B100,database!$A$6:$BFQ$206,3,FALSE)),\"\",VLOOKUP(B100,database!$A$6:$BFQ$206,3,FALSE)))","v":""}]
["",null,{"$f":"IF(B101=\"\",\"\",IF(ISERROR(VLOOKUP(B101,database!$A$6:$BFQ$206,4,FALSE)),\"\",VLOOKUP(B101,database!$A$6:$BFQ$206,4,FALSE)))","v":""},null,null,null,"",null,null,null,{"$f":"IF(B101=\"\",\"\",IF(ISERROR(VLOOKUP(B101,database!$A$6:$BFQ$206,3,FALSE)),\"\",VLOOKUP(B101,database!$A$6:$BFQ$206,3,FALSE)))","v":""}]
["",null,{"$f":"IF(B102=\"\",\"\",IF(ISERROR(VLOOKUP(B102,database!$A$6:$BFQ$206,4,FALSE)),\"\",VLOOKUP(B102,database!$A$6:$BFQ$206,4,FALSE)))","v":""},null,null,null,"",null,null,null,{"$f":"IF(B102=\"\",\"\",IF(ISERROR(VLOOKUP(B102,database!$A$6:$BFQ$206,3,FALSE)),\"\",VLOOKUP(B102,database!$A$6:$BFQ$206,3,FALSE)))","v":""}]
["",null,{"$f":"IF(B103=\"\",\"\",IF(ISERROR(VLOOKUP(B103,database!$A$6:$BFQ$206,4,FALSE)),\"\",VLOOKUP(B103,database!$A$6:$BFQ$206,4,FALSE)))","v":""},null,null,null,"",null,null,null,{"$f":"IF(B103=\"\",\"\",IF(ISERROR(VLOOKUP(B103,database!$A$6:$BFQ$206,3,FALSE)),\"\",VLOOKUP(B103,database!$A$6:$BFQ$206,3,FALSE)))","v":""}]
["",null,{"$f":"IF(B104=\"\",\"\",IF(ISERROR(VLOOKUP(B104,database!$A$6:$BFQ$206,4,FALSE)),\"\",VLOOKUP(B104,database!$A$6:$BFQ$206,4,FALSE)))","v":""},null,null,null,"",null,null,null,{"$f":"IF(B104=\"\",\"\",IF(ISERROR(VLOOKUP(B104,database!$A$6:$BFQ$206,3,FALSE)),\"\",VLOOKUP(B104,database!$A$6:$BFQ$206,3,FALSE)))","v":""}]
["",null,{"$f":"IF(B105=\"\",\"\",IF(ISERROR(VLOOKUP(B105,database!$A$6:$BFQ$206,4,FALSE)),\"\",VLOOKUP(B105,database!$A$6:$BFQ$206,4,FALSE)))","v":""},null,null,null,"",null,null,null,{"$f":"IF(B105=\"\",\"\",IF(ISERROR(VLOOKUP(B105,database!$A$6:$BFQ$206,3,FALSE)),\"\",VLOOKUP(B105,database!$A$6:$BFQ$206,3,FALSE)))","v":""}]
["",null,{"$f":"IF(B106=\"\",\"\",IF(ISERROR(VLOOKUP(B106,database!$A$6:$BFQ$206,4,FALSE)),\"\",VLOOKUP(B106,database!$A$6:$BFQ$206,4,FALSE)))","v":""},null,null,null,"",null,null,null,{"$f":"IF(B106=\"\",\"\",IF(ISERROR(VLOOKUP(B106,database!$A$6:$BFQ$206,3,FALSE)),\"\",VLOOKUP(B106,database!$A$6:$BFQ$206,3,FALSE)))","v":""}]
["",null,{"$f":"IF(B107=\"\",\"\",IF(ISERROR(VLOOKUP(B107,database!$A$6:$BFQ$206,4,FALSE)),\"\",VLOOKUP(B107,database!$A$6:$BFQ$206,4,FALSE)))","v":""},null,null,null,"",null,null,null,{"$f":"IF(B107=\"\",\"\",IF(ISERROR(VLOOKUP(B107,database!$A$6:$BFQ$206,3,FALSE)),\"\",VLOOKUP(B107,database!$A$6:$BFQ$206,3,FALSE)))","v":""}]
["",null,{"$f":"IF(B108=\"\",\"\",IF(ISERROR(VLOOKUP(B108,database!$A$6:$BFQ$206,4,FALSE)),\"\",VLOOKUP(B108,database!$A$6:$BFQ$206,4,FALSE)))","v":""},null,null,null,"",null,null,null,{"$f":"IF(B108=\"\",\"\",IF(ISERROR(VLOOKUP(B108,database!$A$6:$BFQ$206,3,FALSE)),\"\",VLOOKUP(B108,database!$A$6:$BFQ$206,3,FALSE)))","v":""}]
["",null,{"$f":"IF(B109=\"\",\"\",IF(ISERROR(VLOOKUP(B109,database!$A$6:$BFQ$206,4,FALSE)),\"\",VLOOKUP(B109,database!$A$6:$BFQ$206,4,FALSE)))","v":""},null,null,null,"",null,null,null,{"$f":"IF(B109=\"\",\"\",IF(ISERROR(VLOOKUP(B109,database!$A$6:$BFQ$206,3,FALSE)),\"\",VLOOKUP(B109,database!$A$6:$BFQ$206,3,FALSE)))","v":""}]
["",null,{"$f":"IF(B110=\"\",\"\",IF(ISERROR(VLOOKUP(B110,database!$A$6:$BFQ$206,4,FALSE)),\"\",VLOOKUP(B110,database!$A$6:$BFQ$206,4,FALSE)))","v":""},null,null,null,"",null,null,null,{"$f":"IF(B110=\"\",\"\",IF(ISERROR(VLOOKUP(B110,database!$A$6:$BFQ$206,3,FALSE)),\"\",VLOOKUP(B110,database!$A$6:$BFQ$206,3,FALSE)))","v":""}]
["",null,{"$f":"IF(B111=\"\",\"\",IF(ISERROR(VLOOKUP(B111,database!$A$6:$BFQ$206,4,FALSE)),\"\",VLOOKUP(B111,database!$A$6:$BFQ$206,4,FALSE)))","v":""},null,null,null,"",null,null,null,{"$f":"IF(B111=\"\",\"\",IF(ISERROR(VLOOKUP(B111,database!$A$6:$BFQ$206,3,FALSE)),\"\",VLOOKUP(B111,database!$A$6:$BFQ$206,3,FALSE)))","v":""}]
["",null,{"$f":"IF(B112=\"\",\"\",IF(ISERROR(VLOOKUP(B112,database!$A$6:$BFQ$206,4,FALSE)),\"\",VLOOKUP(B112,database!$A$6:$BFQ$206,4,FALSE)))","v":""},null,null,null,"",null,null,null,{"$f":"IF(B112=\"\",\"\",IF(ISERROR(VLOOKUP(B112,database!$A$6:$BFQ$206,3,FALSE)),\"\",VLOOKUP(B112,database!$A$6:$BFQ$206,3,FALSE)))","v":""}]
["",null,{"$f":"IF(B113=\"\",\"\",IF(ISERROR(VLOOKUP(B113,database!$A$6:$BFQ$206,4,FALSE)),\"\",VLOOKUP(B113,database!$A$6:$BFQ$206,4,FALSE)))","v":""},null,null,null,"",null,null,null,{"$f":"IF(B113=\"\",\"\",IF(ISERROR(VLOOKUP(B113,database!$A$6:$BFQ$206,3,FALSE)),\"\",VLOOKUP(B113,database!$A$6:$BFQ$206,3,FALSE)))","v":""}]
["",null,{"$f":"IF(B114=\"\",\"\",IF(ISERROR(VLOOKUP(B114,database!$A$6:$BFQ$206,4,FALSE)),\"\",VLOOKUP(B114,database!$A$6:$BFQ$206,4,FALSE)))","v":""},null,null,null,"",null,null,null,{"$f":"IF(B114=\"\",\"\",IF(ISERROR(VLOOKUP(B114,database!$A$6:$BFQ$206,3,FALSE)),\"\",VLOOKUP(B114,database!$A$6:$BFQ$206,3,FALSE)))","v":""}]
["",null,{"$f":"IF(B115=\"\",\"\",IF(ISERROR(VLOOKUP(B115,database!$A$6:$BFQ$206,4,FALSE)),\"\",VLOOKUP(B115,database!$A$6:$BFQ$206,4,FALSE)))","v":""},null,null,null,"",null,null,null,{"$f":"IF(B115=\"\",\"\",IF(ISERROR(VLOOKUP(B115,database!$A$6:$BFQ$206,3,FALSE)),\"\",VLOOKUP(B115,database!$A$6:$BFQ$206,3,FALSE)))","v":""}]
["",null,{"$f":"IF(B116=\"\",\"\",IF(ISERROR(VLOOKUP(B116,database!$A$6:$BFQ$206,4,FALSE)),\"\",VLOOKUP(B116,database!$A$6:$BFQ$206,4,FALSE)))","v":""},null,null,null,"",null,null,null,{"$f":"IF(B116=\"\",\"\",IF(ISERROR(VLOOKUP(B116,database!$A$6:$BFQ$206,3,FALSE)),\"\",VLOOKUP(B116,database!$A$6:$BFQ$206,3,FALSE)))","v":""}]
["",null,{"$f":"IF(B117=\"\",\"\",IF(ISERROR(VLOOKUP(B117,database!$A$6:$BFQ$206,4,FALSE)),\"\",VLOOKUP(B117,database!$A$6:$BFQ$206,4,FALSE)))","v":""},null,null,null,"",null,null,null,{"$f":"IF(B117=\"\",\"\",IF(ISERROR(VLOOKUP(B117,database!$A$6:$BFQ$206,3,FALSE)),\"\",VLOOKUP(B117,database!$A$6:$BFQ$206,3,FALSE)))","v":""}]
["",null,{"$f":"IF(B118=\"\",\"\",IF(ISERROR(VLOOKUP(B118,database!$A$6:$BFQ$206,4,FALSE)),\"\",VLOOKUP(B118,database!$A$6:$BFQ$206,4,FALSE)))","v":""},null,null,null,"",null,null,null,{"$f":"IF(B118=\"\",\"\",IF(ISERROR(VLOOKUP(B118,database!$A$6:$BFQ$206,3,FALSE)),\"\",VLOOKUP(B118,database!$A$6:$BFQ$206,3,FALSE)))","v":""}]
["",null,{"$f":"IF(B119=\"\",\"\",IF(ISERROR(VLOOKUP(B119,database!$A$6:$BFQ$206,4,FALSE)),\"\",VLOOKUP(B119,database!$A$6:$BFQ$206,4,FALSE)))","v":""},null,null,null,"",null,null,null,{"$f":"IF(B119=\"\",\"\",IF(ISERROR(VLOOKUP(B119,database!$A$6:$BFQ$206,3,FALSE)),\"\",VLOOKUP(B119,database!$A$6:$BFQ$206,3,FALSE)))","v":""}]
["",null,{"$f":"IF(B120=\"\",\"\",IF(ISERROR(VLOOKUP(B120,database!$A$6:$BFQ$206,4,FALSE)),\"\",VLOOKUP(B120,database!$A$6:$BFQ$206,4,FALSE)))","v":""},null,null,null,"",null,null,null,{"$f":"IF(B120=\"\",\"\",IF(ISERROR(VLOOKUP(B120,database!$A$6:$BFQ$206,3,FALSE)),\"\",VLOOKUP(B120,database!$A$6:$BFQ$206,3,FALSE)))","v":""}]
["",null,{"$f":"IF(B121=\"\",\"\",IF(ISERROR(VLOOKUP(B121,database!$A$6:$BFQ$206,4,FALSE)),\"\",VLOOKUP(B121,database!$A$6:$BFQ$206,4,FALSE)))","v":""},null,null,null,"",null,null,null,{"$f":"IF(B121=\"\",\"\",IF(ISERROR(VLOOKUP(B121,database!$A$6:$BFQ$206,3,FALSE)),\"\",VLOOKUP(B121,database!$A$6:$BFQ$206,3,FALSE)))","v":""}]
["",null,{"$f":"IF(B122=\"\",\"\",IF(ISERROR(VLOOKUP(B122,database!$A$6:$BFQ$206,4,FALSE)),\"\",VLOOKUP(B122,database!$A$6:$BFQ$206,4,FALSE)))","v":""},null,null,null,"",null,null,null,{"$f":"IF(B122=\"\",\"\",IF(ISERROR(VLOOKUP(B122,database!$A$6:$BFQ$206,3,FALSE)),\"\",VLOOKUP(B122,database!$A$6:$BFQ$206,3,FALSE)))","v":""}]
["",null,{"$f":"IF(B123=\"\",\"\",IF(ISERROR(VLOOKUP(B123,database!$A$6:$BFQ$206,4,FALSE)),\"\",VLOOKUP(B123,database!$A$6:$BFQ$206,4,FALSE)))","v":""},null,null,null,"",null,null,null,{"$f":"IF(B123=\"\",\"\",IF(ISERROR(VLOOKUP(B123,database!$A$6:$BFQ$206,3,FALSE)),\"\",VLOOKUP(B123,database!$A$6:$BFQ$206,3,FALSE)))","v":""}]
["",null,{"$f":"IF(B124=\"\",\"\",IF(ISERROR(VLOOKUP(B124,database!$A$6:$BFQ$206,4,FALSE)),\"\",VLOOKUP(B124,database!$A$6:$BFQ$206,4,FALSE)))","v":""},null,null,null,"",null,null,null,{"$f":"IF(B124=\"\",\"\",IF(ISERROR(VLOOKUP(B124,database!$A$6:$BFQ$206,3,FALSE)),\"\",VLOOKUP(B124,database!$A$6:$BFQ$206,3,FALSE)))","v":""}]
["",null,{"$f":"IF(B125=\"\",\"\",IF(ISERROR(VLOOKUP(B125,database!$A$6:$BFQ$206,4,FALSE)),\"\",VLOOKUP(B125,database!$A$6:$BFQ$206,4,FALSE)))","v":""},null,null,null,"",null,null,null,{"$f":"IF(B125=\"\",\"\",IF(ISERROR(VLOOKUP(B125,database!$A$6:$BFQ$206,3,FALSE)),\"\",VLOOKUP(B125,database!$A$6:$BFQ$206,3,FALSE)))","v":""}]
["",null,{"$f":"IF(B126=\"\",\"\",IF(ISERROR(VLOOKUP(B126,database!$A$6:$BFQ$206,4,FALSE)),\"\",VLOOKUP(B126,database!$A$6:$BFQ$206,4,FALSE)))","v":""},null,null,null,"",null,null,null,{"$f":"IF(B126=\"\",\"\",IF(ISERROR(VLOOKUP(B126,database!$A$6:$BFQ$206,3,FALSE)),\"\",VLOOKUP(B126,database!$A$6:$BFQ$206,3,FALSE)))","v":""}]
["",null,{"$f":"IF(B127=\"\",\"\",IF(ISERROR(VLOOKUP(B127,database!$A$6:$BFQ$206,4,FALSE)),\"\",VLOOKUP(B127,database!$A$6:$BFQ$206,4,FALSE)))","v":""},null,null,null,"",null,null,null,{"$f":"IF(B127=\"\",\"\",IF(ISERROR(VLOOKUP(B127,database!$A$6:$BFQ$206,3,FALSE)),\"\",VLOOKUP(B127,database!$A$6:$BFQ$206,3,FALSE)))","v":""}]
["",null,{"$f":"IF(B128=\"\",\"\",IF(ISERROR(VLOOKUP(B128,database!$A$6:$BFQ$206,4,FALSE)),\"\",VLOOKUP(B128,database!$A$6:$BFQ$206,4,FALSE)))","v":""},null,null,null,"",null,null,null,{"$f":"IF(B128=\"\",\"\",IF(ISERROR(VLOOKUP(B128,database!$A$6:$BFQ$206,3,FALSE)),\"\",VLOOKUP(B128,database!$A$6:$BFQ$206,3,FALSE)))","v":""}]
[{"$f":"IF(B129=\"\",\"\",ROW(A126))","v":""},null,{"$f":"IF(B129=\"\",\"\",IF(ISERROR(VLOOKUP(B129,database!$A$6:$BFQ$206,4,FALSE)),\"\",VLOOKUP(B129,database!$A$6:$BFQ$206,4,FALSE)))","v":""},null,null,null,{"$f":"IF(B129=\"\",\"\",IF(C129=\"\",0,1))","v":""},null,null,null,{"$f":"IF(B129=\"\",\"\",IF(ISERROR(VLOOKUP(B129,database!$A$6:$BFQ$206,3,FALSE)),\"\",VLOOKUP(B129,database!$A$6:$BFQ$206,3,FALSE)))","v":""}]
["",null,{"$f":"IF(B130=\"\",\"\",IF(ISERROR(VLOOKUP(B130,database!$A$6:$BFQ$206,4,FALSE)),\"\",VLOOKUP(B130,database!$A$6:$BFQ$206,4,FALSE)))","v":""},null,null,null,"",null,null,null,{"$f":"IF(B130=\"\",\"\",IF(ISERROR(VLOOKUP(B130,database!$A$6:$BFQ$206,3,FALSE)),\"\",VLOOKUP(B130,database!$A$6:$BFQ$206,3,FALSE)))","v":""}]
["",null,{"$f":"IF(B131=\"\",\"\",IF(ISERROR(VLOOKUP(B131,database!$A$6:$BFQ$206,4,FALSE)),\"\",VLOOKUP(B131,database!$A$6:$BFQ$206,4,FALSE)))","v":""},null,null,null,"",null,null,null,{"$f":"IF(B131=\"\",\"\",IF(ISERROR(VLOOKUP(B131,database!$A$6:$BFQ$206,3,FALSE)),\"\",VLOOKUP(B131,database!$A$6:$BFQ$206,3,FALSE)))","v":""}]
["",null,{"$f":"IF(B132=\"\",\"\",IF(ISERROR(VLOOKUP(B132,database!$A$6:$BFQ$206,4,FALSE)),\"\",VLOOKUP(B132,database!$A$6:$BFQ$206,4,FALSE)))","v":""},null,null,null,"",null,null,null,{"$f":"IF(B132=\"\",\"\",IF(ISERROR(VLOOKUP(B132,database!$A$6:$BFQ$206,3,FALSE)),\"\",VLOOKUP(B132,database!$A$6:$BFQ$206,3,FALSE)))","v":""}]
["",null,{"$f":"IF(B133=\"\",\"\",IF(ISERROR(VLOOKUP(B133,database!$A$6:$BFQ$206,4,FALSE)),\"\",VLOOKUP(B133,database!$A$6:$BFQ$206,4,FALSE)))","v":""},null,null,null,"",null,null,null,{"$f":"IF(B133=\"\",\"\",IF(ISERROR(VLOOKUP(B133,database!$A$6:$BFQ$206,3,FALSE)),\"\",VLOOKUP(B133,database!$A$6:$BFQ$206,3,FALSE)))","v":""}]
["",null,{"$f":"IF(B134=\"\",\"\",IF(ISERROR(VLOOKUP(B134,database!$A$6:$BFQ$206,4,FALSE)),\"\",VLOOKUP(B134,database!$A$6:$BFQ$206,4,FALSE)))","v":""},null,null,null,"",null,null,null,{"$f":"IF(B134=\"\",\"\",IF(ISERROR(VLOOKUP(B134,database!$A$6:$BFQ$206,3,FALSE)),\"\",VLOOKUP(B134,database!$A$6:$BFQ$206,3,FALSE)))","v":""}]
["",null,{"$f":"IF(B135=\"\",\"\",IF(ISERROR(VLOOKUP(B135,database!$A$6:$BFQ$206,4,FALSE)),\"\",VLOOKUP(B135,database!$A$6:$BFQ$206,4,FALSE)))","v":""},null,null,null,"",null,null,null,{"$f":"IF(B135=\"\",\"\",IF(ISERROR(VLOOKUP(B135,database!$A$6:$BFQ$206,3,FALSE)),\"\",VLOOKUP(B135,database!$A$6:$BFQ$206,3,FALSE)))","v":""}]
["",null,{"$f":"IF(B136=\"\",\"\",IF(ISERROR(VLOOKUP(B136,database!$A$6:$BFQ$206,4,FALSE)),\"\",VLOOKUP(B136,database!$A$6:$BFQ$206,4,FALSE)))","v":""},null,null,null,"",null,null,null,{"$f":"IF(B136=\"\",\"\",IF(ISERROR(VLOOKUP(B136,database!$A$6:$BFQ$206,3,FALSE)),\"\",VLOOKUP(B136,database!$A$6:$BFQ$206,3,FALSE)))","v":""}]
["",null,{"$f":"IF(B137=\"\",\"\",IF(ISERROR(VLOOKUP(B137,database!$A$6:$BFQ$206,4,FALSE)),\"\",VLOOKUP(B137,database!$A$6:$BFQ$206,4,FALSE)))","v":""},null,null,null,"",null,null,null,{"$f":"IF(B137=\"\",\"\",IF(ISERROR(VLOOKUP(B137,database!$A$6:$BFQ$206,3,FALSE)),\"\",VLOOKUP(B137,database!$A$6:$BFQ$206,3,FALSE)))","v":""}]
["",null,{"$f":"IF(B138=\"\",\"\",IF(ISERROR(VLOOKUP(B138,database!$A$6:$BFQ$206,4,FALSE)),\"\",VLOOKUP(B138,database!$A$6:$BFQ$206,4,FALSE)))","v":""},null,null,null,"",null,null,null,{"$f":"IF(B138=\"\",\"\",IF(ISERROR(VLOOKUP(B138,database!$A$6:$BFQ$206,3,FALSE)),\"\",VLOOKUP(B138,database!$A$6:$BFQ$206,3,FALSE)))","v":""}]
["",null,{"$f":"IF(B139=\"\",\"\",IF(ISERROR(VLOOKUP(B139,database!$A$6:$BFQ$206,4,FALSE)),\"\",VLOOKUP(B139,database!$A$6:$BFQ$206,4,FALSE)))","v":""},null,null,null,"",null,null,null,{"$f":"IF(B139=\"\",\"\",IF(ISERROR(VLOOKUP(B139,database!$A$6:$BFQ$206,3,FALSE)),\"\",VLOOKUP(B139,database!$A$6:$BFQ$206,3,FALSE)))","v":""}]
["",null,{"$f":"IF(B140=\"\",\"\",IF(ISERROR(VLOOKUP(B140,database!$A$6:$BFQ$206,4,FALSE)),\"\",VLOOKUP(B140,database!$A$6:$BFQ$206,4,FALSE)))","v":""},null,null,null,"",null,null,null,{"$f":"IF(B140=\"\",\"\",IF(ISERROR(VLOOKUP(B140,database!$A$6:$BFQ$206,3,FALSE)),\"\",VLOOKUP(B140,database!$A$6:$BFQ$206,3,FALSE)))","v":""}]
["",null,{"$f":"IF(B141=\"\",\"\",IF(ISERROR(VLOOKUP(B141,database!$A$6:$BFQ$206,4,FALSE)),\"\",VLOOKUP(B141,database!$A$6:$BFQ$206,4,FALSE)))","v":""},null,null,null,"",null,null,null,{"$f":"IF(B141=\"\",\"\",IF(ISERROR(VLOOKUP(B141,database!$A$6:$BFQ$206,3,FALSE)),\"\",VLOOKUP(B141,database!$A$6:$BFQ$206,3,FALSE)))","v":""}]
["",null,{"$f":"IF(B142=\"\",\"\",IF(ISERROR(VLOOKUP(B142,database!$A$6:$BFQ$206,4,FALSE)),\"\",VLOOKUP(B142,database!$A$6:$BFQ$206,4,FALSE)))","v":""},null,null,null,"",null,null,null,{"$f":"IF(B142=\"\",\"\",IF(ISERROR(VLOOKUP(B142,database!$A$6:$BFQ$206,3,FALSE)),\"\",VLOOKUP(B142,database!$A$6:$BFQ$206,3,FALSE)))","v":""}]
["",null,{"$f":"IF(B143=\"\",\"\",IF(ISERROR(VLOOKUP(B143,database!$A$6:$BFQ$206,4,FALSE)),\"\",VLOOKUP(B143,database!$A$6:$BFQ$206,4,FALSE)))","v":""},null,null,null,"",null,null,null,{"$f":"IF(B143=\"\",\"\",IF(ISERROR(VLOOKUP(B143,database!$A$6:$BFQ$206,3,FALSE)),\"\",VLOOKUP(B143,database!$A$6:$BFQ$206,3,FALSE)))","v":""}]
["",null,{"$f":"IF(B144=\"\",\"\",IF(ISERROR(VLOOKUP(B144,database!$A$6:$BFQ$206,4,FALSE)),\"\",VLOOKUP(B144,database!$A$6:$BFQ$206,4,FALSE)))","v":""},null,null,null,"",null,null,null,{"$f":"IF(B144=\"\",\"\",IF(ISERROR(VLOOKUP(B144,database!$A$6:$BFQ$206,3,FALSE)),\"\",VLOOKUP(B144,database!$A$6:$BFQ$206,3,FALSE)))","v":""}]
["",null,{"$f":"IF(B145=\"\",\"\",IF(ISERROR(VLOOKUP(B145,database!$A$6:$BFQ$206,4,FALSE)),\"\",VLOOKUP(B145,database!$A$6:$BFQ$206,4,FALSE)))","v":""},null,null,null,"",null,null,null,{"$f":"IF(B145=\"\",\"\",IF(ISERROR(VLOOKUP(B145,database!$A$6:$BFQ$206,3,FALSE)),\"\",VLOOKUP(B145,database!$A$6:$BFQ$206,3,FALSE)))","v":""}]
["",null,{"$f":"IF(B146=\"\",\"\",IF(ISERROR(VLOOKUP(B146,database!$A$6:$BFQ$206,4,FALSE)),\"\",VLOOKUP(B146,database!$A$6:$BFQ$206,4,FALSE)))","v":""},null,null,null,"",null,null,null,{"$f":"IF(B146=\"\",\"\",IF(ISERROR(VLOOKUP(B146,database!$A$6:$BFQ$206,3,FALSE)),\"\",VLOOKUP(B146,database!$A$6:$BFQ$206,3,FALSE)))","v":""}]
["",null,{"$f":"IF(B147=\"\",\"\",IF(ISERROR(VLOOKUP(B147,database!$A$6:$BFQ$206,4,FALSE)),\"\",VLOOKUP(B147,database!$A$6:$BFQ$206,4,FALSE)))","v":""},null,null,null,"",null,null,null,{"$f":"IF(B147=\"\",\"\",IF(ISERROR(VLOOKUP(B147,database!$A$6:$BFQ$206,3,FALSE)),\"\",VLOOKUP(B147,database!$A$6:$BFQ$206,3,FALSE)))","v":""}]
["",null,{"$f":"IF(B148=\"\",\"\",IF(ISERROR(VLOOKUP(B148,database!$A$6:$BFQ$206,4,FALSE)),\"\",VLOOKUP(B148,database!$A$6:$BFQ$206,4,FALSE)))","v":""},null,null,null,"",null,null,null,{"$f":"IF(B148=\"\",\"\",IF(ISERROR(VLOOKUP(B148,database!$A$6:$BFQ$206,3,FALSE)),\"\",VLOOKUP(B148,database!$A$6:$BFQ$206,3,FALSE)))","v":""}]
["",null,{"$f":"IF(B149=\"\",\"\",IF(ISERROR(VLOOKUP(B149,database!$A$6:$BFQ$206,4,FALSE)),\"\",VLOOKUP(B149,database!$A$6:$BFQ$206,4,FALSE)))","v":""},null,null,null,"",null,null,null,{"$f":"IF(B149=\"\",\"\",IF(ISERROR(VLOOKUP(B149,database!$A$6:$BFQ$206,3,FALSE)),\"\",VLOOKUP(B149,database!$A$6:$BFQ$206,3,FALSE)))","v":""}]
["",null,{"$f":"IF(B150=\"\",\"\",IF(ISERROR(VLOOKUP(B150,database!$A$6:$BFQ$206,4,FALSE)),\"\",VLOOKUP(B150,database!$A$6:$BFQ$206,4,FALSE)))","v":""},null,null,null,"",null,null,null,{"$f":"IF(B150=\"\",\"\",IF(ISERROR(VLOOKUP(B150,database!$A$6:$BFQ$206,3,FALSE)),\"\",VLOOKUP(B150,database!$A$6:$BFQ$206,3,FALSE)))","v":""}]
["",null,{"$f":"IF(B151=\"\",\"\",IF(ISERROR(VLOOKUP(B151,database!$A$6:$BFQ$206,4,FALSE)),\"\",VLOOKUP(B151,database!$A$6:$BFQ$206,4,FALSE)))","v":""},null,null,null,"",null,null,null,{"$f":"IF(B151=\"\",\"\",IF(ISERROR(VLOOKUP(B151,database!$A$6:$BFQ$206,3,FALSE)),\"\",VLOOKUP(B151,database!$A$6:$BFQ$206,3,FALSE)))","v":""}]
["",null,{"$f":"IF(B152=\"\",\"\",IF(ISERROR(VLOOKUP(B152,database!$A$6:$BFQ$206,4,FALSE)),\"\",VLOOKUP(B152,database!$A$6:$BFQ$206,4,FALSE)))","v":""},null,null,null,"",null,null,null,{"$f":"IF(B152=\"\",\"\",IF(ISERROR(VLOOKUP(B152,database!$A$6:$BFQ$206,3,FALSE)),\"\",VLOOKUP(B152,database!$A$6:$BFQ$206,3,FALSE)))","v":""}]
["",null,{"$f":"IF(B153=\"\",\"\",IF(ISERROR(VLOOKUP(B153,database!$A$6:$BFQ$206,4,FALSE)),\"\",VLOOKUP(B153,database!$A$6:$BFQ$206,4,FALSE)))","v":""},null,null,null,"",null,null,null,{"$f":"IF(B153=\"\",\"\",IF(ISERROR(VLOOKUP(B153,database!$A$6:$BFQ$206,3,FALSE)),\"\",VLOOKUP(B153,database!$A$6:$BFQ$206,3,FALSE)))","v":""}]
["",null,{"$f":"IF(B154=\"\",\"\",IF(ISERROR(VLOOKUP(B154,database!$A$6:$BFQ$206,4,FALSE)),\"\",VLOOKUP(B154,database!$A$6:$BFQ$206,4,FALSE)))","v":""},null,null,null,"",null,null,null,{"$f":"IF(B154=\"\",\"\",IF(ISERROR(VLOOKUP(B154,database!$A$6:$BFQ$206,3,FALSE)),\"\",VLOOKUP(B154,database!$A$6:$BFQ$206,3,FALSE)))","v":""}]
["",null,{"$f":"IF(B155=\"\",\"\",IF(ISERROR(VLOOKUP(B155,database!$A$6:$BFQ$206,4,FALSE)),\"\",VLOOKUP(B155,database!$A$6:$BFQ$206,4,FALSE)))","v":""},null,null,null,"",null,null,null,{"$f":"IF(B155=\"\",\"\",IF(ISERROR(VLOOKUP(B155,database!$A$6:$BFQ$206,3,FALSE)),\"\",VLOOKUP(B155,database!$A$6:$BFQ$206,3,FALSE)))","v":""}]
["",null,{"$f":"IF(B156=\"\",\"\",IF(ISERROR(VLOOKUP(B156,database!$A$6:$BFQ$206,4,FALSE)),\"\",VLOOKUP(B156,database!$A$6:$BFQ$206,4,FALSE)))","v":""},null,null,null,"",null,null,null,{"$f":"IF(B156=\"\",\"\",IF(ISERROR(VLOOKUP(B156,database!$A$6:$BFQ$206,3,FALSE)),\"\",VLOOKUP(B156,database!$A$6:$BFQ$206,3,FALSE)))","v":""}]
["",null,{"$f":"IF(B157=\"\",\"\",IF(ISERROR(VLOOKUP(B157,database!$A$6:$BFQ$206,4,FALSE)),\"\",VLOOKUP(B157,database!$A$6:$BFQ$206,4,FALSE)))","v":""},null,null,null,"",null,null,null,{"$f":"IF(B157=\"\",\"\",IF(ISERROR(VLOOKUP(B157,database!$A$6:$BFQ$206,3,FALSE)),\"\",VLOOKUP(B157,database!$A$6:$BFQ$206,3,FALSE)))","v":""}]
["",null,{"$f":"IF(B158=\"\",\"\",IF(ISERROR(VLOOKUP(B158,database!$A$6:$BFQ$206,4,FALSE)),\"\",VLOOKUP(B158,database!$A$6:$BFQ$206,4,FALSE)))","v":""},null,null,null,"",null,null,null,{"$f":"IF(B158=\"\",\"\",IF(ISERROR(VLOOKUP(B158,database!$A$6:$BFQ$206,3,FALSE)),\"\",VLOOKUP(B158,database!$A$6:$BFQ$206,3,FALSE)))","v":""}]
["",null,{"$f":"IF(B159=\"\",\"\",IF(ISERROR(VLOOKUP(B159,database!$A$6:$BFQ$206,4,FALSE)),\"\",VLOOKUP(B159,database!$A$6:$BFQ$206,4,FALSE)))","v":""},null,null,null,"",null,null,null,{"$f":"IF(B159=\"\",\"\",IF(ISERROR(VLOOKUP(B159,database!$A$6:$BFQ$206,3,FALSE)),\"\",VLOOKUP(B159,database!$A$6:$BFQ$206,3,FALSE)))","v":""}]
["",null,{"$f":"IF(B160=\"\",\"\",IF(ISERROR(VLOOKUP(B160,database!$A$6:$BFQ$206,4,FALSE)),\"\",VLOOKUP(B160,database!$A$6:$BFQ$206,4,FALSE)))","v":""},null,null,null,"",null,null,null,{"$f":"IF(B160=\"\",\"\",IF(ISERROR(VLOOKUP(B160,database!$A$6:$BFQ$206,3,FALSE)),\"\",VLOOKUP(B160,database!$A$6:$BFQ$206,3,FALSE)))","v":""}]
["",null,{"$f":"IF(B161=\"\",\"\",IF(ISERROR(VLOOKUP(B161,database!$A$6:$BFQ$206,4,FALSE)),\"\",VLOOKUP(B161,database!$A$6:$BFQ$206,4,FALSE)))","v":""},null,null,null,"",null,null,null,{"$f":"IF(B161=\"\",\"\",IF(ISERROR(VLOOKUP(B161,database!$A$6:$BFQ$206,3,FALSE)),\"\",VLOOKUP(B161,database!$A$6:$BFQ$206,3,FALSE)))","v":""}]
["",null,{"$f":"IF(B162=\"\",\"\",IF(ISERROR(VLOOKUP(B162,database!$A$6:$BFQ$206,4,FALSE)),\"\",VLOOKUP(B162,database!$A$6:$BFQ$206,4,FALSE)))","v":""},null,null,null,"",null,null,null,{"$f":"IF(B162=\"\",\"\",IF(ISERROR(VLOOKUP(B162,database!$A$6:$BFQ$206,3,FALSE)),\"\",VLOOKUP(B162,database!$A$6:$BFQ$206,3,FALSE)))","v":""}]
["",null,{"$f":"IF(B163=\"\",\"\",IF(ISERROR(VLOOKUP(B163,database!$A$6:$BFQ$206,4,FALSE)),\"\",VLOOKUP(B163,database!$A$6:$BFQ$206,4,FALSE)))","v":""},null,null,null,"",null,null,null,{"$f":"IF(B163=\"\",\"\",IF(ISERROR(VLOOKUP(B163,database!$A$6:$BFQ$206,3,FALSE)),\"\",VLOOKUP(B163,database!$A$6:$BFQ$206,3,FALSE)))","v":""}]
["",null,{"$f":"IF(B164=\"\",\"\",IF(ISERROR(VLOOKUP(B164,database!$A$6:$BFQ$206,4,FALSE)),\"\",VLOOKUP(B164,database!$A$6:$BFQ$206,4,FALSE)))","v":""},null,null,null,"",null,null,null,{"$f":"IF(B164=\"\",\"\",IF(ISERROR(VLOOKUP(B164,database!$A$6:$BFQ$206,3,FALSE)),\"\",VLOOKUP(B164,database!$A$6:$BFQ$206,3,FALSE)))","v":""}]
["",null,{"$f":"IF(B165=\"\",\"\",IF(ISERROR(VLOOKUP(B165,database!$A$6:$BFQ$206,4,FALSE)),\"\",VLOOKUP(B165,database!$A$6:$BFQ$206,4,FALSE)))","v":""},null,null,null,"",null,null,null,{"$f":"IF(B165=\"\",\"\",IF(ISERROR(VLOOKUP(B165,database!$A$6:$BFQ$206,3,FALSE)),\"\",VLOOKUP(B165,database!$A$6:$BFQ$206,3,FALSE)))","v":""}]
["",null,{"$f":"IF(B166=\"\",\"\",IF(ISERROR(VLOOKUP(B166,database!$A$6:$BFQ$206,4,FALSE)),\"\",VLOOKUP(B166,database!$A$6:$BFQ$206,4,FALSE)))","v":""},null,null,null,"",null,null,null,{"$f":"IF(B166=\"\",\"\",IF(ISERROR(VLOOKUP(B166,database!$A$6:$BFQ$206,3,FALSE)),\"\",VLOOKUP(B166,database!$A$6:$BFQ$206,3,FALSE)))","v":""}]
["",null,{"$f":"IF(B167=\"\",\"\",IF(ISERROR(VLOOKUP(B167,database!$A$6:$BFQ$206,4,FALSE)),\"\",VLOOKUP(B167,database!$A$6:$BFQ$206,4,FALSE)))","v":""},null,null,null,"",null,null,null,{"$f":"IF(B167=\"\",\"\",IF(ISERROR(VLOOKUP(B167,database!$A$6:$BFQ$206,3,FALSE)),\"\",VLOOKUP(B167,database!$A$6:$BFQ$206,3,FALSE)))","v":""}]
["",null,{"$f":"IF(B168=\"\",\"\",IF(ISERROR(VLOOKUP(B168,database!$A$6:$BFQ$206,4,FALSE)),\"\",VLOOKUP(B168,database!$A$6:$BFQ$206,4,FALSE)))","v":""},null,null,null,"",null,null,null,{"$f":"IF(B168=\"\",\"\",IF(ISERROR(VLOOKUP(B168,database!$A$6:$BFQ$206,3,FALSE)),\"\",VLOOKUP(B168,database!$A$6:$BFQ$206,3,FALSE)))","v":""}]
["",null,{"$f":"IF(B169=\"\",\"\",IF(ISERROR(VLOOKUP(B169,database!$A$6:$BFQ$206,4,FALSE)),\"\",VLOOKUP(B169,database!$A$6:$BFQ$206,4,FALSE)))","v":""},null,null,null,"",null,null,null,{"$f":"IF(B169=\"\",\"\",IF(ISERROR(VLOOKUP(B169,database!$A$6:$BFQ$206,3,FALSE)),\"\",VLOOKUP(B169,database!$A$6:$BFQ$206,3,FALSE)))","v":""}]
["",null,{"$f":"IF(B170=\"\",\"\",IF(ISERROR(VLOOKUP(B170,database!$A$6:$BFQ$206,4,FALSE)),\"\",VLOOKUP(B170,database!$A$6:$BFQ$206,4,FALSE)))","v":""},null,null,null,"",null,null,null,{"$f":"IF(B170=\"\",\"\",IF(ISERROR(VLOOKUP(B170,database!$A$6:$BFQ$206,3,FALSE)),\"\",VLOOKUP(B170,database!$A$6:$BFQ$206,3,FALSE)))","v":""}]
["",null,{"$f":"IF(B171=\"\",\"\",IF(ISERROR(VLOOKUP(B171,database!$A$6:$BFQ$206,4,FALSE)),\"\",VLOOKUP(B171,database!$A$6:$BFQ$206,4,FALSE)))","v":""},null,null,null,"",null,null,null,{"$f":"IF(B171=\"\",\"\",IF(ISERROR(VLOOKUP(B171,database!$A$6:$BFQ$206,3,FALSE)),\"\",VLOOKUP(B171,database!$A$6:$BFQ$206,3,FALSE)))","v":""}]
["",null,{"$f":"IF(B172=\"\",\"\",IF(ISERROR(VLOOKUP(B172,database!$A$6:$BFQ$206,4,FALSE)),\"\",VLOOKUP(B172,database!$A$6:$BFQ$206,4,FALSE)))","v":""},null,null,null,"",null,null,null,{"$f":"IF(B172=\"\",\"\",IF(ISERROR(VLOOKUP(B172,database!$A$6:$BFQ$206,3,FALSE)),\"\",VLOOKUP(B172,database!$A$6:$BFQ$206,3,FALSE)))","v":""}]
["",null,{"$f":"IF(B173=\"\",\"\",IF(ISERROR(VLOOKUP(B173,database!$A$6:$BFQ$206,4,FALSE)),\"\",VLOOKUP(B173,database!$A$6:$BFQ$206,4,FALSE)))","v":""},null,null,null,"",null,null,null,{"$f":"IF(B173=\"\",\"\",IF(ISERROR(VLOOKUP(B173,database!$A$6:$BFQ$206,3,FALSE)),\"\",VLOOKUP(B173,database!$A$6:$BFQ$206,3,FALSE)))","v":""}]
["",null,{"$f":"IF(B174=\"\",\"\",IF(ISERROR(VLOOKUP(B174,database!$A$6:$BFQ$206,4,FALSE)),\"\",VLOOKUP(B174,database!$A$6:$BFQ$206,4,FALSE)))","v":""},null,null,null,"",null,null,null,{"$f":"IF(B174=\"\",\"\",IF(ISERROR(VLOOKUP(B174,database!$A$6:$BFQ$206,3,FALSE)),\"\",VLOOKUP(B174,database!$A$6:$BFQ$206,3,FALSE)))","v":""}]
["",null,{"$f":"IF(B175=\"\",\"\",IF(ISERROR(VLOOKUP(B175,database!$A$6:$BFQ$206,4,FALSE)),\"\",VLOOKUP(B175,database!$A$6:$BFQ$206,4,FALSE)))","v":""},null,null,null,"",null,null,null,{"$f":"IF(B175=\"\",\"\",IF(ISERROR(VLOOKUP(B175,database!$A$6:$BFQ$206,3,FALSE)),\"\",VLOOKUP(B175,database!$A$6:$BFQ$206,3,FALSE)))","v":""}]
["",null,{"$f":"IF(B176=\"\",\"\",IF(ISERROR(VLOOKUP(B176,database!$A$6:$BFQ$206,4,FALSE)),\"\",VLOOKUP(B176,database!$A$6:$BFQ$206,4,FALSE)))","v":""},null,null,null,"",null,null,null,{"$f":"IF(B176=\"\",\"\",IF(ISERROR(VLOOKUP(B176,database!$A$6:$BFQ$206,3,FALSE)),\"\",VLOOKUP(B176,database!$A$6:$BFQ$206,3,FALSE)))","v":""}]
["",null,{"$f":"IF(B177=\"\",\"\",IF(ISERROR(VLOOKUP(B177,database!$A$6:$BFQ$206,4,FALSE)),\"\",VLOOKUP(B177,database!$A$6:$BFQ$206,4,FALSE)))","v":""},null,null,null,"",null,null,null,{"$f":"IF(B177=\"\",\"\",IF(ISERROR(VLOOKUP(B177,database!$A$6:$BFQ$206,3,FALSE)),\"\",VLOOKUP(B177,database!$A$6:$BFQ$206,3,FALSE)))","v":""}]
["",null,{"$f":"IF(B178=\"\",\"\",IF(ISERROR(VLOOKUP(B178,database!$A$6:$BFQ$206,4,FALSE)),\"\",VLOOKUP(B178,database!$A$6:$BFQ$206,4,FALSE)))","v":""},null,null,null,"",null,null,null,{"$f":"IF(B178=\"\",\"\",IF(ISERROR(VLOOKUP(B178,database!$A$6:$BFQ$206,3,FALSE)),\"\",VLOOKUP(B178,database!$A$6:$BFQ$206,3,FALSE)))","v":""}]
["",null,{"$f":"IF(B179=\"\",\"\",IF(ISERROR(VLOOKUP(B179,database!$A$6:$BFQ$206,4,FALSE)),\"\",VLOOKUP(B179,database!$A$6:$BFQ$206,4,FALSE)))","v":""},null,null,null,"",null,null,null,{"$f":"IF(B179=\"\",\"\",IF(ISERROR(VLOOKUP(B179,database!$A$6:$BFQ$206,3,FALSE)),\"\",VLOOKUP(B179,database!$A$6:$BFQ$206,3,FALSE)))","v":""}]
["",null,{"$f":"IF(B180=\"\",\"\",IF(ISERROR(VLOOKUP(B180,database!$A$6:$BFQ$206,4,FALSE)),\"\",VLOOKUP(B180,database!$A$6:$BFQ$206,4,FALSE)))","v":""},null,null,null,"",null,null,null,{"$f":"IF(B180=\"\",\"\",IF(ISERROR(VLOOKUP(B180,database!$A$6:$BFQ$206,3,FALSE)),\"\",VLOOKUP(B180,database!$A$6:$BFQ$206,3,FALSE)))","v":""}]
["",null,{"$f":"IF(B181=\"\",\"\",IF(ISERROR(VLOOKUP(B181,database!$A$6:$BFQ$206,4,FALSE)),\"\",VLOOKUP(B181,database!$A$6:$BFQ$206,4,FALSE)))","v":""},null,null,null,"",null,null,null,{"$f":"IF(B181=\"\",\"\",IF(ISERROR(VLOOKUP(B181,database!$A$6:$BFQ$206,3,FALSE)),\"\",VLOOKUP(B181,database!$A$6:$BFQ$206,3,FALSE)))","v":""}]
["",null,{"$f":"IF(B182=\"\",\"\",IF(ISERROR(VLOOKUP(B182,database!$A$6:$BFQ$206,4,FALSE)),\"\",VLOOKUP(B182,database!$A$6:$BFQ$206,4,FALSE)))","v":""},null,null,null,"",null,null,null,{"$f":"IF(B182=\"\",\"\",IF(ISERROR(VLOOKUP(B182,database!$A$6:$BFQ$206,3,FALSE)),\"\",VLOOKUP(B182,database!$A$6:$BFQ$206,3,FALSE)))","v":""}]
["",null,{"$f":"IF(B183=\"\",\"\",IF(ISERROR(VLOOKUP(B183,database!$A$6:$BFQ$206,4,FALSE)),\"\",VLOOKUP(B183,database!$A$6:$BFQ$206,4,FALSE)))","v":""},null,null,null,"",null,null,null,{"$f":"IF(B183=\"\",\"\",IF(ISERROR(VLOOKUP(B183,database!$A$6:$BFQ$206,3,FALSE)),\"\",VLOOKUP(B183,database!$A$6:$BFQ$206,3,FALSE)))","v":""}]
["",null,{"$f":"IF(B184=\"\",\"\",IF(ISERROR(VLOOKUP(B184,database!$A$6:$BFQ$206,4,FALSE)),\"\",VLOOKUP(B184,database!$A$6:$BFQ$206,4,FALSE)))","v":""},null,null,null,"",null,null,null,{"$f":"IF(B184=\"\",\"\",IF(ISERROR(VLOOKUP(B184,database!$A$6:$BFQ$206,3,FALSE)),\"\",VLOOKUP(B184,database!$A$6:$BFQ$206,3,FALSE)))","v":""}]
["",null,{"$f":"IF(B185=\"\",\"\",IF(ISERROR(VLOOKUP(B185,database!$A$6:$BFQ$206,4,FALSE)),\"\",VLOOKUP(B185,database!$A$6:$BFQ$206,4,FALSE)))","v":""},null,null,null,"",null,null,null,{"$f":"IF(B185=\"\",\"\",IF(ISERROR(VLOOKUP(B185,database!$A$6:$BFQ$206,3,FALSE)),\"\",VLOOKUP(B185,database!$A$6:$BFQ$206,3,FALSE)))","v":""}]
["",null,{"$f":"IF(B186=\"\",\"\",IF(ISERROR(VLOOKUP(B186,database!$A$6:$BFQ$206,4,FALSE)),\"\",VLOOKUP(B186,database!$A$6:$BFQ$206,4,FALSE)))","v":""},null,null,null,"",null,null,null,{"$f":"IF(B186=\"\",\"\",IF(ISERROR(VLOOKUP(B186,database!$A$6:$BFQ$206,3,FALSE)),\"\",VLOOKUP(B186,database!$A$6:$BFQ$206,3,FALSE)))","v":""}]
["",null,{"$f":"IF(B187=\"\",\"\",IF(ISERROR(VLOOKUP(B187,database!$A$6:$BFQ$206,4,FALSE)),\"\",VLOOKUP(B187,database!$A$6:$BFQ$206,4,FALSE)))","v":""},null,null,null,"",null,null,null,{"$f":"IF(B187=\"\",\"\",IF(ISERROR(VLOOKUP(B187,database!$A$6:$BFQ$206,3,FALSE)),\"\",VLOOKUP(B187,database!$A$6:$BFQ$206,3,FALSE)))","v":""}]
["",null,{"$f":"IF(B188=\"\",\"\",IF(ISERROR(VLOOKUP(B188,database!$A$6:$BFQ$206,4,FALSE)),\"\",VLOOKUP(B188,database!$A$6:$BFQ$206,4,FALSE)))","v":""},null,null,null,"",null,null,null,{"$f":"IF(B188=\"\",\"\",IF(ISERROR(VLOOKUP(B188,database!$A$6:$BFQ$206,3,FALSE)),\"\",VLOOKUP(B188,database!$A$6:$BFQ$206,3,FALSE)))","v":""}]
["",null,{"$f":"IF(B189=\"\",\"\",IF(ISERROR(VLOOKUP(B189,database!$A$6:$BFQ$206,4,FALSE)),\"\",VLOOKUP(B189,database!$A$6:$BFQ$206,4,FALSE)))","v":""},null,null,null,"",null,null,null,{"$f":"IF(B189=\"\",\"\",IF(ISERROR(VLOOKUP(B189,database!$A$6:$BFQ$206,3,FALSE)),\"\",VLOOKUP(B189,database!$A$6:$BFQ$206,3,FALSE)))","v":""}]
["",null,{"$f":"IF(B190=\"\",\"\",IF(ISERROR(VLOOKUP(B190,database!$A$6:$BFQ$206,4,FALSE)),\"\",VLOOKUP(B190,database!$A$6:$BFQ$206,4,FALSE)))","v":""},null,null,null,"",null,null,null,{"$f":"IF(B190=\"\",\"\",IF(ISERROR(VLOOKUP(B190,database!$A$6:$BFQ$206,3,FALSE)),\"\",VLOOKUP(B190,database!$A$6:$BFQ$206,3,FALSE)))","v":""}]
["",null,{"$f":"IF(B191=\"\",\"\",IF(ISERROR(VLOOKUP(B191,database!$A$6:$BFQ$206,4,FALSE)),\"\",VLOOKUP(B191,database!$A$6:$BFQ$206,4,FALSE)))","v":""},null,null,null,"",null,null,null,{"$f":"IF(B191=\"\",\"\",IF(ISERROR(VLOOKUP(B191,database!$A$6:$BFQ$206,3,FALSE)),\"\",VLOOKUP(B191,database!$A$6:$BFQ$206,3,FALSE)))","v":""}]
["",null,{"$f":"IF(B192=\"\",\"\",IF(ISERROR(VLOOKUP(B192,database!$A$6:$BFQ$206,4,FALSE)),\"\",VLOOKUP(B192,database!$A$6:$BFQ$206,4,FALSE)))","v":""},null,null,null,"",null,null,null,{"$f":"IF(B192=\"\",\"\",IF(ISERROR(VLOOKUP(B192,database!$A$6:$BFQ$206,3,FALSE)),\"\",VLOOKUP(B192,database!$A$6:$BFQ$206,3,FALSE)))","v":""}]
[{"$f":"IF(B193=\"\",\"\",ROW(A190))","v":""},null,{"$f":"IF(B193=\"\",\"\",IF(ISERROR(VLOOKUP(B193,database!$A$6:$BFQ$206,4,FALSE)),\"\",VLOOKUP(B193,database!$A$6:$BFQ$206,4,FALSE)))","v":""},null,null,null,{"$f":"IF(B193=\"\",\"\",IF(C193=\"\",0,1))","v":""},null,null,null,{"$f":"IF(B193=\"\",\"\",IF(ISERROR(VLOOKUP(B193,database!$A$6:$BFQ$206,3,FALSE)),\"\",VLOOKUP(B193,database!$A$6:$BFQ$206,3,FALSE)))","v":""}]
["",null,{"$f":"IF(B194=\"\",\"\",IF(ISERROR(VLOOKUP(B194,database!$A$6:$BFQ$206,4,FALSE)),\"\",VLOOKUP(B194,database!$A$6:$BFQ$206,4,FALSE)))","v":""},null,null,null,"",null,null,null,{"$f":"IF(B194=\"\",\"\",IF(ISERROR(VLOOKUP(B194,database!$A$6:$BFQ$206,3,FALSE)),\"\",VLOOKUP(B194,database!$A$6:$BFQ$206,3,FALSE)))","v":""}]
["",null,{"$f":"IF(B195=\"\",\"\",IF(ISERROR(VLOOKUP(B195,database!$A$6:$BFQ$206,4,FALSE)),\"\",VLOOKUP(B195,database!$A$6:$BFQ$206,4,FALSE)))","v":""},null,null,null,"",null,null,null,{"$f":"IF(B195=\"\",\"\",IF(ISERROR(VLOOKUP(B195,database!$A$6:$BFQ$206,3,FALSE)),\"\",VLOOKUP(B195,database!$A$6:$BFQ$206,3,FALSE)))","v":""}]
["",null,{"$f":"IF(B196=\"\",\"\",IF(ISERROR(VLOOKUP(B196,database!$A$6:$BFQ$206,4,FALSE)),\"\",VLOOKUP(B196,database!$A$6:$BFQ$206,4,FALSE)))","v":""},null,null,null,"",null,null,null,{"$f":"IF(B196=\"\",\"\",IF(ISERROR(VLOOKUP(B196,database!$A$6:$BFQ$206,3,FALSE)),\"\",VLOOKUP(B196,database!$A$6:$BFQ$206,3,FALSE)))","v":""}]
["",null,{"$f":"IF(B197=\"\",\"\",IF(ISERROR(VLOOKUP(B197,database!$A$6:$BFQ$206,4,FALSE)),\"\",VLOOKUP(B197,database!$A$6:$BFQ$206,4,FALSE)))","v":""},null,null,null,"",null,null,null,{"$f":"IF(B197=\"\",\"\",IF(ISERROR(VLOOKUP(B197,database!$A$6:$BFQ$206,3,FALSE)),\"\",VLOOKUP(B197,database!$A$6:$BFQ$206,3,FALSE)))","v":""}]
["",null,{"$f":"IF(B198=\"\",\"\",IF(ISERROR(VLOOKUP(B198,database!$A$6:$BFQ$206,4,FALSE)),\"\",VLOOKUP(B198,database!$A$6:$BFQ$206,4,FALSE)))","v":""},null,null,null,"",null,null,null,{"$f":"IF(B198=\"\",\"\",IF(ISERROR(VLOOKUP(B198,database!$A$6:$BFQ$206,3,FALSE)),\"\",VLOOKUP(B198,database!$A$6:$BFQ$206,3,FALSE)))","v":""}]
["",null,{"$f":"IF(B199=\"\",\"\",IF(ISERROR(VLOOKUP(B199,database!$A$6:$BFQ$206,4,FALSE)),\"\",VLOOKUP(B199,database!$A$6:$BFQ$206,4,FALSE)))","v":""},null,null,null,"",null,null,null,{"$f":"IF(B199=\"\",\"\",IF(ISERROR(VLOOKUP(B199,database!$A$6:$BFQ$206,3,FALSE)),\"\",VLOOKUP(B199,database!$A$6:$BFQ$206,3,FALSE)))","v":""}]
["",null,{"$f":"IF(B200=\"\",\"\",IF(ISERROR(VLOOKUP(B200,database!$A$6:$BFQ$206,4,FALSE)),\"\",VLOOKUP(B200,database!$A$6:$BFQ$206,4,FALSE)))","v":""},null,null,null,"",null,null,null,{"$f":"IF(B200=\"\",\"\",IF(ISERROR(VLOOKUP(B200,database!$A$6:$BFQ$206,3,FALSE)),\"\",VLOOKUP(B200,database!$A$6:$BFQ$206,3,FALSE)))","v":""}]
["",null,{"$f":"IF(B201=\"\",\"\",IF(ISERROR(VLOOKUP(B201,database!$A$6:$BFQ$206,4,FALSE)),\"\",VLOOKUP(B201,database!$A$6:$BFQ$206,4,FALSE)))","v":""},null,null,null,"",null,null,null,{"$f":"IF(B201=\"\",\"\",IF(ISERROR(VLOOKUP(B201,database!$A$6:$BFQ$206,3,FALSE)),\"\",VLOOKUP(B201,database!$A$6:$BFQ$206,3,FALSE)))","v":""}]
["",null,{"$f":"IF(B202=\"\",\"\",IF(ISERROR(VLOOKUP(B202,database!$A$6:$BFQ$206,4,FALSE)),\"\",VLOOKUP(B202,database!$A$6:$BFQ$206,4,FALSE)))","v":""},null,null,null,"",null,null,null,{"$f":"IF(B202=\"\",\"\",IF(ISERROR(VLOOKUP(B202,database!$A$6:$BFQ$206,3,FALSE)),\"\",VLOOKUP(B202,database!$A$6:$BFQ$206,3,FALSE)))","v":""}]
["",null,{"$f":"IF(B203=\"\",\"\",IF(ISERROR(VLOOKUP(B203,database!$A$6:$BFQ$206,4,FALSE)),\"\",VLOOKUP(B203,database!$A$6:$BFQ$206,4,FALSE)))","v":""},null,null,null,"",null,null,null,{"$f":"IF(B203=\"\",\"\",IF(ISERROR(VLOOKUP(B203,database!$A$6:$BFQ$206,3,FALSE)),\"\",VLOOKUP(B203,database!$A$6:$BFQ$206,3,FALSE)))","v":""}]
["",null,{"$f":"IF(B204=\"\",\"\",IF(ISERROR(VLOOKUP(B204,database!$A$6:$BFQ$206,4,FALSE)),\"\",VLOOKUP(B204,database!$A$6:$BFQ$206,4,FALSE)))","v":""},null,null,null,"",null,null,null,{"$f":"IF(B204=\"\",\"\",IF(ISERROR(VLOOKUP(B204,database!$A$6:$BFQ$206,3,FALSE)),\"\",VLOOKUP(B204,database!$A$6:$BFQ$206,3,FALSE)))","v":""}]
["",null,{"$f":"IF(B205=\"\",\"\",IF(ISERROR(VLOOKUP(B205,database!$A$6:$BFQ$206,4,FALSE)),\"\",VLOOKUP(B205,database!$A$6:$BFQ$206,4,FALSE)))","v":""},null,null,null,"",null,null,null,{"$f":"IF(B205=\"\",\"\",IF(ISERROR(VLOOKUP(B205,database!$A$6:$BFQ$206,3,FALSE)),\"\",VLOOKUP(B205,database!$A$6:$BFQ$206,3,FALSE)))","v":""}]
["",null,{"$f":"IF(B206=\"\",\"\",IF(ISERROR(VLOOKUP(B206,database!$A$6:$BFQ$206,4,FALSE)),\"\",VLOOKUP(B206,database!$A$6:$BFQ$206,4,FALSE)))","v":""},null,null,null,"",null,null,null,{"$f":"IF(B206=\"\",\"\",IF(ISERROR(VLOOKUP(B206,database!$A$6:$BFQ$206,3,FALSE)),\"\",VLOOKUP(B206,database!$A$6:$BFQ$206,3,FALSE)))","v":""}]
["",null,{"$f":"IF(B207=\"\",\"\",IF(ISERROR(VLOOKUP(B207,database!$A$6:$BFQ$206,4,FALSE)),\"\",VLOOKUP(B207,database!$A$6:$BFQ$206,4,FALSE)))","v":""},null,null,null,"",null,null,null,{"$f":"IF(B207=\"\",\"\",IF(ISERROR(VLOOKUP(B207,database!$A$6:$BFQ$206,3,FALSE)),\"\",VLOOKUP(B207,database!$A$6:$BFQ$206,3,FALSE)))","v":""}]
["",null,{"$f":"IF(B208=\"\",\"\",IF(ISERROR(VLOOKUP(B208,database!$A$6:$BFQ$206,4,FALSE)),\"\",VLOOKUP(B208,database!$A$6:$BFQ$206,4,FALSE)))","v":""},null,null,null,"",null,null,null,{"$f":"IF(B208=\"\",\"\",IF(ISERROR(VLOOKUP(B208,database!$A$6:$BFQ$206,3,FALSE)),\"\",VLOOKUP(B208,database!$A$6:$BFQ$206,3,FALSE)))","v":""}]
["",null,{"$f":"IF(B209=\"\",\"\",IF(ISERROR(VLOOKUP(B209,database!$A$6:$BFQ$206,4,FALSE)),\"\",VLOOKUP(B209,database!$A$6:$BFQ$206,4,FALSE)))","v":""},null,null,null,"",null,null,null,{"$f":"IF(B209=\"\",\"\",IF(ISERROR(VLOOKUP(B209,database!$A$6:$BFQ$206,3,FALSE)),\"\",VLOOKUP(B209,database!$A$6:$BFQ$206,3,FALSE)))","v":""}]
["",null,{"$f":"IF(B210=\"\",\"\",IF(ISERROR(VLOOKUP(B210,database!$A$6:$BFQ$206,4,FALSE)),\"\",VLOOKUP(B210,database!$A$6:$BFQ$206,4,FALSE)))","v":""},null,null,null,"",null,null,null,{"$f":"IF(B210=\"\",\"\",IF(ISERROR(VLOOKUP(B210,database!$A$6:$BFQ$206,3,FALSE)),\"\",VLOOKUP(B210,database!$A$6:$BFQ$206,3,FALSE)))","v":""}]
["",null,{"$f":"IF(B211=\"\",\"\",IF(ISERROR(VLOOKUP(B211,database!$A$6:$BFQ$206,4,FALSE)),\"\",VLOOKUP(B211,database!$A$6:$BFQ$206,4,FALSE)))","v":""},null,null,null,"",null,null,null,{"$f":"IF(B211=\"\",\"\",IF(ISERROR(VLOOKUP(B211,database!$A$6:$BFQ$206,3,FALSE)),\"\",VLOOKUP(B211,database!$A$6:$BFQ$206,3,FALSE)))","v":""}]
["",null,{"$f":"IF(B212=\"\",\"\",IF(ISERROR(VLOOKUP(B212,database!$A$6:$BFQ$206,4,FALSE)),\"\",VLOOKUP(B212,database!$A$6:$BFQ$206,4,FALSE)))","v":""},null,null,null,"",null,null,null,{"$f":"IF(B212=\"\",\"\",IF(ISERROR(VLOOKUP(B212,database!$A$6:$BFQ$206,3,FALSE)),\"\",VLOOKUP(B212,database!$A$6:$BFQ$206,3,FALSE)))","v":""}]
["",null,{"$f":"IF(B213=\"\",\"\",IF(ISERROR(VLOOKUP(B213,database!$A$6:$BFQ$206,4,FALSE)),\"\",VLOOKUP(B213,database!$A$6:$BFQ$206,4,FALSE)))","v":""},null,null,null,"",null,null,null,{"$f":"IF(B213=\"\",\"\",IF(ISERROR(VLOOKUP(B213,database!$A$6:$BFQ$206,3,FALSE)),\"\",VLOOKUP(B213,database!$A$6:$BFQ$206,3,FALSE)))","v":""}]
["",null,{"$f":"IF(B214=\"\",\"\",IF(ISERROR(VLOOKUP(B214,database!$A$6:$BFQ$206,4,FALSE)),\"\",VLOOKUP(B214,database!$A$6:$BFQ$206,4,FALSE)))","v":""},null,null,null,"",null,null,null,{"$f":"IF(B214=\"\",\"\",IF(ISERROR(VLOOKUP(B214,database!$A$6:$BFQ$206,3,FALSE)),\"\",VLOOKUP(B214,database!$A$6:$BFQ$206,3,FALSE)))","v":""}]
["",null,{"$f":"IF(B215=\"\",\"\",IF(ISERROR(VLOOKUP(B215,database!$A$6:$BFQ$206,4,FALSE)),\"\",VLOOKUP(B215,database!$A$6:$BFQ$206,4,FALSE)))","v":""},null,null,null,"",null,null,null,{"$f":"IF(B215=\"\",\"\",IF(ISERROR(VLOOKUP(B215,database!$A$6:$BFQ$206,3,FALSE)),\"\",VLOOKUP(B215,database!$A$6:$BFQ$206,3,FALSE)))","v":""}]
["",null,{"$f":"IF(B216=\"\",\"\",IF(ISERROR(VLOOKUP(B216,database!$A$6:$BFQ$206,4,FALSE)),\"\",VLOOKUP(B216,database!$A$6:$BFQ$206,4,FALSE)))","v":""},null,null,null,"",null,null,null,{"$f":"IF(B216=\"\",\"\",IF(ISERROR(VLOOKUP(B216,database!$A$6:$BFQ$206,3,FALSE)),\"\",VLOOKUP(B216,database!$A$6:$BFQ$206,3,FALSE)))","v":""}]
["",null,{"$f":"IF(B217=\"\",\"\",IF(ISERROR(VLOOKUP(B217,database!$A$6:$BFQ$206,4,FALSE)),\"\",VLOOKUP(B217,database!$A$6:$BFQ$206,4,FALSE)))","v":""},null,null,null,"",null,null,null,{"$f":"IF(B217=\"\",\"\",IF(ISERROR(VLOOKUP(B217,database!$A$6:$BFQ$206,3,FALSE)),\"\",VLOOKUP(B217,database!$A$6:$BFQ$206,3,FALSE)))","v":""}]
["",null,{"$f":"IF(B218=\"\",\"\",IF(ISERROR(VLOOKUP(B218,database!$A$6:$BFQ$206,4,FALSE)),\"\",VLOOKUP(B218,database!$A$6:$BFQ$206,4,FALSE)))","v":""},null,null,null,"",null,null,null,{"$f":"IF(B218=\"\",\"\",IF(ISERROR(VLOOKUP(B218,database!$A$6:$BFQ$206,3,FALSE)),\"\",VLOOKUP(B218,database!$A$6:$BFQ$206,3,FALSE)))","v":""}]
["",null,{"$f":"IF(B219=\"\",\"\",IF(ISERROR(VLOOKUP(B219,database!$A$6:$BFQ$206,4,FALSE)),\"\",VLOOKUP(B219,database!$A$6:$BFQ$206,4,FALSE)))","v":""},null,null,null,"",null,null,null,{"$f":"IF(B219=\"\",\"\",IF(ISERROR(VLOOKUP(B219,database!$A$6:$BFQ$206,3,FALSE)),\"\",VLOOKUP(B219,database!$A$6:$BFQ$206,3,FALSE)))","v":""}]
["",null,{"$f":"IF(B220=\"\",\"\",IF(ISERROR(VLOOKUP(B220,database!$A$6:$BFQ$206,4,FALSE)),\"\",VLOOKUP(B220,database!$A$6:$BFQ$206,4,FALSE)))","v":""},null,null,null,"",null,null,null,{"$f":"IF(B220=\"\",\"\",IF(ISERROR(VLOOKUP(B220,database!$A$6:$BFQ$206,3,FALSE)),\"\",VLOOKUP(B220,database!$A$6:$BFQ$206,3,FALSE)))","v":""}]
["",null,{"$f":"IF(B221=\"\",\"\",IF(ISERROR(VLOOKUP(B221,database!$A$6:$BFQ$206,4,FALSE)),\"\",VLOOKUP(B221,database!$A$6:$BFQ$206,4,FALSE)))","v":""},null,null,null,"",null,null,null,{"$f":"IF(B221=\"\",\"\",IF(ISERROR(VLOOKUP(B221,database!$A$6:$BFQ$206,3,FALSE)),\"\",VLOOKUP(B221,database!$A$6:$BFQ$206,3,FALSE)))","v":""}]
["",null,{"$f":"IF(B222=\"\",\"\",IF(ISERROR(VLOOKUP(B222,database!$A$6:$BFQ$206,4,FALSE)),\"\",VLOOKUP(B222,database!$A$6:$BFQ$206,4,FALSE)))","v":""},null,null,null,"",null,null,null,{"$f":"IF(B222=\"\",\"\",IF(ISERROR(VLOOKUP(B222,database!$A$6:$BFQ$206,3,FALSE)),\"\",VLOOKUP(B222,database!$A$6:$BFQ$206,3,FALSE)))","v":""}]
["",null,{"$f":"IF(B223=\"\",\"\",IF(ISERROR(VLOOKUP(B223,database!$A$6:$BFQ$206,4,FALSE)),\"\",VLOOKUP(B223,database!$A$6:$BFQ$206,4,FALSE)))","v":""},null,null,null,"",null,null,null,{"$f":"IF(B223=\"\",\"\",IF(ISERROR(VLOOKUP(B223,database!$A$6:$BFQ$206,3,FALSE)),\"\",VLOOKUP(B223,database!$A$6:$BFQ$206,3,FALSE)))","v":""}]
["",null,{"$f":"IF(B224=\"\",\"\",IF(ISERROR(VLOOKUP(B224,database!$A$6:$BFQ$206,4,FALSE)),\"\",VLOOKUP(B224,database!$A$6:$BFQ$206,4,FALSE)))","v":""},null,null,null,"",null,null,null,{"$f":"IF(B224=\"\",\"\",IF(ISERROR(VLOOKUP(B224,database!$A$6:$BFQ$206,3,FALSE)),\"\",VLOOKUP(B224,database!$A$6:$BFQ$206,3,FALSE)))","v":""}]
["",null,{"$f":"IF(B225=\"\",\"\",IF(ISERROR(VLOOKUP(B225,database!$A$6:$BFQ$206,4,FALSE)),\"\",VLOOKUP(B225,database!$A$6:$BFQ$206,4,FALSE)))","v":""},null,null,null,"",null,null,null,{"$f":"IF(B225=\"\",\"\",IF(ISERROR(VLOOKUP(B225,database!$A$6:$BFQ$206,3,FALSE)),\"\",VLOOKUP(B225,database!$A$6:$BFQ$206,3,FALSE)))","v":""}]
["",null,{"$f":"IF(B226=\"\",\"\",IF(ISERROR(VLOOKUP(B226,database!$A$6:$BFQ$206,4,FALSE)),\"\",VLOOKUP(B226,database!$A$6:$BFQ$206,4,FALSE)))","v":""},null,null,null,"",null,null,null,{"$f":"IF(B226=\"\",\"\",IF(ISERROR(VLOOKUP(B226,database!$A$6:$BFQ$206,3,FALSE)),\"\",VLOOKUP(B226,database!$A$6:$BFQ$206,3,FALSE)))","v":""}]
["",null,{"$f":"IF(B227=\"\",\"\",IF(ISERROR(VLOOKUP(B227,database!$A$6:$BFQ$206,4,FALSE)),\"\",VLOOKUP(B227,database!$A$6:$BFQ$206,4,FALSE)))","v":""},null,null,null,"",null,null,null,{"$f":"IF(B227=\"\",\"\",IF(ISERROR(VLOOKUP(B227,database!$A$6:$BFQ$206,3,FALSE)),\"\",VLOOKUP(B227,database!$A$6:$BFQ$206,3,FALSE)))","v":""}]
["",null,{"$f":"IF(B228=\"\",\"\",IF(ISERROR(VLOOKUP(B228,database!$A$6:$BFQ$206,4,FALSE)),\"\",VLOOKUP(B228,database!$A$6:$BFQ$206,4,FALSE)))","v":""},null,null,null,"",null,null,null,{"$f":"IF(B228=\"\",\"\",IF(ISERROR(VLOOKUP(B228,database!$A$6:$BFQ$206,3,FALSE)),\"\",VLOOKUP(B228,database!$A$6:$BFQ$206,3,FALSE)))","v":""}]
["",null,{"$f":"IF(B229=\"\",\"\",IF(ISERROR(VLOOKUP(B229,database!$A$6:$BFQ$206,4,FALSE)),\"\",VLOOKUP(B229,database!$A$6:$BFQ$206,4,FALSE)))","v":""},null,null,null,"",null,null,null,{"$f":"IF(B229=\"\",\"\",IF(ISERROR(VLOOKUP(B229,database!$A$6:$BFQ$206,3,FALSE)),\"\",VLOOKUP(B229,database!$A$6:$BFQ$206,3,FALSE)))","v":""}]
["",null,{"$f":"IF(B230=\"\",\"\",IF(ISERROR(VLOOKUP(B230,database!$A$6:$BFQ$206,4,FALSE)),\"\",VLOOKUP(B230,database!$A$6:$BFQ$206,4,FALSE)))","v":""},null,null,null,"",null,null,null,{"$f":"IF(B230=\"\",\"\",IF(ISERROR(VLOOKUP(B230,database!$A$6:$BFQ$206,3,FALSE)),\"\",VLOOKUP(B230,database!$A$6:$BFQ$206,3,FALSE)))","v":""}]
["",null,{"$f":"IF(B231=\"\",\"\",IF(ISERROR(VLOOKUP(B231,database!$A$6:$BFQ$206,4,FALSE)),\"\",VLOOKUP(B231,database!$A$6:$BFQ$206,4,FALSE)))","v":""},null,null,null,"",null,null,null,{"$f":"IF(B231=\"\",\"\",IF(ISERROR(VLOOKUP(B231,database!$A$6:$BFQ$206,3,FALSE)),\"\",VLOOKUP(B231,database!$A$6:$BFQ$206,3,FALSE)))","v":""}]
["",null,{"$f":"IF(B232=\"\",\"\",IF(ISERROR(VLOOKUP(B232,database!$A$6:$BFQ$206,4,FALSE)),\"\",VLOOKUP(B232,database!$A$6:$BFQ$206,4,FALSE)))","v":""},null,null,null,"",null,null,null,{"$f":"IF(B232=\"\",\"\",IF(ISERROR(VLOOKUP(B232,database!$A$6:$BFQ$206,3,FALSE)),\"\",VLOOKUP(B232,database!$A$6:$BFQ$206,3,FALSE)))","v":""}]
["",null,{"$f":"IF(B233=\"\",\"\",IF(ISERROR(VLOOKUP(B233,database!$A$6:$BFQ$206,4,FALSE)),\"\",VLOOKUP(B233,database!$A$6:$BFQ$206,4,FALSE)))","v":""},null,null,null,"",null,null,null,{"$f":"IF(B233=\"\",\"\",IF(ISERROR(VLOOKUP(B233,database!$A$6:$BFQ$206,3,FALSE)),\"\",VLOOKUP(B233,database!$A$6:$BFQ$206,3,FALSE)))","v":""}]
["",null,{"$f":"IF(B234=\"\",\"\",IF(ISERROR(VLOOKUP(B234,database!$A$6:$BFQ$206,4,FALSE)),\"\",VLOOKUP(B234,database!$A$6:$BFQ$206,4,FALSE)))","v":""},null,null,null,"",null,null,null,{"$f":"IF(B234=\"\",\"\",IF(ISERROR(VLOOKUP(B234,database!$A$6:$BFQ$206,3,FALSE)),\"\",VLOOKUP(B234,database!$A$6:$BFQ$206,3,FALSE)))","v":""}]
["",null,{"$f":"IF(B235=\"\",\"\",IF(ISERROR(VLOOKUP(B235,database!$A$6:$BFQ$206,4,FALSE)),\"\",VLOOKUP(B235,database!$A$6:$BFQ$206,4,FALSE)))","v":""},null,null,null,"",null,null,null,{"$f":"IF(B235=\"\",\"\",IF(ISERROR(VLOOKUP(B235,database!$A$6:$BFQ$206,3,FALSE)),\"\",VLOOKUP(B235,database!$A$6:$BFQ$206,3,FALSE)))","v":""}]
["",null,{"$f":"IF(B236=\"\",\"\",IF(ISERROR(VLOOKUP(B236,database!$A$6:$BFQ$206,4,FALSE)),\"\",VLOOKUP(B236,database!$A$6:$BFQ$206,4,FALSE)))","v":""},null,null,null,"",null,null,null,{"$f":"IF(B236=\"\",\"\",IF(ISERROR(VLOOKUP(B236,database!$A$6:$BFQ$206,3,FALSE)),\"\",VLOOKUP(B236,database!$A$6:$BFQ$206,3,FALSE)))","v":""}]
["",null,{"$f":"IF(B237=\"\",\"\",IF(ISERROR(VLOOKUP(B237,database!$A$6:$BFQ$206,4,FALSE)),\"\",VLOOKUP(B237,database!$A$6:$BFQ$206,4,FALSE)))","v":""},null,null,null,"",null,null,null,{"$f":"IF(B237=\"\",\"\",IF(ISERROR(VLOOKUP(B237,database!$A$6:$BFQ$206,3,FALSE)),\"\",VLOOKUP(B237,database!$A$6:$BFQ$206,3,FALSE)))","v":""}]
["",null,{"$f":"IF(B238=\"\",\"\",IF(ISERROR(VLOOKUP(B238,database!$A$6:$BFQ$206,4,FALSE)),\"\",VLOOKUP(B238,database!$A$6:$BFQ$206,4,FALSE)))","v":""},null,null,null,"",null,null,null,{"$f":"IF(B238=\"\",\"\",IF(ISERROR(VLOOKUP(B238,database!$A$6:$BFQ$206,3,FALSE)),\"\",VLOOKUP(B238,database!$A$6:$BFQ$206,3,FALSE)))","v":""}]
["",null,{"$f":"IF(B239=\"\",\"\",IF(ISERROR(VLOOKUP(B239,database!$A$6:$BFQ$206,4,FALSE)),\"\",VLOOKUP(B239,database!$A$6:$BFQ$206,4,FALSE)))","v":""},null,null,null,"",null,null,null,{"$f":"IF(B239=\"\",\"\",IF(ISERROR(VLOOKUP(B239,database!$A$6:$BFQ$206,3,FALSE)),\"\",VLOOKUP(B239,database!$A$6:$BFQ$206,3,FALSE)))","v":""}]
["",null,{"$f":"IF(B240=\"\",\"\",IF(ISERROR(VLOOKUP(B240,database!$A$6:$BFQ$206,4,FALSE)),\"\",VLOOKUP(B240,database!$A$6:$BFQ$206,4,FALSE)))","v":""},null,null,null,"",null,null,null,{"$f":"IF(B240=\"\",\"\",IF(ISERROR(VLOOKUP(B240,database!$A$6:$BFQ$206,3,FALSE)),\"\",VLOOKUP(B240,database!$A$6:$BFQ$206,3,FALSE)))","v":""}]
["",null,{"$f":"IF(B241=\"\",\"\",IF(ISERROR(VLOOKUP(B241,database!$A$6:$BFQ$206,4,FALSE)),\"\",VLOOKUP(B241,database!$A$6:$BFQ$206,4,FALSE)))","v":""},null,null,null,"",null,null,null,{"$f":"IF(B241=\"\",\"\",IF(ISERROR(VLOOKUP(B241,database!$A$6:$BFQ$206,3,FALSE)),\"\",VLOOKUP(B241,database!$A$6:$BFQ$206,3,FALSE)))","v":""}]
["",null,{"$f":"IF(B242=\"\",\"\",IF(ISERROR(VLOOKUP(B242,database!$A$6:$BFQ$206,4,FALSE)),\"\",VLOOKUP(B242,database!$A$6:$BFQ$206,4,FALSE)))","v":""},null,null,null,"",null,null,null,{"$f":"IF(B242=\"\",\"\",IF(ISERROR(VLOOKUP(B242,database!$A$6:$BFQ$206,3,FALSE)),\"\",VLOOKUP(B242,database!$A$6:$BFQ$206,3,FALSE)))","v":""}]
["",null,{"$f":"IF(B243=\"\",\"\",IF(ISERROR(VLOOKUP(B243,database!$A$6:$BFQ$206,4,FALSE)),\"\",VLOOKUP(B243,database!$A$6:$BFQ$206,4,FALSE)))","v":""},null,null,null,"",null,null,null,{"$f":"IF(B243=\"\",\"\",IF(ISERROR(VLOOKUP(B243,database!$A$6:$BFQ$206,3,FALSE)),\"\",VLOOKUP(B243,database!$A$6:$BFQ$206,3,FALSE)))","v":""}]
["",null,{"$f":"IF(B244=\"\",\"\",IF(ISERROR(VLOOKUP(B244,database!$A$6:$BFQ$206,4,FALSE)),\"\",VLOOKUP(B244,database!$A$6:$BFQ$206,4,FALSE)))","v":""},null,null,null,"",null,null,null,{"$f":"IF(B244=\"\",\"\",IF(ISERROR(VLOOKUP(B244,database!$A$6:$BFQ$206,3,FALSE)),\"\",VLOOKUP(B244,database!$A$6:$BFQ$206,3,FALSE)))","v":""}]
["",null,{"$f":"IF(B245=\"\",\"\",IF(ISERROR(VLOOKUP(B245,database!$A$6:$BFQ$206,4,FALSE)),\"\",VLOOKUP(B245,database!$A$6:$BFQ$206,4,FALSE)))","v":""},null,null,null,"",null,null,null,{"$f":"IF(B245=\"\",\"\",IF(ISERROR(VLOOKUP(B245,database!$A$6:$BFQ$206,3,FALSE)),\"\",VLOOKUP(B245,database!$A$6:$BFQ$206,3,FALSE)))","v":""}]
["",null,{"$f":"IF(B246=\"\",\"\",IF(ISERROR(VLOOKUP(B246,database!$A$6:$BFQ$206,4,FALSE)),\"\",VLOOKUP(B246,database!$A$6:$BFQ$206,4,FALSE)))","v":""},null,null,null,"",null,null,null,{"$f":"IF(B246=\"\",\"\",IF(ISERROR(VLOOKUP(B246,database!$A$6:$BFQ$206,3,FALSE)),\"\",VLOOKUP(B246,database!$A$6:$BFQ$206,3,FALSE)))","v":""}]
["",null,{"$f":"IF(B247=\"\",\"\",IF(ISERROR(VLOOKUP(B247,database!$A$6:$BFQ$206,4,FALSE)),\"\",VLOOKUP(B247,database!$A$6:$BFQ$206,4,FALSE)))","v":""},null,null,null,"",null,null,null,{"$f":"IF(B247=\"\",\"\",IF(ISERROR(VLOOKUP(B247,database!$A$6:$BFQ$206,3,FALSE)),\"\",VLOOKUP(B247,database!$A$6:$BFQ$206,3,FALSE)))","v":""}]
["",null,{"$f":"IF(B248=\"\",\"\",IF(ISERROR(VLOOKUP(B248,database!$A$6:$BFQ$206,4,FALSE)),\"\",VLOOKUP(B248,database!$A$6:$BFQ$206,4,FALSE)))","v":""},null,null,null,"",null,null,null,{"$f":"IF(B248=\"\",\"\",IF(ISERROR(VLOOKUP(B248,database!$A$6:$BFQ$206,3,FALSE)),\"\",VLOOKUP(B248,database!$A$6:$BFQ$206,3,FALSE)))","v":""}]
["",null,{"$f":"IF(B249=\"\",\"\",IF(ISERROR(VLOOKUP(B249,database!$A$6:$BFQ$206,4,FALSE)),\"\",VLOOKUP(B249,database!$A$6:$BFQ$206,4,FALSE)))","v":""},null,null,null,"",null,null,null,{"$f":"IF(B249=\"\",\"\",IF(ISERROR(VLOOKUP(B249,database!$A$6:$BFQ$206,3,FALSE)),\"\",VLOOKUP(B249,database!$A$6:$BFQ$206,3,FALSE)))","v":""}]
["",null,{"$f":"IF(B250=\"\",\"\",IF(ISERROR(VLOOKUP(B250,database!$A$6:$BFQ$206,4,FALSE)),\"\",VLOOKUP(B250,database!$A$6:$BFQ$206,4,FALSE)))","v":""},null,null,null,"",null,null,null,{"$f":"IF(B250=\"\",\"\",IF(ISERROR(VLOOKUP(B250,database!$A$6:$BFQ$206,3,FALSE)),\"\",VLOOKUP(B250,database!$A$6:$BFQ$206,3,FALSE)))","v":""}]
["",null,{"$f":"IF(B251=\"\",\"\",IF(ISERROR(VLOOKUP(B251,database!$A$6:$BFQ$206,4,FALSE)),\"\",VLOOKUP(B251,database!$A$6:$BFQ$206,4,FALSE)))","v":""},null,null,null,"",null,null,null,{"$f":"IF(B251=\"\",\"\",IF(ISERROR(VLOOKUP(B251,database!$A$6:$BFQ$206,3,FALSE)),\"\",VLOOKUP(B251,database!$A$6:$BFQ$206,3,FALSE)))","v":""}]
["",null,{"$f":"IF(B252=\"\",\"\",IF(ISERROR(VLOOKUP(B252,database!$A$6:$BFQ$206,4,FALSE)),\"\",VLOOKUP(B252,database!$A$6:$BFQ$206,4,FALSE)))","v":""},null,null,null,"",null,null,null,{"$f":"IF(B252=\"\",\"\",IF(ISERROR(VLOOKUP(B252,database!$A$6:$BFQ$206,3,FALSE)),\"\",VLOOKUP(B252,database!$A$6:$BFQ$206,3,FALSE)))","v":""}]
["",null,{"$f":"IF(B253=\"\",\"\",IF(ISERROR(VLOOKUP(B253,database!$A$6:$BFQ$206,4,FALSE)),\"\",VLOOKUP(B253,database!$A$6:$BFQ$206,4,FALSE)))","v":""},null,null,null,"",null,null,null,{"$f":"IF(B253=\"\",\"\",IF(ISERROR(VLOOKUP(B253,database!$A$6:$BFQ$206,3,FALSE)),\"\",VLOOKUP(B253,database!$A$6:$BFQ$206,3,FALSE)))","v":""}]
["",null,{"$f":"IF(B254=\"\",\"\",IF(ISERROR(VLOOKUP(B254,database!$A$6:$BFQ$206,4,FALSE)),\"\",VLOOKUP(B254,database!$A$6:$BFQ$206,4,FALSE)))","v":""},null,null,null,"",null,null,null,{"$f":"IF(B254=\"\",\"\",IF(ISERROR(VLOOKUP(B254,database!$A$6:$BFQ$206,3,FALSE)),\"\",VLOOKUP(B254,database!$A$6:$BFQ$206,3,FALSE)))","v":""}]
["",null,{"$f":"IF(B255=\"\",\"\",IF(ISERROR(VLOOKUP(B255,database!$A$6:$BFQ$206,4,FALSE)),\"\",VLOOKUP(B255,database!$A$6:$BFQ$206,4,FALSE)))","v":""},null,null,null,"",null,null,null,{"$f":"IF(B255=\"\",\"\",IF(ISERROR(VLOOKUP(B255,database!$A$6:$BFQ$206,3,FALSE)),\"\",VLOOKUP(B255,database!$A$6:$BFQ$206,3,FALSE)))","v":""}]
["",null,{"$f":"IF(B256=\"\",\"\",IF(ISERROR(VLOOKUP(B256,database!$A$6:$BFQ$206,4,FALSE)),\"\",VLOOKUP(B256,database!$A$6:$BFQ$206,4,FALSE)))","v":""},null,null,null,"",null,null,null,{"$f":"IF(B256=\"\",\"\",IF(ISERROR(VLOOKUP(B256,database!$A$6:$BFQ$206,3,FALSE)),\"\",VLOOKUP(B256,database!$A$6:$BFQ$206,3,FALSE)))","v":""}]
[{"$f":"IF(B257=\"\",\"\",ROW(A254))","v":""},null,{"$f":"IF(B257=\"\",\"\",IF(ISERROR(VLOOKUP(B257,database!$A$6:$BFQ$206,4,FALSE)),\"\",VLOOKUP(B257,database!$A$6:$BFQ$206,4,FALSE)))","v":""},null,null,null,{"$f":"IF(B257=\"\",\"\",IF(C257=\"\",0,1))","v":""},null,null,null,{"$f":"IF(B257=\"\",\"\",IF(ISERROR(VLOOKUP(B257,database!$A$6:$BFQ$206,3,FALSE)),\"\",VLOOKUP(B257,database!$A$6:$BFQ$206,3,FALSE)))","v":""}]
["",null,{"$f":"IF(B258=\"\",\"\",IF(ISERROR(VLOOKUP(B258,database!$A$6:$BFQ$206,4,FALSE)),\"\",VLOOKUP(B258,database!$A$6:$BFQ$206,4,FALSE)))","v":""},null,null,null,"",null,null,null,{"$f":"IF(B258=\"\",\"\",IF(ISERROR(VLOOKUP(B258,database!$A$6:$BFQ$206,3,FALSE)),\"\",VLOOKUP(B258,database!$A$6:$BFQ$206,3,FALSE)))","v":""}]
["",null,{"$f":"IF(B259=\"\",\"\",IF(ISERROR(VLOOKUP(B259,database!$A$6:$BFQ$206,4,FALSE)),\"\",VLOOKUP(B259,database!$A$6:$BFQ$206,4,FALSE)))","v":""},null,null,null,"",null,null,null,{"$f":"IF(B259=\"\",\"\",IF(ISERROR(VLOOKUP(B259,database!$A$6:$BFQ$206,3,FALSE)),\"\",VLOOKUP(B259,database!$A$6:$BFQ$206,3,FALSE)))","v":""},null,null,null,null,null,null,{"$f":"LEFT(C259,2)","v":""}]
["",null,{"$f":"IF(B260=\"\",\"\",IF(ISERROR(VLOOKUP(B260,database!$A$6:$BFQ$206,4,FALSE)),\"\",VLOOKUP(B260,database!$A$6:$BFQ$206,4,FALSE)))","v":""},null,null,null,"",null,null,null,{"$f":"IF(B260=\"\",\"\",IF(ISERROR(VLOOKUP(B260,database!$A$6:$BFQ$206,3,FALSE)),\"\",VLOOKUP(B260,database!$A$6:$BFQ$206,3,FALSE)))","v":""},null,null,null,null,null,null,""]
["",null,{"$f":"IF(B261=\"\",\"\",IF(ISERROR(VLOOKUP(B261,database!$A$6:$BFQ$206,4,FALSE)),\"\",VLOOKUP(B261,database!$A$6:$BFQ$206,4,FALSE)))","v":""},null,null,null,"",null,null,null,{"$f":"IF(B261=\"\",\"\",IF(ISERROR(VLOOKUP(B261,database!$A$6:$BFQ$206,3,FALSE)),\"\",VLOOKUP(B261,database!$A$6:$BFQ$206,3,FALSE)))","v":""},null,null,null,null,null,null,""]
["",null,{"$f":"IF(B262=\"\",\"\",IF(ISERROR(VLOOKUP(B262,database!$A$6:$BFQ$206,4,FALSE)),\"\",VLOOKUP(B262,database!$A$6:$BFQ$206,4,FALSE)))","v":""},null,null,null,"",null,null,null,{"$f":"IF(B262=\"\",\"\",IF(ISERROR(VLOOKUP(B262,database!$A$6:$BFQ$206,3,FALSE)),\"\",VLOOKUP(B262,database!$A$6:$BFQ$206,3,FALSE)))","v":""},null,null,null,null,null,null,""]
["",null,{"$f":"IF(B263=\"\",\"\",IF(ISERROR(VLOOKUP(B263,database!$A$6:$BFQ$206,4,FALSE)),\"\",VLOOKUP(B263,database!$A$6:$BFQ$206,4,FALSE)))","v":""},null,null,null,"",null,null,null,{"$f":"IF(B263=\"\",\"\",IF(ISERROR(VLOOKUP(B263,database!$A$6:$BFQ$206,3,FALSE)),\"\",VLOOKUP(B263,database!$A$6:$BFQ$206,3,FALSE)))","v":""},null,null,null,null,null,null,""]
["",null,{"$f":"IF(B264=\"\",\"\",IF(ISERROR(VLOOKUP(B264,database!$A$6:$BFQ$206,4,FALSE)),\"\",VLOOKUP(B264,database!$A$6:$BFQ$206,4,FALSE)))","v":""},null,null,null,"",null,null,null,{"$f":"IF(B264=\"\",\"\",IF(ISERROR(VLOOKUP(B264,database!$A$6:$BFQ$206,3,FALSE)),\"\",VLOOKUP(B264,database!$A$6:$BFQ$206,3,FALSE)))","v":""},null,null,null,null,null,null,""]
["",null,{"$f":"IF(B265=\"\",\"\",IF(ISERROR(VLOOKUP(B265,database!$A$6:$BFQ$206,4,FALSE)),\"\",VLOOKUP(B265,database!$A$6:$BFQ$206,4,FALSE)))","v":""},null,null,null,"",null,null,null,{"$f":"IF(B265=\"\",\"\",IF(ISERROR(VLOOKUP(B265,database!$A$6:$BFQ$206,3,FALSE)),\"\",VLOOKUP(B265,database!$A$6:$BFQ$206,3,FALSE)))","v":""},null,null,null,null,null,null,""]
["",null,{"$f":"IF(B266=\"\",\"\",IF(ISERROR(VLOOKUP(B266,database!$A$6:$BFQ$206,4,FALSE)),\"\",VLOOKUP(B266,database!$A$6:$BFQ$206,4,FALSE)))","v":""},null,null,null,"",null,null,null,{"$f":"IF(B266=\"\",\"\",IF(ISERROR(VLOOKUP(B266,database!$A$6:$BFQ$206,3,FALSE)),\"\",VLOOKUP(B266,database!$A$6:$BFQ$206,3,FALSE)))","v":""},null,null,null,null,null,null,""]
["",null,{"$f":"IF(B267=\"\",\"\",IF(ISERROR(VLOOKUP(B267,database!$A$6:$BFQ$206,4,FALSE)),\"\",VLOOKUP(B267,database!$A$6:$BFQ$206,4,FALSE)))","v":""},null,null,null,"",null,null,null,{"$f":"IF(B267=\"\",\"\",IF(ISERROR(VLOOKUP(B267,database!$A$6:$BFQ$206,3,FALSE)),\"\",VLOOKUP(B267,database!$A$6:$BFQ$206,3,FALSE)))","v":""},null,null,null,null,null,null,""]
["",null,{"$f":"IF(B268=\"\",\"\",IF(ISERROR(VLOOKUP(B268,database!$A$6:$BFQ$206,4,FALSE)),\"\",VLOOKUP(B268,database!$A$6:$BFQ$206,4,FALSE)))","v":""},null,null,null,"",null,null,null,{"$f":"IF(B268=\"\",\"\",IF(ISERROR(VLOOKUP(B268,database!$A$6:$BFQ$206,3,FALSE)),\"\",VLOOKUP(B268,database!$A$6:$BFQ$206,3,FALSE)))","v":""},null,null,null,null,null,null,""]
["",null,{"$f":"IF(B269=\"\",\"\",IF(ISERROR(VLOOKUP(B269,database!$A$6:$BFQ$206,4,FALSE)),\"\",VLOOKUP(B269,database!$A$6:$BFQ$206,4,FALSE)))","v":""},null,null,null,"",null,null,null,{"$f":"IF(B269=\"\",\"\",IF(ISERROR(VLOOKUP(B269,database!$A$6:$BFQ$206,3,FALSE)),\"\",VLOOKUP(B269,database!$A$6:$BFQ$206,3,FALSE)))","v":""},null,null,null,null,null,null,""]
["",null,{"$f":"IF(B270=\"\",\"\",IF(ISERROR(VLOOKUP(B270,database!$A$6:$BFQ$206,4,FALSE)),\"\",VLOOKUP(B270,database!$A$6:$BFQ$206,4,FALSE)))","v":""},null,null,null,"",null,null,null,{"$f":"IF(B270=\"\",\"\",IF(ISERROR(VLOOKUP(B270,database!$A$6:$BFQ$206,3,FALSE)),\"\",VLOOKUP(B270,database!$A$6:$BFQ$206,3,FALSE)))","v":""},null,null,null,null,null,null,""]
["",null,{"$f":"IF(B271=\"\",\"\",IF(ISERROR(VLOOKUP(B271,database!$A$6:$BFQ$206,4,FALSE)),\"\",VLOOKUP(B271,database!$A$6:$BFQ$206,4,FALSE)))","v":""},null,null,null,"",null,null,null,{"$f":"IF(B271=\"\",\"\",IF(ISERROR(VLOOKUP(B271,database!$A$6:$BFQ$206,3,FALSE)),\"\",VLOOKUP(B271,database!$A$6:$BFQ$206,3,FALSE)))","v":""},null,null,null,null,null,null,""]
["",null,{"$f":"IF(B272=\"\",\"\",IF(ISERROR(VLOOKUP(B272,database!$A$6:$BFQ$206,4,FALSE)),\"\",VLOOKUP(B272,database!$A$6:$BFQ$206,4,FALSE)))","v":""},null,null,null,"",null,null,null,{"$f":"IF(B272=\"\",\"\",IF(ISERROR(VLOOKUP(B272,database!$A$6:$BFQ$206,3,FALSE)),\"\",VLOOKUP(B272,database!$A$6:$BFQ$206,3,FALSE)))","v":""},null,null,null,null,null,null,""]
["",null,{"$f":"IF(B273=\"\",\"\",IF(ISERROR(VLOOKUP(B273,database!$A$6:$BFQ$206,4,FALSE)),\"\",VLOOKUP(B273,database!$A$6:$BFQ$206,4,FALSE)))","v":""},null,null,null,"",null,null,null,{"$f":"IF(B273=\"\",\"\",IF(ISERROR(VLOOKUP(B273,database!$A$6:$BFQ$206,3,FALSE)),\"\",VLOOKUP(B273,database!$A$6:$BFQ$206,3,FALSE)))","v":""},null,null,null,null,null,null,""]
["",null,{"$f":"IF(B274=\"\",\"\",IF(ISERROR(VLOOKUP(B274,database!$A$6:$BFQ$206,4,FALSE)),\"\",VLOOKUP(B274,database!$A$6:$BFQ$206,4,FALSE)))","v":""},null,null,null,"",null,null,null,{"$f":"IF(B274=\"\",\"\",IF(ISERROR(VLOOKUP(B274,database!$A$6:$BFQ$206,3,FALSE)),\"\",VLOOKUP(B274,database!$A$6:$BFQ$206,3,FALSE)))","v":""},null,null,null,null,null,null,""]
["",null,{"$f":"IF(B275=\"\",\"\",IF(ISERROR(VLOOKUP(B275,database!$A$6:$BFQ$206,4,FALSE)),\"\",VLOOKUP(B275,database!$A$6:$BFQ$206,4,FALSE)))","v":""},null,null,null,"",null,null,null,{"$f":"IF(B275=\"\",\"\",IF(ISERROR(VLOOKUP(B275,database!$A$6:$BFQ$206,3,FALSE)),\"\",VLOOKUP(B275,database!$A$6:$BFQ$206,3,FALSE)))","v":""},null,null,null,null,null,null,""]
["",null,{"$f":"IF(B276=\"\",\"\",IF(ISERROR(VLOOKUP(B276,database!$A$6:$BFQ$206,4,FALSE)),\"\",VLOOKUP(B276,database!$A$6:$BFQ$206,4,FALSE)))","v":""},null,null,null,"",null,null,null,{"$f":"IF(B276=\"\",\"\",IF(ISERROR(VLOOKUP(B276,database!$A$6:$BFQ$206,3,FALSE)),\"\",VLOOKUP(B276,database!$A$6:$BFQ$206,3,FALSE)))","v":""},null,null,null,null,null,null,""]
["",null,{"$f":"IF(B277=\"\",\"\",IF(ISERROR(VLOOKUP(B277,database!$A$6:$BFQ$206,4,FALSE)),\"\",VLOOKUP(B277,database!$A$6:$BFQ$206,4,FALSE)))","v":""},null,null,null,"",null,null,null,{"$f":"IF(B277=\"\",\"\",IF(ISERROR(VLOOKUP(B277,database!$A$6:$BFQ$206,3,FALSE)),\"\",VLOOKUP(B277,database!$A$6:$BFQ$206,3,FALSE)))","v":""},null,null,null,null,null,null,""]
["",null,{"$f":"IF(B278=\"\",\"\",IF(ISERROR(VLOOKUP(B278,database!$A$6:$BFQ$206,4,FALSE)),\"\",VLOOKUP(B278,database!$A$6:$BFQ$206,4,FALSE)))","v":""},null,null,null,"",null,null,null,{"$f":"IF(B278=\"\",\"\",IF(ISERROR(VLOOKUP(B278,database!$A$6:$BFQ$206,3,FALSE)),\"\",VLOOKUP(B278,database!$A$6:$BFQ$206,3,FALSE)))","v":""},null,null,null,null,null,null,""]
["",null,{"$f":"IF(B279=\"\",\"\",IF(ISERROR(VLOOKUP(B279,database!$A$6:$BFQ$206,4,FALSE)),\"\",VLOOKUP(B279,database!$A$6:$BFQ$206,4,FALSE)))","v":""},null,null,null,"",null,null,null,{"$f":"IF(B279=\"\",\"\",IF(ISERROR(VLOOKUP(B279,database!$A$6:$BFQ$206,3,FALSE)),\"\",VLOOKUP(B279,database!$A$6:$BFQ$206,3,FALSE)))","v":""},null,null,null,null,null,null,""]
["",null,{"$f":"IF(B280=\"\",\"\",IF(ISERROR(VLOOKUP(B280,database!$A$6:$BFQ$206,4,FALSE)),\"\",VLOOKUP(B280,database!$A$6:$BFQ$206,4,FALSE)))","v":""},null,null,null,"",null,null,null,{"$f":"IF(B280=\"\",\"\",IF(ISERROR(VLOOKUP(B280,database!$A$6:$BFQ$206,3,FALSE)),\"\",VLOOKUP(B280,database!$A$6:$BFQ$206,3,FALSE)))","v":""},null,null,null,null,null,null,""]
["",null,{"$f":"IF(B281=\"\",\"\",IF(ISERROR(VLOOKUP(B281,database!$A$6:$BFQ$206,4,FALSE)),\"\",VLOOKUP(B281,database!$A$6:$BFQ$206,4,FALSE)))","v":""},null,null,null,"",null,null,null,{"$f":"IF(B281=\"\",\"\",IF(ISERROR(VLOOKUP(B281,database!$A$6:$BFQ$206,3,FALSE)),\"\",VLOOKUP(B281,database!$A$6:$BFQ$206,3,FALSE)))","v":""},null,null,null,null,null,null,""]
["",null,{"$f":"IF(B282=\"\",\"\",IF(ISERROR(VLOOKUP(B282,database!$A$6:$BFQ$206,4,FALSE)),\"\",VLOOKUP(B282,database!$A$6:$BFQ$206,4,FALSE)))","v":""},null,null,null,"",null,null,null,{"$f":"IF(B282=\"\",\"\",IF(ISERROR(VLOOKUP(B282,database!$A$6:$BFQ$206,3,FALSE)),\"\",VLOOKUP(B282,database!$A$6:$BFQ$206,3,FALSE)))","v":""},null,null,null,null,null,null,""]
["",null,{"$f":"IF(B283=\"\",\"\",IF(ISERROR(VLOOKUP(B283,database!$A$6:$BFQ$206,4,FALSE)),\"\",VLOOKUP(B283,database!$A$6:$BFQ$206,4,FALSE)))","v":""},null,null,null,"",null,null,null,{"$f":"IF(B283=\"\",\"\",IF(ISERROR(VLOOKUP(B283,database!$A$6:$BFQ$206,3,FALSE)),\"\",VLOOKUP(B283,database!$A$6:$BFQ$206,3,FALSE)))","v":""},null,null,null,null,null,null,""]
["",null,{"$f":"IF(B284=\"\",\"\",IF(ISERROR(VLOOKUP(B284,database!$A$6:$BFQ$206,4,FALSE)),\"\",VLOOKUP(B284,database!$A$6:$BFQ$206,4,FALSE)))","v":""},null,null,null,"",null,null,null,{"$f":"IF(B284=\"\",\"\",IF(ISERROR(VLOOKUP(B284,database!$A$6:$BFQ$206,3,FALSE)),\"\",VLOOKUP(B284,database!$A$6:$BFQ$206,3,FALSE)))","v":""},null,null,null,null,null,null,""]
["",null,{"$f":"IF(B285=\"\",\"\",IF(ISERROR(VLOOKUP(B285,database!$A$6:$BFQ$206,4,FALSE)),\"\",VLOOKUP(B285,database!$A$6:$BFQ$206,4,FALSE)))","v":""},null,null,null,"",null,null,null,{"$f":"IF(B285=\"\",\"\",IF(ISERROR(VLOOKUP(B285,database!$A$6:$BFQ$206,3,FALSE)),\"\",VLOOKUP(B285,database!$A$6:$BFQ$206,3,FALSE)))","v":""},null,null,null,null,null,null,""]
["",null,{"$f":"IF(B286=\"\",\"\",IF(ISERROR(VLOOKUP(B286,database!$A$6:$BFQ$206,4,FALSE)),\"\",VLOOKUP(B286,database!$A$6:$BFQ$206,4,FALSE)))","v":""},null,null,null,"",null,null,null,{"$f":"IF(B286=\"\",\"\",IF(ISERROR(VLOOKUP(B286,database!$A$6:$BFQ$206,3,FALSE)),\"\",VLOOKUP(B286,database!$A$6:$BFQ$206,3,FALSE)))","v":""},null,null,null,null,null,null,""]
["",null,{"$f":"IF(B287=\"\",\"\",IF(ISERROR(VLOOKUP(B287,database!$A$6:$BFQ$206,4,FALSE)),\"\",VLOOKUP(B287,database!$A$6:$BFQ$206,4,FALSE)))","v":""},null,null,null,"",null,null,null,{"$f":"IF(B287=\"\",\"\",IF(ISERROR(VLOOKUP(B287,database!$A$6:$BFQ$206,3,FALSE)),\"\",VLOOKUP(B287,database!$A$6:$BFQ$206,3,FALSE)))","v":""},null,null,null,null,null,null,""]
["",null,{"$f":"IF(B288=\"\",\"\",IF(ISERROR(VLOOKUP(B288,database!$A$6:$BFQ$206,4,FALSE)),\"\",VLOOKUP(B288,database!$A$6:$BFQ$206,4,FALSE)))","v":""},null,null,null,"",null,null,null,{"$f":"IF(B288=\"\",\"\",IF(ISERROR(VLOOKUP(B288,database!$A$6:$BFQ$206,3,FALSE)),\"\",VLOOKUP(B288,database!$A$6:$BFQ$206,3,FALSE)))","v":""},null,null,null,null,null,null,""]
["",null,{"$f":"IF(B289=\"\",\"\",IF(ISERROR(VLOOKUP(B289,database!$A$6:$BFQ$206,4,FALSE)),\"\",VLOOKUP(B289,database!$A$6:$BFQ$206,4,FALSE)))","v":""},null,null,null,"",null,null,null,{"$f":"IF(B289=\"\",\"\",IF(ISERROR(VLOOKUP(B289,database!$A$6:$BFQ$206,3,FALSE)),\"\",VLOOKUP(B289,database!$A$6:$BFQ$206,3,FALSE)))","v":""},null,null,null,null,null,null,""]
["",null,{"$f":"IF(B290=\"\",\"\",IF(ISERROR(VLOOKUP(B290,database!$A$6:$BFQ$206,4,FALSE)),\"\",VLOOKUP(B290,database!$A$6:$BFQ$206,4,FALSE)))","v":""},null,null,null,"",null,null,null,{"$f":"IF(B290=\"\",\"\",IF(ISERROR(VLOOKUP(B290,database!$A$6:$BFQ$206,3,FALSE)),\"\",VLOOKUP(B290,database!$A$6:$BFQ$206,3,FALSE)))","v":""},null,null,null,null,null,null,""]
["",null,{"$f":"IF(B291=\"\",\"\",IF(ISERROR(VLOOKUP(B291,database!$A$6:$BFQ$206,4,FALSE)),\"\",VLOOKUP(B291,database!$A$6:$BFQ$206,4,FALSE)))","v":""},null,null,null,"",null,null,null,{"$f":"IF(B291=\"\",\"\",IF(ISERROR(VLOOKUP(B291,database!$A$6:$BFQ$206,3,FALSE)),\"\",VLOOKUP(B291,database!$A$6:$BFQ$206,3,FALSE)))","v":""},null,null,null,null,null,null,""]
["",null,{"$f":"IF(B292=\"\",\"\",IF(ISERROR(VLOOKUP(B292,database!$A$6:$BFQ$206,4,FALSE)),\"\",VLOOKUP(B292,database!$A$6:$BFQ$206,4,FALSE)))","v":""},null,null,null,"",null,null,null,{"$f":"IF(B292=\"\",\"\",IF(ISERROR(VLOOKUP(B292,database!$A$6:$BFQ$206,3,FALSE)),\"\",VLOOKUP(B292,database!$A$6:$BFQ$206,3,FALSE)))","v":""},null,null,null,null,null,null,""]
["",null,{"$f":"IF(B293=\"\",\"\",IF(ISERROR(VLOOKUP(B293,database!$A$6:$BFQ$206,4,FALSE)),\"\",VLOOKUP(B293,database!$A$6:$BFQ$206,4,FALSE)))","v":""},null,null,null,"",null,null,null,{"$f":"IF(B293=\"\",\"\",IF(ISERROR(VLOOKUP(B293,database!$A$6:$BFQ$206,3,FALSE)),\"\",VLOOKUP(B293,database!$A$6:$BFQ$206,3,FALSE)))","v":""},null,null,null,null,null,null,""]
["",null,{"$f":"IF(B294=\"\",\"\",IF(ISERROR(VLOOKUP(B294,database!$A$6:$BFQ$206,4,FALSE)),\"\",VLOOKUP(B294,database!$A$6:$BFQ$206,4,FALSE)))","v":""},null,null,null,"",null,null,null,{"$f":"IF(B294=\"\",\"\",IF(ISERROR(VLOOKUP(B294,database!$A$6:$BFQ$206,3,FALSE)),\"\",VLOOKUP(B294,database!$A$6:$BFQ$206,3,FALSE)))","v":""},null,null,null,null,null,null,""]
["",null,{"$f":"IF(B295=\"\",\"\",IF(ISERROR(VLOOKUP(B295,database!$A$6:$BFQ$206,4,FALSE)),\"\",VLOOKUP(B295,database!$A$6:$BFQ$206,4,FALSE)))","v":""},null,null,null,"",null,null,null,{"$f":"IF(B295=\"\",\"\",IF(ISERROR(VLOOKUP(B295,database!$A$6:$BFQ$206,3,FALSE)),\"\",VLOOKUP(B295,database!$A$6:$BFQ$206,3,FALSE)))","v":""},null,null,null,null,null,null,""]
["",null,{"$f":"IF(B296=\"\",\"\",IF(ISERROR(VLOOKUP(B296,database!$A$6:$BFQ$206,4,FALSE)),\"\",VLOOKUP(B296,database!$A$6:$BFQ$206,4,FALSE)))","v":""},null,null,null,"",null,null,null,{"$f":"IF(B296=\"\",\"\",IF(ISERROR(VLOOKUP(B296,database!$A$6:$BFQ$206,3,FALSE)),\"\",VLOOKUP(B296,database!$A$6:$BFQ$206,3,FALSE)))","v":""},null,null,null,null,null,null,""]
["",null,{"$f":"IF(B297=\"\",\"\",IF(ISERROR(VLOOKUP(B297,database!$A$6:$BFQ$206,4,FALSE)),\"\",VLOOKUP(B297,database!$A$6:$BFQ$206,4,FALSE)))","v":""},null,null,null,"",null,null,null,{"$f":"IF(B297=\"\",\"\",IF(ISERROR(VLOOKUP(B297,database!$A$6:$BFQ$206,3,FALSE)),\"\",VLOOKUP(B297,database!$A$6:$BFQ$206,3,FALSE)))","v":""},null,null,null,null,null,null,""]
["",null,{"$f":"IF(B298=\"\",\"\",IF(ISERROR(VLOOKUP(B298,database!$A$6:$BFQ$206,4,FALSE)),\"\",VLOOKUP(B298,database!$A$6:$BFQ$206,4,FALSE)))","v":""},null,null,null,"",null,null,null,{"$f":"IF(B298=\"\",\"\",IF(ISERROR(VLOOKUP(B298,database!$A$6:$BFQ$206,3,FALSE)),\"\",VLOOKUP(B298,database!$A$6:$BFQ$206,3,FALSE)))","v":""},null,null,null,null,null,null,""]
["",null,{"$f":"IF(B299=\"\",\"\",IF(ISERROR(VLOOKUP(B299,database!$A$6:$BFQ$206,4,FALSE)),\"\",VLOOKUP(B299,database!$A$6:$BFQ$206,4,FALSE)))","v":""},null,null,null,"",null,null,null,{"$f":"IF(B299=\"\",\"\",IF(ISERROR(VLOOKUP(B299,database!$A$6:$BFQ$206,3,FALSE)),\"\",VLOOKUP(B299,database!$A$6:$BFQ$206,3,FALSE)))","v":""},null,null,null,null,null,null,""]
["",null,{"$f":"IF(B300=\"\",\"\",IF(ISERROR(VLOOKUP(B300,database!$A$6:$BFQ$206,4,FALSE)),\"\",VLOOKUP(B300,database!$A$6:$BFQ$206,4,FALSE)))","v":""},null,null,null,"",null,null,null,{"$f":"IF(B300=\"\",\"\",IF(ISERROR(VLOOKUP(B300,database!$A$6:$BFQ$206,3,FALSE)),\"\",VLOOKUP(B300,database!$A$6:$BFQ$206,3,FALSE)))","v":""},null,null,null,null,null,null,""]
["",null,{"$f":"IF(B301=\"\",\"\",IF(ISERROR(VLOOKUP(B301,database!$A$6:$BFQ$206,4,FALSE)),\"\",VLOOKUP(B301,database!$A$6:$BFQ$206,4,FALSE)))","v":""},null,null,null,"",null,null,null,{"$f":"IF(B301=\"\",\"\",IF(ISERROR(VLOOKUP(B301,database!$A$6:$BFQ$206,3,FALSE)),\"\",VLOOKUP(B301,database!$A$6:$BFQ$206,3,FALSE)))","v":""},null,null,null,null,null,null,""]
["",null,{"$f":"IF(B302=\"\",\"\",IF(ISERROR(VLOOKUP(B302,database!$A$6:$BFQ$206,4,FALSE)),\"\",VLOOKUP(B302,database!$A$6:$BFQ$206,4,FALSE)))","v":""},null,null,null,"",null,null,null,{"$f":"IF(B302=\"\",\"\",IF(ISERROR(VLOOKUP(B302,database!$A$6:$BFQ$206,3,FALSE)),\"\",VLOOKUP(B302,database!$A$6:$BFQ$206,3,FALSE)))","v":""},null,null,null,null,null,null,""]
["",null,{"$f":"IF(B303=\"\",\"\",IF(ISERROR(VLOOKUP(B303,database!$A$6:$BFQ$206,4,FALSE)),\"\",VLOOKUP(B303,database!$A$6:$BFQ$206,4,FALSE)))","v":""},null,null,null,"",null,null,null,{"$f":"IF(B303=\"\",\"\",IF(ISERROR(VLOOKUP(B303,database!$A$6:$BFQ$206,3,FALSE)),\"\",VLOOKUP(B303,database!$A$6:$BFQ$206,3,FALSE)))","v":""},null,null,null,null,null,null,""]
["",null,{"$f":"IF(B304=\"\",\"\",IF(ISERROR(VLOOKUP(B304,database!$A$6:$BFQ$206,4,FALSE)),\"\",VLOOKUP(B304,database!$A$6:$BFQ$206,4,FALSE)))","v":""},null,null,null,"",null,null,null,{"$f":"IF(B304=\"\",\"\",IF(ISERROR(VLOOKUP(B304,database!$A$6:$BFQ$206,3,FALSE)),\"\",VLOOKUP(B304,database!$A$6:$BFQ$206,3,FALSE)))","v":""},null,null,null,null,null,null,""]
["",null,{"$f":"IF(B305=\"\",\"\",IF(ISERROR(VLOOKUP(B305,database!$A$6:$BFQ$206,4,FALSE)),\"\",VLOOKUP(B305,database!$A$6:$BFQ$206,4,FALSE)))","v":""},null,null,null,"",null,null,null,{"$f":"IF(B305=\"\",\"\",IF(ISERROR(VLOOKUP(B305,database!$A$6:$BFQ$206,3,FALSE)),\"\",VLOOKUP(B305,database!$A$6:$BFQ$206,3,FALSE)))","v":""},null,null,null,null,null,null,""]
["",null,{"$f":"IF(B306=\"\",\"\",IF(ISERROR(VLOOKUP(B306,database!$A$6:$BFQ$206,4,FALSE)),\"\",VLOOKUP(B306,database!$A$6:$BFQ$206,4,FALSE)))","v":""},null,null,null,"",null,null,null,{"$f":"IF(B306=\"\",\"\",IF(ISERROR(VLOOKUP(B306,database!$A$6:$BFQ$206,3,FALSE)),\"\",VLOOKUP(B306,database!$A$6:$BFQ$206,3,FALSE)))","v":""},null,null,null,null,null,null,""]
["",null,{"$f":"IF(B307=\"\",\"\",IF(ISERROR(VLOOKUP(B307,database!$A$6:$BFQ$206,4,FALSE)),\"\",VLOOKUP(B307,database!$A$6:$BFQ$206,4,FALSE)))","v":""},null,null,null,"",null,null,null,{"$f":"IF(B307=\"\",\"\",IF(ISERROR(VLOOKUP(B307,database!$A$6:$BFQ$206,3,FALSE)),\"\",VLOOKUP(B307,database!$A$6:$BFQ$206,3,FALSE)))","v":""},null,null,null,null,null,null,""]
["",null,{"$f":"IF(B308=\"\",\"\",IF(ISERROR(VLOOKUP(B308,database!$A$6:$BFQ$206,4,FALSE)),\"\",VLOOKUP(B308,database!$A$6:$BFQ$206,4,FALSE)))","v":""},null,null,null,"",null,null,null,{"$f":"IF(B308=\"\",\"\",IF(ISERROR(VLOOKUP(B308,database!$A$6:$BFQ$206,3,FALSE)),\"\",VLOOKUP(B308,database!$A$6:$BFQ$206,3,FALSE)))","v":""},null,null,null,null,null,null,""]
["",null,{"$f":"IF(B309=\"\",\"\",IF(ISERROR(VLOOKUP(B309,database!$A$6:$BFQ$206,4,FALSE)),\"\",VLOOKUP(B309,database!$A$6:$BFQ$206,4,FALSE)))","v":""},null,null,null,"",null,null,null,{"$f":"IF(B309=\"\",\"\",IF(ISERROR(VLOOKUP(B309,database!$A$6:$BFQ$206,3,FALSE)),\"\",VLOOKUP(B309,database!$A$6:$BFQ$206,3,FALSE)))","v":""},null,null,null,null,null,null,""]
["",null,{"$f":"IF(B310=\"\",\"\",IF(ISERROR(VLOOKUP(B310,database!$A$6:$BFQ$206,4,FALSE)),\"\",VLOOKUP(B310,database!$A$6:$BFQ$206,4,FALSE)))","v":""},null,null,null,"",null,null,null,{"$f":"IF(B310=\"\",\"\",IF(ISERROR(VLOOKUP(B310,database!$A$6:$BFQ$206,3,FALSE)),\"\",VLOOKUP(B310,database!$A$6:$BFQ$206,3,FALSE)))","v":""},null,null,null,null,null,null,""]
["",null,{"$f":"IF(B311=\"\",\"\",IF(ISERROR(VLOOKUP(B311,database!$A$6:$BFQ$206,4,FALSE)),\"\",VLOOKUP(B311,database!$A$6:$BFQ$206,4,FALSE)))","v":""},null,null,null,"",null,null,null,{"$f":"IF(B311=\"\",\"\",IF(ISERROR(VLOOKUP(B311,database!$A$6:$BFQ$206,3,FALSE)),\"\",VLOOKUP(B311,database!$A$6:$BFQ$206,3,FALSE)))","v":""},null,null,null,null,null,null,""]
["",null,{"$f":"IF(B312=\"\",\"\",IF(ISERROR(VLOOKUP(B312,database!$A$6:$BFQ$206,4,FALSE)),\"\",VLOOKUP(B312,database!$A$6:$BFQ$206,4,FALSE)))","v":""},null,null,null,"",null,null,null,{"$f":"IF(B312=\"\",\"\",IF(ISERROR(VLOOKUP(B312,database!$A$6:$BFQ$206,3,FALSE)),\"\",VLOOKUP(B312,database!$A$6:$BFQ$206,3,FALSE)))","v":""},null,null,null,null,null,null,""]
["",null,{"$f":"IF(B313=\"\",\"\",IF(ISERROR(VLOOKUP(B313,database!$A$6:$BFQ$206,4,FALSE)),\"\",VLOOKUP(B313,database!$A$6:$BFQ$206,4,FALSE)))","v":""},null,null,null,"",null,null,null,{"$f":"IF(B313=\"\",\"\",IF(ISERROR(VLOOKUP(B313,database!$A$6:$BFQ$206,3,FALSE)),\"\",VLOOKUP(B313,database!$A$6:$BFQ$206,3,FALSE)))","v":""},null,null,null,null,null,null,""]
["",null,{"$f":"IF(B314=\"\",\"\",IF(ISERROR(VLOOKUP(B314,database!$A$6:$BFQ$206,4,FALSE)),\"\",VLOOKUP(B314,database!$A$6:$BFQ$206,4,FALSE)))","v":""},null,null,null,"",null,null,null,{"$f":"IF(B314=\"\",\"\",IF(ISERROR(VLOOKUP(B314,database!$A$6:$BFQ$206,3,FALSE)),\"\",VLOOKUP(B314,database!$A$6:$BFQ$206,3,FALSE)))","v":""},null,null,null,null,null,null,""]
["",null,{"$f":"IF(B315=\"\",\"\",IF(ISERROR(VLOOKUP(B315,database!$A$6:$BFQ$206,4,FALSE)),\"\",VLOOKUP(B315,database!$A$6:$BFQ$206,4,FALSE)))","v":""},null,null,null,"",null,null,null,{"$f":"IF(B315=\"\",\"\",IF(ISERROR(VLOOKUP(B315,database!$A$6:$BFQ$206,3,FALSE)),\"\",VLOOKUP(B315,database!$A$6:$BFQ$206,3,FALSE)))","v":""},null,null,null,null,null,null,""]
["",null,{"$f":"IF(B316=\"\",\"\",IF(ISERROR(VLOOKUP(B316,database!$A$6:$BFQ$206,4,FALSE)),\"\",VLOOKUP(B316,database!$A$6:$BFQ$206,4,FALSE)))","v":""},null,null,null,"",null,null,null,{"$f":"IF(B316=\"\",\"\",IF(ISERROR(VLOOKUP(B316,database!$A$6:$BFQ$206,3,FALSE)),\"\",VLOOKUP(B316,database!$A$6:$BFQ$206,3,FALSE)))","v":""},null,null,null,null,null,null,""]
["",null,{"$f":"IF(B317=\"\",\"\",IF(ISERROR(VLOOKUP(B317,database!$A$6:$BFQ$206,4,FALSE)),\"\",VLOOKUP(B317,database!$A$6:$BFQ$206,4,FALSE)))","v":""},null,null,null,"",null,null,null,{"$f":"IF(B317=\"\",\"\",IF(ISERROR(VLOOKUP(B317,database!$A$6:$BFQ$206,3,FALSE)),\"\",VLOOKUP(B317,database!$A$6:$BFQ$206,3,FALSE)))","v":""},null,null,null,null,null,null,""]
["",null,{"$f":"IF(B318=\"\",\"\",IF(ISERROR(VLOOKUP(B318,database!$A$6:$BFQ$206,4,FALSE)),\"\",VLOOKUP(B318,database!$A$6:$BFQ$206,4,FALSE)))","v":""},null,null,null,"",null,null,null,{"$f":"IF(B318=\"\",\"\",IF(ISERROR(VLOOKUP(B318,database!$A$6:$BFQ$206,3,FALSE)),\"\",VLOOKUP(B318,database!$A$6:$BFQ$206,3,FALSE)))","v":""},null,null,null,null,null,null,""]
["",null,{"$f":"IF(B319=\"\",\"\",IF(ISERROR(VLOOKUP(B319,database!$A$6:$BFQ$206,4,FALSE)),\"\",VLOOKUP(B319,database!$A$6:$BFQ$206,4,FALSE)))","v":""},null,null,null,"",null,null,null,{"$f":"IF(B319=\"\",\"\",IF(ISERROR(VLOOKUP(B319,database!$A$6:$BFQ$206,3,FALSE)),\"\",VLOOKUP(B319,database!$A$6:$BFQ$206,3,FALSE)))","v":""},null,null,null,null,null,null,""]
["",null,{"$f":"IF(B320=\"\",\"\",IF(ISERROR(VLOOKUP(B320,database!$A$6:$BFQ$206,4,FALSE)),\"\",VLOOKUP(B320,database!$A$6:$BFQ$206,4,FALSE)))","v":""},null,null,null,"",null,null,null,{"$f":"IF(B320=\"\",\"\",IF(ISERROR(VLOOKUP(B320,database!$A$6:$BFQ$206,3,FALSE)),\"\",VLOOKUP(B320,database!$A$6:$BFQ$206,3,FALSE)))","v":""},null,null,null,null,null,null,""]
[{"$f":"IF(B321=\"\",\"\",ROW(A318))","v":""},null,{"$f":"IF(B321=\"\",\"\",IF(ISERROR(VLOOKUP(B321,database!$A$6:$BFQ$206,4,FALSE)),\"\",VLOOKUP(B321,database!$A$6:$BFQ$206,4,FALSE)))","v":""},null,null,null,{"$f":"IF(B321=\"\",\"\",IF(C321=\"\",0,1))","v":""},null,null,null,{"$f":"IF(B321=\"\",\"\",IF(ISERROR(VLOOKUP(B321,database!$A$6:$BFQ$206,3,FALSE)),\"\",VLOOKUP(B321,database!$A$6:$BFQ$206,3,FALSE)))","v":""},null,null,null,null,null,null,{"$f":"LEFT(C321,2)","v":""}]
["",null,{"$f":"IF(B322=\"\",\"\",IF(ISERROR(VLOOKUP(B322,database!$A$6:$BFQ$206,4,FALSE)),\"\",VLOOKUP(B322,database!$A$6:$BFQ$206,4,FALSE)))","v":""},null,null,null,"",null,null,null,{"$f":"IF(B322=\"\",\"\",IF(ISERROR(VLOOKUP(B322,database!$A$6:$BFQ$206,3,FALSE)),\"\",VLOOKUP(B322,database!$A$6:$BFQ$206,3,FALSE)))","v":""},null,null,null,null,null,null,""]
["",null,{"$f":"IF(B323=\"\",\"\",IF(ISERROR(VLOOKUP(B323,database!$A$6:$BFQ$206,4,FALSE)),\"\",VLOOKUP(B323,database!$A$6:$BFQ$206,4,FALSE)))","v":""},null,null,null,"",null,null,null,{"$f":"IF(B323=\"\",\"\",IF(ISERROR(VLOOKUP(B323,database!$A$6:$BFQ$206,3,FALSE)),\"\",VLOOKUP(B323,database!$A$6:$BFQ$206,3,FALSE)))","v":""},null,null,null,null,null,null,""]
["",null,{"$f":"IF(B324=\"\",\"\",IF(ISERROR(VLOOKUP(B324,database!$A$6:$BFQ$206,4,FALSE)),\"\",VLOOKUP(B324,database!$A$6:$BFQ$206,4,FALSE)))","v":""},null,null,null,"",null,null,null,{"$f":"IF(B324=\"\",\"\",IF(ISERROR(VLOOKUP(B324,database!$A$6:$BFQ$206,3,FALSE)),\"\",VLOOKUP(B324,database!$A$6:$BFQ$206,3,FALSE)))","v":""},null,null,null,null,null,null,""]
["",null,{"$f":"IF(B325=\"\",\"\",IF(ISERROR(VLOOKUP(B325,database!$A$6:$BFQ$206,4,FALSE)),\"\",VLOOKUP(B325,database!$A$6:$BFQ$206,4,FALSE)))","v":""},null,null,null,"",null,null,null,{"$f":"IF(B325=\"\",\"\",IF(ISERROR(VLOOKUP(B325,database!$A$6:$BFQ$206,3,FALSE)),\"\",VLOOKUP(B325,database!$A$6:$BFQ$206,3,FALSE)))","v":""},null,null,null,null,null,null,""]
["",null,{"$f":"IF(B326=\"\",\"\",IF(ISERROR(VLOOKUP(B326,database!$A$6:$BFQ$206,4,FALSE)),\"\",VLOOKUP(B326,database!$A$6:$BFQ$206,4,FALSE)))","v":""},null,null,null,"",null,null,null,{"$f":"IF(B326=\"\",\"\",IF(ISERROR(VLOOKUP(B326,database!$A$6:$BFQ$206,3,FALSE)),\"\",VLOOKUP(B326,database!$A$6:$BFQ$206,3,FALSE)))","v":""},null,null,null,null,null,null,""]
["",null,{"$f":"IF(B327=\"\",\"\",IF(ISERROR(VLOOKUP(B327,database!$A$6:$BFQ$206,4,FALSE)),\"\",VLOOKUP(B327,database!$A$6:$BFQ$206,4,FALSE)))","v":""},null,null,null,"",null,null,null,{"$f":"IF(B327=\"\",\"\",IF(ISERROR(VLOOKUP(B327,database!$A$6:$BFQ$206,3,FALSE)),\"\",VLOOKUP(B327,database!$A$6:$BFQ$206,3,FALSE)))","v":""},null,null,null,null,null,null,""]
["",null,{"$f":"IF(B328=\"\",\"\",IF(ISERROR(VLOOKUP(B328,database!$A$6:$BFQ$206,4,FALSE)),\"\",VLOOKUP(B328,database!$A$6:$BFQ$206,4,FALSE)))","v":""},null,null,null,"",null,null,null,{"$f":"IF(B328=\"\",\"\",IF(ISERROR(VLOOKUP(B328,database!$A$6:$BFQ$206,3,FALSE)),\"\",VLOOKUP(B328,database!$A$6:$BFQ$206,3,FALSE)))","v":""},null,null,null,null,null,null,""]
["",null,{"$f":"IF(B329=\"\",\"\",IF(ISERROR(VLOOKUP(B329,database!$A$6:$BFQ$206,4,FALSE)),\"\",VLOOKUP(B329,database!$A$6:$BFQ$206,4,FALSE)))","v":""},null,null,null,"",null,null,null,{"$f":"IF(B329=\"\",\"\",IF(ISERROR(VLOOKUP(B329,database!$A$6:$BFQ$206,3,FALSE)),\"\",VLOOKUP(B329,database!$A$6:$BFQ$206,3,FALSE)))","v":""},null,null,null,null,null,null,""]
["",null,{"$f":"IF(B330=\"\",\"\",IF(ISERROR(VLOOKUP(B330,database!$A$6:$BFQ$206,4,FALSE)),\"\",VLOOKUP(B330,database!$A$6:$BFQ$206,4,FALSE)))","v":""},null,null,null,"",null,null,null,{"$f":"IF(B330=\"\",\"\",IF(ISERROR(VLOOKUP(B330,database!$A$6:$BFQ$206,3,FALSE)),\"\",VLOOKUP(B330,database!$A$6:$BFQ$206,3,FALSE)))","v":""},null,null,null,null,null,null,""]
["",null,{"$f":"IF(B331=\"\",\"\",IF(ISERROR(VLOOKUP(B331,database!$A$6:$BFQ$206,4,FALSE)),\"\",VLOOKUP(B331,database!$A$6:$BFQ$206,4,FALSE)))","v":""},null,null,null,"",null,null,null,{"$f":"IF(B331=\"\",\"\",IF(ISERROR(VLOOKUP(B331,database!$A$6:$BFQ$206,3,FALSE)),\"\",VLOOKUP(B331,database!$A$6:$BFQ$206,3,FALSE)))","v":""},null,null,null,null,null,null,""]
["",null,{"$f":"IF(B332=\"\",\"\",IF(ISERROR(VLOOKUP(B332,database!$A$6:$BFQ$206,4,FALSE)),\"\",VLOOKUP(B332,database!$A$6:$BFQ$206,4,FALSE)))","v":""},null,null,null,"",null,null,null,{"$f":"IF(B332=\"\",\"\",IF(ISERROR(VLOOKUP(B332,database!$A$6:$BFQ$206,3,FALSE)),\"\",VLOOKUP(B332,database!$A$6:$BFQ$206,3,FALSE)))","v":""},null,null,null,null,null,null,""]
["",null,{"$f":"IF(B333=\"\",\"\",IF(ISERROR(VLOOKUP(B333,database!$A$6:$BFQ$206,4,FALSE)),\"\",VLOOKUP(B333,database!$A$6:$BFQ$206,4,FALSE)))","v":""},null,null,null,"",null,null,null,{"$f":"IF(B333=\"\",\"\",IF(ISERROR(VLOOKUP(B333,database!$A$6:$BFQ$206,3,FALSE)),\"\",VLOOKUP(B333,database!$A$6:$BFQ$206,3,FALSE)))","v":""},null,null,null,null,null,null,""]
["",null,{"$f":"IF(B334=\"\",\"\",IF(ISERROR(VLOOKUP(B334,database!$A$6:$BFQ$206,4,FALSE)),\"\",VLOOKUP(B334,database!$A$6:$BFQ$206,4,FALSE)))","v":""},null,null,null,"",null,null,null,{"$f":"IF(B334=\"\",\"\",IF(ISERROR(VLOOKUP(B334,database!$A$6:$BFQ$206,3,FALSE)),\"\",VLOOKUP(B334,database!$A$6:$BFQ$206,3,FALSE)))","v":""},null,null,null,null,null,null,""]
["",null,{"$f":"IF(B335=\"\",\"\",IF(ISERROR(VLOOKUP(B335,database!$A$6:$BFQ$206,4,FALSE)),\"\",VLOOKUP(B335,database!$A$6:$BFQ$206,4,FALSE)))","v":""},null,null,null,"",null,null,null,{"$f":"IF(B335=\"\",\"\",IF(ISERROR(VLOOKUP(B335,database!$A$6:$BFQ$206,3,FALSE)),\"\",VLOOKUP(B335,database!$A$6:$BFQ$206,3,FALSE)))","v":""},null,null,null,null,null,null,""]
["",null,{"$f":"IF(B336=\"\",\"\",IF(ISERROR(VLOOKUP(B336,database!$A$6:$BFQ$206,4,FALSE)),\"\",VLOOKUP(B336,database!$A$6:$BFQ$206,4,FALSE)))","v":""},null,null,null,"",null,null,null,{"$f":"IF(B336=\"\",\"\",IF(ISERROR(VLOOKUP(B336,database!$A$6:$BFQ$206,3,FALSE)),\"\",VLOOKUP(B336,database!$A$6:$BFQ$206,3,FALSE)))","v":""},null,null,null,null,null,null,""]
["",null,{"$f":"IF(B337=\"\",\"\",IF(ISERROR(VLOOKUP(B337,database!$A$6:$BFQ$206,4,FALSE)),\"\",VLOOKUP(B337,database!$A$6:$BFQ$206,4,FALSE)))","v":""},null,null,null,"",null,null,null,{"$f":"IF(B337=\"\",\"\",IF(ISERROR(VLOOKUP(B337,database!$A$6:$BFQ$206,3,FALSE)),\"\",VLOOKUP(B337,database!$A$6:$BFQ$206,3,FALSE)))","v":""},null,null,null,null,null,null,""]
["",null,{"$f":"IF(B338=\"\",\"\",IF(ISERROR(VLOOKUP(B338,database!$A$6:$BFQ$206,4,FALSE)),\"\",VLOOKUP(B338,database!$A$6:$BFQ$206,4,FALSE)))","v":""},null,null,null,"",null,null,null,{"$f":"IF(B338=\"\",\"\",IF(ISERROR(VLOOKUP(B338,database!$A$6:$BFQ$206,3,FALSE)),\"\",VLOOKUP(B338,database!$A$6:$BFQ$206,3,FALSE)))","v":""},null,null,null,null,null,null,""]
["",null,{"$f":"IF(B339=\"\",\"\",IF(ISERROR(VLOOKUP(B339,database!$A$6:$BFQ$206,4,FALSE)),\"\",VLOOKUP(B339,database!$A$6:$BFQ$206,4,FALSE)))","v":""},null,null,null,"",null,null,null,{"$f":"IF(B339=\"\",\"\",IF(ISERROR(VLOOKUP(B339,database!$A$6:$BFQ$206,3,FALSE)),\"\",VLOOKUP(B339,database!$A$6:$BFQ$206,3,FALSE)))","v":""},null,null,null,null,null,null,""]
["",null,{"$f":"IF(B340=\"\",\"\",IF(ISERROR(VLOOKUP(B340,database!$A$6:$BFQ$206,4,FALSE)),\"\",VLOOKUP(B340,database!$A$6:$BFQ$206,4,FALSE)))","v":""},null,null,null,"",null,null,null,{"$f":"IF(B340=\"\",\"\",IF(ISERROR(VLOOKUP(B340,database!$A$6:$BFQ$206,3,FALSE)),\"\",VLOOKUP(B340,database!$A$6:$BFQ$206,3,FALSE)))","v":""},null,null,null,null,null,null,""]
["",null,{"$f":"IF(B341=\"\",\"\",IF(ISERROR(VLOOKUP(B341,database!$A$6:$BFQ$206,4,FALSE)),\"\",VLOOKUP(B341,database!$A$6:$BFQ$206,4,FALSE)))","v":""},null,null,null,"",null,null,null,{"$f":"IF(B341=\"\",\"\",IF(ISERROR(VLOOKUP(B341,database!$A$6:$BFQ$206,3,FALSE)),\"\",VLOOKUP(B341,database!$A$6:$BFQ$206,3,FALSE)))","v":""},null,null,null,null,null,null,""]
["",null,{"$f":"IF(B342=\"\",\"\",IF(ISERROR(VLOOKUP(B342,database!$A$6:$BFQ$206,4,FALSE)),\"\",VLOOKUP(B342,database!$A$6:$BFQ$206,4,FALSE)))","v":""},null,null,null,"",null,null,null,{"$f":"IF(B342=\"\",\"\",IF(ISERROR(VLOOKUP(B342,database!$A$6:$BFQ$206,3,FALSE)),\"\",VLOOKUP(B342,database!$A$6:$BFQ$206,3,FALSE)))","v":""},null,null,null,null,null,null,""]
["",null,{"$f":"IF(B343=\"\",\"\",IF(ISERROR(VLOOKUP(B343,database!$A$6:$BFQ$206,4,FALSE)),\"\",VLOOKUP(B343,database!$A$6:$BFQ$206,4,FALSE)))","v":""},null,null,null,"",null,null,null,{"$f":"IF(B343=\"\",\"\",IF(ISERROR(VLOOKUP(B343,database!$A$6:$BFQ$206,3,FALSE)),\"\",VLOOKUP(B343,database!$A$6:$BFQ$206,3,FALSE)))","v":""},null,null,null,null,null,null,""]
["",null,{"$f":"IF(B344=\"\",\"\",IF(ISERROR(VLOOKUP(B344,database!$A$6:$BFQ$206,4,FALSE)),\"\",VLOOKUP(B344,database!$A$6:$BFQ$206,4,FALSE)))","v":""},null,null,null,"",null,null,null,{"$f":"IF(B344=\"\",\"\",IF(ISERROR(VLOOKUP(B344,database!$A$6:$BFQ$206,3,FALSE)),\"\",VLOOKUP(B344,database!$A$6:$BFQ$206,3,FALSE)))","v":""},null,null,null,null,null,null,""]
["",null,{"$f":"IF(B345=\"\",\"\",IF(ISERROR(VLOOKUP(B345,database!$A$6:$BFQ$206,4,FALSE)),\"\",VLOOKUP(B345,database!$A$6:$BFQ$206,4,FALSE)))","v":""},null,null,null,"",null,null,null,{"$f":"IF(B345=\"\",\"\",IF(ISERROR(VLOOKUP(B345,database!$A$6:$BFQ$206,3,FALSE)),\"\",VLOOKUP(B345,database!$A$6:$BFQ$206,3,FALSE)))","v":""},null,null,null,null,null,null,""]
["",null,{"$f":"IF(B346=\"\",\"\",IF(ISERROR(VLOOKUP(B346,database!$A$6:$BFQ$206,4,FALSE)),\"\",VLOOKUP(B346,database!$A$6:$BFQ$206,4,FALSE)))","v":""},null,null,null,"",null,null,null,{"$f":"IF(B346=\"\",\"\",IF(ISERROR(VLOOKUP(B346,database!$A$6:$BFQ$206,3,FALSE)),\"\",VLOOKUP(B346,database!$A$6:$BFQ$206,3,FALSE)))","v":""},null,null,null,null,null,null,""]
["",null,{"$f":"IF(B347=\"\",\"\",IF(ISERROR(VLOOKUP(B347,database!$A$6:$BFQ$206,4,FALSE)),\"\",VLOOKUP(B347,database!$A$6:$BFQ$206,4,FALSE)))","v":""},null,null,null,"",null,null,null,{"$f":"IF(B347=\"\",\"\",IF(ISERROR(VLOOKUP(B347,database!$A$6:$BFQ$206,3,FALSE)),\"\",VLOOKUP(B347,database!$A$6:$BFQ$206,3,FALSE)))","v":""},null,null,null,null,null,null,""]
["",null,{"$f":"IF(B348=\"\",\"\",IF(ISERROR(VLOOKUP(B348,database!$A$6:$BFQ$206,4,FALSE)),\"\",VLOOKUP(B348,database!$A$6:$BFQ$206,4,FALSE)))","v":""},null,null,null,"",null,null,null,{"$f":"IF(B348=\"\",\"\",IF(ISERROR(VLOOKUP(B348,database!$A$6:$BFQ$206,3,FALSE)),\"\",VLOOKUP(B348,database!$A$6:$BFQ$206,3,FALSE)))","v":""},null,null,null,null,null,null,""]
["",null,{"$f":"IF(B349=\"\",\"\",IF(ISERROR(VLOOKUP(B349,database!$A$6:$BFQ$206,4,FALSE)),\"\",VLOOKUP(B349,database!$A$6:$BFQ$206,4,FALSE)))","v":""},null,null,null,"",null,null,null,{"$f":"IF(B349=\"\",\"\",IF(ISERROR(VLOOKUP(B349,database!$A$6:$BFQ$206,3,FALSE)),\"\",VLOOKUP(B349,database!$A$6:$BFQ$206,3,FALSE)))","v":""},null,null,null,null,null,null,""]
["",null,{"$f":"IF(B350=\"\",\"\",IF(ISERROR(VLOOKUP(B350,database!$A$6:$BFQ$206,4,FALSE)),\"\",VLOOKUP(B350,database!$A$6:$BFQ$206,4,FALSE)))","v":""},null,null,null,"",null,null,null,{"$f":"IF(B350=\"\",\"\",IF(ISERROR(VLOOKUP(B350,database!$A$6:$BFQ$206,3,FALSE)),\"\",VLOOKUP(B350,database!$A$6:$BFQ$206,3,FALSE)))","v":""},null,null,null,null,null,null,""]
["",null,{"$f":"IF(B351=\"\",\"\",IF(ISERROR(VLOOKUP(B351,database!$A$6:$BFQ$206,4,FALSE)),\"\",VLOOKUP(B351,database!$A$6:$BFQ$206,4,FALSE)))","v":""},null,null,null,"",null,null,null,{"$f":"IF(B351=\"\",\"\",IF(ISERROR(VLOOKUP(B351,database!$A$6:$BFQ$206,3,FALSE)),\"\",VLOOKUP(B351,database!$A$6:$BFQ$206,3,FALSE)))","v":""},null,null,null,null,null,null,""]
["",null,{"$f":"IF(B352=\"\",\"\",IF(ISERROR(VLOOKUP(B352,database!$A$6:$BFQ$206,4,FALSE)),\"\",VLOOKUP(B352,database!$A$6:$BFQ$206,4,FALSE)))","v":""},null,null,null,"",null,null,null,{"$f":"IF(B352=\"\",\"\",IF(ISERROR(VLOOKUP(B352,database!$A$6:$BFQ$206,3,FALSE)),\"\",VLOOKUP(B352,database!$A$6:$BFQ$206,3,FALSE)))","v":""},null,null,null,null,null,null,""]
["",null,{"$f":"IF(B353=\"\",\"\",IF(ISERROR(VLOOKUP(B353,database!$A$6:$BFQ$206,4,FALSE)),\"\",VLOOKUP(B353,database!$A$6:$BFQ$206,4,FALSE)))","v":""},null,null,null,"",null,null,null,{"$f":"IF(B353=\"\",\"\",IF(ISERROR(VLOOKUP(B353,database!$A$6:$BFQ$206,3,FALSE)),\"\",VLOOKUP(B353,database!$A$6:$BFQ$206,3,FALSE)))","v":""},null,null,null,null,null,null,""]
["",null,{"$f":"IF(B354=\"\",\"\",IF(ISERROR(VLOOKUP(B354,database!$A$6:$BFQ$206,4,FALSE)),\"\",VLOOKUP(B354,database!$A$6:$BFQ$206,4,FALSE)))","v":""},null,null,null,"",null,null,null,{"$f":"IF(B354=\"\",\"\",IF(ISERROR(VLOOKUP(B354,database!$A$6:$BFQ$206,3,FALSE)),\"\",VLOOKUP(B354,database!$A$6:$BFQ$206,3,FALSE)))","v":""},null,null,null,null,null,null,""]
["",null,{"$f":"IF(B355=\"\",\"\",IF(ISERROR(VLOOKUP(B355,database!$A$6:$BFQ$206,4,FALSE)),\"\",VLOOKUP(B355,database!$A$6:$BFQ$206,4,FALSE)))","v":""},null,null,null,"",null,null,null,{"$f":"IF(B355=\"\",\"\",IF(ISERROR(VLOOKUP(B355,database!$A$6:$BFQ$206,3,FALSE)),\"\",VLOOKUP(B355,database!$A$6:$BFQ$206,3,FALSE)))","v":""},null,null,null,null,null,null,""]
["",null,{"$f":"IF(B356=\"\",\"\",IF(ISERROR(VLOOKUP(B356,database!$A$6:$BFQ$206,4,FALSE)),\"\",VLOOKUP(B356,database!$A$6:$BFQ$206,4,FALSE)))","v":""},null,null,null,"",null,null,null,{"$f":"IF(B356=\"\",\"\",IF(ISERROR(VLOOKUP(B356,database!$A$6:$BFQ$206,3,FALSE)),\"\",VLOOKUP(B356,database!$A$6:$BFQ$206,3,FALSE)))","v":""},null,null,null,null,null,null,""]
["",null,{"$f":"IF(B357=\"\",\"\",IF(ISERROR(VLOOKUP(B357,database!$A$6:$BFQ$206,4,FALSE)),\"\",VLOOKUP(B357,database!$A$6:$BFQ$206,4,FALSE)))","v":""},null,null,null,"",null,null,null,{"$f":"IF(B357=\"\",\"\",IF(ISERROR(VLOOKUP(B357,database!$A$6:$BFQ$206,3,FALSE)),\"\",VLOOKUP(B357,database!$A$6:$BFQ$206,3,FALSE)))","v":""},null,null,null,null,null,null,""]
["",null,{"$f":"IF(B358=\"\",\"\",IF(ISERROR(VLOOKUP(B358,database!$A$6:$BFQ$206,4,FALSE)),\"\",VLOOKUP(B358,database!$A$6:$BFQ$206,4,FALSE)))","v":""},null,null,null,"",null,null,null,{"$f":"IF(B358=\"\",\"\",IF(ISERROR(VLOOKUP(B358,database!$A$6:$BFQ$206,3,FALSE)),\"\",VLOOKUP(B358,database!$A$6:$BFQ$206,3,FALSE)))","v":""},null,null,null,null,null,null,""]
["",null,{"$f":"IF(B359=\"\",\"\",IF(ISERROR(VLOOKUP(B359,database!$A$6:$BFQ$206,4,FALSE)),\"\",VLOOKUP(B359,database!$A$6:$BFQ$206,4,FALSE)))","v":""},null,null,null,"",null,null,null,{"$f":"IF(B359=\"\",\"\",IF(ISERROR(VLOOKUP(B359,database!$A$6:$BFQ$206,3,FALSE)),\"\",VLOOKUP(B359,database!$A$6:$BFQ$206,3,FALSE)))","v":""},null,null,null,null,null,null,""]
["",null,{"$f":"IF(B360=\"\",\"\",IF(ISERROR(VLOOKUP(B360,database!$A$6:$BFQ$206,4,FALSE)),\"\",VLOOKUP(B360,database!$A$6:$BFQ$206,4,FALSE)))","v":""},null,null,null,"",null,null,null,{"$f":"IF(B360=\"\",\"\",IF(ISERROR(VLOOKUP(B360,database!$A$6:$BFQ$206,3,FALSE)),\"\",VLOOKUP(B360,database!$A$6:$BFQ$206,3,FALSE)))","v":""},null,null,null,null,null,null,""]
["",null,{"$f":"IF(B361=\"\",\"\",IF(ISERROR(VLOOKUP(B361,database!$A$6:$BFQ$206,4,FALSE)),\"\",VLOOKUP(B361,database!$A$6:$BFQ$206,4,FALSE)))","v":""},null,null,null,"",null,null,null,{"$f":"IF(B361=\"\",\"\",IF(ISERROR(VLOOKUP(B361,database!$A$6:$BFQ$206,3,FALSE)),\"\",VLOOKUP(B361,database!$A$6:$BFQ$206,3,FALSE)))","v":""},null,null,null,null,null,null,""]
["",null,{"$f":"IF(B362=\"\",\"\",IF(ISERROR(VLOOKUP(B362,database!$A$6:$BFQ$206,4,FALSE)),\"\",VLOOKUP(B362,database!$A$6:$BFQ$206,4,FALSE)))","v":""},null,null,null,"",null,null,null,{"$f":"IF(B362=\"\",\"\",IF(ISERROR(VLOOKUP(B362,database!$A$6:$BFQ$206,3,FALSE)),\"\",VLOOKUP(B362,database!$A$6:$BFQ$206,3,FALSE)))","v":""},null,null,null,null,null,null,""]
["",null,{"$f":"IF(B363=\"\",\"\",IF(ISERROR(VLOOKUP(B363,database!$A$6:$BFQ$206,4,FALSE)),\"\",VLOOKUP(B363,database!$A$6:$BFQ$206,4,FALSE)))","v":""},null,null,null,"",null,null,null,{"$f":"IF(B363=\"\",\"\",IF(ISERROR(VLOOKUP(B363,database!$A$6:$BFQ$206,3,FALSE)),\"\",VLOOKUP(B363,database!$A$6:$BFQ$206,3,FALSE)))","v":""},null,null,null,null,null,null,""]
["",null,{"$f":"IF(B364=\"\",\"\",IF(ISERROR(VLOOKUP(B364,database!$A$6:$BFQ$206,4,FALSE)),\"\",VLOOKUP(B364,database!$A$6:$BFQ$206,4,FALSE)))","v":""},null,null,null,"",null,null,null,{"$f":"IF(B364=\"\",\"\",IF(ISERROR(VLOOKUP(B364,database!$A$6:$BFQ$206,3,FALSE)),\"\",VLOOKUP(B364,database!$A$6:$BFQ$206,3,FALSE)))","v":""},null,null,null,null,null,null,""]
["",null,{"$f":"IF(B365=\"\",\"\",IF(ISERROR(VLOOKUP(B365,database!$A$6:$BFQ$206,4,FALSE)),\"\",VLOOKUP(B365,database!$A$6:$BFQ$206,4,FALSE)))","v":""},null,null,null,"",null,null,null,{"$f":"IF(B365=\"\",\"\",IF(ISERROR(VLOOKUP(B365,database!$A$6:$BFQ$206,3,FALSE)),\"\",VLOOKUP(B365,database!$A$6:$BFQ$206,3,FALSE)))","v":""},null,null,null,null,null,null,""]
["",null,{"$f":"IF(B366=\"\",\"\",IF(ISERROR(VLOOKUP(B366,database!$A$6:$BFQ$206,4,FALSE)),\"\",VLOOKUP(B366,database!$A$6:$BFQ$206,4,FALSE)))","v":""},null,null,null,"",null,null,null,{"$f":"IF(B366=\"\",\"\",IF(ISERROR(VLOOKUP(B366,database!$A$6:$BFQ$206,3,FALSE)),\"\",VLOOKUP(B366,database!$A$6:$BFQ$206,3,FALSE)))","v":""},null,null,null,null,null,null,""]
["",null,{"$f":"IF(B367=\"\",\"\",IF(ISERROR(VLOOKUP(B367,database!$A$6:$BFQ$206,4,FALSE)),\"\",VLOOKUP(B367,database!$A$6:$BFQ$206,4,FALSE)))","v":""},null,null,null,"",null,null,null,{"$f":"IF(B367=\"\",\"\",IF(ISERROR(VLOOKUP(B367,database!$A$6:$BFQ$206,3,FALSE)),\"\",VLOOKUP(B367,database!$A$6:$BFQ$206,3,FALSE)))","v":""},null,null,null,null,null,null,""]
["",null,{"$f":"IF(B368=\"\",\"\",IF(ISERROR(VLOOKUP(B368,database!$A$6:$BFQ$206,4,FALSE)),\"\",VLOOKUP(B368,database!$A$6:$BFQ$206,4,FALSE)))","v":""},null,null,null,"",null,null,null,{"$f":"IF(B368=\"\",\"\",IF(ISERROR(VLOOKUP(B368,database!$A$6:$BFQ$206,3,FALSE)),\"\",VLOOKUP(B368,database!$A$6:$BFQ$206,3,FALSE)))","v":""},null,null,null,null,null,null,""]
["",null,{"$f":"IF(B369=\"\",\"\",IF(ISERROR(VLOOKUP(B369,database!$A$6:$BFQ$206,4,FALSE)),\"\",VLOOKUP(B369,database!$A$6:$BFQ$206,4,FALSE)))","v":""},null,null,null,"",null,null,null,{"$f":"IF(B369=\"\",\"\",IF(ISERROR(VLOOKUP(B369,database!$A$6:$BFQ$206,3,FALSE)),\"\",VLOOKUP(B369,database!$A$6:$BFQ$206,3,FALSE)))","v":""},null,null,null,null,null,null,""]
["",null,{"$f":"IF(B370=\"\",\"\",IF(ISERROR(VLOOKUP(B370,database!$A$6:$BFQ$206,4,FALSE)),\"\",VLOOKUP(B370,database!$A$6:$BFQ$206,4,FALSE)))","v":""},null,null,null,"",null,null,null,{"$f":"IF(B370=\"\",\"\",IF(ISERROR(VLOOKUP(B370,database!$A$6:$BFQ$206,3,FALSE)),\"\",VLOOKUP(B370,database!$A$6:$BFQ$206,3,FALSE)))","v":""},null,null,null,null,null,null,""]
["",null,{"$f":"IF(B371=\"\",\"\",IF(ISERROR(VLOOKUP(B371,database!$A$6:$BFQ$206,4,FALSE)),\"\",VLOOKUP(B371,database!$A$6:$BFQ$206,4,FALSE)))","v":""},null,null,null,"",null,null,null,{"$f":"IF(B371=\"\",\"\",IF(ISERROR(VLOOKUP(B371,database!$A$6:$BFQ$206,3,FALSE)),\"\",VLOOKUP(B371,database!$A$6:$BFQ$206,3,FALSE)))","v":""},null,null,null,null,null,null,""]
["",null,{"$f":"IF(B372=\"\",\"\",IF(ISERROR(VLOOKUP(B372,database!$A$6:$BFQ$206,4,FALSE)),\"\",VLOOKUP(B372,database!$A$6:$BFQ$206,4,FALSE)))","v":""},null,null,null,"",null,null,null,{"$f":"IF(B372=\"\",\"\",IF(ISERROR(VLOOKUP(B372,database!$A$6:$BFQ$206,3,FALSE)),\"\",VLOOKUP(B372,database!$A$6:$BFQ$206,3,FALSE)))","v":""},null,null,null,null,null,null,""]
["",null,{"$f":"IF(B373=\"\",\"\",IF(ISERROR(VLOOKUP(B373,database!$A$6:$BFQ$206,4,FALSE)),\"\",VLOOKUP(B373,database!$A$6:$BFQ$206,4,FALSE)))","v":""},null,null,null,"",null,null,null,{"$f":"IF(B373=\"\",\"\",IF(ISERROR(VLOOKUP(B373,database!$A$6:$BFQ$206,3,FALSE)),\"\",VLOOKUP(B373,database!$A$6:$BFQ$206,3,FALSE)))","v":""},null,null,null,null,null,null,""]
["",null,{"$f":"IF(B374=\"\",\"\",IF(ISERROR(VLOOKUP(B374,database!$A$6:$BFQ$206,4,FALSE)),\"\",VLOOKUP(B374,database!$A$6:$BFQ$206,4,FALSE)))","v":""},null,null,null,"",null,null,null,{"$f":"IF(B374=\"\",\"\",IF(ISERROR(VLOOKUP(B374,database!$A$6:$BFQ$206,3,FALSE)),\"\",VLOOKUP(B374,database!$A$6:$BFQ$206,3,FALSE)))","v":""},null,null,null,null,null,null,""]
["",null,{"$f":"IF(B375=\"\",\"\",IF(ISERROR(VLOOKUP(B375,database!$A$6:$BFQ$206,4,FALSE)),\"\",VLOOKUP(B375,database!$A$6:$BFQ$206,4,FALSE)))","v":""},null,null,null,"",null,null,null,{"$f":"IF(B375=\"\",\"\",IF(ISERROR(VLOOKUP(B375,database!$A$6:$BFQ$206,3,FALSE)),\"\",VLOOKUP(B375,database!$A$6:$BFQ$206,3,FALSE)))","v":""},null,null,null,null,null,null,""]
["",null,{"$f":"IF(B376=\"\",\"\",IF(ISERROR(VLOOKUP(B376,database!$A$6:$BFQ$206,4,FALSE)),\"\",VLOOKUP(B376,database!$A$6:$BFQ$206,4,FALSE)))","v":""},null,null,null,"",null,null,null,{"$f":"IF(B376=\"\",\"\",IF(ISERROR(VLOOKUP(B376,database!$A$6:$BFQ$206,3,FALSE)),\"\",VLOOKUP(B376,database!$A$6:$BFQ$206,3,FALSE)))","v":""},null,null,null,null,null,null,""]
["",null,{"$f":"IF(B377=\"\",\"\",IF(ISERROR(VLOOKUP(B377,database!$A$6:$BFQ$206,4,FALSE)),\"\",VLOOKUP(B377,database!$A$6:$BFQ$206,4,FALSE)))","v":""},null,null,null,"",null,null,null,{"$f":"IF(B377=\"\",\"\",IF(ISERROR(VLOOKUP(B377,database!$A$6:$BFQ$206,3,FALSE)),\"\",VLOOKUP(B377,database!$A$6:$BFQ$206,3,FALSE)))","v":""},null,null,null,null,null,null,""]
["",null,{"$f":"IF(B378=\"\",\"\",IF(ISERROR(VLOOKUP(B378,database!$A$6:$BFQ$206,4,FALSE)),\"\",VLOOKUP(B378,database!$A$6:$BFQ$206,4,FALSE)))","v":""},null,null,null,"",null,null,null,{"$f":"IF(B378=\"\",\"\",IF(ISERROR(VLOOKUP(B378,database!$A$6:$BFQ$206,3,FALSE)),\"\",VLOOKUP(B378,database!$A$6:$BFQ$206,3,FALSE)))","v":""},null,null,null,null,null,null,""]
["",null,{"$f":"IF(B379=\"\",\"\",IF(ISERROR(VLOOKUP(B379,database!$A$6:$BFQ$206,4,FALSE)),\"\",VLOOKUP(B379,database!$A$6:$BFQ$206,4,FALSE)))","v":""},null,null,null,"",null,null,null,{"$f":"IF(B379=\"\",\"\",IF(ISERROR(VLOOKUP(B379,database!$A$6:$BFQ$206,3,FALSE)),\"\",VLOOKUP(B379,database!$A$6:$BFQ$206,3,FALSE)))","v":""},null,null,null,null,null,null,""]
["",null,{"$f":"IF(B380=\"\",\"\",IF(ISERROR(VLOOKUP(B380,database!$A$6:$BFQ$206,4,FALSE)),\"\",VLOOKUP(B380,database!$A$6:$BFQ$206,4,FALSE)))","v":""},null,null,null,"",null,null,null,{"$f":"IF(B380=\"\",\"\",IF(ISERROR(VLOOKUP(B380,database!$A$6:$BFQ$206,3,FALSE)),\"\",VLOOKUP(B380,database!$A$6:$BFQ$206,3,FALSE)))","v":""},null,null,null,null,null,null,""]
["",null,{"$f":"IF(B381=\"\",\"\",IF(ISERROR(VLOOKUP(B381,database!$A$6:$BFQ$206,4,FALSE)),\"\",VLOOKUP(B381,database!$A$6:$BFQ$206,4,FALSE)))","v":""},null,null,null,"",null,null,null,{"$f":"IF(B381=\"\",\"\",IF(ISERROR(VLOOKUP(B381,database!$A$6:$BFQ$206,3,FALSE)),\"\",VLOOKUP(B381,database!$A$6:$BFQ$206,3,FALSE)))","v":""},null,null,null,null,null,null,""]
["",null,{"$f":"IF(B382=\"\",\"\",IF(ISERROR(VLOOKUP(B382,database!$A$6:$BFQ$206,4,FALSE)),\"\",VLOOKUP(B382,database!$A$6:$BFQ$206,4,FALSE)))","v":""},null,null,null,"",null,null,null,{"$f":"IF(B382=\"\",\"\",IF(ISERROR(VLOOKUP(B382,database!$A$6:$BFQ$206,3,FALSE)),\"\",VLOOKUP(B382,database!$A$6:$BFQ$206,3,FALSE)))","v":""},null,null,null,null,null,null,""]
["",null,{"$f":"IF(B383=\"\",\"\",IF(ISERROR(VLOOKUP(B383,database!$A$6:$BFQ$206,4,FALSE)),\"\",VLOOKUP(B383,database!$A$6:$BFQ$206,4,FALSE)))","v":""},null,null,null,"",null,null,null,{"$f":"IF(B383=\"\",\"\",IF(ISERROR(VLOOKUP(B383,database!$A$6:$BFQ$206,3,FALSE)),\"\",VLOOKUP(B383,database!$A$6:$BFQ$206,3,FALSE)))","v":""},null,null,null,null,null,null,""]
["",null,{"$f":"IF(B384=\"\",\"\",IF(ISERROR(VLOOKUP(B384,database!$A$6:$BFQ$206,4,FALSE)),\"\",VLOOKUP(B384,database!$A$6:$BFQ$206,4,FALSE)))","v":""},null,null,null,"",null,null,null,{"$f":"IF(B384=\"\",\"\",IF(ISERROR(VLOOKUP(B384,database!$A$6:$BFQ$206,3,FALSE)),\"\",VLOOKUP(B384,database!$A$6:$BFQ$206,3,FALSE)))","v":""},null,null,null,null,null,null,""]
[{"$f":"IF(B385=\"\",\"\",ROW(A382))","v":""},null,{"$f":"IF(B385=\"\",\"\",IF(ISERROR(VLOOKUP(B385,database!$A$6:$BFQ$206,4,FALSE)),\"\",VLOOKUP(B385,database!$A$6:$BFQ$206,4,FALSE)))","v":""},null,null,null,{"$f":"IF(B385=\"\",\"\",IF(C385=\"\",0,1))","v":""},null,null,null,{"$f":"IF(B385=\"\",\"\",IF(ISERROR(VLOOKUP(B385,database!$A$6:$BFQ$206,3,FALSE)),\"\",VLOOKUP(B385,database!$A$6:$BFQ$206,3,FALSE)))","v":""},null,null,null,null,null,null,{"$f":"LEFT(C385,2)","v":""}]
["",null,{"$f":"IF(B386=\"\",\"\",IF(ISERROR(VLOOKUP(B386,database!$A$6:$BFQ$206,4,FALSE)),\"\",VLOOKUP(B386,database!$A$6:$BFQ$206,4,FALSE)))","v":""},null,null,null,"",null,null,null,{"$f":"IF(B386=\"\",\"\",IF(ISERROR(VLOOKUP(B386,database!$A$6:$BFQ$206,3,FALSE)),\"\",VLOOKUP(B386,database!$A$6:$BFQ$206,3,FALSE)))","v":""},null,null,null,null,null,null,""]
["",null,{"$f":"IF(B387=\"\",\"\",IF(ISERROR(VLOOKUP(B387,database!$A$6:$BFQ$206,4,FALSE)),\"\",VLOOKUP(B387,database!$A$6:$BFQ$206,4,FALSE)))","v":""},null,null,null,"",null,null,null,{"$f":"IF(B387=\"\",\"\",IF(ISERROR(VLOOKUP(B387,database!$A$6:$BFQ$206,3,FALSE)),\"\",VLOOKUP(B387,database!$A$6:$BFQ$206,3,FALSE)))","v":""},null,null,null,null,null,null,""]
["",null,{"$f":"IF(B388=\"\",\"\",IF(ISERROR(VLOOKUP(B388,database!$A$6:$BFQ$206,4,FALSE)),\"\",VLOOKUP(B388,database!$A$6:$BFQ$206,4,FALSE)))","v":""},null,null,null,"",null,null,null,{"$f":"IF(B388=\"\",\"\",IF(ISERROR(VLOOKUP(B388,database!$A$6:$BFQ$206,3,FALSE)),\"\",VLOOKUP(B388,database!$A$6:$BFQ$206,3,FALSE)))","v":""},null,null,null,null,null,null,""]
["",null,{"$f":"IF(B389=\"\",\"\",IF(ISERROR(VLOOKUP(B389,database!$A$6:$BFQ$206,4,FALSE)),\"\",VLOOKUP(B389,database!$A$6:$BFQ$206,4,FALSE)))","v":""},null,null,null,"",null,null,null,{"$f":"IF(B389=\"\",\"\",IF(ISERROR(VLOOKUP(B389,database!$A$6:$BFQ$206,3,FALSE)),\"\",VLOOKUP(B389,database!$A$6:$BFQ$206,3,FALSE)))","v":""},null,null,null,null,null,null,""]
["",null,{"$f":"IF(B390=\"\",\"\",IF(ISERROR(VLOOKUP(B390,database!$A$6:$BFQ$206,4,FALSE)),\"\",VLOOKUP(B390,database!$A$6:$BFQ$206,4,FALSE)))","v":""},null,null,null,"",null,null,null,{"$f":"IF(B390=\"\",\"\",IF(ISERROR(VLOOKUP(B390,database!$A$6:$BFQ$206,3,FALSE)),\"\",VLOOKUP(B390,database!$A$6:$BFQ$206,3,FALSE)))","v":""},null,null,null,null,null,null,""]
["",null,{"$f":"IF(B391=\"\",\"\",IF(ISERROR(VLOOKUP(B391,database!$A$6:$BFQ$206,4,FALSE)),\"\",VLOOKUP(B391,database!$A$6:$BFQ$206,4,FALSE)))","v":""},null,null,null,"",null,null,null,{"$f":"IF(B391=\"\",\"\",IF(ISERROR(VLOOKUP(B391,database!$A$6:$BFQ$206,3,FALSE)),\"\",VLOOKUP(B391,database!$A$6:$BFQ$206,3,FALSE)))","v":""},null,null,null,null,null,null,""]
["",null,{"$f":"IF(B392=\"\",\"\",IF(ISERROR(VLOOKUP(B392,database!$A$6:$BFQ$206,4,FALSE)),\"\",VLOOKUP(B392,database!$A$6:$BFQ$206,4,FALSE)))","v":""},null,null,null,"",null,null,null,{"$f":"IF(B392=\"\",\"\",IF(ISERROR(VLOOKUP(B392,database!$A$6:$BFQ$206,3,FALSE)),\"\",VLOOKUP(B392,database!$A$6:$BFQ$206,3,FALSE)))","v":""},null,null,null,null,null,null,""]
["",null,{"$f":"IF(B393=\"\",\"\",IF(ISERROR(VLOOKUP(B393,database!$A$6:$BFQ$206,4,FALSE)),\"\",VLOOKUP(B393,database!$A$6:$BFQ$206,4,FALSE)))","v":""},null,null,null,"",null,null,null,{"$f":"IF(B393=\"\",\"\",IF(ISERROR(VLOOKUP(B393,database!$A$6:$BFQ$206,3,FALSE)),\"\",VLOOKUP(B393,database!$A$6:$BFQ$206,3,FALSE)))","v":""},null,null,null,null,null,null,""]
["",null,{"$f":"IF(B394=\"\",\"\",IF(ISERROR(VLOOKUP(B394,database!$A$6:$BFQ$206,4,FALSE)),\"\",VLOOKUP(B394,database!$A$6:$BFQ$206,4,FALSE)))","v":""},null,null,null,"",null,null,null,{"$f":"IF(B394=\"\",\"\",IF(ISERROR(VLOOKUP(B394,database!$A$6:$BFQ$206,3,FALSE)),\"\",VLOOKUP(B394,database!$A$6:$BFQ$206,3,FALSE)))","v":""},null,null,null,null,null,null,""]
["",null,{"$f":"IF(B395=\"\",\"\",IF(ISERROR(VLOOKUP(B395,database!$A$6:$BFQ$206,4,FALSE)),\"\",VLOOKUP(B395,database!$A$6:$BFQ$206,4,FALSE)))","v":""},null,null,null,"",null,null,null,{"$f":"IF(B395=\"\",\"\",IF(ISERROR(VLOOKUP(B395,database!$A$6:$BFQ$206,3,FALSE)),\"\",VLOOKUP(B395,database!$A$6:$BFQ$206,3,FALSE)))","v":""},null,null,null,null,null,null,""]
["",null,{"$f":"IF(B396=\"\",\"\",IF(ISERROR(VLOOKUP(B396,database!$A$6:$BFQ$206,4,FALSE)),\"\",VLOOKUP(B396,database!$A$6:$BFQ$206,4,FALSE)))","v":""},null,null,null,"",null,null,null,{"$f":"IF(B396=\"\",\"\",IF(ISERROR(VLOOKUP(B396,database!$A$6:$BFQ$206,3,FALSE)),\"\",VLOOKUP(B396,database!$A$6:$BFQ$206,3,FALSE)))","v":""},null,null,null,null,null,null,""]
["",null,{"$f":"IF(B397=\"\",\"\",IF(ISERROR(VLOOKUP(B397,database!$A$6:$BFQ$206,4,FALSE)),\"\",VLOOKUP(B397,database!$A$6:$BFQ$206,4,FALSE)))","v":""},null,null,null,"",null,null,null,{"$f":"IF(B397=\"\",\"\",IF(ISERROR(VLOOKUP(B397,database!$A$6:$BFQ$206,3,FALSE)),\"\",VLOOKUP(B397,database!$A$6:$BFQ$206,3,FALSE)))","v":""},null,null,null,null,null,null,""]
["",null,{"$f":"IF(B398=\"\",\"\",IF(ISERROR(VLOOKUP(B398,database!$A$6:$BFQ$206,4,FALSE)),\"\",VLOOKUP(B398,database!$A$6:$BFQ$206,4,FALSE)))","v":""},null,null,null,"",null,null,null,{"$f":"IF(B398=\"\",\"\",IF(ISERROR(VLOOKUP(B398,database!$A$6:$BFQ$206,3,FALSE)),\"\",VLOOKUP(B398,database!$A$6:$BFQ$206,3,FALSE)))","v":""},null,null,null,null,null,null,""]
["",null,{"$f":"IF(B399=\"\",\"\",IF(ISERROR(VLOOKUP(B399,database!$A$6:$BFQ$206,4,FALSE)),\"\",VLOOKUP(B399,database!$A$6:$BFQ$206,4,FALSE)))","v":""},null,null,null,"",null,null,null,{"$f":"IF(B399=\"\",\"\",IF(ISERROR(VLOOKUP(B399,database!$A$6:$BFQ$206,3,FALSE)),\"\",VLOOKUP(B399,database!$A$6:$BFQ$206,3,FALSE)))","v":""},null,null,null,null,null,null,""]
["",null,{"$f":"IF(B400=\"\",\"\",IF(ISERROR(VLOOKUP(B400,database!$A$6:$BFQ$206,4,FALSE)),\"\",VLOOKUP(B400,database!$A$6:$BFQ$206,4,FALSE)))","v":""},null,null,null,"",null,null,null,{"$f":"IF(B400=\"\",\"\",IF(ISERROR(VLOOKUP(B400,database!$A$6:$BFQ$206,3,FALSE)),\"\",VLOOKUP(B400,database!$A$6:$BFQ$206,3,FALSE)))","v":""},null,null,null,null,null,null,""]
["",null,{"$f":"IF(B401=\"\",\"\",IF(ISERROR(VLOOKUP(B401,database!$A$6:$BFQ$206,4,FALSE)),\"\",VLOOKUP(B401,database!$A$6:$BFQ$206,4,FALSE)))","v":""},null,null,null,"",null,null,null,{"$f":"IF(B401=\"\",\"\",IF(ISERROR(VLOOKUP(B401,database!$A$6:$BFQ$206,3,FALSE)),\"\",VLOOKUP(B401,database!$A$6:$BFQ$206,3,FALSE)))","v":""},null,null,null,null,null,null,""]
["",null,{"$f":"IF(B402=\"\",\"\",IF(ISERROR(VLOOKUP(B402,database!$A$6:$BFQ$206,4,FALSE)),\"\",VLOOKUP(B402,database!$A$6:$BFQ$206,4,FALSE)))","v":""},null,null,null,"",null,null,null,{"$f":"IF(B402=\"\",\"\",IF(ISERROR(VLOOKUP(B402,database!$A$6:$BFQ$206,3,FALSE)),\"\",VLOOKUP(B402,database!$A$6:$BFQ$206,3,FALSE)))","v":""},null,null,null,null,null,null,""]
["",null,{"$f":"IF(B403=\"\",\"\",IF(ISERROR(VLOOKUP(B403,database!$A$6:$BFQ$206,4,FALSE)),\"\",VLOOKUP(B403,database!$A$6:$BFQ$206,4,FALSE)))","v":""},null,null,null,"",null,null,null,{"$f":"IF(B403=\"\",\"\",IF(ISERROR(VLOOKUP(B403,database!$A$6:$BFQ$206,3,FALSE)),\"\",VLOOKUP(B403,database!$A$6:$BFQ$206,3,FALSE)))","v":""},null,null,null,null,null,null,""]
["",null,{"$f":"IF(B404=\"\",\"\",IF(ISERROR(VLOOKUP(B404,database!$A$6:$BFQ$206,4,FALSE)),\"\",VLOOKUP(B404,database!$A$6:$BFQ$206,4,FALSE)))","v":""},null,null,null,"",null,null,null,{"$f":"IF(B404=\"\",\"\",IF(ISERROR(VLOOKUP(B404,database!$A$6:$BFQ$206,3,FALSE)),\"\",VLOOKUP(B404,database!$A$6:$BFQ$206,3,FALSE)))","v":""},null,null,null,null,null,null,""]
["",null,{"$f":"IF(B405=\"\",\"\",IF(ISERROR(VLOOKUP(B405,database!$A$6:$BFQ$206,4,FALSE)),\"\",VLOOKUP(B405,database!$A$6:$BFQ$206,4,FALSE)))","v":""},null,null,null,"",null,null,null,{"$f":"IF(B405=\"\",\"\",IF(ISERROR(VLOOKUP(B405,database!$A$6:$BFQ$206,3,FALSE)),\"\",VLOOKUP(B405,database!$A$6:$BFQ$206,3,FALSE)))","v":""},null,null,null,null,null,null,""]
["",null,{"$f":"IF(B406=\"\",\"\",IF(ISERROR(VLOOKUP(B406,database!$A$6:$BFQ$206,4,FALSE)),\"\",VLOOKUP(B406,database!$A$6:$BFQ$206,4,FALSE)))","v":""},null,null,null,"",null,null,null,{"$f":"IF(B406=\"\",\"\",IF(ISERROR(VLOOKUP(B406,database!$A$6:$BFQ$206,3,FALSE)),\"\",VLOOKUP(B406,database!$A$6:$BFQ$206,3,FALSE)))","v":""},null,null,null,null,null,null,""]
["",null,{"$f":"IF(B407=\"\",\"\",IF(ISERROR(VLOOKUP(B407,database!$A$6:$BFQ$206,4,FALSE)),\"\",VLOOKUP(B407,database!$A$6:$BFQ$206,4,FALSE)))","v":""},null,null,null,"",null,null,null,{"$f":"IF(B407=\"\",\"\",IF(ISERROR(VLOOKUP(B407,database!$A$6:$BFQ$206,3,FALSE)),\"\",VLOOKUP(B407,database!$A$6:$BFQ$206,3,FALSE)))","v":""},null,null,null,null,null,null,""]
["",null,{"$f":"IF(B408=\"\",\"\",IF(ISERROR(VLOOKUP(B408,database!$A$6:$BFQ$206,4,FALSE)),\"\",VLOOKUP(B408,database!$A$6:$BFQ$206,4,FALSE)))","v":""},null,null,null,"",null,null,null,{"$f":"IF(B408=\"\",\"\",IF(ISERROR(VLOOKUP(B408,database!$A$6:$BFQ$206,3,FALSE)),\"\",VLOOKUP(B408,database!$A$6:$BFQ$206,3,FALSE)))","v":""},null,null,null,null,null,null,""]
["",null,{"$f":"IF(B409=\"\",\"\",IF(ISERROR(VLOOKUP(B409,database!$A$6:$BFQ$206,4,FALSE)),\"\",VLOOKUP(B409,database!$A$6:$BFQ$206,4,FALSE)))","v":""},null,null,null,"",null,null,null,{"$f":"IF(B409=\"\",\"\",IF(ISERROR(VLOOKUP(B409,database!$A$6:$BFQ$206,3,FALSE)),\"\",VLOOKUP(B409,database!$A$6:$BFQ$206,3,FALSE)))","v":""},null,null,null,null,null,null,""]
["",null,{"$f":"IF(B410=\"\",\"\",IF(ISERROR(VLOOKUP(B410,database!$A$6:$BFQ$206,4,FALSE)),\"\",VLOOKUP(B410,database!$A$6:$BFQ$206,4,FALSE)))","v":""},null,null,null,"",null,null,null,{"$f":"IF(B410=\"\",\"\",IF(ISERROR(VLOOKUP(B410,database!$A$6:$BFQ$206,3,FALSE)),\"\",VLOOKUP(B410,database!$A$6:$BFQ$206,3,FALSE)))","v":""},null,null,null,null,null,null,""]
["",null,{"$f":"IF(B411=\"\",\"\",IF(ISERROR(VLOOKUP(B411,database!$A$6:$BFQ$206,4,FALSE)),\"\",VLOOKUP(B411,database!$A$6:$BFQ$206,4,FALSE)))","v":""},null,null,null,"",null,null,null,{"$f":"IF(B411=\"\",\"\",IF(ISERROR(VLOOKUP(B411,database!$A$6:$BFQ$206,3,FALSE)),\"\",VLOOKUP(B411,database!$A$6:$BFQ$206,3,FALSE)))","v":""},null,null,null,null,null,null,""]
["",null,{"$f":"IF(B412=\"\",\"\",IF(ISERROR(VLOOKUP(B412,database!$A$6:$BFQ$206,4,FALSE)),\"\",VLOOKUP(B412,database!$A$6:$BFQ$206,4,FALSE)))","v":""},null,null,null,"",null,null,null,{"$f":"IF(B412=\"\",\"\",IF(ISERROR(VLOOKUP(B412,database!$A$6:$BFQ$206,3,FALSE)),\"\",VLOOKUP(B412,database!$A$6:$BFQ$206,3,FALSE)))","v":""},null,null,null,null,null,null,""]
["",null,{"$f":"IF(B413=\"\",\"\",IF(ISERROR(VLOOKUP(B413,database!$A$6:$BFQ$206,4,FALSE)),\"\",VLOOKUP(B413,database!$A$6:$BFQ$206,4,FALSE)))","v":""},null,null,null,"",null,null,null,{"$f":"IF(B413=\"\",\"\",IF(ISERROR(VLOOKUP(B413,database!$A$6:$BFQ$206,3,FALSE)),\"\",VLOOKUP(B413,database!$A$6:$BFQ$206,3,FALSE)))","v":""},null,null,null,null,null,null,""]
["",null,{"$f":"IF(B414=\"\",\"\",IF(ISERROR(VLOOKUP(B414,database!$A$6:$BFQ$206,4,FALSE)),\"\",VLOOKUP(B414,database!$A$6:$BFQ$206,4,FALSE)))","v":""},null,null,null,"",null,null,null,{"$f":"IF(B414=\"\",\"\",IF(ISERROR(VLOOKUP(B414,database!$A$6:$BFQ$206,3,FALSE)),\"\",VLOOKUP(B414,database!$A$6:$BFQ$206,3,FALSE)))","v":""},null,null,null,null,null,null,""]
["",null,{"$f":"IF(B415=\"\",\"\",IF(ISERROR(VLOOKUP(B415,database!$A$6:$BFQ$206,4,FALSE)),\"\",VLOOKUP(B415,database!$A$6:$BFQ$206,4,FALSE)))","v":""},null,null,null,"",null,null,null,{"$f":"IF(B415=\"\",\"\",IF(ISERROR(VLOOKUP(B415,database!$A$6:$BFQ$206,3,FALSE)),\"\",VLOOKUP(B415,database!$A$6:$BFQ$206,3,FALSE)))","v":""},null,null,null,null,null,null,""]
["",null,{"$f":"IF(B416=\"\",\"\",IF(ISERROR(VLOOKUP(B416,database!$A$6:$BFQ$206,4,FALSE)),\"\",VLOOKUP(B416,database!$A$6:$BFQ$206,4,FALSE)))","v":""},null,null,null,"",null,null,null,{"$f":"IF(B416=\"\",\"\",IF(ISERROR(VLOOKUP(B416,database!$A$6:$BFQ$206,3,FALSE)),\"\",VLOOKUP(B416,database!$A$6:$BFQ$206,3,FALSE)))","v":""},null,null,null,null,null,null,""]
["",null,{"$f":"IF(B417=\"\",\"\",IF(ISERROR(VLOOKUP(B417,database!$A$6:$BFQ$206,4,FALSE)),\"\",VLOOKUP(B417,database!$A$6:$BFQ$206,4,FALSE)))","v":""},null,null,null,"",null,null,null,{"$f":"IF(B417=\"\",\"\",IF(ISERROR(VLOOKUP(B417,database!$A$6:$BFQ$206,3,FALSE)),\"\",VLOOKUP(B417,database!$A$6:$BFQ$206,3,FALSE)))","v":""},null,null,null,null,null,null,""]
["",null,{"$f":"IF(B418=\"\",\"\",IF(ISERROR(VLOOKUP(B418,database!$A$6:$BFQ$206,4,FALSE)),\"\",VLOOKUP(B418,database!$A$6:$BFQ$206,4,FALSE)))","v":""},null,null,null,"",null,null,null,{"$f":"IF(B418=\"\",\"\",IF(ISERROR(VLOOKUP(B418,database!$A$6:$BFQ$206,3,FALSE)),\"\",VLOOKUP(B418,database!$A$6:$BFQ$206,3,FALSE)))","v":""},null,null,null,null,null,null,""]
["",null,{"$f":"IF(B419=\"\",\"\",IF(ISERROR(VLOOKUP(B419,database!$A$6:$BFQ$206,4,FALSE)),\"\",VLOOKUP(B419,database!$A$6:$BFQ$206,4,FALSE)))","v":""},null,null,null,"",null,null,null,{"$f":"IF(B419=\"\",\"\",IF(ISERROR(VLOOKUP(B419,database!$A$6:$BFQ$206,3,FALSE)),\"\",VLOOKUP(B419,database!$A$6:$BFQ$206,3,FALSE)))","v":""},null,null,null,null,null,null,""]
["",null,{"$f":"IF(B420=\"\",\"\",IF(ISERROR(VLOOKUP(B420,database!$A$6:$BFQ$206,4,FALSE)),\"\",VLOOKUP(B420,database!$A$6:$BFQ$206,4,FALSE)))","v":""},null,null,null,"",null,null,null,{"$f":"IF(B420=\"\",\"\",IF(ISERROR(VLOOKUP(B420,database!$A$6:$BFQ$206,3,FALSE)),\"\",VLOOKUP(B420,database!$A$6:$BFQ$206,3,FALSE)))","v":""},null,null,null,null,null,null,""]
["",null,{"$f":"IF(B421=\"\",\"\",IF(ISERROR(VLOOKUP(B421,database!$A$6:$BFQ$206,4,FALSE)),\"\",VLOOKUP(B421,database!$A$6:$BFQ$206,4,FALSE)))","v":""},null,null,null,"",null,null,null,{"$f":"IF(B421=\"\",\"\",IF(ISERROR(VLOOKUP(B421,database!$A$6:$BFQ$206,3,FALSE)),\"\",VLOOKUP(B421,database!$A$6:$BFQ$206,3,FALSE)))","v":""},null,null,null,null,null,null,""]
["",null,{"$f":"IF(B422=\"\",\"\",IF(ISERROR(VLOOKUP(B422,database!$A$6:$BFQ$206,4,FALSE)),\"\",VLOOKUP(B422,database!$A$6:$BFQ$206,4,FALSE)))","v":""},null,null,null,"",null,null,null,{"$f":"IF(B422=\"\",\"\",IF(ISERROR(VLOOKUP(B422,database!$A$6:$BFQ$206,3,FALSE)),\"\",VLOOKUP(B422,database!$A$6:$BFQ$206,3,FALSE)))","v":""},null,null,null,null,null,null,""]
["",null,{"$f":"IF(B423=\"\",\"\",IF(ISERROR(VLOOKUP(B423,database!$A$6:$BFQ$206,4,FALSE)),\"\",VLOOKUP(B423,database!$A$6:$BFQ$206,4,FALSE)))","v":""},null,null,null,"",null,null,null,{"$f":"IF(B423=\"\",\"\",IF(ISERROR(VLOOKUP(B423,database!$A$6:$BFQ$206,3,FALSE)),\"\",VLOOKUP(B423,database!$A$6:$BFQ$206,3,FALSE)))","v":""},null,null,null,null,null,null,""]
["",null,{"$f":"IF(B424=\"\",\"\",IF(ISERROR(VLOOKUP(B424,database!$A$6:$BFQ$206,4,FALSE)),\"\",VLOOKUP(B424,database!$A$6:$BFQ$206,4,FALSE)))","v":""},null,null,null,"",null,null,null,{"$f":"IF(B424=\"\",\"\",IF(ISERROR(VLOOKUP(B424,database!$A$6:$BFQ$206,3,FALSE)),\"\",VLOOKUP(B424,database!$A$6:$BFQ$206,3,FALSE)))","v":""},null,null,null,null,null,null,""]
["",null,{"$f":"IF(B425=\"\",\"\",IF(ISERROR(VLOOKUP(B425,database!$A$6:$BFQ$206,4,FALSE)),\"\",VLOOKUP(B425,database!$A$6:$BFQ$206,4,FALSE)))","v":""},null,null,null,"",null,null,null,{"$f":"IF(B425=\"\",\"\",IF(ISERROR(VLOOKUP(B425,database!$A$6:$BFQ$206,3,FALSE)),\"\",VLOOKUP(B425,database!$A$6:$BFQ$206,3,FALSE)))","v":""},null,null,null,null,null,null,""]
["",null,{"$f":"IF(B426=\"\",\"\",IF(ISERROR(VLOOKUP(B426,database!$A$6:$BFQ$206,4,FALSE)),\"\",VLOOKUP(B426,database!$A$6:$BFQ$206,4,FALSE)))","v":""},null,null,null,"",null,null,null,{"$f":"IF(B426=\"\",\"\",IF(ISERROR(VLOOKUP(B426,database!$A$6:$BFQ$206,3,FALSE)),\"\",VLOOKUP(B426,database!$A$6:$BFQ$206,3,FALSE)))","v":""},null,null,null,null,null,null,""]
["",null,{"$f":"IF(B427=\"\",\"\",IF(ISERROR(VLOOKUP(B427,database!$A$6:$BFQ$206,4,FALSE)),\"\",VLOOKUP(B427,database!$A$6:$BFQ$206,4,FALSE)))","v":""},null,null,null,"",null,null,null,{"$f":"IF(B427=\"\",\"\",IF(ISERROR(VLOOKUP(B427,database!$A$6:$BFQ$206,3,FALSE)),\"\",VLOOKUP(B427,database!$A$6:$BFQ$206,3,FALSE)))","v":""},null,null,null,null,null,null,""]
["",null,{"$f":"IF(B428=\"\",\"\",IF(ISERROR(VLOOKUP(B428,database!$A$6:$BFQ$206,4,FALSE)),\"\",VLOOKUP(B428,database!$A$6:$BFQ$206,4,FALSE)))","v":""},null,null,null,"",null,null,null,{"$f":"IF(B428=\"\",\"\",IF(ISERROR(VLOOKUP(B428,database!$A$6:$BFQ$206,3,FALSE)),\"\",VLOOKUP(B428,database!$A$6:$BFQ$206,3,FALSE)))","v":""},null,null,null,null,null,null,""]
["",null,{"$f":"IF(B429=\"\",\"\",IF(ISERROR(VLOOKUP(B429,database!$A$6:$BFQ$206,4,FALSE)),\"\",VLOOKUP(B429,database!$A$6:$BFQ$206,4,FALSE)))","v":""},null,null,null,"",null,null,null,{"$f":"IF(B429=\"\",\"\",IF(ISERROR(VLOOKUP(B429,database!$A$6:$BFQ$206,3,FALSE)),\"\",VLOOKUP(B429,database!$A$6:$BFQ$206,3,FALSE)))","v":""},null,null,null,null,null,null,""]
["",null,{"$f":"IF(B430=\"\",\"\",IF(ISERROR(VLOOKUP(B430,database!$A$6:$BFQ$206,4,FALSE)),\"\",VLOOKUP(B430,database!$A$6:$BFQ$206,4,FALSE)))","v":""},null,null,null,"",null,null,null,{"$f":"IF(B430=\"\",\"\",IF(ISERROR(VLOOKUP(B430,database!$A$6:$BFQ$206,3,FALSE)),\"\",VLOOKUP(B430,database!$A$6:$BFQ$206,3,FALSE)))","v":""},null,null,null,null,null,null,""]
["",null,{"$f":"IF(B431=\"\",\"\",IF(ISERROR(VLOOKUP(B431,database!$A$6:$BFQ$206,4,FALSE)),\"\",VLOOKUP(B431,database!$A$6:$BFQ$206,4,FALSE)))","v":""},null,null,null,"",null,null,null,{"$f":"IF(B431=\"\",\"\",IF(ISERROR(VLOOKUP(B431,database!$A$6:$BFQ$206,3,FALSE)),\"\",VLOOKUP(B431,database!$A$6:$BFQ$206,3,FALSE)))","v":""},null,null,null,null,null,null,""]
["",null,{"$f":"IF(B432=\"\",\"\",IF(ISERROR(VLOOKUP(B432,database!$A$6:$BFQ$206,4,FALSE)),\"\",VLOOKUP(B432,database!$A$6:$BFQ$206,4,FALSE)))","v":""},null,null,null,"",null,null,null,{"$f":"IF(B432=\"\",\"\",IF(ISERROR(VLOOKUP(B432,database!$A$6:$BFQ$206,3,FALSE)),\"\",VLOOKUP(B432,database!$A$6:$BFQ$206,3,FALSE)))","v":""},null,null,null,null,null,null,""]
["",null,{"$f":"IF(B433=\"\",\"\",IF(ISERROR(VLOOKUP(B433,database!$A$6:$BFQ$206,4,FALSE)),\"\",VLOOKUP(B433,database!$A$6:$BFQ$206,4,FALSE)))","v":""},null,null,null,"",null,null,null,{"$f":"IF(B433=\"\",\"\",IF(ISERROR(VLOOKUP(B433,database!$A$6:$BFQ$206,3,FALSE)),\"\",VLOOKUP(B433,database!$A$6:$BFQ$206,3,FALSE)))","v":""},null,null,null,null,null,null,""]
["",null,{"$f":"IF(B434=\"\",\"\",IF(ISERROR(VLOOKUP(B434,database!$A$6:$BFQ$206,4,FALSE)),\"\",VLOOKUP(B434,database!$A$6:$BFQ$206,4,FALSE)))","v":""},null,null,null,"",null,null,null,{"$f":"IF(B434=\"\",\"\",IF(ISERROR(VLOOKUP(B434,database!$A$6:$BFQ$206,3,FALSE)),\"\",VLOOKUP(B434,database!$A$6:$BFQ$206,3,FALSE)))","v":""},null,null,null,null,null,null,""]
["",null,{"$f":"IF(B435=\"\",\"\",IF(ISERROR(VLOOKUP(B435,database!$A$6:$BFQ$206,4,FALSE)),\"\",VLOOKUP(B435,database!$A$6:$BFQ$206,4,FALSE)))","v":""},null,null,null,"",null,null,null,{"$f":"IF(B435=\"\",\"\",IF(ISERROR(VLOOKUP(B435,database!$A$6:$BFQ$206,3,FALSE)),\"\",VLOOKUP(B435,database!$A$6:$BFQ$206,3,FALSE)))","v":""},null,null,null,null,null,null,""]
["",null,{"$f":"IF(B436=\"\",\"\",IF(ISERROR(VLOOKUP(B436,database!$A$6:$BFQ$206,4,FALSE)),\"\",VLOOKUP(B436,database!$A$6:$BFQ$206,4,FALSE)))","v":""},null,null,null,"",null,null,null,{"$f":"IF(B436=\"\",\"\",IF(ISERROR(VLOOKUP(B436,database!$A$6:$BFQ$206,3,FALSE)),\"\",VLOOKUP(B436,database!$A$6:$BFQ$206,3,FALSE)))","v":""},null,null,null,null,null,null,""]
["",null,{"$f":"IF(B437=\"\",\"\",IF(ISERROR(VLOOKUP(B437,database!$A$6:$BFQ$206,4,FALSE)),\"\",VLOOKUP(B437,database!$A$6:$BFQ$206,4,FALSE)))","v":""},null,null,null,"",null,null,null,{"$f":"IF(B437=\"\",\"\",IF(ISERROR(VLOOKUP(B437,database!$A$6:$BFQ$206,3,FALSE)),\"\",VLOOKUP(B437,database!$A$6:$BFQ$206,3,FALSE)))","v":""},null,null,null,null,null,null,""]
["",null,{"$f":"IF(B438=\"\",\"\",IF(ISERROR(VLOOKUP(B438,database!$A$6:$BFQ$206,4,FALSE)),\"\",VLOOKUP(B438,database!$A$6:$BFQ$206,4,FALSE)))","v":""},null,null,null,"",null,null,null,{"$f":"IF(B438=\"\",\"\",IF(ISERROR(VLOOKUP(B438,database!$A$6:$BFQ$206,3,FALSE)),\"\",VLOOKUP(B438,database!$A$6:$BFQ$206,3,FALSE)))","v":""},null,null,null,null,null,null,""]
["",null,{"$f":"IF(B439=\"\",\"\",IF(ISERROR(VLOOKUP(B439,database!$A$6:$BFQ$206,4,FALSE)),\"\",VLOOKUP(B439,database!$A$6:$BFQ$206,4,FALSE)))","v":""},null,null,null,"",null,null,null,{"$f":"IF(B439=\"\",\"\",IF(ISERROR(VLOOKUP(B439,database!$A$6:$BFQ$206,3,FALSE)),\"\",VLOOKUP(B439,database!$A$6:$BFQ$206,3,FALSE)))","v":""},null,null,null,null,null,null,""]
["",null,{"$f":"IF(B440=\"\",\"\",IF(ISERROR(VLOOKUP(B440,database!$A$6:$BFQ$206,4,FALSE)),\"\",VLOOKUP(B440,database!$A$6:$BFQ$206,4,FALSE)))","v":""},null,null,null,"",null,null,null,{"$f":"IF(B440=\"\",\"\",IF(ISERROR(VLOOKUP(B440,database!$A$6:$BFQ$206,3,FALSE)),\"\",VLOOKUP(B440,database!$A$6:$BFQ$206,3,FALSE)))","v":""},null,null,null,null,null,null,""]
["",null,{"$f":"IF(B441=\"\",\"\",IF(ISERROR(VLOOKUP(B441,database!$A$6:$BFQ$206,4,FALSE)),\"\",VLOOKUP(B441,database!$A$6:$BFQ$206,4,FALSE)))","v":""},null,null,null,"",null,null,null,{"$f":"IF(B441=\"\",\"\",IF(ISERROR(VLOOKUP(B441,database!$A$6:$BFQ$206,3,FALSE)),\"\",VLOOKUP(B441,database!$A$6:$BFQ$206,3,FALSE)))","v":""},null,null,null,null,null,null,""]
["",null,{"$f":"IF(B442=\"\",\"\",IF(ISERROR(VLOOKUP(B442,database!$A$6:$BFQ$206,4,FALSE)),\"\",VLOOKUP(B442,database!$A$6:$BFQ$206,4,FALSE)))","v":""},null,null,null,"",null,null,null,{"$f":"IF(B442=\"\",\"\",IF(ISERROR(VLOOKUP(B442,database!$A$6:$BFQ$206,3,FALSE)),\"\",VLOOKUP(B442,database!$A$6:$BFQ$206,3,FALSE)))","v":""},null,null,null,null,null,null,""]
["",null,{"$f":"IF(B443=\"\",\"\",IF(ISERROR(VLOOKUP(B443,database!$A$6:$BFQ$206,4,FALSE)),\"\",VLOOKUP(B443,database!$A$6:$BFQ$206,4,FALSE)))","v":""},null,null,null,"",null,null,null,{"$f":"IF(B443=\"\",\"\",IF(ISERROR(VLOOKUP(B443,database!$A$6:$BFQ$206,3,FALSE)),\"\",VLOOKUP(B443,database!$A$6:$BFQ$206,3,FALSE)))","v":""},null,null,null,null,null,null,""]
["",null,{"$f":"IF(B444=\"\",\"\",IF(ISERROR(VLOOKUP(B444,database!$A$6:$BFQ$206,4,FALSE)),\"\",VLOOKUP(B444,database!$A$6:$BFQ$206,4,FALSE)))","v":""},null,null,null,"",null,null,null,{"$f":"IF(B444=\"\",\"\",IF(ISERROR(VLOOKUP(B444,database!$A$6:$BFQ$206,3,FALSE)),\"\",VLOOKUP(B444,database!$A$6:$BFQ$206,3,FALSE)))","v":""},null,null,null,null,null,null,""]
["",null,{"$f":"IF(B445=\"\",\"\",IF(ISERROR(VLOOKUP(B445,database!$A$6:$BFQ$206,4,FALSE)),\"\",VLOOKUP(B445,database!$A$6:$BFQ$206,4,FALSE)))","v":""},null,null,null,"",null,null,null,{"$f":"IF(B445=\"\",\"\",IF(ISERROR(VLOOKUP(B445,database!$A$6:$BFQ$206,3,FALSE)),\"\",VLOOKUP(B445,database!$A$6:$BFQ$206,3,FALSE)))","v":""},null,null,null,null,null,null,""]
["",null,{"$f":"IF(B446=\"\",\"\",IF(ISERROR(VLOOKUP(B446,database!$A$6:$BFQ$206,4,FALSE)),\"\",VLOOKUP(B446,database!$A$6:$BFQ$206,4,FALSE)))","v":""},null,null,null,"",null,null,null,{"$f":"IF(B446=\"\",\"\",IF(ISERROR(VLOOKUP(B446,database!$A$6:$BFQ$206,3,FALSE)),\"\",VLOOKUP(B446,database!$A$6:$BFQ$206,3,FALSE)))","v":""},null,null,null,null,null,null,""]
["",null,{"$f":"IF(B447=\"\",\"\",IF(ISERROR(VLOOKUP(B447,database!$A$6:$BFQ$206,4,FALSE)),\"\",VLOOKUP(B447,database!$A$6:$BFQ$206,4,FALSE)))","v":""},null,null,null,"",null,null,null,{"$f":"IF(B447=\"\",\"\",IF(ISERROR(VLOOKUP(B447,database!$A$6:$BFQ$206,3,FALSE)),\"\",VLOOKUP(B447,database!$A$6:$BFQ$206,3,FALSE)))","v":""},null,null,null,null,null,null,""]
["",null,{"$f":"IF(B448=\"\",\"\",IF(ISERROR(VLOOKUP(B448,database!$A$6:$BFQ$206,4,FALSE)),\"\",VLOOKUP(B448,database!$A$6:$BFQ$206,4,FALSE)))","v":""},null,null,null,"",null,null,null,{"$f":"IF(B448=\"\",\"\",IF(ISERROR(VLOOKUP(B448,database!$A$6:$BFQ$206,3,FALSE)),\"\",VLOOKUP(B448,database!$A$6:$BFQ$206,3,FALSE)))","v":""},null,null,null,null,null,null,""]
[{"$f":"IF(B449=\"\",\"\",ROW(A446))","v":""},null,{"$f":"IF(B449=\"\",\"\",IF(ISERROR(VLOOKUP(B449,database!$A$6:$BFQ$206,4,FALSE)),\"\",VLOOKUP(B449,database!$A$6:$BFQ$206,4,FALSE)))","v":""},null,null,null,{"$f":"IF(B449=\"\",\"\",IF(C449=\"\",0,1))","v":""},null,null,null,{"$f":"IF(B449=\"\",\"\",IF(ISERROR(VLOOKUP(B449,database!$A$6:$BFQ$206,3,FALSE)),\"\",VLOOKUP(B449,database!$A$6:$BFQ$206,3,FALSE)))","v":""},null,null,null,null,null,null,{"$f":"LEFT(C449,2)","v":""}]
["",null,{"$f":"IF(B450=\"\",\"\",IF(ISERROR(VLOOKUP(B450,database!$A$6:$BFQ$206,4,FALSE)),\"\",VLOOKUP(B450,database!$A$6:$BFQ$206,4,FALSE)))","v":""},null,null,null,"",null,null,null,{"$f":"IF(B450=\"\",\"\",IF(ISERROR(VLOOKUP(B450,database!$A$6:$BFQ$206,3,FALSE)),\"\",VLOOKUP(B450,database!$A$6:$BFQ$206,3,FALSE)))","v":""},null,null,null,null,null,null,""]
["",null,{"$f":"IF(B451=\"\",\"\",IF(ISERROR(VLOOKUP(B451,database!$A$6:$BFQ$206,4,FALSE)),\"\",VLOOKUP(B451,database!$A$6:$BFQ$206,4,FALSE)))","v":""},null,null,null,"",null,null,null,{"$f":"IF(B451=\"\",\"\",IF(ISERROR(VLOOKUP(B451,database!$A$6:$BFQ$206,3,FALSE)),\"\",VLOOKUP(B451,database!$A$6:$BFQ$206,3,FALSE)))","v":""},null,null,null,null,null,null,""]
["",null,{"$f":"IF(B452=\"\",\"\",IF(ISERROR(VLOOKUP(B452,database!$A$6:$BFQ$206,4,FALSE)),\"\",VLOOKUP(B452,database!$A$6:$BFQ$206,4,FALSE)))","v":""},null,null,null,"",null,null,null,{"$f":"IF(B452=\"\",\"\",IF(ISERROR(VLOOKUP(B452,database!$A$6:$BFQ$206,3,FALSE)),\"\",VLOOKUP(B452,database!$A$6:$BFQ$206,3,FALSE)))","v":""},null,null,null,null,null,null,""]
["",null,{"$f":"IF(B453=\"\",\"\",IF(ISERROR(VLOOKUP(B453,database!$A$6:$BFQ$206,4,FALSE)),\"\",VLOOKUP(B453,database!$A$6:$BFQ$206,4,FALSE)))","v":""},null,null,null,"",null,null,null,{"$f":"IF(B453=\"\",\"\",IF(ISERROR(VLOOKUP(B453,database!$A$6:$BFQ$206,3,FALSE)),\"\",VLOOKUP(B453,database!$A$6:$BFQ$206,3,FALSE)))","v":""},null,null,null,null,null,null,""]
["",null,{"$f":"IF(B454=\"\",\"\",IF(ISERROR(VLOOKUP(B454,database!$A$6:$BFQ$206,4,FALSE)),\"\",VLOOKUP(B454,database!$A$6:$BFQ$206,4,FALSE)))","v":""},null,null,null,"",null,null,null,{"$f":"IF(B454=\"\",\"\",IF(ISERROR(VLOOKUP(B454,database!$A$6:$BFQ$206,3,FALSE)),\"\",VLOOKUP(B454,database!$A$6:$BFQ$206,3,FALSE)))","v":""},null,null,null,null,null,null,""]
["",null,{"$f":"IF(B455=\"\",\"\",IF(ISERROR(VLOOKUP(B455,database!$A$6:$BFQ$206,4,FALSE)),\"\",VLOOKUP(B455,database!$A$6:$BFQ$206,4,FALSE)))","v":""},null,null,null,"",null,null,null,{"$f":"IF(B455=\"\",\"\",IF(ISERROR(VLOOKUP(B455,database!$A$6:$BFQ$206,3,FALSE)),\"\",VLOOKUP(B455,database!$A$6:$BFQ$206,3,FALSE)))","v":""},null,null,null,null,null,null,""]
["",null,{"$f":"IF(B456=\"\",\"\",IF(ISERROR(VLOOKUP(B456,database!$A$6:$BFQ$206,4,FALSE)),\"\",VLOOKUP(B456,database!$A$6:$BFQ$206,4,FALSE)))","v":""},null,null,null,"",null,null,null,{"$f":"IF(B456=\"\",\"\",IF(ISERROR(VLOOKUP(B456,database!$A$6:$BFQ$206,3,FALSE)),\"\",VLOOKUP(B456,database!$A$6:$BFQ$206,3,FALSE)))","v":""},null,null,null,null,null,null,""]
["",null,{"$f":"IF(B457=\"\",\"\",IF(ISERROR(VLOOKUP(B457,database!$A$6:$BFQ$206,4,FALSE)),\"\",VLOOKUP(B457,database!$A$6:$BFQ$206,4,FALSE)))","v":""},null,null,null,"",null,null,null,{"$f":"IF(B457=\"\",\"\",IF(ISERROR(VLOOKUP(B457,database!$A$6:$BFQ$206,3,FALSE)),\"\",VLOOKUP(B457,database!$A$6:$BFQ$206,3,FALSE)))","v":""},null,null,null,null,null,null,""]
["",null,{"$f":"IF(B458=\"\",\"\",IF(ISERROR(VLOOKUP(B458,database!$A$6:$BFQ$206,4,FALSE)),\"\",VLOOKUP(B458,database!$A$6:$BFQ$206,4,FALSE)))","v":""},null,null,null,"",null,null,null,{"$f":"IF(B458=\"\",\"\",IF(ISERROR(VLOOKUP(B458,database!$A$6:$BFQ$206,3,FALSE)),\"\",VLOOKUP(B458,database!$A$6:$BFQ$206,3,FALSE)))","v":""},null,null,null,null,null,null,""]
["",null,{"$f":"IF(B459=\"\",\"\",IF(ISERROR(VLOOKUP(B459,database!$A$6:$BFQ$206,4,FALSE)),\"\",VLOOKUP(B459,database!$A$6:$BFQ$206,4,FALSE)))","v":""},null,null,null,"",null,null,null,{"$f":"IF(B459=\"\",\"\",IF(ISERROR(VLOOKUP(B459,database!$A$6:$BFQ$206,3,FALSE)),\"\",VLOOKUP(B459,database!$A$6:$BFQ$206,3,FALSE)))","v":""},null,null,null,null,null,null,""]
["",null,{"$f":"IF(B460=\"\",\"\",IF(ISERROR(VLOOKUP(B460,database!$A$6:$BFQ$206,4,FALSE)),\"\",VLOOKUP(B460,database!$A$6:$BFQ$206,4,FALSE)))","v":""},null,null,null,"",null,null,null,{"$f":"IF(B460=\"\",\"\",IF(ISERROR(VLOOKUP(B460,database!$A$6:$BFQ$206,3,FALSE)),\"\",VLOOKUP(B460,database!$A$6:$BFQ$206,3,FALSE)))","v":""},null,null,null,null,null,null,""]
["",null,{"$f":"IF(B461=\"\",\"\",IF(ISERROR(VLOOKUP(B461,database!$A$6:$BFQ$206,4,FALSE)),\"\",VLOOKUP(B461,database!$A$6:$BFQ$206,4,FALSE)))","v":""},null,null,null,"",null,null,null,{"$f":"IF(B461=\"\",\"\",IF(ISERROR(VLOOKUP(B461,database!$A$6:$BFQ$206,3,FALSE)),\"\",VLOOKUP(B461,database!$A$6:$BFQ$206,3,FALSE)))","v":""},null,null,null,null,null,null,""]
["",null,{"$f":"IF(B462=\"\",\"\",IF(ISERROR(VLOOKUP(B462,database!$A$6:$BFQ$206,4,FALSE)),\"\",VLOOKUP(B462,database!$A$6:$BFQ$206,4,FALSE)))","v":""},null,null,null,"",null,null,null,{"$f":"IF(B462=\"\",\"\",IF(ISERROR(VLOOKUP(B462,database!$A$6:$BFQ$206,3,FALSE)),\"\",VLOOKUP(B462,database!$A$6:$BFQ$206,3,FALSE)))","v":""},null,null,null,null,null,null,""]
["",null,{"$f":"IF(B463=\"\",\"\",IF(ISERROR(VLOOKUP(B463,database!$A$6:$BFQ$206,4,FALSE)),\"\",VLOOKUP(B463,database!$A$6:$BFQ$206,4,FALSE)))","v":""},null,null,null,"",null,null,null,{"$f":"IF(B463=\"\",\"\",IF(ISERROR(VLOOKUP(B463,database!$A$6:$BFQ$206,3,FALSE)),\"\",VLOOKUP(B463,database!$A$6:$BFQ$206,3,FALSE)))","v":""},null,null,null,null,null,null,""]
["",null,{"$f":"IF(B464=\"\",\"\",IF(ISERROR(VLOOKUP(B464,database!$A$6:$BFQ$206,4,FALSE)),\"\",VLOOKUP(B464,database!$A$6:$BFQ$206,4,FALSE)))","v":""},null,null,null,"",null,null,null,{"$f":"IF(B464=\"\",\"\",IF(ISERROR(VLOOKUP(B464,database!$A$6:$BFQ$206,3,FALSE)),\"\",VLOOKUP(B464,database!$A$6:$BFQ$206,3,FALSE)))","v":""},null,null,null,null,null,null,""]
["",null,{"$f":"IF(B465=\"\",\"\",IF(ISERROR(VLOOKUP(B465,database!$A$6:$BFQ$206,4,FALSE)),\"\",VLOOKUP(B465,database!$A$6:$BFQ$206,4,FALSE)))","v":""},null,null,null,"",null,null,null,{"$f":"IF(B465=\"\",\"\",IF(ISERROR(VLOOKUP(B465,database!$A$6:$BFQ$206,3,FALSE)),\"\",VLOOKUP(B465,database!$A$6:$BFQ$206,3,FALSE)))","v":""},null,null,null,null,null,null,""]
["",null,{"$f":"IF(B466=\"\",\"\",IF(ISERROR(VLOOKUP(B466,database!$A$6:$BFQ$206,4,FALSE)),\"\",VLOOKUP(B466,database!$A$6:$BFQ$206,4,FALSE)))","v":""},null,null,null,"",null,null,null,{"$f":"IF(B466=\"\",\"\",IF(ISERROR(VLOOKUP(B466,database!$A$6:$BFQ$206,3,FALSE)),\"\",VLOOKUP(B466,database!$A$6:$BFQ$206,3,FALSE)))","v":""},null,null,null,null,null,null,""]
["",null,{"$f":"IF(B467=\"\",\"\",IF(ISERROR(VLOOKUP(B467,database!$A$6:$BFQ$206,4,FALSE)),\"\",VLOOKUP(B467,database!$A$6:$BFQ$206,4,FALSE)))","v":""},null,null,null,"",null,null,null,{"$f":"IF(B467=\"\",\"\",IF(ISERROR(VLOOKUP(B467,database!$A$6:$BFQ$206,3,FALSE)),\"\",VLOOKUP(B467,database!$A$6:$BFQ$206,3,FALSE)))","v":""},null,null,null,null,null,null,""]
["",null,{"$f":"IF(B468=\"\",\"\",IF(ISERROR(VLOOKUP(B468,database!$A$6:$BFQ$206,4,FALSE)),\"\",VLOOKUP(B468,database!$A$6:$BFQ$206,4,FALSE)))","v":""},null,null,null,"",null,null,null,{"$f":"IF(B468=\"\",\"\",IF(ISERROR(VLOOKUP(B468,database!$A$6:$BFQ$206,3,FALSE)),\"\",VLOOKUP(B468,database!$A$6:$BFQ$206,3,FALSE)))","v":""},null,null,null,null,null,null,""]
["",null,{"$f":"IF(B469=\"\",\"\",IF(ISERROR(VLOOKUP(B469,database!$A$6:$BFQ$206,4,FALSE)),\"\",VLOOKUP(B469,database!$A$6:$BFQ$206,4,FALSE)))","v":""},null,null,null,"",null,null,null,{"$f":"IF(B469=\"\",\"\",IF(ISERROR(VLOOKUP(B469,database!$A$6:$BFQ$206,3,FALSE)),\"\",VLOOKUP(B469,database!$A$6:$BFQ$206,3,FALSE)))","v":""},null,null,null,null,null,null,""]
["",null,{"$f":"IF(B470=\"\",\"\",IF(ISERROR(VLOOKUP(B470,database!$A$6:$BFQ$206,4,FALSE)),\"\",VLOOKUP(B470,database!$A$6:$BFQ$206,4,FALSE)))","v":""},null,null,null,"",null,null,null,{"$f":"IF(B470=\"\",\"\",IF(ISERROR(VLOOKUP(B470,database!$A$6:$BFQ$206,3,FALSE)),\"\",VLOOKUP(B470,database!$A$6:$BFQ$206,3,FALSE)))","v":""},null,null,null,null,null,null,""]
["",null,{"$f":"IF(B471=\"\",\"\",IF(ISERROR(VLOOKUP(B471,database!$A$6:$BFQ$206,4,FALSE)),\"\",VLOOKUP(B471,database!$A$6:$BFQ$206,4,FALSE)))","v":""},null,null,null,"",null,null,null,{"$f":"IF(B471=\"\",\"\",IF(ISERROR(VLOOKUP(B471,database!$A$6:$BFQ$206,3,FALSE)),\"\",VLOOKUP(B471,database!$A$6:$BFQ$206,3,FALSE)))","v":""},null,null,null,null,null,null,""]
["",null,{"$f":"IF(B472=\"\",\"\",IF(ISERROR(VLOOKUP(B472,database!$A$6:$BFQ$206,4,FALSE)),\"\",VLOOKUP(B472,database!$A$6:$BFQ$206,4,FALSE)))","v":""},null,null,null,"",null,null,null,{"$f":"IF(B472=\"\",\"\",IF(ISERROR(VLOOKUP(B472,database!$A$6:$BFQ$206,3,FALSE)),\"\",VLOOKUP(B472,database!$A$6:$BFQ$206,3,FALSE)))","v":""},null,null,null,null,null,null,""]
["",null,{"$f":"IF(B473=\"\",\"\",IF(ISERROR(VLOOKUP(B473,database!$A$6:$BFQ$206,4,FALSE)),\"\",VLOOKUP(B473,database!$A$6:$BFQ$206,4,FALSE)))","v":""},null,null,null,"",null,null,null,{"$f":"IF(B473=\"\",\"\",IF(ISERROR(VLOOKUP(B473,database!$A$6:$BFQ$206,3,FALSE)),\"\",VLOOKUP(B473,database!$A$6:$BFQ$206,3,FALSE)))","v":""},null,null,null,null,null,null,""]
["",null,{"$f":"IF(B474=\"\",\"\",IF(ISERROR(VLOOKUP(B474,database!$A$6:$BFQ$206,4,FALSE)),\"\",VLOOKUP(B474,database!$A$6:$BFQ$206,4,FALSE)))","v":""},null,null,null,"",null,null,null,{"$f":"IF(B474=\"\",\"\",IF(ISERROR(VLOOKUP(B474,database!$A$6:$BFQ$206,3,FALSE)),\"\",VLOOKUP(B474,database!$A$6:$BFQ$206,3,FALSE)))","v":""},null,null,null,null,null,null,""]
["",null,{"$f":"IF(B475=\"\",\"\",IF(ISERROR(VLOOKUP(B475,database!$A$6:$BFQ$206,4,FALSE)),\"\",VLOOKUP(B475,database!$A$6:$BFQ$206,4,FALSE)))","v":""},null,null,null,"",null,null,null,{"$f":"IF(B475=\"\",\"\",IF(ISERROR(VLOOKUP(B475,database!$A$6:$BFQ$206,3,FALSE)),\"\",VLOOKUP(B475,database!$A$6:$BFQ$206,3,FALSE)))","v":""},null,null,null,null,null,null,""]
["",null,{"$f":"IF(B476=\"\",\"\",IF(ISERROR(VLOOKUP(B476,database!$A$6:$BFQ$206,4,FALSE)),\"\",VLOOKUP(B476,database!$A$6:$BFQ$206,4,FALSE)))","v":""},null,null,null,"",null,null,null,{"$f":"IF(B476=\"\",\"\",IF(ISERROR(VLOOKUP(B476,database!$A$6:$BFQ$206,3,FALSE)),\"\",VLOOKUP(B476,database!$A$6:$BFQ$206,3,FALSE)))","v":""},null,null,null,null,null,null,""]
["",null,{"$f":"IF(B477=\"\",\"\",IF(ISERROR(VLOOKUP(B477,database!$A$6:$BFQ$206,4,FALSE)),\"\",VLOOKUP(B477,database!$A$6:$BFQ$206,4,FALSE)))","v":""},null,null,null,"",null,null,null,{"$f":"IF(B477=\"\",\"\",IF(ISERROR(VLOOKUP(B477,database!$A$6:$BFQ$206,3,FALSE)),\"\",VLOOKUP(B477,database!$A$6:$BFQ$206,3,FALSE)))","v":""},null,null,null,null,null,null,""]
["",null,{"$f":"IF(B478=\"\",\"\",IF(ISERROR(VLOOKUP(B478,database!$A$6:$BFQ$206,4,FALSE)),\"\",VLOOKUP(B478,database!$A$6:$BFQ$206,4,FALSE)))","v":""},null,null,null,"",null,null,null,{"$f":"IF(B478=\"\",\"\",IF(ISERROR(VLOOKUP(B478,database!$A$6:$BFQ$206,3,FALSE)),\"\",VLOOKUP(B478,database!$A$6:$BFQ$206,3,FALSE)))","v":""},null,null,null,null,null,null,""]
["",null,{"$f":"IF(B479=\"\",\"\",IF(ISERROR(VLOOKUP(B479,database!$A$6:$BFQ$206,4,FALSE)),\"\",VLOOKUP(B479,database!$A$6:$BFQ$206,4,FALSE)))","v":""},null,null,null,"",null,null,null,{"$f":"IF(B479=\"\",\"\",IF(ISERROR(VLOOKUP(B479,database!$A$6:$BFQ$206,3,FALSE)),\"\",VLOOKUP(B479,database!$A$6:$BFQ$206,3,FALSE)))","v":""},null,null,null,null,null,null,""]
["",null,{"$f":"IF(B480=\"\",\"\",IF(ISERROR(VLOOKUP(B480,database!$A$6:$BFQ$206,4,FALSE)),\"\",VLOOKUP(B480,database!$A$6:$BFQ$206,4,FALSE)))","v":""},null,null,null,"",null,null,null,{"$f":"IF(B480=\"\",\"\",IF(ISERROR(VLOOKUP(B480,database!$A$6:$BFQ$206,3,FALSE)),\"\",VLOOKUP(B480,database!$A$6:$BFQ$206,3,FALSE)))","v":""},null,null,null,null,null,null,""]
["",null,{"$f":"IF(B481=\"\",\"\",IF(ISERROR(VLOOKUP(B481,database!$A$6:$BFQ$206,4,FALSE)),\"\",VLOOKUP(B481,database!$A$6:$BFQ$206,4,FALSE)))","v":""},null,null,null,"",null,null,null,{"$f":"IF(B481=\"\",\"\",IF(ISERROR(VLOOKUP(B481,database!$A$6:$BFQ$206,3,FALSE)),\"\",VLOOKUP(B481,database!$A$6:$BFQ$206,3,FALSE)))","v":""},null,null,null,null,null,null,""]
["",null,{"$f":"IF(B482=\"\",\"\",IF(ISERROR(VLOOKUP(B482,database!$A$6:$BFQ$206,4,FALSE)),\"\",VLOOKUP(B482,database!$A$6:$BFQ$206,4,FALSE)))","v":""},null,null,null,"",null,null,null,{"$f":"IF(B482=\"\",\"\",IF(ISERROR(VLOOKUP(B482,database!$A$6:$BFQ$206,3,FALSE)),\"\",VLOOKUP(B482,database!$A$6:$BFQ$206,3,FALSE)))","v":""},null,null,null,null,null,null,""]
["",null,{"$f":"IF(B483=\"\",\"\",IF(ISERROR(VLOOKUP(B483,database!$A$6:$BFQ$206,4,FALSE)),\"\",VLOOKUP(B483,database!$A$6:$BFQ$206,4,FALSE)))","v":""},null,null,null,"",null,null,null,{"$f":"IF(B483=\"\",\"\",IF(ISERROR(VLOOKUP(B483,database!$A$6:$BFQ$206,3,FALSE)),\"\",VLOOKUP(B483,database!$A$6:$BFQ$206,3,FALSE)))","v":""},null,null,null,null,null,null,""]
["",null,{"$f":"IF(B484=\"\",\"\",IF(ISERROR(VLOOKUP(B484,database!$A$6:$BFQ$206,4,FALSE)),\"\",VLOOKUP(B484,database!$A$6:$BFQ$206,4,FALSE)))","v":""},null,null,null,"",null,null,null,{"$f":"IF(B484=\"\",\"\",IF(ISERROR(VLOOKUP(B484,database!$A$6:$BFQ$206,3,FALSE)),\"\",VLOOKUP(B484,database!$A$6:$BFQ$206,3,FALSE)))","v":""},null,null,null,null,null,null,""]
["",null,{"$f":"IF(B485=\"\",\"\",IF(ISERROR(VLOOKUP(B485,database!$A$6:$BFQ$206,4,FALSE)),\"\",VLOOKUP(B485,database!$A$6:$BFQ$206,4,FALSE)))","v":""},null,null,null,"",null,null,null,{"$f":"IF(B485=\"\",\"\",IF(ISERROR(VLOOKUP(B485,database!$A$6:$BFQ$206,3,FALSE)),\"\",VLOOKUP(B485,database!$A$6:$BFQ$206,3,FALSE)))","v":""},null,null,null,null,null,null,""]
["",null,{"$f":"IF(B486=\"\",\"\",IF(ISERROR(VLOOKUP(B486,database!$A$6:$BFQ$206,4,FALSE)),\"\",VLOOKUP(B486,database!$A$6:$BFQ$206,4,FALSE)))","v":""},null,null,null,"",null,null,null,{"$f":"IF(B486=\"\",\"\",IF(ISERROR(VLOOKUP(B486,database!$A$6:$BFQ$206,3,FALSE)),\"\",VLOOKUP(B486,database!$A$6:$BFQ$206,3,FALSE)))","v":""},null,null,null,null,null,null,""]
["",null,{"$f":"IF(B487=\"\",\"\",IF(ISERROR(VLOOKUP(B487,database!$A$6:$BFQ$206,4,FALSE)),\"\",VLOOKUP(B487,database!$A$6:$BFQ$206,4,FALSE)))","v":""},null,null,null,"",null,null,null,{"$f":"IF(B487=\"\",\"\",IF(ISERROR(VLOOKUP(B487,database!$A$6:$BFQ$206,3,FALSE)),\"\",VLOOKUP(B487,database!$A$6:$BFQ$206,3,FALSE)))","v":""},null,null,null,null,null,null,""]
["",null,{"$f":"IF(B488=\"\",\"\",IF(ISERROR(VLOOKUP(B488,database!$A$6:$BFQ$206,4,FALSE)),\"\",VLOOKUP(B488,database!$A$6:$BFQ$206,4,FALSE)))","v":""},null,null,null,"",null,null,null,{"$f":"IF(B488=\"\",\"\",IF(ISERROR(VLOOKUP(B488,database!$A$6:$BFQ$206,3,FALSE)),\"\",VLOOKUP(B488,database!$A$6:$BFQ$206,3,FALSE)))","v":""},null,null,null,null,null,null,""]
["",null,{"$f":"IF(B489=\"\",\"\",IF(ISERROR(VLOOKUP(B489,database!$A$6:$BFQ$206,4,FALSE)),\"\",VLOOKUP(B489,database!$A$6:$BFQ$206,4,FALSE)))","v":""},null,null,null,"",null,null,null,{"$f":"IF(B489=\"\",\"\",IF(ISERROR(VLOOKUP(B489,database!$A$6:$BFQ$206,3,FALSE)),\"\",VLOOKUP(B489,database!$A$6:$BFQ$206,3,FALSE)))","v":""},null,null,null,null,null,null,""]
["",null,{"$f":"IF(B490=\"\",\"\",IF(ISERROR(VLOOKUP(B490,database!$A$6:$BFQ$206,4,FALSE)),\"\",VLOOKUP(B490,database!$A$6:$BFQ$206,4,FALSE)))","v":""},null,null,null,"",null,null,null,{"$f":"IF(B490=\"\",\"\",IF(ISERROR(VLOOKUP(B490,database!$A$6:$BFQ$206,3,FALSE)),\"\",VLOOKUP(B490,database!$A$6:$BFQ$206,3,FALSE)))","v":""},null,null,null,null,null,null,""]
["",null,{"$f":"IF(B491=\"\",\"\",IF(ISERROR(VLOOKUP(B491,database!$A$6:$BFQ$206,4,FALSE)),\"\",VLOOKUP(B491,database!$A$6:$BFQ$206,4,FALSE)))","v":""},null,null,null,"",null,null,null,{"$f":"IF(B491=\"\",\"\",IF(ISERROR(VLOOKUP(B491,database!$A$6:$BFQ$206,3,FALSE)),\"\",VLOOKUP(B491,database!$A$6:$BFQ$206,3,FALSE)))","v":""},null,null,null,null,null,null,""]
["",null,{"$f":"IF(B492=\"\",\"\",IF(ISERROR(VLOOKUP(B492,database!$A$6:$BFQ$206,4,FALSE)),\"\",VLOOKUP(B492,database!$A$6:$BFQ$206,4,FALSE)))","v":""},null,null,null,"",null,null,null,{"$f":"IF(B492=\"\",\"\",IF(ISERROR(VLOOKUP(B492,database!$A$6:$BFQ$206,3,FALSE)),\"\",VLOOKUP(B492,database!$A$6:$BFQ$206,3,FALSE)))","v":""},null,null,null,null,null,null,""]
["",null,{"$f":"IF(B493=\"\",\"\",IF(ISERROR(VLOOKUP(B493,database!$A$6:$BFQ$206,4,FALSE)),\"\",VLOOKUP(B493,database!$A$6:$BFQ$206,4,FALSE)))","v":""},null,null,null,"",null,null,null,{"$f":"IF(B493=\"\",\"\",IF(ISERROR(VLOOKUP(B493,database!$A$6:$BFQ$206,3,FALSE)),\"\",VLOOKUP(B493,database!$A$6:$BFQ$206,3,FALSE)))","v":""},null,null,null,null,null,null,""]
["",null,{"$f":"IF(B494=\"\",\"\",IF(ISERROR(VLOOKUP(B494,database!$A$6:$BFQ$206,4,FALSE)),\"\",VLOOKUP(B494,database!$A$6:$BFQ$206,4,FALSE)))","v":""},null,null,null,"",null,null,null,{"$f":"IF(B494=\"\",\"\",IF(ISERROR(VLOOKUP(B494,database!$A$6:$BFQ$206,3,FALSE)),\"\",VLOOKUP(B494,database!$A$6:$BFQ$206,3,FALSE)))","v":""},null,null,null,null,null,null,""]
["",null,{"$f":"IF(B495=\"\",\"\",IF(ISERROR(VLOOKUP(B495,database!$A$6:$BFQ$206,4,FALSE)),\"\",VLOOKUP(B495,database!$A$6:$BFQ$206,4,FALSE)))","v":""},null,null,null,"",null,null,null,{"$f":"IF(B495=\"\",\"\",IF(ISERROR(VLOOKUP(B495,database!$A$6:$BFQ$206,3,FALSE)),\"\",VLOOKUP(B495,database!$A$6:$BFQ$206,3,FALSE)))","v":""},null,null,null,null,null,null,""]
["",null,{"$f":"IF(B496=\"\",\"\",IF(ISERROR(VLOOKUP(B496,database!$A$6:$BFQ$206,4,FALSE)),\"\",VLOOKUP(B496,database!$A$6:$BFQ$206,4,FALSE)))","v":""},null,null,null,"",null,null,null,{"$f":"IF(B496=\"\",\"\",IF(ISERROR(VLOOKUP(B496,database!$A$6:$BFQ$206,3,FALSE)),\"\",VLOOKUP(B496,database!$A$6:$BFQ$206,3,FALSE)))","v":""},null,null,null,null,null,null,""]
["",null,{"$f":"IF(B497=\"\",\"\",IF(ISERROR(VLOOKUP(B497,database!$A$6:$BFQ$206,4,FALSE)),\"\",VLOOKUP(B497,database!$A$6:$BFQ$206,4,FALSE)))","v":""},null,null,null,"",null,null,null,{"$f":"IF(B497=\"\",\"\",IF(ISERROR(VLOOKUP(B497,database!$A$6:$BFQ$206,3,FALSE)),\"\",VLOOKUP(B497,database!$A$6:$BFQ$206,3,FALSE)))","v":""},null,null,null,null,null,null,""]
["",null,{"$f":"IF(B498=\"\",\"\",IF(ISERROR(VLOOKUP(B498,database!$A$6:$BFQ$206,4,FALSE)),\"\",VLOOKUP(B498,database!$A$6:$BFQ$206,4,FALSE)))","v":""},null,null,null,"",null,null,null,{"$f":"IF(B498=\"\",\"\",IF(ISERROR(VLOOKUP(B498,database!$A$6:$BFQ$206,3,FALSE)),\"\",VLOOKUP(B498,database!$A$6:$BFQ$206,3,FALSE)))","v":""},null,null,null,null,null,null,""]
["",null,{"$f":"IF(B499=\"\",\"\",IF(ISERROR(VLOOKUP(B499,database!$A$6:$BFQ$206,4,FALSE)),\"\",VLOOKUP(B499,database!$A$6:$BFQ$206,4,FALSE)))","v":""},null,null,null,"",null,null,null,{"$f":"IF(B499=\"\",\"\",IF(ISERROR(VLOOKUP(B499,database!$A$6:$BFQ$206,3,FALSE)),\"\",VLOOKUP(B499,database!$A$6:$BFQ$206,3,FALSE)))","v":""},null,null,null,null,null,null,""]
["",null,{"$f":"IF(B500=\"\",\"\",IF(ISERROR(VLOOKUP(B500,database!$A$6:$BFQ$206,4,FALSE)),\"\",VLOOKUP(B500,database!$A$6:$BFQ$206,4,FALSE)))","v":""},null,null,null,"",null,null,null,{"$f":"IF(B500=\"\",\"\",IF(ISERROR(VLOOKUP(B500,database!$A$6:$BFQ$206,3,FALSE)),\"\",VLOOKUP(B500,database!$A$6:$BFQ$206,3,FALSE)))","v":""},null,null,null,null,null,null,""]
["",null,{"$f":"IF(B501=\"\",\"\",IF(ISERROR(VLOOKUP(B501,database!$A$6:$BFQ$206,4,FALSE)),\"\",VLOOKUP(B501,database!$A$6:$BFQ$206,4,FALSE)))","v":""},null,null,null,"",null,null,null,{"$f":"IF(B501=\"\",\"\",IF(ISERROR(VLOOKUP(B501,database!$A$6:$BFQ$206,3,FALSE)),\"\",VLOOKUP(B501,database!$A$6:$BFQ$206,3,FALSE)))","v":""},null,null,null,null,null,null,""]
["",null,{"$f":"IF(B502=\"\",\"\",IF(ISERROR(VLOOKUP(B502,database!$A$6:$BFQ$206,4,FALSE)),\"\",VLOOKUP(B502,database!$A$6:$BFQ$206,4,FALSE)))","v":""},null,null,null,"",null,null,null,{"$f":"IF(B502=\"\",\"\",IF(ISERROR(VLOOKUP(B502,database!$A$6:$BFQ$206,3,FALSE)),\"\",VLOOKUP(B502,database!$A$6:$BFQ$206,3,FALSE)))","v":""},null,null,null,null,null,null,""]
["",null,{"$f":"IF(B503=\"\",\"\",IF(ISERROR(VLOOKUP(B503,database!$A$6:$BFQ$206,4,FALSE)),\"\",VLOOKUP(B503,database!$A$6:$BFQ$206,4,FALSE)))","v":""},null,null,null,"",null,null,null,{"$f":"IF(B503=\"\",\"\",IF(ISERROR(VLOOKUP(B503,database!$A$6:$BFQ$206,3,FALSE)),\"\",VLOOKUP(B503,database!$A$6:$BFQ$206,3,FALSE)))","v":""},null,null,null,null,null,null,""]
["",null,{"$f":"IF(B504=\"\",\"\",IF(ISERROR(VLOOKUP(B504,database!$A$6:$BFQ$206,4,FALSE)),\"\",VLOOKUP(B504,database!$A$6:$BFQ$206,4,FALSE)))","v":""},null,null,null,"",null,null,null,{"$f":"IF(B504=\"\",\"\",IF(ISERROR(VLOOKUP(B504,database!$A$6:$BFQ$206,3,FALSE)),\"\",VLOOKUP(B504,database!$A$6:$BFQ$206,3,FALSE)))","v":""},null,null,null,null,null,null,""]
["",null,{"$f":"IF(B505=\"\",\"\",IF(ISERROR(VLOOKUP(B505,database!$A$6:$BFQ$206,4,FALSE)),\"\",VLOOKUP(B505,database!$A$6:$BFQ$206,4,FALSE)))","v":""},null,null,null,"",null,null,null,{"$f":"IF(B505=\"\",\"\",IF(ISERROR(VLOOKUP(B505,database!$A$6:$BFQ$206,3,FALSE)),\"\",VLOOKUP(B505,database!$A$6:$BFQ$206,3,FALSE)))","v":""},null,null,null,null,null,null,""]
["",null,{"$f":"IF(B506=\"\",\"\",IF(ISERROR(VLOOKUP(B506,database!$A$6:$BFQ$206,4,FALSE)),\"\",VLOOKUP(B506,database!$A$6:$BFQ$206,4,FALSE)))","v":""},null,null,null,"",null,null,null,{"$f":"IF(B506=\"\",\"\",IF(ISERROR(VLOOKUP(B506,database!$A$6:$BFQ$206,3,FALSE)),\"\",VLOOKUP(B506,database!$A$6:$BFQ$206,3,FALSE)))","v":""},null,null,null,null,null,null,""]
["",null,{"$f":"IF(B507=\"\",\"\",IF(ISERROR(VLOOKUP(B507,database!$A$6:$BFQ$206,4,FALSE)),\"\",VLOOKUP(B507,database!$A$6:$BFQ$206,4,FALSE)))","v":""},null,null,null,"",null,null,null,{"$f":"IF(B507=\"\",\"\",IF(ISERROR(VLOOKUP(B507,database!$A$6:$BFQ$206,3,FALSE)),\"\",VLOOKUP(B507,database!$A$6:$BFQ$206,3,FALSE)))","v":""},null,null,null,null,null,null,""]
["",null,{"$f":"IF(B508=\"\",\"\",IF(ISERROR(VLOOKUP(B508,database!$A$6:$BFQ$206,4,FALSE)),\"\",VLOOKUP(B508,database!$A$6:$BFQ$206,4,FALSE)))","v":""},null,null,null,"",null,null,null,{"$f":"IF(B508=\"\",\"\",IF(ISERROR(VLOOKUP(B508,database!$A$6:$BFQ$206,3,FALSE)),\"\",VLOOKUP(B508,database!$A$6:$BFQ$206,3,FALSE)))","v":""},null,null,null,null,null,null,""]
["",null,{"$f":"IF(B509=\"\",\"\",IF(ISERROR(VLOOKUP(B509,database!$A$6:$BFQ$206,4,FALSE)),\"\",VLOOKUP(B509,database!$A$6:$BFQ$206,4,FALSE)))","v":""},null,null,null,"",null,null,null,{"$f":"IF(B509=\"\",\"\",IF(ISERROR(VLOOKUP(B509,database!$A$6:$BFQ$206,3,FALSE)),\"\",VLOOKUP(B509,database!$A$6:$BFQ$206,3,FALSE)))","v":""},null,null,null,null,null,null,""]
["",null,{"$f":"IF(B510=\"\",\"\",IF(ISERROR(VLOOKUP(B510,database!$A$6:$BFQ$206,4,FALSE)),\"\",VLOOKUP(B510,database!$A$6:$BFQ$206,4,FALSE)))","v":""},null,null,null,"",null,null,null,{"$f":"IF(B510=\"\",\"\",IF(ISERROR(VLOOKUP(B510,database!$A$6:$BFQ$206,3,FALSE)),\"\",VLOOKUP(B510,database!$A$6:$BFQ$206,3,FALSE)))","v":""},null,null,null,null,null,null,""]
["",null,{"$f":"IF(B511=\"\",\"\",IF(ISERROR(VLOOKUP(B511,database!$A$6:$BFQ$206,4,FALSE)),\"\",VLOOKUP(B511,database!$A$6:$BFQ$206,4,FALSE)))","v":""},null,null,null,"",null,null,null,{"$f":"IF(B511=\"\",\"\",IF(ISERROR(VLOOKUP(B511,database!$A$6:$BFQ$206,3,FALSE)),\"\",VLOOKUP(B511,database!$A$6:$BFQ$206,3,FALSE)))","v":""},null,null,null,null,null,null,""]
["",null,{"$f":"IF(B512=\"\",\"\",IF(ISERROR(VLOOKUP(B512,database!$A$6:$BFQ$206,4,FALSE)),\"\",VLOOKUP(B512,database!$A$6:$BFQ$206,4,FALSE)))","v":""},null,null,null,"",null,null,null,{"$f":"IF(B512=\"\",\"\",IF(ISERROR(VLOOKUP(B512,database!$A$6:$BFQ$206,3,FALSE)),\"\",VLOOKUP(B512,database!$A$6:$BFQ$206,3,FALSE)))","v":""},null,null,null,null,null,null,""]
[{"$f":"IF(B513=\"\",\"\",ROW(A510))","v":""},null,{"$f":"IF(B513=\"\",\"\",IF(ISERROR(VLOOKUP(B513,database!$A$6:$BFQ$206,4,FALSE)),\"\",VLOOKUP(B513,database!$A$6:$BFQ$206,4,FALSE)))","v":""},null,null,null,{"$f":"IF(B513=\"\",\"\",IF(C513=\"\",0,1))","v":""},null,null,null,{"$f":"IF(B513=\"\",\"\",IF(ISERROR(VLOOKUP(B513,database!$A$6:$BFQ$206,3,FALSE)),\"\",VLOOKUP(B513,database!$A$6:$BFQ$206,3,FALSE)))","v":""},null,null,null,null,null,null,{"$f":"LEFT(C513,2)","v":""}]
["",null,{"$f":"IF(B514=\"\",\"\",IF(ISERROR(VLOOKUP(B514,database!$A$6:$BFQ$206,4,FALSE)),\"\",VLOOKUP(B514,database!$A$6:$BFQ$206,4,FALSE)))","v":""},null,null,null,"",null,null,null,{"$f":"IF(B514=\"\",\"\",IF(ISERROR(VLOOKUP(B514,database!$A$6:$BFQ$206,3,FALSE)),\"\",VLOOKUP(B514,database!$A$6:$BFQ$206,3,FALSE)))","v":""},null,null,null,null,null,null,""]
["",null,{"$f":"IF(B515=\"\",\"\",IF(ISERROR(VLOOKUP(B515,database!$A$6:$BFQ$206,4,FALSE)),\"\",VLOOKUP(B515,database!$A$6:$BFQ$206,4,FALSE)))","v":""},null,null,null,"",null,null,null,{"$f":"IF(B515=\"\",\"\",IF(ISERROR(VLOOKUP(B515,database!$A$6:$BFQ$206,3,FALSE)),\"\",VLOOKUP(B515,database!$A$6:$BFQ$206,3,FALSE)))","v":""},null,null,null,null,null,null,""]
["",null,{"$f":"IF(B516=\"\",\"\",IF(ISERROR(VLOOKUP(B516,database!$A$6:$BFQ$206,4,FALSE)),\"\",VLOOKUP(B516,database!$A$6:$BFQ$206,4,FALSE)))","v":""},null,null,null,"",null,null,null,{"$f":"IF(B516=\"\",\"\",IF(ISERROR(VLOOKUP(B516,database!$A$6:$BFQ$206,3,FALSE)),\"\",VLOOKUP(B516,database!$A$6:$BFQ$206,3,FALSE)))","v":""},null,null,null,null,null,null,""]
["",null,{"$f":"IF(B517=\"\",\"\",IF(ISERROR(VLOOKUP(B517,database!$A$6:$BFQ$206,4,FALSE)),\"\",VLOOKUP(B517,database!$A$6:$BFQ$206,4,FALSE)))","v":""},null,null,null,"",null,null,null,{"$f":"IF(B517=\"\",\"\",IF(ISERROR(VLOOKUP(B517,database!$A$6:$BFQ$206,3,FALSE)),\"\",VLOOKUP(B517,database!$A$6:$BFQ$206,3,FALSE)))","v":""},null,null,null,null,null,null,""]
["",null,{"$f":"IF(B518=\"\",\"\",IF(ISERROR(VLOOKUP(B518,database!$A$6:$BFQ$206,4,FALSE)),\"\",VLOOKUP(B518,database!$A$6:$BFQ$206,4,FALSE)))","v":""},null,null,null,"",null,null,null,{"$f":"IF(B518=\"\",\"\",IF(ISERROR(VLOOKUP(B518,database!$A$6:$BFQ$206,3,FALSE)),\"\",VLOOKUP(B518,database!$A$6:$BFQ$206,3,FALSE)))","v":""},null,null,null,null,null,null,""]
["",null,{"$f":"IF(B519=\"\",\"\",IF(ISERROR(VLOOKUP(B519,database!$A$6:$BFQ$206,4,FALSE)),\"\",VLOOKUP(B519,database!$A$6:$BFQ$206,4,FALSE)))","v":""},null,null,null,"",null,null,null,{"$f":"IF(B519=\"\",\"\",IF(ISERROR(VLOOKUP(B519,database!$A$6:$BFQ$206,3,FALSE)),\"\",VLOOKUP(B519,database!$A$6:$BFQ$206,3,FALSE)))","v":""},null,null,null,null,null,null,""]
["",null,{"$f":"IF(B520=\"\",\"\",IF(ISERROR(VLOOKUP(B520,database!$A$6:$BFQ$206,4,FALSE)),\"\",VLOOKUP(B520,database!$A$6:$BFQ$206,4,FALSE)))","v":""},null,null,null,"",null,null,null,{"$f":"IF(B520=\"\",\"\",IF(ISERROR(VLOOKUP(B520,database!$A$6:$BFQ$206,3,FALSE)),\"\",VLOOKUP(B520,database!$A$6:$BFQ$206,3,FALSE)))","v":""},null,null,null,null,null,null,""]
["",null,{"$f":"IF(B521=\"\",\"\",IF(ISERROR(VLOOKUP(B521,database!$A$6:$BFQ$206,4,FALSE)),\"\",VLOOKUP(B521,database!$A$6:$BFQ$206,4,FALSE)))","v":""},null,null,null,"",null,null,null,{"$f":"IF(B521=\"\",\"\",IF(ISERROR(VLOOKUP(B521,database!$A$6:$BFQ$206,3,FALSE)),\"\",VLOOKUP(B521,database!$A$6:$BFQ$206,3,FALSE)))","v":""},null,null,null,null,null,null,""]
["",null,{"$f":"IF(B522=\"\",\"\",IF(ISERROR(VLOOKUP(B522,database!$A$6:$BFQ$206,4,FALSE)),\"\",VLOOKUP(B522,database!$A$6:$BFQ$206,4,FALSE)))","v":""},null,null,null,"",null,null,null,{"$f":"IF(B522=\"\",\"\",IF(ISERROR(VLOOKUP(B522,database!$A$6:$BFQ$206,3,FALSE)),\"\",VLOOKUP(B522,database!$A$6:$BFQ$206,3,FALSE)))","v":""},null,null,null,null,null,null,""]
["",null,{"$f":"IF(B523=\"\",\"\",IF(ISERROR(VLOOKUP(B523,database!$A$6:$BFQ$206,4,FALSE)),\"\",VLOOKUP(B523,database!$A$6:$BFQ$206,4,FALSE)))","v":""},null,null,null,"",null,null,null,{"$f":"IF(B523=\"\",\"\",IF(ISERROR(VLOOKUP(B523,database!$A$6:$BFQ$206,3,FALSE)),\"\",VLOOKUP(B523,database!$A$6:$BFQ$206,3,FALSE)))","v":""},null,null,null,null,null,null,""]
["",null,{"$f":"IF(B524=\"\",\"\",IF(ISERROR(VLOOKUP(B524,database!$A$6:$BFQ$206,4,FALSE)),\"\",VLOOKUP(B524,database!$A$6:$BFQ$206,4,FALSE)))","v":""},null,null,null,"",null,null,null,{"$f":"IF(B524=\"\",\"\",IF(ISERROR(VLOOKUP(B524,database!$A$6:$BFQ$206,3,FALSE)),\"\",VLOOKUP(B524,database!$A$6:$BFQ$206,3,FALSE)))","v":""},null,null,null,null,null,null,""]
["",null,{"$f":"IF(B525=\"\",\"\",IF(ISERROR(VLOOKUP(B525,database!$A$6:$BFQ$206,4,FALSE)),\"\",VLOOKUP(B525,database!$A$6:$BFQ$206,4,FALSE)))","v":""},null,null,null,"",null,null,null,{"$f":"IF(B525=\"\",\"\",IF(ISERROR(VLOOKUP(B525,database!$A$6:$BFQ$206,3,FALSE)),\"\",VLOOKUP(B525,database!$A$6:$BFQ$206,3,FALSE)))","v":""},null,null,null,null,null,null,""]
["",null,{"$f":"IF(B526=\"\",\"\",IF(ISERROR(VLOOKUP(B526,database!$A$6:$BFQ$206,4,FALSE)),\"\",VLOOKUP(B526,database!$A$6:$BFQ$206,4,FALSE)))","v":""},null,null,null,"",null,null,null,{"$f":"IF(B526=\"\",\"\",IF(ISERROR(VLOOKUP(B526,database!$A$6:$BFQ$206,3,FALSE)),\"\",VLOOKUP(B526,database!$A$6:$BFQ$206,3,FALSE)))","v":""},null,null,null,null,null,null,""]
["",null,{"$f":"IF(B527=\"\",\"\",IF(ISERROR(VLOOKUP(B527,database!$A$6:$BFQ$206,4,FALSE)),\"\",VLOOKUP(B527,database!$A$6:$BFQ$206,4,FALSE)))","v":""},null,null,null,"",null,null,null,{"$f":"IF(B527=\"\",\"\",IF(ISERROR(VLOOKUP(B527,database!$A$6:$BFQ$206,3,FALSE)),\"\",VLOOKUP(B527,database!$A$6:$BFQ$206,3,FALSE)))","v":""},null,null,null,null,null,null,""]
["",null,{"$f":"IF(B528=\"\",\"\",IF(ISERROR(VLOOKUP(B528,database!$A$6:$BFQ$206,4,FALSE)),\"\",VLOOKUP(B528,database!$A$6:$BFQ$206,4,FALSE)))","v":""},null,null,null,"",null,null,null,{"$f":"IF(B528=\"\",\"\",IF(ISERROR(VLOOKUP(B528,database!$A$6:$BFQ$206,3,FALSE)),\"\",VLOOKUP(B528,database!$A$6:$BFQ$206,3,FALSE)))","v":""},null,null,null,null,null,null,""]
["",null,{"$f":"IF(B529=\"\",\"\",IF(ISERROR(VLOOKUP(B529,database!$A$6:$BFQ$206,4,FALSE)),\"\",VLOOKUP(B529,database!$A$6:$BFQ$206,4,FALSE)))","v":""},null,null,null,"",null,null,null,{"$f":"IF(B529=\"\",\"\",IF(ISERROR(VLOOKUP(B529,database!$A$6:$BFQ$206,3,FALSE)),\"\",VLOOKUP(B529,database!$A$6:$BFQ$206,3,FALSE)))","v":""},null,null,null,null,null,null,""]
["",null,{"$f":"IF(B530=\"\",\"\",IF(ISERROR(VLOOKUP(B530,database!$A$6:$BFQ$206,4,FALSE)),\"\",VLOOKUP(B530,database!$A$6:$BFQ$206,4,FALSE)))","v":""},null,null,null,"",null,null,null,{"$f":"IF(B530=\"\",\"\",IF(ISERROR(VLOOKUP(B530,database!$A$6:$BFQ$206,3,FALSE)),\"\",VLOOKUP(B530,database!$A$6:$BFQ$206,3,FALSE)))","v":""},null,null,null,null,null,null,""]
["",null,{"$f":"IF(B531=\"\",\"\",IF(ISERROR(VLOOKUP(B531,database!$A$6:$BFQ$206,4,FALSE)),\"\",VLOOKUP(B531,database!$A$6:$BFQ$206,4,FALSE)))","v":""},null,null,null,"",null,null,null,{"$f":"IF(B531=\"\",\"\",IF(ISERROR(VLOOKUP(B531,database!$A$6:$BFQ$206,3,FALSE)),\"\",VLOOKUP(B531,database!$A$6:$BFQ$206,3,FALSE)))","v":""},null,null,null,null,null,null,""]
["",null,{"$f":"IF(B532=\"\",\"\",IF(ISERROR(VLOOKUP(B532,database!$A$6:$BFQ$206,4,FALSE)),\"\",VLOOKUP(B532,database!$A$6:$BFQ$206,4,FALSE)))","v":""},null,null,null,"",null,null,null,{"$f":"IF(B532=\"\",\"\",IF(ISERROR(VLOOKUP(B532,database!$A$6:$BFQ$206,3,FALSE)),\"\",VLOOKUP(B532,database!$A$6:$BFQ$206,3,FALSE)))","v":""},null,null,null,null,null,null,""]
["",null,{"$f":"IF(B533=\"\",\"\",IF(ISERROR(VLOOKUP(B533,database!$A$6:$BFQ$206,4,FALSE)),\"\",VLOOKUP(B533,database!$A$6:$BFQ$206,4,FALSE)))","v":""},null,null,null,"",null,null,null,{"$f":"IF(B533=\"\",\"\",IF(ISERROR(VLOOKUP(B533,database!$A$6:$BFQ$206,3,FALSE)),\"\",VLOOKUP(B533,database!$A$6:$BFQ$206,3,FALSE)))","v":""},null,null,null,null,null,null,""]
["",null,{"$f":"IF(B534=\"\",\"\",IF(ISERROR(VLOOKUP(B534,database!$A$6:$BFQ$206,4,FALSE)),\"\",VLOOKUP(B534,database!$A$6:$BFQ$206,4,FALSE)))","v":""},null,null,null,"",null,null,null,{"$f":"IF(B534=\"\",\"\",IF(ISERROR(VLOOKUP(B534,database!$A$6:$BFQ$206,3,FALSE)),\"\",VLOOKUP(B534,database!$A$6:$BFQ$206,3,FALSE)))","v":""},null,null,null,null,null,null,""]
["",null,{"$f":"IF(B535=\"\",\"\",IF(ISERROR(VLOOKUP(B535,database!$A$6:$BFQ$206,4,FALSE)),\"\",VLOOKUP(B535,database!$A$6:$BFQ$206,4,FALSE)))","v":""},null,null,null,"",null,null,null,{"$f":"IF(B535=\"\",\"\",IF(ISERROR(VLOOKUP(B535,database!$A$6:$BFQ$206,3,FALSE)),\"\",VLOOKUP(B535,database!$A$6:$BFQ$206,3,FALSE)))","v":""},null,null,null,null,null,null,""]
["",null,{"$f":"IF(B536=\"\",\"\",IF(ISERROR(VLOOKUP(B536,database!$A$6:$BFQ$206,4,FALSE)),\"\",VLOOKUP(B536,database!$A$6:$BFQ$206,4,FALSE)))","v":""},null,null,null,"",null,null,null,{"$f":"IF(B536=\"\",\"\",IF(ISERROR(VLOOKUP(B536,database!$A$6:$BFQ$206,3,FALSE)),\"\",VLOOKUP(B536,database!$A$6:$BFQ$206,3,FALSE)))","v":""},null,null,null,null,null,null,""]
["",null,{"$f":"IF(B537=\"\",\"\",IF(ISERROR(VLOOKUP(B537,database!$A$6:$BFQ$206,4,FALSE)),\"\",VLOOKUP(B537,database!$A$6:$BFQ$206,4,FALSE)))","v":""},null,null,null,"",null,null,null,{"$f":"IF(B537=\"\",\"\",IF(ISERROR(VLOOKUP(B537,database!$A$6:$BFQ$206,3,FALSE)),\"\",VLOOKUP(B537,database!$A$6:$BFQ$206,3,FALSE)))","v":""},null,null,null,null,null,null,""]
["",null,{"$f":"IF(B538=\"\",\"\",IF(ISERROR(VLOOKUP(B538,database!$A$6:$BFQ$206,4,FALSE)),\"\",VLOOKUP(B538,database!$A$6:$BFQ$206,4,FALSE)))","v":""},null,null,null,"",null,null,null,{"$f":"IF(B538=\"\",\"\",IF(ISERROR(VLOOKUP(B538,database!$A$6:$BFQ$206,3,FALSE)),\"\",VLOOKUP(B538,database!$A$6:$BFQ$206,3,FALSE)))","v":""},null,null,null,null,null,null,""]
["",null,{"$f":"IF(B539=\"\",\"\",IF(ISERROR(VLOOKUP(B539,database!$A$6:$BFQ$206,4,FALSE)),\"\",VLOOKUP(B539,database!$A$6:$BFQ$206,4,FALSE)))","v":""},null,null,null,"",null,null,null,{"$f":"IF(B539=\"\",\"\",IF(ISERROR(VLOOKUP(B539,database!$A$6:$BFQ$206,3,FALSE)),\"\",VLOOKUP(B539,database!$A$6:$BFQ$206,3,FALSE)))","v":""},null,null,null,null,null,null,""]
["",null,{"$f":"IF(B540=\"\",\"\",IF(ISERROR(VLOOKUP(B540,database!$A$6:$BFQ$206,4,FALSE)),\"\",VLOOKUP(B540,database!$A$6:$BFQ$206,4,FALSE)))","v":""},null,null,null,"",null,null,null,{"$f":"IF(B540=\"\",\"\",IF(ISERROR(VLOOKUP(B540,database!$A$6:$BFQ$206,3,FALSE)),\"\",VLOOKUP(B540,database!$A$6:$BFQ$206,3,FALSE)))","v":""},null,null,null,null,null,null,""]
["",null,{"$f":"IF(B541=\"\",\"\",IF(ISERROR(VLOOKUP(B541,database!$A$6:$BFQ$206,4,FALSE)),\"\",VLOOKUP(B541,database!$A$6:$BFQ$206,4,FALSE)))","v":""},null,null,null,"",null,null,null,{"$f":"IF(B541=\"\",\"\",IF(ISERROR(VLOOKUP(B541,database!$A$6:$BFQ$206,3,FALSE)),\"\",VLOOKUP(B541,database!$A$6:$BFQ$206,3,FALSE)))","v":""},null,null,null,null,null,null,""]
["",null,{"$f":"IF(B542=\"\",\"\",IF(ISERROR(VLOOKUP(B542,database!$A$6:$BFQ$206,4,FALSE)),\"\",VLOOKUP(B542,database!$A$6:$BFQ$206,4,FALSE)))","v":""},null,null,null,"",null,null,null,{"$f":"IF(B542=\"\",\"\",IF(ISERROR(VLOOKUP(B542,database!$A$6:$BFQ$206,3,FALSE)),\"\",VLOOKUP(B542,database!$A$6:$BFQ$206,3,FALSE)))","v":""},null,null,null,null,null,null,""]
["",null,{"$f":"IF(B543=\"\",\"\",IF(ISERROR(VLOOKUP(B543,database!$A$6:$BFQ$206,4,FALSE)),\"\",VLOOKUP(B543,database!$A$6:$BFQ$206,4,FALSE)))","v":""},null,null,null,"",null,null,null,{"$f":"IF(B543=\"\",\"\",IF(ISERROR(VLOOKUP(B543,database!$A$6:$BFQ$206,3,FALSE)),\"\",VLOOKUP(B543,database!$A$6:$BFQ$206,3,FALSE)))","v":""},null,null,null,null,null,null,""]
["",null,{"$f":"IF(B544=\"\",\"\",IF(ISERROR(VLOOKUP(B544,database!$A$6:$BFQ$206,4,FALSE)),\"\",VLOOKUP(B544,database!$A$6:$BFQ$206,4,FALSE)))","v":""},null,null,null,"",null,null,null,{"$f":"IF(B544=\"\",\"\",IF(ISERROR(VLOOKUP(B544,database!$A$6:$BFQ$206,3,FALSE)),\"\",VLOOKUP(B544,database!$A$6:$BFQ$206,3,FALSE)))","v":""},null,null,null,null,null,null,""]
["",null,{"$f":"IF(B545=\"\",\"\",IF(ISERROR(VLOOKUP(B545,database!$A$6:$BFQ$206,4,FALSE)),\"\",VLOOKUP(B545,database!$A$6:$BFQ$206,4,FALSE)))","v":""},null,null,null,"",null,null,null,{"$f":"IF(B545=\"\",\"\",IF(ISERROR(VLOOKUP(B545,database!$A$6:$BFQ$206,3,FALSE)),\"\",VLOOKUP(B545,database!$A$6:$BFQ$206,3,FALSE)))","v":""},null,null,null,null,null,null,""]
["",null,{"$f":"IF(B546=\"\",\"\",IF(ISERROR(VLOOKUP(B546,database!$A$6:$BFQ$206,4,FALSE)),\"\",VLOOKUP(B546,database!$A$6:$BFQ$206,4,FALSE)))","v":""},null,null,null,"",null,null,null,{"$f":"IF(B546=\"\",\"\",IF(ISERROR(VLOOKUP(B546,database!$A$6:$BFQ$206,3,FALSE)),\"\",VLOOKUP(B546,database!$A$6:$BFQ$206,3,FALSE)))","v":""},null,null,null,null,null,null,""]
["",null,{"$f":"IF(B547=\"\",\"\",IF(ISERROR(VLOOKUP(B547,database!$A$6:$BFQ$206,4,FALSE)),\"\",VLOOKUP(B547,database!$A$6:$BFQ$206,4,FALSE)))","v":""},null,null,null,"",null,null,null,{"$f":"IF(B547=\"\",\"\",IF(ISERROR(VLOOKUP(B547,database!$A$6:$BFQ$206,3,FALSE)),\"\",VLOOKUP(B547,database!$A$6:$BFQ$206,3,FALSE)))","v":""},null,null,null,null,null,null,""]
["",null,{"$f":"IF(B548=\"\",\"\",IF(ISERROR(VLOOKUP(B548,database!$A$6:$BFQ$206,4,FALSE)),\"\",VLOOKUP(B548,database!$A$6:$BFQ$206,4,FALSE)))","v":""},null,null,null,"",null,null,null,{"$f":"IF(B548=\"\",\"\",IF(ISERROR(VLOOKUP(B548,database!$A$6:$BFQ$206,3,FALSE)),\"\",VLOOKUP(B548,database!$A$6:$BFQ$206,3,FALSE)))","v":""},null,null,null,null,null,null,""]
["",null,{"$f":"IF(B549=\"\",\"\",IF(ISERROR(VLOOKUP(B549,database!$A$6:$BFQ$206,4,FALSE)),\"\",VLOOKUP(B549,database!$A$6:$BFQ$206,4,FALSE)))","v":""},null,null,null,"",null,null,null,{"$f":"IF(B549=\"\",\"\",IF(ISERROR(VLOOKUP(B549,database!$A$6:$BFQ$206,3,FALSE)),\"\",VLOOKUP(B549,database!$A$6:$BFQ$206,3,FALSE)))","v":""},null,null,null,null,null,null,""]
["",null,{"$f":"IF(B550=\"\",\"\",IF(ISERROR(VLOOKUP(B550,database!$A$6:$BFQ$206,4,FALSE)),\"\",VLOOKUP(B550,database!$A$6:$BFQ$206,4,FALSE)))","v":""},null,null,null,"",null,null,null,{"$f":"IF(B550=\"\",\"\",IF(ISERROR(VLOOKUP(B550,database!$A$6:$BFQ$206,3,FALSE)),\"\",VLOOKUP(B550,database!$A$6:$BFQ$206,3,FALSE)))","v":""},null,null,null,null,null,null,""]
["",null,{"$f":"IF(B551=\"\",\"\",IF(ISERROR(VLOOKUP(B551,database!$A$6:$BFQ$206,4,FALSE)),\"\",VLOOKUP(B551,database!$A$6:$BFQ$206,4,FALSE)))","v":""},null,null,null,"",null,null,null,{"$f":"IF(B551=\"\",\"\",IF(ISERROR(VLOOKUP(B551,database!$A$6:$BFQ$206,3,FALSE)),\"\",VLOOKUP(B551,database!$A$6:$BFQ$206,3,FALSE)))","v":""},null,null,null,null,null,null,""]
["",null,{"$f":"IF(B552=\"\",\"\",IF(ISERROR(VLOOKUP(B552,database!$A$6:$BFQ$206,4,FALSE)),\"\",VLOOKUP(B552,database!$A$6:$BFQ$206,4,FALSE)))","v":""},null,null,null,"",null,null,null,{"$f":"IF(B552=\"\",\"\",IF(ISERROR(VLOOKUP(B552,database!$A$6:$BFQ$206,3,FALSE)),\"\",VLOOKUP(B552,database!$A$6:$BFQ$206,3,FALSE)))","v":""},null,null,null,null,null,null,""]
["",null,{"$f":"IF(B553=\"\",\"\",IF(ISERROR(VLOOKUP(B553,database!$A$6:$BFQ$206,4,FALSE)),\"\",VLOOKUP(B553,database!$A$6:$BFQ$206,4,FALSE)))","v":""},null,null,null,"",null,null,null,{"$f":"IF(B553=\"\",\"\",IF(ISERROR(VLOOKUP(B553,database!$A$6:$BFQ$206,3,FALSE)),\"\",VLOOKUP(B553,database!$A$6:$BFQ$206,3,FALSE)))","v":""},null,null,null,null,null,null,""]
["",null,{"$f":"IF(B554=\"\",\"\",IF(ISERROR(VLOOKUP(B554,database!$A$6:$BFQ$206,4,FALSE)),\"\",VLOOKUP(B554,database!$A$6:$BFQ$206,4,FALSE)))","v":""},null,null,null,"",null,null,null,{"$f":"IF(B554=\"\",\"\",IF(ISERROR(VLOOKUP(B554,database!$A$6:$BFQ$206,3,FALSE)),\"\",VLOOKUP(B554,database!$A$6:$BFQ$206,3,FALSE)))","v":""},null,null,null,null,null,null,""]
["",null,{"$f":"IF(B555=\"\",\"\",IF(ISERROR(VLOOKUP(B555,database!$A$6:$BFQ$206,4,FALSE)),\"\",VLOOKUP(B555,database!$A$6:$BFQ$206,4,FALSE)))","v":""},null,null,null,"",null,null,null,{"$f":"IF(B555=\"\",\"\",IF(ISERROR(VLOOKUP(B555,database!$A$6:$BFQ$206,3,FALSE)),\"\",VLOOKUP(B555,database!$A$6:$BFQ$206,3,FALSE)))","v":""},null,null,null,null,null,null,""]
["",null,{"$f":"IF(B556=\"\",\"\",IF(ISERROR(VLOOKUP(B556,database!$A$6:$BFQ$206,4,FALSE)),\"\",VLOOKUP(B556,database!$A$6:$BFQ$206,4,FALSE)))","v":""},null,null,null,"",null,null,null,{"$f":"IF(B556=\"\",\"\",IF(ISERROR(VLOOKUP(B556,database!$A$6:$BFQ$206,3,FALSE)),\"\",VLOOKUP(B556,database!$A$6:$BFQ$206,3,FALSE)))","v":""},null,null,null,null,null,null,""]
["",null,{"$f":"IF(B557=\"\",\"\",IF(ISERROR(VLOOKUP(B557,database!$A$6:$BFQ$206,4,FALSE)),\"\",VLOOKUP(B557,database!$A$6:$BFQ$206,4,FALSE)))","v":""},null,null,null,"",null,null,null,{"$f":"IF(B557=\"\",\"\",IF(ISERROR(VLOOKUP(B557,database!$A$6:$BFQ$206,3,FALSE)),\"\",VLOOKUP(B557,database!$A$6:$BFQ$206,3,FALSE)))","v":""},null,null,null,null,null,null,""]
["",null,{"$f":"IF(B558=\"\",\"\",IF(ISERROR(VLOOKUP(B558,database!$A$6:$BFQ$206,4,FALSE)),\"\",VLOOKUP(B558,database!$A$6:$BFQ$206,4,FALSE)))","v":""},null,null,null,"",null,null,null,{"$f":"IF(B558=\"\",\"\",IF(ISERROR(VLOOKUP(B558,database!$A$6:$BFQ$206,3,FALSE)),\"\",VLOOKUP(B558,database!$A$6:$BFQ$206,3,FALSE)))","v":""},null,null,null,null,null,null,""]
["",null,{"$f":"IF(B559=\"\",\"\",IF(ISERROR(VLOOKUP(B559,database!$A$6:$BFQ$206,4,FALSE)),\"\",VLOOKUP(B559,database!$A$6:$BFQ$206,4,FALSE)))","v":""},null,null,null,"",null,null,null,{"$f":"IF(B559=\"\",\"\",IF(ISERROR(VLOOKUP(B559,database!$A$6:$BFQ$206,3,FALSE)),\"\",VLOOKUP(B559,database!$A$6:$BFQ$206,3,FALSE)))","v":""},null,null,null,null,null,null,""]
["",null,{"$f":"IF(B560=\"\",\"\",IF(ISERROR(VLOOKUP(B560,database!$A$6:$BFQ$206,4,FALSE)),\"\",VLOOKUP(B560,database!$A$6:$BFQ$206,4,FALSE)))","v":""},null,null,null,"",null,null,null,{"$f":"IF(B560=\"\",\"\",IF(ISERROR(VLOOKUP(B560,database!$A$6:$BFQ$206,3,FALSE)),\"\",VLOOKUP(B560,database!$A$6:$BFQ$206,3,FALSE)))","v":""},null,null,null,null,null,null,""]
["",null,{"$f":"IF(B561=\"\",\"\",IF(ISERROR(VLOOKUP(B561,database!$A$6:$BFQ$206,4,FALSE)),\"\",VLOOKUP(B561,database!$A$6:$BFQ$206,4,FALSE)))","v":""},null,null,null,"",null,null,null,{"$f":"IF(B561=\"\",\"\",IF(ISERROR(VLOOKUP(B561,database!$A$6:$BFQ$206,3,FALSE)),\"\",VLOOKUP(B561,database!$A$6:$BFQ$206,3,FALSE)))","v":""},null,null,null,null,null,null,""]
["",null,{"$f":"IF(B562=\"\",\"\",IF(ISERROR(VLOOKUP(B562,database!$A$6:$BFQ$206,4,FALSE)),\"\",VLOOKUP(B562,database!$A$6:$BFQ$206,4,FALSE)))","v":""},null,null,null,"",null,null,null,{"$f":"IF(B562=\"\",\"\",IF(ISERROR(VLOOKUP(B562,database!$A$6:$BFQ$206,3,FALSE)),\"\",VLOOKUP(B562,database!$A$6:$BFQ$206,3,FALSE)))","v":""},null,null,null,null,null,null,""]
["",null,{"$f":"IF(B563=\"\",\"\",IF(ISERROR(VLOOKUP(B563,database!$A$6:$BFQ$206,4,FALSE)),\"\",VLOOKUP(B563,database!$A$6:$BFQ$206,4,FALSE)))","v":""},null,null,null,"",null,null,null,{"$f":"IF(B563=\"\",\"\",IF(ISERROR(VLOOKUP(B563,database!$A$6:$BFQ$206,3,FALSE)),\"\",VLOOKUP(B563,database!$A$6:$BFQ$206,3,FALSE)))","v":""},null,null,null,null,null,null,""]
["",null,{"$f":"IF(B564=\"\",\"\",IF(ISERROR(VLOOKUP(B564,database!$A$6:$BFQ$206,4,FALSE)),\"\",VLOOKUP(B564,database!$A$6:$BFQ$206,4,FALSE)))","v":""},null,null,null,"",null,null,null,{"$f":"IF(B564=\"\",\"\",IF(ISERROR(VLOOKUP(B564,database!$A$6:$BFQ$206,3,FALSE)),\"\",VLOOKUP(B564,database!$A$6:$BFQ$206,3,FALSE)))","v":""},null,null,null,null,null,null,""]
["",null,{"$f":"IF(B565=\"\",\"\",IF(ISERROR(VLOOKUP(B565,database!$A$6:$BFQ$206,4,FALSE)),\"\",VLOOKUP(B565,database!$A$6:$BFQ$206,4,FALSE)))","v":""},null,null,null,"",null,null,null,{"$f":"IF(B565=\"\",\"\",IF(ISERROR(VLOOKUP(B565,database!$A$6:$BFQ$206,3,FALSE)),\"\",VLOOKUP(B565,database!$A$6:$BFQ$206,3,FALSE)))","v":""},null,null,null,null,null,null,""]
["",null,{"$f":"IF(B566=\"\",\"\",IF(ISERROR(VLOOKUP(B566,database!$A$6:$BFQ$206,4,FALSE)),\"\",VLOOKUP(B566,database!$A$6:$BFQ$206,4,FALSE)))","v":""},null,null,null,"",null,null,null,{"$f":"IF(B566=\"\",\"\",IF(ISERROR(VLOOKUP(B566,database!$A$6:$BFQ$206,3,FALSE)),\"\",VLOOKUP(B566,database!$A$6:$BFQ$206,3,FALSE)))","v":""},null,null,null,null,null,null,""]
["",null,{"$f":"IF(B567=\"\",\"\",IF(ISERROR(VLOOKUP(B567,database!$A$6:$BFQ$206,4,FALSE)),\"\",VLOOKUP(B567,database!$A$6:$BFQ$206,4,FALSE)))","v":""},null,null,null,"",null,null,null,{"$f":"IF(B567=\"\",\"\",IF(ISERROR(VLOOKUP(B567,database!$A$6:$BFQ$206,3,FALSE)),\"\",VLOOKUP(B567,database!$A$6:$BFQ$206,3,FALSE)))","v":""},null,null,null,null,null,null,""]
["",null,{"$f":"IF(B568=\"\",\"\",IF(ISERROR(VLOOKUP(B568,database!$A$6:$BFQ$206,4,FALSE)),\"\",VLOOKUP(B568,database!$A$6:$BFQ$206,4,FALSE)))","v":""},null,null,null,"",null,null,null,{"$f":"IF(B568=\"\",\"\",IF(ISERROR(VLOOKUP(B568,database!$A$6:$BFQ$206,3,FALSE)),\"\",VLOOKUP(B568,database!$A$6:$BFQ$206,3,FALSE)))","v":""},null,null,null,null,null,null,""]
["",null,{"$f":"IF(B569=\"\",\"\",IF(ISERROR(VLOOKUP(B569,database!$A$6:$BFQ$206,4,FALSE)),\"\",VLOOKUP(B569,database!$A$6:$BFQ$206,4,FALSE)))","v":""},null,null,null,"",null,null,null,{"$f":"IF(B569=\"\",\"\",IF(ISERROR(VLOOKUP(B569,database!$A$6:$BFQ$206,3,FALSE)),\"\",VLOOKUP(B569,database!$A$6:$BFQ$206,3,FALSE)))","v":""},null,null,null,null,null,null,""]
["",null,{"$f":"IF(B570=\"\",\"\",IF(ISERROR(VLOOKUP(B570,database!$A$6:$BFQ$206,4,FALSE)),\"\",VLOOKUP(B570,database!$A$6:$BFQ$206,4,FALSE)))","v":""},null,null,null,"",null,null,null,{"$f":"IF(B570=\"\",\"\",IF(ISERROR(VLOOKUP(B570,database!$A$6:$BFQ$206,3,FALSE)),\"\",VLOOKUP(B570,database!$A$6:$BFQ$206,3,FALSE)))","v":""},null,null,null,null,null,null,""]
["",null,{"$f":"IF(B571=\"\",\"\",IF(ISERROR(VLOOKUP(B571,database!$A$6:$BFQ$206,4,FALSE)),\"\",VLOOKUP(B571,database!$A$6:$BFQ$206,4,FALSE)))","v":""},null,null,null,"",null,null,null,{"$f":"IF(B571=\"\",\"\",IF(ISERROR(VLOOKUP(B571,database!$A$6:$BFQ$206,3,FALSE)),\"\",VLOOKUP(B571,database!$A$6:$BFQ$206,3,FALSE)))","v":""},null,null,null,null,null,null,""]
["",null,{"$f":"IF(B572=\"\",\"\",IF(ISERROR(VLOOKUP(B572,database!$A$6:$BFQ$206,4,FALSE)),\"\",VLOOKUP(B572,database!$A$6:$BFQ$206,4,FALSE)))","v":""},null,null,null,"",null,null,null,{"$f":"IF(B572=\"\",\"\",IF(ISERROR(VLOOKUP(B572,database!$A$6:$BFQ$206,3,FALSE)),\"\",VLOOKUP(B572,database!$A$6:$BFQ$206,3,FALSE)))","v":""},null,null,null,null,null,null,""]
["",null,{"$f":"IF(B573=\"\",\"\",IF(ISERROR(VLOOKUP(B573,database!$A$6:$BFQ$206,4,FALSE)),\"\",VLOOKUP(B573,database!$A$6:$BFQ$206,4,FALSE)))","v":""},null,null,null,"",null,null,null,{"$f":"IF(B573=\"\",\"\",IF(ISERROR(VLOOKUP(B573,database!$A$6:$BFQ$206,3,FALSE)),\"\",VLOOKUP(B573,database!$A$6:$BFQ$206,3,FALSE)))","v":""},null,null,null,null,null,null,""]
["",null,{"$f":"IF(B574=\"\",\"\",IF(ISERROR(VLOOKUP(B574,database!$A$6:$BFQ$206,4,FALSE)),\"\",VLOOKUP(B574,database!$A$6:$BFQ$206,4,FALSE)))","v":""},null,null,null,"",null,null,null,{"$f":"IF(B574=\"\",\"\",IF(ISERROR(VLOOKUP(B574,database!$A$6:$BFQ$206,3,FALSE)),\"\",VLOOKUP(B574,database!$A$6:$BFQ$206,3,FALSE)))","v":""},null,null,null,null,null,null,""]
["",null,{"$f":"IF(B575=\"\",\"\",IF(ISERROR(VLOOKUP(B575,database!$A$6:$BFQ$206,4,FALSE)),\"\",VLOOKUP(B575,database!$A$6:$BFQ$206,4,FALSE)))","v":""},null,null,null,"",null,null,null,{"$f":"IF(B575=\"\",\"\",IF(ISERROR(VLOOKUP(B575,database!$A$6:$BFQ$206,3,FALSE)),\"\",VLOOKUP(B575,database!$A$6:$BFQ$206,3,FALSE)))","v":""},null,null,null,null,null,null,""]
["",null,{"$f":"IF(B576=\"\",\"\",IF(ISERROR(VLOOKUP(B576,database!$A$6:$BFQ$206,4,FALSE)),\"\",VLOOKUP(B576,database!$A$6:$BFQ$206,4,FALSE)))","v":""},null,null,null,"",null,null,null,{"$f":"IF(B576=\"\",\"\",IF(ISERROR(VLOOKUP(B576,database!$A$6:$BFQ$206,3,FALSE)),\"\",VLOOKUP(B576,database!$A$6:$BFQ$206,3,FALSE)))","v":""},null,null,null,null,null,null,""]
[{"$f":"IF(B577=\"\",\"\",ROW(A574))","v":""},null,{"$f":"IF(B577=\"\",\"\",IF(ISERROR(VLOOKUP(B577,database!$A$6:$BFQ$206,4,FALSE)),\"\",VLOOKUP(B577,database!$A$6:$BFQ$206,4,FALSE)))","v":""},null,null,null,{"$f":"IF(B577=\"\",\"\",IF(C577=\"\",0,1))","v":""},null,null,null,{"$f":"IF(B577=\"\",\"\",IF(ISERROR(VLOOKUP(B577,database!$A$6:$BFQ$206,3,FALSE)),\"\",VLOOKUP(B577,database!$A$6:$BFQ$206,3,FALSE)))","v":""},null,null,null,null,null,null,{"$f":"LEFT(C577,2)","v":""}]
["",null,{"$f":"IF(B578=\"\",\"\",IF(ISERROR(VLOOKUP(B578,database!$A$6:$BFQ$206,4,FALSE)),\"\",VLOOKUP(B578,database!$A$6:$BFQ$206,4,FALSE)))","v":""},null,null,null,"",null,null,null,{"$f":"IF(B578=\"\",\"\",IF(ISERROR(VLOOKUP(B578,database!$A$6:$BFQ$206,3,FALSE)),\"\",VLOOKUP(B578,database!$A$6:$BFQ$206,3,FALSE)))","v":""},null,null,null,null,null,null,""]
["",null,{"$f":"IF(B579=\"\",\"\",IF(ISERROR(VLOOKUP(B579,database!$A$6:$BFQ$206,4,FALSE)),\"\",VLOOKUP(B579,database!$A$6:$BFQ$206,4,FALSE)))","v":""},null,null,null,"",null,null,null,{"$f":"IF(B579=\"\",\"\",IF(ISERROR(VLOOKUP(B579,database!$A$6:$BFQ$206,3,FALSE)),\"\",VLOOKUP(B579,database!$A$6:$BFQ$206,3,FALSE)))","v":""},null,null,null,null,null,null,""]
["",null,{"$f":"IF(B580=\"\",\"\",IF(ISERROR(VLOOKUP(B580,database!$A$6:$BFQ$206,4,FALSE)),\"\",VLOOKUP(B580,database!$A$6:$BFQ$206,4,FALSE)))","v":""},null,null,null,"",null,null,null,{"$f":"IF(B580=\"\",\"\",IF(ISERROR(VLOOKUP(B580,database!$A$6:$BFQ$206,3,FALSE)),\"\",VLOOKUP(B580,database!$A$6:$BFQ$206,3,FALSE)))","v":""},null,null,null,null,null,null,""]
["",null,{"$f":"IF(B581=\"\",\"\",IF(ISERROR(VLOOKUP(B581,database!$A$6:$BFQ$206,4,FALSE)),\"\",VLOOKUP(B581,database!$A$6:$BFQ$206,4,FALSE)))","v":""},null,null,null,"",null,null,null,{"$f":"IF(B581=\"\",\"\",IF(ISERROR(VLOOKUP(B581,database!$A$6:$BFQ$206,3,FALSE)),\"\",VLOOKUP(B581,database!$A$6:$BFQ$206,3,FALSE)))","v":""},null,null,null,null,null,null,""]
["",null,{"$f":"IF(B582=\"\",\"\",IF(ISERROR(VLOOKUP(B582,database!$A$6:$BFQ$206,4,FALSE)),\"\",VLOOKUP(B582,database!$A$6:$BFQ$206,4,FALSE)))","v":""},null,null,null,"",null,null,null,{"$f":"IF(B582=\"\",\"\",IF(ISERROR(VLOOKUP(B582,database!$A$6:$BFQ$206,3,FALSE)),\"\",VLOOKUP(B582,database!$A$6:$BFQ$206,3,FALSE)))","v":""},null,null,null,null,null,null,""]
["",null,{"$f":"IF(B583=\"\",\"\",IF(ISERROR(VLOOKUP(B583,database!$A$6:$BFQ$206,4,FALSE)),\"\",VLOOKUP(B583,database!$A$6:$BFQ$206,4,FALSE)))","v":""},null,null,null,"",null,null,null,{"$f":"IF(B583=\"\",\"\",IF(ISERROR(VLOOKUP(B583,database!$A$6:$BFQ$206,3,FALSE)),\"\",VLOOKUP(B583,database!$A$6:$BFQ$206,3,FALSE)))","v":""},null,null,null,null,null,null,""]
["",null,{"$f":"IF(B584=\"\",\"\",IF(ISERROR(VLOOKUP(B584,database!$A$6:$BFQ$206,4,FALSE)),\"\",VLOOKUP(B584,database!$A$6:$BFQ$206,4,FALSE)))","v":""},null,null,null,"",null,null,null,{"$f":"IF(B584=\"\",\"\",IF(ISERROR(VLOOKUP(B584,database!$A$6:$BFQ$206,3,FALSE)),\"\",VLOOKUP(B584,database!$A$6:$BFQ$206,3,FALSE)))","v":""},null,null,null,null,null,null,""]
["",null,{"$f":"IF(B585=\"\",\"\",IF(ISERROR(VLOOKUP(B585,database!$A$6:$BFQ$206,4,FALSE)),\"\",VLOOKUP(B585,database!$A$6:$BFQ$206,4,FALSE)))","v":""},null,null,null,"",null,null,null,{"$f":"IF(B585=\"\",\"\",IF(ISERROR(VLOOKUP(B585,database!$A$6:$BFQ$206,3,FALSE)),\"\",VLOOKUP(B585,database!$A$6:$BFQ$206,3,FALSE)))","v":""},null,null,null,null,null,null,""]
["",null,{"$f":"IF(B586=\"\",\"\",IF(ISERROR(VLOOKUP(B586,database!$A$6:$BFQ$206,4,FALSE)),\"\",VLOOKUP(B586,database!$A$6:$BFQ$206,4,FALSE)))","v":""},null,null,null,"",null,null,null,{"$f":"IF(B586=\"\",\"\",IF(ISERROR(VLOOKUP(B586,database!$A$6:$BFQ$206,3,FALSE)),\"\",VLOOKUP(B586,database!$A$6:$BFQ$206,3,FALSE)))","v":""},null,null,null,null,null,null,""]
["",null,{"$f":"IF(B587=\"\",\"\",IF(ISERROR(VLOOKUP(B587,database!$A$6:$BFQ$206,4,FALSE)),\"\",VLOOKUP(B587,database!$A$6:$BFQ$206,4,FALSE)))","v":""},null,null,null,"",null,null,null,{"$f":"IF(B587=\"\",\"\",IF(ISERROR(VLOOKUP(B587,database!$A$6:$BFQ$206,3,FALSE)),\"\",VLOOKUP(B587,database!$A$6:$BFQ$206,3,FALSE)))","v":""},null,null,null,null,null,null,""]
["",null,{"$f":"IF(B588=\"\",\"\",IF(ISERROR(VLOOKUP(B588,database!$A$6:$BFQ$206,4,FALSE)),\"\",VLOOKUP(B588,database!$A$6:$BFQ$206,4,FALSE)))","v":""},null,null,null,"",null,null,null,{"$f":"IF(B588=\"\",\"\",IF(ISERROR(VLOOKUP(B588,database!$A$6:$BFQ$206,3,FALSE)),\"\",VLOOKUP(B588,database!$A$6:$BFQ$206,3,FALSE)))","v":""},null,null,null,null,null,null,""]
["",null,{"$f":"IF(B589=\"\",\"\",IF(ISERROR(VLOOKUP(B589,database!$A$6:$BFQ$206,4,FALSE)),\"\",VLOOKUP(B589,database!$A$6:$BFQ$206,4,FALSE)))","v":""},null,null,null,"",null,null,null,{"$f":"IF(B589=\"\",\"\",IF(ISERROR(VLOOKUP(B589,database!$A$6:$BFQ$206,3,FALSE)),\"\",VLOOKUP(B589,database!$A$6:$BFQ$206,3,FALSE)))","v":""},null,null,null,null,null,null,""]
["",null,{"$f":"IF(B590=\"\",\"\",IF(ISERROR(VLOOKUP(B590,database!$A$6:$BFQ$206,4,FALSE)),\"\",VLOOKUP(B590,database!$A$6:$BFQ$206,4,FALSE)))","v":""},null,null,null,"",null,null,null,{"$f":"IF(B590=\"\",\"\",IF(ISERROR(VLOOKUP(B590,database!$A$6:$BFQ$206,3,FALSE)),\"\",VLOOKUP(B590,database!$A$6:$BFQ$206,3,FALSE)))","v":""},null,null,null,null,null,null,""]
["",null,{"$f":"IF(B591=\"\",\"\",IF(ISERROR(VLOOKUP(B591,database!$A$6:$BFQ$206,4,FALSE)),\"\",VLOOKUP(B591,database!$A$6:$BFQ$206,4,FALSE)))","v":""},null,null,null,"",null,null,null,{"$f":"IF(B591=\"\",\"\",IF(ISERROR(VLOOKUP(B591,database!$A$6:$BFQ$206,3,FALSE)),\"\",VLOOKUP(B591,database!$A$6:$BFQ$206,3,FALSE)))","v":""},null,null,null,null,null,null,""]
["",null,{"$f":"IF(B592=\"\",\"\",IF(ISERROR(VLOOKUP(B592,database!$A$6:$BFQ$206,4,FALSE)),\"\",VLOOKUP(B592,database!$A$6:$BFQ$206,4,FALSE)))","v":""},null,null,null,"",null,null,null,{"$f":"IF(B592=\"\",\"\",IF(ISERROR(VLOOKUP(B592,database!$A$6:$BFQ$206,3,FALSE)),\"\",VLOOKUP(B592,database!$A$6:$BFQ$206,3,FALSE)))","v":""},null,null,null,null,null,null,""]
["",null,{"$f":"IF(B593=\"\",\"\",IF(ISERROR(VLOOKUP(B593,database!$A$6:$BFQ$206,4,FALSE)),\"\",VLOOKUP(B593,database!$A$6:$BFQ$206,4,FALSE)))","v":""},null,null,null,"",null,null,null,{"$f":"IF(B593=\"\",\"\",IF(ISERROR(VLOOKUP(B593,database!$A$6:$BFQ$206,3,FALSE)),\"\",VLOOKUP(B593,database!$A$6:$BFQ$206,3,FALSE)))","v":""},null,null,null,null,null,null,""]
["",null,{"$f":"IF(B594=\"\",\"\",IF(ISERROR(VLOOKUP(B594,database!$A$6:$BFQ$206,4,FALSE)),\"\",VLOOKUP(B594,database!$A$6:$BFQ$206,4,FALSE)))","v":""},null,null,null,"",null,null,null,{"$f":"IF(B594=\"\",\"\",IF(ISERROR(VLOOKUP(B594,database!$A$6:$BFQ$206,3,FALSE)),\"\",VLOOKUP(B594,database!$A$6:$BFQ$206,3,FALSE)))","v":""},null,null,null,null,null,null,""]
["",null,{"$f":"IF(B595=\"\",\"\",IF(ISERROR(VLOOKUP(B595,database!$A$6:$BFQ$206,4,FALSE)),\"\",VLOOKUP(B595,database!$A$6:$BFQ$206,4,FALSE)))","v":""},null,null,null,"",null,null,null,{"$f":"IF(B595=\"\",\"\",IF(ISERROR(VLOOKUP(B595,database!$A$6:$BFQ$206,3,FALSE)),\"\",VLOOKUP(B595,database!$A$6:$BFQ$206,3,FALSE)))","v":""},null,null,null,null,null,null,""]
["",null,{"$f":"IF(B596=\"\",\"\",IF(ISERROR(VLOOKUP(B596,database!$A$6:$BFQ$206,4,FALSE)),\"\",VLOOKUP(B596,database!$A$6:$BFQ$206,4,FALSE)))","v":""},null,null,null,"",null,null,null,{"$f":"IF(B596=\"\",\"\",IF(ISERROR(VLOOKUP(B596,database!$A$6:$BFQ$206,3,FALSE)),\"\",VLOOKUP(B596,database!$A$6:$BFQ$206,3,FALSE)))","v":""},null,null,null,null,null,null,""]
["",null,{"$f":"IF(B597=\"\",\"\",IF(ISERROR(VLOOKUP(B597,database!$A$6:$BFQ$206,4,FALSE)),\"\",VLOOKUP(B597,database!$A$6:$BFQ$206,4,FALSE)))","v":""},null,null,null,"",null,null,null,{"$f":"IF(B597=\"\",\"\",IF(ISERROR(VLOOKUP(B597,database!$A$6:$BFQ$206,3,FALSE)),\"\",VLOOKUP(B597,database!$A$6:$BFQ$206,3,FALSE)))","v":""},null,null,null,null,null,null,""]
["",null,{"$f":"IF(B598=\"\",\"\",IF(ISERROR(VLOOKUP(B598,database!$A$6:$BFQ$206,4,FALSE)),\"\",VLOOKUP(B598,database!$A$6:$BFQ$206,4,FALSE)))","v":""},null,null,null,"",null,null,null,{"$f":"IF(B598=\"\",\"\",IF(ISERROR(VLOOKUP(B598,database!$A$6:$BFQ$206,3,FALSE)),\"\",VLOOKUP(B598,database!$A$6:$BFQ$206,3,FALSE)))","v":""},null,null,null,null,null,null,""]
["",null,{"$f":"IF(B599=\"\",\"\",IF(ISERROR(VLOOKUP(B599,database!$A$6:$BFQ$206,4,FALSE)),\"\",VLOOKUP(B599,database!$A$6:$BFQ$206,4,FALSE)))","v":""},null,null,null,"",null,null,null,{"$f":"IF(B599=\"\",\"\",IF(ISERROR(VLOOKUP(B599,database!$A$6:$BFQ$206,3,FALSE)),\"\",VLOOKUP(B599,database!$A$6:$BFQ$206,3,FALSE)))","v":""},null,null,null,null,null,null,""]
["",null,{"$f":"IF(B600=\"\",\"\",IF(ISERROR(VLOOKUP(B600,database!$A$6:$BFQ$206,4,FALSE)),\"\",VLOOKUP(B600,database!$A$6:$BFQ$206,4,FALSE)))","v":""},null,null,null,"",null,null,null,{"$f":"IF(B600=\"\",\"\",IF(ISERROR(VLOOKUP(B600,database!$A$6:$BFQ$206,3,FALSE)),\"\",VLOOKUP(B600,database!$A$6:$BFQ$206,3,FALSE)))","v":""},null,null,null,null,null,null,""]
["",null,{"$f":"IF(B601=\"\",\"\",IF(ISERROR(VLOOKUP(B601,database!$A$6:$BFQ$206,4,FALSE)),\"\",VLOOKUP(B601,database!$A$6:$BFQ$206,4,FALSE)))","v":""},null,null,null,"",null,null,null,{"$f":"IF(B601=\"\",\"\",IF(ISERROR(VLOOKUP(B601,database!$A$6:$BFQ$206,3,FALSE)),\"\",VLOOKUP(B601,database!$A$6:$BFQ$206,3,FALSE)))","v":""},null,null,null,null,null,null,""]
["",null,{"$f":"IF(B602=\"\",\"\",IF(ISERROR(VLOOKUP(B602,database!$A$6:$BFQ$206,4,FALSE)),\"\",VLOOKUP(B602,database!$A$6:$BFQ$206,4,FALSE)))","v":""},null,null,null,"",null,null,null,{"$f":"IF(B602=\"\",\"\",IF(ISERROR(VLOOKUP(B602,database!$A$6:$BFQ$206,3,FALSE)),\"\",VLOOKUP(B602,database!$A$6:$BFQ$206,3,FALSE)))","v":""},null,null,null,null,null,null,""]
["",null,{"$f":"IF(B603=\"\",\"\",IF(ISERROR(VLOOKUP(B603,database!$A$6:$BFQ$206,4,FALSE)),\"\",VLOOKUP(B603,database!$A$6:$BFQ$206,4,FALSE)))","v":""},null,null,null,"",null,null,null,{"$f":"IF(B603=\"\",\"\",IF(ISERROR(VLOOKUP(B603,database!$A$6:$BFQ$206,3,FALSE)),\"\",VLOOKUP(B603,database!$A$6:$BFQ$206,3,FALSE)))","v":""},null,null,null,null,null,null,""]
["",null,{"$f":"IF(B604=\"\",\"\",IF(ISERROR(VLOOKUP(B604,database!$A$6:$BFQ$206,4,FALSE)),\"\",VLOOKUP(B604,database!$A$6:$BFQ$206,4,FALSE)))","v":""},null,null,null,"",null,null,null,{"$f":"IF(B604=\"\",\"\",IF(ISERROR(VLOOKUP(B604,database!$A$6:$BFQ$206,3,FALSE)),\"\",VLOOKUP(B604,database!$A$6:$BFQ$206,3,FALSE)))","v":""},null,null,null,null,null,null,""]
["",null,{"$f":"IF(B605=\"\",\"\",IF(ISERROR(VLOOKUP(B605,database!$A$6:$BFQ$206,4,FALSE)),\"\",VLOOKUP(B605,database!$A$6:$BFQ$206,4,FALSE)))","v":""},null,null,null,"",null,null,null,{"$f":"IF(B605=\"\",\"\",IF(ISERROR(VLOOKUP(B605,database!$A$6:$BFQ$206,3,FALSE)),\"\",VLOOKUP(B605,database!$A$6:$BFQ$206,3,FALSE)))","v":""},null,null,null,null,null,null,""]
["",null,{"$f":"IF(B606=\"\",\"\",IF(ISERROR(VLOOKUP(B606,database!$A$6:$BFQ$206,4,FALSE)),\"\",VLOOKUP(B606,database!$A$6:$BFQ$206,4,FALSE)))","v":""},null,null,null,"",null,null,null,{"$f":"IF(B606=\"\",\"\",IF(ISERROR(VLOOKUP(B606,database!$A$6:$BFQ$206,3,FALSE)),\"\",VLOOKUP(B606,database!$A$6:$BFQ$206,3,FALSE)))","v":""},null,null,null,null,null,null,""]
["",null,{"$f":"IF(B607=\"\",\"\",IF(ISERROR(VLOOKUP(B607,database!$A$6:$BFQ$206,4,FALSE)),\"\",VLOOKUP(B607,database!$A$6:$BFQ$206,4,FALSE)))","v":""},null,null,null,"",null,null,null,{"$f":"IF(B607=\"\",\"\",IF(ISERROR(VLOOKUP(B607,database!$A$6:$BFQ$206,3,FALSE)),\"\",VLOOKUP(B607,database!$A$6:$BFQ$206,3,FALSE)))","v":""},null,null,null,null,null,null,""]
["",null,{"$f":"IF(B608=\"\",\"\",IF(ISERROR(VLOOKUP(B608,database!$A$6:$BFQ$206,4,FALSE)),\"\",VLOOKUP(B608,database!$A$6:$BFQ$206,4,FALSE)))","v":""},null,null,null,"",null,null,null,{"$f":"IF(B608=\"\",\"\",IF(ISERROR(VLOOKUP(B608,database!$A$6:$BFQ$206,3,FALSE)),\"\",VLOOKUP(B608,database!$A$6:$BFQ$206,3,FALSE)))","v":""},null,null,null,null,null,null,""]
["",null,{"$f":"IF(B609=\"\",\"\",IF(ISERROR(VLOOKUP(B609,database!$A$6:$BFQ$206,4,FALSE)),\"\",VLOOKUP(B609,database!$A$6:$BFQ$206,4,FALSE)))","v":""},null,null,null,"",null,null,null,{"$f":"IF(B609=\"\",\"\",IF(ISERROR(VLOOKUP(B609,database!$A$6:$BFQ$206,3,FALSE)),\"\",VLOOKUP(B609,database!$A$6:$BFQ$206,3,FALSE)))","v":""},null,null,null,null,null,null,""]
["",null,{"$f":"IF(B610=\"\",\"\",IF(ISERROR(VLOOKUP(B610,database!$A$6:$BFQ$206,4,FALSE)),\"\",VLOOKUP(B610,database!$A$6:$BFQ$206,4,FALSE)))","v":""},null,null,null,"",null,null,null,{"$f":"IF(B610=\"\",\"\",IF(ISERROR(VLOOKUP(B610,database!$A$6:$BFQ$206,3,FALSE)),\"\",VLOOKUP(B610,database!$A$6:$BFQ$206,3,FALSE)))","v":""},null,null,null,null,null,null,""]
["",null,{"$f":"IF(B611=\"\",\"\",IF(ISERROR(VLOOKUP(B611,database!$A$6:$BFQ$206,4,FALSE)),\"\",VLOOKUP(B611,database!$A$6:$BFQ$206,4,FALSE)))","v":""},null,null,null,"",null,null,null,{"$f":"IF(B611=\"\",\"\",IF(ISERROR(VLOOKUP(B611,database!$A$6:$BFQ$206,3,FALSE)),\"\",VLOOKUP(B611,database!$A$6:$BFQ$206,3,FALSE)))","v":""},null,null,null,null,null,null,""]
["",null,{"$f":"IF(B612=\"\",\"\",IF(ISERROR(VLOOKUP(B612,database!$A$6:$BFQ$206,4,FALSE)),\"\",VLOOKUP(B612,database!$A$6:$BFQ$206,4,FALSE)))","v":""},null,null,null,"",null,null,null,{"$f":"IF(B612=\"\",\"\",IF(ISERROR(VLOOKUP(B612,database!$A$6:$BFQ$206,3,FALSE)),\"\",VLOOKUP(B612,database!$A$6:$BFQ$206,3,FALSE)))","v":""},null,null,null,null,null,null,""]
["",null,{"$f":"IF(B613=\"\",\"\",IF(ISERROR(VLOOKUP(B613,database!$A$6:$BFQ$206,4,FALSE)),\"\",VLOOKUP(B613,database!$A$6:$BFQ$206,4,FALSE)))","v":""},null,null,null,"",null,null,null,{"$f":"IF(B613=\"\",\"\",IF(ISERROR(VLOOKUP(B613,database!$A$6:$BFQ$206,3,FALSE)),\"\",VLOOKUP(B613,database!$A$6:$BFQ$206,3,FALSE)))","v":""},null,null,null,null,null,null,""]
["",null,{"$f":"IF(B614=\"\",\"\",IF(ISERROR(VLOOKUP(B614,database!$A$6:$BFQ$206,4,FALSE)),\"\",VLOOKUP(B614,database!$A$6:$BFQ$206,4,FALSE)))","v":""},null,null,null,"",null,null,null,{"$f":"IF(B614=\"\",\"\",IF(ISERROR(VLOOKUP(B614,database!$A$6:$BFQ$206,3,FALSE)),\"\",VLOOKUP(B614,database!$A$6:$BFQ$206,3,FALSE)))","v":""},null,null,null,null,null,null,""]
["",null,{"$f":"IF(B615=\"\",\"\",IF(ISERROR(VLOOKUP(B615,database!$A$6:$BFQ$206,4,FALSE)),\"\",VLOOKUP(B615,database!$A$6:$BFQ$206,4,FALSE)))","v":""},null,null,null,"",null,null,null,{"$f":"IF(B615=\"\",\"\",IF(ISERROR(VLOOKUP(B615,database!$A$6:$BFQ$206,3,FALSE)),\"\",VLOOKUP(B615,database!$A$6:$BFQ$206,3,FALSE)))","v":""},null,null,null,null,null,null,""]
["",null,{"$f":"IF(B616=\"\",\"\",IF(ISERROR(VLOOKUP(B616,database!$A$6:$BFQ$206,4,FALSE)),\"\",VLOOKUP(B616,database!$A$6:$BFQ$206,4,FALSE)))","v":""},null,null,null,"",null,null,null,{"$f":"IF(B616=\"\",\"\",IF(ISERROR(VLOOKUP(B616,database!$A$6:$BFQ$206,3,FALSE)),\"\",VLOOKUP(B616,database!$A$6:$BFQ$206,3,FALSE)))","v":""},null,null,null,null,null,null,""]
["",null,{"$f":"IF(B617=\"\",\"\",IF(ISERROR(VLOOKUP(B617,database!$A$6:$BFQ$206,4,FALSE)),\"\",VLOOKUP(B617,database!$A$6:$BFQ$206,4,FALSE)))","v":""},null,null,null,"",null,null,null,{"$f":"IF(B617=\"\",\"\",IF(ISERROR(VLOOKUP(B617,database!$A$6:$BFQ$206,3,FALSE)),\"\",VLOOKUP(B617,database!$A$6:$BFQ$206,3,FALSE)))","v":""},null,null,null,null,null,null,""]
["",null,{"$f":"IF(B618=\"\",\"\",IF(ISERROR(VLOOKUP(B618,database!$A$6:$BFQ$206,4,FALSE)),\"\",VLOOKUP(B618,database!$A$6:$BFQ$206,4,FALSE)))","v":""},null,null,null,"",null,null,null,{"$f":"IF(B618=\"\",\"\",IF(ISERROR(VLOOKUP(B618,database!$A$6:$BFQ$206,3,FALSE)),\"\",VLOOKUP(B618,database!$A$6:$BFQ$206,3,FALSE)))","v":""},null,null,null,null,null,null,""]
["",null,{"$f":"IF(B619=\"\",\"\",IF(ISERROR(VLOOKUP(B619,database!$A$6:$BFQ$206,4,FALSE)),\"\",VLOOKUP(B619,database!$A$6:$BFQ$206,4,FALSE)))","v":""},null,null,null,"",null,null,null,{"$f":"IF(B619=\"\",\"\",IF(ISERROR(VLOOKUP(B619,database!$A$6:$BFQ$206,3,FALSE)),\"\",VLOOKUP(B619,database!$A$6:$BFQ$206,3,FALSE)))","v":""},null,null,null,null,null,null,""]
["",null,{"$f":"IF(B620=\"\",\"\",IF(ISERROR(VLOOKUP(B620,database!$A$6:$BFQ$206,4,FALSE)),\"\",VLOOKUP(B620,database!$A$6:$BFQ$206,4,FALSE)))","v":""},null,null,null,"",null,null,null,{"$f":"IF(B620=\"\",\"\",IF(ISERROR(VLOOKUP(B620,database!$A$6:$BFQ$206,3,FALSE)),\"\",VLOOKUP(B620,database!$A$6:$BFQ$206,3,FALSE)))","v":""},null,null,null,null,null,null,""]
["",null,{"$f":"IF(B621=\"\",\"\",IF(ISERROR(VLOOKUP(B621,database!$A$6:$BFQ$206,4,FALSE)),\"\",VLOOKUP(B621,database!$A$6:$BFQ$206,4,FALSE)))","v":""},null,null,null,"",null,null,null,{"$f":"IF(B621=\"\",\"\",IF(ISERROR(VLOOKUP(B621,database!$A$6:$BFQ$206,3,FALSE)),\"\",VLOOKUP(B621,database!$A$6:$BFQ$206,3,FALSE)))","v":""},null,null,null,null,null,null,""]
["",null,{"$f":"IF(B622=\"\",\"\",IF(ISERROR(VLOOKUP(B622,database!$A$6:$BFQ$206,4,FALSE)),\"\",VLOOKUP(B622,database!$A$6:$BFQ$206,4,FALSE)))","v":""},null,null,null,"",null,null,null,{"$f":"IF(B622=\"\",\"\",IF(ISERROR(VLOOKUP(B622,database!$A$6:$BFQ$206,3,FALSE)),\"\",VLOOKUP(B622,database!$A$6:$BFQ$206,3,FALSE)))","v":""},null,null,null,null,null,null,""]
["",null,{"$f":"IF(B623=\"\",\"\",IF(ISERROR(VLOOKUP(B623,database!$A$6:$BFQ$206,4,FALSE)),\"\",VLOOKUP(B623,database!$A$6:$BFQ$206,4,FALSE)))","v":""},null,null,null,"",null,null,null,{"$f":"IF(B623=\"\",\"\",IF(ISERROR(VLOOKUP(B623,database!$A$6:$BFQ$206,3,FALSE)),\"\",VLOOKUP(B623,database!$A$6:$BFQ$206,3,FALSE)))","v":""},null,null,null,null,null,null,""]
["",null,{"$f":"IF(B624=\"\",\"\",IF(ISERROR(VLOOKUP(B624,database!$A$6:$BFQ$206,4,FALSE)),\"\",VLOOKUP(B624,database!$A$6:$BFQ$206,4,FALSE)))","v":""},null,null,null,"",null,null,null,{"$f":"IF(B624=\"\",\"\",IF(ISERROR(VLOOKUP(B624,database!$A$6:$BFQ$206,3,FALSE)),\"\",VLOOKUP(B624,database!$A$6:$BFQ$206,3,FALSE)))","v":""},null,null,null,null,null,null,""]
["",null,{"$f":"IF(B625=\"\",\"\",IF(ISERROR(VLOOKUP(B625,database!$A$6:$BFQ$206,4,FALSE)),\"\",VLOOKUP(B625,database!$A$6:$BFQ$206,4,FALSE)))","v":""},null,null,null,"",null,null,null,{"$f":"IF(B625=\"\",\"\",IF(ISERROR(VLOOKUP(B625,database!$A$6:$BFQ$206,3,FALSE)),\"\",VLOOKUP(B625,database!$A$6:$BFQ$206,3,FALSE)))","v":""},null,null,null,null,null,null,""]
["",null,{"$f":"IF(B626=\"\",\"\",IF(ISERROR(VLOOKUP(B626,database!$A$6:$BFQ$206,4,FALSE)),\"\",VLOOKUP(B626,database!$A$6:$BFQ$206,4,FALSE)))","v":""},null,null,null,"",null,null,null,{"$f":"IF(B626=\"\",\"\",IF(ISERROR(VLOOKUP(B626,database!$A$6:$BFQ$206,3,FALSE)),\"\",VLOOKUP(B626,database!$A$6:$BFQ$206,3,FALSE)))","v":""},null,null,null,null,null,null,""]
["",null,{"$f":"IF(B627=\"\",\"\",IF(ISERROR(VLOOKUP(B627,database!$A$6:$BFQ$206,4,FALSE)),\"\",VLOOKUP(B627,database!$A$6:$BFQ$206,4,FALSE)))","v":""},null,null,null,"",null,null,null,{"$f":"IF(B627=\"\",\"\",IF(ISERROR(VLOOKUP(B627,database!$A$6:$BFQ$206,3,FALSE)),\"\",VLOOKUP(B627,database!$A$6:$BFQ$206,3,FALSE)))","v":""},null,null,null,null,null,null,""]
["",null,{"$f":"IF(B628=\"\",\"\",IF(ISERROR(VLOOKUP(B628,database!$A$6:$BFQ$206,4,FALSE)),\"\",VLOOKUP(B628,database!$A$6:$BFQ$206,4,FALSE)))","v":""},null,null,null,"",null,null,null,{"$f":"IF(B628=\"\",\"\",IF(ISERROR(VLOOKUP(B628,database!$A$6:$BFQ$206,3,FALSE)),\"\",VLOOKUP(B628,database!$A$6:$BFQ$206,3,FALSE)))","v":""},null,null,null,null,null,null,""]
["",null,{"$f":"IF(B629=\"\",\"\",IF(ISERROR(VLOOKUP(B629,database!$A$6:$BFQ$206,4,FALSE)),\"\",VLOOKUP(B629,database!$A$6:$BFQ$206,4,FALSE)))","v":""},null,null,null,"",null,null,null,{"$f":"IF(B629=\"\",\"\",IF(ISERROR(VLOOKUP(B629,database!$A$6:$BFQ$206,3,FALSE)),\"\",VLOOKUP(B629,database!$A$6:$BFQ$206,3,FALSE)))","v":""},null,null,null,null,null,null,""]
["",null,{"$f":"IF(B630=\"\",\"\",IF(ISERROR(VLOOKUP(B630,database!$A$6:$BFQ$206,4,FALSE)),\"\",VLOOKUP(B630,database!$A$6:$BFQ$206,4,FALSE)))","v":""},null,null,null,"",null,null,null,{"$f":"IF(B630=\"\",\"\",IF(ISERROR(VLOOKUP(B630,database!$A$6:$BFQ$206,3,FALSE)),\"\",VLOOKUP(B630,database!$A$6:$BFQ$206,3,FALSE)))","v":""},null,null,null,null,null,null,""]
["",null,{"$f":"IF(B631=\"\",\"\",IF(ISERROR(VLOOKUP(B631,database!$A$6:$BFQ$206,4,FALSE)),\"\",VLOOKUP(B631,database!$A$6:$BFQ$206,4,FALSE)))","v":""},null,null,null,"",null,null,null,{"$f":"IF(B631=\"\",\"\",IF(ISERROR(VLOOKUP(B631,database!$A$6:$BFQ$206,3,FALSE)),\"\",VLOOKUP(B631,database!$A$6:$BFQ$206,3,FALSE)))","v":""},null,null,null,null,null,null,""]
["",null,{"$f":"IF(B632=\"\",\"\",IF(ISERROR(VLOOKUP(B632,database!$A$6:$BFQ$206,4,FALSE)),\"\",VLOOKUP(B632,database!$A$6:$BFQ$206,4,FALSE)))","v":""},null,null,null,"",null,null,null,{"$f":"IF(B632=\"\",\"\",IF(ISERROR(VLOOKUP(B632,database!$A$6:$BFQ$206,3,FALSE)),\"\",VLOOKUP(B632,database!$A$6:$BFQ$206,3,FALSE)))","v":""},null,null,null,null,null,null,""]
["",null,{"$f":"IF(B633=\"\",\"\",IF(ISERROR(VLOOKUP(B633,database!$A$6:$BFQ$206,4,FALSE)),\"\",VLOOKUP(B633,database!$A$6:$BFQ$206,4,FALSE)))","v":""},null,null,null,"",null,null,null,{"$f":"IF(B633=\"\",\"\",IF(ISERROR(VLOOKUP(B633,database!$A$6:$BFQ$206,3,FALSE)),\"\",VLOOKUP(B633,database!$A$6:$BFQ$206,3,FALSE)))","v":""},null,null,null,null,null,null,""]
["",null,{"$f":"IF(B634=\"\",\"\",IF(ISERROR(VLOOKUP(B634,database!$A$6:$BFQ$206,4,FALSE)),\"\",VLOOKUP(B634,database!$A$6:$BFQ$206,4,FALSE)))","v":""},null,null,null,"",null,null,null,{"$f":"IF(B634=\"\",\"\",IF(ISERROR(VLOOKUP(B634,database!$A$6:$BFQ$206,3,FALSE)),\"\",VLOOKUP(B634,database!$A$6:$BFQ$206,3,FALSE)))","v":""},null,null,null,null,null,null,""]
["",null,{"$f":"IF(B635=\"\",\"\",IF(ISERROR(VLOOKUP(B635,database!$A$6:$BFQ$206,4,FALSE)),\"\",VLOOKUP(B635,database!$A$6:$BFQ$206,4,FALSE)))","v":""},null,null,null,"",null,null,null,{"$f":"IF(B635=\"\",\"\",IF(ISERROR(VLOOKUP(B635,database!$A$6:$BFQ$206,3,FALSE)),\"\",VLOOKUP(B635,database!$A$6:$BFQ$206,3,FALSE)))","v":""},null,null,null,null,null,null,""]
["",null,{"$f":"IF(B636=\"\",\"\",IF(ISERROR(VLOOKUP(B636,database!$A$6:$BFQ$206,4,FALSE)),\"\",VLOOKUP(B636,database!$A$6:$BFQ$206,4,FALSE)))","v":""},null,null,null,"",null,null,null,{"$f":"IF(B636=\"\",\"\",IF(ISERROR(VLOOKUP(B636,database!$A$6:$BFQ$206,3,FALSE)),\"\",VLOOKUP(B636,database!$A$6:$BFQ$206,3,FALSE)))","v":""},null,null,null,null,null,null,""]
["",null,{"$f":"IF(B637=\"\",\"\",IF(ISERROR(VLOOKUP(B637,database!$A$6:$BFQ$206,4,FALSE)),\"\",VLOOKUP(B637,database!$A$6:$BFQ$206,4,FALSE)))","v":""},null,null,null,"",null,null,null,{"$f":"IF(B637=\"\",\"\",IF(ISERROR(VLOOKUP(B637,database!$A$6:$BFQ$206,3,FALSE)),\"\",VLOOKUP(B637,database!$A$6:$BFQ$206,3,FALSE)))","v":""},null,null,null,null,null,null,""]
["",null,{"$f":"IF(B638=\"\",\"\",IF(ISERROR(VLOOKUP(B638,database!$A$6:$BFQ$206,4,FALSE)),\"\",VLOOKUP(B638,database!$A$6:$BFQ$206,4,FALSE)))","v":""},null,null,null,"",null,null,null,{"$f":"IF(B638=\"\",\"\",IF(ISERROR(VLOOKUP(B638,database!$A$6:$BFQ$206,3,FALSE)),\"\",VLOOKUP(B638,database!$A$6:$BFQ$206,3,FALSE)))","v":""},null,null,null,null,null,null,""]
["",null,{"$f":"IF(B639=\"\",\"\",IF(ISERROR(VLOOKUP(B639,database!$A$6:$BFQ$206,4,FALSE)),\"\",VLOOKUP(B639,database!$A$6:$BFQ$206,4,FALSE)))","v":""},null,null,null,"",null,null,null,{"$f":"IF(B639=\"\",\"\",IF(ISERROR(VLOOKUP(B639,database!$A$6:$BFQ$206,3,FALSE)),\"\",VLOOKUP(B639,database!$A$6:$BFQ$206,3,FALSE)))","v":""},null,null,null,null,null,null,""]
["",null,{"$f":"IF(B640=\"\",\"\",IF(ISERROR(VLOOKUP(B640,database!$A$6:$BFQ$206,4,FALSE)),\"\",VLOOKUP(B640,database!$A$6:$BFQ$206,4,FALSE)))","v":""},null,null,null,"",null,null,null,{"$f":"IF(B640=\"\",\"\",IF(ISERROR(VLOOKUP(B640,database!$A$6:$BFQ$206,3,FALSE)),\"\",VLOOKUP(B640,database!$A$6:$BFQ$206,3,FALSE)))","v":""},null,null,null,null,null,null,""]
[{"$f":"IF(B641=\"\",\"\",ROW(A638))","v":""},null,{"$f":"IF(B641=\"\",\"\",IF(ISERROR(VLOOKUP(B641,database!$A$6:$BFQ$206,4,FALSE)),\"\",VLOOKUP(B641,database!$A$6:$BFQ$206,4,FALSE)))","v":""},null,null,null,{"$f":"IF(B641=\"\",\"\",IF(C641=\"\",0,1))","v":""},null,null,null,{"$f":"IF(B641=\"\",\"\",IF(ISERROR(VLOOKUP(B641,database!$A$6:$BFQ$206,3,FALSE)),\"\",VLOOKUP(B641,database!$A$6:$BFQ$206,3,FALSE)))","v":""},null,null,null,null,null,null,{"$f":"LEFT(C641,2)","v":""}]
["",null,{"$f":"IF(B642=\"\",\"\",IF(ISERROR(VLOOKUP(B642,database!$A$6:$BFQ$206,4,FALSE)),\"\",VLOOKUP(B642,database!$A$6:$BFQ$206,4,FALSE)))","v":""},null,null,null,"",null,null,null,{"$f":"IF(B642=\"\",\"\",IF(ISERROR(VLOOKUP(B642,database!$A$6:$BFQ$206,3,FALSE)),\"\",VLOOKUP(B642,database!$A$6:$BFQ$206,3,FALSE)))","v":""},null,null,null,null,null,null,""]
["",null,{"$f":"IF(B643=\"\",\"\",IF(ISERROR(VLOOKUP(B643,database!$A$6:$BFQ$206,4,FALSE)),\"\",VLOOKUP(B643,database!$A$6:$BFQ$206,4,FALSE)))","v":""},null,null,null,"",null,null,null,{"$f":"IF(B643=\"\",\"\",IF(ISERROR(VLOOKUP(B643,database!$A$6:$BFQ$206,3,FALSE)),\"\",VLOOKUP(B643,database!$A$6:$BFQ$206,3,FALSE)))","v":""},null,null,null,null,null,null,""]
["",null,{"$f":"IF(B644=\"\",\"\",IF(ISERROR(VLOOKUP(B644,database!$A$6:$BFQ$206,4,FALSE)),\"\",VLOOKUP(B644,database!$A$6:$BFQ$206,4,FALSE)))","v":""},null,null,null,"",null,null,null,{"$f":"IF(B644=\"\",\"\",IF(ISERROR(VLOOKUP(B644,database!$A$6:$BFQ$206,3,FALSE)),\"\",VLOOKUP(B644,database!$A$6:$BFQ$206,3,FALSE)))","v":""},null,null,null,null,null,null,""]
["",null,{"$f":"IF(B645=\"\",\"\",IF(ISERROR(VLOOKUP(B645,database!$A$6:$BFQ$206,4,FALSE)),\"\",VLOOKUP(B645,database!$A$6:$BFQ$206,4,FALSE)))","v":""},null,null,null,"",null,null,null,{"$f":"IF(B645=\"\",\"\",IF(ISERROR(VLOOKUP(B645,database!$A$6:$BFQ$206,3,FALSE)),\"\",VLOOKUP(B645,database!$A$6:$BFQ$206,3,FALSE)))","v":""},null,null,null,null,null,null,""]
["",null,{"$f":"IF(B646=\"\",\"\",IF(ISERROR(VLOOKUP(B646,database!$A$6:$BFQ$206,4,FALSE)),\"\",VLOOKUP(B646,database!$A$6:$BFQ$206,4,FALSE)))","v":""},null,null,null,"",null,null,null,{"$f":"IF(B646=\"\",\"\",IF(ISERROR(VLOOKUP(B646,database!$A$6:$BFQ$206,3,FALSE)),\"\",VLOOKUP(B646,database!$A$6:$BFQ$206,3,FALSE)))","v":""},null,null,null,null,null,null,""]
["",null,{"$f":"IF(B647=\"\",\"\",IF(ISERROR(VLOOKUP(B647,database!$A$6:$BFQ$206,4,FALSE)),\"\",VLOOKUP(B647,database!$A$6:$BFQ$206,4,FALSE)))","v":""},null,null,null,"",null,null,null,{"$f":"IF(B647=\"\",\"\",IF(ISERROR(VLOOKUP(B647,database!$A$6:$BFQ$206,3,FALSE)),\"\",VLOOKUP(B647,database!$A$6:$BFQ$206,3,FALSE)))","v":""},null,null,null,null,null,null,""]
["",null,{"$f":"IF(B648=\"\",\"\",IF(ISERROR(VLOOKUP(B648,database!$A$6:$BFQ$206,4,FALSE)),\"\",VLOOKUP(B648,database!$A$6:$BFQ$206,4,FALSE)))","v":""},null,null,null,"",null,null,null,{"$f":"IF(B648=\"\",\"\",IF(ISERROR(VLOOKUP(B648,database!$A$6:$BFQ$206,3,FALSE)),\"\",VLOOKUP(B648,database!$A$6:$BFQ$206,3,FALSE)))","v":""},null,null,null,null,null,null,""]
["",null,{"$f":"IF(B649=\"\",\"\",IF(ISERROR(VLOOKUP(B649,database!$A$6:$BFQ$206,4,FALSE)),\"\",VLOOKUP(B649,database!$A$6:$BFQ$206,4,FALSE)))","v":""},null,null,null,"",null,null,null,{"$f":"IF(B649=\"\",\"\",IF(ISERROR(VLOOKUP(B649,database!$A$6:$BFQ$206,3,FALSE)),\"\",VLOOKUP(B649,database!$A$6:$BFQ$206,3,FALSE)))","v":""},null,null,null,null,null,null,""]
["",null,{"$f":"IF(B650=\"\",\"\",IF(ISERROR(VLOOKUP(B650,database!$A$6:$BFQ$206,4,FALSE)),\"\",VLOOKUP(B650,database!$A$6:$BFQ$206,4,FALSE)))","v":""},null,null,null,"",null,null,null,{"$f":"IF(B650=\"\",\"\",IF(ISERROR(VLOOKUP(B650,database!$A$6:$BFQ$206,3,FALSE)),\"\",VLOOKUP(B650,database!$A$6:$BFQ$206,3,FALSE)))","v":""},null,null,null,null,null,null,""]
["",null,{"$f":"IF(B651=\"\",\"\",IF(ISERROR(VLOOKUP(B651,database!$A$6:$BFQ$206,4,FALSE)),\"\",VLOOKUP(B651,database!$A$6:$BFQ$206,4,FALSE)))","v":""},null,null,null,"",null,null,null,{"$f":"IF(B651=\"\",\"\",IF(ISERROR(VLOOKUP(B651,database!$A$6:$BFQ$206,3,FALSE)),\"\",VLOOKUP(B651,database!$A$6:$BFQ$206,3,FALSE)))","v":""},null,null,null,null,null,null,""]
["",null,{"$f":"IF(B652=\"\",\"\",IF(ISERROR(VLOOKUP(B652,database!$A$6:$BFQ$206,4,FALSE)),\"\",VLOOKUP(B652,database!$A$6:$BFQ$206,4,FALSE)))","v":""},null,null,null,"",null,null,null,{"$f":"IF(B652=\"\",\"\",IF(ISERROR(VLOOKUP(B652,database!$A$6:$BFQ$206,3,FALSE)),\"\",VLOOKUP(B652,database!$A$6:$BFQ$206,3,FALSE)))","v":""},null,null,null,null,null,null,""]
["",null,{"$f":"IF(B653=\"\",\"\",IF(ISERROR(VLOOKUP(B653,database!$A$6:$BFQ$206,4,FALSE)),\"\",VLOOKUP(B653,database!$A$6:$BFQ$206,4,FALSE)))","v":""},null,null,null,"",null,null,null,{"$f":"IF(B653=\"\",\"\",IF(ISERROR(VLOOKUP(B653,database!$A$6:$BFQ$206,3,FALSE)),\"\",VLOOKUP(B653,database!$A$6:$BFQ$206,3,FALSE)))","v":""},null,null,null,null,null,null,""]
["",null,{"$f":"IF(B654=\"\",\"\",IF(ISERROR(VLOOKUP(B654,database!$A$6:$BFQ$206,4,FALSE)),\"\",VLOOKUP(B654,database!$A$6:$BFQ$206,4,FALSE)))","v":""},null,null,null,"",null,null,null,{"$f":"IF(B654=\"\",\"\",IF(ISERROR(VLOOKUP(B654,database!$A$6:$BFQ$206,3,FALSE)),\"\",VLOOKUP(B654,database!$A$6:$BFQ$206,3,FALSE)))","v":""},null,null,null,null,null,null,""]
["",null,{"$f":"IF(B655=\"\",\"\",IF(ISERROR(VLOOKUP(B655,database!$A$6:$BFQ$206,4,FALSE)),\"\",VLOOKUP(B655,database!$A$6:$BFQ$206,4,FALSE)))","v":""},null,null,null,"",null,null,null,{"$f":"IF(B655=\"\",\"\",IF(ISERROR(VLOOKUP(B655,database!$A$6:$BFQ$206,3,FALSE)),\"\",VLOOKUP(B655,database!$A$6:$BFQ$206,3,FALSE)))","v":""},null,null,null,null,null,null,""]
["",null,{"$f":"IF(B656=\"\",\"\",IF(ISERROR(VLOOKUP(B656,database!$A$6:$BFQ$206,4,FALSE)),\"\",VLOOKUP(B656,database!$A$6:$BFQ$206,4,FALSE)))","v":""},null,null,null,"",null,null,null,{"$f":"IF(B656=\"\",\"\",IF(ISERROR(VLOOKUP(B656,database!$A$6:$BFQ$206,3,FALSE)),\"\",VLOOKUP(B656,database!$A$6:$BFQ$206,3,FALSE)))","v":""},null,null,null,null,null,null,""]
["",null,{"$f":"IF(B657=\"\",\"\",IF(ISERROR(VLOOKUP(B657,database!$A$6:$BFQ$206,4,FALSE)),\"\",VLOOKUP(B657,database!$A$6:$BFQ$206,4,FALSE)))","v":""},null,null,null,"",null,null,null,{"$f":"IF(B657=\"\",\"\",IF(ISERROR(VLOOKUP(B657,database!$A$6:$BFQ$206,3,FALSE)),\"\",VLOOKUP(B657,database!$A$6:$BFQ$206,3,FALSE)))","v":""},null,null,null,null,null,null,""]
["",null,{"$f":"IF(B658=\"\",\"\",IF(ISERROR(VLOOKUP(B658,database!$A$6:$BFQ$206,4,FALSE)),\"\",VLOOKUP(B658,database!$A$6:$BFQ$206,4,FALSE)))","v":""},null,null,null,"",null,null,null,{"$f":"IF(B658=\"\",\"\",IF(ISERROR(VLOOKUP(B658,database!$A$6:$BFQ$206,3,FALSE)),\"\",VLOOKUP(B658,database!$A$6:$BFQ$206,3,FALSE)))","v":""},null,null,null,null,null,null,""]
["",null,{"$f":"IF(B659=\"\",\"\",IF(ISERROR(VLOOKUP(B659,database!$A$6:$BFQ$206,4,FALSE)),\"\",VLOOKUP(B659,database!$A$6:$BFQ$206,4,FALSE)))","v":""},null,null,null,"",null,null,null,{"$f":"IF(B659=\"\",\"\",IF(ISERROR(VLOOKUP(B659,database!$A$6:$BFQ$206,3,FALSE)),\"\",VLOOKUP(B659,database!$A$6:$BFQ$206,3,FALSE)))","v":""},null,null,null,null,null,null,""]
["",null,{"$f":"IF(B660=\"\",\"\",IF(ISERROR(VLOOKUP(B660,database!$A$6:$BFQ$206,4,FALSE)),\"\",VLOOKUP(B660,database!$A$6:$BFQ$206,4,FALSE)))","v":""},null,null,null,"",null,null,null,{"$f":"IF(B660=\"\",\"\",IF(ISERROR(VLOOKUP(B660,database!$A$6:$BFQ$206,3,FALSE)),\"\",VLOOKUP(B660,database!$A$6:$BFQ$206,3,FALSE)))","v":""},null,null,null,null,null,null,""]
["",null,{"$f":"IF(B661=\"\",\"\",IF(ISERROR(VLOOKUP(B661,database!$A$6:$BFQ$206,4,FALSE)),\"\",VLOOKUP(B661,database!$A$6:$BFQ$206,4,FALSE)))","v":""},null,null,null,"",null,null,null,{"$f":"IF(B661=\"\",\"\",IF(ISERROR(VLOOKUP(B661,database!$A$6:$BFQ$206,3,FALSE)),\"\",VLOOKUP(B661,database!$A$6:$BFQ$206,3,FALSE)))","v":""},null,null,null,null,null,null,""]
["",null,{"$f":"IF(B662=\"\",\"\",IF(ISERROR(VLOOKUP(B662,database!$A$6:$BFQ$206,4,FALSE)),\"\",VLOOKUP(B662,database!$A$6:$BFQ$206,4,FALSE)))","v":""},null,null,null,"",null,null,null,{"$f":"IF(B662=\"\",\"\",IF(ISERROR(VLOOKUP(B662,database!$A$6:$BFQ$206,3,FALSE)),\"\",VLOOKUP(B662,database!$A$6:$BFQ$206,3,FALSE)))","v":""},null,null,null,null,null,null,""]
["",null,{"$f":"IF(B663=\"\",\"\",IF(ISERROR(VLOOKUP(B663,database!$A$6:$BFQ$206,4,FALSE)),\"\",VLOOKUP(B663,database!$A$6:$BFQ$206,4,FALSE)))","v":""},null,null,null,"",null,null,null,{"$f":"IF(B663=\"\",\"\",IF(ISERROR(VLOOKUP(B663,database!$A$6:$BFQ$206,3,FALSE)),\"\",VLOOKUP(B663,database!$A$6:$BFQ$206,3,FALSE)))","v":""},null,null,null,null,null,null,""]
["",null,{"$f":"IF(B664=\"\",\"\",IF(ISERROR(VLOOKUP(B664,database!$A$6:$BFQ$206,4,FALSE)),\"\",VLOOKUP(B664,database!$A$6:$BFQ$206,4,FALSE)))","v":""},null,null,null,"",null,null,null,{"$f":"IF(B664=\"\",\"\",IF(ISERROR(VLOOKUP(B664,database!$A$6:$BFQ$206,3,FALSE)),\"\",VLOOKUP(B664,database!$A$6:$BFQ$206,3,FALSE)))","v":""},null,null,null,null,null,null,""]
["",null,{"$f":"IF(B665=\"\",\"\",IF(ISERROR(VLOOKUP(B665,database!$A$6:$BFQ$206,4,FALSE)),\"\",VLOOKUP(B665,database!$A$6:$BFQ$206,4,FALSE)))","v":""},null,null,null,"",null,null,null,{"$f":"IF(B665=\"\",\"\",IF(ISERROR(VLOOKUP(B665,database!$A$6:$BFQ$206,3,FALSE)),\"\",VLOOKUP(B665,database!$A$6:$BFQ$206,3,FALSE)))","v":""},null,null,null,null,null,null,""]
["",null,{"$f":"IF(B666=\"\",\"\",IF(ISERROR(VLOOKUP(B666,database!$A$6:$BFQ$206,4,FALSE)),\"\",VLOOKUP(B666,database!$A$6:$BFQ$206,4,FALSE)))","v":""},null,null,null,"",null,null,null,{"$f":"IF(B666=\"\",\"\",IF(ISERROR(VLOOKUP(B666,database!$A$6:$BFQ$206,3,FALSE)),\"\",VLOOKUP(B666,database!$A$6:$BFQ$206,3,FALSE)))","v":""},null,null,null,null,null,null,""]
["",null,{"$f":"IF(B667=\"\",\"\",IF(ISERROR(VLOOKUP(B667,database!$A$6:$BFQ$206,4,FALSE)),\"\",VLOOKUP(B667,database!$A$6:$BFQ$206,4,FALSE)))","v":""},null,null,null,"",null,null,null,{"$f":"IF(B667=\"\",\"\",IF(ISERROR(VLOOKUP(B667,database!$A$6:$BFQ$206,3,FALSE)),\"\",VLOOKUP(B667,database!$A$6:$BFQ$206,3,FALSE)))","v":""},null,null,null,null,null,null,""]
["",null,{"$f":"IF(B668=\"\",\"\",IF(ISERROR(VLOOKUP(B668,database!$A$6:$BFQ$206,4,FALSE)),\"\",VLOOKUP(B668,database!$A$6:$BFQ$206,4,FALSE)))","v":""},null,null,null,"",null,null,null,{"$f":"IF(B668=\"\",\"\",IF(ISERROR(VLOOKUP(B668,database!$A$6:$BFQ$206,3,FALSE)),\"\",VLOOKUP(B668,database!$A$6:$BFQ$206,3,FALSE)))","v":""},null,null,null,null,null,null,""]
["",null,{"$f":"IF(B669=\"\",\"\",IF(ISERROR(VLOOKUP(B669,database!$A$6:$BFQ$206,4,FALSE)),\"\",VLOOKUP(B669,database!$A$6:$BFQ$206,4,FALSE)))","v":""},null,null,null,"",null,null,null,{"$f":"IF(B669=\"\",\"\",IF(ISERROR(VLOOKUP(B669,database!$A$6:$BFQ$206,3,FALSE)),\"\",VLOOKUP(B669,database!$A$6:$BFQ$206,3,FALSE)))","v":""},null,null,null,null,null,null,""]
["",null,{"$f":"IF(B670=\"\",\"\",IF(ISERROR(VLOOKUP(B670,database!$A$6:$BFQ$206,4,FALSE)),\"\",VLOOKUP(B670,database!$A$6:$BFQ$206,4,FALSE)))","v":""},null,null,null,"",null,null,null,{"$f":"IF(B670=\"\",\"\",IF(ISERROR(VLOOKUP(B670,database!$A$6:$BFQ$206,3,FALSE)),\"\",VLOOKUP(B670,database!$A$6:$BFQ$206,3,FALSE)))","v":""},null,null,null,null,null,null,""]
["",null,{"$f":"IF(B671=\"\",\"\",IF(ISERROR(VLOOKUP(B671,database!$A$6:$BFQ$206,4,FALSE)),\"\",VLOOKUP(B671,database!$A$6:$BFQ$206,4,FALSE)))","v":""},null,null,null,"",null,null,null,{"$f":"IF(B671=\"\",\"\",IF(ISERROR(VLOOKUP(B671,database!$A$6:$BFQ$206,3,FALSE)),\"\",VLOOKUP(B671,database!$A$6:$BFQ$206,3,FALSE)))","v":""},null,null,null,null,null,null,""]
["",null,{"$f":"IF(B672=\"\",\"\",IF(ISERROR(VLOOKUP(B672,database!$A$6:$BFQ$206,4,FALSE)),\"\",VLOOKUP(B672,database!$A$6:$BFQ$206,4,FALSE)))","v":""},null,null,null,"",null,null,null,{"$f":"IF(B672=\"\",\"\",IF(ISERROR(VLOOKUP(B672,database!$A$6:$BFQ$206,3,FALSE)),\"\",VLOOKUP(B672,database!$A$6:$BFQ$206,3,FALSE)))","v":""},null,null,null,null,null,null,""]
["",null,{"$f":"IF(B673=\"\",\"\",IF(ISERROR(VLOOKUP(B673,database!$A$6:$BFQ$206,4,FALSE)),\"\",VLOOKUP(B673,database!$A$6:$BFQ$206,4,FALSE)))","v":""},null,null,null,"",null,null,null,{"$f":"IF(B673=\"\",\"\",IF(ISERROR(VLOOKUP(B673,database!$A$6:$BFQ$206,3,FALSE)),\"\",VLOOKUP(B673,database!$A$6:$BFQ$206,3,FALSE)))","v":""},null,null,null,null,null,null,""]
["",null,{"$f":"IF(B674=\"\",\"\",IF(ISERROR(VLOOKUP(B674,database!$A$6:$BFQ$206,4,FALSE)),\"\",VLOOKUP(B674,database!$A$6:$BFQ$206,4,FALSE)))","v":""},null,null,null,"",null,null,null,{"$f":"IF(B674=\"\",\"\",IF(ISERROR(VLOOKUP(B674,database!$A$6:$BFQ$206,3,FALSE)),\"\",VLOOKUP(B674,database!$A$6:$BFQ$206,3,FALSE)))","v":""},null,null,null,null,null,null,""]
["",null,{"$f":"IF(B675=\"\",\"\",IF(ISERROR(VLOOKUP(B675,database!$A$6:$BFQ$206,4,FALSE)),\"\",VLOOKUP(B675,database!$A$6:$BFQ$206,4,FALSE)))","v":""},null,null,null,"",null,null,null,{"$f":"IF(B675=\"\",\"\",IF(ISERROR(VLOOKUP(B675,database!$A$6:$BFQ$206,3,FALSE)),\"\",VLOOKUP(B675,database!$A$6:$BFQ$206,3,FALSE)))","v":""},null,null,null,null,null,null,""]
["",null,{"$f":"IF(B676=\"\",\"\",IF(ISERROR(VLOOKUP(B676,database!$A$6:$BFQ$206,4,FALSE)),\"\",VLOOKUP(B676,database!$A$6:$BFQ$206,4,FALSE)))","v":""},null,null,null,"",null,null,null,{"$f":"IF(B676=\"\",\"\",IF(ISERROR(VLOOKUP(B676,database!$A$6:$BFQ$206,3,FALSE)),\"\",VLOOKUP(B676,database!$A$6:$BFQ$206,3,FALSE)))","v":""},null,null,null,null,null,null,""]
["",null,{"$f":"IF(B677=\"\",\"\",IF(ISERROR(VLOOKUP(B677,database!$A$6:$BFQ$206,4,FALSE)),\"\",VLOOKUP(B677,database!$A$6:$BFQ$206,4,FALSE)))","v":""},null,null,null,"",null,null,null,{"$f":"IF(B677=\"\",\"\",IF(ISERROR(VLOOKUP(B677,database!$A$6:$BFQ$206,3,FALSE)),\"\",VLOOKUP(B677,database!$A$6:$BFQ$206,3,FALSE)))","v":""},null,null,null,null,null,null,""]
["",null,{"$f":"IF(B678=\"\",\"\",IF(ISERROR(VLOOKUP(B678,database!$A$6:$BFQ$206,4,FALSE)),\"\",VLOOKUP(B678,database!$A$6:$BFQ$206,4,FALSE)))","v":""},null,null,null,"",null,null,null,{"$f":"IF(B678=\"\",\"\",IF(ISERROR(VLOOKUP(B678,database!$A$6:$BFQ$206,3,FALSE)),\"\",VLOOKUP(B678,database!$A$6:$BFQ$206,3,FALSE)))","v":""},null,null,null,null,null,null,""]
["",null,{"$f":"IF(B679=\"\",\"\",IF(ISERROR(VLOOKUP(B679,database!$A$6:$BFQ$206,4,FALSE)),\"\",VLOOKUP(B679,database!$A$6:$BFQ$206,4,FALSE)))","v":""},null,null,null,"",null,null,null,{"$f":"IF(B679=\"\",\"\",IF(ISERROR(VLOOKUP(B679,database!$A$6:$BFQ$206,3,FALSE)),\"\",VLOOKUP(B679,database!$A$6:$BFQ$206,3,FALSE)))","v":""},null,null,null,null,null,null,""]
["",null,{"$f":"IF(B680=\"\",\"\",IF(ISERROR(VLOOKUP(B680,database!$A$6:$BFQ$206,4,FALSE)),\"\",VLOOKUP(B680,database!$A$6:$BFQ$206,4,FALSE)))","v":""},null,null,null,"",null,null,null,{"$f":"IF(B680=\"\",\"\",IF(ISERROR(VLOOKUP(B680,database!$A$6:$BFQ$206,3,FALSE)),\"\",VLOOKUP(B680,database!$A$6:$BFQ$206,3,FALSE)))","v":""},null,null,null,null,null,null,""]
["",null,{"$f":"IF(B681=\"\",\"\",IF(ISERROR(VLOOKUP(B681,database!$A$6:$BFQ$206,4,FALSE)),\"\",VLOOKUP(B681,database!$A$6:$BFQ$206,4,FALSE)))","v":""},null,null,null,"",null,null,null,{"$f":"IF(B681=\"\",\"\",IF(ISERROR(VLOOKUP(B681,database!$A$6:$BFQ$206,3,FALSE)),\"\",VLOOKUP(B681,database!$A$6:$BFQ$206,3,FALSE)))","v":""},null,null,null,null,null,null,""]
["",null,{"$f":"IF(B682=\"\",\"\",IF(ISERROR(VLOOKUP(B682,database!$A$6:$BFQ$206,4,FALSE)),\"\",VLOOKUP(B682,database!$A$6:$BFQ$206,4,FALSE)))","v":""},null,null,null,"",null,null,null,{"$f":"IF(B682=\"\",\"\",IF(ISERROR(VLOOKUP(B682,database!$A$6:$BFQ$206,3,FALSE)),\"\",VLOOKUP(B682,database!$A$6:$BFQ$206,3,FALSE)))","v":""},null,null,null,null,null,null,""]
["",null,{"$f":"IF(B683=\"\",\"\",IF(ISERROR(VLOOKUP(B683,database!$A$6:$BFQ$206,4,FALSE)),\"\",VLOOKUP(B683,database!$A$6:$BFQ$206,4,FALSE)))","v":""},null,null,null,"",null,null,null,{"$f":"IF(B683=\"\",\"\",IF(ISERROR(VLOOKUP(B683,database!$A$6:$BFQ$206,3,FALSE)),\"\",VLOOKUP(B683,database!$A$6:$BFQ$206,3,FALSE)))","v":""},null,null,null,null,null,null,""]
["",null,{"$f":"IF(B684=\"\",\"\",IF(ISERROR(VLOOKUP(B684,database!$A$6:$BFQ$206,4,FALSE)),\"\",VLOOKUP(B684,database!$A$6:$BFQ$206,4,FALSE)))","v":""},null,null,null,"",null,null,null,{"$f":"IF(B684=\"\",\"\",IF(ISERROR(VLOOKUP(B684,database!$A$6:$BFQ$206,3,FALSE)),\"\",VLOOKUP(B684,database!$A$6:$BFQ$206,3,FALSE)))","v":""},null,null,null,null,null,null,""]
["",null,{"$f":"IF(B685=\"\",\"\",IF(ISERROR(VLOOKUP(B685,database!$A$6:$BFQ$206,4,FALSE)),\"\",VLOOKUP(B685,database!$A$6:$BFQ$206,4,FALSE)))","v":""},null,null,null,"",null,null,null,{"$f":"IF(B685=\"\",\"\",IF(ISERROR(VLOOKUP(B685,database!$A$6:$BFQ$206,3,FALSE)),\"\",VLOOKUP(B685,database!$A$6:$BFQ$206,3,FALSE)))","v":""},null,null,null,null,null,null,""]
["",null,{"$f":"IF(B686=\"\",\"\",IF(ISERROR(VLOOKUP(B686,database!$A$6:$BFQ$206,4,FALSE)),\"\",VLOOKUP(B686,database!$A$6:$BFQ$206,4,FALSE)))","v":""},null,null,null,"",null,null,null,{"$f":"IF(B686=\"\",\"\",IF(ISERROR(VLOOKUP(B686,database!$A$6:$BFQ$206,3,FALSE)),\"\",VLOOKUP(B686,database!$A$6:$BFQ$206,3,FALSE)))","v":""},null,null,null,null,null,null,""]
["",null,{"$f":"IF(B687=\"\",\"\",IF(ISERROR(VLOOKUP(B687,database!$A$6:$BFQ$206,4,FALSE)),\"\",VLOOKUP(B687,database!$A$6:$BFQ$206,4,FALSE)))","v":""},null,null,null,"",null,null,null,{"$f":"IF(B687=\"\",\"\",IF(ISERROR(VLOOKUP(B687,database!$A$6:$BFQ$206,3,FALSE)),\"\",VLOOKUP(B687,database!$A$6:$BFQ$206,3,FALSE)))","v":""},null,null,null,null,null,null,""]
["",null,{"$f":"IF(B688=\"\",\"\",IF(ISERROR(VLOOKUP(B688,database!$A$6:$BFQ$206,4,FALSE)),\"\",VLOOKUP(B688,database!$A$6:$BFQ$206,4,FALSE)))","v":""},null,null,null,"",null,null,null,{"$f":"IF(B688=\"\",\"\",IF(ISERROR(VLOOKUP(B688,database!$A$6:$BFQ$206,3,FALSE)),\"\",VLOOKUP(B688,database!$A$6:$BFQ$206,3,FALSE)))","v":""},null,null,null,null,null,null,""]
["",null,{"$f":"IF(B689=\"\",\"\",IF(ISERROR(VLOOKUP(B689,database!$A$6:$BFQ$206,4,FALSE)),\"\",VLOOKUP(B689,database!$A$6:$BFQ$206,4,FALSE)))","v":""},null,null,null,"",null,null,null,{"$f":"IF(B689=\"\",\"\",IF(ISERROR(VLOOKUP(B689,database!$A$6:$BFQ$206,3,FALSE)),\"\",VLOOKUP(B689,database!$A$6:$BFQ$206,3,FALSE)))","v":""},null,null,null,null,null,null,""]
["",null,{"$f":"IF(B690=\"\",\"\",IF(ISERROR(VLOOKUP(B690,database!$A$6:$BFQ$206,4,FALSE)),\"\",VLOOKUP(B690,database!$A$6:$BFQ$206,4,FALSE)))","v":""},null,null,null,"",null,null,null,{"$f":"IF(B690=\"\",\"\",IF(ISERROR(VLOOKUP(B690,database!$A$6:$BFQ$206,3,FALSE)),\"\",VLOOKUP(B690,database!$A$6:$BFQ$206,3,FALSE)))","v":""},null,null,null,null,null,null,""]
["",null,{"$f":"IF(B691=\"\",\"\",IF(ISERROR(VLOOKUP(B691,database!$A$6:$BFQ$206,4,FALSE)),\"\",VLOOKUP(B691,database!$A$6:$BFQ$206,4,FALSE)))","v":""},null,null,null,"",null,null,null,{"$f":"IF(B691=\"\",\"\",IF(ISERROR(VLOOKUP(B691,database!$A$6:$BFQ$206,3,FALSE)),\"\",VLOOKUP(B691,database!$A$6:$BFQ$206,3,FALSE)))","v":""},null,null,null,null,null,null,""]
["",null,{"$f":"IF(B692=\"\",\"\",IF(ISERROR(VLOOKUP(B692,database!$A$6:$BFQ$206,4,FALSE)),\"\",VLOOKUP(B692,database!$A$6:$BFQ$206,4,FALSE)))","v":""},null,null,null,"",null,null,null,{"$f":"IF(B692=\"\",\"\",IF(ISERROR(VLOOKUP(B692,database!$A$6:$BFQ$206,3,FALSE)),\"\",VLOOKUP(B692,database!$A$6:$BFQ$206,3,FALSE)))","v":""},null,null,null,null,null,null,""]
["",null,{"$f":"IF(B693=\"\",\"\",IF(ISERROR(VLOOKUP(B693,database!$A$6:$BFQ$206,4,FALSE)),\"\",VLOOKUP(B693,database!$A$6:$BFQ$206,4,FALSE)))","v":""},null,null,null,"",null,null,null,{"$f":"IF(B693=\"\",\"\",IF(ISERROR(VLOOKUP(B693,database!$A$6:$BFQ$206,3,FALSE)),\"\",VLOOKUP(B693,database!$A$6:$BFQ$206,3,FALSE)))","v":""},null,null,null,null,null,null,""]
["",null,{"$f":"IF(B694=\"\",\"\",IF(ISERROR(VLOOKUP(B694,database!$A$6:$BFQ$206,4,FALSE)),\"\",VLOOKUP(B694,database!$A$6:$BFQ$206,4,FALSE)))","v":""},null,null,null,"",null,null,null,{"$f":"IF(B694=\"\",\"\",IF(ISERROR(VLOOKUP(B694,database!$A$6:$BFQ$206,3,FALSE)),\"\",VLOOKUP(B694,database!$A$6:$BFQ$206,3,FALSE)))","v":""},null,null,null,null,null,null,""]
["",null,{"$f":"IF(B695=\"\",\"\",IF(ISERROR(VLOOKUP(B695,database!$A$6:$BFQ$206,4,FALSE)),\"\",VLOOKUP(B695,database!$A$6:$BFQ$206,4,FALSE)))","v":""},null,null,null,"",null,null,null,{"$f":"IF(B695=\"\",\"\",IF(ISERROR(VLOOKUP(B695,database!$A$6:$BFQ$206,3,FALSE)),\"\",VLOOKUP(B695,database!$A$6:$BFQ$206,3,FALSE)))","v":""},null,null,null,null,null,null,""]
["",null,{"$f":"IF(B696=\"\",\"\",IF(ISERROR(VLOOKUP(B696,database!$A$6:$BFQ$206,4,FALSE)),\"\",VLOOKUP(B696,database!$A$6:$BFQ$206,4,FALSE)))","v":""},null,null,null,"",null,null,null,{"$f":"IF(B696=\"\",\"\",IF(ISERROR(VLOOKUP(B696,database!$A$6:$BFQ$206,3,FALSE)),\"\",VLOOKUP(B696,database!$A$6:$BFQ$206,3,FALSE)))","v":""},null,null,null,null,null,null,""]
["",null,{"$f":"IF(B697=\"\",\"\",IF(ISERROR(VLOOKUP(B697,database!$A$6:$BFQ$206,4,FALSE)),\"\",VLOOKUP(B697,database!$A$6:$BFQ$206,4,FALSE)))","v":""},null,null,null,"",null,null,null,{"$f":"IF(B697=\"\",\"\",IF(ISERROR(VLOOKUP(B697,database!$A$6:$BFQ$206,3,FALSE)),\"\",VLOOKUP(B697,database!$A$6:$BFQ$206,3,FALSE)))","v":""},null,null,null,null,null,null,""]
["",null,{"$f":"IF(B698=\"\",\"\",IF(ISERROR(VLOOKUP(B698,database!$A$6:$BFQ$206,4,FALSE)),\"\",VLOOKUP(B698,database!$A$6:$BFQ$206,4,FALSE)))","v":""},null,null,null,"",null,null,null,{"$f":"IF(B698=\"\",\"\",IF(ISERROR(VLOOKUP(B698,database!$A$6:$BFQ$206,3,FALSE)),\"\",VLOOKUP(B698,database!$A$6:$BFQ$206,3,FALSE)))","v":""},null,null,null,null,null,null,""]
["",null,{"$f":"IF(B699=\"\",\"\",IF(ISERROR(VLOOKUP(B699,database!$A$6:$BFQ$206,4,FALSE)),\"\",VLOOKUP(B699,database!$A$6:$BFQ$206,4,FALSE)))","v":""},null,null,null,"",null,null,null,{"$f":"IF(B699=\"\",\"\",IF(ISERROR(VLOOKUP(B699,database!$A$6:$BFQ$206,3,FALSE)),\"\",VLOOKUP(B699,database!$A$6:$BFQ$206,3,FALSE)))","v":""},null,null,null,null,null,null,""]
["",null,{"$f":"IF(B700=\"\",\"\",IF(ISERROR(VLOOKUP(B700,database!$A$6:$BFQ$206,4,FALSE)),\"\",VLOOKUP(B700,database!$A$6:$BFQ$206,4,FALSE)))","v":""},null,null,null,"",null,null,null,{"$f":"IF(B700=\"\",\"\",IF(ISERROR(VLOOKUP(B700,database!$A$6:$BFQ$206,3,FALSE)),\"\",VLOOKUP(B700,database!$A$6:$BFQ$206,3,FALSE)))","v":""},null,null,null,null,null,null,""]
["",null,{"$f":"IF(B701=\"\",\"\",IF(ISERROR(VLOOKUP(B701,database!$A$6:$BFQ$206,4,FALSE)),\"\",VLOOKUP(B701,database!$A$6:$BFQ$206,4,FALSE)))","v":""},null,null,null,"",null,null,null,{"$f":"IF(B701=\"\",\"\",IF(ISERROR(VLOOKUP(B701,database!$A$6:$BFQ$206,3,FALSE)),\"\",VLOOKUP(B701,database!$A$6:$BFQ$206,3,FALSE)))","v":""},null,null,null,null,null,null,""]
["",null,{"$f":"IF(B702=\"\",\"\",IF(ISERROR(VLOOKUP(B702,database!$A$6:$BFQ$206,4,FALSE)),\"\",VLOOKUP(B702,database!$A$6:$BFQ$206,4,FALSE)))","v":""},null,null,null,"",null,null,null,{"$f":"IF(B702=\"\",\"\",IF(ISERROR(VLOOKUP(B702,database!$A$6:$BFQ$206,3,FALSE)),\"\",VLOOKUP(B702,database!$A$6:$BFQ$206,3,FALSE)))","v":""},null,null,null,null,null,null,""]
["",null,{"$f":"IF(B703=\"\",\"\",IF(ISERROR(VLOOKUP(B703,database!$A$6:$BFQ$206,4,FALSE)),\"\",VLOOKUP(B703,database!$A$6:$BFQ$206,4,FALSE)))","v":""},null,null,null,"",null,null,null,{"$f":"IF(B703=\"\",\"\",IF(ISERROR(VLOOKUP(B703,database!$A$6:$BFQ$206,3,FALSE)),\"\",VLOOKUP(B703,database!$A$6:$BFQ$206,3,FALSE)))","v":""},null,null,null,null,null,null,""]
["",null,{"$f":"IF(B704=\"\",\"\",IF(ISERROR(VLOOKUP(B704,database!$A$6:$BFQ$206,4,FALSE)),\"\",VLOOKUP(B704,database!$A$6:$BFQ$206,4,FALSE)))","v":""},null,null,null,"",null,null,null,{"$f":"IF(B704=\"\",\"\",IF(ISERROR(VLOOKUP(B704,database!$A$6:$BFQ$206,3,FALSE)),\"\",VLOOKUP(B704,database!$A$6:$BFQ$206,3,FALSE)))","v":""},null,null,null,null,null,null,""]
[{"$f":"IF(B705=\"\",\"\",ROW(A702))","v":""},null,{"$f":"IF(B705=\"\",\"\",IF(ISERROR(VLOOKUP(B705,database!$A$6:$BFQ$206,4,FALSE)),\"\",VLOOKUP(B705,database!$A$6:$BFQ$206,4,FALSE)))","v":""},null,null,null,{"$f":"IF(B705=\"\",\"\",IF(C705=\"\",0,1))","v":""},null,null,null,{"$f":"IF(B705=\"\",\"\",IF(ISERROR(VLOOKUP(B705,database!$A$6:$BFQ$206,3,FALSE)),\"\",VLOOKUP(B705,database!$A$6:$BFQ$206,3,FALSE)))","v":""},null,null,null,null,null,null,{"$f":"LEFT(C705,2)","v":""}]
["",null,{"$f":"IF(B706=\"\",\"\",IF(ISERROR(VLOOKUP(B706,database!$A$6:$BFQ$206,4,FALSE)),\"\",VLOOKUP(B706,database!$A$6:$BFQ$206,4,FALSE)))","v":""},null,null,null,"",null,null,null,{"$f":"IF(B706=\"\",\"\",IF(ISERROR(VLOOKUP(B706,database!$A$6:$BFQ$206,3,FALSE)),\"\",VLOOKUP(B706,database!$A$6:$BFQ$206,3,FALSE)))","v":""},null,null,null,null,null,null,""]
["",null,{"$f":"IF(B707=\"\",\"\",IF(ISERROR(VLOOKUP(B707,database!$A$6:$BFQ$206,4,FALSE)),\"\",VLOOKUP(B707,database!$A$6:$BFQ$206,4,FALSE)))","v":""},null,null,null,"",null,null,null,{"$f":"IF(B707=\"\",\"\",IF(ISERROR(VLOOKUP(B707,database!$A$6:$BFQ$206,3,FALSE)),\"\",VLOOKUP(B707,database!$A$6:$BFQ$206,3,FALSE)))","v":""},null,null,null,null,null,null,""]
["",null,{"$f":"IF(B708=\"\",\"\",IF(ISERROR(VLOOKUP(B708,database!$A$6:$BFQ$206,4,FALSE)),\"\",VLOOKUP(B708,database!$A$6:$BFQ$206,4,FALSE)))","v":""},null,null,null,"",null,null,null,{"$f":"IF(B708=\"\",\"\",IF(ISERROR(VLOOKUP(B708,database!$A$6:$BFQ$206,3,FALSE)),\"\",VLOOKUP(B708,database!$A$6:$BFQ$206,3,FALSE)))","v":""},null,null,null,null,null,null,""]
["",null,{"$f":"IF(B709=\"\",\"\",IF(ISERROR(VLOOKUP(B709,database!$A$6:$BFQ$206,4,FALSE)),\"\",VLOOKUP(B709,database!$A$6:$BFQ$206,4,FALSE)))","v":""},null,null,null,"",null,null,null,{"$f":"IF(B709=\"\",\"\",IF(ISERROR(VLOOKUP(B709,database!$A$6:$BFQ$206,3,FALSE)),\"\",VLOOKUP(B709,database!$A$6:$BFQ$206,3,FALSE)))","v":""},null,null,null,null,null,null,""]
["",null,{"$f":"IF(B710=\"\",\"\",IF(ISERROR(VLOOKUP(B710,database!$A$6:$BFQ$206,4,FALSE)),\"\",VLOOKUP(B710,database!$A$6:$BFQ$206,4,FALSE)))","v":""},null,null,null,"",null,null,null,{"$f":"IF(B710=\"\",\"\",IF(ISERROR(VLOOKUP(B710,database!$A$6:$BFQ$206,3,FALSE)),\"\",VLOOKUP(B710,database!$A$6:$BFQ$206,3,FALSE)))","v":""},null,null,null,null,null,null,""]
["",null,{"$f":"IF(B711=\"\",\"\",IF(ISERROR(VLOOKUP(B711,database!$A$6:$BFQ$206,4,FALSE)),\"\",VLOOKUP(B711,database!$A$6:$BFQ$206,4,FALSE)))","v":""},null,null,null,"",null,null,null,{"$f":"IF(B711=\"\",\"\",IF(ISERROR(VLOOKUP(B711,database!$A$6:$BFQ$206,3,FALSE)),\"\",VLOOKUP(B711,database!$A$6:$BFQ$206,3,FALSE)))","v":""},null,null,null,null,null,null,""]
["",null,{"$f":"IF(B712=\"\",\"\",IF(ISERROR(VLOOKUP(B712,database!$A$6:$BFQ$206,4,FALSE)),\"\",VLOOKUP(B712,database!$A$6:$BFQ$206,4,FALSE)))","v":""},null,null,null,"",null,null,null,{"$f":"IF(B712=\"\",\"\",IF(ISERROR(VLOOKUP(B712,database!$A$6:$BFQ$206,3,FALSE)),\"\",VLOOKUP(B712,database!$A$6:$BFQ$206,3,FALSE)))","v":""},null,null,null,null,null,null,""]
["",null,{"$f":"IF(B713=\"\",\"\",IF(ISERROR(VLOOKUP(B713,database!$A$6:$BFQ$206,4,FALSE)),\"\",VLOOKUP(B713,database!$A$6:$BFQ$206,4,FALSE)))","v":""},null,null,null,"",null,null,null,{"$f":"IF(B713=\"\",\"\",IF(ISERROR(VLOOKUP(B713,database!$A$6:$BFQ$206,3,FALSE)),\"\",VLOOKUP(B713,database!$A$6:$BFQ$206,3,FALSE)))","v":""},null,null,null,null,null,null,""]
["",null,{"$f":"IF(B714=\"\",\"\",IF(ISERROR(VLOOKUP(B714,database!$A$6:$BFQ$206,4,FALSE)),\"\",VLOOKUP(B714,database!$A$6:$BFQ$206,4,FALSE)))","v":""},null,null,null,"",null,null,null,{"$f":"IF(B714=\"\",\"\",IF(ISERROR(VLOOKUP(B714,database!$A$6:$BFQ$206,3,FALSE)),\"\",VLOOKUP(B714,database!$A$6:$BFQ$206,3,FALSE)))","v":""},null,null,null,null,null,null,""]
["",null,{"$f":"IF(B715=\"\",\"\",IF(ISERROR(VLOOKUP(B715,database!$A$6:$BFQ$206,4,FALSE)),\"\",VLOOKUP(B715,database!$A$6:$BFQ$206,4,FALSE)))","v":""},null,null,null,"",null,null,null,{"$f":"IF(B715=\"\",\"\",IF(ISERROR(VLOOKUP(B715,database!$A$6:$BFQ$206,3,FALSE)),\"\",VLOOKUP(B715,database!$A$6:$BFQ$206,3,FALSE)))","v":""},null,null,null,null,null,null,""]
["",null,{"$f":"IF(B716=\"\",\"\",IF(ISERROR(VLOOKUP(B716,database!$A$6:$BFQ$206,4,FALSE)),\"\",VLOOKUP(B716,database!$A$6:$BFQ$206,4,FALSE)))","v":""},null,null,null,"",null,null,null,{"$f":"IF(B716=\"\",\"\",IF(ISERROR(VLOOKUP(B716,database!$A$6:$BFQ$206,3,FALSE)),\"\",VLOOKUP(B716,database!$A$6:$BFQ$206,3,FALSE)))","v":""},null,null,null,null,null,null,""]
["",null,{"$f":"IF(B717=\"\",\"\",IF(ISERROR(VLOOKUP(B717,database!$A$6:$BFQ$206,4,FALSE)),\"\",VLOOKUP(B717,database!$A$6:$BFQ$206,4,FALSE)))","v":""},null,null,null,"",null,null,null,{"$f":"IF(B717=\"\",\"\",IF(ISERROR(VLOOKUP(B717,database!$A$6:$BFQ$206,3,FALSE)),\"\",VLOOKUP(B717,database!$A$6:$BFQ$206,3,FALSE)))","v":""},null,null,null,null,null,null,""]
["",null,{"$f":"IF(B718=\"\",\"\",IF(ISERROR(VLOOKUP(B718,database!$A$6:$BFQ$206,4,FALSE)),\"\",VLOOKUP(B718,database!$A$6:$BFQ$206,4,FALSE)))","v":""},null,null,null,"",null,null,null,{"$f":"IF(B718=\"\",\"\",IF(ISERROR(VLOOKUP(B718,database!$A$6:$BFQ$206,3,FALSE)),\"\",VLOOKUP(B718,database!$A$6:$BFQ$206,3,FALSE)))","v":""},null,null,null,null,null,null,""]
["",null,{"$f":"IF(B719=\"\",\"\",IF(ISERROR(VLOOKUP(B719,database!$A$6:$BFQ$206,4,FALSE)),\"\",VLOOKUP(B719,database!$A$6:$BFQ$206,4,FALSE)))","v":""},null,null,null,"",null,null,null,{"$f":"IF(B719=\"\",\"\",IF(ISERROR(VLOOKUP(B719,database!$A$6:$BFQ$206,3,FALSE)),\"\",VLOOKUP(B719,database!$A$6:$BFQ$206,3,FALSE)))","v":""},null,null,null,null,null,null,""]
["",null,{"$f":"IF(B720=\"\",\"\",IF(ISERROR(VLOOKUP(B720,database!$A$6:$BFQ$206,4,FALSE)),\"\",VLOOKUP(B720,database!$A$6:$BFQ$206,4,FALSE)))","v":""},null,null,null,"",null,null,null,{"$f":"IF(B720=\"\",\"\",IF(ISERROR(VLOOKUP(B720,database!$A$6:$BFQ$206,3,FALSE)),\"\",VLOOKUP(B720,database!$A$6:$BFQ$206,3,FALSE)))","v":""},null,null,null,null,null,null,""]
["",null,{"$f":"IF(B721=\"\",\"\",IF(ISERROR(VLOOKUP(B721,database!$A$6:$BFQ$206,4,FALSE)),\"\",VLOOKUP(B721,database!$A$6:$BFQ$206,4,FALSE)))","v":""},null,null,null,"",null,null,null,{"$f":"IF(B721=\"\",\"\",IF(ISERROR(VLOOKUP(B721,database!$A$6:$BFQ$206,3,FALSE)),\"\",VLOOKUP(B721,database!$A$6:$BFQ$206,3,FALSE)))","v":""},null,null,null,null,null,null,""]
["",null,{"$f":"IF(B722=\"\",\"\",IF(ISERROR(VLOOKUP(B722,database!$A$6:$BFQ$206,4,FALSE)),\"\",VLOOKUP(B722,database!$A$6:$BFQ$206,4,FALSE)))","v":""},null,null,null,"",null,null,null,{"$f":"IF(B722=\"\",\"\",IF(ISERROR(VLOOKUP(B722,database!$A$6:$BFQ$206,3,FALSE)),\"\",VLOOKUP(B722,database!$A$6:$BFQ$206,3,FALSE)))","v":""},null,null,null,null,null,null,""]
["",null,{"$f":"IF(B723=\"\",\"\",IF(ISERROR(VLOOKUP(B723,database!$A$6:$BFQ$206,4,FALSE)),\"\",VLOOKUP(B723,database!$A$6:$BFQ$206,4,FALSE)))","v":""},null,null,null,"",null,null,null,{"$f":"IF(B723=\"\",\"\",IF(ISERROR(VLOOKUP(B723,database!$A$6:$BFQ$206,3,FALSE)),\"\",VLOOKUP(B723,database!$A$6:$BFQ$206,3,FALSE)))","v":""},null,null,null,null,null,null,""]
["",null,{"$f":"IF(B724=\"\",\"\",IF(ISERROR(VLOOKUP(B724,database!$A$6:$BFQ$206,4,FALSE)),\"\",VLOOKUP(B724,database!$A$6:$BFQ$206,4,FALSE)))","v":""},null,null,null,"",null,null,null,{"$f":"IF(B724=\"\",\"\",IF(ISERROR(VLOOKUP(B724,database!$A$6:$BFQ$206,3,FALSE)),\"\",VLOOKUP(B724,database!$A$6:$BFQ$206,3,FALSE)))","v":""},null,null,null,null,null,null,""]
["",null,{"$f":"IF(B725=\"\",\"\",IF(ISERROR(VLOOKUP(B725,database!$A$6:$BFQ$206,4,FALSE)),\"\",VLOOKUP(B725,database!$A$6:$BFQ$206,4,FALSE)))","v":""},null,null,null,"",null,null,null,{"$f":"IF(B725=\"\",\"\",IF(ISERROR(VLOOKUP(B725,database!$A$6:$BFQ$206,3,FALSE)),\"\",VLOOKUP(B725,database!$A$6:$BFQ$206,3,FALSE)))","v":""},null,null,null,null,null,null,""]
["",null,{"$f":"IF(B726=\"\",\"\",IF(ISERROR(VLOOKUP(B726,database!$A$6:$BFQ$206,4,FALSE)),\"\",VLOOKUP(B726,database!$A$6:$BFQ$206,4,FALSE)))","v":""},null,null,null,"",null,null,null,{"$f":"IF(B726=\"\",\"\",IF(ISERROR(VLOOKUP(B726,database!$A$6:$BFQ$206,3,FALSE)),\"\",VLOOKUP(B726,database!$A$6:$BFQ$206,3,FALSE)))","v":""},null,null,null,null,null,null,""]
["",null,{"$f":"IF(B727=\"\",\"\",IF(ISERROR(VLOOKUP(B727,database!$A$6:$BFQ$206,4,FALSE)),\"\",VLOOKUP(B727,database!$A$6:$BFQ$206,4,FALSE)))","v":""},null,null,null,"",null,null,null,{"$f":"IF(B727=\"\",\"\",IF(ISERROR(VLOOKUP(B727,database!$A$6:$BFQ$206,3,FALSE)),\"\",VLOOKUP(B727,database!$A$6:$BFQ$206,3,FALSE)))","v":""},null,null,null,null,null,null,""]
["",null,{"$f":"IF(B728=\"\",\"\",IF(ISERROR(VLOOKUP(B728,database!$A$6:$BFQ$206,4,FALSE)),\"\",VLOOKUP(B728,database!$A$6:$BFQ$206,4,FALSE)))","v":""},null,null,null,"",null,null,null,{"$f":"IF(B728=\"\",\"\",IF(ISERROR(VLOOKUP(B728,database!$A$6:$BFQ$206,3,FALSE)),\"\",VLOOKUP(B728,database!$A$6:$BFQ$206,3,FALSE)))","v":""},null,null,null,null,null,null,""]
["",null,{"$f":"IF(B729=\"\",\"\",IF(ISERROR(VLOOKUP(B729,database!$A$6:$BFQ$206,4,FALSE)),\"\",VLOOKUP(B729,database!$A$6:$BFQ$206,4,FALSE)))","v":""},null,null,null,"",null,null,null,{"$f":"IF(B729=\"\",\"\",IF(ISERROR(VLOOKUP(B729,database!$A$6:$BFQ$206,3,FALSE)),\"\",VLOOKUP(B729,database!$A$6:$BFQ$206,3,FALSE)))","v":""},null,null,null,null,null,null,""]
["",null,{"$f":"IF(B730=\"\",\"\",IF(ISERROR(VLOOKUP(B730,database!$A$6:$BFQ$206,4,FALSE)),\"\",VLOOKUP(B730,database!$A$6:$BFQ$206,4,FALSE)))","v":""},null,null,null,"",null,null,null,{"$f":"IF(B730=\"\",\"\",IF(ISERROR(VLOOKUP(B730,database!$A$6:$BFQ$206,3,FALSE)),\"\",VLOOKUP(B730,database!$A$6:$BFQ$206,3,FALSE)))","v":""},null,null,null,null,null,null,""]
["",null,{"$f":"IF(B731=\"\",\"\",IF(ISERROR(VLOOKUP(B731,database!$A$6:$BFQ$206,4,FALSE)),\"\",VLOOKUP(B731,database!$A$6:$BFQ$206,4,FALSE)))","v":""},null,null,null,"",null,null,null,{"$f":"IF(B731=\"\",\"\",IF(ISERROR(VLOOKUP(B731,database!$A$6:$BFQ$206,3,FALSE)),\"\",VLOOKUP(B731,database!$A$6:$BFQ$206,3,FALSE)))","v":""},null,null,null,null,null,null,""]
["",null,{"$f":"IF(B732=\"\",\"\",IF(ISERROR(VLOOKUP(B732,database!$A$6:$BFQ$206,4,FALSE)),\"\",VLOOKUP(B732,database!$A$6:$BFQ$206,4,FALSE)))","v":""},null,null,null,"",null,null,null,{"$f":"IF(B732=\"\",\"\",IF(ISERROR(VLOOKUP(B732,database!$A$6:$BFQ$206,3,FALSE)),\"\",VLOOKUP(B732,database!$A$6:$BFQ$206,3,FALSE)))","v":""},null,null,null,null,null,null,""]
["",null,{"$f":"IF(B733=\"\",\"\",IF(ISERROR(VLOOKUP(B733,database!$A$6:$BFQ$206,4,FALSE)),\"\",VLOOKUP(B733,database!$A$6:$BFQ$206,4,FALSE)))","v":""},null,null,null,"",null,null,null,{"$f":"IF(B733=\"\",\"\",IF(ISERROR(VLOOKUP(B733,database!$A$6:$BFQ$206,3,FALSE)),\"\",VLOOKUP(B733,database!$A$6:$BFQ$206,3,FALSE)))","v":""},null,null,null,null,null,null,""]
["",null,{"$f":"IF(B734=\"\",\"\",IF(ISERROR(VLOOKUP(B734,database!$A$6:$BFQ$206,4,FALSE)),\"\",VLOOKUP(B734,database!$A$6:$BFQ$206,4,FALSE)))","v":""},null,null,null,"",null,null,null,{"$f":"IF(B734=\"\",\"\",IF(ISERROR(VLOOKUP(B734,database!$A$6:$BFQ$206,3,FALSE)),\"\",VLOOKUP(B734,database!$A$6:$BFQ$206,3,FALSE)))","v":""},null,null,null,null,null,null,""]
["",null,{"$f":"IF(B735=\"\",\"\",IF(ISERROR(VLOOKUP(B735,database!$A$6:$BFQ$206,4,FALSE)),\"\",VLOOKUP(B735,database!$A$6:$BFQ$206,4,FALSE)))","v":""},null,null,null,"",null,null,null,{"$f":"IF(B735=\"\",\"\",IF(ISERROR(VLOOKUP(B735,database!$A$6:$BFQ$206,3,FALSE)),\"\",VLOOKUP(B735,database!$A$6:$BFQ$206,3,FALSE)))","v":""},null,null,null,null,null,null,""]
["",null,{"$f":"IF(B736=\"\",\"\",IF(ISERROR(VLOOKUP(B736,database!$A$6:$BFQ$206,4,FALSE)),\"\",VLOOKUP(B736,database!$A$6:$BFQ$206,4,FALSE)))","v":""},null,null,null,"",null,null,null,{"$f":"IF(B736=\"\",\"\",IF(ISERROR(VLOOKUP(B736,database!$A$6:$BFQ$206,3,FALSE)),\"\",VLOOKUP(B736,database!$A$6:$BFQ$206,3,FALSE)))","v":""},null,null,null,null,null,null,""]
["",null,{"$f":"IF(B737=\"\",\"\",IF(ISERROR(VLOOKUP(B737,database!$A$6:$BFQ$206,4,FALSE)),\"\",VLOOKUP(B737,database!$A$6:$BFQ$206,4,FALSE)))","v":""},null,null,null,"",null,null,null,{"$f":"IF(B737=\"\",\"\",IF(ISERROR(VLOOKUP(B737,database!$A$6:$BFQ$206,3,FALSE)),\"\",VLOOKUP(B737,database!$A$6:$BFQ$206,3,FALSE)))","v":""},null,null,null,null,null,null,""]
["",null,{"$f":"IF(B738=\"\",\"\",IF(ISERROR(VLOOKUP(B738,database!$A$6:$BFQ$206,4,FALSE)),\"\",VLOOKUP(B738,database!$A$6:$BFQ$206,4,FALSE)))","v":""},null,null,null,"",null,null,null,{"$f":"IF(B738=\"\",\"\",IF(ISERROR(VLOOKUP(B738,database!$A$6:$BFQ$206,3,FALSE)),\"\",VLOOKUP(B738,database!$A$6:$BFQ$206,3,FALSE)))","v":""},null,null,null,null,null,null,""]
["",null,{"$f":"IF(B739=\"\",\"\",IF(ISERROR(VLOOKUP(B739,database!$A$6:$BFQ$206,4,FALSE)),\"\",VLOOKUP(B739,database!$A$6:$BFQ$206,4,FALSE)))","v":""},null,null,null,"",null,null,null,{"$f":"IF(B739=\"\",\"\",IF(ISERROR(VLOOKUP(B739,database!$A$6:$BFQ$206,3,FALSE)),\"\",VLOOKUP(B739,database!$A$6:$BFQ$206,3,FALSE)))","v":""},null,null,null,null,null,null,""]
["",null,{"$f":"IF(B740=\"\",\"\",IF(ISERROR(VLOOKUP(B740,database!$A$6:$BFQ$206,4,FALSE)),\"\",VLOOKUP(B740,database!$A$6:$BFQ$206,4,FALSE)))","v":""},null,null,null,"",null,null,null,{"$f":"IF(B740=\"\",\"\",IF(ISERROR(VLOOKUP(B740,database!$A$6:$BFQ$206,3,FALSE)),\"\",VLOOKUP(B740,database!$A$6:$BFQ$206,3,FALSE)))","v":""},null,null,null,null,null,null,""]
["",null,{"$f":"IF(B741=\"\",\"\",IF(ISERROR(VLOOKUP(B741,database!$A$6:$BFQ$206,4,FALSE)),\"\",VLOOKUP(B741,database!$A$6:$BFQ$206,4,FALSE)))","v":""},null,null,null,"",null,null,null,{"$f":"IF(B741=\"\",\"\",IF(ISERROR(VLOOKUP(B741,database!$A$6:$BFQ$206,3,FALSE)),\"\",VLOOKUP(B741,database!$A$6:$BFQ$206,3,FALSE)))","v":""},null,null,null,null,null,null,""]
["",null,{"$f":"IF(B742=\"\",\"\",IF(ISERROR(VLOOKUP(B742,database!$A$6:$BFQ$206,4,FALSE)),\"\",VLOOKUP(B742,database!$A$6:$BFQ$206,4,FALSE)))","v":""},null,null,null,"",null,null,null,{"$f":"IF(B742=\"\",\"\",IF(ISERROR(VLOOKUP(B742,database!$A$6:$BFQ$206,3,FALSE)),\"\",VLOOKUP(B742,database!$A$6:$BFQ$206,3,FALSE)))","v":""},null,null,null,null,null,null,""]
["",null,{"$f":"IF(B743=\"\",\"\",IF(ISERROR(VLOOKUP(B743,database!$A$6:$BFQ$206,4,FALSE)),\"\",VLOOKUP(B743,database!$A$6:$BFQ$206,4,FALSE)))","v":""},null,null,null,"",null,null,null,{"$f":"IF(B743=\"\",\"\",IF(ISERROR(VLOOKUP(B743,database!$A$6:$BFQ$206,3,FALSE)),\"\",VLOOKUP(B743,database!$A$6:$BFQ$206,3,FALSE)))","v":""},null,null,null,null,null,null,""]
["",null,{"$f":"IF(B744=\"\",\"\",IF(ISERROR(VLOOKUP(B744,database!$A$6:$BFQ$206,4,FALSE)),\"\",VLOOKUP(B744,database!$A$6:$BFQ$206,4,FALSE)))","v":""},null,null,null,"",null,null,null,{"$f":"IF(B744=\"\",\"\",IF(ISERROR(VLOOKUP(B744,database!$A$6:$BFQ$206,3,FALSE)),\"\",VLOOKUP(B744,database!$A$6:$BFQ$206,3,FALSE)))","v":""},null,null,null,null,null,null,""]
["",null,{"$f":"IF(B745=\"\",\"\",IF(ISERROR(VLOOKUP(B745,database!$A$6:$BFQ$206,4,FALSE)),\"\",VLOOKUP(B745,database!$A$6:$BFQ$206,4,FALSE)))","v":""},null,null,null,"",null,null,null,{"$f":"IF(B745=\"\",\"\",IF(ISERROR(VLOOKUP(B745,database!$A$6:$BFQ$206,3,FALSE)),\"\",VLOOKUP(B745,database!$A$6:$BFQ$206,3,FALSE)))","v":""},null,null,null,null,null,null,""]
["",null,{"$f":"IF(B746=\"\",\"\",IF(ISERROR(VLOOKUP(B746,database!$A$6:$BFQ$206,4,FALSE)),\"\",VLOOKUP(B746,database!$A$6:$BFQ$206,4,FALSE)))","v":""},null,null,null,"",null,null,null,{"$f":"IF(B746=\"\",\"\",IF(ISERROR(VLOOKUP(B746,database!$A$6:$BFQ$206,3,FALSE)),\"\",VLOOKUP(B746,database!$A$6:$BFQ$206,3,FALSE)))","v":""},null,null,null,null,null,null,""]
["",null,{"$f":"IF(B747=\"\",\"\",IF(ISERROR(VLOOKUP(B747,database!$A$6:$BFQ$206,4,FALSE)),\"\",VLOOKUP(B747,database!$A$6:$BFQ$206,4,FALSE)))","v":""},null,null,null,"",null,null,null,{"$f":"IF(B747=\"\",\"\",IF(ISERROR(VLOOKUP(B747,database!$A$6:$BFQ$206,3,FALSE)),\"\",VLOOKUP(B747,database!$A$6:$BFQ$206,3,FALSE)))","v":""},null,null,null,null,null,null,""]
["",null,{"$f":"IF(B748=\"\",\"\",IF(ISERROR(VLOOKUP(B748,database!$A$6:$BFQ$206,4,FALSE)),\"\",VLOOKUP(B748,database!$A$6:$BFQ$206,4,FALSE)))","v":""},null,null,null,"",null,null,null,{"$f":"IF(B748=\"\",\"\",IF(ISERROR(VLOOKUP(B748,database!$A$6:$BFQ$206,3,FALSE)),\"\",VLOOKUP(B748,database!$A$6:$BFQ$206,3,FALSE)))","v":""},null,null,null,null,null,null,""]
["",null,{"$f":"IF(B749=\"\",\"\",IF(ISERROR(VLOOKUP(B749,database!$A$6:$BFQ$206,4,FALSE)),\"\",VLOOKUP(B749,database!$A$6:$BFQ$206,4,FALSE)))","v":""},null,null,null,"",null,null,null,{"$f":"IF(B749=\"\",\"\",IF(ISERROR(VLOOKUP(B749,database!$A$6:$BFQ$206,3,FALSE)),\"\",VLOOKUP(B749,database!$A$6:$BFQ$206,3,FALSE)))","v":""},null,null,null,null,null,null,""]
["",null,{"$f":"IF(B750=\"\",\"\",IF(ISERROR(VLOOKUP(B750,database!$A$6:$BFQ$206,4,FALSE)),\"\",VLOOKUP(B750,database!$A$6:$BFQ$206,4,FALSE)))","v":""},null,null,null,"",null,null,null,{"$f":"IF(B750=\"\",\"\",IF(ISERROR(VLOOKUP(B750,database!$A$6:$BFQ$206,3,FALSE)),\"\",VLOOKUP(B750,database!$A$6:$BFQ$206,3,FALSE)))","v":""},null,null,null,null,null,null,""]
["",null,{"$f":"IF(B751=\"\",\"\",IF(ISERROR(VLOOKUP(B751,database!$A$6:$BFQ$206,4,FALSE)),\"\",VLOOKUP(B751,database!$A$6:$BFQ$206,4,FALSE)))","v":""},null,null,null,"",null,null,null,{"$f":"IF(B751=\"\",\"\",IF(ISERROR(VLOOKUP(B751,database!$A$6:$BFQ$206,3,FALSE)),\"\",VLOOKUP(B751,database!$A$6:$BFQ$206,3,FALSE)))","v":""},null,null,null,null,null,null,""]
["",null,{"$f":"IF(B752=\"\",\"\",IF(ISERROR(VLOOKUP(B752,database!$A$6:$BFQ$206,4,FALSE)),\"\",VLOOKUP(B752,database!$A$6:$BFQ$206,4,FALSE)))","v":""},null,null,null,"",null,null,null,{"$f":"IF(B752=\"\",\"\",IF(ISERROR(VLOOKUP(B752,database!$A$6:$BFQ$206,3,FALSE)),\"\",VLOOKUP(B752,database!$A$6:$BFQ$206,3,FALSE)))","v":""},null,null,null,null,null,null,""]
["",null,{"$f":"IF(B753=\"\",\"\",IF(ISERROR(VLOOKUP(B753,database!$A$6:$BFQ$206,4,FALSE)),\"\",VLOOKUP(B753,database!$A$6:$BFQ$206,4,FALSE)))","v":""},null,null,null,"",null,null,null,{"$f":"IF(B753=\"\",\"\",IF(ISERROR(VLOOKUP(B753,database!$A$6:$BFQ$206,3,FALSE)),\"\",VLOOKUP(B753,database!$A$6:$BFQ$206,3,FALSE)))","v":""},null,null,null,null,null,null,""]
["",null,{"$f":"IF(B754=\"\",\"\",IF(ISERROR(VLOOKUP(B754,database!$A$6:$BFQ$206,4,FALSE)),\"\",VLOOKUP(B754,database!$A$6:$BFQ$206,4,FALSE)))","v":""},null,null,null,"",null,null,null,{"$f":"IF(B754=\"\",\"\",IF(ISERROR(VLOOKUP(B754,database!$A$6:$BFQ$206,3,FALSE)),\"\",VLOOKUP(B754,database!$A$6:$BFQ$206,3,FALSE)))","v":""},null,null,null,null,null,null,""]
["",null,{"$f":"IF(B755=\"\",\"\",IF(ISERROR(VLOOKUP(B755,database!$A$6:$BFQ$206,4,FALSE)),\"\",VLOOKUP(B755,database!$A$6:$BFQ$206,4,FALSE)))","v":""},null,null,null,"",null,null,null,{"$f":"IF(B755=\"\",\"\",IF(ISERROR(VLOOKUP(B755,database!$A$6:$BFQ$206,3,FALSE)),\"\",VLOOKUP(B755,database!$A$6:$BFQ$206,3,FALSE)))","v":""},null,null,null,null,null,null,""]
["",null,{"$f":"IF(B756=\"\",\"\",IF(ISERROR(VLOOKUP(B756,database!$A$6:$BFQ$206,4,FALSE)),\"\",VLOOKUP(B756,database!$A$6:$BFQ$206,4,FALSE)))","v":""},null,null,null,"",null,null,null,{"$f":"IF(B756=\"\",\"\",IF(ISERROR(VLOOKUP(B756,database!$A$6:$BFQ$206,3,FALSE)),\"\",VLOOKUP(B756,database!$A$6:$BFQ$206,3,FALSE)))","v":""},null,null,null,null,null,null,""]
["",null,{"$f":"IF(B757=\"\",\"\",IF(ISERROR(VLOOKUP(B757,database!$A$6:$BFQ$206,4,FALSE)),\"\",VLOOKUP(B757,database!$A$6:$BFQ$206,4,FALSE)))","v":""},null,null,null,"",null,null,null,{"$f":"IF(B757=\"\",\"\",IF(ISERROR(VLOOKUP(B757,database!$A$6:$BFQ$206,3,FALSE)),\"\",VLOOKUP(B757,database!$A$6:$BFQ$206,3,FALSE)))","v":""},null,null,null,null,null,null,""]
["",null,{"$f":"IF(B758=\"\",\"\",IF(ISERROR(VLOOKUP(B758,database!$A$6:$BFQ$206,4,FALSE)),\"\",VLOOKUP(B758,database!$A$6:$BFQ$206,4,FALSE)))","v":""},null,null,null,"",null,null,null,{"$f":"IF(B758=\"\",\"\",IF(ISERROR(VLOOKUP(B758,database!$A$6:$BFQ$206,3,FALSE)),\"\",VLOOKUP(B758,database!$A$6:$BFQ$206,3,FALSE)))","v":""},null,null,null,null,null,null,""]
["",null,{"$f":"IF(B759=\"\",\"\",IF(ISERROR(VLOOKUP(B759,database!$A$6:$BFQ$206,4,FALSE)),\"\",VLOOKUP(B759,database!$A$6:$BFQ$206,4,FALSE)))","v":""},null,null,null,"",null,null,null,{"$f":"IF(B759=\"\",\"\",IF(ISERROR(VLOOKUP(B759,database!$A$6:$BFQ$206,3,FALSE)),\"\",VLOOKUP(B759,database!$A$6:$BFQ$206,3,FALSE)))","v":""},null,null,null,null,null,null,""]
["",null,{"$f":"IF(B760=\"\",\"\",IF(ISERROR(VLOOKUP(B760,database!$A$6:$BFQ$206,4,FALSE)),\"\",VLOOKUP(B760,database!$A$6:$BFQ$206,4,FALSE)))","v":""},null,null,null,"",null,null,null,{"$f":"IF(B760=\"\",\"\",IF(ISERROR(VLOOKUP(B760,database!$A$6:$BFQ$206,3,FALSE)),\"\",VLOOKUP(B760,database!$A$6:$BFQ$206,3,FALSE)))","v":""},null,null,null,null,null,null,""]
["",null,{"$f":"IF(B761=\"\",\"\",IF(ISERROR(VLOOKUP(B761,database!$A$6:$BFQ$206,4,FALSE)),\"\",VLOOKUP(B761,database!$A$6:$BFQ$206,4,FALSE)))","v":""},null,null,null,"",null,null,null,{"$f":"IF(B761=\"\",\"\",IF(ISERROR(VLOOKUP(B761,database!$A$6:$BFQ$206,3,FALSE)),\"\",VLOOKUP(B761,database!$A$6:$BFQ$206,3,FALSE)))","v":""},null,null,null,null,null,null,""]
["",null,{"$f":"IF(B762=\"\",\"\",IF(ISERROR(VLOOKUP(B762,database!$A$6:$BFQ$206,4,FALSE)),\"\",VLOOKUP(B762,database!$A$6:$BFQ$206,4,FALSE)))","v":""},null,null,null,"",null,null,null,{"$f":"IF(B762=\"\",\"\",IF(ISERROR(VLOOKUP(B762,database!$A$6:$BFQ$206,3,FALSE)),\"\",VLOOKUP(B762,database!$A$6:$BFQ$206,3,FALSE)))","v":""},null,null,null,null,null,null,""]
["",null,{"$f":"IF(B763=\"\",\"\",IF(ISERROR(VLOOKUP(B763,database!$A$6:$BFQ$206,4,FALSE)),\"\",VLOOKUP(B763,database!$A$6:$BFQ$206,4,FALSE)))","v":""},null,null,null,"",null,null,null,{"$f":"IF(B763=\"\",\"\",IF(ISERROR(VLOOKUP(B763,database!$A$6:$BFQ$206,3,FALSE)),\"\",VLOOKUP(B763,database!$A$6:$BFQ$206,3,FALSE)))","v":""},null,null,null,null,null,null,""]
["",null,{"$f":"IF(B764=\"\",\"\",IF(ISERROR(VLOOKUP(B764,database!$A$6:$BFQ$206,4,FALSE)),\"\",VLOOKUP(B764,database!$A$6:$BFQ$206,4,FALSE)))","v":""},null,null,null,"",null,null,null,{"$f":"IF(B764=\"\",\"\",IF(ISERROR(VLOOKUP(B764,database!$A$6:$BFQ$206,3,FALSE)),\"\",VLOOKUP(B764,database!$A$6:$BFQ$206,3,FALSE)))","v":""},null,null,null,null,null,null,""]
["",null,{"$f":"IF(B765=\"\",\"\",IF(ISERROR(VLOOKUP(B765,database!$A$6:$BFQ$206,4,FALSE)),\"\",VLOOKUP(B765,database!$A$6:$BFQ$206,4,FALSE)))","v":""},null,null,null,"",null,null,null,{"$f":"IF(B765=\"\",\"\",IF(ISERROR(VLOOKUP(B765,database!$A$6:$BFQ$206,3,FALSE)),\"\",VLOOKUP(B765,database!$A$6:$BFQ$206,3,FALSE)))","v":""},null,null,null,null,null,null,""]
["",null,{"$f":"IF(B766=\"\",\"\",IF(ISERROR(VLOOKUP(B766,database!$A$6:$BFQ$206,4,FALSE)),\"\",VLOOKUP(B766,database!$A$6:$BFQ$206,4,FALSE)))","v":""},null,null,null,"",null,null,null,{"$f":"IF(B766=\"\",\"\",IF(ISERROR(VLOOKUP(B766,database!$A$6:$BFQ$206,3,FALSE)),\"\",VLOOKUP(B766,database!$A$6:$BFQ$206,3,FALSE)))","v":""},null,null,null,null,null,null,""]
["",null,{"$f":"IF(B767=\"\",\"\",IF(ISERROR(VLOOKUP(B767,database!$A$6:$BFQ$206,4,FALSE)),\"\",VLOOKUP(B767,database!$A$6:$BFQ$206,4,FALSE)))","v":""},null,null,null,"",null,null,null,{"$f":"IF(B767=\"\",\"\",IF(ISERROR(VLOOKUP(B767,database!$A$6:$BFQ$206,3,FALSE)),\"\",VLOOKUP(B767,database!$A$6:$BFQ$206,3,FALSE)))","v":""},null,null,null,null,null,null,""]
["",null,{"$f":"IF(B768=\"\",\"\",IF(ISERROR(VLOOKUP(B768,database!$A$6:$BFQ$206,4,FALSE)),\"\",VLOOKUP(B768,database!$A$6:$BFQ$206,4,FALSE)))","v":""},null,null,null,"",null,null,null,{"$f":"IF(B768=\"\",\"\",IF(ISERROR(VLOOKUP(B768,database!$A$6:$BFQ$206,3,FALSE)),\"\",VLOOKUP(B768,database!$A$6:$BFQ$206,3,FALSE)))","v":""},null,null,null,null,null,null,""]
[{"$f":"IF(B769=\"\",\"\",ROW(A766))","v":""},null,{"$f":"IF(B769=\"\",\"\",IF(ISERROR(VLOOKUP(B769,database!$A$6:$BFQ$206,4,FALSE)),\"\",VLOOKUP(B769,database!$A$6:$BFQ$206,4,FALSE)))","v":""},null,null,null,{"$f":"IF(B769=\"\",\"\",IF(C769=\"\",0,1))","v":""},null,null,null,{"$f":"IF(B769=\"\",\"\",IF(ISERROR(VLOOKUP(B769,database!$A$6:$BFQ$206,3,FALSE)),\"\",VLOOKUP(B769,database!$A$6:$BFQ$206,3,FALSE)))","v":""},null,null,null,null,null,null,{"$f":"LEFT(C769,2)","v":""}]
["",null,{"$f":"IF(B770=\"\",\"\",IF(ISERROR(VLOOKUP(B770,database!$A$6:$BFQ$206,4,FALSE)),\"\",VLOOKUP(B770,database!$A$6:$BFQ$206,4,FALSE)))","v":""},null,null,null,"",null,null,null,{"$f":"IF(B770=\"\",\"\",IF(ISERROR(VLOOKUP(B770,database!$A$6:$BFQ$206,3,FALSE)),\"\",VLOOKUP(B770,database!$A$6:$BFQ$206,3,FALSE)))","v":""},null,null,null,null,null,null,""]
["",null,{"$f":"IF(B771=\"\",\"\",IF(ISERROR(VLOOKUP(B771,database!$A$6:$BFQ$206,4,FALSE)),\"\",VLOOKUP(B771,database!$A$6:$BFQ$206,4,FALSE)))","v":""},null,null,null,"",null,null,null,{"$f":"IF(B771=\"\",\"\",IF(ISERROR(VLOOKUP(B771,database!$A$6:$BFQ$206,3,FALSE)),\"\",VLOOKUP(B771,database!$A$6:$BFQ$206,3,FALSE)))","v":""},null,null,null,null,null,null,""]
["",null,{"$f":"IF(B772=\"\",\"\",IF(ISERROR(VLOOKUP(B772,database!$A$6:$BFQ$206,4,FALSE)),\"\",VLOOKUP(B772,database!$A$6:$BFQ$206,4,FALSE)))","v":""},null,null,null,"",null,null,null,{"$f":"IF(B772=\"\",\"\",IF(ISERROR(VLOOKUP(B772,database!$A$6:$BFQ$206,3,FALSE)),\"\",VLOOKUP(B772,database!$A$6:$BFQ$206,3,FALSE)))","v":""},null,null,null,null,null,null,""]
["",null,{"$f":"IF(B773=\"\",\"\",IF(ISERROR(VLOOKUP(B773,database!$A$6:$BFQ$206,4,FALSE)),\"\",VLOOKUP(B773,database!$A$6:$BFQ$206,4,FALSE)))","v":""},null,null,null,"",null,null,null,{"$f":"IF(B773=\"\",\"\",IF(ISERROR(VLOOKUP(B773,database!$A$6:$BFQ$206,3,FALSE)),\"\",VLOOKUP(B773,database!$A$6:$BFQ$206,3,FALSE)))","v":""},null,null,null,null,null,null,""]
["",null,{"$f":"IF(B774=\"\",\"\",IF(ISERROR(VLOOKUP(B774,database!$A$6:$BFQ$206,4,FALSE)),\"\",VLOOKUP(B774,database!$A$6:$BFQ$206,4,FALSE)))","v":""},null,null,null,"",null,null,null,{"$f":"IF(B774=\"\",\"\",IF(ISERROR(VLOOKUP(B774,database!$A$6:$BFQ$206,3,FALSE)),\"\",VLOOKUP(B774,database!$A$6:$BFQ$206,3,FALSE)))","v":""},null,null,null,null,null,null,""]
["",null,{"$f":"IF(B775=\"\",\"\",IF(ISERROR(VLOOKUP(B775,database!$A$6:$BFQ$206,4,FALSE)),\"\",VLOOKUP(B775,database!$A$6:$BFQ$206,4,FALSE)))","v":""},null,null,null,"",null,null,null,{"$f":"IF(B775=\"\",\"\",IF(ISERROR(VLOOKUP(B775,database!$A$6:$BFQ$206,3,FALSE)),\"\",VLOOKUP(B775,database!$A$6:$BFQ$206,3,FALSE)))","v":""},null,null,null,null,null,null,""]
["",null,{"$f":"IF(B776=\"\",\"\",IF(ISERROR(VLOOKUP(B776,database!$A$6:$BFQ$206,4,FALSE)),\"\",VLOOKUP(B776,database!$A$6:$BFQ$206,4,FALSE)))","v":""},null,null,null,"",null,null,null,{"$f":"IF(B776=\"\",\"\",IF(ISERROR(VLOOKUP(B776,database!$A$6:$BFQ$206,3,FALSE)),\"\",VLOOKUP(B776,database!$A$6:$BFQ$206,3,FALSE)))","v":""},null,null,null,null,null,null,""]
["",null,{"$f":"IF(B777=\"\",\"\",IF(ISERROR(VLOOKUP(B777,database!$A$6:$BFQ$206,4,FALSE)),\"\",VLOOKUP(B777,database!$A$6:$BFQ$206,4,FALSE)))","v":""},null,null,null,"",null,null,null,{"$f":"IF(B777=\"\",\"\",IF(ISERROR(VLOOKUP(B777,database!$A$6:$BFQ$206,3,FALSE)),\"\",VLOOKUP(B777,database!$A$6:$BFQ$206,3,FALSE)))","v":""},null,null,null,null,null,null,""]
["",null,{"$f":"IF(B778=\"\",\"\",IF(ISERROR(VLOOKUP(B778,database!$A$6:$BFQ$206,4,FALSE)),\"\",VLOOKUP(B778,database!$A$6:$BFQ$206,4,FALSE)))","v":""},null,null,null,"",null,null,null,{"$f":"IF(B778=\"\",\"\",IF(ISERROR(VLOOKUP(B778,database!$A$6:$BFQ$206,3,FALSE)),\"\",VLOOKUP(B778,database!$A$6:$BFQ$206,3,FALSE)))","v":""},null,null,null,null,null,null,""]
["",null,{"$f":"IF(B779=\"\",\"\",IF(ISERROR(VLOOKUP(B779,database!$A$6:$BFQ$206,4,FALSE)),\"\",VLOOKUP(B779,database!$A$6:$BFQ$206,4,FALSE)))","v":""},null,null,null,"",null,null,null,{"$f":"IF(B779=\"\",\"\",IF(ISERROR(VLOOKUP(B779,database!$A$6:$BFQ$206,3,FALSE)),\"\",VLOOKUP(B779,database!$A$6:$BFQ$206,3,FALSE)))","v":""},null,null,null,null,null,null,""]
["",null,{"$f":"IF(B780=\"\",\"\",IF(ISERROR(VLOOKUP(B780,database!$A$6:$BFQ$206,4,FALSE)),\"\",VLOOKUP(B780,database!$A$6:$BFQ$206,4,FALSE)))","v":""},null,null,null,"",null,null,null,{"$f":"IF(B780=\"\",\"\",IF(ISERROR(VLOOKUP(B780,database!$A$6:$BFQ$206,3,FALSE)),\"\",VLOOKUP(B780,database!$A$6:$BFQ$206,3,FALSE)))","v":""},null,null,null,null,null,null,""]
["",null,{"$f":"IF(B781=\"\",\"\",IF(ISERROR(VLOOKUP(B781,database!$A$6:$BFQ$206,4,FALSE)),\"\",VLOOKUP(B781,database!$A$6:$BFQ$206,4,FALSE)))","v":""},null,null,null,"",null,null,null,{"$f":"IF(B781=\"\",\"\",IF(ISERROR(VLOOKUP(B781,database!$A$6:$BFQ$206,3,FALSE)),\"\",VLOOKUP(B781,database!$A$6:$BFQ$206,3,FALSE)))","v":""},null,null,null,null,null,null,""]
["",null,{"$f":"IF(B782=\"\",\"\",IF(ISERROR(VLOOKUP(B782,database!$A$6:$BFQ$206,4,FALSE)),\"\",VLOOKUP(B782,database!$A$6:$BFQ$206,4,FALSE)))","v":""},null,null,null,"",null,null,null,{"$f":"IF(B782=\"\",\"\",IF(ISERROR(VLOOKUP(B782,database!$A$6:$BFQ$206,3,FALSE)),\"\",VLOOKUP(B782,database!$A$6:$BFQ$206,3,FALSE)))","v":""},null,null,null,null,null,null,""]
["",null,{"$f":"IF(B783=\"\",\"\",IF(ISERROR(VLOOKUP(B783,database!$A$6:$BFQ$206,4,FALSE)),\"\",VLOOKUP(B783,database!$A$6:$BFQ$206,4,FALSE)))","v":""},null,null,null,"",null,null,null,{"$f":"IF(B783=\"\",\"\",IF(ISERROR(VLOOKUP(B783,database!$A$6:$BFQ$206,3,FALSE)),\"\",VLOOKUP(B783,database!$A$6:$BFQ$206,3,FALSE)))","v":""},null,null,null,null,null,null,""]
["",null,{"$f":"IF(B784=\"\",\"\",IF(ISERROR(VLOOKUP(B784,database!$A$6:$BFQ$206,4,FALSE)),\"\",VLOOKUP(B784,database!$A$6:$BFQ$206,4,FALSE)))","v":""},null,null,null,"",null,null,null,{"$f":"IF(B784=\"\",\"\",IF(ISERROR(VLOOKUP(B784,database!$A$6:$BFQ$206,3,FALSE)),\"\",VLOOKUP(B784,database!$A$6:$BFQ$206,3,FALSE)))","v":""},null,null,null,null,null,null,""]
["",null,{"$f":"IF(B785=\"\",\"\",IF(ISERROR(VLOOKUP(B785,database!$A$6:$BFQ$206,4,FALSE)),\"\",VLOOKUP(B785,database!$A$6:$BFQ$206,4,FALSE)))","v":""},null,null,null,"",null,null,null,{"$f":"IF(B785=\"\",\"\",IF(ISERROR(VLOOKUP(B785,database!$A$6:$BFQ$206,3,FALSE)),\"\",VLOOKUP(B785,database!$A$6:$BFQ$206,3,FALSE)))","v":""},null,null,null,null,null,null,""]
["",null,{"$f":"IF(B786=\"\",\"\",IF(ISERROR(VLOOKUP(B786,database!$A$6:$BFQ$206,4,FALSE)),\"\",VLOOKUP(B786,database!$A$6:$BFQ$206,4,FALSE)))","v":""},null,null,null,"",null,null,null,{"$f":"IF(B786=\"\",\"\",IF(ISERROR(VLOOKUP(B786,database!$A$6:$BFQ$206,3,FALSE)),\"\",VLOOKUP(B786,database!$A$6:$BFQ$206,3,FALSE)))","v":""},null,null,null,null,null,null,""]
["",null,{"$f":"IF(B787=\"\",\"\",IF(ISERROR(VLOOKUP(B787,database!$A$6:$BFQ$206,4,FALSE)),\"\",VLOOKUP(B787,database!$A$6:$BFQ$206,4,FALSE)))","v":""},null,null,null,"",null,null,null,{"$f":"IF(B787=\"\",\"\",IF(ISERROR(VLOOKUP(B787,database!$A$6:$BFQ$206,3,FALSE)),\"\",VLOOKUP(B787,database!$A$6:$BFQ$206,3,FALSE)))","v":""},null,null,null,null,null,null,""]
["",null,{"$f":"IF(B788=\"\",\"\",IF(ISERROR(VLOOKUP(B788,database!$A$6:$BFQ$206,4,FALSE)),\"\",VLOOKUP(B788,database!$A$6:$BFQ$206,4,FALSE)))","v":""},null,null,null,"",null,null,null,{"$f":"IF(B788=\"\",\"\",IF(ISERROR(VLOOKUP(B788,database!$A$6:$BFQ$206,3,FALSE)),\"\",VLOOKUP(B788,database!$A$6:$BFQ$206,3,FALSE)))","v":""},null,null,null,null,null,null,""]
["",null,{"$f":"IF(B789=\"\",\"\",IF(ISERROR(VLOOKUP(B789,database!$A$6:$BFQ$206,4,FALSE)),\"\",VLOOKUP(B789,database!$A$6:$BFQ$206,4,FALSE)))","v":""},null,null,null,"",null,null,null,{"$f":"IF(B789=\"\",\"\",IF(ISERROR(VLOOKUP(B789,database!$A$6:$BFQ$206,3,FALSE)),\"\",VLOOKUP(B789,database!$A$6:$BFQ$206,3,FALSE)))","v":""},null,null,null,null,null,null,""]
["",null,{"$f":"IF(B790=\"\",\"\",IF(ISERROR(VLOOKUP(B790,database!$A$6:$BFQ$206,4,FALSE)),\"\",VLOOKUP(B790,database!$A$6:$BFQ$206,4,FALSE)))","v":""},null,null,null,"",null,null,null,{"$f":"IF(B790=\"\",\"\",IF(ISERROR(VLOOKUP(B790,database!$A$6:$BFQ$206,3,FALSE)),\"\",VLOOKUP(B790,database!$A$6:$BFQ$206,3,FALSE)))","v":""},null,null,null,null,null,null,""]
["",null,{"$f":"IF(B791=\"\",\"\",IF(ISERROR(VLOOKUP(B791,database!$A$6:$BFQ$206,4,FALSE)),\"\",VLOOKUP(B791,database!$A$6:$BFQ$206,4,FALSE)))","v":""},null,null,null,"",null,null,null,{"$f":"IF(B791=\"\",\"\",IF(ISERROR(VLOOKUP(B791,database!$A$6:$BFQ$206,3,FALSE)),\"\",VLOOKUP(B791,database!$A$6:$BFQ$206,3,FALSE)))","v":""},null,null,null,null,null,null,""]
["",null,{"$f":"IF(B792=\"\",\"\",IF(ISERROR(VLOOKUP(B792,database!$A$6:$BFQ$206,4,FALSE)),\"\",VLOOKUP(B792,database!$A$6:$BFQ$206,4,FALSE)))","v":""},null,null,null,"",null,null,null,{"$f":"IF(B792=\"\",\"\",IF(ISERROR(VLOOKUP(B792,database!$A$6:$BFQ$206,3,FALSE)),\"\",VLOOKUP(B792,database!$A$6:$BFQ$206,3,FALSE)))","v":""},null,null,null,null,null,null,""]
["",null,{"$f":"IF(B793=\"\",\"\",IF(ISERROR(VLOOKUP(B793,database!$A$6:$BFQ$206,4,FALSE)),\"\",VLOOKUP(B793,database!$A$6:$BFQ$206,4,FALSE)))","v":""},null,null,null,"",null,null,null,{"$f":"IF(B793=\"\",\"\",IF(ISERROR(VLOOKUP(B793,database!$A$6:$BFQ$206,3,FALSE)),\"\",VLOOKUP(B793,database!$A$6:$BFQ$206,3,FALSE)))","v":""},null,null,null,null,null,null,""]
["",null,{"$f":"IF(B794=\"\",\"\",IF(ISERROR(VLOOKUP(B794,database!$A$6:$BFQ$206,4,FALSE)),\"\",VLOOKUP(B794,database!$A$6:$BFQ$206,4,FALSE)))","v":""},null,null,null,"",null,null,null,{"$f":"IF(B794=\"\",\"\",IF(ISERROR(VLOOKUP(B794,database!$A$6:$BFQ$206,3,FALSE)),\"\",VLOOKUP(B794,database!$A$6:$BFQ$206,3,FALSE)))","v":""},null,null,null,null,null,null,""]
["",null,{"$f":"IF(B795=\"\",\"\",IF(ISERROR(VLOOKUP(B795,database!$A$6:$BFQ$206,4,FALSE)),\"\",VLOOKUP(B795,database!$A$6:$BFQ$206,4,FALSE)))","v":""},null,null,null,"",null,null,null,{"$f":"IF(B795=\"\",\"\",IF(ISERROR(VLOOKUP(B795,database!$A$6:$BFQ$206,3,FALSE)),\"\",VLOOKUP(B795,database!$A$6:$BFQ$206,3,FALSE)))","v":""},null,null,null,null,null,null,""]
["",null,{"$f":"IF(B796=\"\",\"\",IF(ISERROR(VLOOKUP(B796,database!$A$6:$BFQ$206,4,FALSE)),\"\",VLOOKUP(B796,database!$A$6:$BFQ$206,4,FALSE)))","v":""},null,null,null,"",null,null,null,{"$f":"IF(B796=\"\",\"\",IF(ISERROR(VLOOKUP(B796,database!$A$6:$BFQ$206,3,FALSE)),\"\",VLOOKUP(B796,database!$A$6:$BFQ$206,3,FALSE)))","v":""},null,null,null,null,null,null,""]
["",null,{"$f":"IF(B797=\"\",\"\",IF(ISERROR(VLOOKUP(B797,database!$A$6:$BFQ$206,4,FALSE)),\"\",VLOOKUP(B797,database!$A$6:$BFQ$206,4,FALSE)))","v":""},null,null,null,"",null,null,null,{"$f":"IF(B797=\"\",\"\",IF(ISERROR(VLOOKUP(B797,database!$A$6:$BFQ$206,3,FALSE)),\"\",VLOOKUP(B797,database!$A$6:$BFQ$206,3,FALSE)))","v":""},null,null,null,null,null,null,""]
["",null,{"$f":"IF(B798=\"\",\"\",IF(ISERROR(VLOOKUP(B798,database!$A$6:$BFQ$206,4,FALSE)),\"\",VLOOKUP(B798,database!$A$6:$BFQ$206,4,FALSE)))","v":""},null,null,null,"",null,null,null,{"$f":"IF(B798=\"\",\"\",IF(ISERROR(VLOOKUP(B798,database!$A$6:$BFQ$206,3,FALSE)),\"\",VLOOKUP(B798,database!$A$6:$BFQ$206,3,FALSE)))","v":""},null,null,null,null,null,null,""]
["",null,{"$f":"IF(B799=\"\",\"\",IF(ISERROR(VLOOKUP(B799,database!$A$6:$BFQ$206,4,FALSE)),\"\",VLOOKUP(B799,database!$A$6:$BFQ$206,4,FALSE)))","v":""},null,null,null,"",null,null,null,{"$f":"IF(B799=\"\",\"\",IF(ISERROR(VLOOKUP(B799,database!$A$6:$BFQ$206,3,FALSE)),\"\",VLOOKUP(B799,database!$A$6:$BFQ$206,3,FALSE)))","v":""},null,null,null,null,null,null,""]
["",null,{"$f":"IF(B800=\"\",\"\",IF(ISERROR(VLOOKUP(B800,database!$A$6:$BFQ$206,4,FALSE)),\"\",VLOOKUP(B800,database!$A$6:$BFQ$206,4,FALSE)))","v":""},null,null,null,"",null,null,null,{"$f":"IF(B800=\"\",\"\",IF(ISERROR(VLOOKUP(B800,database!$A$6:$BFQ$206,3,FALSE)),\"\",VLOOKUP(B800,database!$A$6:$BFQ$206,3,FALSE)))","v":""},null,null,null,null,null,null,""]
["",null,{"$f":"IF(B801=\"\",\"\",IF(ISERROR(VLOOKUP(B801,database!$A$6:$BFQ$206,4,FALSE)),\"\",VLOOKUP(B801,database!$A$6:$BFQ$206,4,FALSE)))","v":""},null,null,null,"",null,null,null,{"$f":"IF(B801=\"\",\"\",IF(ISERROR(VLOOKUP(B801,database!$A$6:$BFQ$206,3,FALSE)),\"\",VLOOKUP(B801,database!$A$6:$BFQ$206,3,FALSE)))","v":""},null,null,null,null,null,null,""]
["",null,{"$f":"IF(B802=\"\",\"\",IF(ISERROR(VLOOKUP(B802,database!$A$6:$BFQ$206,4,FALSE)),\"\",VLOOKUP(B802,database!$A$6:$BFQ$206,4,FALSE)))","v":""},null,null,null,"",null,null,null,{"$f":"IF(B802=\"\",\"\",IF(ISERROR(VLOOKUP(B802,database!$A$6:$BFQ$206,3,FALSE)),\"\",VLOOKUP(B802,database!$A$6:$BFQ$206,3,FALSE)))","v":""},null,null,null,null,null,null,""]
["",null,{"$f":"IF(B803=\"\",\"\",IF(ISERROR(VLOOKUP(B803,database!$A$6:$BFQ$206,4,FALSE)),\"\",VLOOKUP(B803,database!$A$6:$BFQ$206,4,FALSE)))","v":""},null,null,null,"",null,null,null,{"$f":"IF(B803=\"\",\"\",IF(ISERROR(VLOOKUP(B803,database!$A$6:$BFQ$206,3,FALSE)),\"\",VLOOKUP(B803,database!$A$6:$BFQ$206,3,FALSE)))","v":""},null,null,null,null,null,null,""]
["",null,{"$f":"IF(B804=\"\",\"\",IF(ISERROR(VLOOKUP(B804,database!$A$6:$BFQ$206,4,FALSE)),\"\",VLOOKUP(B804,database!$A$6:$BFQ$206,4,FALSE)))","v":""},null,null,null,"",null,null,null,{"$f":"IF(B804=\"\",\"\",IF(ISERROR(VLOOKUP(B804,database!$A$6:$BFQ$206,3,FALSE)),\"\",VLOOKUP(B804,database!$A$6:$BFQ$206,3,FALSE)))","v":""},null,null,null,null,null,null,""]
["",null,{"$f":"IF(B805=\"\",\"\",IF(ISERROR(VLOOKUP(B805,database!$A$6:$BFQ$206,4,FALSE)),\"\",VLOOKUP(B805,database!$A$6:$BFQ$206,4,FALSE)))","v":""},null,null,null,"",null,null,null,{"$f":"IF(B805=\"\",\"\",IF(ISERROR(VLOOKUP(B805,database!$A$6:$BFQ$206,3,FALSE)),\"\",VLOOKUP(B805,database!$A$6:$BFQ$206,3,FALSE)))","v":""},null,null,null,null,null,null,""]
["",null,{"$f":"IF(B806=\"\",\"\",IF(ISERROR(VLOOKUP(B806,database!$A$6:$BFQ$206,4,FALSE)),\"\",VLOOKUP(B806,database!$A$6:$BFQ$206,4,FALSE)))","v":""},null,null,null,"",null,null,null,{"$f":"IF(B806=\"\",\"\",IF(ISERROR(VLOOKUP(B806,database!$A$6:$BFQ$206,3,FALSE)),\"\",VLOOKUP(B806,database!$A$6:$BFQ$206,3,FALSE)))","v":""},null,null,null,null,null,null,""]
["",null,{"$f":"IF(B807=\"\",\"\",IF(ISERROR(VLOOKUP(B807,database!$A$6:$BFQ$206,4,FALSE)),\"\",VLOOKUP(B807,database!$A$6:$BFQ$206,4,FALSE)))","v":""},null,null,null,"",null,null,null,{"$f":"IF(B807=\"\",\"\",IF(ISERROR(VLOOKUP(B807,database!$A$6:$BFQ$206,3,FALSE)),\"\",VLOOKUP(B807,database!$A$6:$BFQ$206,3,FALSE)))","v":""},null,null,null,null,null,null,""]
["",null,{"$f":"IF(B808=\"\",\"\",IF(ISERROR(VLOOKUP(B808,database!$A$6:$BFQ$206,4,FALSE)),\"\",VLOOKUP(B808,database!$A$6:$BFQ$206,4,FALSE)))","v":""},null,null,null,"",null,null,null,{"$f":"IF(B808=\"\",\"\",IF(ISERROR(VLOOKUP(B808,database!$A$6:$BFQ$206,3,FALSE)),\"\",VLOOKUP(B808,database!$A$6:$BFQ$206,3,FALSE)))","v":""},null,null,null,null,null,null,""]
["",null,{"$f":"IF(B809=\"\",\"\",IF(ISERROR(VLOOKUP(B809,database!$A$6:$BFQ$206,4,FALSE)),\"\",VLOOKUP(B809,database!$A$6:$BFQ$206,4,FALSE)))","v":""},null,null,null,"",null,null,null,{"$f":"IF(B809=\"\",\"\",IF(ISERROR(VLOOKUP(B809,database!$A$6:$BFQ$206,3,FALSE)),\"\",VLOOKUP(B809,database!$A$6:$BFQ$206,3,FALSE)))","v":""},null,null,null,null,null,null,""]
["",null,{"$f":"IF(B810=\"\",\"\",IF(ISERROR(VLOOKUP(B810,database!$A$6:$BFQ$206,4,FALSE)),\"\",VLOOKUP(B810,database!$A$6:$BFQ$206,4,FALSE)))","v":""},null,null,null,"",null,null,null,{"$f":"IF(B810=\"\",\"\",IF(ISERROR(VLOOKUP(B810,database!$A$6:$BFQ$206,3,FALSE)),\"\",VLOOKUP(B810,database!$A$6:$BFQ$206,3,FALSE)))","v":""},null,null,null,null,null,null,""]
["",null,{"$f":"IF(B811=\"\",\"\",IF(ISERROR(VLOOKUP(B811,database!$A$6:$BFQ$206,4,FALSE)),\"\",VLOOKUP(B811,database!$A$6:$BFQ$206,4,FALSE)))","v":""},null,null,null,"",null,null,null,{"$f":"IF(B811=\"\",\"\",IF(ISERROR(VLOOKUP(B811,database!$A$6:$BFQ$206,3,FALSE)),\"\",VLOOKUP(B811,database!$A$6:$BFQ$206,3,FALSE)))","v":""},null,null,null,null,null,null,""]
["",null,{"$f":"IF(B812=\"\",\"\",IF(ISERROR(VLOOKUP(B812,database!$A$6:$BFQ$206,4,FALSE)),\"\",VLOOKUP(B812,database!$A$6:$BFQ$206,4,FALSE)))","v":""},null,null,null,"",null,null,null,{"$f":"IF(B812=\"\",\"\",IF(ISERROR(VLOOKUP(B812,database!$A$6:$BFQ$206,3,FALSE)),\"\",VLOOKUP(B812,database!$A$6:$BFQ$206,3,FALSE)))","v":""},null,null,null,null,null,null,""]
["",null,{"$f":"IF(B813=\"\",\"\",IF(ISERROR(VLOOKUP(B813,database!$A$6:$BFQ$206,4,FALSE)),\"\",VLOOKUP(B813,database!$A$6:$BFQ$206,4,FALSE)))","v":""},null,null,null,"",null,null,null,{"$f":"IF(B813=\"\",\"\",IF(ISERROR(VLOOKUP(B813,database!$A$6:$BFQ$206,3,FALSE)),\"\",VLOOKUP(B813,database!$A$6:$BFQ$206,3,FALSE)))","v":""},null,null,null,null,null,null,""]
["",null,{"$f":"IF(B814=\"\",\"\",IF(ISERROR(VLOOKUP(B814,database!$A$6:$BFQ$206,4,FALSE)),\"\",VLOOKUP(B814,database!$A$6:$BFQ$206,4,FALSE)))","v":""},null,null,null,"",null,null,null,{"$f":"IF(B814=\"\",\"\",IF(ISERROR(VLOOKUP(B814,database!$A$6:$BFQ$206,3,FALSE)),\"\",VLOOKUP(B814,database!$A$6:$BFQ$206,3,FALSE)))","v":""},null,null,null,null,null,null,""]
["",null,{"$f":"IF(B815=\"\",\"\",IF(ISERROR(VLOOKUP(B815,database!$A$6:$BFQ$206,4,FALSE)),\"\",VLOOKUP(B815,database!$A$6:$BFQ$206,4,FALSE)))","v":""},null,null,null,"",null,null,null,{"$f":"IF(B815=\"\",\"\",IF(ISERROR(VLOOKUP(B815,database!$A$6:$BFQ$206,3,FALSE)),\"\",VLOOKUP(B815,database!$A$6:$BFQ$206,3,FALSE)))","v":""},null,null,null,null,null,null,""]
["",null,{"$f":"IF(B816=\"\",\"\",IF(ISERROR(VLOOKUP(B816,database!$A$6:$BFQ$206,4,FALSE)),\"\",VLOOKUP(B816,database!$A$6:$BFQ$206,4,FALSE)))","v":""},null,null,null,"",null,null,null,{"$f":"IF(B816=\"\",\"\",IF(ISERROR(VLOOKUP(B816,database!$A$6:$BFQ$206,3,FALSE)),\"\",VLOOKUP(B816,database!$A$6:$BFQ$206,3,FALSE)))","v":""},null,null,null,null,null,null,""]
["",null,{"$f":"IF(B817=\"\",\"\",IF(ISERROR(VLOOKUP(B817,database!$A$6:$BFQ$206,4,FALSE)),\"\",VLOOKUP(B817,database!$A$6:$BFQ$206,4,FALSE)))","v":""},null,null,null,"",null,null,null,{"$f":"IF(B817=\"\",\"\",IF(ISERROR(VLOOKUP(B817,database!$A$6:$BFQ$206,3,FALSE)),\"\",VLOOKUP(B817,database!$A$6:$BFQ$206,3,FALSE)))","v":""},null,null,null,null,null,null,""]
["",null,{"$f":"IF(B818=\"\",\"\",IF(ISERROR(VLOOKUP(B818,database!$A$6:$BFQ$206,4,FALSE)),\"\",VLOOKUP(B818,database!$A$6:$BFQ$206,4,FALSE)))","v":""},null,null,null,"",null,null,null,{"$f":"IF(B818=\"\",\"\",IF(ISERROR(VLOOKUP(B818,database!$A$6:$BFQ$206,3,FALSE)),\"\",VLOOKUP(B818,database!$A$6:$BFQ$206,3,FALSE)))","v":""},null,null,null,null,null,null,""]
["",null,{"$f":"IF(B819=\"\",\"\",IF(ISERROR(VLOOKUP(B819,database!$A$6:$BFQ$206,4,FALSE)),\"\",VLOOKUP(B819,database!$A$6:$BFQ$206,4,FALSE)))","v":""},null,null,null,"",null,null,null,{"$f":"IF(B819=\"\",\"\",IF(ISERROR(VLOOKUP(B819,database!$A$6:$BFQ$206,3,FALSE)),\"\",VLOOKUP(B819,database!$A$6:$BFQ$206,3,FALSE)))","v":""},null,null,null,null,null,null,""]
["",null,{"$f":"IF(B820=\"\",\"\",IF(ISERROR(VLOOKUP(B820,database!$A$6:$BFQ$206,4,FALSE)),\"\",VLOOKUP(B820,database!$A$6:$BFQ$206,4,FALSE)))","v":""},null,null,null,"",null,null,null,{"$f":"IF(B820=\"\",\"\",IF(ISERROR(VLOOKUP(B820,database!$A$6:$BFQ$206,3,FALSE)),\"\",VLOOKUP(B820,database!$A$6:$BFQ$206,3,FALSE)))","v":""},null,null,null,null,null,null,""]
["",null,{"$f":"IF(B821=\"\",\"\",IF(ISERROR(VLOOKUP(B821,database!$A$6:$BFQ$206,4,FALSE)),\"\",VLOOKUP(B821,database!$A$6:$BFQ$206,4,FALSE)))","v":""},null,null,null,"",null,null,null,{"$f":"IF(B821=\"\",\"\",IF(ISERROR(VLOOKUP(B821,database!$A$6:$BFQ$206,3,FALSE)),\"\",VLOOKUP(B821,database!$A$6:$BFQ$206,3,FALSE)))","v":""},null,null,null,null,null,null,""]
["",null,{"$f":"IF(B822=\"\",\"\",IF(ISERROR(VLOOKUP(B822,database!$A$6:$BFQ$206,4,FALSE)),\"\",VLOOKUP(B822,database!$A$6:$BFQ$206,4,FALSE)))","v":""},null,null,null,"",null,null,null,{"$f":"IF(B822=\"\",\"\",IF(ISERROR(VLOOKUP(B822,database!$A$6:$BFQ$206,3,FALSE)),\"\",VLOOKUP(B822,database!$A$6:$BFQ$206,3,FALSE)))","v":""},null,null,null,null,null,null,""]
["",null,{"$f":"IF(B823=\"\",\"\",IF(ISERROR(VLOOKUP(B823,database!$A$6:$BFQ$206,4,FALSE)),\"\",VLOOKUP(B823,database!$A$6:$BFQ$206,4,FALSE)))","v":""},null,null,null,"",null,null,null,{"$f":"IF(B823=\"\",\"\",IF(ISERROR(VLOOKUP(B823,database!$A$6:$BFQ$206,3,FALSE)),\"\",VLOOKUP(B823,database!$A$6:$BFQ$206,3,FALSE)))","v":""},null,null,null,null,null,null,""]
["",null,{"$f":"IF(B824=\"\",\"\",IF(ISERROR(VLOOKUP(B824,database!$A$6:$BFQ$206,4,FALSE)),\"\",VLOOKUP(B824,database!$A$6:$BFQ$206,4,FALSE)))","v":""},null,null,null,"",null,null,null,{"$f":"IF(B824=\"\",\"\",IF(ISERROR(VLOOKUP(B824,database!$A$6:$BFQ$206,3,FALSE)),\"\",VLOOKUP(B824,database!$A$6:$BFQ$206,3,FALSE)))","v":""},null,null,null,null,null,null,""]
["",null,{"$f":"IF(B825=\"\",\"\",IF(ISERROR(VLOOKUP(B825,database!$A$6:$BFQ$206,4,FALSE)),\"\",VLOOKUP(B825,database!$A$6:$BFQ$206,4,FALSE)))","v":""},null,null,null,"",null,null,null,{"$f":"IF(B825=\"\",\"\",IF(ISERROR(VLOOKUP(B825,database!$A$6:$BFQ$206,3,FALSE)),\"\",VLOOKUP(B825,database!$A$6:$BFQ$206,3,FALSE)))","v":""},null,null,null,null,null,null,""]
["",null,{"$f":"IF(B826=\"\",\"\",IF(ISERROR(VLOOKUP(B826,database!$A$6:$BFQ$206,4,FALSE)),\"\",VLOOKUP(B826,database!$A$6:$BFQ$206,4,FALSE)))","v":""},null,null,null,"",null,null,null,{"$f":"IF(B826=\"\",\"\",IF(ISERROR(VLOOKUP(B826,database!$A$6:$BFQ$206,3,FALSE)),\"\",VLOOKUP(B826,database!$A$6:$BFQ$206,3,FALSE)))","v":""},null,null,null,null,null,null,""]
["",null,{"$f":"IF(B827=\"\",\"\",IF(ISERROR(VLOOKUP(B827,database!$A$6:$BFQ$206,4,FALSE)),\"\",VLOOKUP(B827,database!$A$6:$BFQ$206,4,FALSE)))","v":""},null,null,null,"",null,null,null,{"$f":"IF(B827=\"\",\"\",IF(ISERROR(VLOOKUP(B827,database!$A$6:$BFQ$206,3,FALSE)),\"\",VLOOKUP(B827,database!$A$6:$BFQ$206,3,FALSE)))","v":""},null,null,null,null,null,null,""]
["",null,{"$f":"IF(B828=\"\",\"\",IF(ISERROR(VLOOKUP(B828,database!$A$6:$BFQ$206,4,FALSE)),\"\",VLOOKUP(B828,database!$A$6:$BFQ$206,4,FALSE)))","v":""},null,null,null,"",null,null,null,{"$f":"IF(B828=\"\",\"\",IF(ISERROR(VLOOKUP(B828,database!$A$6:$BFQ$206,3,FALSE)),\"\",VLOOKUP(B828,database!$A$6:$BFQ$206,3,FALSE)))","v":""},null,null,null,null,null,null,""]
["",null,{"$f":"IF(B829=\"\",\"\",IF(ISERROR(VLOOKUP(B829,database!$A$6:$BFQ$206,4,FALSE)),\"\",VLOOKUP(B829,database!$A$6:$BFQ$206,4,FALSE)))","v":""},null,null,null,"",null,null,null,{"$f":"IF(B829=\"\",\"\",IF(ISERROR(VLOOKUP(B829,database!$A$6:$BFQ$206,3,FALSE)),\"\",VLOOKUP(B829,database!$A$6:$BFQ$206,3,FALSE)))","v":""},null,null,null,null,null,null,""]
["",null,{"$f":"IF(B830=\"\",\"\",IF(ISERROR(VLOOKUP(B830,database!$A$6:$BFQ$206,4,FALSE)),\"\",VLOOKUP(B830,database!$A$6:$BFQ$206,4,FALSE)))","v":""},null,null,null,"",null,null,null,{"$f":"IF(B830=\"\",\"\",IF(ISERROR(VLOOKUP(B830,database!$A$6:$BFQ$206,3,FALSE)),\"\",VLOOKUP(B830,database!$A$6:$BFQ$206,3,FALSE)))","v":""},null,null,null,null,null,null,""]
["",null,{"$f":"IF(B831=\"\",\"\",IF(ISERROR(VLOOKUP(B831,database!$A$6:$BFQ$206,4,FALSE)),\"\",VLOOKUP(B831,database!$A$6:$BFQ$206,4,FALSE)))","v":""},null,null,null,"",null,null,null,{"$f":"IF(B831=\"\",\"\",IF(ISERROR(VLOOKUP(B831,database!$A$6:$BFQ$206,3,FALSE)),\"\",VLOOKUP(B831,database!$A$6:$BFQ$206,3,FALSE)))","v":""},null,null,null,null,null,null,""]
["",null,{"$f":"IF(B832=\"\",\"\",IF(ISERROR(VLOOKUP(B832,database!$A$6:$BFQ$206,4,FALSE)),\"\",VLOOKUP(B832,database!$A$6:$BFQ$206,4,FALSE)))","v":""},null,null,null,"",null,null,null,{"$f":"IF(B832=\"\",\"\",IF(ISERROR(VLOOKUP(B832,database!$A$6:$BFQ$206,3,FALSE)),\"\",VLOOKUP(B832,database!$A$6:$BFQ$206,3,FALSE)))","v":""},null,null,null,null,null,null,""]
[{"$f":"IF(B833=\"\",\"\",ROW(A830))","v":""},null,{"$f":"IF(B833=\"\",\"\",IF(ISERROR(VLOOKUP(B833,database!$A$6:$BFQ$206,4,FALSE)),\"\",VLOOKUP(B833,database!$A$6:$BFQ$206,4,FALSE)))","v":""},null,null,null,{"$f":"IF(B833=\"\",\"\",IF(C833=\"\",0,1))","v":""},null,null,null,{"$f":"IF(B833=\"\",\"\",IF(ISERROR(VLOOKUP(B833,database!$A$6:$BFQ$206,3,FALSE)),\"\",VLOOKUP(B833,database!$A$6:$BFQ$206,3,FALSE)))","v":""},null,null,null,null,null,null,{"$f":"LEFT(C833,2)","v":""}]
["",null,{"$f":"IF(B834=\"\",\"\",IF(ISERROR(VLOOKUP(B834,database!$A$6:$BFQ$206,4,FALSE)),\"\",VLOOKUP(B834,database!$A$6:$BFQ$206,4,FALSE)))","v":""},null,null,null,"",null,null,null,{"$f":"IF(B834=\"\",\"\",IF(ISERROR(VLOOKUP(B834,database!$A$6:$BFQ$206,3,FALSE)),\"\",VLOOKUP(B834,database!$A$6:$BFQ$206,3,FALSE)))","v":""},null,null,null,null,null,null,""]
["",null,{"$f":"IF(B835=\"\",\"\",IF(ISERROR(VLOOKUP(B835,database!$A$6:$BFQ$206,4,FALSE)),\"\",VLOOKUP(B835,database!$A$6:$BFQ$206,4,FALSE)))","v":""},null,null,null,"",null,null,null,{"$f":"IF(B835=\"\",\"\",IF(ISERROR(VLOOKUP(B835,database!$A$6:$BFQ$206,3,FALSE)),\"\",VLOOKUP(B835,database!$A$6:$BFQ$206,3,FALSE)))","v":""},null,null,null,null,null,null,""]
["",null,{"$f":"IF(B836=\"\",\"\",IF(ISERROR(VLOOKUP(B836,database!$A$6:$BFQ$206,4,FALSE)),\"\",VLOOKUP(B836,database!$A$6:$BFQ$206,4,FALSE)))","v":""},null,null,null,"",null,null,null,{"$f":"IF(B836=\"\",\"\",IF(ISERROR(VLOOKUP(B836,database!$A$6:$BFQ$206,3,FALSE)),\"\",VLOOKUP(B836,database!$A$6:$BFQ$206,3,FALSE)))","v":""},null,null,null,null,null,null,""]
["",null,{"$f":"IF(B837=\"\",\"\",IF(ISERROR(VLOOKUP(B837,database!$A$6:$BFQ$206,4,FALSE)),\"\",VLOOKUP(B837,database!$A$6:$BFQ$206,4,FALSE)))","v":""},null,null,null,"",null,null,null,{"$f":"IF(B837=\"\",\"\",IF(ISERROR(VLOOKUP(B837,database!$A$6:$BFQ$206,3,FALSE)),\"\",VLOOKUP(B837,database!$A$6:$BFQ$206,3,FALSE)))","v":""},null,null,null,null,null,null,""]
["",null,{"$f":"IF(B838=\"\",\"\",IF(ISERROR(VLOOKUP(B838,database!$A$6:$BFQ$206,4,FALSE)),\"\",VLOOKUP(B838,database!$A$6:$BFQ$206,4,FALSE)))","v":""},null,null,null,"",null,null,null,{"$f":"IF(B838=\"\",\"\",IF(ISERROR(VLOOKUP(B838,database!$A$6:$BFQ$206,3,FALSE)),\"\",VLOOKUP(B838,database!$A$6:$BFQ$206,3,FALSE)))","v":""},null,null,null,null,null,null,""]
["",null,{"$f":"IF(B839=\"\",\"\",IF(ISERROR(VLOOKUP(B839,database!$A$6:$BFQ$206,4,FALSE)),\"\",VLOOKUP(B839,database!$A$6:$BFQ$206,4,FALSE)))","v":""},null,null,null,"",null,null,null,{"$f":"IF(B839=\"\",\"\",IF(ISERROR(VLOOKUP(B839,database!$A$6:$BFQ$206,3,FALSE)),\"\",VLOOKUP(B839,database!$A$6:$BFQ$206,3,FALSE)))","v":""},null,null,null,null,null,null,""]
["",null,{"$f":"IF(B840=\"\",\"\",IF(ISERROR(VLOOKUP(B840,database!$A$6:$BFQ$206,4,FALSE)),\"\",VLOOKUP(B840,database!$A$6:$BFQ$206,4,FALSE)))","v":""},null,null,null,"",null,null,null,{"$f":"IF(B840=\"\",\"\",IF(ISERROR(VLOOKUP(B840,database!$A$6:$BFQ$206,3,FALSE)),\"\",VLOOKUP(B840,database!$A$6:$BFQ$206,3,FALSE)))","v":""},null,null,null,null,null,null,""]
["",null,{"$f":"IF(B841=\"\",\"\",IF(ISERROR(VLOOKUP(B841,database!$A$6:$BFQ$206,4,FALSE)),\"\",VLOOKUP(B841,database!$A$6:$BFQ$206,4,FALSE)))","v":""},null,null,null,"",null,null,null,{"$f":"IF(B841=\"\",\"\",IF(ISERROR(VLOOKUP(B841,database!$A$6:$BFQ$206,3,FALSE)),\"\",VLOOKUP(B841,database!$A$6:$BFQ$206,3,FALSE)))","v":""},null,null,null,null,null,null,""]
["",null,{"$f":"IF(B842=\"\",\"\",IF(ISERROR(VLOOKUP(B842,database!$A$6:$BFQ$206,4,FALSE)),\"\",VLOOKUP(B842,database!$A$6:$BFQ$206,4,FALSE)))","v":""},null,null,null,"",null,null,null,{"$f":"IF(B842=\"\",\"\",IF(ISERROR(VLOOKUP(B842,database!$A$6:$BFQ$206,3,FALSE)),\"\",VLOOKUP(B842,database!$A$6:$BFQ$206,3,FALSE)))","v":""},null,null,null,null,null,null,""]
["",null,{"$f":"IF(B843=\"\",\"\",IF(ISERROR(VLOOKUP(B843,database!$A$6:$BFQ$206,4,FALSE)),\"\",VLOOKUP(B843,database!$A$6:$BFQ$206,4,FALSE)))","v":""},null,null,null,"",null,null,null,{"$f":"IF(B843=\"\",\"\",IF(ISERROR(VLOOKUP(B843,database!$A$6:$BFQ$206,3,FALSE)),\"\",VLOOKUP(B843,database!$A$6:$BFQ$206,3,FALSE)))","v":""},null,null,null,null,null,null,""]
["",null,{"$f":"IF(B844=\"\",\"\",IF(ISERROR(VLOOKUP(B844,database!$A$6:$BFQ$206,4,FALSE)),\"\",VLOOKUP(B844,database!$A$6:$BFQ$206,4,FALSE)))","v":""},null,null,null,"",null,null,null,{"$f":"IF(B844=\"\",\"\",IF(ISERROR(VLOOKUP(B844,database!$A$6:$BFQ$206,3,FALSE)),\"\",VLOOKUP(B844,database!$A$6:$BFQ$206,3,FALSE)))","v":""},null,null,null,null,null,null,""]
["",null,{"$f":"IF(B845=\"\",\"\",IF(ISERROR(VLOOKUP(B845,database!$A$6:$BFQ$206,4,FALSE)),\"\",VLOOKUP(B845,database!$A$6:$BFQ$206,4,FALSE)))","v":""},null,null,null,"",null,null,null,{"$f":"IF(B845=\"\",\"\",IF(ISERROR(VLOOKUP(B845,database!$A$6:$BFQ$206,3,FALSE)),\"\",VLOOKUP(B845,database!$A$6:$BFQ$206,3,FALSE)))","v":""},null,null,null,null,null,null,""]
["",null,{"$f":"IF(B846=\"\",\"\",IF(ISERROR(VLOOKUP(B846,database!$A$6:$BFQ$206,4,FALSE)),\"\",VLOOKUP(B846,database!$A$6:$BFQ$206,4,FALSE)))","v":""},null,null,null,"",null,null,null,{"$f":"IF(B846=\"\",\"\",IF(ISERROR(VLOOKUP(B846,database!$A$6:$BFQ$206,3,FALSE)),\"\",VLOOKUP(B846,database!$A$6:$BFQ$206,3,FALSE)))","v":""},null,null,null,null,null,null,""]
["",null,{"$f":"IF(B847=\"\",\"\",IF(ISERROR(VLOOKUP(B847,database!$A$6:$BFQ$206,4,FALSE)),\"\",VLOOKUP(B847,database!$A$6:$BFQ$206,4,FALSE)))","v":""},null,null,null,"",null,null,null,{"$f":"IF(B847=\"\",\"\",IF(ISERROR(VLOOKUP(B847,database!$A$6:$BFQ$206,3,FALSE)),\"\",VLOOKUP(B847,database!$A$6:$BFQ$206,3,FALSE)))","v":""},null,null,null,null,null,null,""]
["",null,{"$f":"IF(B848=\"\",\"\",IF(ISERROR(VLOOKUP(B848,database!$A$6:$BFQ$206,4,FALSE)),\"\",VLOOKUP(B848,database!$A$6:$BFQ$206,4,FALSE)))","v":""},null,null,null,"",null,null,null,{"$f":"IF(B848=\"\",\"\",IF(ISERROR(VLOOKUP(B848,database!$A$6:$BFQ$206,3,FALSE)),\"\",VLOOKUP(B848,database!$A$6:$BFQ$206,3,FALSE)))","v":""},null,null,null,null,null,null,""]
["",null,{"$f":"IF(B849=\"\",\"\",IF(ISERROR(VLOOKUP(B849,database!$A$6:$BFQ$206,4,FALSE)),\"\",VLOOKUP(B849,database!$A$6:$BFQ$206,4,FALSE)))","v":""},null,null,null,"",null,null,null,{"$f":"IF(B849=\"\",\"\",IF(ISERROR(VLOOKUP(B849,database!$A$6:$BFQ$206,3,FALSE)),\"\",VLOOKUP(B849,database!$A$6:$BFQ$206,3,FALSE)))","v":""},null,null,null,null,null,null,""]
["",null,{"$f":"IF(B850=\"\",\"\",IF(ISERROR(VLOOKUP(B850,database!$A$6:$BFQ$206,4,FALSE)),\"\",VLOOKUP(B850,database!$A$6:$BFQ$206,4,FALSE)))","v":""},null,null,null,"",null,null,null,{"$f":"IF(B850=\"\",\"\",IF(ISERROR(VLOOKUP(B850,database!$A$6:$BFQ$206,3,FALSE)),\"\",VLOOKUP(B850,database!$A$6:$BFQ$206,3,FALSE)))","v":""},null,null,null,null,null,null,""]
["",null,{"$f":"IF(B851=\"\",\"\",IF(ISERROR(VLOOKUP(B851,database!$A$6:$BFQ$206,4,FALSE)),\"\",VLOOKUP(B851,database!$A$6:$BFQ$206,4,FALSE)))","v":""},null,null,null,"",null,null,null,{"$f":"IF(B851=\"\",\"\",IF(ISERROR(VLOOKUP(B851,database!$A$6:$BFQ$206,3,FALSE)),\"\",VLOOKUP(B851,database!$A$6:$BFQ$206,3,FALSE)))","v":""},null,null,null,null,null,null,""]
["",null,{"$f":"IF(B852=\"\",\"\",IF(ISERROR(VLOOKUP(B852,database!$A$6:$BFQ$206,4,FALSE)),\"\",VLOOKUP(B852,database!$A$6:$BFQ$206,4,FALSE)))","v":""},null,null,null,"",null,null,null,{"$f":"IF(B852=\"\",\"\",IF(ISERROR(VLOOKUP(B852,database!$A$6:$BFQ$206,3,FALSE)),\"\",VLOOKUP(B852,database!$A$6:$BFQ$206,3,FALSE)))","v":""},null,null,null,null,null,null,""]
["",null,{"$f":"IF(B853=\"\",\"\",IF(ISERROR(VLOOKUP(B853,database!$A$6:$BFQ$206,4,FALSE)),\"\",VLOOKUP(B853,database!$A$6:$BFQ$206,4,FALSE)))","v":""},null,null,null,"",null,null,null,{"$f":"IF(B853=\"\",\"\",IF(ISERROR(VLOOKUP(B853,database!$A$6:$BFQ$206,3,FALSE)),\"\",VLOOKUP(B853,database!$A$6:$BFQ$206,3,FALSE)))","v":""},null,null,null,null,null,null,""]
["",null,{"$f":"IF(B854=\"\",\"\",IF(ISERROR(VLOOKUP(B854,database!$A$6:$BFQ$206,4,FALSE)),\"\",VLOOKUP(B854,database!$A$6:$BFQ$206,4,FALSE)))","v":""},null,null,null,"",null,null,null,{"$f":"IF(B854=\"\",\"\",IF(ISERROR(VLOOKUP(B854,database!$A$6:$BFQ$206,3,FALSE)),\"\",VLOOKUP(B854,database!$A$6:$BFQ$206,3,FALSE)))","v":""},null,null,null,null,null,null,""]
["",null,{"$f":"IF(B855=\"\",\"\",IF(ISERROR(VLOOKUP(B855,database!$A$6:$BFQ$206,4,FALSE)),\"\",VLOOKUP(B855,database!$A$6:$BFQ$206,4,FALSE)))","v":""},null,null,null,"",null,null,null,{"$f":"IF(B855=\"\",\"\",IF(ISERROR(VLOOKUP(B855,database!$A$6:$BFQ$206,3,FALSE)),\"\",VLOOKUP(B855,database!$A$6:$BFQ$206,3,FALSE)))","v":""},null,null,null,null,null,null,""]
["",null,{"$f":"IF(B856=\"\",\"\",IF(ISERROR(VLOOKUP(B856,database!$A$6:$BFQ$206,4,FALSE)),\"\",VLOOKUP(B856,database!$A$6:$BFQ$206,4,FALSE)))","v":""},null,null,null,"",null,null,null,{"$f":"IF(B856=\"\",\"\",IF(ISERROR(VLOOKUP(B856,database!$A$6:$BFQ$206,3,FALSE)),\"\",VLOOKUP(B856,database!$A$6:$BFQ$206,3,FALSE)))","v":""},null,null,null,null,null,null,""]
["",null,{"$f":"IF(B857=\"\",\"\",IF(ISERROR(VLOOKUP(B857,database!$A$6:$BFQ$206,4,FALSE)),\"\",VLOOKUP(B857,database!$A$6:$BFQ$206,4,FALSE)))","v":""},null,null,null,"",null,null,null,{"$f":"IF(B857=\"\",\"\",IF(ISERROR(VLOOKUP(B857,database!$A$6:$BFQ$206,3,FALSE)),\"\",VLOOKUP(B857,database!$A$6:$BFQ$206,3,FALSE)))","v":""},null,null,null,null,null,null,""]
["",null,{"$f":"IF(B858=\"\",\"\",IF(ISERROR(VLOOKUP(B858,database!$A$6:$BFQ$206,4,FALSE)),\"\",VLOOKUP(B858,database!$A$6:$BFQ$206,4,FALSE)))","v":""},null,null,null,"",null,null,null,{"$f":"IF(B858=\"\",\"\",IF(ISERROR(VLOOKUP(B858,database!$A$6:$BFQ$206,3,FALSE)),\"\",VLOOKUP(B858,database!$A$6:$BFQ$206,3,FALSE)))","v":""},null,null,null,null,null,null,""]
["",null,{"$f":"IF(B859=\"\",\"\",IF(ISERROR(VLOOKUP(B859,database!$A$6:$BFQ$206,4,FALSE)),\"\",VLOOKUP(B859,database!$A$6:$BFQ$206,4,FALSE)))","v":""},null,null,null,"",null,null,null,{"$f":"IF(B859=\"\",\"\",IF(ISERROR(VLOOKUP(B859,database!$A$6:$BFQ$206,3,FALSE)),\"\",VLOOKUP(B859,database!$A$6:$BFQ$206,3,FALSE)))","v":""},null,null,null,null,null,null,""]
["",null,{"$f":"IF(B860=\"\",\"\",IF(ISERROR(VLOOKUP(B860,database!$A$6:$BFQ$206,4,FALSE)),\"\",VLOOKUP(B860,database!$A$6:$BFQ$206,4,FALSE)))","v":""},null,null,null,"",null,null,null,{"$f":"IF(B860=\"\",\"\",IF(ISERROR(VLOOKUP(B860,database!$A$6:$BFQ$206,3,FALSE)),\"\",VLOOKUP(B860,database!$A$6:$BFQ$206,3,FALSE)))","v":""},null,null,null,null,null,null,""]
["",null,{"$f":"IF(B861=\"\",\"\",IF(ISERROR(VLOOKUP(B861,database!$A$6:$BFQ$206,4,FALSE)),\"\",VLOOKUP(B861,database!$A$6:$BFQ$206,4,FALSE)))","v":""},null,null,null,"",null,null,null,{"$f":"IF(B861=\"\",\"\",IF(ISERROR(VLOOKUP(B861,database!$A$6:$BFQ$206,3,FALSE)),\"\",VLOOKUP(B861,database!$A$6:$BFQ$206,3,FALSE)))","v":""},null,null,null,null,null,null,""]
["",null,{"$f":"IF(B862=\"\",\"\",IF(ISERROR(VLOOKUP(B862,database!$A$6:$BFQ$206,4,FALSE)),\"\",VLOOKUP(B862,database!$A$6:$BFQ$206,4,FALSE)))","v":""},null,null,null,"",null,null,null,{"$f":"IF(B862=\"\",\"\",IF(ISERROR(VLOOKUP(B862,database!$A$6:$BFQ$206,3,FALSE)),\"\",VLOOKUP(B862,database!$A$6:$BFQ$206,3,FALSE)))","v":""},null,null,null,null,null,null,""]
["",null,{"$f":"IF(B863=\"\",\"\",IF(ISERROR(VLOOKUP(B863,database!$A$6:$BFQ$206,4,FALSE)),\"\",VLOOKUP(B863,database!$A$6:$BFQ$206,4,FALSE)))","v":""},null,null,null,"",null,null,null,{"$f":"IF(B863=\"\",\"\",IF(ISERROR(VLOOKUP(B863,database!$A$6:$BFQ$206,3,FALSE)),\"\",VLOOKUP(B863,database!$A$6:$BFQ$206,3,FALSE)))","v":""},null,null,null,null,null,null,""]
["",null,{"$f":"IF(B864=\"\",\"\",IF(ISERROR(VLOOKUP(B864,database!$A$6:$BFQ$206,4,FALSE)),\"\",VLOOKUP(B864,database!$A$6:$BFQ$206,4,FALSE)))","v":""},null,null,null,"",null,null,null,{"$f":"IF(B864=\"\",\"\",IF(ISERROR(VLOOKUP(B864,database!$A$6:$BFQ$206,3,FALSE)),\"\",VLOOKUP(B864,database!$A$6:$BFQ$206,3,FALSE)))","v":""},null,null,null,null,null,null,""]
["",null,{"$f":"IF(B865=\"\",\"\",IF(ISERROR(VLOOKUP(B865,database!$A$6:$BFQ$206,4,FALSE)),\"\",VLOOKUP(B865,database!$A$6:$BFQ$206,4,FALSE)))","v":""},null,null,null,"",null,null,null,{"$f":"IF(B865=\"\",\"\",IF(ISERROR(VLOOKUP(B865,database!$A$6:$BFQ$206,3,FALSE)),\"\",VLOOKUP(B865,database!$A$6:$BFQ$206,3,FALSE)))","v":""},null,null,null,null,null,null,""]
["",null,{"$f":"IF(B866=\"\",\"\",IF(ISERROR(VLOOKUP(B866,database!$A$6:$BFQ$206,4,FALSE)),\"\",VLOOKUP(B866,database!$A$6:$BFQ$206,4,FALSE)))","v":""},null,null,null,"",null,null,null,{"$f":"IF(B866=\"\",\"\",IF(ISERROR(VLOOKUP(B866,database!$A$6:$BFQ$206,3,FALSE)),\"\",VLOOKUP(B866,database!$A$6:$BFQ$206,3,FALSE)))","v":""},null,null,null,null,null,null,""]
["",null,{"$f":"IF(B867=\"\",\"\",IF(ISERROR(VLOOKUP(B867,database!$A$6:$BFQ$206,4,FALSE)),\"\",VLOOKUP(B867,database!$A$6:$BFQ$206,4,FALSE)))","v":""},null,null,null,"",null,null,null,{"$f":"IF(B867=\"\",\"\",IF(ISERROR(VLOOKUP(B867,database!$A$6:$BFQ$206,3,FALSE)),\"\",VLOOKUP(B867,database!$A$6:$BFQ$206,3,FALSE)))","v":""},null,null,null,null,null,null,""]
["",null,{"$f":"IF(B868=\"\",\"\",IF(ISERROR(VLOOKUP(B868,database!$A$6:$BFQ$206,4,FALSE)),\"\",VLOOKUP(B868,database!$A$6:$BFQ$206,4,FALSE)))","v":""},null,null,null,"",null,null,null,{"$f":"IF(B868=\"\",\"\",IF(ISERROR(VLOOKUP(B868,database!$A$6:$BFQ$206,3,FALSE)),\"\",VLOOKUP(B868,database!$A$6:$BFQ$206,3,FALSE)))","v":""},null,null,null,null,null,null,""]
["",null,{"$f":"IF(B869=\"\",\"\",IF(ISERROR(VLOOKUP(B869,database!$A$6:$BFQ$206,4,FALSE)),\"\",VLOOKUP(B869,database!$A$6:$BFQ$206,4,FALSE)))","v":""},null,null,null,"",null,null,null,{"$f":"IF(B869=\"\",\"\",IF(ISERROR(VLOOKUP(B869,database!$A$6:$BFQ$206,3,FALSE)),\"\",VLOOKUP(B869,database!$A$6:$BFQ$206,3,FALSE)))","v":""},null,null,null,null,null,null,""]
["",null,{"$f":"IF(B870=\"\",\"\",IF(ISERROR(VLOOKUP(B870,database!$A$6:$BFQ$206,4,FALSE)),\"\",VLOOKUP(B870,database!$A$6:$BFQ$206,4,FALSE)))","v":""},null,null,null,"",null,null,null,{"$f":"IF(B870=\"\",\"\",IF(ISERROR(VLOOKUP(B870,database!$A$6:$BFQ$206,3,FALSE)),\"\",VLOOKUP(B870,database!$A$6:$BFQ$206,3,FALSE)))","v":""},null,null,null,null,null,null,""]
["",null,{"$f":"IF(B871=\"\",\"\",IF(ISERROR(VLOOKUP(B871,database!$A$6:$BFQ$206,4,FALSE)),\"\",VLOOKUP(B871,database!$A$6:$BFQ$206,4,FALSE)))","v":""},null,null,null,"",null,null,null,{"$f":"IF(B871=\"\",\"\",IF(ISERROR(VLOOKUP(B871,database!$A$6:$BFQ$206,3,FALSE)),\"\",VLOOKUP(B871,database!$A$6:$BFQ$206,3,FALSE)))","v":""},null,null,null,null,null,null,""]
["",null,{"$f":"IF(B872=\"\",\"\",IF(ISERROR(VLOOKUP(B872,database!$A$6:$BFQ$206,4,FALSE)),\"\",VLOOKUP(B872,database!$A$6:$BFQ$206,4,FALSE)))","v":""},null,null,null,"",null,null,null,{"$f":"IF(B872=\"\",\"\",IF(ISERROR(VLOOKUP(B872,database!$A$6:$BFQ$206,3,FALSE)),\"\",VLOOKUP(B872,database!$A$6:$BFQ$206,3,FALSE)))","v":""},null,null,null,null,null,null,""]
["",null,{"$f":"IF(B873=\"\",\"\",IF(ISERROR(VLOOKUP(B873,database!$A$6:$BFQ$206,4,FALSE)),\"\",VLOOKUP(B873,database!$A$6:$BFQ$206,4,FALSE)))","v":""},null,null,null,"",null,null,null,{"$f":"IF(B873=\"\",\"\",IF(ISERROR(VLOOKUP(B873,database!$A$6:$BFQ$206,3,FALSE)),\"\",VLOOKUP(B873,database!$A$6:$BFQ$206,3,FALSE)))","v":""},null,null,null,null,null,null,""]
["",null,{"$f":"IF(B874=\"\",\"\",IF(ISERROR(VLOOKUP(B874,database!$A$6:$BFQ$206,4,FALSE)),\"\",VLOOKUP(B874,database!$A$6:$BFQ$206,4,FALSE)))","v":""},null,null,null,"",null,null,null,{"$f":"IF(B874=\"\",\"\",IF(ISERROR(VLOOKUP(B874,database!$A$6:$BFQ$206,3,FALSE)),\"\",VLOOKUP(B874,database!$A$6:$BFQ$206,3,FALSE)))","v":""},null,null,null,null,null,null,""]
["",null,{"$f":"IF(B875=\"\",\"\",IF(ISERROR(VLOOKUP(B875,database!$A$6:$BFQ$206,4,FALSE)),\"\",VLOOKUP(B875,database!$A$6:$BFQ$206,4,FALSE)))","v":""},null,null,null,"",null,null,null,{"$f":"IF(B875=\"\",\"\",IF(ISERROR(VLOOKUP(B875,database!$A$6:$BFQ$206,3,FALSE)),\"\",VLOOKUP(B875,database!$A$6:$BFQ$206,3,FALSE)))","v":""},null,null,null,null,null,null,""]
["",null,{"$f":"IF(B876=\"\",\"\",IF(ISERROR(VLOOKUP(B876,database!$A$6:$BFQ$206,4,FALSE)),\"\",VLOOKUP(B876,database!$A$6:$BFQ$206,4,FALSE)))","v":""},null,null,null,"",null,null,null,{"$f":"IF(B876=\"\",\"\",IF(ISERROR(VLOOKUP(B876,database!$A$6:$BFQ$206,3,FALSE)),\"\",VLOOKUP(B876,database!$A$6:$BFQ$206,3,FALSE)))","v":""},null,null,null,null,null,null,""]
["",null,{"$f":"IF(B877=\"\",\"\",IF(ISERROR(VLOOKUP(B877,database!$A$6:$BFQ$206,4,FALSE)),\"\",VLOOKUP(B877,database!$A$6:$BFQ$206,4,FALSE)))","v":""},null,null,null,"",null,null,null,{"$f":"IF(B877=\"\",\"\",IF(ISERROR(VLOOKUP(B877,database!$A$6:$BFQ$206,3,FALSE)),\"\",VLOOKUP(B877,database!$A$6:$BFQ$206,3,FALSE)))","v":""},null,null,null,null,null,null,""]
["",null,{"$f":"IF(B878=\"\",\"\",IF(ISERROR(VLOOKUP(B878,database!$A$6:$BFQ$206,4,FALSE)),\"\",VLOOKUP(B878,database!$A$6:$BFQ$206,4,FALSE)))","v":""},null,null,null,"",null,null,null,{"$f":"IF(B878=\"\",\"\",IF(ISERROR(VLOOKUP(B878,database!$A$6:$BFQ$206,3,FALSE)),\"\",VLOOKUP(B878,database!$A$6:$BFQ$206,3,FALSE)))","v":""},null,null,null,null,null,null,""]
["",null,{"$f":"IF(B879=\"\",\"\",IF(ISERROR(VLOOKUP(B879,database!$A$6:$BFQ$206,4,FALSE)),\"\",VLOOKUP(B879,database!$A$6:$BFQ$206,4,FALSE)))","v":""},null,null,null,"",null,null,null,{"$f":"IF(B879=\"\",\"\",IF(ISERROR(VLOOKUP(B879,database!$A$6:$BFQ$206,3,FALSE)),\"\",VLOOKUP(B879,database!$A$6:$BFQ$206,3,FALSE)))","v":""},null,null,null,null,null,null,""]
["",null,{"$f":"IF(B880=\"\",\"\",IF(ISERROR(VLOOKUP(B880,database!$A$6:$BFQ$206,4,FALSE)),\"\",VLOOKUP(B880,database!$A$6:$BFQ$206,4,FALSE)))","v":""},null,null,null,"",null,null,null,{"$f":"IF(B880=\"\",\"\",IF(ISERROR(VLOOKUP(B880,database!$A$6:$BFQ$206,3,FALSE)),\"\",VLOOKUP(B880,database!$A$6:$BFQ$206,3,FALSE)))","v":""},null,null,null,null,null,null,""]
["",null,{"$f":"IF(B881=\"\",\"\",IF(ISERROR(VLOOKUP(B881,database!$A$6:$BFQ$206,4,FALSE)),\"\",VLOOKUP(B881,database!$A$6:$BFQ$206,4,FALSE)))","v":""},null,null,null,"",null,null,null,{"$f":"IF(B881=\"\",\"\",IF(ISERROR(VLOOKUP(B881,database!$A$6:$BFQ$206,3,FALSE)),\"\",VLOOKUP(B881,database!$A$6:$BFQ$206,3,FALSE)))","v":""},null,null,null,null,null,null,""]
["",null,{"$f":"IF(B882=\"\",\"\",IF(ISERROR(VLOOKUP(B882,database!$A$6:$BFQ$206,4,FALSE)),\"\",VLOOKUP(B882,database!$A$6:$BFQ$206,4,FALSE)))","v":""},null,null,null,"",null,null,null,{"$f":"IF(B882=\"\",\"\",IF(ISERROR(VLOOKUP(B882,database!$A$6:$BFQ$206,3,FALSE)),\"\",VLOOKUP(B882,database!$A$6:$BFQ$206,3,FALSE)))","v":""},null,null,null,null,null,null,""]
["",null,{"$f":"IF(B883=\"\",\"\",IF(ISERROR(VLOOKUP(B883,database!$A$6:$BFQ$206,4,FALSE)),\"\",VLOOKUP(B883,database!$A$6:$BFQ$206,4,FALSE)))","v":""},null,null,null,"",null,null,null,{"$f":"IF(B883=\"\",\"\",IF(ISERROR(VLOOKUP(B883,database!$A$6:$BFQ$206,3,FALSE)),\"\",VLOOKUP(B883,database!$A$6:$BFQ$206,3,FALSE)))","v":""},null,null,null,null,null,null,""]
["",null,{"$f":"IF(B884=\"\",\"\",IF(ISERROR(VLOOKUP(B884,database!$A$6:$BFQ$206,4,FALSE)),\"\",VLOOKUP(B884,database!$A$6:$BFQ$206,4,FALSE)))","v":""},null,null,null,"",null,null,null,{"$f":"IF(B884=\"\",\"\",IF(ISERROR(VLOOKUP(B884,database!$A$6:$BFQ$206,3,FALSE)),\"\",VLOOKUP(B884,database!$A$6:$BFQ$206,3,FALSE)))","v":""},null,null,null,null,null,null,""]
["",null,{"$f":"IF(B885=\"\",\"\",IF(ISERROR(VLOOKUP(B885,database!$A$6:$BFQ$206,4,FALSE)),\"\",VLOOKUP(B885,database!$A$6:$BFQ$206,4,FALSE)))","v":""},null,null,null,"",null,null,null,{"$f":"IF(B885=\"\",\"\",IF(ISERROR(VLOOKUP(B885,database!$A$6:$BFQ$206,3,FALSE)),\"\",VLOOKUP(B885,database!$A$6:$BFQ$206,3,FALSE)))","v":""},null,null,null,null,null,null,""]
["",null,{"$f":"IF(B886=\"\",\"\",IF(ISERROR(VLOOKUP(B886,database!$A$6:$BFQ$206,4,FALSE)),\"\",VLOOKUP(B886,database!$A$6:$BFQ$206,4,FALSE)))","v":""},null,null,null,"",null,null,null,{"$f":"IF(B886=\"\",\"\",IF(ISERROR(VLOOKUP(B886,database!$A$6:$BFQ$206,3,FALSE)),\"\",VLOOKUP(B886,database!$A$6:$BFQ$206,3,FALSE)))","v":""},null,null,null,null,null,null,""]
["",null,{"$f":"IF(B887=\"\",\"\",IF(ISERROR(VLOOKUP(B887,database!$A$6:$BFQ$206,4,FALSE)),\"\",VLOOKUP(B887,database!$A$6:$BFQ$206,4,FALSE)))","v":""},null,null,null,"",null,null,null,{"$f":"IF(B887=\"\",\"\",IF(ISERROR(VLOOKUP(B887,database!$A$6:$BFQ$206,3,FALSE)),\"\",VLOOKUP(B887,database!$A$6:$BFQ$206,3,FALSE)))","v":""},null,null,null,null,null,null,""]
["",null,{"$f":"IF(B888=\"\",\"\",IF(ISERROR(VLOOKUP(B888,database!$A$6:$BFQ$206,4,FALSE)),\"\",VLOOKUP(B888,database!$A$6:$BFQ$206,4,FALSE)))","v":""},null,null,null,"",null,null,null,{"$f":"IF(B888=\"\",\"\",IF(ISERROR(VLOOKUP(B888,database!$A$6:$BFQ$206,3,FALSE)),\"\",VLOOKUP(B888,database!$A$6:$BFQ$206,3,FALSE)))","v":""},null,null,null,null,null,null,""]
["",null,{"$f":"IF(B889=\"\",\"\",IF(ISERROR(VLOOKUP(B889,database!$A$6:$BFQ$206,4,FALSE)),\"\",VLOOKUP(B889,database!$A$6:$BFQ$206,4,FALSE)))","v":""},null,null,null,"",null,null,null,{"$f":"IF(B889=\"\",\"\",IF(ISERROR(VLOOKUP(B889,database!$A$6:$BFQ$206,3,FALSE)),\"\",VLOOKUP(B889,database!$A$6:$BFQ$206,3,FALSE)))","v":""},null,null,null,null,null,null,""]
["",null,{"$f":"IF(B890=\"\",\"\",IF(ISERROR(VLOOKUP(B890,database!$A$6:$BFQ$206,4,FALSE)),\"\",VLOOKUP(B890,database!$A$6:$BFQ$206,4,FALSE)))","v":""},null,null,null,"",null,null,null,{"$f":"IF(B890=\"\",\"\",IF(ISERROR(VLOOKUP(B890,database!$A$6:$BFQ$206,3,FALSE)),\"\",VLOOKUP(B890,database!$A$6:$BFQ$206,3,FALSE)))","v":""},null,null,null,null,null,null,""]
["",null,{"$f":"IF(B891=\"\",\"\",IF(ISERROR(VLOOKUP(B891,database!$A$6:$BFQ$206,4,FALSE)),\"\",VLOOKUP(B891,database!$A$6:$BFQ$206,4,FALSE)))","v":""},null,null,null,"",null,null,null,{"$f":"IF(B891=\"\",\"\",IF(ISERROR(VLOOKUP(B891,database!$A$6:$BFQ$206,3,FALSE)),\"\",VLOOKUP(B891,database!$A$6:$BFQ$206,3,FALSE)))","v":""},null,null,null,null,null,null,""]
["",null,{"$f":"IF(B892=\"\",\"\",IF(ISERROR(VLOOKUP(B892,database!$A$6:$BFQ$206,4,FALSE)),\"\",VLOOKUP(B892,database!$A$6:$BFQ$206,4,FALSE)))","v":""},null,null,null,"",null,null,null,{"$f":"IF(B892=\"\",\"\",IF(ISERROR(VLOOKUP(B892,database!$A$6:$BFQ$206,3,FALSE)),\"\",VLOOKUP(B892,database!$A$6:$BFQ$206,3,FALSE)))","v":""},null,null,null,null,null,null,""]
["",null,{"$f":"IF(B893=\"\",\"\",IF(ISERROR(VLOOKUP(B893,database!$A$6:$BFQ$206,4,FALSE)),\"\",VLOOKUP(B893,database!$A$6:$BFQ$206,4,FALSE)))","v":""},null,null,null,"",null,null,null,{"$f":"IF(B893=\"\",\"\",IF(ISERROR(VLOOKUP(B893,database!$A$6:$BFQ$206,3,FALSE)),\"\",VLOOKUP(B893,database!$A$6:$BFQ$206,3,FALSE)))","v":""},null,null,null,null,null,null,""]
["",null,{"$f":"IF(B894=\"\",\"\",IF(ISERROR(VLOOKUP(B894,database!$A$6:$BFQ$206,4,FALSE)),\"\",VLOOKUP(B894,database!$A$6:$BFQ$206,4,FALSE)))","v":""},null,null,null,"",null,null,null,{"$f":"IF(B894=\"\",\"\",IF(ISERROR(VLOOKUP(B894,database!$A$6:$BFQ$206,3,FALSE)),\"\",VLOOKUP(B894,database!$A$6:$BFQ$206,3,FALSE)))","v":""},null,null,null,null,null,null,""]
["",null,{"$f":"IF(B895=\"\",\"\",IF(ISERROR(VLOOKUP(B895,database!$A$6:$BFQ$206,4,FALSE)),\"\",VLOOKUP(B895,database!$A$6:$BFQ$206,4,FALSE)))","v":""},null,null,null,"",null,null,null,{"$f":"IF(B895=\"\",\"\",IF(ISERROR(VLOOKUP(B895,database!$A$6:$BFQ$206,3,FALSE)),\"\",VLOOKUP(B895,database!$A$6:$BFQ$206,3,FALSE)))","v":""},null,null,null,null,null,null,""]
["",null,{"$f":"IF(B896=\"\",\"\",IF(ISERROR(VLOOKUP(B896,database!$A$6:$BFQ$206,4,FALSE)),\"\",VLOOKUP(B896,database!$A$6:$BFQ$206,4,FALSE)))","v":""},null,null,null,"",null,null,null,{"$f":"IF(B896=\"\",\"\",IF(ISERROR(VLOOKUP(B896,database!$A$6:$BFQ$206,3,FALSE)),\"\",VLOOKUP(B896,database!$A$6:$BFQ$206,3,FALSE)))","v":""},null,null,null,null,null,null,""]
[{"$f":"IF(B897=\"\",\"\",ROW(A894))","v":""},null,{"$f":"IF(B897=\"\",\"\",IF(ISERROR(VLOOKUP(B897,database!$A$6:$BFQ$206,4,FALSE)),\"\",VLOOKUP(B897,database!$A$6:$BFQ$206,4,FALSE)))","v":""},null,null,null,{"$f":"IF(B897=\"\",\"\",IF(C897=\"\",0,1))","v":""},null,null,null,{"$f":"IF(B897=\"\",\"\",IF(ISERROR(VLOOKUP(B897,database!$A$6:$BFQ$206,3,FALSE)),\"\",VLOOKUP(B897,database!$A$6:$BFQ$206,3,FALSE)))","v":""},null,null,null,null,null,null,{"$f":"LEFT(C897,2)","v":""}]
["",null,{"$f":"IF(B898=\"\",\"\",IF(ISERROR(VLOOKUP(B898,database!$A$6:$BFQ$206,4,FALSE)),\"\",VLOOKUP(B898,database!$A$6:$BFQ$206,4,FALSE)))","v":""},null,null,null,"",null,null,null,{"$f":"IF(B898=\"\",\"\",IF(ISERROR(VLOOKUP(B898,database!$A$6:$BFQ$206,3,FALSE)),\"\",VLOOKUP(B898,database!$A$6:$BFQ$206,3,FALSE)))","v":""},null,null,null,null,null,null,""]
["",null,{"$f":"IF(B899=\"\",\"\",IF(ISERROR(VLOOKUP(B899,database!$A$6:$BFQ$206,4,FALSE)),\"\",VLOOKUP(B899,database!$A$6:$BFQ$206,4,FALSE)))","v":""},null,null,null,"",null,null,null,{"$f":"IF(B899=\"\",\"\",IF(ISERROR(VLOOKUP(B899,database!$A$6:$BFQ$206,3,FALSE)),\"\",VLOOKUP(B899,database!$A$6:$BFQ$206,3,FALSE)))","v":""},null,null,null,null,null,null,""]
["",null,{"$f":"IF(B900=\"\",\"\",IF(ISERROR(VLOOKUP(B900,database!$A$6:$BFQ$206,4,FALSE)),\"\",VLOOKUP(B900,database!$A$6:$BFQ$206,4,FALSE)))","v":""},null,null,null,"",null,null,null,{"$f":"IF(B900=\"\",\"\",IF(ISERROR(VLOOKUP(B900,database!$A$6:$BFQ$206,3,FALSE)),\"\",VLOOKUP(B900,database!$A$6:$BFQ$206,3,FALSE)))","v":""},null,null,null,null,null,null,""]
["",null,{"$f":"IF(B901=\"\",\"\",IF(ISERROR(VLOOKUP(B901,database!$A$6:$BFQ$206,4,FALSE)),\"\",VLOOKUP(B901,database!$A$6:$BFQ$206,4,FALSE)))","v":""},null,null,null,"",null,null,null,{"$f":"IF(B901=\"\",\"\",IF(ISERROR(VLOOKUP(B901,database!$A$6:$BFQ$206,3,FALSE)),\"\",VLOOKUP(B901,database!$A$6:$BFQ$206,3,FALSE)))","v":""},null,null,null,null,null,null,""]
["",null,{"$f":"IF(B902=\"\",\"\",IF(ISERROR(VLOOKUP(B902,database!$A$6:$BFQ$206,4,FALSE)),\"\",VLOOKUP(B902,database!$A$6:$BFQ$206,4,FALSE)))","v":""},null,null,null,"",null,null,null,{"$f":"IF(B902=\"\",\"\",IF(ISERROR(VLOOKUP(B902,database!$A$6:$BFQ$206,3,FALSE)),\"\",VLOOKUP(B902,database!$A$6:$BFQ$206,3,FALSE)))","v":""},null,null,null,null,null,null,""]
["",null,{"$f":"IF(B903=\"\",\"\",IF(ISERROR(VLOOKUP(B903,database!$A$6:$BFQ$206,4,FALSE)),\"\",VLOOKUP(B903,database!$A$6:$BFQ$206,4,FALSE)))","v":""},null,null,null,"",null,null,null,{"$f":"IF(B903=\"\",\"\",IF(ISERROR(VLOOKUP(B903,database!$A$6:$BFQ$206,3,FALSE)),\"\",VLOOKUP(B903,database!$A$6:$BFQ$206,3,FALSE)))","v":""},null,null,null,null,null,null,""]
["",null,{"$f":"IF(B904=\"\",\"\",IF(ISERROR(VLOOKUP(B904,database!$A$6:$BFQ$206,4,FALSE)),\"\",VLOOKUP(B904,database!$A$6:$BFQ$206,4,FALSE)))","v":""},null,null,null,"",null,null,null,{"$f":"IF(B904=\"\",\"\",IF(ISERROR(VLOOKUP(B904,database!$A$6:$BFQ$206,3,FALSE)),\"\",VLOOKUP(B904,database!$A$6:$BFQ$206,3,FALSE)))","v":""},null,null,null,null,null,null,""]
["",null,{"$f":"IF(B905=\"\",\"\",IF(ISERROR(VLOOKUP(B905,database!$A$6:$BFQ$206,4,FALSE)),\"\",VLOOKUP(B905,database!$A$6:$BFQ$206,4,FALSE)))","v":""},null,null,null,"",null,null,null,{"$f":"IF(B905=\"\",\"\",IF(ISERROR(VLOOKUP(B905,database!$A$6:$BFQ$206,3,FALSE)),\"\",VLOOKUP(B905,database!$A$6:$BFQ$206,3,FALSE)))","v":""},null,null,null,null,null,null,""]
["",null,{"$f":"IF(B906=\"\",\"\",IF(ISERROR(VLOOKUP(B906,database!$A$6:$BFQ$206,4,FALSE)),\"\",VLOOKUP(B906,database!$A$6:$BFQ$206,4,FALSE)))","v":""},null,null,null,"",null,null,null,{"$f":"IF(B906=\"\",\"\",IF(ISERROR(VLOOKUP(B906,database!$A$6:$BFQ$206,3,FALSE)),\"\",VLOOKUP(B906,database!$A$6:$BFQ$206,3,FALSE)))","v":""},null,null,null,null,null,null,""]
["",null,{"$f":"IF(B907=\"\",\"\",IF(ISERROR(VLOOKUP(B907,database!$A$6:$BFQ$206,4,FALSE)),\"\",VLOOKUP(B907,database!$A$6:$BFQ$206,4,FALSE)))","v":""},null,null,null,"",null,null,null,{"$f":"IF(B907=\"\",\"\",IF(ISERROR(VLOOKUP(B907,database!$A$6:$BFQ$206,3,FALSE)),\"\",VLOOKUP(B907,database!$A$6:$BFQ$206,3,FALSE)))","v":""},null,null,null,null,null,null,""]
["",null,{"$f":"IF(B908=\"\",\"\",IF(ISERROR(VLOOKUP(B908,database!$A$6:$BFQ$206,4,FALSE)),\"\",VLOOKUP(B908,database!$A$6:$BFQ$206,4,FALSE)))","v":""},null,null,null,"",null,null,null,{"$f":"IF(B908=\"\",\"\",IF(ISERROR(VLOOKUP(B908,database!$A$6:$BFQ$206,3,FALSE)),\"\",VLOOKUP(B908,database!$A$6:$BFQ$206,3,FALSE)))","v":""},null,null,null,null,null,null,""]
["",null,{"$f":"IF(B909=\"\",\"\",IF(ISERROR(VLOOKUP(B909,database!$A$6:$BFQ$206,4,FALSE)),\"\",VLOOKUP(B909,database!$A$6:$BFQ$206,4,FALSE)))","v":""},null,null,null,"",null,null,null,{"$f":"IF(B909=\"\",\"\",IF(ISERROR(VLOOKUP(B909,database!$A$6:$BFQ$206,3,FALSE)),\"\",VLOOKUP(B909,database!$A$6:$BFQ$206,3,FALSE)))","v":""},null,null,null,null,null,null,""]
["",null,{"$f":"IF(B910=\"\",\"\",IF(ISERROR(VLOOKUP(B910,database!$A$6:$BFQ$206,4,FALSE)),\"\",VLOOKUP(B910,database!$A$6:$BFQ$206,4,FALSE)))","v":""},null,null,null,"",null,null,null,{"$f":"IF(B910=\"\",\"\",IF(ISERROR(VLOOKUP(B910,database!$A$6:$BFQ$206,3,FALSE)),\"\",VLOOKUP(B910,database!$A$6:$BFQ$206,3,FALSE)))","v":""},null,null,null,null,null,null,""]
["",null,{"$f":"IF(B911=\"\",\"\",IF(ISERROR(VLOOKUP(B911,database!$A$6:$BFQ$206,4,FALSE)),\"\",VLOOKUP(B911,database!$A$6:$BFQ$206,4,FALSE)))","v":""},null,null,null,"",null,null,null,{"$f":"IF(B911=\"\",\"\",IF(ISERROR(VLOOKUP(B911,database!$A$6:$BFQ$206,3,FALSE)),\"\",VLOOKUP(B911,database!$A$6:$BFQ$206,3,FALSE)))","v":""},null,null,null,null,null,null,""]
["",null,{"$f":"IF(B912=\"\",\"\",IF(ISERROR(VLOOKUP(B912,database!$A$6:$BFQ$206,4,FALSE)),\"\",VLOOKUP(B912,database!$A$6:$BFQ$206,4,FALSE)))","v":""},null,null,null,"",null,null,null,{"$f":"IF(B912=\"\",\"\",IF(ISERROR(VLOOKUP(B912,database!$A$6:$BFQ$206,3,FALSE)),\"\",VLOOKUP(B912,database!$A$6:$BFQ$206,3,FALSE)))","v":""},null,null,null,null,null,null,""]
["",null,{"$f":"IF(B913=\"\",\"\",IF(ISERROR(VLOOKUP(B913,database!$A$6:$BFQ$206,4,FALSE)),\"\",VLOOKUP(B913,database!$A$6:$BFQ$206,4,FALSE)))","v":""},null,null,null,"",null,null,null,{"$f":"IF(B913=\"\",\"\",IF(ISERROR(VLOOKUP(B913,database!$A$6:$BFQ$206,3,FALSE)),\"\",VLOOKUP(B913,database!$A$6:$BFQ$206,3,FALSE)))","v":""},null,null,null,null,null,null,""]
["",null,{"$f":"IF(B914=\"\",\"\",IF(ISERROR(VLOOKUP(B914,database!$A$6:$BFQ$206,4,FALSE)),\"\",VLOOKUP(B914,database!$A$6:$BFQ$206,4,FALSE)))","v":""},null,null,null,"",null,null,null,{"$f":"IF(B914=\"\",\"\",IF(ISERROR(VLOOKUP(B914,database!$A$6:$BFQ$206,3,FALSE)),\"\",VLOOKUP(B914,database!$A$6:$BFQ$206,3,FALSE)))","v":""},null,null,null,null,null,null,""]
["",null,{"$f":"IF(B915=\"\",\"\",IF(ISERROR(VLOOKUP(B915,database!$A$6:$BFQ$206,4,FALSE)),\"\",VLOOKUP(B915,database!$A$6:$BFQ$206,4,FALSE)))","v":""},null,null,null,"",null,null,null,{"$f":"IF(B915=\"\",\"\",IF(ISERROR(VLOOKUP(B915,database!$A$6:$BFQ$206,3,FALSE)),\"\",VLOOKUP(B915,database!$A$6:$BFQ$206,3,FALSE)))","v":""},null,null,null,null,null,null,""]
["",null,{"$f":"IF(B916=\"\",\"\",IF(ISERROR(VLOOKUP(B916,database!$A$6:$BFQ$206,4,FALSE)),\"\",VLOOKUP(B916,database!$A$6:$BFQ$206,4,FALSE)))","v":""},null,null,null,"",null,null,null,{"$f":"IF(B916=\"\",\"\",IF(ISERROR(VLOOKUP(B916,database!$A$6:$BFQ$206,3,FALSE)),\"\",VLOOKUP(B916,database!$A$6:$BFQ$206,3,FALSE)))","v":""},null,null,null,null,null,null,""]
["",null,{"$f":"IF(B917=\"\",\"\",IF(ISERROR(VLOOKUP(B917,database!$A$6:$BFQ$206,4,FALSE)),\"\",VLOOKUP(B917,database!$A$6:$BFQ$206,4,FALSE)))","v":""},null,null,null,"",null,null,null,{"$f":"IF(B917=\"\",\"\",IF(ISERROR(VLOOKUP(B917,database!$A$6:$BFQ$206,3,FALSE)),\"\",VLOOKUP(B917,database!$A$6:$BFQ$206,3,FALSE)))","v":""},null,null,null,null,null,null,""]
["",null,{"$f":"IF(B918=\"\",\"\",IF(ISERROR(VLOOKUP(B918,database!$A$6:$BFQ$206,4,FALSE)),\"\",VLOOKUP(B918,database!$A$6:$BFQ$206,4,FALSE)))","v":""},null,null,null,"",null,null,null,{"$f":"IF(B918=\"\",\"\",IF(ISERROR(VLOOKUP(B918,database!$A$6:$BFQ$206,3,FALSE)),\"\",VLOOKUP(B918,database!$A$6:$BFQ$206,3,FALSE)))","v":""},null,null,null,null,null,null,""]
["",null,{"$f":"IF(B919=\"\",\"\",IF(ISERROR(VLOOKUP(B919,database!$A$6:$BFQ$206,4,FALSE)),\"\",VLOOKUP(B919,database!$A$6:$BFQ$206,4,FALSE)))","v":""},null,null,null,"",null,null,null,{"$f":"IF(B919=\"\",\"\",IF(ISERROR(VLOOKUP(B919,database!$A$6:$BFQ$206,3,FALSE)),\"\",VLOOKUP(B919,database!$A$6:$BFQ$206,3,FALSE)))","v":""},null,null,null,null,null,null,""]
["",null,{"$f":"IF(B920=\"\",\"\",IF(ISERROR(VLOOKUP(B920,database!$A$6:$BFQ$206,4,FALSE)),\"\",VLOOKUP(B920,database!$A$6:$BFQ$206,4,FALSE)))","v":""},null,null,null,"",null,null,null,{"$f":"IF(B920=\"\",\"\",IF(ISERROR(VLOOKUP(B920,database!$A$6:$BFQ$206,3,FALSE)),\"\",VLOOKUP(B920,database!$A$6:$BFQ$206,3,FALSE)))","v":""},null,null,null,null,null,null,""]
["",null,{"$f":"IF(B921=\"\",\"\",IF(ISERROR(VLOOKUP(B921,database!$A$6:$BFQ$206,4,FALSE)),\"\",VLOOKUP(B921,database!$A$6:$BFQ$206,4,FALSE)))","v":""},null,null,null,"",null,null,null,{"$f":"IF(B921=\"\",\"\",IF(ISERROR(VLOOKUP(B921,database!$A$6:$BFQ$206,3,FALSE)),\"\",VLOOKUP(B921,database!$A$6:$BFQ$206,3,FALSE)))","v":""},null,null,null,null,null,null,""]
["",null,{"$f":"IF(B922=\"\",\"\",IF(ISERROR(VLOOKUP(B922,database!$A$6:$BFQ$206,4,FALSE)),\"\",VLOOKUP(B922,database!$A$6:$BFQ$206,4,FALSE)))","v":""},null,null,null,"",null,null,null,{"$f":"IF(B922=\"\",\"\",IF(ISERROR(VLOOKUP(B922,database!$A$6:$BFQ$206,3,FALSE)),\"\",VLOOKUP(B922,database!$A$6:$BFQ$206,3,FALSE)))","v":""},null,null,null,null,null,null,""]
["",null,{"$f":"IF(B923=\"\",\"\",IF(ISERROR(VLOOKUP(B923,database!$A$6:$BFQ$206,4,FALSE)),\"\",VLOOKUP(B923,database!$A$6:$BFQ$206,4,FALSE)))","v":""},null,null,null,"",null,null,null,{"$f":"IF(B923=\"\",\"\",IF(ISERROR(VLOOKUP(B923,database!$A$6:$BFQ$206,3,FALSE)),\"\",VLOOKUP(B923,database!$A$6:$BFQ$206,3,FALSE)))","v":""},null,null,null,null,null,null,""]
["",null,{"$f":"IF(B924=\"\",\"\",IF(ISERROR(VLOOKUP(B924,database!$A$6:$BFQ$206,4,FALSE)),\"\",VLOOKUP(B924,database!$A$6:$BFQ$206,4,FALSE)))","v":""},null,null,null,"",null,null,null,{"$f":"IF(B924=\"\",\"\",IF(ISERROR(VLOOKUP(B924,database!$A$6:$BFQ$206,3,FALSE)),\"\",VLOOKUP(B924,database!$A$6:$BFQ$206,3,FALSE)))","v":""},null,null,null,null,null,null,""]
["",null,{"$f":"IF(B925=\"\",\"\",IF(ISERROR(VLOOKUP(B925,database!$A$6:$BFQ$206,4,FALSE)),\"\",VLOOKUP(B925,database!$A$6:$BFQ$206,4,FALSE)))","v":""},null,null,null,"",null,null,null,{"$f":"IF(B925=\"\",\"\",IF(ISERROR(VLOOKUP(B925,database!$A$6:$BFQ$206,3,FALSE)),\"\",VLOOKUP(B925,database!$A$6:$BFQ$206,3,FALSE)))","v":""},null,null,null,null,null,null,""]
["",null,{"$f":"IF(B926=\"\",\"\",IF(ISERROR(VLOOKUP(B926,database!$A$6:$BFQ$206,4,FALSE)),\"\",VLOOKUP(B926,database!$A$6:$BFQ$206,4,FALSE)))","v":""},null,null,null,"",null,null,null,{"$f":"IF(B926=\"\",\"\",IF(ISERROR(VLOOKUP(B926,database!$A$6:$BFQ$206,3,FALSE)),\"\",VLOOKUP(B926,database!$A$6:$BFQ$206,3,FALSE)))","v":""},null,null,null,null,null,null,""]
["",null,{"$f":"IF(B927=\"\",\"\",IF(ISERROR(VLOOKUP(B927,database!$A$6:$BFQ$206,4,FALSE)),\"\",VLOOKUP(B927,database!$A$6:$BFQ$206,4,FALSE)))","v":""},null,null,null,"",null,null,null,{"$f":"IF(B927=\"\",\"\",IF(ISERROR(VLOOKUP(B927,database!$A$6:$BFQ$206,3,FALSE)),\"\",VLOOKUP(B927,database!$A$6:$BFQ$206,3,FALSE)))","v":""},null,null,null,null,null,null,""]
["",null,{"$f":"IF(B928=\"\",\"\",IF(ISERROR(VLOOKUP(B928,database!$A$6:$BFQ$206,4,FALSE)),\"\",VLOOKUP(B928,database!$A$6:$BFQ$206,4,FALSE)))","v":""},null,null,null,"",null,null,null,{"$f":"IF(B928=\"\",\"\",IF(ISERROR(VLOOKUP(B928,database!$A$6:$BFQ$206,3,FALSE)),\"\",VLOOKUP(B928,database!$A$6:$BFQ$206,3,FALSE)))","v":""},null,null,null,null,null,null,""]
["",null,{"$f":"IF(B929=\"\",\"\",IF(ISERROR(VLOOKUP(B929,database!$A$6:$BFQ$206,4,FALSE)),\"\",VLOOKUP(B929,database!$A$6:$BFQ$206,4,FALSE)))","v":""},null,null,null,"",null,null,null,{"$f":"IF(B929=\"\",\"\",IF(ISERROR(VLOOKUP(B929,database!$A$6:$BFQ$206,3,FALSE)),\"\",VLOOKUP(B929,database!$A$6:$BFQ$206,3,FALSE)))","v":""},null,null,null,null,null,null,""]
["",null,{"$f":"IF(B930=\"\",\"\",IF(ISERROR(VLOOKUP(B930,database!$A$6:$BFQ$206,4,FALSE)),\"\",VLOOKUP(B930,database!$A$6:$BFQ$206,4,FALSE)))","v":""},null,null,null,"",null,null,null,{"$f":"IF(B930=\"\",\"\",IF(ISERROR(VLOOKUP(B930,database!$A$6:$BFQ$206,3,FALSE)),\"\",VLOOKUP(B930,database!$A$6:$BFQ$206,3,FALSE)))","v":""},null,null,null,null,null,null,""]
["",null,{"$f":"IF(B931=\"\",\"\",IF(ISERROR(VLOOKUP(B931,database!$A$6:$BFQ$206,4,FALSE)),\"\",VLOOKUP(B931,database!$A$6:$BFQ$206,4,FALSE)))","v":""},null,null,null,"",null,null,null,{"$f":"IF(B931=\"\",\"\",IF(ISERROR(VLOOKUP(B931,database!$A$6:$BFQ$206,3,FALSE)),\"\",VLOOKUP(B931,database!$A$6:$BFQ$206,3,FALSE)))","v":""},null,null,null,null,null,null,""]
["",null,{"$f":"IF(B932=\"\",\"\",IF(ISERROR(VLOOKUP(B932,database!$A$6:$BFQ$206,4,FALSE)),\"\",VLOOKUP(B932,database!$A$6:$BFQ$206,4,FALSE)))","v":""},null,null,null,"",null,null,null,{"$f":"IF(B932=\"\",\"\",IF(ISERROR(VLOOKUP(B932,database!$A$6:$BFQ$206,3,FALSE)),\"\",VLOOKUP(B932,database!$A$6:$BFQ$206,3,FALSE)))","v":""},null,null,null,null,null,null,""]
["",null,{"$f":"IF(B933=\"\",\"\",IF(ISERROR(VLOOKUP(B933,database!$A$6:$BFQ$206,4,FALSE)),\"\",VLOOKUP(B933,database!$A$6:$BFQ$206,4,FALSE)))","v":""},null,null,null,"",null,null,null,{"$f":"IF(B933=\"\",\"\",IF(ISERROR(VLOOKUP(B933,database!$A$6:$BFQ$206,3,FALSE)),\"\",VLOOKUP(B933,database!$A$6:$BFQ$206,3,FALSE)))","v":""},null,null,null,null,null,null,""]
["",null,{"$f":"IF(B934=\"\",\"\",IF(ISERROR(VLOOKUP(B934,database!$A$6:$BFQ$206,4,FALSE)),\"\",VLOOKUP(B934,database!$A$6:$BFQ$206,4,FALSE)))","v":""},null,null,null,"",null,null,null,{"$f":"IF(B934=\"\",\"\",IF(ISERROR(VLOOKUP(B934,database!$A$6:$BFQ$206,3,FALSE)),\"\",VLOOKUP(B934,database!$A$6:$BFQ$206,3,FALSE)))","v":""},null,null,null,null,null,null,""]
["",null,{"$f":"IF(B935=\"\",\"\",IF(ISERROR(VLOOKUP(B935,database!$A$6:$BFQ$206,4,FALSE)),\"\",VLOOKUP(B935,database!$A$6:$BFQ$206,4,FALSE)))","v":""},null,null,null,"",null,null,null,{"$f":"IF(B935=\"\",\"\",IF(ISERROR(VLOOKUP(B935,database!$A$6:$BFQ$206,3,FALSE)),\"\",VLOOKUP(B935,database!$A$6:$BFQ$206,3,FALSE)))","v":""},null,null,null,null,null,null,""]
["",null,{"$f":"IF(B936=\"\",\"\",IF(ISERROR(VLOOKUP(B936,database!$A$6:$BFQ$206,4,FALSE)),\"\",VLOOKUP(B936,database!$A$6:$BFQ$206,4,FALSE)))","v":""},null,null,null,"",null,null,null,{"$f":"IF(B936=\"\",\"\",IF(ISERROR(VLOOKUP(B936,database!$A$6:$BFQ$206,3,FALSE)),\"\",VLOOKUP(B936,database!$A$6:$BFQ$206,3,FALSE)))","v":""},null,null,null,null,null,null,""]
["",null,{"$f":"IF(B937=\"\",\"\",IF(ISERROR(VLOOKUP(B937,database!$A$6:$BFQ$206,4,FALSE)),\"\",VLOOKUP(B937,database!$A$6:$BFQ$206,4,FALSE)))","v":""},null,null,null,"",null,null,null,{"$f":"IF(B937=\"\",\"\",IF(ISERROR(VLOOKUP(B937,database!$A$6:$BFQ$206,3,FALSE)),\"\",VLOOKUP(B937,database!$A$6:$BFQ$206,3,FALSE)))","v":""},null,null,null,null,null,null,""]
["",null,{"$f":"IF(B938=\"\",\"\",IF(ISERROR(VLOOKUP(B938,database!$A$6:$BFQ$206,4,FALSE)),\"\",VLOOKUP(B938,database!$A$6:$BFQ$206,4,FALSE)))","v":""},null,null,null,"",null,null,null,{"$f":"IF(B938=\"\",\"\",IF(ISERROR(VLOOKUP(B938,database!$A$6:$BFQ$206,3,FALSE)),\"\",VLOOKUP(B938,database!$A$6:$BFQ$206,3,FALSE)))","v":""},null,null,null,null,null,null,""]
["",null,{"$f":"IF(B939=\"\",\"\",IF(ISERROR(VLOOKUP(B939,database!$A$6:$BFQ$206,4,FALSE)),\"\",VLOOKUP(B939,database!$A$6:$BFQ$206,4,FALSE)))","v":""},null,null,null,"",null,null,null,{"$f":"IF(B939=\"\",\"\",IF(ISERROR(VLOOKUP(B939,database!$A$6:$BFQ$206,3,FALSE)),\"\",VLOOKUP(B939,database!$A$6:$BFQ$206,3,FALSE)))","v":""},null,null,null,null,null,null,""]
["",null,{"$f":"IF(B940=\"\",\"\",IF(ISERROR(VLOOKUP(B940,database!$A$6:$BFQ$206,4,FALSE)),\"\",VLOOKUP(B940,database!$A$6:$BFQ$206,4,FALSE)))","v":""},null,null,null,"",null,null,null,{"$f":"IF(B940=\"\",\"\",IF(ISERROR(VLOOKUP(B940,database!$A$6:$BFQ$206,3,FALSE)),\"\",VLOOKUP(B940,database!$A$6:$BFQ$206,3,FALSE)))","v":""},null,null,null,null,null,null,""]
["",null,{"$f":"IF(B941=\"\",\"\",IF(ISERROR(VLOOKUP(B941,database!$A$6:$BFQ$206,4,FALSE)),\"\",VLOOKUP(B941,database!$A$6:$BFQ$206,4,FALSE)))","v":""},null,null,null,"",null,null,null,{"$f":"IF(B941=\"\",\"\",IF(ISERROR(VLOOKUP(B941,database!$A$6:$BFQ$206,3,FALSE)),\"\",VLOOKUP(B941,database!$A$6:$BFQ$206,3,FALSE)))","v":""},null,null,null,null,null,null,""]
["",null,{"$f":"IF(B942=\"\",\"\",IF(ISERROR(VLOOKUP(B942,database!$A$6:$BFQ$206,4,FALSE)),\"\",VLOOKUP(B942,database!$A$6:$BFQ$206,4,FALSE)))","v":""},null,null,null,"",null,null,null,{"$f":"IF(B942=\"\",\"\",IF(ISERROR(VLOOKUP(B942,database!$A$6:$BFQ$206,3,FALSE)),\"\",VLOOKUP(B942,database!$A$6:$BFQ$206,3,FALSE)))","v":""},null,null,null,null,null,null,""]
["",null,{"$f":"IF(B943=\"\",\"\",IF(ISERROR(VLOOKUP(B943,database!$A$6:$BFQ$206,4,FALSE)),\"\",VLOOKUP(B943,database!$A$6:$BFQ$206,4,FALSE)))","v":""},null,null,null,"",null,null,null,{"$f":"IF(B943=\"\",\"\",IF(ISERROR(VLOOKUP(B943,database!$A$6:$BFQ$206,3,FALSE)),\"\",VLOOKUP(B943,database!$A$6:$BFQ$206,3,FALSE)))","v":""},null,null,null,null,null,null,""]
["",null,{"$f":"IF(B944=\"\",\"\",IF(ISERROR(VLOOKUP(B944,database!$A$6:$BFQ$206,4,FALSE)),\"\",VLOOKUP(B944,database!$A$6:$BFQ$206,4,FALSE)))","v":""},null,null,null,"",null,null,null,{"$f":"IF(B944=\"\",\"\",IF(ISERROR(VLOOKUP(B944,database!$A$6:$BFQ$206,3,FALSE)),\"\",VLOOKUP(B944,database!$A$6:$BFQ$206,3,FALSE)))","v":""},null,null,null,null,null,null,""]
["",null,{"$f":"IF(B945=\"\",\"\",IF(ISERROR(VLOOKUP(B945,database!$A$6:$BFQ$206,4,FALSE)),\"\",VLOOKUP(B945,database!$A$6:$BFQ$206,4,FALSE)))","v":""},null,null,null,"",null,null,null,{"$f":"IF(B945=\"\",\"\",IF(ISERROR(VLOOKUP(B945,database!$A$6:$BFQ$206,3,FALSE)),\"\",VLOOKUP(B945,database!$A$6:$BFQ$206,3,FALSE)))","v":""},null,null,null,null,null,null,""]
["",null,{"$f":"IF(B946=\"\",\"\",IF(ISERROR(VLOOKUP(B946,database!$A$6:$BFQ$206,4,FALSE)),\"\",VLOOKUP(B946,database!$A$6:$BFQ$206,4,FALSE)))","v":""},null,null,null,"",null,null,null,{"$f":"IF(B946=\"\",\"\",IF(ISERROR(VLOOKUP(B946,database!$A$6:$BFQ$206,3,FALSE)),\"\",VLOOKUP(B946,database!$A$6:$BFQ$206,3,FALSE)))","v":""},null,null,null,null,null,null,""]
["",null,{"$f":"IF(B947=\"\",\"\",IF(ISERROR(VLOOKUP(B947,database!$A$6:$BFQ$206,4,FALSE)),\"\",VLOOKUP(B947,database!$A$6:$BFQ$206,4,FALSE)))","v":""},null,null,null,"",null,null,null,{"$f":"IF(B947=\"\",\"\",IF(ISERROR(VLOOKUP(B947,database!$A$6:$BFQ$206,3,FALSE)),\"\",VLOOKUP(B947,database!$A$6:$BFQ$206,3,FALSE)))","v":""},null,null,null,null,null,null,""]
["",null,{"$f":"IF(B948=\"\",\"\",IF(ISERROR(VLOOKUP(B948,database!$A$6:$BFQ$206,4,FALSE)),\"\",VLOOKUP(B948,database!$A$6:$BFQ$206,4,FALSE)))","v":""},null,null,null,"",null,null,null,{"$f":"IF(B948=\"\",\"\",IF(ISERROR(VLOOKUP(B948,database!$A$6:$BFQ$206,3,FALSE)),\"\",VLOOKUP(B948,database!$A$6:$BFQ$206,3,FALSE)))","v":""},null,null,null,null,null,null,""]
["",null,{"$f":"IF(B949=\"\",\"\",IF(ISERROR(VLOOKUP(B949,database!$A$6:$BFQ$206,4,FALSE)),\"\",VLOOKUP(B949,database!$A$6:$BFQ$206,4,FALSE)))","v":""},null,null,null,"",null,null,null,{"$f":"IF(B949=\"\",\"\",IF(ISERROR(VLOOKUP(B949,database!$A$6:$BFQ$206,3,FALSE)),\"\",VLOOKUP(B949,database!$A$6:$BFQ$206,3,FALSE)))","v":""},null,null,null,null,null,null,""]
["",null,{"$f":"IF(B950=\"\",\"\",IF(ISERROR(VLOOKUP(B950,database!$A$6:$BFQ$206,4,FALSE)),\"\",VLOOKUP(B950,database!$A$6:$BFQ$206,4,FALSE)))","v":""},null,null,null,"",null,null,null,{"$f":"IF(B950=\"\",\"\",IF(ISERROR(VLOOKUP(B950,database!$A$6:$BFQ$206,3,FALSE)),\"\",VLOOKUP(B950,database!$A$6:$BFQ$206,3,FALSE)))","v":""},null,null,null,null,null,null,""]
["",null,{"$f":"IF(B951=\"\",\"\",IF(ISERROR(VLOOKUP(B951,database!$A$6:$BFQ$206,4,FALSE)),\"\",VLOOKUP(B951,database!$A$6:$BFQ$206,4,FALSE)))","v":""},null,null,null,"",null,null,null,{"$f":"IF(B951=\"\",\"\",IF(ISERROR(VLOOKUP(B951,database!$A$6:$BFQ$206,3,FALSE)),\"\",VLOOKUP(B951,database!$A$6:$BFQ$206,3,FALSE)))","v":""},null,null,null,null,null,null,""]
["",null,{"$f":"IF(B952=\"\",\"\",IF(ISERROR(VLOOKUP(B952,database!$A$6:$BFQ$206,4,FALSE)),\"\",VLOOKUP(B952,database!$A$6:$BFQ$206,4,FALSE)))","v":""},null,null,null,"",null,null,null,{"$f":"IF(B952=\"\",\"\",IF(ISERROR(VLOOKUP(B952,database!$A$6:$BFQ$206,3,FALSE)),\"\",VLOOKUP(B952,database!$A$6:$BFQ$206,3,FALSE)))","v":""},null,null,null,null,null,null,""]
["",null,{"$f":"IF(B953=\"\",\"\",IF(ISERROR(VLOOKUP(B953,database!$A$6:$BFQ$206,4,FALSE)),\"\",VLOOKUP(B953,database!$A$6:$BFQ$206,4,FALSE)))","v":""},null,null,null,"",null,null,null,{"$f":"IF(B953=\"\",\"\",IF(ISERROR(VLOOKUP(B953,database!$A$6:$BFQ$206,3,FALSE)),\"\",VLOOKUP(B953,database!$A$6:$BFQ$206,3,FALSE)))","v":""},null,null,null,null,null,null,""]
["",null,{"$f":"IF(B954=\"\",\"\",IF(ISERROR(VLOOKUP(B954,database!$A$6:$BFQ$206,4,FALSE)),\"\",VLOOKUP(B954,database!$A$6:$BFQ$206,4,FALSE)))","v":""},null,null,null,"",null,null,null,{"$f":"IF(B954=\"\",\"\",IF(ISERROR(VLOOKUP(B954,database!$A$6:$BFQ$206,3,FALSE)),\"\",VLOOKUP(B954,database!$A$6:$BFQ$206,3,FALSE)))","v":""},null,null,null,null,null,null,""]
["",null,{"$f":"IF(B955=\"\",\"\",IF(ISERROR(VLOOKUP(B955,database!$A$6:$BFQ$206,4,FALSE)),\"\",VLOOKUP(B955,database!$A$6:$BFQ$206,4,FALSE)))","v":""},null,null,null,"",null,null,null,{"$f":"IF(B955=\"\",\"\",IF(ISERROR(VLOOKUP(B955,database!$A$6:$BFQ$206,3,FALSE)),\"\",VLOOKUP(B955,database!$A$6:$BFQ$206,3,FALSE)))","v":""},null,null,null,null,null,null,""]
["",null,{"$f":"IF(B956=\"\",\"\",IF(ISERROR(VLOOKUP(B956,database!$A$6:$BFQ$206,4,FALSE)),\"\",VLOOKUP(B956,database!$A$6:$BFQ$206,4,FALSE)))","v":""},null,null,null,"",null,null,null,{"$f":"IF(B956=\"\",\"\",IF(ISERROR(VLOOKUP(B956,database!$A$6:$BFQ$206,3,FALSE)),\"\",VLOOKUP(B956,database!$A$6:$BFQ$206,3,FALSE)))","v":""},null,null,null,null,null,null,""]
["",null,{"$f":"IF(B957=\"\",\"\",IF(ISERROR(VLOOKUP(B957,database!$A$6:$BFQ$206,4,FALSE)),\"\",VLOOKUP(B957,database!$A$6:$BFQ$206,4,FALSE)))","v":""},null,null,null,"",null,null,null,{"$f":"IF(B957=\"\",\"\",IF(ISERROR(VLOOKUP(B957,database!$A$6:$BFQ$206,3,FALSE)),\"\",VLOOKUP(B957,database!$A$6:$BFQ$206,3,FALSE)))","v":""},null,null,null,null,null,null,""]
["",null,{"$f":"IF(B958=\"\",\"\",IF(ISERROR(VLOOKUP(B958,database!$A$6:$BFQ$206,4,FALSE)),\"\",VLOOKUP(B958,database!$A$6:$BFQ$206,4,FALSE)))","v":""},null,null,null,"",null,null,null,{"$f":"IF(B958=\"\",\"\",IF(ISERROR(VLOOKUP(B958,database!$A$6:$BFQ$206,3,FALSE)),\"\",VLOOKUP(B958,database!$A$6:$BFQ$206,3,FALSE)))","v":""},null,null,null,null,null,null,""]
["",null,{"$f":"IF(B959=\"\",\"\",IF(ISERROR(VLOOKUP(B959,database!$A$6:$BFQ$206,4,FALSE)),\"\",VLOOKUP(B959,database!$A$6:$BFQ$206,4,FALSE)))","v":""},null,null,null,"",null,null,null,{"$f":"IF(B959=\"\",\"\",IF(ISERROR(VLOOKUP(B959,database!$A$6:$BFQ$206,3,FALSE)),\"\",VLOOKUP(B959,database!$A$6:$BFQ$206,3,FALSE)))","v":""},null,null,null,null,null,null,""]
["",null,{"$f":"IF(B960=\"\",\"\",IF(ISERROR(VLOOKUP(B960,database!$A$6:$BFQ$206,4,FALSE)),\"\",VLOOKUP(B960,database!$A$6:$BFQ$206,4,FALSE)))","v":""},null,null,null,"",null,null,null,{"$f":"IF(B960=\"\",\"\",IF(ISERROR(VLOOKUP(B960,database!$A$6:$BFQ$206,3,FALSE)),\"\",VLOOKUP(B960,database!$A$6:$BFQ$206,3,FALSE)))","v":""},null,null,null,null,null,null,""]
[{"$f":"IF(B961=\"\",\"\",ROW(A958))","v":""},null,{"$f":"IF(B961=\"\",\"\",IF(ISERROR(VLOOKUP(B961,database!$A$6:$BFQ$206,4,FALSE)),\"\",VLOOKUP(B961,database!$A$6:$BFQ$206,4,FALSE)))","v":""},null,null,null,{"$f":"IF(B961=\"\",\"\",IF(C961=\"\",0,1))","v":""},null,null,null,{"$f":"IF(B961=\"\",\"\",IF(ISERROR(VLOOKUP(B961,database!$A$6:$BFQ$206,3,FALSE)),\"\",VLOOKUP(B961,database!$A$6:$BFQ$206,3,FALSE)))","v":""},null,null,null,null,null,null,{"$f":"LEFT(C961,2)","v":""}]
["",null,{"$f":"IF(B962=\"\",\"\",IF(ISERROR(VLOOKUP(B962,database!$A$6:$BFQ$206,4,FALSE)),\"\",VLOOKUP(B962,database!$A$6:$BFQ$206,4,FALSE)))","v":""},null,null,null,"",null,null,null,{"$f":"IF(B962=\"\",\"\",IF(ISERROR(VLOOKUP(B962,database!$A$6:$BFQ$206,3,FALSE)),\"\",VLOOKUP(B962,database!$A$6:$BFQ$206,3,FALSE)))","v":""},null,null,null,null,null,null,""]
["",null,{"$f":"IF(B963=\"\",\"\",IF(ISERROR(VLOOKUP(B963,database!$A$6:$BFQ$206,4,FALSE)),\"\",VLOOKUP(B963,database!$A$6:$BFQ$206,4,FALSE)))","v":""},null,null,null,"",null,null,null,{"$f":"IF(B963=\"\",\"\",IF(ISERROR(VLOOKUP(B963,database!$A$6:$BFQ$206,3,FALSE)),\"\",VLOOKUP(B963,database!$A$6:$BFQ$206,3,FALSE)))","v":""},null,null,null,null,null,null,""]
["",null,{"$f":"IF(B964=\"\",\"\",IF(ISERROR(VLOOKUP(B964,database!$A$6:$BFQ$206,4,FALSE)),\"\",VLOOKUP(B964,database!$A$6:$BFQ$206,4,FALSE)))","v":""},null,null,null,"",null,null,null,{"$f":"IF(B964=\"\",\"\",IF(ISERROR(VLOOKUP(B964,database!$A$6:$BFQ$206,3,FALSE)),\"\",VLOOKUP(B964,database!$A$6:$BFQ$206,3,FALSE)))","v":""},null,null,null,null,null,null,""]
["",null,{"$f":"IF(B965=\"\",\"\",IF(ISERROR(VLOOKUP(B965,database!$A$6:$BFQ$206,4,FALSE)),\"\",VLOOKUP(B965,database!$A$6:$BFQ$206,4,FALSE)))","v":""},null,null,null,"",null,null,null,{"$f":"IF(B965=\"\",\"\",IF(ISERROR(VLOOKUP(B965,database!$A$6:$BFQ$206,3,FALSE)),\"\",VLOOKUP(B965,database!$A$6:$BFQ$206,3,FALSE)))","v":""},null,null,null,null,null,null,""]
["",null,{"$f":"IF(B966=\"\",\"\",IF(ISERROR(VLOOKUP(B966,database!$A$6:$BFQ$206,4,FALSE)),\"\",VLOOKUP(B966,database!$A$6:$BFQ$206,4,FALSE)))","v":""},null,null,null,"",null,null,null,{"$f":"IF(B966=\"\",\"\",IF(ISERROR(VLOOKUP(B966,database!$A$6:$BFQ$206,3,FALSE)),\"\",VLOOKUP(B966,database!$A$6:$BFQ$206,3,FALSE)))","v":""},null,null,null,null,null,null,""]
["",null,{"$f":"IF(B967=\"\",\"\",IF(ISERROR(VLOOKUP(B967,database!$A$6:$BFQ$206,4,FALSE)),\"\",VLOOKUP(B967,database!$A$6:$BFQ$206,4,FALSE)))","v":""},null,null,null,"",null,null,null,{"$f":"IF(B967=\"\",\"\",IF(ISERROR(VLOOKUP(B967,database!$A$6:$BFQ$206,3,FALSE)),\"\",VLOOKUP(B967,database!$A$6:$BFQ$206,3,FALSE)))","v":""},null,null,null,null,null,null,""]
["",null,{"$f":"IF(B968=\"\",\"\",IF(ISERROR(VLOOKUP(B968,database!$A$6:$BFQ$206,4,FALSE)),\"\",VLOOKUP(B968,database!$A$6:$BFQ$206,4,FALSE)))","v":""},null,null,null,"",null,null,null,{"$f":"IF(B968=\"\",\"\",IF(ISERROR(VLOOKUP(B968,database!$A$6:$BFQ$206,3,FALSE)),\"\",VLOOKUP(B968,database!$A$6:$BFQ$206,3,FALSE)))","v":""},null,null,null,null,null,null,""]
["",null,{"$f":"IF(B969=\"\",\"\",IF(ISERROR(VLOOKUP(B969,database!$A$6:$BFQ$206,4,FALSE)),\"\",VLOOKUP(B969,database!$A$6:$BFQ$206,4,FALSE)))","v":""},null,null,null,"",null,null,null,{"$f":"IF(B969=\"\",\"\",IF(ISERROR(VLOOKUP(B969,database!$A$6:$BFQ$206,3,FALSE)),\"\",VLOOKUP(B969,database!$A$6:$BFQ$206,3,FALSE)))","v":""},null,null,null,null,null,null,""]
["",null,{"$f":"IF(B970=\"\",\"\",IF(ISERROR(VLOOKUP(B970,database!$A$6:$BFQ$206,4,FALSE)),\"\",VLOOKUP(B970,database!$A$6:$BFQ$206,4,FALSE)))","v":""},null,null,null,"",null,null,null,{"$f":"IF(B970=\"\",\"\",IF(ISERROR(VLOOKUP(B970,database!$A$6:$BFQ$206,3,FALSE)),\"\",VLOOKUP(B970,database!$A$6:$BFQ$206,3,FALSE)))","v":""},null,null,null,null,null,null,""]
["",null,{"$f":"IF(B971=\"\",\"\",IF(ISERROR(VLOOKUP(B971,database!$A$6:$BFQ$206,4,FALSE)),\"\",VLOOKUP(B971,database!$A$6:$BFQ$206,4,FALSE)))","v":""},null,null,null,"",null,null,null,{"$f":"IF(B971=\"\",\"\",IF(ISERROR(VLOOKUP(B971,database!$A$6:$BFQ$206,3,FALSE)),\"\",VLOOKUP(B971,database!$A$6:$BFQ$206,3,FALSE)))","v":""},null,null,null,null,null,null,""]
["",null,{"$f":"IF(B972=\"\",\"\",IF(ISERROR(VLOOKUP(B972,database!$A$6:$BFQ$206,4,FALSE)),\"\",VLOOKUP(B972,database!$A$6:$BFQ$206,4,FALSE)))","v":""},null,null,null,"",null,null,null,{"$f":"IF(B972=\"\",\"\",IF(ISERROR(VLOOKUP(B972,database!$A$6:$BFQ$206,3,FALSE)),\"\",VLOOKUP(B972,database!$A$6:$BFQ$206,3,FALSE)))","v":""},null,null,null,null,null,null,""]
["",null,{"$f":"IF(B973=\"\",\"\",IF(ISERROR(VLOOKUP(B973,database!$A$6:$BFQ$206,4,FALSE)),\"\",VLOOKUP(B973,database!$A$6:$BFQ$206,4,FALSE)))","v":""},null,null,null,"",null,null,null,{"$f":"IF(B973=\"\",\"\",IF(ISERROR(VLOOKUP(B973,database!$A$6:$BFQ$206,3,FALSE)),\"\",VLOOKUP(B973,database!$A$6:$BFQ$206,3,FALSE)))","v":""},null,null,null,null,null,null,""]
["",null,{"$f":"IF(B974=\"\",\"\",IF(ISERROR(VLOOKUP(B974,database!$A$6:$BFQ$206,4,FALSE)),\"\",VLOOKUP(B974,database!$A$6:$BFQ$206,4,FALSE)))","v":""},null,null,null,"",null,null,null,{"$f":"IF(B974=\"\",\"\",IF(ISERROR(VLOOKUP(B974,database!$A$6:$BFQ$206,3,FALSE)),\"\",VLOOKUP(B974,database!$A$6:$BFQ$206,3,FALSE)))","v":""},null,null,null,null,null,null,""]
["",null,{"$f":"IF(B975=\"\",\"\",IF(ISERROR(VLOOKUP(B975,database!$A$6:$BFQ$206,4,FALSE)),\"\",VLOOKUP(B975,database!$A$6:$BFQ$206,4,FALSE)))","v":""},null,null,null,"",null,null,null,{"$f":"IF(B975=\"\",\"\",IF(ISERROR(VLOOKUP(B975,database!$A$6:$BFQ$206,3,FALSE)),\"\",VLOOKUP(B975,database!$A$6:$BFQ$206,3,FALSE)))","v":""},null,null,null,null,null,null,""]
["",null,{"$f":"IF(B976=\"\",\"\",IF(ISERROR(VLOOKUP(B976,database!$A$6:$BFQ$206,4,FALSE)),\"\",VLOOKUP(B976,database!$A$6:$BFQ$206,4,FALSE)))","v":""},null,null,null,"",null,null,null,{"$f":"IF(B976=\"\",\"\",IF(ISERROR(VLOOKUP(B976,database!$A$6:$BFQ$206,3,FALSE)),\"\",VLOOKUP(B976,database!$A$6:$BFQ$206,3,FALSE)))","v":""},null,null,null,null,null,null,""]
["",null,{"$f":"IF(B977=\"\",\"\",IF(ISERROR(VLOOKUP(B977,database!$A$6:$BFQ$206,4,FALSE)),\"\",VLOOKUP(B977,database!$A$6:$BFQ$206,4,FALSE)))","v":""},null,null,null,"",null,null,null,{"$f":"IF(B977=\"\",\"\",IF(ISERROR(VLOOKUP(B977,database!$A$6:$BFQ$206,3,FALSE)),\"\",VLOOKUP(B977,database!$A$6:$BFQ$206,3,FALSE)))","v":""},null,null,null,null,null,null,""]
["",null,{"$f":"IF(B978=\"\",\"\",IF(ISERROR(VLOOKUP(B978,database!$A$6:$BFQ$206,4,FALSE)),\"\",VLOOKUP(B978,database!$A$6:$BFQ$206,4,FALSE)))","v":""},null,null,null,"",null,null,null,{"$f":"IF(B978=\"\",\"\",IF(ISERROR(VLOOKUP(B978,database!$A$6:$BFQ$206,3,FALSE)),\"\",VLOOKUP(B978,database!$A$6:$BFQ$206,3,FALSE)))","v":""},null,null,null,null,null,null,""]
["",null,{"$f":"IF(B979=\"\",\"\",IF(ISERROR(VLOOKUP(B979,database!$A$6:$BFQ$206,4,FALSE)),\"\",VLOOKUP(B979,database!$A$6:$BFQ$206,4,FALSE)))","v":""},null,null,null,"",null,null,null,{"$f":"IF(B979=\"\",\"\",IF(ISERROR(VLOOKUP(B979,database!$A$6:$BFQ$206,3,FALSE)),\"\",VLOOKUP(B979,database!$A$6:$BFQ$206,3,FALSE)))","v":""},null,null,null,null,null,null,""]
["",null,{"$f":"IF(B980=\"\",\"\",IF(ISERROR(VLOOKUP(B980,database!$A$6:$BFQ$206,4,FALSE)),\"\",VLOOKUP(B980,database!$A$6:$BFQ$206,4,FALSE)))","v":""},null,null,null,"",null,null,null,{"$f":"IF(B980=\"\",\"\",IF(ISERROR(VLOOKUP(B980,database!$A$6:$BFQ$206,3,FALSE)),\"\",VLOOKUP(B980,database!$A$6:$BFQ$206,3,FALSE)))","v":""},null,null,null,null,null,null,""]
["",null,{"$f":"IF(B981=\"\",\"\",IF(ISERROR(VLOOKUP(B981,database!$A$6:$BFQ$206,4,FALSE)),\"\",VLOOKUP(B981,database!$A$6:$BFQ$206,4,FALSE)))","v":""},null,null,null,"",null,null,null,{"$f":"IF(B981=\"\",\"\",IF(ISERROR(VLOOKUP(B981,database!$A$6:$BFQ$206,3,FALSE)),\"\",VLOOKUP(B981,database!$A$6:$BFQ$206,3,FALSE)))","v":""},null,null,null,null,null,null,""]
["",null,{"$f":"IF(B982=\"\",\"\",IF(ISERROR(VLOOKUP(B982,database!$A$6:$BFQ$206,4,FALSE)),\"\",VLOOKUP(B982,database!$A$6:$BFQ$206,4,FALSE)))","v":""},null,null,null,"",null,null,null,{"$f":"IF(B982=\"\",\"\",IF(ISERROR(VLOOKUP(B982,database!$A$6:$BFQ$206,3,FALSE)),\"\",VLOOKUP(B982,database!$A$6:$BFQ$206,3,FALSE)))","v":""},null,null,null,null,null,null,""]
["",null,{"$f":"IF(B983=\"\",\"\",IF(ISERROR(VLOOKUP(B983,database!$A$6:$BFQ$206,4,FALSE)),\"\",VLOOKUP(B983,database!$A$6:$BFQ$206,4,FALSE)))","v":""},null,null,null,"",null,null,null,{"$f":"IF(B983=\"\",\"\",IF(ISERROR(VLOOKUP(B983,database!$A$6:$BFQ$206,3,FALSE)),\"\",VLOOKUP(B983,database!$A$6:$BFQ$206,3,FALSE)))","v":""},null,null,null,null,null,null,""]
["",null,{"$f":"IF(B984=\"\",\"\",IF(ISERROR(VLOOKUP(B984,database!$A$6:$BFQ$206,4,FALSE)),\"\",VLOOKUP(B984,database!$A$6:$BFQ$206,4,FALSE)))","v":""},null,null,null,"",null,null,null,{"$f":"IF(B984=\"\",\"\",IF(ISERROR(VLOOKUP(B984,database!$A$6:$BFQ$206,3,FALSE)),\"\",VLOOKUP(B984,database!$A$6:$BFQ$206,3,FALSE)))","v":""},null,null,null,null,null,null,""]
["",null,{"$f":"IF(B985=\"\",\"\",IF(ISERROR(VLOOKUP(B985,database!$A$6:$BFQ$206,4,FALSE)),\"\",VLOOKUP(B985,database!$A$6:$BFQ$206,4,FALSE)))","v":""},null,null,null,"",null,null,null,{"$f":"IF(B985=\"\",\"\",IF(ISERROR(VLOOKUP(B985,database!$A$6:$BFQ$206,3,FALSE)),\"\",VLOOKUP(B985,database!$A$6:$BFQ$206,3,FALSE)))","v":""},null,null,null,null,null,null,""]
["",null,{"$f":"IF(B986=\"\",\"\",IF(ISERROR(VLOOKUP(B986,database!$A$6:$BFQ$206,4,FALSE)),\"\",VLOOKUP(B986,database!$A$6:$BFQ$206,4,FALSE)))","v":""},null,null,null,"",null,null,null,{"$f":"IF(B986=\"\",\"\",IF(ISERROR(VLOOKUP(B986,database!$A$6:$BFQ$206,3,FALSE)),\"\",VLOOKUP(B986,database!$A$6:$BFQ$206,3,FALSE)))","v":""},null,null,null,null,null,null,""]
["",null,{"$f":"IF(B987=\"\",\"\",IF(ISERROR(VLOOKUP(B987,database!$A$6:$BFQ$206,4,FALSE)),\"\",VLOOKUP(B987,database!$A$6:$BFQ$206,4,FALSE)))","v":""},null,null,null,"",null,null,null,{"$f":"IF(B987=\"\",\"\",IF(ISERROR(VLOOKUP(B987,database!$A$6:$BFQ$206,3,FALSE)),\"\",VLOOKUP(B987,database!$A$6:$BFQ$206,3,FALSE)))","v":""},null,null,null,null,null,null,""]
["",null,{"$f":"IF(B988=\"\",\"\",IF(ISERROR(VLOOKUP(B988,database!$A$6:$BFQ$206,4,FALSE)),\"\",VLOOKUP(B988,database!$A$6:$BFQ$206,4,FALSE)))","v":""},null,null,null,"",null,null,null,{"$f":"IF(B988=\"\",\"\",IF(ISERROR(VLOOKUP(B988,database!$A$6:$BFQ$206,3,FALSE)),\"\",VLOOKUP(B988,database!$A$6:$BFQ$206,3,FALSE)))","v":""},null,null,null,null,null,null,""]
["",null,{"$f":"IF(B989=\"\",\"\",IF(ISERROR(VLOOKUP(B989,database!$A$6:$BFQ$206,4,FALSE)),\"\",VLOOKUP(B989,database!$A$6:$BFQ$206,4,FALSE)))","v":""},null,null,null,"",null,null,null,{"$f":"IF(B989=\"\",\"\",IF(ISERROR(VLOOKUP(B989,database!$A$6:$BFQ$206,3,FALSE)),\"\",VLOOKUP(B989,database!$A$6:$BFQ$206,3,FALSE)))","v":""},null,null,null,null,null,null,""]
["",null,{"$f":"IF(B990=\"\",\"\",IF(ISERROR(VLOOKUP(B990,database!$A$6:$BFQ$206,4,FALSE)),\"\",VLOOKUP(B990,database!$A$6:$BFQ$206,4,FALSE)))","v":""},null,null,null,"",null,null,null,{"$f":"IF(B990=\"\",\"\",IF(ISERROR(VLOOKUP(B990,database!$A$6:$BFQ$206,3,FALSE)),\"\",VLOOKUP(B990,database!$A$6:$BFQ$206,3,FALSE)))","v":""},null,null,null,null,null,null,""]
["",null,{"$f":"IF(B991=\"\",\"\",IF(ISERROR(VLOOKUP(B991,database!$A$6:$BFQ$206,4,FALSE)),\"\",VLOOKUP(B991,database!$A$6:$BFQ$206,4,FALSE)))","v":""},null,null,null,"",null,null,null,{"$f":"IF(B991=\"\",\"\",IF(ISERROR(VLOOKUP(B991,database!$A$6:$BFQ$206,3,FALSE)),\"\",VLOOKUP(B991,database!$A$6:$BFQ$206,3,FALSE)))","v":""},null,null,null,null,null,null,""]
["",null,{"$f":"IF(B992=\"\",\"\",IF(ISERROR(VLOOKUP(B992,database!$A$6:$BFQ$206,4,FALSE)),\"\",VLOOKUP(B992,database!$A$6:$BFQ$206,4,FALSE)))","v":""},null,null,null,"",null,null,null,{"$f":"IF(B992=\"\",\"\",IF(ISERROR(VLOOKUP(B992,database!$A$6:$BFQ$206,3,FALSE)),\"\",VLOOKUP(B992,database!$A$6:$BFQ$206,3,FALSE)))","v":""},null,null,null,null,null,null,""]
["",null,{"$f":"IF(B993=\"\",\"\",IF(ISERROR(VLOOKUP(B993,database!$A$6:$BFQ$206,4,FALSE)),\"\",VLOOKUP(B993,database!$A$6:$BFQ$206,4,FALSE)))","v":""},null,null,null,"",null,null,null,{"$f":"IF(B993=\"\",\"\",IF(ISERROR(VLOOKUP(B993,database!$A$6:$BFQ$206,3,FALSE)),\"\",VLOOKUP(B993,database!$A$6:$BFQ$206,3,FALSE)))","v":""},null,null,null,null,null,null,""]
["",null,{"$f":"IF(B994=\"\",\"\",IF(ISERROR(VLOOKUP(B994,database!$A$6:$BFQ$206,4,FALSE)),\"\",VLOOKUP(B994,database!$A$6:$BFQ$206,4,FALSE)))","v":""},null,null,null,"",null,null,null,{"$f":"IF(B994=\"\",\"\",IF(ISERROR(VLOOKUP(B994,database!$A$6:$BFQ$206,3,FALSE)),\"\",VLOOKUP(B994,database!$A$6:$BFQ$206,3,FALSE)))","v":""},null,null,null,null,null,null,""]
["",null,{"$f":"IF(B995=\"\",\"\",IF(ISERROR(VLOOKUP(B995,database!$A$6:$BFQ$206,4,FALSE)),\"\",VLOOKUP(B995,database!$A$6:$BFQ$206,4,FALSE)))","v":""},null,null,null,"",null,null,null,{"$f":"IF(B995=\"\",\"\",IF(ISERROR(VLOOKUP(B995,database!$A$6:$BFQ$206,3,FALSE)),\"\",VLOOKUP(B995,database!$A$6:$BFQ$206,3,FALSE)))","v":""},null,null,null,null,null,null,""]
["",null,{"$f":"IF(B996=\"\",\"\",IF(ISERROR(VLOOKUP(B996,database!$A$6:$BFQ$206,4,FALSE)),\"\",VLOOKUP(B996,database!$A$6:$BFQ$206,4,FALSE)))","v":""},null,null,null,"",null,null,null,{"$f":"IF(B996=\"\",\"\",IF(ISERROR(VLOOKUP(B996,database!$A$6:$BFQ$206,3,FALSE)),\"\",VLOOKUP(B996,database!$A$6:$BFQ$206,3,FALSE)))","v":""},null,null,null,null,null,null,""]
["",null,{"$f":"IF(B997=\"\",\"\",IF(ISERROR(VLOOKUP(B997,database!$A$6:$BFQ$206,4,FALSE)),\"\",VLOOKUP(B997,database!$A$6:$BFQ$206,4,FALSE)))","v":""},null,null,null,"",null,null,null,{"$f":"IF(B997=\"\",\"\",IF(ISERROR(VLOOKUP(B997,database!$A$6:$BFQ$206,3,FALSE)),\"\",VLOOKUP(B997,database!$A$6:$BFQ$206,3,FALSE)))","v":""},null,null,null,null,null,null,""]
["",null,{"$f":"IF(B998=\"\",\"\",IF(ISERROR(VLOOKUP(B998,database!$A$6:$BFQ$206,4,FALSE)),\"\",VLOOKUP(B998,database!$A$6:$BFQ$206,4,FALSE)))","v":""},null,null,null,"",null,null,null,{"$f":"IF(B998=\"\",\"\",IF(ISERROR(VLOOKUP(B998,database!$A$6:$BFQ$206,3,FALSE)),\"\",VLOOKUP(B998,database!$A$6:$BFQ$206,3,FALSE)))","v":""},null,null,null,null,null,null,""]
["",null,{"$f":"IF(B999=\"\",\"\",IF(ISERROR(VLOOKUP(B999,database!$A$6:$BFQ$206,4,FALSE)),\"\",VLOOKUP(B999,database!$A$6:$BFQ$206,4,FALSE)))","v":""},null,null,null,"",null,null,null,{"$f":"IF(B999=\"\",\"\",IF(ISERROR(VLOOKUP(B999,database!$A$6:$BFQ$206,3,FALSE)),\"\",VLOOKUP(B999,database!$A$6:$BFQ$206,3,FALSE)))","v":""},null,null,null,null,null,null,""]
["",null,{"$f":"IF(B1000=\"\",\"\",IF(ISERROR(VLOOKUP(B1000,database!$A$6:$BFQ$206,4,FALSE)),\"\",VLOOKUP(B1000,database!$A$6:$BFQ$206,4,FALSE)))","v":""},null,null,null,"",null,null,null,{"$f":"IF(B1000=\"\",\"\",IF(ISERROR(VLOOKUP(B1000,database!$A$6:$BFQ$206,3,FALSE)),\"\",VLOOKUP(B1000,database!$A$6:$BFQ$206,3,FALSE)))","v":""},null,null,null,null,null,null,""]
["",null,{"$f":"IF(B1001=\"\",\"\",IF(ISERROR(VLOOKUP(B1001,database!$A$6:$BFQ$206,4,FALSE)),\"\",VLOOKUP(B1001,database!$A$6:$BFQ$206,4,FALSE)))","v":""},null,null,null,"",null,null,null,{"$f":"IF(B1001=\"\",\"\",IF(ISERROR(VLOOKUP(B1001,database!$A$6:$BFQ$206,3,FALSE)),\"\",VLOOKUP(B1001,database!$A$6:$BFQ$206,3,FALSE)))","v":""},null,null,null,null,null,null,""]
["",null,{"$f":"IF(B1002=\"\",\"\",IF(ISERROR(VLOOKUP(B1002,database!$A$6:$BFQ$206,4,FALSE)),\"\",VLOOKUP(B1002,database!$A$6:$BFQ$206,4,FALSE)))","v":""},null,null,null,"",null,null,null,{"$f":"IF(B1002=\"\",\"\",IF(ISERROR(VLOOKUP(B1002,database!$A$6:$BFQ$206,3,FALSE)),\"\",VLOOKUP(B1002,database!$A$6:$BFQ$206,3,FALSE)))","v":""},null,null,null,null,null,null,""]
["",null,{"$f":"IF(B1003=\"\",\"\",IF(ISERROR(VLOOKUP(B1003,database!$A$6:$BFQ$206,4,FALSE)),\"\",VLOOKUP(B1003,database!$A$6:$BFQ$206,4,FALSE)))","v":""},null,null,null,"",null,null,null,{"$f":"IF(B1003=\"\",\"\",IF(ISERROR(VLOOKUP(B1003,database!$A$6:$BFQ$206,3,FALSE)),\"\",VLOOKUP(B1003,database!$A$6:$BFQ$206,3,FALSE)))","v":""},null,null,null,null,null,null,""]
["",null,{"$f":"IF(B1004=\"\",\"\",IF(ISERROR(VLOOKUP(B1004,database!$A$6:$BFQ$206,4,FALSE)),\"\",VLOOKUP(B1004,database!$A$6:$BFQ$206,4,FALSE)))","v":""},null,null,null,"",null,null,null,{"$f":"IF(B1004=\"\",\"\",IF(ISERROR(VLOOKUP(B1004,database!$A$6:$BFQ$206,3,FALSE)),\"\",VLOOKUP(B1004,database!$A$6:$BFQ$206,3,FALSE)))","v":""},null,null,null,null,null,null,""]
["",null,{"$f":"IF(B1005=\"\",\"\",IF(ISERROR(VLOOKUP(B1005,database!$A$6:$BFQ$206,4,FALSE)),\"\",VLOOKUP(B1005,database!$A$6:$BFQ$206,4,FALSE)))","v":""},null,null,null,"",null,null,null,{"$f":"IF(B1005=\"\",\"\",IF(ISERROR(VLOOKUP(B1005,database!$A$6:$BFQ$206,3,FALSE)),\"\",VLOOKUP(B1005,database!$A$6:$BFQ$206,3,FALSE)))","v":""},null,null,null,null,null,null,""]
["",null,{"$f":"IF(B1006=\"\",\"\",IF(ISERROR(VLOOKUP(B1006,database!$A$6:$BFQ$206,4,FALSE)),\"\",VLOOKUP(B1006,database!$A$6:$BFQ$206,4,FALSE)))","v":""},null,null,null,"",null,null,null,{"$f":"IF(B1006=\"\",\"\",IF(ISERROR(VLOOKUP(B1006,database!$A$6:$BFQ$206,3,FALSE)),\"\",VLOOKUP(B1006,database!$A$6:$BFQ$206,3,FALSE)))","v":""},null,null,null,null,null,null,""]
["",null,{"$f":"IF(B1007=\"\",\"\",IF(ISERROR(VLOOKUP(B1007,database!$A$6:$BFQ$206,4,FALSE)),\"\",VLOOKUP(B1007,database!$A$6:$BFQ$206,4,FALSE)))","v":""},null,null,null,"",null,null,null,{"$f":"IF(B1007=\"\",\"\",IF(ISERROR(VLOOKUP(B1007,database!$A$6:$BFQ$206,3,FALSE)),\"\",VLOOKUP(B1007,database!$A$6:$BFQ$206,3,FALSE)))","v":""},null,null,null,null,null,null,""]
["",null,{"$f":"IF(B1008=\"\",\"\",IF(ISERROR(VLOOKUP(B1008,database!$A$6:$BFQ$206,4,FALSE)),\"\",VLOOKUP(B1008,database!$A$6:$BFQ$206,4,FALSE)))","v":""},null,null,null,"",null,null,null,{"$f":"IF(B1008=\"\",\"\",IF(ISERROR(VLOOKUP(B1008,database!$A$6:$BFQ$206,3,FALSE)),\"\",VLOOKUP(B1008,database!$A$6:$BFQ$206,3,FALSE)))","v":""},null,null,null,null,null,null,""]
["",null,{"$f":"IF(B1009=\"\",\"\",IF(ISERROR(VLOOKUP(B1009,database!$A$6:$BFQ$206,4,FALSE)),\"\",VLOOKUP(B1009,database!$A$6:$BFQ$206,4,FALSE)))","v":""},null,null,null,"",null,null,null,{"$f":"IF(B1009=\"\",\"\",IF(ISERROR(VLOOKUP(B1009,database!$A$6:$BFQ$206,3,FALSE)),\"\",VLOOKUP(B1009,database!$A$6:$BFQ$206,3,FALSE)))","v":""},null,null,null,null,null,null,""]
["",null,{"$f":"IF(B1010=\"\",\"\",IF(ISERROR(VLOOKUP(B1010,database!$A$6:$BFQ$206,4,FALSE)),\"\",VLOOKUP(B1010,database!$A$6:$BFQ$206,4,FALSE)))","v":""},null,null,null,"",null,null,null,{"$f":"IF(B1010=\"\",\"\",IF(ISERROR(VLOOKUP(B1010,database!$A$6:$BFQ$206,3,FALSE)),\"\",VLOOKUP(B1010,database!$A$6:$BFQ$206,3,FALSE)))","v":""},null,null,null,null,null,null,""]
["",null,{"$f":"IF(B1011=\"\",\"\",IF(ISERROR(VLOOKUP(B1011,database!$A$6:$BFQ$206,4,FALSE)),\"\",VLOOKUP(B1011,database!$A$6:$BFQ$206,4,FALSE)))","v":""},null,null,null,"",null,null,null,{"$f":"IF(B1011=\"\",\"\",IF(ISERROR(VLOOKUP(B1011,database!$A$6:$BFQ$206,3,FALSE)),\"\",VLOOKUP(B1011,database!$A$6:$BFQ$206,3,FALSE)))","v":""},null,null,null,null,null,null,""]
["",null,{"$f":"IF(B1012=\"\",\"\",IF(ISERROR(VLOOKUP(B1012,database!$A$6:$BFQ$206,4,FALSE)),\"\",VLOOKUP(B1012,database!$A$6:$BFQ$206,4,FALSE)))","v":""},null,null,null,"",null,null,null,{"$f":"IF(B1012=\"\",\"\",IF(ISERROR(VLOOKUP(B1012,database!$A$6:$BFQ$206,3,FALSE)),\"\",VLOOKUP(B1012,database!$A$6:$BFQ$206,3,FALSE)))","v":""},null,null,null,null,null,null,""]
["",null,{"$f":"IF(B1013=\"\",\"\",IF(ISERROR(VLOOKUP(B1013,database!$A$6:$BFQ$206,4,FALSE)),\"\",VLOOKUP(B1013,database!$A$6:$BFQ$206,4,FALSE)))","v":""},null,null,null,"",null,null,null,{"$f":"IF(B1013=\"\",\"\",IF(ISERROR(VLOOKUP(B1013,database!$A$6:$BFQ$206,3,FALSE)),\"\",VLOOKUP(B1013,database!$A$6:$BFQ$206,3,FALSE)))","v":""},null,null,null,null,null,null,""]
["",null,{"$f":"IF(B1014=\"\",\"\",IF(ISERROR(VLOOKUP(B1014,database!$A$6:$BFQ$206,4,FALSE)),\"\",VLOOKUP(B1014,database!$A$6:$BFQ$206,4,FALSE)))","v":""},null,null,null,"",null,null,null,{"$f":"IF(B1014=\"\",\"\",IF(ISERROR(VLOOKUP(B1014,database!$A$6:$BFQ$206,3,FALSE)),\"\",VLOOKUP(B1014,database!$A$6:$BFQ$206,3,FALSE)))","v":""},null,null,null,null,null,null,""]
["",null,{"$f":"IF(B1015=\"\",\"\",IF(ISERROR(VLOOKUP(B1015,database!$A$6:$BFQ$206,4,FALSE)),\"\",VLOOKUP(B1015,database!$A$6:$BFQ$206,4,FALSE)))","v":""},null,null,null,"",null,null,null,{"$f":"IF(B1015=\"\",\"\",IF(ISERROR(VLOOKUP(B1015,database!$A$6:$BFQ$206,3,FALSE)),\"\",VLOOKUP(B1015,database!$A$6:$BFQ$206,3,FALSE)))","v":""},null,null,null,null,null,null,""]
["",null,{"$f":"IF(B1016=\"\",\"\",IF(ISERROR(VLOOKUP(B1016,database!$A$6:$BFQ$206,4,FALSE)),\"\",VLOOKUP(B1016,database!$A$6:$BFQ$206,4,FALSE)))","v":""},null,null,null,"",null,null,null,{"$f":"IF(B1016=\"\",\"\",IF(ISERROR(VLOOKUP(B1016,database!$A$6:$BFQ$206,3,FALSE)),\"\",VLOOKUP(B1016,database!$A$6:$BFQ$206,3,FALSE)))","v":""},null,null,null,null,null,null,""]
["",null,{"$f":"IF(B1017=\"\",\"\",IF(ISERROR(VLOOKUP(B1017,database!$A$6:$BFQ$206,4,FALSE)),\"\",VLOOKUP(B1017,database!$A$6:$BFQ$206,4,FALSE)))","v":""},null,null,null,"",null,null,null,{"$f":"IF(B1017=\"\",\"\",IF(ISERROR(VLOOKUP(B1017,database!$A$6:$BFQ$206,3,FALSE)),\"\",VLOOKUP(B1017,database!$A$6:$BFQ$206,3,FALSE)))","v":""},null,null,null,null,null,null,""]
["",null,{"$f":"IF(B1018=\"\",\"\",IF(ISERROR(VLOOKUP(B1018,database!$A$6:$BFQ$206,4,FALSE)),\"\",VLOOKUP(B1018,database!$A$6:$BFQ$206,4,FALSE)))","v":""},null,null,null,"",null,null,null,{"$f":"IF(B1018=\"\",\"\",IF(ISERROR(VLOOKUP(B1018,database!$A$6:$BFQ$206,3,FALSE)),\"\",VLOOKUP(B1018,database!$A$6:$BFQ$206,3,FALSE)))","v":""},null,null,null,null,null,null,""]
["",null,{"$f":"IF(B1019=\"\",\"\",IF(ISERROR(VLOOKUP(B1019,database!$A$6:$BFQ$206,4,FALSE)),\"\",VLOOKUP(B1019,database!$A$6:$BFQ$206,4,FALSE)))","v":""},null,null,null,"",null,null,null,{"$f":"IF(B1019=\"\",\"\",IF(ISERROR(VLOOKUP(B1019,database!$A$6:$BFQ$206,3,FALSE)),\"\",VLOOKUP(B1019,database!$A$6:$BFQ$206,3,FALSE)))","v":""},null,null,null,null,null,null,""]
["",null,{"$f":"IF(B1020=\"\",\"\",IF(ISERROR(VLOOKUP(B1020,database!$A$6:$BFQ$206,4,FALSE)),\"\",VLOOKUP(B1020,database!$A$6:$BFQ$206,4,FALSE)))","v":""},null,null,null,"",null,null,null,{"$f":"IF(B1020=\"\",\"\",IF(ISERROR(VLOOKUP(B1020,database!$A$6:$BFQ$206,3,FALSE)),\"\",VLOOKUP(B1020,database!$A$6:$BFQ$206,3,FALSE)))","v":""},null,null,null,null,null,null,""]
["",null,{"$f":"IF(B1021=\"\",\"\",IF(ISERROR(VLOOKUP(B1021,database!$A$6:$BFQ$206,4,FALSE)),\"\",VLOOKUP(B1021,database!$A$6:$BFQ$206,4,FALSE)))","v":""},null,null,null,"",null,null,null,{"$f":"IF(B1021=\"\",\"\",IF(ISERROR(VLOOKUP(B1021,database!$A$6:$BFQ$206,3,FALSE)),\"\",VLOOKUP(B1021,database!$A$6:$BFQ$206,3,FALSE)))","v":""},null,null,null,null,null,null,""]
["",null,{"$f":"IF(B1022=\"\",\"\",IF(ISERROR(VLOOKUP(B1022,database!$A$6:$BFQ$206,4,FALSE)),\"\",VLOOKUP(B1022,database!$A$6:$BFQ$206,4,FALSE)))","v":""},null,null,null,"",null,null,null,{"$f":"IF(B1022=\"\",\"\",IF(ISERROR(VLOOKUP(B1022,database!$A$6:$BFQ$206,3,FALSE)),\"\",VLOOKUP(B1022,database!$A$6:$BFQ$206,3,FALSE)))","v":""},null,null,null,null,null,null,""]
["",null,{"$f":"IF(B1023=\"\",\"\",IF(ISERROR(VLOOKUP(B1023,database!$A$6:$BFQ$206,4,FALSE)),\"\",VLOOKUP(B1023,database!$A$6:$BFQ$206,4,FALSE)))","v":""},null,null,null,"",null,null,null,{"$f":"IF(B1023=\"\",\"\",IF(ISERROR(VLOOKUP(B1023,database!$A$6:$BFQ$206,3,FALSE)),\"\",VLOOKUP(B1023,database!$A$6:$BFQ$206,3,FALSE)))","v":""},null,null,null,null,null,null,""]
["",null,{"$f":"IF(B1024=\"\",\"\",IF(ISERROR(VLOOKUP(B1024,database!$A$6:$BFQ$206,4,FALSE)),\"\",VLOOKUP(B1024,database!$A$6:$BFQ$206,4,FALSE)))","v":""},null,null,null,"",null,null,null,{"$f":"IF(B1024=\"\",\"\",IF(ISERROR(VLOOKUP(B1024,database!$A$6:$BFQ$206,3,FALSE)),\"\",VLOOKUP(B1024,database!$A$6:$BFQ$206,3,FALSE)))","v":""},null,null,null,null,null,null,""]
[{"$f":"IF(B1025=\"\",\"\",ROW(A1022))","v":""},null,{"$f":"IF(B1025=\"\",\"\",IF(ISERROR(VLOOKUP(B1025,database!$A$6:$BFQ$206,4,FALSE)),\"\",VLOOKUP(B1025,database!$A$6:$BFQ$206,4,FALSE)))","v":""},null,null,null,{"$f":"IF(B1025=\"\",\"\",IF(C1025=\"\",0,1))","v":""},null,null,null,{"$f":"IF(B1025=\"\",\"\",IF(ISERROR(VLOOKUP(B1025,database!$A$6:$BFQ$206,3,FALSE)),\"\",VLOOKUP(B1025,database!$A$6:$BFQ$206,3,FALSE)))","v":""},null,null,null,null,null,null,{"$f":"LEFT(C1025,2)","v":""}]
["",null,{"$f":"IF(B1026=\"\",\"\",IF(ISERROR(VLOOKUP(B1026,database!$A$6:$BFQ$206,4,FALSE)),\"\",VLOOKUP(B1026,database!$A$6:$BFQ$206,4,FALSE)))","v":""},null,null,null,"",null,null,null,{"$f":"IF(B1026=\"\",\"\",IF(ISERROR(VLOOKUP(B1026,database!$A$6:$BFQ$206,3,FALSE)),\"\",VLOOKUP(B1026,database!$A$6:$BFQ$206,3,FALSE)))","v":""},null,null,null,null,null,null,""]
["",null,{"$f":"IF(B1027=\"\",\"\",IF(ISERROR(VLOOKUP(B1027,database!$A$6:$BFQ$206,4,FALSE)),\"\",VLOOKUP(B1027,database!$A$6:$BFQ$206,4,FALSE)))","v":""},null,null,null,"",null,null,null,{"$f":"IF(B1027=\"\",\"\",IF(ISERROR(VLOOKUP(B1027,database!$A$6:$BFQ$206,3,FALSE)),\"\",VLOOKUP(B1027,database!$A$6:$BFQ$206,3,FALSE)))","v":""},null,null,null,null,null,null,""]
["",null,{"$f":"IF(B1028=\"\",\"\",IF(ISERROR(VLOOKUP(B1028,database!$A$6:$BFQ$206,4,FALSE)),\"\",VLOOKUP(B1028,database!$A$6:$BFQ$206,4,FALSE)))","v":""},null,null,null,"",null,null,null,{"$f":"IF(B1028=\"\",\"\",IF(ISERROR(VLOOKUP(B1028,database!$A$6:$BFQ$206,3,FALSE)),\"\",VLOOKUP(B1028,database!$A$6:$BFQ$206,3,FALSE)))","v":""},null,null,null,null,null,null,""]
["",null,{"$f":"IF(B1029=\"\",\"\",IF(ISERROR(VLOOKUP(B1029,database!$A$6:$BFQ$206,4,FALSE)),\"\",VLOOKUP(B1029,database!$A$6:$BFQ$206,4,FALSE)))","v":""},null,null,null,"",null,null,null,{"$f":"IF(B1029=\"\",\"\",IF(ISERROR(VLOOKUP(B1029,database!$A$6:$BFQ$206,3,FALSE)),\"\",VLOOKUP(B1029,database!$A$6:$BFQ$206,3,FALSE)))","v":""},null,null,null,null,null,null,""]
["",null,{"$f":"IF(B1030=\"\",\"\",IF(ISERROR(VLOOKUP(B1030,database!$A$6:$BFQ$206,4,FALSE)),\"\",VLOOKUP(B1030,database!$A$6:$BFQ$206,4,FALSE)))","v":""},null,null,null,"",null,null,null,{"$f":"IF(B1030=\"\",\"\",IF(ISERROR(VLOOKUP(B1030,database!$A$6:$BFQ$206,3,FALSE)),\"\",VLOOKUP(B1030,database!$A$6:$BFQ$206,3,FALSE)))","v":""},null,null,null,null,null,null,""]
["",null,{"$f":"IF(B1031=\"\",\"\",IF(ISERROR(VLOOKUP(B1031,database!$A$6:$BFQ$206,4,FALSE)),\"\",VLOOKUP(B1031,database!$A$6:$BFQ$206,4,FALSE)))","v":""},null,null,null,"",null,null,null,{"$f":"IF(B1031=\"\",\"\",IF(ISERROR(VLOOKUP(B1031,database!$A$6:$BFQ$206,3,FALSE)),\"\",VLOOKUP(B1031,database!$A$6:$BFQ$206,3,FALSE)))","v":""},null,null,null,null,null,null,""]
["",null,{"$f":"IF(B1032=\"\",\"\",IF(ISERROR(VLOOKUP(B1032,database!$A$6:$BFQ$206,4,FALSE)),\"\",VLOOKUP(B1032,database!$A$6:$BFQ$206,4,FALSE)))","v":""},null,null,null,"",null,null,null,{"$f":"IF(B1032=\"\",\"\",IF(ISERROR(VLOOKUP(B1032,database!$A$6:$BFQ$206,3,FALSE)),\"\",VLOOKUP(B1032,database!$A$6:$BFQ$206,3,FALSE)))","v":""},null,null,null,null,null,null,""]
["",null,{"$f":"IF(B1033=\"\",\"\",IF(ISERROR(VLOOKUP(B1033,database!$A$6:$BFQ$206,4,FALSE)),\"\",VLOOKUP(B1033,database!$A$6:$BFQ$206,4,FALSE)))","v":""},null,null,null,"",null,null,null,{"$f":"IF(B1033=\"\",\"\",IF(ISERROR(VLOOKUP(B1033,database!$A$6:$BFQ$206,3,FALSE)),\"\",VLOOKUP(B1033,database!$A$6:$BFQ$206,3,FALSE)))","v":""},null,null,null,null,null,null,""]
["",null,{"$f":"IF(B1034=\"\",\"\",IF(ISERROR(VLOOKUP(B1034,database!$A$6:$BFQ$206,4,FALSE)),\"\",VLOOKUP(B1034,database!$A$6:$BFQ$206,4,FALSE)))","v":""},null,null,null,"",null,null,null,{"$f":"IF(B1034=\"\",\"\",IF(ISERROR(VLOOKUP(B1034,database!$A$6:$BFQ$206,3,FALSE)),\"\",VLOOKUP(B1034,database!$A$6:$BFQ$206,3,FALSE)))","v":""},null,null,null,null,null,null,""]
["",null,{"$f":"IF(B1035=\"\",\"\",IF(ISERROR(VLOOKUP(B1035,database!$A$6:$BFQ$206,4,FALSE)),\"\",VLOOKUP(B1035,database!$A$6:$BFQ$206,4,FALSE)))","v":""},null,null,null,"",null,null,null,{"$f":"IF(B1035=\"\",\"\",IF(ISERROR(VLOOKUP(B1035,database!$A$6:$BFQ$206,3,FALSE)),\"\",VLOOKUP(B1035,database!$A$6:$BFQ$206,3,FALSE)))","v":""},null,null,null,null,null,null,""]
["",null,{"$f":"IF(B1036=\"\",\"\",IF(ISERROR(VLOOKUP(B1036,database!$A$6:$BFQ$206,4,FALSE)),\"\",VLOOKUP(B1036,database!$A$6:$BFQ$206,4,FALSE)))","v":""},null,null,null,"",null,null,null,{"$f":"IF(B1036=\"\",\"\",IF(ISERROR(VLOOKUP(B1036,database!$A$6:$BFQ$206,3,FALSE)),\"\",VLOOKUP(B1036,database!$A$6:$BFQ$206,3,FALSE)))","v":""},null,null,null,null,null,null,""]
["",null,{"$f":"IF(B1037=\"\",\"\",IF(ISERROR(VLOOKUP(B1037,database!$A$6:$BFQ$206,4,FALSE)),\"\",VLOOKUP(B1037,database!$A$6:$BFQ$206,4,FALSE)))","v":""},null,null,null,"",null,null,null,{"$f":"IF(B1037=\"\",\"\",IF(ISERROR(VLOOKUP(B1037,database!$A$6:$BFQ$206,3,FALSE)),\"\",VLOOKUP(B1037,database!$A$6:$BFQ$206,3,FALSE)))","v":""},null,null,null,null,null,null,""]
["",null,{"$f":"IF(B1038=\"\",\"\",IF(ISERROR(VLOOKUP(B1038,database!$A$6:$BFQ$206,4,FALSE)),\"\",VLOOKUP(B1038,database!$A$6:$BFQ$206,4,FALSE)))","v":""},null,null,null,"",null,null,null,{"$f":"IF(B1038=\"\",\"\",IF(ISERROR(VLOOKUP(B1038,database!$A$6:$BFQ$206,3,FALSE)),\"\",VLOOKUP(B1038,database!$A$6:$BFQ$206,3,FALSE)))","v":""},null,null,null,null,null,null,""]
["",null,{"$f":"IF(B1039=\"\",\"\",IF(ISERROR(VLOOKUP(B1039,database!$A$6:$BFQ$206,4,FALSE)),\"\",VLOOKUP(B1039,database!$A$6:$BFQ$206,4,FALSE)))","v":""},null,null,null,"",null,null,null,{"$f":"IF(B1039=\"\",\"\",IF(ISERROR(VLOOKUP(B1039,database!$A$6:$BFQ$206,3,FALSE)),\"\",VLOOKUP(B1039,database!$A$6:$BFQ$206,3,FALSE)))","v":""},null,null,null,null,null,null,""]
["",null,{"$f":"IF(B1040=\"\",\"\",IF(ISERROR(VLOOKUP(B1040,database!$A$6:$BFQ$206,4,FALSE)),\"\",VLOOKUP(B1040,database!$A$6:$BFQ$206,4,FALSE)))","v":""},null,null,null,"",null,null,null,{"$f":"IF(B1040=\"\",\"\",IF(ISERROR(VLOOKUP(B1040,database!$A$6:$BFQ$206,3,FALSE)),\"\",VLOOKUP(B1040,database!$A$6:$BFQ$206,3,FALSE)))","v":""},null,null,null,null,null,null,""]
["",null,{"$f":"IF(B1041=\"\",\"\",IF(ISERROR(VLOOKUP(B1041,database!$A$6:$BFQ$206,4,FALSE)),\"\",VLOOKUP(B1041,database!$A$6:$BFQ$206,4,FALSE)))","v":""},null,null,null,"",null,null,null,{"$f":"IF(B1041=\"\",\"\",IF(ISERROR(VLOOKUP(B1041,database!$A$6:$BFQ$206,3,FALSE)),\"\",VLOOKUP(B1041,database!$A$6:$BFQ$206,3,FALSE)))","v":""},null,null,null,null,null,null,""]
["",null,{"$f":"IF(B1042=\"\",\"\",IF(ISERROR(VLOOKUP(B1042,database!$A$6:$BFQ$206,4,FALSE)),\"\",VLOOKUP(B1042,database!$A$6:$BFQ$206,4,FALSE)))","v":""},null,null,null,"",null,null,null,{"$f":"IF(B1042=\"\",\"\",IF(ISERROR(VLOOKUP(B1042,database!$A$6:$BFQ$206,3,FALSE)),\"\",VLOOKUP(B1042,database!$A$6:$BFQ$206,3,FALSE)))","v":""},null,null,null,null,null,null,""]
["",null,{"$f":"IF(B1043=\"\",\"\",IF(ISERROR(VLOOKUP(B1043,database!$A$6:$BFQ$206,4,FALSE)),\"\",VLOOKUP(B1043,database!$A$6:$BFQ$206,4,FALSE)))","v":""},null,null,null,"",null,null,null,{"$f":"IF(B1043=\"\",\"\",IF(ISERROR(VLOOKUP(B1043,database!$A$6:$BFQ$206,3,FALSE)),\"\",VLOOKUP(B1043,database!$A$6:$BFQ$206,3,FALSE)))","v":""},null,null,null,null,null,null,""]
["",null,{"$f":"IF(B1044=\"\",\"\",IF(ISERROR(VLOOKUP(B1044,database!$A$6:$BFQ$206,4,FALSE)),\"\",VLOOKUP(B1044,database!$A$6:$BFQ$206,4,FALSE)))","v":""},null,null,null,"",null,null,null,{"$f":"IF(B1044=\"\",\"\",IF(ISERROR(VLOOKUP(B1044,database!$A$6:$BFQ$206,3,FALSE)),\"\",VLOOKUP(B1044,database!$A$6:$BFQ$206,3,FALSE)))","v":""},null,null,null,null,null,null,""]
["",null,{"$f":"IF(B1045=\"\",\"\",IF(ISERROR(VLOOKUP(B1045,database!$A$6:$BFQ$206,4,FALSE)),\"\",VLOOKUP(B1045,database!$A$6:$BFQ$206,4,FALSE)))","v":""},null,null,null,"",null,null,null,{"$f":"IF(B1045=\"\",\"\",IF(ISERROR(VLOOKUP(B1045,database!$A$6:$BFQ$206,3,FALSE)),\"\",VLOOKUP(B1045,database!$A$6:$BFQ$206,3,FALSE)))","v":""},null,null,null,null,null,null,""]
["",null,{"$f":"IF(B1046=\"\",\"\",IF(ISERROR(VLOOKUP(B1046,database!$A$6:$BFQ$206,4,FALSE)),\"\",VLOOKUP(B1046,database!$A$6:$BFQ$206,4,FALSE)))","v":""},null,null,null,"",null,null,null,{"$f":"IF(B1046=\"\",\"\",IF(ISERROR(VLOOKUP(B1046,database!$A$6:$BFQ$206,3,FALSE)),\"\",VLOOKUP(B1046,database!$A$6:$BFQ$206,3,FALSE)))","v":""},null,null,null,null,null,null,""]
["",null,{"$f":"IF(B1047=\"\",\"\",IF(ISERROR(VLOOKUP(B1047,database!$A$6:$BFQ$206,4,FALSE)),\"\",VLOOKUP(B1047,database!$A$6:$BFQ$206,4,FALSE)))","v":""},null,null,null,"",null,null,null,{"$f":"IF(B1047=\"\",\"\",IF(ISERROR(VLOOKUP(B1047,database!$A$6:$BFQ$206,3,FALSE)),\"\",VLOOKUP(B1047,database!$A$6:$BFQ$206,3,FALSE)))","v":""},null,null,null,null,null,null,""]
["",null,{"$f":"IF(B1048=\"\",\"\",IF(ISERROR(VLOOKUP(B1048,database!$A$6:$BFQ$206,4,FALSE)),\"\",VLOOKUP(B1048,database!$A$6:$BFQ$206,4,FALSE)))","v":""},null,null,null,"",null,null,null,{"$f":"IF(B1048=\"\",\"\",IF(ISERROR(VLOOKUP(B1048,database!$A$6:$BFQ$206,3,FALSE)),\"\",VLOOKUP(B1048,database!$A$6:$BFQ$206,3,FALSE)))","v":""},null,null,null,null,null,null,""]
["",null,{"$f":"IF(B1049=\"\",\"\",IF(ISERROR(VLOOKUP(B1049,database!$A$6:$BFQ$206,4,FALSE)),\"\",VLOOKUP(B1049,database!$A$6:$BFQ$206,4,FALSE)))","v":""},null,null,null,"",null,null,null,{"$f":"IF(B1049=\"\",\"\",IF(ISERROR(VLOOKUP(B1049,database!$A$6:$BFQ$206,3,FALSE)),\"\",VLOOKUP(B1049,database!$A$6:$BFQ$206,3,FALSE)))","v":""},null,null,null,null,null,null,""]
["",null,{"$f":"IF(B1050=\"\",\"\",IF(ISERROR(VLOOKUP(B1050,database!$A$6:$BFQ$206,4,FALSE)),\"\",VLOOKUP(B1050,database!$A$6:$BFQ$206,4,FALSE)))","v":""},null,null,null,"",null,null,null,{"$f":"IF(B1050=\"\",\"\",IF(ISERROR(VLOOKUP(B1050,database!$A$6:$BFQ$206,3,FALSE)),\"\",VLOOKUP(B1050,database!$A$6:$BFQ$206,3,FALSE)))","v":""},null,null,null,null,null,null,""]
["",null,{"$f":"IF(B1051=\"\",\"\",IF(ISERROR(VLOOKUP(B1051,database!$A$6:$BFQ$206,4,FALSE)),\"\",VLOOKUP(B1051,database!$A$6:$BFQ$206,4,FALSE)))","v":""},null,null,null,"",null,null,null,{"$f":"IF(B1051=\"\",\"\",IF(ISERROR(VLOOKUP(B1051,database!$A$6:$BFQ$206,3,FALSE)),\"\",VLOOKUP(B1051,database!$A$6:$BFQ$206,3,FALSE)))","v":""},null,null,null,null,null,null,""]
["",null,{"$f":"IF(B1052=\"\",\"\",IF(ISERROR(VLOOKUP(B1052,database!$A$6:$BFQ$206,4,FALSE)),\"\",VLOOKUP(B1052,database!$A$6:$BFQ$206,4,FALSE)))","v":""},null,null,null,"",null,null,null,{"$f":"IF(B1052=\"\",\"\",IF(ISERROR(VLOOKUP(B1052,database!$A$6:$BFQ$206,3,FALSE)),\"\",VLOOKUP(B1052,database!$A$6:$BFQ$206,3,FALSE)))","v":""},null,null,null,null,null,null,""]
["",null,{"$f":"IF(B1053=\"\",\"\",IF(ISERROR(VLOOKUP(B1053,database!$A$6:$BFQ$206,4,FALSE)),\"\",VLOOKUP(B1053,database!$A$6:$BFQ$206,4,FALSE)))","v":""},null,null,null,"",null,null,null,{"$f":"IF(B1053=\"\",\"\",IF(ISERROR(VLOOKUP(B1053,database!$A$6:$BFQ$206,3,FALSE)),\"\",VLOOKUP(B1053,database!$A$6:$BFQ$206,3,FALSE)))","v":""},null,null,null,null,null,null,""]
["",null,{"$f":"IF(B1054=\"\",\"\",IF(ISERROR(VLOOKUP(B1054,database!$A$6:$BFQ$206,4,FALSE)),\"\",VLOOKUP(B1054,database!$A$6:$BFQ$206,4,FALSE)))","v":""},null,null,null,"",null,null,null,{"$f":"IF(B1054=\"\",\"\",IF(ISERROR(VLOOKUP(B1054,database!$A$6:$BFQ$206,3,FALSE)),\"\",VLOOKUP(B1054,database!$A$6:$BFQ$206,3,FALSE)))","v":""},null,null,null,null,null,null,""]
["",null,{"$f":"IF(B1055=\"\",\"\",IF(ISERROR(VLOOKUP(B1055,database!$A$6:$BFQ$206,4,FALSE)),\"\",VLOOKUP(B1055,database!$A$6:$BFQ$206,4,FALSE)))","v":""},null,null,null,"",null,null,null,{"$f":"IF(B1055=\"\",\"\",IF(ISERROR(VLOOKUP(B1055,database!$A$6:$BFQ$206,3,FALSE)),\"\",VLOOKUP(B1055,database!$A$6:$BFQ$206,3,FALSE)))","v":""},null,null,null,null,null,null,""]
["",null,{"$f":"IF(B1056=\"\",\"\",IF(ISERROR(VLOOKUP(B1056,database!$A$6:$BFQ$206,4,FALSE)),\"\",VLOOKUP(B1056,database!$A$6:$BFQ$206,4,FALSE)))","v":""},null,null,null,"",null,null,null,{"$f":"IF(B1056=\"\",\"\",IF(ISERROR(VLOOKUP(B1056,database!$A$6:$BFQ$206,3,FALSE)),\"\",VLOOKUP(B1056,database!$A$6:$BFQ$206,3,FALSE)))","v":""},null,null,null,null,null,null,""]
["",null,{"$f":"IF(B1057=\"\",\"\",IF(ISERROR(VLOOKUP(B1057,database!$A$6:$BFQ$206,4,FALSE)),\"\",VLOOKUP(B1057,database!$A$6:$BFQ$206,4,FALSE)))","v":""},null,null,null,"",null,null,null,{"$f":"IF(B1057=\"\",\"\",IF(ISERROR(VLOOKUP(B1057,database!$A$6:$BFQ$206,3,FALSE)),\"\",VLOOKUP(B1057,database!$A$6:$BFQ$206,3,FALSE)))","v":""},null,null,null,null,null,null,""]
["",null,{"$f":"IF(B1058=\"\",\"\",IF(ISERROR(VLOOKUP(B1058,database!$A$6:$BFQ$206,4,FALSE)),\"\",VLOOKUP(B1058,database!$A$6:$BFQ$206,4,FALSE)))","v":""},null,null,null,"",null,null,null,{"$f":"IF(B1058=\"\",\"\",IF(ISERROR(VLOOKUP(B1058,database!$A$6:$BFQ$206,3,FALSE)),\"\",VLOOKUP(B1058,database!$A$6:$BFQ$206,3,FALSE)))","v":""},null,null,null,null,null,null,""]
["",null,{"$f":"IF(B1059=\"\",\"\",IF(ISERROR(VLOOKUP(B1059,database!$A$6:$BFQ$206,4,FALSE)),\"\",VLOOKUP(B1059,database!$A$6:$BFQ$206,4,FALSE)))","v":""},null,null,null,"",null,null,null,{"$f":"IF(B1059=\"\",\"\",IF(ISERROR(VLOOKUP(B1059,database!$A$6:$BFQ$206,3,FALSE)),\"\",VLOOKUP(B1059,database!$A$6:$BFQ$206,3,FALSE)))","v":""},null,null,null,null,null,null,""]
["",null,{"$f":"IF(B1060=\"\",\"\",IF(ISERROR(VLOOKUP(B1060,database!$A$6:$BFQ$206,4,FALSE)),\"\",VLOOKUP(B1060,database!$A$6:$BFQ$206,4,FALSE)))","v":""},null,null,null,"",null,null,null,{"$f":"IF(B1060=\"\",\"\",IF(ISERROR(VLOOKUP(B1060,database!$A$6:$BFQ$206,3,FALSE)),\"\",VLOOKUP(B1060,database!$A$6:$BFQ$206,3,FALSE)))","v":""},null,null,null,null,null,null,""]
["",null,{"$f":"IF(B1061=\"\",\"\",IF(ISERROR(VLOOKUP(B1061,database!$A$6:$BFQ$206,4,FALSE)),\"\",VLOOKUP(B1061,database!$A$6:$BFQ$206,4,FALSE)))","v":""},null,null,null,"",null,null,null,{"$f":"IF(B1061=\"\",\"\",IF(ISERROR(VLOOKUP(B1061,database!$A$6:$BFQ$206,3,FALSE)),\"\",VLOOKUP(B1061,database!$A$6:$BFQ$206,3,FALSE)))","v":""},null,null,null,null,null,null,""]
["",null,{"$f":"IF(B1062=\"\",\"\",IF(ISERROR(VLOOKUP(B1062,database!$A$6:$BFQ$206,4,FALSE)),\"\",VLOOKUP(B1062,database!$A$6:$BFQ$206,4,FALSE)))","v":""},null,null,null,"",null,null,null,{"$f":"IF(B1062=\"\",\"\",IF(ISERROR(VLOOKUP(B1062,database!$A$6:$BFQ$206,3,FALSE)),\"\",VLOOKUP(B1062,database!$A$6:$BFQ$206,3,FALSE)))","v":""},null,null,null,null,null,null,""]
["",null,{"$f":"IF(B1063=\"\",\"\",IF(ISERROR(VLOOKUP(B1063,database!$A$6:$BFQ$206,4,FALSE)),\"\",VLOOKUP(B1063,database!$A$6:$BFQ$206,4,FALSE)))","v":""},null,null,null,"",null,null,null,{"$f":"IF(B1063=\"\",\"\",IF(ISERROR(VLOOKUP(B1063,database!$A$6:$BFQ$206,3,FALSE)),\"\",VLOOKUP(B1063,database!$A$6:$BFQ$206,3,FALSE)))","v":""},null,null,null,null,null,null,""]
["",null,{"$f":"IF(B1064=\"\",\"\",IF(ISERROR(VLOOKUP(B1064,database!$A$6:$BFQ$206,4,FALSE)),\"\",VLOOKUP(B1064,database!$A$6:$BFQ$206,4,FALSE)))","v":""},null,null,null,"",null,null,null,{"$f":"IF(B1064=\"\",\"\",IF(ISERROR(VLOOKUP(B1064,database!$A$6:$BFQ$206,3,FALSE)),\"\",VLOOKUP(B1064,database!$A$6:$BFQ$206,3,FALSE)))","v":""},null,null,null,null,null,null,""]
["",null,{"$f":"IF(B1065=\"\",\"\",IF(ISERROR(VLOOKUP(B1065,database!$A$6:$BFQ$206,4,FALSE)),\"\",VLOOKUP(B1065,database!$A$6:$BFQ$206,4,FALSE)))","v":""},null,null,null,"",null,null,null,{"$f":"IF(B1065=\"\",\"\",IF(ISERROR(VLOOKUP(B1065,database!$A$6:$BFQ$206,3,FALSE)),\"\",VLOOKUP(B1065,database!$A$6:$BFQ$206,3,FALSE)))","v":""},null,null,null,null,null,null,""]
["",null,{"$f":"IF(B1066=\"\",\"\",IF(ISERROR(VLOOKUP(B1066,database!$A$6:$BFQ$206,4,FALSE)),\"\",VLOOKUP(B1066,database!$A$6:$BFQ$206,4,FALSE)))","v":""},null,null,null,"",null,null,null,{"$f":"IF(B1066=\"\",\"\",IF(ISERROR(VLOOKUP(B1066,database!$A$6:$BFQ$206,3,FALSE)),\"\",VLOOKUP(B1066,database!$A$6:$BFQ$206,3,FALSE)))","v":""},null,null,null,null,null,null,""]
["",null,{"$f":"IF(B1067=\"\",\"\",IF(ISERROR(VLOOKUP(B1067,database!$A$6:$BFQ$206,4,FALSE)),\"\",VLOOKUP(B1067,database!$A$6:$BFQ$206,4,FALSE)))","v":""},null,null,null,"",null,null,null,{"$f":"IF(B1067=\"\",\"\",IF(ISERROR(VLOOKUP(B1067,database!$A$6:$BFQ$206,3,FALSE)),\"\",VLOOKUP(B1067,database!$A$6:$BFQ$206,3,FALSE)))","v":""},null,null,null,null,null,null,""]
["",null,{"$f":"IF(B1068=\"\",\"\",IF(ISERROR(VLOOKUP(B1068,database!$A$6:$BFQ$206,4,FALSE)),\"\",VLOOKUP(B1068,database!$A$6:$BFQ$206,4,FALSE)))","v":""},null,null,null,"",null,null,null,{"$f":"IF(B1068=\"\",\"\",IF(ISERROR(VLOOKUP(B1068,database!$A$6:$BFQ$206,3,FALSE)),\"\",VLOOKUP(B1068,database!$A$6:$BFQ$206,3,FALSE)))","v":""},null,null,null,null,null,null,""]
["",null,{"$f":"IF(B1069=\"\",\"\",IF(ISERROR(VLOOKUP(B1069,database!$A$6:$BFQ$206,4,FALSE)),\"\",VLOOKUP(B1069,database!$A$6:$BFQ$206,4,FALSE)))","v":""},null,null,null,"",null,null,null,{"$f":"IF(B1069=\"\",\"\",IF(ISERROR(VLOOKUP(B1069,database!$A$6:$BFQ$206,3,FALSE)),\"\",VLOOKUP(B1069,database!$A$6:$BFQ$206,3,FALSE)))","v":""},null,null,null,null,null,null,""]
["",null,{"$f":"IF(B1070=\"\",\"\",IF(ISERROR(VLOOKUP(B1070,database!$A$6:$BFQ$206,4,FALSE)),\"\",VLOOKUP(B1070,database!$A$6:$BFQ$206,4,FALSE)))","v":""},null,null,null,"",null,null,null,{"$f":"IF(B1070=\"\",\"\",IF(ISERROR(VLOOKUP(B1070,database!$A$6:$BFQ$206,3,FALSE)),\"\",VLOOKUP(B1070,database!$A$6:$BFQ$206,3,FALSE)))","v":""},null,null,null,null,null,null,""]
["",null,{"$f":"IF(B1071=\"\",\"\",IF(ISERROR(VLOOKUP(B1071,database!$A$6:$BFQ$206,4,FALSE)),\"\",VLOOKUP(B1071,database!$A$6:$BFQ$206,4,FALSE)))","v":""},null,null,null,"",null,null,null,{"$f":"IF(B1071=\"\",\"\",IF(ISERROR(VLOOKUP(B1071,database!$A$6:$BFQ$206,3,FALSE)),\"\",VLOOKUP(B1071,database!$A$6:$BFQ$206,3,FALSE)))","v":""},null,null,null,null,null,null,""]
["",null,{"$f":"IF(B1072=\"\",\"\",IF(ISERROR(VLOOKUP(B1072,database!$A$6:$BFQ$206,4,FALSE)),\"\",VLOOKUP(B1072,database!$A$6:$BFQ$206,4,FALSE)))","v":""},null,null,null,"",null,null,null,{"$f":"IF(B1072=\"\",\"\",IF(ISERROR(VLOOKUP(B1072,database!$A$6:$BFQ$206,3,FALSE)),\"\",VLOOKUP(B1072,database!$A$6:$BFQ$206,3,FALSE)))","v":""},null,null,null,null,null,null,""]
["",null,{"$f":"IF(B1073=\"\",\"\",IF(ISERROR(VLOOKUP(B1073,database!$A$6:$BFQ$206,4,FALSE)),\"\",VLOOKUP(B1073,database!$A$6:$BFQ$206,4,FALSE)))","v":""},null,null,null,"",null,null,null,{"$f":"IF(B1073=\"\",\"\",IF(ISERROR(VLOOKUP(B1073,database!$A$6:$BFQ$206,3,FALSE)),\"\",VLOOKUP(B1073,database!$A$6:$BFQ$206,3,FALSE)))","v":""},null,null,null,null,null,null,""]
["",null,{"$f":"IF(B1074=\"\",\"\",IF(ISERROR(VLOOKUP(B1074,database!$A$6:$BFQ$206,4,FALSE)),\"\",VLOOKUP(B1074,database!$A$6:$BFQ$206,4,FALSE)))","v":""},null,null,null,"",null,null,null,{"$f":"IF(B1074=\"\",\"\",IF(ISERROR(VLOOKUP(B1074,database!$A$6:$BFQ$206,3,FALSE)),\"\",VLOOKUP(B1074,database!$A$6:$BFQ$206,3,FALSE)))","v":""},null,null,null,null,null,null,""]
["",null,{"$f":"IF(B1075=\"\",\"\",IF(ISERROR(VLOOKUP(B1075,database!$A$6:$BFQ$206,4,FALSE)),\"\",VLOOKUP(B1075,database!$A$6:$BFQ$206,4,FALSE)))","v":""},null,null,null,"",null,null,null,{"$f":"IF(B1075=\"\",\"\",IF(ISERROR(VLOOKUP(B1075,database!$A$6:$BFQ$206,3,FALSE)),\"\",VLOOKUP(B1075,database!$A$6:$BFQ$206,3,FALSE)))","v":""},null,null,null,null,null,null,""]
["",null,{"$f":"IF(B1076=\"\",\"\",IF(ISERROR(VLOOKUP(B1076,database!$A$6:$BFQ$206,4,FALSE)),\"\",VLOOKUP(B1076,database!$A$6:$BFQ$206,4,FALSE)))","v":""},null,null,null,"",null,null,null,{"$f":"IF(B1076=\"\",\"\",IF(ISERROR(VLOOKUP(B1076,database!$A$6:$BFQ$206,3,FALSE)),\"\",VLOOKUP(B1076,database!$A$6:$BFQ$206,3,FALSE)))","v":""},null,null,null,null,null,null,""]
["",null,{"$f":"IF(B1077=\"\",\"\",IF(ISERROR(VLOOKUP(B1077,database!$A$6:$BFQ$206,4,FALSE)),\"\",VLOOKUP(B1077,database!$A$6:$BFQ$206,4,FALSE)))","v":""},null,null,null,"",null,null,null,{"$f":"IF(B1077=\"\",\"\",IF(ISERROR(VLOOKUP(B1077,database!$A$6:$BFQ$206,3,FALSE)),\"\",VLOOKUP(B1077,database!$A$6:$BFQ$206,3,FALSE)))","v":""},null,null,null,null,null,null,""]
["",null,{"$f":"IF(B1078=\"\",\"\",IF(ISERROR(VLOOKUP(B1078,database!$A$6:$BFQ$206,4,FALSE)),\"\",VLOOKUP(B1078,database!$A$6:$BFQ$206,4,FALSE)))","v":""},null,null,null,"",null,null,null,{"$f":"IF(B1078=\"\",\"\",IF(ISERROR(VLOOKUP(B1078,database!$A$6:$BFQ$206,3,FALSE)),\"\",VLOOKUP(B1078,database!$A$6:$BFQ$206,3,FALSE)))","v":""},null,null,null,null,null,null,""]
["",null,{"$f":"IF(B1079=\"\",\"\",IF(ISERROR(VLOOKUP(B1079,database!$A$6:$BFQ$206,4,FALSE)),\"\",VLOOKUP(B1079,database!$A$6:$BFQ$206,4,FALSE)))","v":""},null,null,null,"",null,null,null,{"$f":"IF(B1079=\"\",\"\",IF(ISERROR(VLOOKUP(B1079,database!$A$6:$BFQ$206,3,FALSE)),\"\",VLOOKUP(B1079,database!$A$6:$BFQ$206,3,FALSE)))","v":""},null,null,null,null,null,null,""]
["",null,{"$f":"IF(B1080=\"\",\"\",IF(ISERROR(VLOOKUP(B1080,database!$A$6:$BFQ$206,4,FALSE)),\"\",VLOOKUP(B1080,database!$A$6:$BFQ$206,4,FALSE)))","v":""},null,null,null,"",null,null,null,{"$f":"IF(B1080=\"\",\"\",IF(ISERROR(VLOOKUP(B1080,database!$A$6:$BFQ$206,3,FALSE)),\"\",VLOOKUP(B1080,database!$A$6:$BFQ$206,3,FALSE)))","v":""},null,null,null,null,null,null,""]
["",null,{"$f":"IF(B1081=\"\",\"\",IF(ISERROR(VLOOKUP(B1081,database!$A$6:$BFQ$206,4,FALSE)),\"\",VLOOKUP(B1081,database!$A$6:$BFQ$206,4,FALSE)))","v":""},null,null,null,"",null,null,null,{"$f":"IF(B1081=\"\",\"\",IF(ISERROR(VLOOKUP(B1081,database!$A$6:$BFQ$206,3,FALSE)),\"\",VLOOKUP(B1081,database!$A$6:$BFQ$206,3,FALSE)))","v":""},null,null,null,null,null,null,""]
["",null,{"$f":"IF(B1082=\"\",\"\",IF(ISERROR(VLOOKUP(B1082,database!$A$6:$BFQ$206,4,FALSE)),\"\",VLOOKUP(B1082,database!$A$6:$BFQ$206,4,FALSE)))","v":""},null,null,null,"",null,null,null,{"$f":"IF(B1082=\"\",\"\",IF(ISERROR(VLOOKUP(B1082,database!$A$6:$BFQ$206,3,FALSE)),\"\",VLOOKUP(B1082,database!$A$6:$BFQ$206,3,FALSE)))","v":""},null,null,null,null,null,null,""]
["",null,{"$f":"IF(B1083=\"\",\"\",IF(ISERROR(VLOOKUP(B1083,database!$A$6:$BFQ$206,4,FALSE)),\"\",VLOOKUP(B1083,database!$A$6:$BFQ$206,4,FALSE)))","v":""},null,null,null,"",null,null,null,{"$f":"IF(B1083=\"\",\"\",IF(ISERROR(VLOOKUP(B1083,database!$A$6:$BFQ$206,3,FALSE)),\"\",VLOOKUP(B1083,database!$A$6:$BFQ$206,3,FALSE)))","v":""},null,null,null,null,null,null,""]
["",null,{"$f":"IF(B1084=\"\",\"\",IF(ISERROR(VLOOKUP(B1084,database!$A$6:$BFQ$206,4,FALSE)),\"\",VLOOKUP(B1084,database!$A$6:$BFQ$206,4,FALSE)))","v":""},null,null,null,"",null,null,null,{"$f":"IF(B1084=\"\",\"\",IF(ISERROR(VLOOKUP(B1084,database!$A$6:$BFQ$206,3,FALSE)),\"\",VLOOKUP(B1084,database!$A$6:$BFQ$206,3,FALSE)))","v":""},null,null,null,null,null,null,""]
["",null,{"$f":"IF(B1085=\"\",\"\",IF(ISERROR(VLOOKUP(B1085,database!$A$6:$BFQ$206,4,FALSE)),\"\",VLOOKUP(B1085,database!$A$6:$BFQ$206,4,FALSE)))","v":""},null,null,null,"",null,null,null,{"$f":"IF(B1085=\"\",\"\",IF(ISERROR(VLOOKUP(B1085,database!$A$6:$BFQ$206,3,FALSE)),\"\",VLOOKUP(B1085,database!$A$6:$BFQ$206,3,FALSE)))","v":""},null,null,null,null,null,null,""]
["",null,{"$f":"IF(B1086=\"\",\"\",IF(ISERROR(VLOOKUP(B1086,database!$A$6:$BFQ$206,4,FALSE)),\"\",VLOOKUP(B1086,database!$A$6:$BFQ$206,4,FALSE)))","v":""},null,null,null,"",null,null,null,{"$f":"IF(B1086=\"\",\"\",IF(ISERROR(VLOOKUP(B1086,database!$A$6:$BFQ$206,3,FALSE)),\"\",VLOOKUP(B1086,database!$A$6:$BFQ$206,3,FALSE)))","v":""},null,null,null,null,null,null,""]
["",null,{"$f":"IF(B1087=\"\",\"\",IF(ISERROR(VLOOKUP(B1087,database!$A$6:$BFQ$206,4,FALSE)),\"\",VLOOKUP(B1087,database!$A$6:$BFQ$206,4,FALSE)))","v":""},null,null,null,"",null,null,null,{"$f":"IF(B1087=\"\",\"\",IF(ISERROR(VLOOKUP(B1087,database!$A$6:$BFQ$206,3,FALSE)),\"\",VLOOKUP(B1087,database!$A$6:$BFQ$206,3,FALSE)))","v":""},null,null,null,null,null,null,""]
["",null,{"$f":"IF(B1088=\"\",\"\",IF(ISERROR(VLOOKUP(B1088,database!$A$6:$BFQ$206,4,FALSE)),\"\",VLOOKUP(B1088,database!$A$6:$BFQ$206,4,FALSE)))","v":""},null,null,null,"",null,null,null,{"$f":"IF(B1088=\"\",\"\",IF(ISERROR(VLOOKUP(B1088,database!$A$6:$BFQ$206,3,FALSE)),\"\",VLOOKUP(B1088,database!$A$6:$BFQ$206,3,FALSE)))","v":""},null,null,null,null,null,null,""]
[{"$f":"IF(B1089=\"\",\"\",ROW(A1086))","v":""},null,{"$f":"IF(B1089=\"\",\"\",IF(ISERROR(VLOOKUP(B1089,database!$A$6:$BFQ$206,4,FALSE)),\"\",VLOOKUP(B1089,database!$A$6:$BFQ$206,4,FALSE)))","v":""},null,null,null,{"$f":"IF(B1089=\"\",\"\",IF(C1089=\"\",0,1))","v":""},null,null,null,{"$f":"IF(B1089=\"\",\"\",IF(ISERROR(VLOOKUP(B1089,database!$A$6:$BFQ$206,3,FALSE)),\"\",VLOOKUP(B1089,database!$A$6:$BFQ$206,3,FALSE)))","v":""},null,null,null,null,null,null,{"$f":"LEFT(C1089,2)","v":""}]
["",null,{"$f":"IF(B1090=\"\",\"\",IF(ISERROR(VLOOKUP(B1090,database!$A$6:$BFQ$206,4,FALSE)),\"\",VLOOKUP(B1090,database!$A$6:$BFQ$206,4,FALSE)))","v":""},null,null,null,"",null,null,null,{"$f":"IF(B1090=\"\",\"\",IF(ISERROR(VLOOKUP(B1090,database!$A$6:$BFQ$206,3,FALSE)),\"\",VLOOKUP(B1090,database!$A$6:$BFQ$206,3,FALSE)))","v":""},null,null,null,null,null,null,""]
["",null,{"$f":"IF(B1091=\"\",\"\",IF(ISERROR(VLOOKUP(B1091,database!$A$6:$BFQ$206,4,FALSE)),\"\",VLOOKUP(B1091,database!$A$6:$BFQ$206,4,FALSE)))","v":""},null,null,null,"",null,null,null,{"$f":"IF(B1091=\"\",\"\",IF(ISERROR(VLOOKUP(B1091,database!$A$6:$BFQ$206,3,FALSE)),\"\",VLOOKUP(B1091,database!$A$6:$BFQ$206,3,FALSE)))","v":""},null,null,null,null,null,null,""]
["",null,{"$f":"IF(B1092=\"\",\"\",IF(ISERROR(VLOOKUP(B1092,database!$A$6:$BFQ$206,4,FALSE)),\"\",VLOOKUP(B1092,database!$A$6:$BFQ$206,4,FALSE)))","v":""},null,null,null,"",null,null,null,{"$f":"IF(B1092=\"\",\"\",IF(ISERROR(VLOOKUP(B1092,database!$A$6:$BFQ$206,3,FALSE)),\"\",VLOOKUP(B1092,database!$A$6:$BFQ$206,3,FALSE)))","v":""},null,null,null,null,null,null,""]
["",null,{"$f":"IF(B1093=\"\",\"\",IF(ISERROR(VLOOKUP(B1093,database!$A$6:$BFQ$206,4,FALSE)),\"\",VLOOKUP(B1093,database!$A$6:$BFQ$206,4,FALSE)))","v":""},null,null,null,"",null,null,null,{"$f":"IF(B1093=\"\",\"\",IF(ISERROR(VLOOKUP(B1093,database!$A$6:$BFQ$206,3,FALSE)),\"\",VLOOKUP(B1093,database!$A$6:$BFQ$206,3,FALSE)))","v":""},null,null,null,null,null,null,""]
["",null,{"$f":"IF(B1094=\"\",\"\",IF(ISERROR(VLOOKUP(B1094,database!$A$6:$BFQ$206,4,FALSE)),\"\",VLOOKUP(B1094,database!$A$6:$BFQ$206,4,FALSE)))","v":""},null,null,null,"",null,null,null,{"$f":"IF(B1094=\"\",\"\",IF(ISERROR(VLOOKUP(B1094,database!$A$6:$BFQ$206,3,FALSE)),\"\",VLOOKUP(B1094,database!$A$6:$BFQ$206,3,FALSE)))","v":""},null,null,null,null,null,null,""]
["",null,{"$f":"IF(B1095=\"\",\"\",IF(ISERROR(VLOOKUP(B1095,database!$A$6:$BFQ$206,4,FALSE)),\"\",VLOOKUP(B1095,database!$A$6:$BFQ$206,4,FALSE)))","v":""},null,null,null,"",null,null,null,{"$f":"IF(B1095=\"\",\"\",IF(ISERROR(VLOOKUP(B1095,database!$A$6:$BFQ$206,3,FALSE)),\"\",VLOOKUP(B1095,database!$A$6:$BFQ$206,3,FALSE)))","v":""},null,null,null,null,null,null,""]
["",null,{"$f":"IF(B1096=\"\",\"\",IF(ISERROR(VLOOKUP(B1096,database!$A$6:$BFQ$206,4,FALSE)),\"\",VLOOKUP(B1096,database!$A$6:$BFQ$206,4,FALSE)))","v":""},null,null,null,"",null,null,null,{"$f":"IF(B1096=\"\",\"\",IF(ISERROR(VLOOKUP(B1096,database!$A$6:$BFQ$206,3,FALSE)),\"\",VLOOKUP(B1096,database!$A$6:$BFQ$206,3,FALSE)))","v":""},null,null,null,null,null,null,""]
["",null,{"$f":"IF(B1097=\"\",\"\",IF(ISERROR(VLOOKUP(B1097,database!$A$6:$BFQ$206,4,FALSE)),\"\",VLOOKUP(B1097,database!$A$6:$BFQ$206,4,FALSE)))","v":""},null,null,null,"",null,null,null,{"$f":"IF(B1097=\"\",\"\",IF(ISERROR(VLOOKUP(B1097,database!$A$6:$BFQ$206,3,FALSE)),\"\",VLOOKUP(B1097,database!$A$6:$BFQ$206,3,FALSE)))","v":""},null,null,null,null,null,null,""]
["",null,{"$f":"IF(B1098=\"\",\"\",IF(ISERROR(VLOOKUP(B1098,database!$A$6:$BFQ$206,4,FALSE)),\"\",VLOOKUP(B1098,database!$A$6:$BFQ$206,4,FALSE)))","v":""},null,null,null,"",null,null,null,{"$f":"IF(B1098=\"\",\"\",IF(ISERROR(VLOOKUP(B1098,database!$A$6:$BFQ$206,3,FALSE)),\"\",VLOOKUP(B1098,database!$A$6:$BFQ$206,3,FALSE)))","v":""},null,null,null,null,null,null,""]
["",null,{"$f":"IF(B1099=\"\",\"\",IF(ISERROR(VLOOKUP(B1099,database!$A$6:$BFQ$206,4,FALSE)),\"\",VLOOKUP(B1099,database!$A$6:$BFQ$206,4,FALSE)))","v":""},null,null,null,"",null,null,null,{"$f":"IF(B1099=\"\",\"\",IF(ISERROR(VLOOKUP(B1099,database!$A$6:$BFQ$206,3,FALSE)),\"\",VLOOKUP(B1099,database!$A$6:$BFQ$206,3,FALSE)))","v":""},null,null,null,null,null,null,""]
["",null,{"$f":"IF(B1100=\"\",\"\",IF(ISERROR(VLOOKUP(B1100,database!$A$6:$BFQ$206,4,FALSE)),\"\",VLOOKUP(B1100,database!$A$6:$BFQ$206,4,FALSE)))","v":""},null,null,null,"",null,null,null,{"$f":"IF(B1100=\"\",\"\",IF(ISERROR(VLOOKUP(B1100,database!$A$6:$BFQ$206,3,FALSE)),\"\",VLOOKUP(B1100,database!$A$6:$BFQ$206,3,FALSE)))","v":""},null,null,null,null,null,null,""]
["",null,{"$f":"IF(B1101=\"\",\"\",IF(ISERROR(VLOOKUP(B1101,database!$A$6:$BFQ$206,4,FALSE)),\"\",VLOOKUP(B1101,database!$A$6:$BFQ$206,4,FALSE)))","v":""},null,null,null,"",null,null,null,{"$f":"IF(B1101=\"\",\"\",IF(ISERROR(VLOOKUP(B1101,database!$A$6:$BFQ$206,3,FALSE)),\"\",VLOOKUP(B1101,database!$A$6:$BFQ$206,3,FALSE)))","v":""},null,null,null,null,null,null,""]
["",null,{"$f":"IF(B1102=\"\",\"\",IF(ISERROR(VLOOKUP(B1102,database!$A$6:$BFQ$206,4,FALSE)),\"\",VLOOKUP(B1102,database!$A$6:$BFQ$206,4,FALSE)))","v":""},null,null,null,"",null,null,null,{"$f":"IF(B1102=\"\",\"\",IF(ISERROR(VLOOKUP(B1102,database!$A$6:$BFQ$206,3,FALSE)),\"\",VLOOKUP(B1102,database!$A$6:$BFQ$206,3,FALSE)))","v":""},null,null,null,null,null,null,""]
["",null,{"$f":"IF(B1103=\"\",\"\",IF(ISERROR(VLOOKUP(B1103,database!$A$6:$BFQ$206,4,FALSE)),\"\",VLOOKUP(B1103,database!$A$6:$BFQ$206,4,FALSE)))","v":""},null,null,null,"",null,null,null,{"$f":"IF(B1103=\"\",\"\",IF(ISERROR(VLOOKUP(B1103,database!$A$6:$BFQ$206,3,FALSE)),\"\",VLOOKUP(B1103,database!$A$6:$BFQ$206,3,FALSE)))","v":""},null,null,null,null,null,null,""]
["",null,{"$f":"IF(B1104=\"\",\"\",IF(ISERROR(VLOOKUP(B1104,database!$A$6:$BFQ$206,4,FALSE)),\"\",VLOOKUP(B1104,database!$A$6:$BFQ$206,4,FALSE)))","v":""},null,null,null,"",null,null,null,{"$f":"IF(B1104=\"\",\"\",IF(ISERROR(VLOOKUP(B1104,database!$A$6:$BFQ$206,3,FALSE)),\"\",VLOOKUP(B1104,database!$A$6:$BFQ$206,3,FALSE)))","v":""},null,null,null,null,null,null,""]
["",null,{"$f":"IF(B1105=\"\",\"\",IF(ISERROR(VLOOKUP(B1105,database!$A$6:$BFQ$206,4,FALSE)),\"\",VLOOKUP(B1105,database!$A$6:$BFQ$206,4,FALSE)))","v":""},null,null,null,"",null,null,null,{"$f":"IF(B1105=\"\",\"\",IF(ISERROR(VLOOKUP(B1105,database!$A$6:$BFQ$206,3,FALSE)),\"\",VLOOKUP(B1105,database!$A$6:$BFQ$206,3,FALSE)))","v":""},null,null,null,null,null,null,""]
["",null,{"$f":"IF(B1106=\"\",\"\",IF(ISERROR(VLOOKUP(B1106,database!$A$6:$BFQ$206,4,FALSE)),\"\",VLOOKUP(B1106,database!$A$6:$BFQ$206,4,FALSE)))","v":""},null,null,null,"",null,null,null,{"$f":"IF(B1106=\"\",\"\",IF(ISERROR(VLOOKUP(B1106,database!$A$6:$BFQ$206,3,FALSE)),\"\",VLOOKUP(B1106,database!$A$6:$BFQ$206,3,FALSE)))","v":""},null,null,null,null,null,null,""]
["",null,{"$f":"IF(B1107=\"\",\"\",IF(ISERROR(VLOOKUP(B1107,database!$A$6:$BFQ$206,4,FALSE)),\"\",VLOOKUP(B1107,database!$A$6:$BFQ$206,4,FALSE)))","v":""},null,null,null,"",null,null,null,{"$f":"IF(B1107=\"\",\"\",IF(ISERROR(VLOOKUP(B1107,database!$A$6:$BFQ$206,3,FALSE)),\"\",VLOOKUP(B1107,database!$A$6:$BFQ$206,3,FALSE)))","v":""},null,null,null,null,null,null,""]
["",null,{"$f":"IF(B1108=\"\",\"\",IF(ISERROR(VLOOKUP(B1108,database!$A$6:$BFQ$206,4,FALSE)),\"\",VLOOKUP(B1108,database!$A$6:$BFQ$206,4,FALSE)))","v":""},null,null,null,"",null,null,null,{"$f":"IF(B1108=\"\",\"\",IF(ISERROR(VLOOKUP(B1108,database!$A$6:$BFQ$206,3,FALSE)),\"\",VLOOKUP(B1108,database!$A$6:$BFQ$206,3,FALSE)))","v":""},null,null,null,null,null,null,""]
["",null,{"$f":"IF(B1109=\"\",\"\",IF(ISERROR(VLOOKUP(B1109,database!$A$6:$BFQ$206,4,FALSE)),\"\",VLOOKUP(B1109,database!$A$6:$BFQ$206,4,FALSE)))","v":""},null,null,null,"",null,null,null,{"$f":"IF(B1109=\"\",\"\",IF(ISERROR(VLOOKUP(B1109,database!$A$6:$BFQ$206,3,FALSE)),\"\",VLOOKUP(B1109,database!$A$6:$BFQ$206,3,FALSE)))","v":""},null,null,null,null,null,null,""]
["",null,{"$f":"IF(B1110=\"\",\"\",IF(ISERROR(VLOOKUP(B1110,database!$A$6:$BFQ$206,4,FALSE)),\"\",VLOOKUP(B1110,database!$A$6:$BFQ$206,4,FALSE)))","v":""},null,null,null,"",null,null,null,{"$f":"IF(B1110=\"\",\"\",IF(ISERROR(VLOOKUP(B1110,database!$A$6:$BFQ$206,3,FALSE)),\"\",VLOOKUP(B1110,database!$A$6:$BFQ$206,3,FALSE)))","v":""},null,null,null,null,null,null,""]
["",null,{"$f":"IF(B1111=\"\",\"\",IF(ISERROR(VLOOKUP(B1111,database!$A$6:$BFQ$206,4,FALSE)),\"\",VLOOKUP(B1111,database!$A$6:$BFQ$206,4,FALSE)))","v":""},null,null,null,"",null,null,null,{"$f":"IF(B1111=\"\",\"\",IF(ISERROR(VLOOKUP(B1111,database!$A$6:$BFQ$206,3,FALSE)),\"\",VLOOKUP(B1111,database!$A$6:$BFQ$206,3,FALSE)))","v":""},null,null,null,null,null,null,""]
["",null,{"$f":"IF(B1112=\"\",\"\",IF(ISERROR(VLOOKUP(B1112,database!$A$6:$BFQ$206,4,FALSE)),\"\",VLOOKUP(B1112,database!$A$6:$BFQ$206,4,FALSE)))","v":""},null,null,null,"",null,null,null,{"$f":"IF(B1112=\"\",\"\",IF(ISERROR(VLOOKUP(B1112,database!$A$6:$BFQ$206,3,FALSE)),\"\",VLOOKUP(B1112,database!$A$6:$BFQ$206,3,FALSE)))","v":""},null,null,null,null,null,null,""]
["",null,{"$f":"IF(B1113=\"\",\"\",IF(ISERROR(VLOOKUP(B1113,database!$A$6:$BFQ$206,4,FALSE)),\"\",VLOOKUP(B1113,database!$A$6:$BFQ$206,4,FALSE)))","v":""},null,null,null,"",null,null,null,{"$f":"IF(B1113=\"\",\"\",IF(ISERROR(VLOOKUP(B1113,database!$A$6:$BFQ$206,3,FALSE)),\"\",VLOOKUP(B1113,database!$A$6:$BFQ$206,3,FALSE)))","v":""},null,null,null,null,null,null,""]
["",null,{"$f":"IF(B1114=\"\",\"\",IF(ISERROR(VLOOKUP(B1114,database!$A$6:$BFQ$206,4,FALSE)),\"\",VLOOKUP(B1114,database!$A$6:$BFQ$206,4,FALSE)))","v":""},null,null,null,"",null,null,null,{"$f":"IF(B1114=\"\",\"\",IF(ISERROR(VLOOKUP(B1114,database!$A$6:$BFQ$206,3,FALSE)),\"\",VLOOKUP(B1114,database!$A$6:$BFQ$206,3,FALSE)))","v":""},null,null,null,null,null,null,""]
["",null,{"$f":"IF(B1115=\"\",\"\",IF(ISERROR(VLOOKUP(B1115,database!$A$6:$BFQ$206,4,FALSE)),\"\",VLOOKUP(B1115,database!$A$6:$BFQ$206,4,FALSE)))","v":""},null,null,null,"",null,null,null,{"$f":"IF(B1115=\"\",\"\",IF(ISERROR(VLOOKUP(B1115,database!$A$6:$BFQ$206,3,FALSE)),\"\",VLOOKUP(B1115,database!$A$6:$BFQ$206,3,FALSE)))","v":""},null,null,null,null,null,null,""]
["",null,{"$f":"IF(B1116=\"\",\"\",IF(ISERROR(VLOOKUP(B1116,database!$A$6:$BFQ$206,4,FALSE)),\"\",VLOOKUP(B1116,database!$A$6:$BFQ$206,4,FALSE)))","v":""},null,null,null,"",null,null,null,{"$f":"IF(B1116=\"\",\"\",IF(ISERROR(VLOOKUP(B1116,database!$A$6:$BFQ$206,3,FALSE)),\"\",VLOOKUP(B1116,database!$A$6:$BFQ$206,3,FALSE)))","v":""},null,null,null,null,null,null,""]
["",null,{"$f":"IF(B1117=\"\",\"\",IF(ISERROR(VLOOKUP(B1117,database!$A$6:$BFQ$206,4,FALSE)),\"\",VLOOKUP(B1117,database!$A$6:$BFQ$206,4,FALSE)))","v":""},null,null,null,"",null,null,null,{"$f":"IF(B1117=\"\",\"\",IF(ISERROR(VLOOKUP(B1117,database!$A$6:$BFQ$206,3,FALSE)),\"\",VLOOKUP(B1117,database!$A$6:$BFQ$206,3,FALSE)))","v":""},null,null,null,null,null,null,""]
["",null,{"$f":"IF(B1118=\"\",\"\",IF(ISERROR(VLOOKUP(B1118,database!$A$6:$BFQ$206,4,FALSE)),\"\",VLOOKUP(B1118,database!$A$6:$BFQ$206,4,FALSE)))","v":""},null,null,null,"",null,null,null,{"$f":"IF(B1118=\"\",\"\",IF(ISERROR(VLOOKUP(B1118,database!$A$6:$BFQ$206,3,FALSE)),\"\",VLOOKUP(B1118,database!$A$6:$BFQ$206,3,FALSE)))","v":""},null,null,null,null,null,null,""]
["",null,{"$f":"IF(B1119=\"\",\"\",IF(ISERROR(VLOOKUP(B1119,database!$A$6:$BFQ$206,4,FALSE)),\"\",VLOOKUP(B1119,database!$A$6:$BFQ$206,4,FALSE)))","v":""},null,null,null,"",null,null,null,{"$f":"IF(B1119=\"\",\"\",IF(ISERROR(VLOOKUP(B1119,database!$A$6:$BFQ$206,3,FALSE)),\"\",VLOOKUP(B1119,database!$A$6:$BFQ$206,3,FALSE)))","v":""},null,null,null,null,null,null,""]
["",null,{"$f":"IF(B1120=\"\",\"\",IF(ISERROR(VLOOKUP(B1120,database!$A$6:$BFQ$206,4,FALSE)),\"\",VLOOKUP(B1120,database!$A$6:$BFQ$206,4,FALSE)))","v":""},null,null,null,"",null,null,null,{"$f":"IF(B1120=\"\",\"\",IF(ISERROR(VLOOKUP(B1120,database!$A$6:$BFQ$206,3,FALSE)),\"\",VLOOKUP(B1120,database!$A$6:$BFQ$206,3,FALSE)))","v":""},null,null,null,null,null,null,""]
["",null,{"$f":"IF(B1121=\"\",\"\",IF(ISERROR(VLOOKUP(B1121,database!$A$6:$BFQ$206,4,FALSE)),\"\",VLOOKUP(B1121,database!$A$6:$BFQ$206,4,FALSE)))","v":""},null,null,null,"",null,null,null,{"$f":"IF(B1121=\"\",\"\",IF(ISERROR(VLOOKUP(B1121,database!$A$6:$BFQ$206,3,FALSE)),\"\",VLOOKUP(B1121,database!$A$6:$BFQ$206,3,FALSE)))","v":""},null,null,null,null,null,null,""]
["",null,{"$f":"IF(B1122=\"\",\"\",IF(ISERROR(VLOOKUP(B1122,database!$A$6:$BFQ$206,4,FALSE)),\"\",VLOOKUP(B1122,database!$A$6:$BFQ$206,4,FALSE)))","v":""},null,null,null,"",null,null,null,{"$f":"IF(B1122=\"\",\"\",IF(ISERROR(VLOOKUP(B1122,database!$A$6:$BFQ$206,3,FALSE)),\"\",VLOOKUP(B1122,database!$A$6:$BFQ$206,3,FALSE)))","v":""},null,null,null,null,null,null,""]
["",null,{"$f":"IF(B1123=\"\",\"\",IF(ISERROR(VLOOKUP(B1123,database!$A$6:$BFQ$206,4,FALSE)),\"\",VLOOKUP(B1123,database!$A$6:$BFQ$206,4,FALSE)))","v":""},null,null,null,"",null,null,null,{"$f":"IF(B1123=\"\",\"\",IF(ISERROR(VLOOKUP(B1123,database!$A$6:$BFQ$206,3,FALSE)),\"\",VLOOKUP(B1123,database!$A$6:$BFQ$206,3,FALSE)))","v":""},null,null,null,null,null,null,""]
["",null,{"$f":"IF(B1124=\"\",\"\",IF(ISERROR(VLOOKUP(B1124,database!$A$6:$BFQ$206,4,FALSE)),\"\",VLOOKUP(B1124,database!$A$6:$BFQ$206,4,FALSE)))","v":""},null,null,null,"",null,null,null,{"$f":"IF(B1124=\"\",\"\",IF(ISERROR(VLOOKUP(B1124,database!$A$6:$BFQ$206,3,FALSE)),\"\",VLOOKUP(B1124,database!$A$6:$BFQ$206,3,FALSE)))","v":""},null,null,null,null,null,null,""]
["",null,{"$f":"IF(B1125=\"\",\"\",IF(ISERROR(VLOOKUP(B1125,database!$A$6:$BFQ$206,4,FALSE)),\"\",VLOOKUP(B1125,database!$A$6:$BFQ$206,4,FALSE)))","v":""},null,null,null,"",null,null,null,{"$f":"IF(B1125=\"\",\"\",IF(ISERROR(VLOOKUP(B1125,database!$A$6:$BFQ$206,3,FALSE)),\"\",VLOOKUP(B1125,database!$A$6:$BFQ$206,3,FALSE)))","v":""},null,null,null,null,null,null,""]
["",null,{"$f":"IF(B1126=\"\",\"\",IF(ISERROR(VLOOKUP(B1126,database!$A$6:$BFQ$206,4,FALSE)),\"\",VLOOKUP(B1126,database!$A$6:$BFQ$206,4,FALSE)))","v":""},null,null,null,"",null,null,null,{"$f":"IF(B1126=\"\",\"\",IF(ISERROR(VLOOKUP(B1126,database!$A$6:$BFQ$206,3,FALSE)),\"\",VLOOKUP(B1126,database!$A$6:$BFQ$206,3,FALSE)))","v":""},null,null,null,null,null,null,""]
["",null,{"$f":"IF(B1127=\"\",\"\",IF(ISERROR(VLOOKUP(B1127,database!$A$6:$BFQ$206,4,FALSE)),\"\",VLOOKUP(B1127,database!$A$6:$BFQ$206,4,FALSE)))","v":""},null,null,null,"",null,null,null,{"$f":"IF(B1127=\"\",\"\",IF(ISERROR(VLOOKUP(B1127,database!$A$6:$BFQ$206,3,FALSE)),\"\",VLOOKUP(B1127,database!$A$6:$BFQ$206,3,FALSE)))","v":""},null,null,null,null,null,null,""]
["",null,{"$f":"IF(B1128=\"\",\"\",IF(ISERROR(VLOOKUP(B1128,database!$A$6:$BFQ$206,4,FALSE)),\"\",VLOOKUP(B1128,database!$A$6:$BFQ$206,4,FALSE)))","v":""},null,null,null,"",null,null,null,{"$f":"IF(B1128=\"\",\"\",IF(ISERROR(VLOOKUP(B1128,database!$A$6:$BFQ$206,3,FALSE)),\"\",VLOOKUP(B1128,database!$A$6:$BFQ$206,3,FALSE)))","v":""},null,null,null,null,null,null,""]
["",null,{"$f":"IF(B1129=\"\",\"\",IF(ISERROR(VLOOKUP(B1129,database!$A$6:$BFQ$206,4,FALSE)),\"\",VLOOKUP(B1129,database!$A$6:$BFQ$206,4,FALSE)))","v":""},null,null,null,"",null,null,null,{"$f":"IF(B1129=\"\",\"\",IF(ISERROR(VLOOKUP(B1129,database!$A$6:$BFQ$206,3,FALSE)),\"\",VLOOKUP(B1129,database!$A$6:$BFQ$206,3,FALSE)))","v":""},null,null,null,null,null,null,""]
["",null,{"$f":"IF(B1130=\"\",\"\",IF(ISERROR(VLOOKUP(B1130,database!$A$6:$BFQ$206,4,FALSE)),\"\",VLOOKUP(B1130,database!$A$6:$BFQ$206,4,FALSE)))","v":""},null,null,null,"",null,null,null,{"$f":"IF(B1130=\"\",\"\",IF(ISERROR(VLOOKUP(B1130,database!$A$6:$BFQ$206,3,FALSE)),\"\",VLOOKUP(B1130,database!$A$6:$BFQ$206,3,FALSE)))","v":""},null,null,null,null,null,null,""]
["",null,{"$f":"IF(B1131=\"\",\"\",IF(ISERROR(VLOOKUP(B1131,database!$A$6:$BFQ$206,4,FALSE)),\"\",VLOOKUP(B1131,database!$A$6:$BFQ$206,4,FALSE)))","v":""},null,null,null,"",null,null,null,{"$f":"IF(B1131=\"\",\"\",IF(ISERROR(VLOOKUP(B1131,database!$A$6:$BFQ$206,3,FALSE)),\"\",VLOOKUP(B1131,database!$A$6:$BFQ$206,3,FALSE)))","v":""},null,null,null,null,null,null,""]
["",null,{"$f":"IF(B1132=\"\",\"\",IF(ISERROR(VLOOKUP(B1132,database!$A$6:$BFQ$206,4,FALSE)),\"\",VLOOKUP(B1132,database!$A$6:$BFQ$206,4,FALSE)))","v":""},null,null,null,"",null,null,null,{"$f":"IF(B1132=\"\",\"\",IF(ISERROR(VLOOKUP(B1132,database!$A$6:$BFQ$206,3,FALSE)),\"\",VLOOKUP(B1132,database!$A$6:$BFQ$206,3,FALSE)))","v":""},null,null,null,null,null,null,""]
["",null,{"$f":"IF(B1133=\"\",\"\",IF(ISERROR(VLOOKUP(B1133,database!$A$6:$BFQ$206,4,FALSE)),\"\",VLOOKUP(B1133,database!$A$6:$BFQ$206,4,FALSE)))","v":""},null,null,null,"",null,null,null,{"$f":"IF(B1133=\"\",\"\",IF(ISERROR(VLOOKUP(B1133,database!$A$6:$BFQ$206,3,FALSE)),\"\",VLOOKUP(B1133,database!$A$6:$BFQ$206,3,FALSE)))","v":""},null,null,null,null,null,null,""]
["",null,{"$f":"IF(B1134=\"\",\"\",IF(ISERROR(VLOOKUP(B1134,database!$A$6:$BFQ$206,4,FALSE)),\"\",VLOOKUP(B1134,database!$A$6:$BFQ$206,4,FALSE)))","v":""},null,null,null,"",null,null,null,{"$f":"IF(B1134=\"\",\"\",IF(ISERROR(VLOOKUP(B1134,database!$A$6:$BFQ$206,3,FALSE)),\"\",VLOOKUP(B1134,database!$A$6:$BFQ$206,3,FALSE)))","v":""},null,null,null,null,null,null,""]
["",null,{"$f":"IF(B1135=\"\",\"\",IF(ISERROR(VLOOKUP(B1135,database!$A$6:$BFQ$206,4,FALSE)),\"\",VLOOKUP(B1135,database!$A$6:$BFQ$206,4,FALSE)))","v":""},null,null,null,"",null,null,null,{"$f":"IF(B1135=\"\",\"\",IF(ISERROR(VLOOKUP(B1135,database!$A$6:$BFQ$206,3,FALSE)),\"\",VLOOKUP(B1135,database!$A$6:$BFQ$206,3,FALSE)))","v":""},null,null,null,null,null,null,""]
["",null,{"$f":"IF(B1136=\"\",\"\",IF(ISERROR(VLOOKUP(B1136,database!$A$6:$BFQ$206,4,FALSE)),\"\",VLOOKUP(B1136,database!$A$6:$BFQ$206,4,FALSE)))","v":""},null,null,null,"",null,null,null,{"$f":"IF(B1136=\"\",\"\",IF(ISERROR(VLOOKUP(B1136,database!$A$6:$BFQ$206,3,FALSE)),\"\",VLOOKUP(B1136,database!$A$6:$BFQ$206,3,FALSE)))","v":""},null,null,null,null,null,null,""]
["",null,{"$f":"IF(B1137=\"\",\"\",IF(ISERROR(VLOOKUP(B1137,database!$A$6:$BFQ$206,4,FALSE)),\"\",VLOOKUP(B1137,database!$A$6:$BFQ$206,4,FALSE)))","v":""},null,null,null,"",null,null,null,{"$f":"IF(B1137=\"\",\"\",IF(ISERROR(VLOOKUP(B1137,database!$A$6:$BFQ$206,3,FALSE)),\"\",VLOOKUP(B1137,database!$A$6:$BFQ$206,3,FALSE)))","v":""},null,null,null,null,null,null,""]
["",null,{"$f":"IF(B1138=\"\",\"\",IF(ISERROR(VLOOKUP(B1138,database!$A$6:$BFQ$206,4,FALSE)),\"\",VLOOKUP(B1138,database!$A$6:$BFQ$206,4,FALSE)))","v":""},null,null,null,"",null,null,null,{"$f":"IF(B1138=\"\",\"\",IF(ISERROR(VLOOKUP(B1138,database!$A$6:$BFQ$206,3,FALSE)),\"\",VLOOKUP(B1138,database!$A$6:$BFQ$206,3,FALSE)))","v":""},null,null,null,null,null,null,""]
["",null,{"$f":"IF(B1139=\"\",\"\",IF(ISERROR(VLOOKUP(B1139,database!$A$6:$BFQ$206,4,FALSE)),\"\",VLOOKUP(B1139,database!$A$6:$BFQ$206,4,FALSE)))","v":""},null,null,null,"",null,null,null,{"$f":"IF(B1139=\"\",\"\",IF(ISERROR(VLOOKUP(B1139,database!$A$6:$BFQ$206,3,FALSE)),\"\",VLOOKUP(B1139,database!$A$6:$BFQ$206,3,FALSE)))","v":""},null,null,null,null,null,null,""]
["",null,{"$f":"IF(B1140=\"\",\"\",IF(ISERROR(VLOOKUP(B1140,database!$A$6:$BFQ$206,4,FALSE)),\"\",VLOOKUP(B1140,database!$A$6:$BFQ$206,4,FALSE)))","v":""},null,null,null,"",null,null,null,{"$f":"IF(B1140=\"\",\"\",IF(ISERROR(VLOOKUP(B1140,database!$A$6:$BFQ$206,3,FALSE)),\"\",VLOOKUP(B1140,database!$A$6:$BFQ$206,3,FALSE)))","v":""},null,null,null,null,null,null,""]
["",null,{"$f":"IF(B1141=\"\",\"\",IF(ISERROR(VLOOKUP(B1141,database!$A$6:$BFQ$206,4,FALSE)),\"\",VLOOKUP(B1141,database!$A$6:$BFQ$206,4,FALSE)))","v":""},null,null,null,"",null,null,null,{"$f":"IF(B1141=\"\",\"\",IF(ISERROR(VLOOKUP(B1141,database!$A$6:$BFQ$206,3,FALSE)),\"\",VLOOKUP(B1141,database!$A$6:$BFQ$206,3,FALSE)))","v":""},null,null,null,null,null,null,""]
["",null,{"$f":"IF(B1142=\"\",\"\",IF(ISERROR(VLOOKUP(B1142,database!$A$6:$BFQ$206,4,FALSE)),\"\",VLOOKUP(B1142,database!$A$6:$BFQ$206,4,FALSE)))","v":""},null,null,null,"",null,null,null,{"$f":"IF(B1142=\"\",\"\",IF(ISERROR(VLOOKUP(B1142,database!$A$6:$BFQ$206,3,FALSE)),\"\",VLOOKUP(B1142,database!$A$6:$BFQ$206,3,FALSE)))","v":""},null,null,null,null,null,null,""]
["",null,{"$f":"IF(B1143=\"\",\"\",IF(ISERROR(VLOOKUP(B1143,database!$A$6:$BFQ$206,4,FALSE)),\"\",VLOOKUP(B1143,database!$A$6:$BFQ$206,4,FALSE)))","v":""},null,null,null,"",null,null,null,{"$f":"IF(B1143=\"\",\"\",IF(ISERROR(VLOOKUP(B1143,database!$A$6:$BFQ$206,3,FALSE)),\"\",VLOOKUP(B1143,database!$A$6:$BFQ$206,3,FALSE)))","v":""},null,null,null,null,null,null,""]
["",null,{"$f":"IF(B1144=\"\",\"\",IF(ISERROR(VLOOKUP(B1144,database!$A$6:$BFQ$206,4,FALSE)),\"\",VLOOKUP(B1144,database!$A$6:$BFQ$206,4,FALSE)))","v":""},null,null,null,"",null,null,null,{"$f":"IF(B1144=\"\",\"\",IF(ISERROR(VLOOKUP(B1144,database!$A$6:$BFQ$206,3,FALSE)),\"\",VLOOKUP(B1144,database!$A$6:$BFQ$206,3,FALSE)))","v":""},null,null,null,null,null,null,""]
["",null,{"$f":"IF(B1145=\"\",\"\",IF(ISERROR(VLOOKUP(B1145,database!$A$6:$BFQ$206,4,FALSE)),\"\",VLOOKUP(B1145,database!$A$6:$BFQ$206,4,FALSE)))","v":""},null,null,null,"",null,null,null,{"$f":"IF(B1145=\"\",\"\",IF(ISERROR(VLOOKUP(B1145,database!$A$6:$BFQ$206,3,FALSE)),\"\",VLOOKUP(B1145,database!$A$6:$BFQ$206,3,FALSE)))","v":""},null,null,null,null,null,null,""]
["",null,{"$f":"IF(B1146=\"\",\"\",IF(ISERROR(VLOOKUP(B1146,database!$A$6:$BFQ$206,4,FALSE)),\"\",VLOOKUP(B1146,database!$A$6:$BFQ$206,4,FALSE)))","v":""},null,null,null,"",null,null,null,{"$f":"IF(B1146=\"\",\"\",IF(ISERROR(VLOOKUP(B1146,database!$A$6:$BFQ$206,3,FALSE)),\"\",VLOOKUP(B1146,database!$A$6:$BFQ$206,3,FALSE)))","v":""},null,null,null,null,null,null,""]
["",null,{"$f":"IF(B1147=\"\",\"\",IF(ISERROR(VLOOKUP(B1147,database!$A$6:$BFQ$206,4,FALSE)),\"\",VLOOKUP(B1147,database!$A$6:$BFQ$206,4,FALSE)))","v":""},null,null,null,"",null,null,null,{"$f":"IF(B1147=\"\",\"\",IF(ISERROR(VLOOKUP(B1147,database!$A$6:$BFQ$206,3,FALSE)),\"\",VLOOKUP(B1147,database!$A$6:$BFQ$206,3,FALSE)))","v":""},null,null,null,null,null,null,""]
["",null,{"$f":"IF(B1148=\"\",\"\",IF(ISERROR(VLOOKUP(B1148,database!$A$6:$BFQ$206,4,FALSE)),\"\",VLOOKUP(B1148,database!$A$6:$BFQ$206,4,FALSE)))","v":""},null,null,null,"",null,null,null,{"$f":"IF(B1148=\"\",\"\",IF(ISERROR(VLOOKUP(B1148,database!$A$6:$BFQ$206,3,FALSE)),\"\",VLOOKUP(B1148,database!$A$6:$BFQ$206,3,FALSE)))","v":""},null,null,null,null,null,null,""]
["",null,{"$f":"IF(B1149=\"\",\"\",IF(ISERROR(VLOOKUP(B1149,database!$A$6:$BFQ$206,4,FALSE)),\"\",VLOOKUP(B1149,database!$A$6:$BFQ$206,4,FALSE)))","v":""},null,null,null,"",null,null,null,{"$f":"IF(B1149=\"\",\"\",IF(ISERROR(VLOOKUP(B1149,database!$A$6:$BFQ$206,3,FALSE)),\"\",VLOOKUP(B1149,database!$A$6:$BFQ$206,3,FALSE)))","v":""},null,null,null,null,null,null,""]
["",null,{"$f":"IF(B1150=\"\",\"\",IF(ISERROR(VLOOKUP(B1150,database!$A$6:$BFQ$206,4,FALSE)),\"\",VLOOKUP(B1150,database!$A$6:$BFQ$206,4,FALSE)))","v":""},null,null,null,"",null,null,null,{"$f":"IF(B1150=\"\",\"\",IF(ISERROR(VLOOKUP(B1150,database!$A$6:$BFQ$206,3,FALSE)),\"\",VLOOKUP(B1150,database!$A$6:$BFQ$206,3,FALSE)))","v":""},null,null,null,null,null,null,""]
["",null,{"$f":"IF(B1151=\"\",\"\",IF(ISERROR(VLOOKUP(B1151,database!$A$6:$BFQ$206,4,FALSE)),\"\",VLOOKUP(B1151,database!$A$6:$BFQ$206,4,FALSE)))","v":""},null,null,null,"",null,null,null,{"$f":"IF(B1151=\"\",\"\",IF(ISERROR(VLOOKUP(B1151,database!$A$6:$BFQ$206,3,FALSE)),\"\",VLOOKUP(B1151,database!$A$6:$BFQ$206,3,FALSE)))","v":""},null,null,null,null,null,null,""]
["",null,{"$f":"IF(B1152=\"\",\"\",IF(ISERROR(VLOOKUP(B1152,database!$A$6:$BFQ$206,4,FALSE)),\"\",VLOOKUP(B1152,database!$A$6:$BFQ$206,4,FALSE)))","v":""},null,null,null,"",null,null,null,{"$f":"IF(B1152=\"\",\"\",IF(ISERROR(VLOOKUP(B1152,database!$A$6:$BFQ$206,3,FALSE)),\"\",VLOOKUP(B1152,database!$A$6:$BFQ$206,3,FALSE)))","v":""},null,null,null,null,null,null,""]
[{"$f":"IF(B1153=\"\",\"\",ROW(A1150))","v":""},null,{"$f":"IF(B1153=\"\",\"\",IF(ISERROR(VLOOKUP(B1153,database!$A$6:$BFQ$206,4,FALSE)),\"\",VLOOKUP(B1153,database!$A$6:$BFQ$206,4,FALSE)))","v":""},null,null,null,{"$f":"IF(B1153=\"\",\"\",IF(C1153=\"\",0,1))","v":""},null,null,null,{"$f":"IF(B1153=\"\",\"\",IF(ISERROR(VLOOKUP(B1153,database!$A$6:$BFQ$206,3,FALSE)),\"\",VLOOKUP(B1153,database!$A$6:$BFQ$206,3,FALSE)))","v":""},null,null,null,null,null,null,{"$f":"LEFT(C1153,2)","v":""}]
["",null,{"$f":"IF(B1154=\"\",\"\",IF(ISERROR(VLOOKUP(B1154,database!$A$6:$BFQ$206,4,FALSE)),\"\",VLOOKUP(B1154,database!$A$6:$BFQ$206,4,FALSE)))","v":""},null,null,null,"",null,null,null,{"$f":"IF(B1154=\"\",\"\",IF(ISERROR(VLOOKUP(B1154,database!$A$6:$BFQ$206,3,FALSE)),\"\",VLOOKUP(B1154,database!$A$6:$BFQ$206,3,FALSE)))","v":""},null,null,null,null,null,null,""]
["",null,{"$f":"IF(B1155=\"\",\"\",IF(ISERROR(VLOOKUP(B1155,database!$A$6:$BFQ$206,4,FALSE)),\"\",VLOOKUP(B1155,database!$A$6:$BFQ$206,4,FALSE)))","v":""},null,null,null,"",null,null,null,{"$f":"IF(B1155=\"\",\"\",IF(ISERROR(VLOOKUP(B1155,database!$A$6:$BFQ$206,3,FALSE)),\"\",VLOOKUP(B1155,database!$A$6:$BFQ$206,3,FALSE)))","v":""},null,null,null,null,null,null,""]
["",null,{"$f":"IF(B1156=\"\",\"\",IF(ISERROR(VLOOKUP(B1156,database!$A$6:$BFQ$206,4,FALSE)),\"\",VLOOKUP(B1156,database!$A$6:$BFQ$206,4,FALSE)))","v":""},null,null,null,"",null,null,null,{"$f":"IF(B1156=\"\",\"\",IF(ISERROR(VLOOKUP(B1156,database!$A$6:$BFQ$206,3,FALSE)),\"\",VLOOKUP(B1156,database!$A$6:$BFQ$206,3,FALSE)))","v":""},null,null,null,null,null,null,""]
["",null,{"$f":"IF(B1157=\"\",\"\",IF(ISERROR(VLOOKUP(B1157,database!$A$6:$BFQ$206,4,FALSE)),\"\",VLOOKUP(B1157,database!$A$6:$BFQ$206,4,FALSE)))","v":""},null,null,null,"",null,null,null,{"$f":"IF(B1157=\"\",\"\",IF(ISERROR(VLOOKUP(B1157,database!$A$6:$BFQ$206,3,FALSE)),\"\",VLOOKUP(B1157,database!$A$6:$BFQ$206,3,FALSE)))","v":""},null,null,null,null,null,null,""]
["",null,{"$f":"IF(B1158=\"\",\"\",IF(ISERROR(VLOOKUP(B1158,database!$A$6:$BFQ$206,4,FALSE)),\"\",VLOOKUP(B1158,database!$A$6:$BFQ$206,4,FALSE)))","v":""},null,null,null,"",null,null,null,{"$f":"IF(B1158=\"\",\"\",IF(ISERROR(VLOOKUP(B1158,database!$A$6:$BFQ$206,3,FALSE)),\"\",VLOOKUP(B1158,database!$A$6:$BFQ$206,3,FALSE)))","v":""},null,null,null,null,null,null,""]
["",null,{"$f":"IF(B1159=\"\",\"\",IF(ISERROR(VLOOKUP(B1159,database!$A$6:$BFQ$206,4,FALSE)),\"\",VLOOKUP(B1159,database!$A$6:$BFQ$206,4,FALSE)))","v":""},null,null,null,"",null,null,null,{"$f":"IF(B1159=\"\",\"\",IF(ISERROR(VLOOKUP(B1159,database!$A$6:$BFQ$206,3,FALSE)),\"\",VLOOKUP(B1159,database!$A$6:$BFQ$206,3,FALSE)))","v":""},null,null,null,null,null,null,""]
["",null,{"$f":"IF(B1160=\"\",\"\",IF(ISERROR(VLOOKUP(B1160,database!$A$6:$BFQ$206,4,FALSE)),\"\",VLOOKUP(B1160,database!$A$6:$BFQ$206,4,FALSE)))","v":""},null,null,null,"",null,null,null,{"$f":"IF(B1160=\"\",\"\",IF(ISERROR(VLOOKUP(B1160,database!$A$6:$BFQ$206,3,FALSE)),\"\",VLOOKUP(B1160,database!$A$6:$BFQ$206,3,FALSE)))","v":""},null,null,null,null,null,null,""]
["",null,{"$f":"IF(B1161=\"\",\"\",IF(ISERROR(VLOOKUP(B1161,database!$A$6:$BFQ$206,4,FALSE)),\"\",VLOOKUP(B1161,database!$A$6:$BFQ$206,4,FALSE)))","v":""},null,null,null,"",null,null,null,{"$f":"IF(B1161=\"\",\"\",IF(ISERROR(VLOOKUP(B1161,database!$A$6:$BFQ$206,3,FALSE)),\"\",VLOOKUP(B1161,database!$A$6:$BFQ$206,3,FALSE)))","v":""},null,null,null,null,null,null,""]
["",null,{"$f":"IF(B1162=\"\",\"\",IF(ISERROR(VLOOKUP(B1162,database!$A$6:$BFQ$206,4,FALSE)),\"\",VLOOKUP(B1162,database!$A$6:$BFQ$206,4,FALSE)))","v":""},null,null,null,"",null,null,null,{"$f":"IF(B1162=\"\",\"\",IF(ISERROR(VLOOKUP(B1162,database!$A$6:$BFQ$206,3,FALSE)),\"\",VLOOKUP(B1162,database!$A$6:$BFQ$206,3,FALSE)))","v":""},null,null,null,null,null,null,""]
["",null,{"$f":"IF(B1163=\"\",\"\",IF(ISERROR(VLOOKUP(B1163,database!$A$6:$BFQ$206,4,FALSE)),\"\",VLOOKUP(B1163,database!$A$6:$BFQ$206,4,FALSE)))","v":""},null,null,null,"",null,null,null,{"$f":"IF(B1163=\"\",\"\",IF(ISERROR(VLOOKUP(B1163,database!$A$6:$BFQ$206,3,FALSE)),\"\",VLOOKUP(B1163,database!$A$6:$BFQ$206,3,FALSE)))","v":""},null,null,null,null,null,null,""]
["",null,{"$f":"IF(B1164=\"\",\"\",IF(ISERROR(VLOOKUP(B1164,database!$A$6:$BFQ$206,4,FALSE)),\"\",VLOOKUP(B1164,database!$A$6:$BFQ$206,4,FALSE)))","v":""},null,null,null,"",null,null,null,{"$f":"IF(B1164=\"\",\"\",IF(ISERROR(VLOOKUP(B1164,database!$A$6:$BFQ$206,3,FALSE)),\"\",VLOOKUP(B1164,database!$A$6:$BFQ$206,3,FALSE)))","v":""},null,null,null,null,null,null,""]
["",null,{"$f":"IF(B1165=\"\",\"\",IF(ISERROR(VLOOKUP(B1165,database!$A$6:$BFQ$206,4,FALSE)),\"\",VLOOKUP(B1165,database!$A$6:$BFQ$206,4,FALSE)))","v":""},null,null,null,"",null,null,null,{"$f":"IF(B1165=\"\",\"\",IF(ISERROR(VLOOKUP(B1165,database!$A$6:$BFQ$206,3,FALSE)),\"\",VLOOKUP(B1165,database!$A$6:$BFQ$206,3,FALSE)))","v":""},null,null,null,null,null,null,""]
["",null,{"$f":"IF(B1166=\"\",\"\",IF(ISERROR(VLOOKUP(B1166,database!$A$6:$BFQ$206,4,FALSE)),\"\",VLOOKUP(B1166,database!$A$6:$BFQ$206,4,FALSE)))","v":""},null,null,null,"",null,null,null,{"$f":"IF(B1166=\"\",\"\",IF(ISERROR(VLOOKUP(B1166,database!$A$6:$BFQ$206,3,FALSE)),\"\",VLOOKUP(B1166,database!$A$6:$BFQ$206,3,FALSE)))","v":""},null,null,null,null,null,null,""]
["",null,{"$f":"IF(B1167=\"\",\"\",IF(ISERROR(VLOOKUP(B1167,database!$A$6:$BFQ$206,4,FALSE)),\"\",VLOOKUP(B1167,database!$A$6:$BFQ$206,4,FALSE)))","v":""},null,null,null,"",null,null,null,{"$f":"IF(B1167=\"\",\"\",IF(ISERROR(VLOOKUP(B1167,database!$A$6:$BFQ$206,3,FALSE)),\"\",VLOOKUP(B1167,database!$A$6:$BFQ$206,3,FALSE)))","v":""},null,null,null,null,null,null,""]
["",null,{"$f":"IF(B1168=\"\",\"\",IF(ISERROR(VLOOKUP(B1168,database!$A$6:$BFQ$206,4,FALSE)),\"\",VLOOKUP(B1168,database!$A$6:$BFQ$206,4,FALSE)))","v":""},null,null,null,"",null,null,null,{"$f":"IF(B1168=\"\",\"\",IF(ISERROR(VLOOKUP(B1168,database!$A$6:$BFQ$206,3,FALSE)),\"\",VLOOKUP(B1168,database!$A$6:$BFQ$206,3,FALSE)))","v":""},null,null,null,null,null,null,""]
["",null,{"$f":"IF(B1169=\"\",\"\",IF(ISERROR(VLOOKUP(B1169,database!$A$6:$BFQ$206,4,FALSE)),\"\",VLOOKUP(B1169,database!$A$6:$BFQ$206,4,FALSE)))","v":""},null,null,null,"",null,null,null,{"$f":"IF(B1169=\"\",\"\",IF(ISERROR(VLOOKUP(B1169,database!$A$6:$BFQ$206,3,FALSE)),\"\",VLOOKUP(B1169,database!$A$6:$BFQ$206,3,FALSE)))","v":""},null,null,null,null,null,null,""]
["",null,{"$f":"IF(B1170=\"\",\"\",IF(ISERROR(VLOOKUP(B1170,database!$A$6:$BFQ$206,4,FALSE)),\"\",VLOOKUP(B1170,database!$A$6:$BFQ$206,4,FALSE)))","v":""},null,null,null,"",null,null,null,{"$f":"IF(B1170=\"\",\"\",IF(ISERROR(VLOOKUP(B1170,database!$A$6:$BFQ$206,3,FALSE)),\"\",VLOOKUP(B1170,database!$A$6:$BFQ$206,3,FALSE)))","v":""},null,null,null,null,null,null,""]
["",null,{"$f":"IF(B1171=\"\",\"\",IF(ISERROR(VLOOKUP(B1171,database!$A$6:$BFQ$206,4,FALSE)),\"\",VLOOKUP(B1171,database!$A$6:$BFQ$206,4,FALSE)))","v":""},null,null,null,"",null,null,null,{"$f":"IF(B1171=\"\",\"\",IF(ISERROR(VLOOKUP(B1171,database!$A$6:$BFQ$206,3,FALSE)),\"\",VLOOKUP(B1171,database!$A$6:$BFQ$206,3,FALSE)))","v":""},null,null,null,null,null,null,""]
["",null,{"$f":"IF(B1172=\"\",\"\",IF(ISERROR(VLOOKUP(B1172,database!$A$6:$BFQ$206,4,FALSE)),\"\",VLOOKUP(B1172,database!$A$6:$BFQ$206,4,FALSE)))","v":""},null,null,null,"",null,null,null,{"$f":"IF(B1172=\"\",\"\",IF(ISERROR(VLOOKUP(B1172,database!$A$6:$BFQ$206,3,FALSE)),\"\",VLOOKUP(B1172,database!$A$6:$BFQ$206,3,FALSE)))","v":""},null,null,null,null,null,null,""]
["",null,{"$f":"IF(B1173=\"\",\"\",IF(ISERROR(VLOOKUP(B1173,database!$A$6:$BFQ$206,4,FALSE)),\"\",VLOOKUP(B1173,database!$A$6:$BFQ$206,4,FALSE)))","v":""},null,null,null,"",null,null,null,{"$f":"IF(B1173=\"\",\"\",IF(ISERROR(VLOOKUP(B1173,database!$A$6:$BFQ$206,3,FALSE)),\"\",VLOOKUP(B1173,database!$A$6:$BFQ$206,3,FALSE)))","v":""},null,null,null,null,null,null,""]
["",null,{"$f":"IF(B1174=\"\",\"\",IF(ISERROR(VLOOKUP(B1174,database!$A$6:$BFQ$206,4,FALSE)),\"\",VLOOKUP(B1174,database!$A$6:$BFQ$206,4,FALSE)))","v":""},null,null,null,"",null,null,null,{"$f":"IF(B1174=\"\",\"\",IF(ISERROR(VLOOKUP(B1174,database!$A$6:$BFQ$206,3,FALSE)),\"\",VLOOKUP(B1174,database!$A$6:$BFQ$206,3,FALSE)))","v":""},null,null,null,null,null,null,""]
["",null,{"$f":"IF(B1175=\"\",\"\",IF(ISERROR(VLOOKUP(B1175,database!$A$6:$BFQ$206,4,FALSE)),\"\",VLOOKUP(B1175,database!$A$6:$BFQ$206,4,FALSE)))","v":""},null,null,null,"",null,null,null,{"$f":"IF(B1175=\"\",\"\",IF(ISERROR(VLOOKUP(B1175,database!$A$6:$BFQ$206,3,FALSE)),\"\",VLOOKUP(B1175,database!$A$6:$BFQ$206,3,FALSE)))","v":""},null,null,null,null,null,null,""]
["",null,{"$f":"IF(B1176=\"\",\"\",IF(ISERROR(VLOOKUP(B1176,database!$A$6:$BFQ$206,4,FALSE)),\"\",VLOOKUP(B1176,database!$A$6:$BFQ$206,4,FALSE)))","v":""},null,null,null,"",null,null,null,{"$f":"IF(B1176=\"\",\"\",IF(ISERROR(VLOOKUP(B1176,database!$A$6:$BFQ$206,3,FALSE)),\"\",VLOOKUP(B1176,database!$A$6:$BFQ$206,3,FALSE)))","v":""},null,null,null,null,null,null,""]
["",null,{"$f":"IF(B1177=\"\",\"\",IF(ISERROR(VLOOKUP(B1177,database!$A$6:$BFQ$206,4,FALSE)),\"\",VLOOKUP(B1177,database!$A$6:$BFQ$206,4,FALSE)))","v":""},null,null,null,"",null,null,null,{"$f":"IF(B1177=\"\",\"\",IF(ISERROR(VLOOKUP(B1177,database!$A$6:$BFQ$206,3,FALSE)),\"\",VLOOKUP(B1177,database!$A$6:$BFQ$206,3,FALSE)))","v":""},null,null,null,null,null,null,""]
["",null,{"$f":"IF(B1178=\"\",\"\",IF(ISERROR(VLOOKUP(B1178,database!$A$6:$BFQ$206,4,FALSE)),\"\",VLOOKUP(B1178,database!$A$6:$BFQ$206,4,FALSE)))","v":""},null,null,null,"",null,null,null,{"$f":"IF(B1178=\"\",\"\",IF(ISERROR(VLOOKUP(B1178,database!$A$6:$BFQ$206,3,FALSE)),\"\",VLOOKUP(B1178,database!$A$6:$BFQ$206,3,FALSE)))","v":""},null,null,null,null,null,null,""]
["",null,{"$f":"IF(B1179=\"\",\"\",IF(ISERROR(VLOOKUP(B1179,database!$A$6:$BFQ$206,4,FALSE)),\"\",VLOOKUP(B1179,database!$A$6:$BFQ$206,4,FALSE)))","v":""},null,null,null,"",null,null,null,{"$f":"IF(B1179=\"\",\"\",IF(ISERROR(VLOOKUP(B1179,database!$A$6:$BFQ$206,3,FALSE)),\"\",VLOOKUP(B1179,database!$A$6:$BFQ$206,3,FALSE)))","v":""},null,null,null,null,null,null,""]
["",null,{"$f":"IF(B1180=\"\",\"\",IF(ISERROR(VLOOKUP(B1180,database!$A$6:$BFQ$206,4,FALSE)),\"\",VLOOKUP(B1180,database!$A$6:$BFQ$206,4,FALSE)))","v":""},null,null,null,"",null,null,null,{"$f":"IF(B1180=\"\",\"\",IF(ISERROR(VLOOKUP(B1180,database!$A$6:$BFQ$206,3,FALSE)),\"\",VLOOKUP(B1180,database!$A$6:$BFQ$206,3,FALSE)))","v":""},null,null,null,null,null,null,""]
["",null,{"$f":"IF(B1181=\"\",\"\",IF(ISERROR(VLOOKUP(B1181,database!$A$6:$BFQ$206,4,FALSE)),\"\",VLOOKUP(B1181,database!$A$6:$BFQ$206,4,FALSE)))","v":""},null,null,null,"",null,null,null,{"$f":"IF(B1181=\"\",\"\",IF(ISERROR(VLOOKUP(B1181,database!$A$6:$BFQ$206,3,FALSE)),\"\",VLOOKUP(B1181,database!$A$6:$BFQ$206,3,FALSE)))","v":""},null,null,null,null,null,null,""]
["",null,{"$f":"IF(B1182=\"\",\"\",IF(ISERROR(VLOOKUP(B1182,database!$A$6:$BFQ$206,4,FALSE)),\"\",VLOOKUP(B1182,database!$A$6:$BFQ$206,4,FALSE)))","v":""},null,null,null,"",null,null,null,{"$f":"IF(B1182=\"\",\"\",IF(ISERROR(VLOOKUP(B1182,database!$A$6:$BFQ$206,3,FALSE)),\"\",VLOOKUP(B1182,database!$A$6:$BFQ$206,3,FALSE)))","v":""},null,null,null,null,null,null,""]
["",null,{"$f":"IF(B1183=\"\",\"\",IF(ISERROR(VLOOKUP(B1183,database!$A$6:$BFQ$206,4,FALSE)),\"\",VLOOKUP(B1183,database!$A$6:$BFQ$206,4,FALSE)))","v":""},null,null,null,"",null,null,null,{"$f":"IF(B1183=\"\",\"\",IF(ISERROR(VLOOKUP(B1183,database!$A$6:$BFQ$206,3,FALSE)),\"\",VLOOKUP(B1183,database!$A$6:$BFQ$206,3,FALSE)))","v":""},null,null,null,null,null,null,""]
["",null,{"$f":"IF(B1184=\"\",\"\",IF(ISERROR(VLOOKUP(B1184,database!$A$6:$BFQ$206,4,FALSE)),\"\",VLOOKUP(B1184,database!$A$6:$BFQ$206,4,FALSE)))","v":""},null,null,null,"",null,null,null,{"$f":"IF(B1184=\"\",\"\",IF(ISERROR(VLOOKUP(B1184,database!$A$6:$BFQ$206,3,FALSE)),\"\",VLOOKUP(B1184,database!$A$6:$BFQ$206,3,FALSE)))","v":""},null,null,null,null,null,null,""]
["",null,{"$f":"IF(B1185=\"\",\"\",IF(ISERROR(VLOOKUP(B1185,database!$A$6:$BFQ$206,4,FALSE)),\"\",VLOOKUP(B1185,database!$A$6:$BFQ$206,4,FALSE)))","v":""},null,null,null,"",null,null,null,{"$f":"IF(B1185=\"\",\"\",IF(ISERROR(VLOOKUP(B1185,database!$A$6:$BFQ$206,3,FALSE)),\"\",VLOOKUP(B1185,database!$A$6:$BFQ$206,3,FALSE)))","v":""},null,null,null,null,null,null,""]
["",null,{"$f":"IF(B1186=\"\",\"\",IF(ISERROR(VLOOKUP(B1186,database!$A$6:$BFQ$206,4,FALSE)),\"\",VLOOKUP(B1186,database!$A$6:$BFQ$206,4,FALSE)))","v":""},null,null,null,"",null,null,null,{"$f":"IF(B1186=\"\",\"\",IF(ISERROR(VLOOKUP(B1186,database!$A$6:$BFQ$206,3,FALSE)),\"\",VLOOKUP(B1186,database!$A$6:$BFQ$206,3,FALSE)))","v":""},null,null,null,null,null,null,""]
["",null,{"$f":"IF(B1187=\"\",\"\",IF(ISERROR(VLOOKUP(B1187,database!$A$6:$BFQ$206,4,FALSE)),\"\",VLOOKUP(B1187,database!$A$6:$BFQ$206,4,FALSE)))","v":""},null,null,null,"",null,null,null,{"$f":"IF(B1187=\"\",\"\",IF(ISERROR(VLOOKUP(B1187,database!$A$6:$BFQ$206,3,FALSE)),\"\",VLOOKUP(B1187,database!$A$6:$BFQ$206,3,FALSE)))","v":""},null,null,null,null,null,null,""]
["",null,{"$f":"IF(B1188=\"\",\"\",IF(ISERROR(VLOOKUP(B1188,database!$A$6:$BFQ$206,4,FALSE)),\"\",VLOOKUP(B1188,database!$A$6:$BFQ$206,4,FALSE)))","v":""},null,null,null,"",null,null,null,{"$f":"IF(B1188=\"\",\"\",IF(ISERROR(VLOOKUP(B1188,database!$A$6:$BFQ$206,3,FALSE)),\"\",VLOOKUP(B1188,database!$A$6:$BFQ$206,3,FALSE)))","v":""},null,null,null,null,null,null,""]
["",null,{"$f":"IF(B1189=\"\",\"\",IF(ISERROR(VLOOKUP(B1189,database!$A$6:$BFQ$206,4,FALSE)),\"\",VLOOKUP(B1189,database!$A$6:$BFQ$206,4,FALSE)))","v":""},null,null,null,"",null,null,null,{"$f":"IF(B1189=\"\",\"\",IF(ISERROR(VLOOKUP(B1189,database!$A$6:$BFQ$206,3,FALSE)),\"\",VLOOKUP(B1189,database!$A$6:$BFQ$206,3,FALSE)))","v":""},null,null,null,null,null,null,""]
["",null,{"$f":"IF(B1190=\"\",\"\",IF(ISERROR(VLOOKUP(B1190,database!$A$6:$BFQ$206,4,FALSE)),\"\",VLOOKUP(B1190,database!$A$6:$BFQ$206,4,FALSE)))","v":""},null,null,null,"",null,null,null,{"$f":"IF(B1190=\"\",\"\",IF(ISERROR(VLOOKUP(B1190,database!$A$6:$BFQ$206,3,FALSE)),\"\",VLOOKUP(B1190,database!$A$6:$BFQ$206,3,FALSE)))","v":""},null,null,null,null,null,null,""]
["",null,{"$f":"IF(B1191=\"\",\"\",IF(ISERROR(VLOOKUP(B1191,database!$A$6:$BFQ$206,4,FALSE)),\"\",VLOOKUP(B1191,database!$A$6:$BFQ$206,4,FALSE)))","v":""},null,null,null,"",null,null,null,{"$f":"IF(B1191=\"\",\"\",IF(ISERROR(VLOOKUP(B1191,database!$A$6:$BFQ$206,3,FALSE)),\"\",VLOOKUP(B1191,database!$A$6:$BFQ$206,3,FALSE)))","v":""},null,null,null,null,null,null,""]
["",null,{"$f":"IF(B1192=\"\",\"\",IF(ISERROR(VLOOKUP(B1192,database!$A$6:$BFQ$206,4,FALSE)),\"\",VLOOKUP(B1192,database!$A$6:$BFQ$206,4,FALSE)))","v":""},null,null,null,"",null,null,null,{"$f":"IF(B1192=\"\",\"\",IF(ISERROR(VLOOKUP(B1192,database!$A$6:$BFQ$206,3,FALSE)),\"\",VLOOKUP(B1192,database!$A$6:$BFQ$206,3,FALSE)))","v":""},null,null,null,null,null,null,""]
["",null,{"$f":"IF(B1193=\"\",\"\",IF(ISERROR(VLOOKUP(B1193,database!$A$6:$BFQ$206,4,FALSE)),\"\",VLOOKUP(B1193,database!$A$6:$BFQ$206,4,FALSE)))","v":""},null,null,null,"",null,null,null,{"$f":"IF(B1193=\"\",\"\",IF(ISERROR(VLOOKUP(B1193,database!$A$6:$BFQ$206,3,FALSE)),\"\",VLOOKUP(B1193,database!$A$6:$BFQ$206,3,FALSE)))","v":""},null,null,null,null,null,null,""]
["",null,{"$f":"IF(B1194=\"\",\"\",IF(ISERROR(VLOOKUP(B1194,database!$A$6:$BFQ$206,4,FALSE)),\"\",VLOOKUP(B1194,database!$A$6:$BFQ$206,4,FALSE)))","v":""},null,null,null,"",null,null,null,{"$f":"IF(B1194=\"\",\"\",IF(ISERROR(VLOOKUP(B1194,database!$A$6:$BFQ$206,3,FALSE)),\"\",VLOOKUP(B1194,database!$A$6:$BFQ$206,3,FALSE)))","v":""},null,null,null,null,null,null,""]
["",null,{"$f":"IF(B1195=\"\",\"\",IF(ISERROR(VLOOKUP(B1195,database!$A$6:$BFQ$206,4,FALSE)),\"\",VLOOKUP(B1195,database!$A$6:$BFQ$206,4,FALSE)))","v":""},null,null,null,"",null,null,null,{"$f":"IF(B1195=\"\",\"\",IF(ISERROR(VLOOKUP(B1195,database!$A$6:$BFQ$206,3,FALSE)),\"\",VLOOKUP(B1195,database!$A$6:$BFQ$206,3,FALSE)))","v":""},null,null,null,null,null,null,""]
["",null,{"$f":"IF(B1196=\"\",\"\",IF(ISERROR(VLOOKUP(B1196,database!$A$6:$BFQ$206,4,FALSE)),\"\",VLOOKUP(B1196,database!$A$6:$BFQ$206,4,FALSE)))","v":""},null,null,null,"",null,null,null,{"$f":"IF(B1196=\"\",\"\",IF(ISERROR(VLOOKUP(B1196,database!$A$6:$BFQ$206,3,FALSE)),\"\",VLOOKUP(B1196,database!$A$6:$BFQ$206,3,FALSE)))","v":""},null,null,null,null,null,null,""]
["",null,{"$f":"IF(B1197=\"\",\"\",IF(ISERROR(VLOOKUP(B1197,database!$A$6:$BFQ$206,4,FALSE)),\"\",VLOOKUP(B1197,database!$A$6:$BFQ$206,4,FALSE)))","v":""},null,null,null,"",null,null,null,{"$f":"IF(B1197=\"\",\"\",IF(ISERROR(VLOOKUP(B1197,database!$A$6:$BFQ$206,3,FALSE)),\"\",VLOOKUP(B1197,database!$A$6:$BFQ$206,3,FALSE)))","v":""},null,null,null,null,null,null,""]
["",null,{"$f":"IF(B1198=\"\",\"\",IF(ISERROR(VLOOKUP(B1198,database!$A$6:$BFQ$206,4,FALSE)),\"\",VLOOKUP(B1198,database!$A$6:$BFQ$206,4,FALSE)))","v":""},null,null,null,"",null,null,null,{"$f":"IF(B1198=\"\",\"\",IF(ISERROR(VLOOKUP(B1198,database!$A$6:$BFQ$206,3,FALSE)),\"\",VLOOKUP(B1198,database!$A$6:$BFQ$206,3,FALSE)))","v":""},null,null,null,null,null,null,""]
["",null,{"$f":"IF(B1199=\"\",\"\",IF(ISERROR(VLOOKUP(B1199,database!$A$6:$BFQ$206,4,FALSE)),\"\",VLOOKUP(B1199,database!$A$6:$BFQ$206,4,FALSE)))","v":""},null,null,null,"",null,null,null,{"$f":"IF(B1199=\"\",\"\",IF(ISERROR(VLOOKUP(B1199,database!$A$6:$BFQ$206,3,FALSE)),\"\",VLOOKUP(B1199,database!$A$6:$BFQ$206,3,FALSE)))","v":""},null,null,null,null,null,null,""]
["",null,{"$f":"IF(B1200=\"\",\"\",IF(ISERROR(VLOOKUP(B1200,database!$A$6:$BFQ$206,4,FALSE)),\"\",VLOOKUP(B1200,database!$A$6:$BFQ$206,4,FALSE)))","v":""},null,null,null,"",null,null,null,{"$f":"IF(B1200=\"\",\"\",IF(ISERROR(VLOOKUP(B1200,database!$A$6:$BFQ$206,3,FALSE)),\"\",VLOOKUP(B1200,database!$A$6:$BFQ$206,3,FALSE)))","v":""},null,null,null,null,null,null,""]
["",null,{"$f":"IF(B1201=\"\",\"\",IF(ISERROR(VLOOKUP(B1201,database!$A$6:$BFQ$206,4,FALSE)),\"\",VLOOKUP(B1201,database!$A$6:$BFQ$206,4,FALSE)))","v":""},null,null,null,"",null,null,null,{"$f":"IF(B1201=\"\",\"\",IF(ISERROR(VLOOKUP(B1201,database!$A$6:$BFQ$206,3,FALSE)),\"\",VLOOKUP(B1201,database!$A$6:$BFQ$206,3,FALSE)))","v":""},null,null,null,null,null,null,""]
["",null,{"$f":"IF(B1202=\"\",\"\",IF(ISERROR(VLOOKUP(B1202,database!$A$6:$BFQ$206,4,FALSE)),\"\",VLOOKUP(B1202,database!$A$6:$BFQ$206,4,FALSE)))","v":""},null,null,null,"",null,null,null,{"$f":"IF(B1202=\"\",\"\",IF(ISERROR(VLOOKUP(B1202,database!$A$6:$BFQ$206,3,FALSE)),\"\",VLOOKUP(B1202,database!$A$6:$BFQ$206,3,FALSE)))","v":""},null,null,null,null,null,null,""]
["",null,{"$f":"IF(B1203=\"\",\"\",IF(ISERROR(VLOOKUP(B1203,database!$A$6:$BFQ$206,4,FALSE)),\"\",VLOOKUP(B1203,database!$A$6:$BFQ$206,4,FALSE)))","v":""},null,null,null,"",null,null,null,{"$f":"IF(B1203=\"\",\"\",IF(ISERROR(VLOOKUP(B1203,database!$A$6:$BFQ$206,3,FALSE)),\"\",VLOOKUP(B1203,database!$A$6:$BFQ$206,3,FALSE)))","v":""},null,null,null,null,null,null,""]
["",null,{"$f":"IF(B1204=\"\",\"\",IF(ISERROR(VLOOKUP(B1204,database!$A$6:$BFQ$206,4,FALSE)),\"\",VLOOKUP(B1204,database!$A$6:$BFQ$206,4,FALSE)))","v":""},null,null,null,"",null,null,null,{"$f":"IF(B1204=\"\",\"\",IF(ISERROR(VLOOKUP(B1204,database!$A$6:$BFQ$206,3,FALSE)),\"\",VLOOKUP(B1204,database!$A$6:$BFQ$206,3,FALSE)))","v":""},null,null,null,null,null,null,""]
["",null,{"$f":"IF(B1205=\"\",\"\",IF(ISERROR(VLOOKUP(B1205,database!$A$6:$BFQ$206,4,FALSE)),\"\",VLOOKUP(B1205,database!$A$6:$BFQ$206,4,FALSE)))","v":""},null,null,null,"",null,null,null,{"$f":"IF(B1205=\"\",\"\",IF(ISERROR(VLOOKUP(B1205,database!$A$6:$BFQ$206,3,FALSE)),\"\",VLOOKUP(B1205,database!$A$6:$BFQ$206,3,FALSE)))","v":""},null,null,null,null,null,null,""]
["",null,{"$f":"IF(B1206=\"\",\"\",IF(ISERROR(VLOOKUP(B1206,database!$A$6:$BFQ$206,4,FALSE)),\"\",VLOOKUP(B1206,database!$A$6:$BFQ$206,4,FALSE)))","v":""},null,null,null,"",null,null,null,{"$f":"IF(B1206=\"\",\"\",IF(ISERROR(VLOOKUP(B1206,database!$A$6:$BFQ$206,3,FALSE)),\"\",VLOOKUP(B1206,database!$A$6:$BFQ$206,3,FALSE)))","v":""},null,null,null,null,null,null,""]
["",null,{"$f":"IF(B1207=\"\",\"\",IF(ISERROR(VLOOKUP(B1207,database!$A$6:$BFQ$206,4,FALSE)),\"\",VLOOKUP(B1207,database!$A$6:$BFQ$206,4,FALSE)))","v":""},null,null,null,"",null,null,null,{"$f":"IF(B1207=\"\",\"\",IF(ISERROR(VLOOKUP(B1207,database!$A$6:$BFQ$206,3,FALSE)),\"\",VLOOKUP(B1207,database!$A$6:$BFQ$206,3,FALSE)))","v":""},null,null,null,null,null,null,""]
["",null,{"$f":"IF(B1208=\"\",\"\",IF(ISERROR(VLOOKUP(B1208,database!$A$6:$BFQ$206,4,FALSE)),\"\",VLOOKUP(B1208,database!$A$6:$BFQ$206,4,FALSE)))","v":""},null,null,null,"",null,null,null,{"$f":"IF(B1208=\"\",\"\",IF(ISERROR(VLOOKUP(B1208,database!$A$6:$BFQ$206,3,FALSE)),\"\",VLOOKUP(B1208,database!$A$6:$BFQ$206,3,FALSE)))","v":""},null,null,null,null,null,null,""]
["",null,{"$f":"IF(B1209=\"\",\"\",IF(ISERROR(VLOOKUP(B1209,database!$A$6:$BFQ$206,4,FALSE)),\"\",VLOOKUP(B1209,database!$A$6:$BFQ$206,4,FALSE)))","v":""},null,null,null,"",null,null,null,{"$f":"IF(B1209=\"\",\"\",IF(ISERROR(VLOOKUP(B1209,database!$A$6:$BFQ$206,3,FALSE)),\"\",VLOOKUP(B1209,database!$A$6:$BFQ$206,3,FALSE)))","v":""},null,null,null,null,null,null,""]
["",null,{"$f":"IF(B1210=\"\",\"\",IF(ISERROR(VLOOKUP(B1210,database!$A$6:$BFQ$206,4,FALSE)),\"\",VLOOKUP(B1210,database!$A$6:$BFQ$206,4,FALSE)))","v":""},null,null,null,"",null,null,null,{"$f":"IF(B1210=\"\",\"\",IF(ISERROR(VLOOKUP(B1210,database!$A$6:$BFQ$206,3,FALSE)),\"\",VLOOKUP(B1210,database!$A$6:$BFQ$206,3,FALSE)))","v":""},null,null,null,null,null,null,""]
["",null,{"$f":"IF(B1211=\"\",\"\",IF(ISERROR(VLOOKUP(B1211,database!$A$6:$BFQ$206,4,FALSE)),\"\",VLOOKUP(B1211,database!$A$6:$BFQ$206,4,FALSE)))","v":""},null,null,null,"",null,null,null,{"$f":"IF(B1211=\"\",\"\",IF(ISERROR(VLOOKUP(B1211,database!$A$6:$BFQ$206,3,FALSE)),\"\",VLOOKUP(B1211,database!$A$6:$BFQ$206,3,FALSE)))","v":""},null,null,null,null,null,null,""]
["",null,{"$f":"IF(B1212=\"\",\"\",IF(ISERROR(VLOOKUP(B1212,database!$A$6:$BFQ$206,4,FALSE)),\"\",VLOOKUP(B1212,database!$A$6:$BFQ$206,4,FALSE)))","v":""},null,null,null,"",null,null,null,{"$f":"IF(B1212=\"\",\"\",IF(ISERROR(VLOOKUP(B1212,database!$A$6:$BFQ$206,3,FALSE)),\"\",VLOOKUP(B1212,database!$A$6:$BFQ$206,3,FALSE)))","v":""},null,null,null,null,null,null,""]
["",null,{"$f":"IF(B1213=\"\",\"\",IF(ISERROR(VLOOKUP(B1213,database!$A$6:$BFQ$206,4,FALSE)),\"\",VLOOKUP(B1213,database!$A$6:$BFQ$206,4,FALSE)))","v":""},null,null,null,"",null,null,null,{"$f":"IF(B1213=\"\",\"\",IF(ISERROR(VLOOKUP(B1213,database!$A$6:$BFQ$206,3,FALSE)),\"\",VLOOKUP(B1213,database!$A$6:$BFQ$206,3,FALSE)))","v":""},null,null,null,null,null,null,""]
["",null,{"$f":"IF(B1214=\"\",\"\",IF(ISERROR(VLOOKUP(B1214,database!$A$6:$BFQ$206,4,FALSE)),\"\",VLOOKUP(B1214,database!$A$6:$BFQ$206,4,FALSE)))","v":""},null,null,null,"",null,null,null,{"$f":"IF(B1214=\"\",\"\",IF(ISERROR(VLOOKUP(B1214,database!$A$6:$BFQ$206,3,FALSE)),\"\",VLOOKUP(B1214,database!$A$6:$BFQ$206,3,FALSE)))","v":""},null,null,null,null,null,null,""]
["",null,{"$f":"IF(B1215=\"\",\"\",IF(ISERROR(VLOOKUP(B1215,database!$A$6:$BFQ$206,4,FALSE)),\"\",VLOOKUP(B1215,database!$A$6:$BFQ$206,4,FALSE)))","v":""},null,null,null,"",null,null,null,{"$f":"IF(B1215=\"\",\"\",IF(ISERROR(VLOOKUP(B1215,database!$A$6:$BFQ$206,3,FALSE)),\"\",VLOOKUP(B1215,database!$A$6:$BFQ$206,3,FALSE)))","v":""},null,null,null,null,null,null,""]
["",null,{"$f":"IF(B1216=\"\",\"\",IF(ISERROR(VLOOKUP(B1216,database!$A$6:$BFQ$206,4,FALSE)),\"\",VLOOKUP(B1216,database!$A$6:$BFQ$206,4,FALSE)))","v":""},null,null,null,"",null,null,null,{"$f":"IF(B1216=\"\",\"\",IF(ISERROR(VLOOKUP(B1216,database!$A$6:$BFQ$206,3,FALSE)),\"\",VLOOKUP(B1216,database!$A$6:$BFQ$206,3,FALSE)))","v":""},null,null,null,null,null,null,""]
[{"$f":"IF(B1217=\"\",\"\",ROW(A1214))","v":""},null,{"$f":"IF(B1217=\"\",\"\",IF(ISERROR(VLOOKUP(B1217,database!$A$6:$BFQ$206,4,FALSE)),\"\",VLOOKUP(B1217,database!$A$6:$BFQ$206,4,FALSE)))","v":""},null,null,null,{"$f":"IF(B1217=\"\",\"\",IF(C1217=\"\",0,1))","v":""},null,null,null,{"$f":"IF(B1217=\"\",\"\",IF(ISERROR(VLOOKUP(B1217,database!$A$6:$BFQ$206,3,FALSE)),\"\",VLOOKUP(B1217,database!$A$6:$BFQ$206,3,FALSE)))","v":""},null,null,null,null,null,null,{"$f":"LEFT(C1217,2)","v":""}]
["",null,{"$f":"IF(B1218=\"\",\"\",IF(ISERROR(VLOOKUP(B1218,database!$A$6:$BFQ$206,4,FALSE)),\"\",VLOOKUP(B1218,database!$A$6:$BFQ$206,4,FALSE)))","v":""},null,null,null,"",null,null,null,{"$f":"IF(B1218=\"\",\"\",IF(ISERROR(VLOOKUP(B1218,database!$A$6:$BFQ$206,3,FALSE)),\"\",VLOOKUP(B1218,database!$A$6:$BFQ$206,3,FALSE)))","v":""},null,null,null,null,null,null,""]
["",null,{"$f":"IF(B1219=\"\",\"\",IF(ISERROR(VLOOKUP(B1219,database!$A$6:$BFQ$206,4,FALSE)),\"\",VLOOKUP(B1219,database!$A$6:$BFQ$206,4,FALSE)))","v":""},null,null,null,"",null,null,null,{"$f":"IF(B1219=\"\",\"\",IF(ISERROR(VLOOKUP(B1219,database!$A$6:$BFQ$206,3,FALSE)),\"\",VLOOKUP(B1219,database!$A$6:$BFQ$206,3,FALSE)))","v":""},null,null,null,null,null,null,""]
["",null,{"$f":"IF(B1220=\"\",\"\",IF(ISERROR(VLOOKUP(B1220,database!$A$6:$BFQ$206,4,FALSE)),\"\",VLOOKUP(B1220,database!$A$6:$BFQ$206,4,FALSE)))","v":""},null,null,null,"",null,null,null,{"$f":"IF(B1220=\"\",\"\",IF(ISERROR(VLOOKUP(B1220,database!$A$6:$BFQ$206,3,FALSE)),\"\",VLOOKUP(B1220,database!$A$6:$BFQ$206,3,FALSE)))","v":""},null,null,null,null,null,null,""]
["",null,{"$f":"IF(B1221=\"\",\"\",IF(ISERROR(VLOOKUP(B1221,database!$A$6:$BFQ$206,4,FALSE)),\"\",VLOOKUP(B1221,database!$A$6:$BFQ$206,4,FALSE)))","v":""},null,null,null,"",null,null,null,{"$f":"IF(B1221=\"\",\"\",IF(ISERROR(VLOOKUP(B1221,database!$A$6:$BFQ$206,3,FALSE)),\"\",VLOOKUP(B1221,database!$A$6:$BFQ$206,3,FALSE)))","v":""},null,null,null,null,null,null,""]
["",null,{"$f":"IF(B1222=\"\",\"\",IF(ISERROR(VLOOKUP(B1222,database!$A$6:$BFQ$206,4,FALSE)),\"\",VLOOKUP(B1222,database!$A$6:$BFQ$206,4,FALSE)))","v":""},null,null,null,"",null,null,null,{"$f":"IF(B1222=\"\",\"\",IF(ISERROR(VLOOKUP(B1222,database!$A$6:$BFQ$206,3,FALSE)),\"\",VLOOKUP(B1222,database!$A$6:$BFQ$206,3,FALSE)))","v":""},null,null,null,null,null,null,""]
["",null,{"$f":"IF(B1223=\"\",\"\",IF(ISERROR(VLOOKUP(B1223,database!$A$6:$BFQ$206,4,FALSE)),\"\",VLOOKUP(B1223,database!$A$6:$BFQ$206,4,FALSE)))","v":""},null,null,null,"",null,null,null,{"$f":"IF(B1223=\"\",\"\",IF(ISERROR(VLOOKUP(B1223,database!$A$6:$BFQ$206,3,FALSE)),\"\",VLOOKUP(B1223,database!$A$6:$BFQ$206,3,FALSE)))","v":""},null,null,null,null,null,null,""]
["",null,{"$f":"IF(B1224=\"\",\"\",IF(ISERROR(VLOOKUP(B1224,database!$A$6:$BFQ$206,4,FALSE)),\"\",VLOOKUP(B1224,database!$A$6:$BFQ$206,4,FALSE)))","v":""},null,null,null,"",null,null,null,{"$f":"IF(B1224=\"\",\"\",IF(ISERROR(VLOOKUP(B1224,database!$A$6:$BFQ$206,3,FALSE)),\"\",VLOOKUP(B1224,database!$A$6:$BFQ$206,3,FALSE)))","v":""},null,null,null,null,null,null,""]
["",null,{"$f":"IF(B1225=\"\",\"\",IF(ISERROR(VLOOKUP(B1225,database!$A$6:$BFQ$206,4,FALSE)),\"\",VLOOKUP(B1225,database!$A$6:$BFQ$206,4,FALSE)))","v":""},null,null,null,"",null,null,null,{"$f":"IF(B1225=\"\",\"\",IF(ISERROR(VLOOKUP(B1225,database!$A$6:$BFQ$206,3,FALSE)),\"\",VLOOKUP(B1225,database!$A$6:$BFQ$206,3,FALSE)))","v":""},null,null,null,null,null,null,""]
["",null,{"$f":"IF(B1226=\"\",\"\",IF(ISERROR(VLOOKUP(B1226,database!$A$6:$BFQ$206,4,FALSE)),\"\",VLOOKUP(B1226,database!$A$6:$BFQ$206,4,FALSE)))","v":""},null,null,null,"",null,null,null,{"$f":"IF(B1226=\"\",\"\",IF(ISERROR(VLOOKUP(B1226,database!$A$6:$BFQ$206,3,FALSE)),\"\",VLOOKUP(B1226,database!$A$6:$BFQ$206,3,FALSE)))","v":""},null,null,null,null,null,null,""]
["",null,{"$f":"IF(B1227=\"\",\"\",IF(ISERROR(VLOOKUP(B1227,database!$A$6:$BFQ$206,4,FALSE)),\"\",VLOOKUP(B1227,database!$A$6:$BFQ$206,4,FALSE)))","v":""},null,null,null,"",null,null,null,{"$f":"IF(B1227=\"\",\"\",IF(ISERROR(VLOOKUP(B1227,database!$A$6:$BFQ$206,3,FALSE)),\"\",VLOOKUP(B1227,database!$A$6:$BFQ$206,3,FALSE)))","v":""},null,null,null,null,null,null,""]
["",null,{"$f":"IF(B1228=\"\",\"\",IF(ISERROR(VLOOKUP(B1228,database!$A$6:$BFQ$206,4,FALSE)),\"\",VLOOKUP(B1228,database!$A$6:$BFQ$206,4,FALSE)))","v":""},null,null,null,"",null,null,null,{"$f":"IF(B1228=\"\",\"\",IF(ISERROR(VLOOKUP(B1228,database!$A$6:$BFQ$206,3,FALSE)),\"\",VLOOKUP(B1228,database!$A$6:$BFQ$206,3,FALSE)))","v":""},null,null,null,null,null,null,""]
["",null,{"$f":"IF(B1229=\"\",\"\",IF(ISERROR(VLOOKUP(B1229,database!$A$6:$BFQ$206,4,FALSE)),\"\",VLOOKUP(B1229,database!$A$6:$BFQ$206,4,FALSE)))","v":""},null,null,null,"",null,null,null,{"$f":"IF(B1229=\"\",\"\",IF(ISERROR(VLOOKUP(B1229,database!$A$6:$BFQ$206,3,FALSE)),\"\",VLOOKUP(B1229,database!$A$6:$BFQ$206,3,FALSE)))","v":""},null,null,null,null,null,null,""]
["",null,{"$f":"IF(B1230=\"\",\"\",IF(ISERROR(VLOOKUP(B1230,database!$A$6:$BFQ$206,4,FALSE)),\"\",VLOOKUP(B1230,database!$A$6:$BFQ$206,4,FALSE)))","v":""},null,null,null,"",null,null,null,{"$f":"IF(B1230=\"\",\"\",IF(ISERROR(VLOOKUP(B1230,database!$A$6:$BFQ$206,3,FALSE)),\"\",VLOOKUP(B1230,database!$A$6:$BFQ$206,3,FALSE)))","v":""},null,null,null,null,null,null,""]
["",null,{"$f":"IF(B1231=\"\",\"\",IF(ISERROR(VLOOKUP(B1231,database!$A$6:$BFQ$206,4,FALSE)),\"\",VLOOKUP(B1231,database!$A$6:$BFQ$206,4,FALSE)))","v":""},null,null,null,"",null,null,null,{"$f":"IF(B1231=\"\",\"\",IF(ISERROR(VLOOKUP(B1231,database!$A$6:$BFQ$206,3,FALSE)),\"\",VLOOKUP(B1231,database!$A$6:$BFQ$206,3,FALSE)))","v":""},null,null,null,null,null,null,""]
["",null,{"$f":"IF(B1232=\"\",\"\",IF(ISERROR(VLOOKUP(B1232,database!$A$6:$BFQ$206,4,FALSE)),\"\",VLOOKUP(B1232,database!$A$6:$BFQ$206,4,FALSE)))","v":""},null,null,null,"",null,null,null,{"$f":"IF(B1232=\"\",\"\",IF(ISERROR(VLOOKUP(B1232,database!$A$6:$BFQ$206,3,FALSE)),\"\",VLOOKUP(B1232,database!$A$6:$BFQ$206,3,FALSE)))","v":""},null,null,null,null,null,null,""]
["",null,{"$f":"IF(B1233=\"\",\"\",IF(ISERROR(VLOOKUP(B1233,database!$A$6:$BFQ$206,4,FALSE)),\"\",VLOOKUP(B1233,database!$A$6:$BFQ$206,4,FALSE)))","v":""},null,null,null,"",null,null,null,{"$f":"IF(B1233=\"\",\"\",IF(ISERROR(VLOOKUP(B1233,database!$A$6:$BFQ$206,3,FALSE)),\"\",VLOOKUP(B1233,database!$A$6:$BFQ$206,3,FALSE)))","v":""},null,null,null,null,null,null,""]
["",null,{"$f":"IF(B1234=\"\",\"\",IF(ISERROR(VLOOKUP(B1234,database!$A$6:$BFQ$206,4,FALSE)),\"\",VLOOKUP(B1234,database!$A$6:$BFQ$206,4,FALSE)))","v":""},null,null,null,"",null,null,null,{"$f":"IF(B1234=\"\",\"\",IF(ISERROR(VLOOKUP(B1234,database!$A$6:$BFQ$206,3,FALSE)),\"\",VLOOKUP(B1234,database!$A$6:$BFQ$206,3,FALSE)))","v":""},null,null,null,null,null,null,""]
["",null,{"$f":"IF(B1235=\"\",\"\",IF(ISERROR(VLOOKUP(B1235,database!$A$6:$BFQ$206,4,FALSE)),\"\",VLOOKUP(B1235,database!$A$6:$BFQ$206,4,FALSE)))","v":""},null,null,null,"",null,null,null,{"$f":"IF(B1235=\"\",\"\",IF(ISERROR(VLOOKUP(B1235,database!$A$6:$BFQ$206,3,FALSE)),\"\",VLOOKUP(B1235,database!$A$6:$BFQ$206,3,FALSE)))","v":""},null,null,null,null,null,null,""]
["",null,{"$f":"IF(B1236=\"\",\"\",IF(ISERROR(VLOOKUP(B1236,database!$A$6:$BFQ$206,4,FALSE)),\"\",VLOOKUP(B1236,database!$A$6:$BFQ$206,4,FALSE)))","v":""},null,null,null,"",null,null,null,{"$f":"IF(B1236=\"\",\"\",IF(ISERROR(VLOOKUP(B1236,database!$A$6:$BFQ$206,3,FALSE)),\"\",VLOOKUP(B1236,database!$A$6:$BFQ$206,3,FALSE)))","v":""},null,null,null,null,null,null,""]
["",null,{"$f":"IF(B1237=\"\",\"\",IF(ISERROR(VLOOKUP(B1237,database!$A$6:$BFQ$206,4,FALSE)),\"\",VLOOKUP(B1237,database!$A$6:$BFQ$206,4,FALSE)))","v":""},null,null,null,"",null,null,null,{"$f":"IF(B1237=\"\",\"\",IF(ISERROR(VLOOKUP(B1237,database!$A$6:$BFQ$206,3,FALSE)),\"\",VLOOKUP(B1237,database!$A$6:$BFQ$206,3,FALSE)))","v":""},null,null,null,null,null,null,""]
["",null,{"$f":"IF(B1238=\"\",\"\",IF(ISERROR(VLOOKUP(B1238,database!$A$6:$BFQ$206,4,FALSE)),\"\",VLOOKUP(B1238,database!$A$6:$BFQ$206,4,FALSE)))","v":""},null,null,null,"",null,null,null,{"$f":"IF(B1238=\"\",\"\",IF(ISERROR(VLOOKUP(B1238,database!$A$6:$BFQ$206,3,FALSE)),\"\",VLOOKUP(B1238,database!$A$6:$BFQ$206,3,FALSE)))","v":""},null,null,null,null,null,null,""]
["",null,{"$f":"IF(B1239=\"\",\"\",IF(ISERROR(VLOOKUP(B1239,database!$A$6:$BFQ$206,4,FALSE)),\"\",VLOOKUP(B1239,database!$A$6:$BFQ$206,4,FALSE)))","v":""},null,null,null,"",null,null,null,{"$f":"IF(B1239=\"\",\"\",IF(ISERROR(VLOOKUP(B1239,database!$A$6:$BFQ$206,3,FALSE)),\"\",VLOOKUP(B1239,database!$A$6:$BFQ$206,3,FALSE)))","v":""},null,null,null,null,null,null,""]
["",null,{"$f":"IF(B1240=\"\",\"\",IF(ISERROR(VLOOKUP(B1240,database!$A$6:$BFQ$206,4,FALSE)),\"\",VLOOKUP(B1240,database!$A$6:$BFQ$206,4,FALSE)))","v":""},null,null,null,"",null,null,null,{"$f":"IF(B1240=\"\",\"\",IF(ISERROR(VLOOKUP(B1240,database!$A$6:$BFQ$206,3,FALSE)),\"\",VLOOKUP(B1240,database!$A$6:$BFQ$206,3,FALSE)))","v":""},null,null,null,null,null,null,""]
["",null,{"$f":"IF(B1241=\"\",\"\",IF(ISERROR(VLOOKUP(B1241,database!$A$6:$BFQ$206,4,FALSE)),\"\",VLOOKUP(B1241,database!$A$6:$BFQ$206,4,FALSE)))","v":""},null,null,null,"",null,null,null,{"$f":"IF(B1241=\"\",\"\",IF(ISERROR(VLOOKUP(B1241,database!$A$6:$BFQ$206,3,FALSE)),\"\",VLOOKUP(B1241,database!$A$6:$BFQ$206,3,FALSE)))","v":""},null,null,null,null,null,null,""]
["",null,{"$f":"IF(B1242=\"\",\"\",IF(ISERROR(VLOOKUP(B1242,database!$A$6:$BFQ$206,4,FALSE)),\"\",VLOOKUP(B1242,database!$A$6:$BFQ$206,4,FALSE)))","v":""},null,null,null,"",null,null,null,{"$f":"IF(B1242=\"\",\"\",IF(ISERROR(VLOOKUP(B1242,database!$A$6:$BFQ$206,3,FALSE)),\"\",VLOOKUP(B1242,database!$A$6:$BFQ$206,3,FALSE)))","v":""},null,null,null,null,null,null,""]
["",null,{"$f":"IF(B1243=\"\",\"\",IF(ISERROR(VLOOKUP(B1243,database!$A$6:$BFQ$206,4,FALSE)),\"\",VLOOKUP(B1243,database!$A$6:$BFQ$206,4,FALSE)))","v":""},null,null,null,"",null,null,null,{"$f":"IF(B1243=\"\",\"\",IF(ISERROR(VLOOKUP(B1243,database!$A$6:$BFQ$206,3,FALSE)),\"\",VLOOKUP(B1243,database!$A$6:$BFQ$206,3,FALSE)))","v":""},null,null,null,null,null,null,""]
["",null,{"$f":"IF(B1244=\"\",\"\",IF(ISERROR(VLOOKUP(B1244,database!$A$6:$BFQ$206,4,FALSE)),\"\",VLOOKUP(B1244,database!$A$6:$BFQ$206,4,FALSE)))","v":""},null,null,null,"",null,null,null,{"$f":"IF(B1244=\"\",\"\",IF(ISERROR(VLOOKUP(B1244,database!$A$6:$BFQ$206,3,FALSE)),\"\",VLOOKUP(B1244,database!$A$6:$BFQ$206,3,FALSE)))","v":""},null,null,null,null,null,null,""]
["",null,{"$f":"IF(B1245=\"\",\"\",IF(ISERROR(VLOOKUP(B1245,database!$A$6:$BFQ$206,4,FALSE)),\"\",VLOOKUP(B1245,database!$A$6:$BFQ$206,4,FALSE)))","v":""},null,null,null,"",null,null,null,{"$f":"IF(B1245=\"\",\"\",IF(ISERROR(VLOOKUP(B1245,database!$A$6:$BFQ$206,3,FALSE)),\"\",VLOOKUP(B1245,database!$A$6:$BFQ$206,3,FALSE)))","v":""},null,null,null,null,null,null,""]
["",null,{"$f":"IF(B1246=\"\",\"\",IF(ISERROR(VLOOKUP(B1246,database!$A$6:$BFQ$206,4,FALSE)),\"\",VLOOKUP(B1246,database!$A$6:$BFQ$206,4,FALSE)))","v":""},null,null,null,"",null,null,null,{"$f":"IF(B1246=\"\",\"\",IF(ISERROR(VLOOKUP(B1246,database!$A$6:$BFQ$206,3,FALSE)),\"\",VLOOKUP(B1246,database!$A$6:$BFQ$206,3,FALSE)))","v":""},null,null,null,null,null,null,""]
["",null,{"$f":"IF(B1247=\"\",\"\",IF(ISERROR(VLOOKUP(B1247,database!$A$6:$BFQ$206,4,FALSE)),\"\",VLOOKUP(B1247,database!$A$6:$BFQ$206,4,FALSE)))","v":""},null,null,null,"",null,null,null,{"$f":"IF(B1247=\"\",\"\",IF(ISERROR(VLOOKUP(B1247,database!$A$6:$BFQ$206,3,FALSE)),\"\",VLOOKUP(B1247,database!$A$6:$BFQ$206,3,FALSE)))","v":""},null,null,null,null,null,null,""]
["",null,{"$f":"IF(B1248=\"\",\"\",IF(ISERROR(VLOOKUP(B1248,database!$A$6:$BFQ$206,4,FALSE)),\"\",VLOOKUP(B1248,database!$A$6:$BFQ$206,4,FALSE)))","v":""},null,null,null,"",null,null,null,{"$f":"IF(B1248=\"\",\"\",IF(ISERROR(VLOOKUP(B1248,database!$A$6:$BFQ$206,3,FALSE)),\"\",VLOOKUP(B1248,database!$A$6:$BFQ$206,3,FALSE)))","v":""},null,null,null,null,null,null,""]
["",null,{"$f":"IF(B1249=\"\",\"\",IF(ISERROR(VLOOKUP(B1249,database!$A$6:$BFQ$206,4,FALSE)),\"\",VLOOKUP(B1249,database!$A$6:$BFQ$206,4,FALSE)))","v":""},null,null,null,"",null,null,null,{"$f":"IF(B1249=\"\",\"\",IF(ISERROR(VLOOKUP(B1249,database!$A$6:$BFQ$206,3,FALSE)),\"\",VLOOKUP(B1249,database!$A$6:$BFQ$206,3,FALSE)))","v":""},null,null,null,null,null,null,""]
["",null,{"$f":"IF(B1250=\"\",\"\",IF(ISERROR(VLOOKUP(B1250,database!$A$6:$BFQ$206,4,FALSE)),\"\",VLOOKUP(B1250,database!$A$6:$BFQ$206,4,FALSE)))","v":""},null,null,null,"",null,null,null,{"$f":"IF(B1250=\"\",\"\",IF(ISERROR(VLOOKUP(B1250,database!$A$6:$BFQ$206,3,FALSE)),\"\",VLOOKUP(B1250,database!$A$6:$BFQ$206,3,FALSE)))","v":""},null,null,null,null,null,null,""]
["",null,{"$f":"IF(B1251=\"\",\"\",IF(ISERROR(VLOOKUP(B1251,database!$A$6:$BFQ$206,4,FALSE)),\"\",VLOOKUP(B1251,database!$A$6:$BFQ$206,4,FALSE)))","v":""},null,null,null,"",null,null,null,{"$f":"IF(B1251=\"\",\"\",IF(ISERROR(VLOOKUP(B1251,database!$A$6:$BFQ$206,3,FALSE)),\"\",VLOOKUP(B1251,database!$A$6:$BFQ$206,3,FALSE)))","v":""},null,null,null,null,null,null,""]
["",null,{"$f":"IF(B1252=\"\",\"\",IF(ISERROR(VLOOKUP(B1252,database!$A$6:$BFQ$206,4,FALSE)),\"\",VLOOKUP(B1252,database!$A$6:$BFQ$206,4,FALSE)))","v":""},null,null,null,"",null,null,null,{"$f":"IF(B1252=\"\",\"\",IF(ISERROR(VLOOKUP(B1252,database!$A$6:$BFQ$206,3,FALSE)),\"\",VLOOKUP(B1252,database!$A$6:$BFQ$206,3,FALSE)))","v":""},null,null,null,null,null,null,""]
["",null,{"$f":"IF(B1253=\"\",\"\",IF(ISERROR(VLOOKUP(B1253,database!$A$6:$BFQ$206,4,FALSE)),\"\",VLOOKUP(B1253,database!$A$6:$BFQ$206,4,FALSE)))","v":""},null,null,null,"",null,null,null,{"$f":"IF(B1253=\"\",\"\",IF(ISERROR(VLOOKUP(B1253,database!$A$6:$BFQ$206,3,FALSE)),\"\",VLOOKUP(B1253,database!$A$6:$BFQ$206,3,FALSE)))","v":""},null,null,null,null,null,null,""]
["",null,{"$f":"IF(B1254=\"\",\"\",IF(ISERROR(VLOOKUP(B1254,database!$A$6:$BFQ$206,4,FALSE)),\"\",VLOOKUP(B1254,database!$A$6:$BFQ$206,4,FALSE)))","v":""},null,null,null,"",null,null,null,{"$f":"IF(B1254=\"\",\"\",IF(ISERROR(VLOOKUP(B1254,database!$A$6:$BFQ$206,3,FALSE)),\"\",VLOOKUP(B1254,database!$A$6:$BFQ$206,3,FALSE)))","v":""},null,null,null,null,null,null,""]
["",null,{"$f":"IF(B1255=\"\",\"\",IF(ISERROR(VLOOKUP(B1255,database!$A$6:$BFQ$206,4,FALSE)),\"\",VLOOKUP(B1255,database!$A$6:$BFQ$206,4,FALSE)))","v":""},null,null,null,"",null,null,null,{"$f":"IF(B1255=\"\",\"\",IF(ISERROR(VLOOKUP(B1255,database!$A$6:$BFQ$206,3,FALSE)),\"\",VLOOKUP(B1255,database!$A$6:$BFQ$206,3,FALSE)))","v":""},null,null,null,null,null,null,""]
["",null,{"$f":"IF(B1256=\"\",\"\",IF(ISERROR(VLOOKUP(B1256,database!$A$6:$BFQ$206,4,FALSE)),\"\",VLOOKUP(B1256,database!$A$6:$BFQ$206,4,FALSE)))","v":""},null,null,null,"",null,null,null,{"$f":"IF(B1256=\"\",\"\",IF(ISERROR(VLOOKUP(B1256,database!$A$6:$BFQ$206,3,FALSE)),\"\",VLOOKUP(B1256,database!$A$6:$BFQ$206,3,FALSE)))","v":""},null,null,null,null,null,null,""]
["",null,{"$f":"IF(B1257=\"\",\"\",IF(ISERROR(VLOOKUP(B1257,database!$A$6:$BFQ$206,4,FALSE)),\"\",VLOOKUP(B1257,database!$A$6:$BFQ$206,4,FALSE)))","v":""},null,null,null,"",null,null,null,{"$f":"IF(B1257=\"\",\"\",IF(ISERROR(VLOOKUP(B1257,database!$A$6:$BFQ$206,3,FALSE)),\"\",VLOOKUP(B1257,database!$A$6:$BFQ$206,3,FALSE)))","v":""},null,null,null,null,null,null,""]
["",null,{"$f":"IF(B1258=\"\",\"\",IF(ISERROR(VLOOKUP(B1258,database!$A$6:$BFQ$206,4,FALSE)),\"\",VLOOKUP(B1258,database!$A$6:$BFQ$206,4,FALSE)))","v":""},null,null,null,"",null,null,null,{"$f":"IF(B1258=\"\",\"\",IF(ISERROR(VLOOKUP(B1258,database!$A$6:$BFQ$206,3,FALSE)),\"\",VLOOKUP(B1258,database!$A$6:$BFQ$206,3,FALSE)))","v":""},null,null,null,null,null,null,""]
["",null,{"$f":"IF(B1259=\"\",\"\",IF(ISERROR(VLOOKUP(B1259,database!$A$6:$BFQ$206,4,FALSE)),\"\",VLOOKUP(B1259,database!$A$6:$BFQ$206,4,FALSE)))","v":""},null,null,null,"",null,null,null,{"$f":"IF(B1259=\"\",\"\",IF(ISERROR(VLOOKUP(B1259,database!$A$6:$BFQ$206,3,FALSE)),\"\",VLOOKUP(B1259,database!$A$6:$BFQ$206,3,FALSE)))","v":""},null,null,null,null,null,null,""]
["",null,{"$f":"IF(B1260=\"\",\"\",IF(ISERROR(VLOOKUP(B1260,database!$A$6:$BFQ$206,4,FALSE)),\"\",VLOOKUP(B1260,database!$A$6:$BFQ$206,4,FALSE)))","v":""},null,null,null,"",null,null,null,{"$f":"IF(B1260=\"\",\"\",IF(ISERROR(VLOOKUP(B1260,database!$A$6:$BFQ$206,3,FALSE)),\"\",VLOOKUP(B1260,database!$A$6:$BFQ$206,3,FALSE)))","v":""},null,null,null,null,null,null,""]
["",null,{"$f":"IF(B1261=\"\",\"\",IF(ISERROR(VLOOKUP(B1261,database!$A$6:$BFQ$206,4,FALSE)),\"\",VLOOKUP(B1261,database!$A$6:$BFQ$206,4,FALSE)))","v":""},null,null,null,"",null,null,null,{"$f":"IF(B1261=\"\",\"\",IF(ISERROR(VLOOKUP(B1261,database!$A$6:$BFQ$206,3,FALSE)),\"\",VLOOKUP(B1261,database!$A$6:$BFQ$206,3,FALSE)))","v":""},null,null,null,null,null,null,""]
["",null,{"$f":"IF(B1262=\"\",\"\",IF(ISERROR(VLOOKUP(B1262,database!$A$6:$BFQ$206,4,FALSE)),\"\",VLOOKUP(B1262,database!$A$6:$BFQ$206,4,FALSE)))","v":""},null,null,null,"",null,null,null,{"$f":"IF(B1262=\"\",\"\",IF(ISERROR(VLOOKUP(B1262,database!$A$6:$BFQ$206,3,FALSE)),\"\",VLOOKUP(B1262,database!$A$6:$BFQ$206,3,FALSE)))","v":""},null,null,null,null,null,null,""]
["",null,{"$f":"IF(B1263=\"\",\"\",IF(ISERROR(VLOOKUP(B1263,database!$A$6:$BFQ$206,4,FALSE)),\"\",VLOOKUP(B1263,database!$A$6:$BFQ$206,4,FALSE)))","v":""},null,null,null,"",null,null,null,{"$f":"IF(B1263=\"\",\"\",IF(ISERROR(VLOOKUP(B1263,database!$A$6:$BFQ$206,3,FALSE)),\"\",VLOOKUP(B1263,database!$A$6:$BFQ$206,3,FALSE)))","v":""},null,null,null,null,null,null,""]
["",null,{"$f":"IF(B1264=\"\",\"\",IF(ISERROR(VLOOKUP(B1264,database!$A$6:$BFQ$206,4,FALSE)),\"\",VLOOKUP(B1264,database!$A$6:$BFQ$206,4,FALSE)))","v":""},null,null,null,"",null,null,null,{"$f":"IF(B1264=\"\",\"\",IF(ISERROR(VLOOKUP(B1264,database!$A$6:$BFQ$206,3,FALSE)),\"\",VLOOKUP(B1264,database!$A$6:$BFQ$206,3,FALSE)))","v":""},null,null,null,null,null,null,""]
["",null,{"$f":"IF(B1265=\"\",\"\",IF(ISERROR(VLOOKUP(B1265,database!$A$6:$BFQ$206,4,FALSE)),\"\",VLOOKUP(B1265,database!$A$6:$BFQ$206,4,FALSE)))","v":""},null,null,null,"",null,null,null,{"$f":"IF(B1265=\"\",\"\",IF(ISERROR(VLOOKUP(B1265,database!$A$6:$BFQ$206,3,FALSE)),\"\",VLOOKUP(B1265,database!$A$6:$BFQ$206,3,FALSE)))","v":""},null,null,null,null,null,null,""]
["",null,{"$f":"IF(B1266=\"\",\"\",IF(ISERROR(VLOOKUP(B1266,database!$A$6:$BFQ$206,4,FALSE)),\"\",VLOOKUP(B1266,database!$A$6:$BFQ$206,4,FALSE)))","v":""},null,null,null,"",null,null,null,{"$f":"IF(B1266=\"\",\"\",IF(ISERROR(VLOOKUP(B1266,database!$A$6:$BFQ$206,3,FALSE)),\"\",VLOOKUP(B1266,database!$A$6:$BFQ$206,3,FALSE)))","v":""},null,null,null,null,null,null,""]
["",null,{"$f":"IF(B1267=\"\",\"\",IF(ISERROR(VLOOKUP(B1267,database!$A$6:$BFQ$206,4,FALSE)),\"\",VLOOKUP(B1267,database!$A$6:$BFQ$206,4,FALSE)))","v":""},null,null,null,"",null,null,null,{"$f":"IF(B1267=\"\",\"\",IF(ISERROR(VLOOKUP(B1267,database!$A$6:$BFQ$206,3,FALSE)),\"\",VLOOKUP(B1267,database!$A$6:$BFQ$206,3,FALSE)))","v":""},null,null,null,null,null,null,""]
["",null,{"$f":"IF(B1268=\"\",\"\",IF(ISERROR(VLOOKUP(B1268,database!$A$6:$BFQ$206,4,FALSE)),\"\",VLOOKUP(B1268,database!$A$6:$BFQ$206,4,FALSE)))","v":""},null,null,null,"",null,null,null,{"$f":"IF(B1268=\"\",\"\",IF(ISERROR(VLOOKUP(B1268,database!$A$6:$BFQ$206,3,FALSE)),\"\",VLOOKUP(B1268,database!$A$6:$BFQ$206,3,FALSE)))","v":""},null,null,null,null,null,null,""]
["",null,{"$f":"IF(B1269=\"\",\"\",IF(ISERROR(VLOOKUP(B1269,database!$A$6:$BFQ$206,4,FALSE)),\"\",VLOOKUP(B1269,database!$A$6:$BFQ$206,4,FALSE)))","v":""},null,null,null,"",null,null,null,{"$f":"IF(B1269=\"\",\"\",IF(ISERROR(VLOOKUP(B1269,database!$A$6:$BFQ$206,3,FALSE)),\"\",VLOOKUP(B1269,database!$A$6:$BFQ$206,3,FALSE)))","v":""},null,null,null,null,null,null,""]
["",null,{"$f":"IF(B1270=\"\",\"\",IF(ISERROR(VLOOKUP(B1270,database!$A$6:$BFQ$206,4,FALSE)),\"\",VLOOKUP(B1270,database!$A$6:$BFQ$206,4,FALSE)))","v":""},null,null,null,"",null,null,null,{"$f":"IF(B1270=\"\",\"\",IF(ISERROR(VLOOKUP(B1270,database!$A$6:$BFQ$206,3,FALSE)),\"\",VLOOKUP(B1270,database!$A$6:$BFQ$206,3,FALSE)))","v":""},null,null,null,null,null,null,""]
["",null,{"$f":"IF(B1271=\"\",\"\",IF(ISERROR(VLOOKUP(B1271,database!$A$6:$BFQ$206,4,FALSE)),\"\",VLOOKUP(B1271,database!$A$6:$BFQ$206,4,FALSE)))","v":""},null,null,null,"",null,null,null,{"$f":"IF(B1271=\"\",\"\",IF(ISERROR(VLOOKUP(B1271,database!$A$6:$BFQ$206,3,FALSE)),\"\",VLOOKUP(B1271,database!$A$6:$BFQ$206,3,FALSE)))","v":""},null,null,null,null,null,null,""]
["",null,{"$f":"IF(B1272=\"\",\"\",IF(ISERROR(VLOOKUP(B1272,database!$A$6:$BFQ$206,4,FALSE)),\"\",VLOOKUP(B1272,database!$A$6:$BFQ$206,4,FALSE)))","v":""},null,null,null,"",null,null,null,{"$f":"IF(B1272=\"\",\"\",IF(ISERROR(VLOOKUP(B1272,database!$A$6:$BFQ$206,3,FALSE)),\"\",VLOOKUP(B1272,database!$A$6:$BFQ$206,3,FALSE)))","v":""},null,null,null,null,null,null,""]
["",null,{"$f":"IF(B1273=\"\",\"\",IF(ISERROR(VLOOKUP(B1273,database!$A$6:$BFQ$206,4,FALSE)),\"\",VLOOKUP(B1273,database!$A$6:$BFQ$206,4,FALSE)))","v":""},null,null,null,"",null,null,null,{"$f":"IF(B1273=\"\",\"\",IF(ISERROR(VLOOKUP(B1273,database!$A$6:$BFQ$206,3,FALSE)),\"\",VLOOKUP(B1273,database!$A$6:$BFQ$206,3,FALSE)))","v":""},null,null,null,null,null,null,""]
["",null,{"$f":"IF(B1274=\"\",\"\",IF(ISERROR(VLOOKUP(B1274,database!$A$6:$BFQ$206,4,FALSE)),\"\",VLOOKUP(B1274,database!$A$6:$BFQ$206,4,FALSE)))","v":""},null,null,null,"",null,null,null,{"$f":"IF(B1274=\"\",\"\",IF(ISERROR(VLOOKUP(B1274,database!$A$6:$BFQ$206,3,FALSE)),\"\",VLOOKUP(B1274,database!$A$6:$BFQ$206,3,FALSE)))","v":""},null,null,null,null,null,null,""]
["",null,{"$f":"IF(B1275=\"\",\"\",IF(ISERROR(VLOOKUP(B1275,database!$A$6:$BFQ$206,4,FALSE)),\"\",VLOOKUP(B1275,database!$A$6:$BFQ$206,4,FALSE)))","v":""},null,null,null,"",null,null,null,{"$f":"IF(B1275=\"\",\"\",IF(ISERROR(VLOOKUP(B1275,database!$A$6:$BFQ$206,3,FALSE)),\"\",VLOOKUP(B1275,database!$A$6:$BFQ$206,3,FALSE)))","v":""},null,null,null,null,null,null,""]
["",null,{"$f":"IF(B1276=\"\",\"\",IF(ISERROR(VLOOKUP(B1276,database!$A$6:$BFQ$206,4,FALSE)),\"\",VLOOKUP(B1276,database!$A$6:$BFQ$206,4,FALSE)))","v":""},null,null,null,"",null,null,null,{"$f":"IF(B1276=\"\",\"\",IF(ISERROR(VLOOKUP(B1276,database!$A$6:$BFQ$206,3,FALSE)),\"\",VLOOKUP(B1276,database!$A$6:$BFQ$206,3,FALSE)))","v":""},null,null,null,null,null,null,""]
["",null,{"$f":"IF(B1277=\"\",\"\",IF(ISERROR(VLOOKUP(B1277,database!$A$6:$BFQ$206,4,FALSE)),\"\",VLOOKUP(B1277,database!$A$6:$BFQ$206,4,FALSE)))","v":""},null,null,null,"",null,null,null,{"$f":"IF(B1277=\"\",\"\",IF(ISERROR(VLOOKUP(B1277,database!$A$6:$BFQ$206,3,FALSE)),\"\",VLOOKUP(B1277,database!$A$6:$BFQ$206,3,FALSE)))","v":""},null,null,null,null,null,null,""]
["",null,{"$f":"IF(B1278=\"\",\"\",IF(ISERROR(VLOOKUP(B1278,database!$A$6:$BFQ$206,4,FALSE)),\"\",VLOOKUP(B1278,database!$A$6:$BFQ$206,4,FALSE)))","v":""},null,null,null,"",null,null,null,{"$f":"IF(B1278=\"\",\"\",IF(ISERROR(VLOOKUP(B1278,database!$A$6:$BFQ$206,3,FALSE)),\"\",VLOOKUP(B1278,database!$A$6:$BFQ$206,3,FALSE)))","v":""},null,null,null,null,null,null,""]
["",null,{"$f":"IF(B1279=\"\",\"\",IF(ISERROR(VLOOKUP(B1279,database!$A$6:$BFQ$206,4,FALSE)),\"\",VLOOKUP(B1279,database!$A$6:$BFQ$206,4,FALSE)))","v":""},null,null,null,"",null,null,null,{"$f":"IF(B1279=\"\",\"\",IF(ISERROR(VLOOKUP(B1279,database!$A$6:$BFQ$206,3,FALSE)),\"\",VLOOKUP(B1279,database!$A$6:$BFQ$206,3,FALSE)))","v":""},null,null,null,null,null,null,""]
["",null,{"$f":"IF(B1280=\"\",\"\",IF(ISERROR(VLOOKUP(B1280,database!$A$6:$BFQ$206,4,FALSE)),\"\",VLOOKUP(B1280,database!$A$6:$BFQ$206,4,FALSE)))","v":""},null,null,null,"",null,null,null,{"$f":"IF(B1280=\"\",\"\",IF(ISERROR(VLOOKUP(B1280,database!$A$6:$BFQ$206,3,FALSE)),\"\",VLOOKUP(B1280,database!$A$6:$BFQ$206,3,FALSE)))","v":""},null,null,null,null,null,null,""]
[{"$f":"IF(B1281=\"\",\"\",ROW(A1278))","v":""},null,{"$f":"IF(B1281=\"\",\"\",IF(ISERROR(VLOOKUP(B1281,database!$A$6:$BFQ$206,4,FALSE)),\"\",VLOOKUP(B1281,database!$A$6:$BFQ$206,4,FALSE)))","v":""},null,null,null,{"$f":"IF(B1281=\"\",\"\",IF(C1281=\"\",0,1))","v":""},null,null,null,{"$f":"IF(B1281=\"\",\"\",IF(ISERROR(VLOOKUP(B1281,database!$A$6:$BFQ$206,3,FALSE)),\"\",VLOOKUP(B1281,database!$A$6:$BFQ$206,3,FALSE)))","v":""},null,null,null,null,null,null,{"$f":"LEFT(C1281,2)","v":""}]
["",null,{"$f":"IF(B1282=\"\",\"\",IF(ISERROR(VLOOKUP(B1282,database!$A$6:$BFQ$206,4,FALSE)),\"\",VLOOKUP(B1282,database!$A$6:$BFQ$206,4,FALSE)))","v":""},null,null,null,"",null,null,null,{"$f":"IF(B1282=\"\",\"\",IF(ISERROR(VLOOKUP(B1282,database!$A$6:$BFQ$206,3,FALSE)),\"\",VLOOKUP(B1282,database!$A$6:$BFQ$206,3,FALSE)))","v":""},null,null,null,null,null,null,""]
["",null,{"$f":"IF(B1283=\"\",\"\",IF(ISERROR(VLOOKUP(B1283,database!$A$6:$BFQ$206,4,FALSE)),\"\",VLOOKUP(B1283,database!$A$6:$BFQ$206,4,FALSE)))","v":""},null,null,null,"",null,null,null,{"$f":"IF(B1283=\"\",\"\",IF(ISERROR(VLOOKUP(B1283,database!$A$6:$BFQ$206,3,FALSE)),\"\",VLOOKUP(B1283,database!$A$6:$BFQ$206,3,FALSE)))","v":""},null,null,null,null,null,null,""]
["",null,{"$f":"IF(B1284=\"\",\"\",IF(ISERROR(VLOOKUP(B1284,database!$A$6:$BFQ$206,4,FALSE)),\"\",VLOOKUP(B1284,database!$A$6:$BFQ$206,4,FALSE)))","v":""},null,null,null,"",null,null,null,{"$f":"IF(B1284=\"\",\"\",IF(ISERROR(VLOOKUP(B1284,database!$A$6:$BFQ$206,3,FALSE)),\"\",VLOOKUP(B1284,database!$A$6:$BFQ$206,3,FALSE)))","v":""},null,null,null,null,null,null,""]
["",null,{"$f":"IF(B1285=\"\",\"\",IF(ISERROR(VLOOKUP(B1285,database!$A$6:$BFQ$206,4,FALSE)),\"\",VLOOKUP(B1285,database!$A$6:$BFQ$206,4,FALSE)))","v":""},null,null,null,"",null,null,null,{"$f":"IF(B1285=\"\",\"\",IF(ISERROR(VLOOKUP(B1285,database!$A$6:$BFQ$206,3,FALSE)),\"\",VLOOKUP(B1285,database!$A$6:$BFQ$206,3,FALSE)))","v":""},null,null,null,null,null,null,""]
["",null,{"$f":"IF(B1286=\"\",\"\",IF(ISERROR(VLOOKUP(B1286,database!$A$6:$BFQ$206,4,FALSE)),\"\",VLOOKUP(B1286,database!$A$6:$BFQ$206,4,FALSE)))","v":""},null,null,null,"",null,null,null,{"$f":"IF(B1286=\"\",\"\",IF(ISERROR(VLOOKUP(B1286,database!$A$6:$BFQ$206,3,FALSE)),\"\",VLOOKUP(B1286,database!$A$6:$BFQ$206,3,FALSE)))","v":""},null,null,null,null,null,null,""]
["",null,{"$f":"IF(B1287=\"\",\"\",IF(ISERROR(VLOOKUP(B1287,database!$A$6:$BFQ$206,4,FALSE)),\"\",VLOOKUP(B1287,database!$A$6:$BFQ$206,4,FALSE)))","v":""},null,null,null,"",null,null,null,{"$f":"IF(B1287=\"\",\"\",IF(ISERROR(VLOOKUP(B1287,database!$A$6:$BFQ$206,3,FALSE)),\"\",VLOOKUP(B1287,database!$A$6:$BFQ$206,3,FALSE)))","v":""},null,null,null,null,null,null,""]
["",null,{"$f":"IF(B1288=\"\",\"\",IF(ISERROR(VLOOKUP(B1288,database!$A$6:$BFQ$206,4,FALSE)),\"\",VLOOKUP(B1288,database!$A$6:$BFQ$206,4,FALSE)))","v":""},null,null,null,"",null,null,null,{"$f":"IF(B1288=\"\",\"\",IF(ISERROR(VLOOKUP(B1288,database!$A$6:$BFQ$206,3,FALSE)),\"\",VLOOKUP(B1288,database!$A$6:$BFQ$206,3,FALSE)))","v":""},null,null,null,null,null,null,""]
["",null,{"$f":"IF(B1289=\"\",\"\",IF(ISERROR(VLOOKUP(B1289,database!$A$6:$BFQ$206,4,FALSE)),\"\",VLOOKUP(B1289,database!$A$6:$BFQ$206,4,FALSE)))","v":""},null,null,null,"",null,null,null,{"$f":"IF(B1289=\"\",\"\",IF(ISERROR(VLOOKUP(B1289,database!$A$6:$BFQ$206,3,FALSE)),\"\",VLOOKUP(B1289,database!$A$6:$BFQ$206,3,FALSE)))","v":""},null,null,null,null,null,null,""]
["",null,{"$f":"IF(B1290=\"\",\"\",IF(ISERROR(VLOOKUP(B1290,database!$A$6:$BFQ$206,4,FALSE)),\"\",VLOOKUP(B1290,database!$A$6:$BFQ$206,4,FALSE)))","v":""},null,null,null,"",null,null,null,{"$f":"IF(B1290=\"\",\"\",IF(ISERROR(VLOOKUP(B1290,database!$A$6:$BFQ$206,3,FALSE)),\"\",VLOOKUP(B1290,database!$A$6:$BFQ$206,3,FALSE)))","v":""},null,null,null,null,null,null,""]
["",null,{"$f":"IF(B1291=\"\",\"\",IF(ISERROR(VLOOKUP(B1291,database!$A$6:$BFQ$206,4,FALSE)),\"\",VLOOKUP(B1291,database!$A$6:$BFQ$206,4,FALSE)))","v":""},null,null,null,"",null,null,null,{"$f":"IF(B1291=\"\",\"\",IF(ISERROR(VLOOKUP(B1291,database!$A$6:$BFQ$206,3,FALSE)),\"\",VLOOKUP(B1291,database!$A$6:$BFQ$206,3,FALSE)))","v":""},null,null,null,null,null,null,""]
["",null,{"$f":"IF(B1292=\"\",\"\",IF(ISERROR(VLOOKUP(B1292,database!$A$6:$BFQ$206,4,FALSE)),\"\",VLOOKUP(B1292,database!$A$6:$BFQ$206,4,FALSE)))","v":""},null,null,null,"",null,null,null,{"$f":"IF(B1292=\"\",\"\",IF(ISERROR(VLOOKUP(B1292,database!$A$6:$BFQ$206,3,FALSE)),\"\",VLOOKUP(B1292,database!$A$6:$BFQ$206,3,FALSE)))","v":""},null,null,null,null,null,null,""]
["",null,{"$f":"IF(B1293=\"\",\"\",IF(ISERROR(VLOOKUP(B1293,database!$A$6:$BFQ$206,4,FALSE)),\"\",VLOOKUP(B1293,database!$A$6:$BFQ$206,4,FALSE)))","v":""},null,null,null,"",null,null,null,{"$f":"IF(B1293=\"\",\"\",IF(ISERROR(VLOOKUP(B1293,database!$A$6:$BFQ$206,3,FALSE)),\"\",VLOOKUP(B1293,database!$A$6:$BFQ$206,3,FALSE)))","v":""},null,null,null,null,null,null,""]
["",null,{"$f":"IF(B1294=\"\",\"\",IF(ISERROR(VLOOKUP(B1294,database!$A$6:$BFQ$206,4,FALSE)),\"\",VLOOKUP(B1294,database!$A$6:$BFQ$206,4,FALSE)))","v":""},null,null,null,"",null,null,null,{"$f":"IF(B1294=\"\",\"\",IF(ISERROR(VLOOKUP(B1294,database!$A$6:$BFQ$206,3,FALSE)),\"\",VLOOKUP(B1294,database!$A$6:$BFQ$206,3,FALSE)))","v":""},null,null,null,null,null,null,""]
["",null,{"$f":"IF(B1295=\"\",\"\",IF(ISERROR(VLOOKUP(B1295,database!$A$6:$BFQ$206,4,FALSE)),\"\",VLOOKUP(B1295,database!$A$6:$BFQ$206,4,FALSE)))","v":""},null,null,null,"",null,null,null,{"$f":"IF(B1295=\"\",\"\",IF(ISERROR(VLOOKUP(B1295,database!$A$6:$BFQ$206,3,FALSE)),\"\",VLOOKUP(B1295,database!$A$6:$BFQ$206,3,FALSE)))","v":""},null,null,null,null,null,null,""]
["",null,{"$f":"IF(B1296=\"\",\"\",IF(ISERROR(VLOOKUP(B1296,database!$A$6:$BFQ$206,4,FALSE)),\"\",VLOOKUP(B1296,database!$A$6:$BFQ$206,4,FALSE)))","v":""},null,null,null,"",null,null,null,{"$f":"IF(B1296=\"\",\"\",IF(ISERROR(VLOOKUP(B1296,database!$A$6:$BFQ$206,3,FALSE)),\"\",VLOOKUP(B1296,database!$A$6:$BFQ$206,3,FALSE)))","v":""},null,null,null,null,null,null,""]
["",null,{"$f":"IF(B1297=\"\",\"\",IF(ISERROR(VLOOKUP(B1297,database!$A$6:$BFQ$206,4,FALSE)),\"\",VLOOKUP(B1297,database!$A$6:$BFQ$206,4,FALSE)))","v":""},null,null,null,"",null,null,null,{"$f":"IF(B1297=\"\",\"\",IF(ISERROR(VLOOKUP(B1297,database!$A$6:$BFQ$206,3,FALSE)),\"\",VLOOKUP(B1297,database!$A$6:$BFQ$206,3,FALSE)))","v":""},null,null,null,null,null,null,""]
["",null,{"$f":"IF(B1298=\"\",\"\",IF(ISERROR(VLOOKUP(B1298,database!$A$6:$BFQ$206,4,FALSE)),\"\",VLOOKUP(B1298,database!$A$6:$BFQ$206,4,FALSE)))","v":""},null,null,null,"",null,null,null,{"$f":"IF(B1298=\"\",\"\",IF(ISERROR(VLOOKUP(B1298,database!$A$6:$BFQ$206,3,FALSE)),\"\",VLOOKUP(B1298,database!$A$6:$BFQ$206,3,FALSE)))","v":""},null,null,null,null,null,null,""]
["",null,{"$f":"IF(B1299=\"\",\"\",IF(ISERROR(VLOOKUP(B1299,database!$A$6:$BFQ$206,4,FALSE)),\"\",VLOOKUP(B1299,database!$A$6:$BFQ$206,4,FALSE)))","v":""},null,null,null,"",null,null,null,{"$f":"IF(B1299=\"\",\"\",IF(ISERROR(VLOOKUP(B1299,database!$A$6:$BFQ$206,3,FALSE)),\"\",VLOOKUP(B1299,database!$A$6:$BFQ$206,3,FALSE)))","v":""},null,null,null,null,null,null,""]
["",null,{"$f":"IF(B1300=\"\",\"\",IF(ISERROR(VLOOKUP(B1300,database!$A$6:$BFQ$206,4,FALSE)),\"\",VLOOKUP(B1300,database!$A$6:$BFQ$206,4,FALSE)))","v":""},null,null,null,"",null,null,null,{"$f":"IF(B1300=\"\",\"\",IF(ISERROR(VLOOKUP(B1300,database!$A$6:$BFQ$206,3,FALSE)),\"\",VLOOKUP(B1300,database!$A$6:$BFQ$206,3,FALSE)))","v":""},null,null,null,null,null,null,""]
["",null,{"$f":"IF(B1301=\"\",\"\",IF(ISERROR(VLOOKUP(B1301,database!$A$6:$BFQ$206,4,FALSE)),\"\",VLOOKUP(B1301,database!$A$6:$BFQ$206,4,FALSE)))","v":""},null,null,null,"",null,null,null,{"$f":"IF(B1301=\"\",\"\",IF(ISERROR(VLOOKUP(B1301,database!$A$6:$BFQ$206,3,FALSE)),\"\",VLOOKUP(B1301,database!$A$6:$BFQ$206,3,FALSE)))","v":""},null,null,null,null,null,null,""]
["",null,{"$f":"IF(B1302=\"\",\"\",IF(ISERROR(VLOOKUP(B1302,database!$A$6:$BFQ$206,4,FALSE)),\"\",VLOOKUP(B1302,database!$A$6:$BFQ$206,4,FALSE)))","v":""},null,null,null,"",null,null,null,{"$f":"IF(B1302=\"\",\"\",IF(ISERROR(VLOOKUP(B1302,database!$A$6:$BFQ$206,3,FALSE)),\"\",VLOOKUP(B1302,database!$A$6:$BFQ$206,3,FALSE)))","v":""},null,null,null,null,null,null,""]
["",null,{"$f":"IF(B1303=\"\",\"\",IF(ISERROR(VLOOKUP(B1303,database!$A$6:$BFQ$206,4,FALSE)),\"\",VLOOKUP(B1303,database!$A$6:$BFQ$206,4,FALSE)))","v":""},null,null,null,"",null,null,null,{"$f":"IF(B1303=\"\",\"\",IF(ISERROR(VLOOKUP(B1303,database!$A$6:$BFQ$206,3,FALSE)),\"\",VLOOKUP(B1303,database!$A$6:$BFQ$206,3,FALSE)))","v":""},null,null,null,null,null,null,""]
["",null,{"$f":"IF(B1304=\"\",\"\",IF(ISERROR(VLOOKUP(B1304,database!$A$6:$BFQ$206,4,FALSE)),\"\",VLOOKUP(B1304,database!$A$6:$BFQ$206,4,FALSE)))","v":""},null,null,null,"",null,null,null,{"$f":"IF(B1304=\"\",\"\",IF(ISERROR(VLOOKUP(B1304,database!$A$6:$BFQ$206,3,FALSE)),\"\",VLOOKUP(B1304,database!$A$6:$BFQ$206,3,FALSE)))","v":""},null,null,null,null,null,null,""]
["",null,{"$f":"IF(B1305=\"\",\"\",IF(ISERROR(VLOOKUP(B1305,database!$A$6:$BFQ$206,4,FALSE)),\"\",VLOOKUP(B1305,database!$A$6:$BFQ$206,4,FALSE)))","v":""},null,null,null,"",null,null,null,{"$f":"IF(B1305=\"\",\"\",IF(ISERROR(VLOOKUP(B1305,database!$A$6:$BFQ$206,3,FALSE)),\"\",VLOOKUP(B1305,database!$A$6:$BFQ$206,3,FALSE)))","v":""},null,null,null,null,null,null,""]
["",null,{"$f":"IF(B1306=\"\",\"\",IF(ISERROR(VLOOKUP(B1306,database!$A$6:$BFQ$206,4,FALSE)),\"\",VLOOKUP(B1306,database!$A$6:$BFQ$206,4,FALSE)))","v":""},null,null,null,"",null,null,null,{"$f":"IF(B1306=\"\",\"\",IF(ISERROR(VLOOKUP(B1306,database!$A$6:$BFQ$206,3,FALSE)),\"\",VLOOKUP(B1306,database!$A$6:$BFQ$206,3,FALSE)))","v":""},null,null,null,null,null,null,""]
["",null,{"$f":"IF(B1307=\"\",\"\",IF(ISERROR(VLOOKUP(B1307,database!$A$6:$BFQ$206,4,FALSE)),\"\",VLOOKUP(B1307,database!$A$6:$BFQ$206,4,FALSE)))","v":""},null,null,null,"",null,null,null,{"$f":"IF(B1307=\"\",\"\",IF(ISERROR(VLOOKUP(B1307,database!$A$6:$BFQ$206,3,FALSE)),\"\",VLOOKUP(B1307,database!$A$6:$BFQ$206,3,FALSE)))","v":""},null,null,null,null,null,null,""]
["",null,{"$f":"IF(B1308=\"\",\"\",IF(ISERROR(VLOOKUP(B1308,database!$A$6:$BFQ$206,4,FALSE)),\"\",VLOOKUP(B1308,database!$A$6:$BFQ$206,4,FALSE)))","v":""},null,null,null,"",null,null,null,{"$f":"IF(B1308=\"\",\"\",IF(ISERROR(VLOOKUP(B1308,database!$A$6:$BFQ$206,3,FALSE)),\"\",VLOOKUP(B1308,database!$A$6:$BFQ$206,3,FALSE)))","v":""},null,null,null,null,null,null,""]
["",null,{"$f":"IF(B1309=\"\",\"\",IF(ISERROR(VLOOKUP(B1309,database!$A$6:$BFQ$206,4,FALSE)),\"\",VLOOKUP(B1309,database!$A$6:$BFQ$206,4,FALSE)))","v":""},null,null,null,"",null,null,null,{"$f":"IF(B1309=\"\",\"\",IF(ISERROR(VLOOKUP(B1309,database!$A$6:$BFQ$206,3,FALSE)),\"\",VLOOKUP(B1309,database!$A$6:$BFQ$206,3,FALSE)))","v":""},null,null,null,null,null,null,""]
["",null,{"$f":"IF(B1310=\"\",\"\",IF(ISERROR(VLOOKUP(B1310,database!$A$6:$BFQ$206,4,FALSE)),\"\",VLOOKUP(B1310,database!$A$6:$BFQ$206,4,FALSE)))","v":""},null,null,null,"",null,null,null,{"$f":"IF(B1310=\"\",\"\",IF(ISERROR(VLOOKUP(B1310,database!$A$6:$BFQ$206,3,FALSE)),\"\",VLOOKUP(B1310,database!$A$6:$BFQ$206,3,FALSE)))","v":""},null,null,null,null,null,null,""]
["",null,{"$f":"IF(B1311=\"\",\"\",IF(ISERROR(VLOOKUP(B1311,database!$A$6:$BFQ$206,4,FALSE)),\"\",VLOOKUP(B1311,database!$A$6:$BFQ$206,4,FALSE)))","v":""},null,null,null,"",null,null,null,{"$f":"IF(B1311=\"\",\"\",IF(ISERROR(VLOOKUP(B1311,database!$A$6:$BFQ$206,3,FALSE)),\"\",VLOOKUP(B1311,database!$A$6:$BFQ$206,3,FALSE)))","v":""},null,null,null,null,null,null,""]
["",null,{"$f":"IF(B1312=\"\",\"\",IF(ISERROR(VLOOKUP(B1312,database!$A$6:$BFQ$206,4,FALSE)),\"\",VLOOKUP(B1312,database!$A$6:$BFQ$206,4,FALSE)))","v":""},null,null,null,"",null,null,null,{"$f":"IF(B1312=\"\",\"\",IF(ISERROR(VLOOKUP(B1312,database!$A$6:$BFQ$206,3,FALSE)),\"\",VLOOKUP(B1312,database!$A$6:$BFQ$206,3,FALSE)))","v":""},null,null,null,null,null,null,""]
["",null,{"$f":"IF(B1313=\"\",\"\",IF(ISERROR(VLOOKUP(B1313,database!$A$6:$BFQ$206,4,FALSE)),\"\",VLOOKUP(B1313,database!$A$6:$BFQ$206,4,FALSE)))","v":""},null,null,null,"",null,null,null,{"$f":"IF(B1313=\"\",\"\",IF(ISERROR(VLOOKUP(B1313,database!$A$6:$BFQ$206,3,FALSE)),\"\",VLOOKUP(B1313,database!$A$6:$BFQ$206,3,FALSE)))","v":""},null,null,null,null,null,null,""]
["",null,{"$f":"IF(B1314=\"\",\"\",IF(ISERROR(VLOOKUP(B1314,database!$A$6:$BFQ$206,4,FALSE)),\"\",VLOOKUP(B1314,database!$A$6:$BFQ$206,4,FALSE)))","v":""},null,null,null,"",null,null,null,{"$f":"IF(B1314=\"\",\"\",IF(ISERROR(VLOOKUP(B1314,database!$A$6:$BFQ$206,3,FALSE)),\"\",VLOOKUP(B1314,database!$A$6:$BFQ$206,3,FALSE)))","v":""},null,null,null,null,null,null,""]
["",null,{"$f":"IF(B1315=\"\",\"\",IF(ISERROR(VLOOKUP(B1315,database!$A$6:$BFQ$206,4,FALSE)),\"\",VLOOKUP(B1315,database!$A$6:$BFQ$206,4,FALSE)))","v":""},null,null,null,"",null,null,null,{"$f":"IF(B1315=\"\",\"\",IF(ISERROR(VLOOKUP(B1315,database!$A$6:$BFQ$206,3,FALSE)),\"\",VLOOKUP(B1315,database!$A$6:$BFQ$206,3,FALSE)))","v":""},null,null,null,null,null,null,""]
["",null,{"$f":"IF(B1316=\"\",\"\",IF(ISERROR(VLOOKUP(B1316,database!$A$6:$BFQ$206,4,FALSE)),\"\",VLOOKUP(B1316,database!$A$6:$BFQ$206,4,FALSE)))","v":""},null,null,null,"",null,null,null,{"$f":"IF(B1316=\"\",\"\",IF(ISERROR(VLOOKUP(B1316,database!$A$6:$BFQ$206,3,FALSE)),\"\",VLOOKUP(B1316,database!$A$6:$BFQ$206,3,FALSE)))","v":""},null,null,null,null,null,null,""]
["",null,{"$f":"IF(B1317=\"\",\"\",IF(ISERROR(VLOOKUP(B1317,database!$A$6:$BFQ$206,4,FALSE)),\"\",VLOOKUP(B1317,database!$A$6:$BFQ$206,4,FALSE)))","v":""},null,null,null,"",null,null,null,{"$f":"IF(B1317=\"\",\"\",IF(ISERROR(VLOOKUP(B1317,database!$A$6:$BFQ$206,3,FALSE)),\"\",VLOOKUP(B1317,database!$A$6:$BFQ$206,3,FALSE)))","v":""},null,null,null,null,null,null,""]
["",null,{"$f":"IF(B1318=\"\",\"\",IF(ISERROR(VLOOKUP(B1318,database!$A$6:$BFQ$206,4,FALSE)),\"\",VLOOKUP(B1318,database!$A$6:$BFQ$206,4,FALSE)))","v":""},null,null,null,"",null,null,null,{"$f":"IF(B1318=\"\",\"\",IF(ISERROR(VLOOKUP(B1318,database!$A$6:$BFQ$206,3,FALSE)),\"\",VLOOKUP(B1318,database!$A$6:$BFQ$206,3,FALSE)))","v":""},null,null,null,null,null,null,""]
["",null,{"$f":"IF(B1319=\"\",\"\",IF(ISERROR(VLOOKUP(B1319,database!$A$6:$BFQ$206,4,FALSE)),\"\",VLOOKUP(B1319,database!$A$6:$BFQ$206,4,FALSE)))","v":""},null,null,null,"",null,null,null,{"$f":"IF(B1319=\"\",\"\",IF(ISERROR(VLOOKUP(B1319,database!$A$6:$BFQ$206,3,FALSE)),\"\",VLOOKUP(B1319,database!$A$6:$BFQ$206,3,FALSE)))","v":""},null,null,null,null,null,null,""]
["",null,{"$f":"IF(B1320=\"\",\"\",IF(ISERROR(VLOOKUP(B1320,database!$A$6:$BFQ$206,4,FALSE)),\"\",VLOOKUP(B1320,database!$A$6:$BFQ$206,4,FALSE)))","v":""},null,null,null,"",null,null,null,{"$f":"IF(B1320=\"\",\"\",IF(ISERROR(VLOOKUP(B1320,database!$A$6:$BFQ$206,3,FALSE)),\"\",VLOOKUP(B1320,database!$A$6:$BFQ$206,3,FALSE)))","v":""},null,null,null,null,null,null,""]
["",null,{"$f":"IF(B1321=\"\",\"\",IF(ISERROR(VLOOKUP(B1321,database!$A$6:$BFQ$206,4,FALSE)),\"\",VLOOKUP(B1321,database!$A$6:$BFQ$206,4,FALSE)))","v":""},null,null,null,"",null,null,null,{"$f":"IF(B1321=\"\",\"\",IF(ISERROR(VLOOKUP(B1321,database!$A$6:$BFQ$206,3,FALSE)),\"\",VLOOKUP(B1321,database!$A$6:$BFQ$206,3,FALSE)))","v":""},null,null,null,null,null,null,""]
["",null,{"$f":"IF(B1322=\"\",\"\",IF(ISERROR(VLOOKUP(B1322,database!$A$6:$BFQ$206,4,FALSE)),\"\",VLOOKUP(B1322,database!$A$6:$BFQ$206,4,FALSE)))","v":""},null,null,null,"",null,null,null,{"$f":"IF(B1322=\"\",\"\",IF(ISERROR(VLOOKUP(B1322,database!$A$6:$BFQ$206,3,FALSE)),\"\",VLOOKUP(B1322,database!$A$6:$BFQ$206,3,FALSE)))","v":""},null,null,null,null,null,null,""]
["",null,{"$f":"IF(B1323=\"\",\"\",IF(ISERROR(VLOOKUP(B1323,database!$A$6:$BFQ$206,4,FALSE)),\"\",VLOOKUP(B1323,database!$A$6:$BFQ$206,4,FALSE)))","v":""},null,null,null,"",null,null,null,{"$f":"IF(B1323=\"\",\"\",IF(ISERROR(VLOOKUP(B1323,database!$A$6:$BFQ$206,3,FALSE)),\"\",VLOOKUP(B1323,database!$A$6:$BFQ$206,3,FALSE)))","v":""},null,null,null,null,null,null,""]
["",null,{"$f":"IF(B1324=\"\",\"\",IF(ISERROR(VLOOKUP(B1324,database!$A$6:$BFQ$206,4,FALSE)),\"\",VLOOKUP(B1324,database!$A$6:$BFQ$206,4,FALSE)))","v":""},null,null,null,"",null,null,null,{"$f":"IF(B1324=\"\",\"\",IF(ISERROR(VLOOKUP(B1324,database!$A$6:$BFQ$206,3,FALSE)),\"\",VLOOKUP(B1324,database!$A$6:$BFQ$206,3,FALSE)))","v":""},null,null,null,null,null,null,""]
["",null,{"$f":"IF(B1325=\"\",\"\",IF(ISERROR(VLOOKUP(B1325,database!$A$6:$BFQ$206,4,FALSE)),\"\",VLOOKUP(B1325,database!$A$6:$BFQ$206,4,FALSE)))","v":""},null,null,null,"",null,null,null,{"$f":"IF(B1325=\"\",\"\",IF(ISERROR(VLOOKUP(B1325,database!$A$6:$BFQ$206,3,FALSE)),\"\",VLOOKUP(B1325,database!$A$6:$BFQ$206,3,FALSE)))","v":""},null,null,null,null,null,null,""]
["",null,{"$f":"IF(B1326=\"\",\"\",IF(ISERROR(VLOOKUP(B1326,database!$A$6:$BFQ$206,4,FALSE)),\"\",VLOOKUP(B1326,database!$A$6:$BFQ$206,4,FALSE)))","v":""},null,null,null,"",null,null,null,{"$f":"IF(B1326=\"\",\"\",IF(ISERROR(VLOOKUP(B1326,database!$A$6:$BFQ$206,3,FALSE)),\"\",VLOOKUP(B1326,database!$A$6:$BFQ$206,3,FALSE)))","v":""},null,null,null,null,null,null,""]
["",null,{"$f":"IF(B1327=\"\",\"\",IF(ISERROR(VLOOKUP(B1327,database!$A$6:$BFQ$206,4,FALSE)),\"\",VLOOKUP(B1327,database!$A$6:$BFQ$206,4,FALSE)))","v":""},null,null,null,"",null,null,null,{"$f":"IF(B1327=\"\",\"\",IF(ISERROR(VLOOKUP(B1327,database!$A$6:$BFQ$206,3,FALSE)),\"\",VLOOKUP(B1327,database!$A$6:$BFQ$206,3,FALSE)))","v":""},null,null,null,null,null,null,""]
["",null,{"$f":"IF(B1328=\"\",\"\",IF(ISERROR(VLOOKUP(B1328,database!$A$6:$BFQ$206,4,FALSE)),\"\",VLOOKUP(B1328,database!$A$6:$BFQ$206,4,FALSE)))","v":""},null,null,null,"",null,null,null,{"$f":"IF(B1328=\"\",\"\",IF(ISERROR(VLOOKUP(B1328,database!$A$6:$BFQ$206,3,FALSE)),\"\",VLOOKUP(B1328,database!$A$6:$BFQ$206,3,FALSE)))","v":""},null,null,null,null,null,null,""]
["",null,{"$f":"IF(B1329=\"\",\"\",IF(ISERROR(VLOOKUP(B1329,database!$A$6:$BFQ$206,4,FALSE)),\"\",VLOOKUP(B1329,database!$A$6:$BFQ$206,4,FALSE)))","v":""},null,null,null,"",null,null,null,{"$f":"IF(B1329=\"\",\"\",IF(ISERROR(VLOOKUP(B1329,database!$A$6:$BFQ$206,3,FALSE)),\"\",VLOOKUP(B1329,database!$A$6:$BFQ$206,3,FALSE)))","v":""},null,null,null,null,null,null,""]
["",null,{"$f":"IF(B1330=\"\",\"\",IF(ISERROR(VLOOKUP(B1330,database!$A$6:$BFQ$206,4,FALSE)),\"\",VLOOKUP(B1330,database!$A$6:$BFQ$206,4,FALSE)))","v":""},null,null,null,"",null,null,null,{"$f":"IF(B1330=\"\",\"\",IF(ISERROR(VLOOKUP(B1330,database!$A$6:$BFQ$206,3,FALSE)),\"\",VLOOKUP(B1330,database!$A$6:$BFQ$206,3,FALSE)))","v":""},null,null,null,null,null,null,""]
["",null,{"$f":"IF(B1331=\"\",\"\",IF(ISERROR(VLOOKUP(B1331,database!$A$6:$BFQ$206,4,FALSE)),\"\",VLOOKUP(B1331,database!$A$6:$BFQ$206,4,FALSE)))","v":""},null,null,null,"",null,null,null,{"$f":"IF(B1331=\"\",\"\",IF(ISERROR(VLOOKUP(B1331,database!$A$6:$BFQ$206,3,FALSE)),\"\",VLOOKUP(B1331,database!$A$6:$BFQ$206,3,FALSE)))","v":""},null,null,null,null,null,null,""]
["",null,{"$f":"IF(B1332=\"\",\"\",IF(ISERROR(VLOOKUP(B1332,database!$A$6:$BFQ$206,4,FALSE)),\"\",VLOOKUP(B1332,database!$A$6:$BFQ$206,4,FALSE)))","v":""},null,null,null,"",null,null,null,{"$f":"IF(B1332=\"\",\"\",IF(ISERROR(VLOOKUP(B1332,database!$A$6:$BFQ$206,3,FALSE)),\"\",VLOOKUP(B1332,database!$A$6:$BFQ$206,3,FALSE)))","v":""},null,null,null,null,null,null,""]
["",null,{"$f":"IF(B1333=\"\",\"\",IF(ISERROR(VLOOKUP(B1333,database!$A$6:$BFQ$206,4,FALSE)),\"\",VLOOKUP(B1333,database!$A$6:$BFQ$206,4,FALSE)))","v":""},null,null,null,"",null,null,null,{"$f":"IF(B1333=\"\",\"\",IF(ISERROR(VLOOKUP(B1333,database!$A$6:$BFQ$206,3,FALSE)),\"\",VLOOKUP(B1333,database!$A$6:$BFQ$206,3,FALSE)))","v":""},null,null,null,null,null,null,""]
["",null,{"$f":"IF(B1334=\"\",\"\",IF(ISERROR(VLOOKUP(B1334,database!$A$6:$BFQ$206,4,FALSE)),\"\",VLOOKUP(B1334,database!$A$6:$BFQ$206,4,FALSE)))","v":""},null,null,null,"",null,null,null,{"$f":"IF(B1334=\"\",\"\",IF(ISERROR(VLOOKUP(B1334,database!$A$6:$BFQ$206,3,FALSE)),\"\",VLOOKUP(B1334,database!$A$6:$BFQ$206,3,FALSE)))","v":""},null,null,null,null,null,null,""]
["",null,{"$f":"IF(B1335=\"\",\"\",IF(ISERROR(VLOOKUP(B1335,database!$A$6:$BFQ$206,4,FALSE)),\"\",VLOOKUP(B1335,database!$A$6:$BFQ$206,4,FALSE)))","v":""},null,null,null,"",null,null,null,{"$f":"IF(B1335=\"\",\"\",IF(ISERROR(VLOOKUP(B1335,database!$A$6:$BFQ$206,3,FALSE)),\"\",VLOOKUP(B1335,database!$A$6:$BFQ$206,3,FALSE)))","v":""},null,null,null,null,null,null,""]
["",null,{"$f":"IF(B1336=\"\",\"\",IF(ISERROR(VLOOKUP(B1336,database!$A$6:$BFQ$206,4,FALSE)),\"\",VLOOKUP(B1336,database!$A$6:$BFQ$206,4,FALSE)))","v":""},null,null,null,"",null,null,null,{"$f":"IF(B1336=\"\",\"\",IF(ISERROR(VLOOKUP(B1336,database!$A$6:$BFQ$206,3,FALSE)),\"\",VLOOKUP(B1336,database!$A$6:$BFQ$206,3,FALSE)))","v":""},null,null,null,null,null,null,""]
["",null,{"$f":"IF(B1337=\"\",\"\",IF(ISERROR(VLOOKUP(B1337,database!$A$6:$BFQ$206,4,FALSE)),\"\",VLOOKUP(B1337,database!$A$6:$BFQ$206,4,FALSE)))","v":""},null,null,null,"",null,null,null,{"$f":"IF(B1337=\"\",\"\",IF(ISERROR(VLOOKUP(B1337,database!$A$6:$BFQ$206,3,FALSE)),\"\",VLOOKUP(B1337,database!$A$6:$BFQ$206,3,FALSE)))","v":""},null,null,null,null,null,null,""]
["",null,{"$f":"IF(B1338=\"\",\"\",IF(ISERROR(VLOOKUP(B1338,database!$A$6:$BFQ$206,4,FALSE)),\"\",VLOOKUP(B1338,database!$A$6:$BFQ$206,4,FALSE)))","v":""},null,null,null,"",null,null,null,{"$f":"IF(B1338=\"\",\"\",IF(ISERROR(VLOOKUP(B1338,database!$A$6:$BFQ$206,3,FALSE)),\"\",VLOOKUP(B1338,database!$A$6:$BFQ$206,3,FALSE)))","v":""},null,null,null,null,null,null,""]
["",null,{"$f":"IF(B1339=\"\",\"\",IF(ISERROR(VLOOKUP(B1339,database!$A$6:$BFQ$206,4,FALSE)),\"\",VLOOKUP(B1339,database!$A$6:$BFQ$206,4,FALSE)))","v":""},null,null,null,"",null,null,null,{"$f":"IF(B1339=\"\",\"\",IF(ISERROR(VLOOKUP(B1339,database!$A$6:$BFQ$206,3,FALSE)),\"\",VLOOKUP(B1339,database!$A$6:$BFQ$206,3,FALSE)))","v":""},null,null,null,null,null,null,""]
["",null,{"$f":"IF(B1340=\"\",\"\",IF(ISERROR(VLOOKUP(B1340,database!$A$6:$BFQ$206,4,FALSE)),\"\",VLOOKUP(B1340,database!$A$6:$BFQ$206,4,FALSE)))","v":""},null,null,null,"",null,null,null,{"$f":"IF(B1340=\"\",\"\",IF(ISERROR(VLOOKUP(B1340,database!$A$6:$BFQ$206,3,FALSE)),\"\",VLOOKUP(B1340,database!$A$6:$BFQ$206,3,FALSE)))","v":""},null,null,null,null,null,null,""]
["",null,{"$f":"IF(B1341=\"\",\"\",IF(ISERROR(VLOOKUP(B1341,database!$A$6:$BFQ$206,4,FALSE)),\"\",VLOOKUP(B1341,database!$A$6:$BFQ$206,4,FALSE)))","v":""},null,null,null,"",null,null,null,{"$f":"IF(B1341=\"\",\"\",IF(ISERROR(VLOOKUP(B1341,database!$A$6:$BFQ$206,3,FALSE)),\"\",VLOOKUP(B1341,database!$A$6:$BFQ$206,3,FALSE)))","v":""},null,null,null,null,null,null,""]
["",null,{"$f":"IF(B1342=\"\",\"\",IF(ISERROR(VLOOKUP(B1342,database!$A$6:$BFQ$206,4,FALSE)),\"\",VLOOKUP(B1342,database!$A$6:$BFQ$206,4,FALSE)))","v":""},null,null,null,"",null,null,null,{"$f":"IF(B1342=\"\",\"\",IF(ISERROR(VLOOKUP(B1342,database!$A$6:$BFQ$206,3,FALSE)),\"\",VLOOKUP(B1342,database!$A$6:$BFQ$206,3,FALSE)))","v":""},null,null,null,null,null,null,""]
["",null,{"$f":"IF(B1343=\"\",\"\",IF(ISERROR(VLOOKUP(B1343,database!$A$6:$BFQ$206,4,FALSE)),\"\",VLOOKUP(B1343,database!$A$6:$BFQ$206,4,FALSE)))","v":""},null,null,null,"",null,null,null,{"$f":"IF(B1343=\"\",\"\",IF(ISERROR(VLOOKUP(B1343,database!$A$6:$BFQ$206,3,FALSE)),\"\",VLOOKUP(B1343,database!$A$6:$BFQ$206,3,FALSE)))","v":""},null,null,null,null,null,null,""]
["",null,{"$f":"IF(B1344=\"\",\"\",IF(ISERROR(VLOOKUP(B1344,database!$A$6:$BFQ$206,4,FALSE)),\"\",VLOOKUP(B1344,database!$A$6:$BFQ$206,4,FALSE)))","v":""},null,null,null,"",null,null,null,{"$f":"IF(B1344=\"\",\"\",IF(ISERROR(VLOOKUP(B1344,database!$A$6:$BFQ$206,3,FALSE)),\"\",VLOOKUP(B1344,database!$A$6:$BFQ$206,3,FALSE)))","v":""},null,null,null,null,null,null,""]
[{"$f":"IF(B1345=\"\",\"\",ROW(A1342))","v":""},null,{"$f":"IF(B1345=\"\",\"\",IF(ISERROR(VLOOKUP(B1345,database!$A$6:$BFQ$206,4,FALSE)),\"\",VLOOKUP(B1345,database!$A$6:$BFQ$206,4,FALSE)))","v":""},null,null,null,{"$f":"IF(B1345=\"\",\"\",IF(C1345=\"\",0,1))","v":""},null,null,null,{"$f":"IF(B1345=\"\",\"\",IF(ISERROR(VLOOKUP(B1345,database!$A$6:$BFQ$206,3,FALSE)),\"\",VLOOKUP(B1345,database!$A$6:$BFQ$206,3,FALSE)))","v":""},null,null,null,null,null,null,{"$f":"LEFT(C1345,2)","v":""}]
["",null,{"$f":"IF(B1346=\"\",\"\",IF(ISERROR(VLOOKUP(B1346,database!$A$6:$BFQ$206,4,FALSE)),\"\",VLOOKUP(B1346,database!$A$6:$BFQ$206,4,FALSE)))","v":""},null,null,null,"",null,null,null,{"$f":"IF(B1346=\"\",\"\",IF(ISERROR(VLOOKUP(B1346,database!$A$6:$BFQ$206,3,FALSE)),\"\",VLOOKUP(B1346,database!$A$6:$BFQ$206,3,FALSE)))","v":""},null,null,null,null,null,null,""]
["",null,{"$f":"IF(B1347=\"\",\"\",IF(ISERROR(VLOOKUP(B1347,database!$A$6:$BFQ$206,4,FALSE)),\"\",VLOOKUP(B1347,database!$A$6:$BFQ$206,4,FALSE)))","v":""},null,null,null,"",null,null,null,{"$f":"IF(B1347=\"\",\"\",IF(ISERROR(VLOOKUP(B1347,database!$A$6:$BFQ$206,3,FALSE)),\"\",VLOOKUP(B1347,database!$A$6:$BFQ$206,3,FALSE)))","v":""},null,null,null,null,null,null,""]
["",null,{"$f":"IF(B1348=\"\",\"\",IF(ISERROR(VLOOKUP(B1348,database!$A$6:$BFQ$206,4,FALSE)),\"\",VLOOKUP(B1348,database!$A$6:$BFQ$206,4,FALSE)))","v":""},null,null,null,"",null,null,null,{"$f":"IF(B1348=\"\",\"\",IF(ISERROR(VLOOKUP(B1348,database!$A$6:$BFQ$206,3,FALSE)),\"\",VLOOKUP(B1348,database!$A$6:$BFQ$206,3,FALSE)))","v":""},null,null,null,null,null,null,""]
["",null,{"$f":"IF(B1349=\"\",\"\",IF(ISERROR(VLOOKUP(B1349,database!$A$6:$BFQ$206,4,FALSE)),\"\",VLOOKUP(B1349,database!$A$6:$BFQ$206,4,FALSE)))","v":""},null,null,null,"",null,null,null,{"$f":"IF(B1349=\"\",\"\",IF(ISERROR(VLOOKUP(B1349,database!$A$6:$BFQ$206,3,FALSE)),\"\",VLOOKUP(B1349,database!$A$6:$BFQ$206,3,FALSE)))","v":""},null,null,null,null,null,null,""]
["",null,{"$f":"IF(B1350=\"\",\"\",IF(ISERROR(VLOOKUP(B1350,database!$A$6:$BFQ$206,4,FALSE)),\"\",VLOOKUP(B1350,database!$A$6:$BFQ$206,4,FALSE)))","v":""},null,null,null,"",null,null,null,{"$f":"IF(B1350=\"\",\"\",IF(ISERROR(VLOOKUP(B1350,database!$A$6:$BFQ$206,3,FALSE)),\"\",VLOOKUP(B1350,database!$A$6:$BFQ$206,3,FALSE)))","v":""},null,null,null,null,null,null,""]
["",null,{"$f":"IF(B1351=\"\",\"\",IF(ISERROR(VLOOKUP(B1351,database!$A$6:$BFQ$206,4,FALSE)),\"\",VLOOKUP(B1351,database!$A$6:$BFQ$206,4,FALSE)))","v":""},null,null,null,"",null,null,null,{"$f":"IF(B1351=\"\",\"\",IF(ISERROR(VLOOKUP(B1351,database!$A$6:$BFQ$206,3,FALSE)),\"\",VLOOKUP(B1351,database!$A$6:$BFQ$206,3,FALSE)))","v":""},null,null,null,null,null,null,""]
["",null,{"$f":"IF(B1352=\"\",\"\",IF(ISERROR(VLOOKUP(B1352,database!$A$6:$BFQ$206,4,FALSE)),\"\",VLOOKUP(B1352,database!$A$6:$BFQ$206,4,FALSE)))","v":""},null,null,null,"",null,null,null,{"$f":"IF(B1352=\"\",\"\",IF(ISERROR(VLOOKUP(B1352,database!$A$6:$BFQ$206,3,FALSE)),\"\",VLOOKUP(B1352,database!$A$6:$BFQ$206,3,FALSE)))","v":""},null,null,null,null,null,null,""]
["",null,{"$f":"IF(B1353=\"\",\"\",IF(ISERROR(VLOOKUP(B1353,database!$A$6:$BFQ$206,4,FALSE)),\"\",VLOOKUP(B1353,database!$A$6:$BFQ$206,4,FALSE)))","v":""},null,null,null,"",null,null,null,{"$f":"IF(B1353=\"\",\"\",IF(ISERROR(VLOOKUP(B1353,database!$A$6:$BFQ$206,3,FALSE)),\"\",VLOOKUP(B1353,database!$A$6:$BFQ$206,3,FALSE)))","v":""},null,null,null,null,null,null,""]
["",null,{"$f":"IF(B1354=\"\",\"\",IF(ISERROR(VLOOKUP(B1354,database!$A$6:$BFQ$206,4,FALSE)),\"\",VLOOKUP(B1354,database!$A$6:$BFQ$206,4,FALSE)))","v":""},null,null,null,"",null,null,null,{"$f":"IF(B1354=\"\",\"\",IF(ISERROR(VLOOKUP(B1354,database!$A$6:$BFQ$206,3,FALSE)),\"\",VLOOKUP(B1354,database!$A$6:$BFQ$206,3,FALSE)))","v":""},null,null,null,null,null,null,""]
["",null,{"$f":"IF(B1355=\"\",\"\",IF(ISERROR(VLOOKUP(B1355,database!$A$6:$BFQ$206,4,FALSE)),\"\",VLOOKUP(B1355,database!$A$6:$BFQ$206,4,FALSE)))","v":""},null,null,null,"",null,null,null,{"$f":"IF(B1355=\"\",\"\",IF(ISERROR(VLOOKUP(B1355,database!$A$6:$BFQ$206,3,FALSE)),\"\",VLOOKUP(B1355,database!$A$6:$BFQ$206,3,FALSE)))","v":""},null,null,null,null,null,null,""]
["",null,{"$f":"IF(B1356=\"\",\"\",IF(ISERROR(VLOOKUP(B1356,database!$A$6:$BFQ$206,4,FALSE)),\"\",VLOOKUP(B1356,database!$A$6:$BFQ$206,4,FALSE)))","v":""},null,null,null,"",null,null,null,{"$f":"IF(B1356=\"\",\"\",IF(ISERROR(VLOOKUP(B1356,database!$A$6:$BFQ$206,3,FALSE)),\"\",VLOOKUP(B1356,database!$A$6:$BFQ$206,3,FALSE)))","v":""},null,null,null,null,null,null,""]
["",null,{"$f":"IF(B1357=\"\",\"\",IF(ISERROR(VLOOKUP(B1357,database!$A$6:$BFQ$206,4,FALSE)),\"\",VLOOKUP(B1357,database!$A$6:$BFQ$206,4,FALSE)))","v":""},null,null,null,"",null,null,null,{"$f":"IF(B1357=\"\",\"\",IF(ISERROR(VLOOKUP(B1357,database!$A$6:$BFQ$206,3,FALSE)),\"\",VLOOKUP(B1357,database!$A$6:$BFQ$206,3,FALSE)))","v":""},null,null,null,null,null,null,""]
["",null,{"$f":"IF(B1358=\"\",\"\",IF(ISERROR(VLOOKUP(B1358,database!$A$6:$BFQ$206,4,FALSE)),\"\",VLOOKUP(B1358,database!$A$6:$BFQ$206,4,FALSE)))","v":""},null,null,null,"",null,null,null,{"$f":"IF(B1358=\"\",\"\",IF(ISERROR(VLOOKUP(B1358,database!$A$6:$BFQ$206,3,FALSE)),\"\",VLOOKUP(B1358,database!$A$6:$BFQ$206,3,FALSE)))","v":""},null,null,null,null,null,null,""]
["",null,{"$f":"IF(B1359=\"\",\"\",IF(ISERROR(VLOOKUP(B1359,database!$A$6:$BFQ$206,4,FALSE)),\"\",VLOOKUP(B1359,database!$A$6:$BFQ$206,4,FALSE)))","v":""},null,null,null,"",null,null,null,{"$f":"IF(B1359=\"\",\"\",IF(ISERROR(VLOOKUP(B1359,database!$A$6:$BFQ$206,3,FALSE)),\"\",VLOOKUP(B1359,database!$A$6:$BFQ$206,3,FALSE)))","v":""},null,null,null,null,null,null,""]
["",null,{"$f":"IF(B1360=\"\",\"\",IF(ISERROR(VLOOKUP(B1360,database!$A$6:$BFQ$206,4,FALSE)),\"\",VLOOKUP(B1360,database!$A$6:$BFQ$206,4,FALSE)))","v":""},null,null,null,"",null,null,null,{"$f":"IF(B1360=\"\",\"\",IF(ISERROR(VLOOKUP(B1360,database!$A$6:$BFQ$206,3,FALSE)),\"\",VLOOKUP(B1360,database!$A$6:$BFQ$206,3,FALSE)))","v":""},null,null,null,null,null,null,""]
["",null,{"$f":"IF(B1361=\"\",\"\",IF(ISERROR(VLOOKUP(B1361,database!$A$6:$BFQ$206,4,FALSE)),\"\",VLOOKUP(B1361,database!$A$6:$BFQ$206,4,FALSE)))","v":""},null,null,null,"",null,null,null,{"$f":"IF(B1361=\"\",\"\",IF(ISERROR(VLOOKUP(B1361,database!$A$6:$BFQ$206,3,FALSE)),\"\",VLOOKUP(B1361,database!$A$6:$BFQ$206,3,FALSE)))","v":""},null,null,null,null,null,null,""]
["",null,{"$f":"IF(B1362=\"\",\"\",IF(ISERROR(VLOOKUP(B1362,database!$A$6:$BFQ$206,4,FALSE)),\"\",VLOOKUP(B1362,database!$A$6:$BFQ$206,4,FALSE)))","v":""},null,null,null,"",null,null,null,{"$f":"IF(B1362=\"\",\"\",IF(ISERROR(VLOOKUP(B1362,database!$A$6:$BFQ$206,3,FALSE)),\"\",VLOOKUP(B1362,database!$A$6:$BFQ$206,3,FALSE)))","v":""},null,null,null,null,null,null,""]
["",null,{"$f":"IF(B1363=\"\",\"\",IF(ISERROR(VLOOKUP(B1363,database!$A$6:$BFQ$206,4,FALSE)),\"\",VLOOKUP(B1363,database!$A$6:$BFQ$206,4,FALSE)))","v":""},null,null,null,"",null,null,null,{"$f":"IF(B1363=\"\",\"\",IF(ISERROR(VLOOKUP(B1363,database!$A$6:$BFQ$206,3,FALSE)),\"\",VLOOKUP(B1363,database!$A$6:$BFQ$206,3,FALSE)))","v":""},null,null,null,null,null,null,""]
["",null,{"$f":"IF(B1364=\"\",\"\",IF(ISERROR(VLOOKUP(B1364,database!$A$6:$BFQ$206,4,FALSE)),\"\",VLOOKUP(B1364,database!$A$6:$BFQ$206,4,FALSE)))","v":""},null,null,null,"",null,null,null,{"$f":"IF(B1364=\"\",\"\",IF(ISERROR(VLOOKUP(B1364,database!$A$6:$BFQ$206,3,FALSE)),\"\",VLOOKUP(B1364,database!$A$6:$BFQ$206,3,FALSE)))","v":""},null,null,null,null,null,null,""]
["",null,{"$f":"IF(B1365=\"\",\"\",IF(ISERROR(VLOOKUP(B1365,database!$A$6:$BFQ$206,4,FALSE)),\"\",VLOOKUP(B1365,database!$A$6:$BFQ$206,4,FALSE)))","v":""},null,null,null,"",null,null,null,{"$f":"IF(B1365=\"\",\"\",IF(ISERROR(VLOOKUP(B1365,database!$A$6:$BFQ$206,3,FALSE)),\"\",VLOOKUP(B1365,database!$A$6:$BFQ$206,3,FALSE)))","v":""},null,null,null,null,null,null,""]
["",null,{"$f":"IF(B1366=\"\",\"\",IF(ISERROR(VLOOKUP(B1366,database!$A$6:$BFQ$206,4,FALSE)),\"\",VLOOKUP(B1366,database!$A$6:$BFQ$206,4,FALSE)))","v":""},null,null,null,"",null,null,null,{"$f":"IF(B1366=\"\",\"\",IF(ISERROR(VLOOKUP(B1366,database!$A$6:$BFQ$206,3,FALSE)),\"\",VLOOKUP(B1366,database!$A$6:$BFQ$206,3,FALSE)))","v":""},null,null,null,null,null,null,""]
["",null,{"$f":"IF(B1367=\"\",\"\",IF(ISERROR(VLOOKUP(B1367,database!$A$6:$BFQ$206,4,FALSE)),\"\",VLOOKUP(B1367,database!$A$6:$BFQ$206,4,FALSE)))","v":""},null,null,null,"",null,null,null,{"$f":"IF(B1367=\"\",\"\",IF(ISERROR(VLOOKUP(B1367,database!$A$6:$BFQ$206,3,FALSE)),\"\",VLOOKUP(B1367,database!$A$6:$BFQ$206,3,FALSE)))","v":""},null,null,null,null,null,null,""]
["",null,{"$f":"IF(B1368=\"\",\"\",IF(ISERROR(VLOOKUP(B1368,database!$A$6:$BFQ$206,4,FALSE)),\"\",VLOOKUP(B1368,database!$A$6:$BFQ$206,4,FALSE)))","v":""},null,null,null,"",null,null,null,{"$f":"IF(B1368=\"\",\"\",IF(ISERROR(VLOOKUP(B1368,database!$A$6:$BFQ$206,3,FALSE)),\"\",VLOOKUP(B1368,database!$A$6:$BFQ$206,3,FALSE)))","v":""},null,null,null,null,null,null,""]
["",null,{"$f":"IF(B1369=\"\",\"\",IF(ISERROR(VLOOKUP(B1369,database!$A$6:$BFQ$206,4,FALSE)),\"\",VLOOKUP(B1369,database!$A$6:$BFQ$206,4,FALSE)))","v":""},null,null,null,"",null,null,null,{"$f":"IF(B1369=\"\",\"\",IF(ISERROR(VLOOKUP(B1369,database!$A$6:$BFQ$206,3,FALSE)),\"\",VLOOKUP(B1369,database!$A$6:$BFQ$206,3,FALSE)))","v":""},null,null,null,null,null,null,""]
["",null,{"$f":"IF(B1370=\"\",\"\",IF(ISERROR(VLOOKUP(B1370,database!$A$6:$BFQ$206,4,FALSE)),\"\",VLOOKUP(B1370,database!$A$6:$BFQ$206,4,FALSE)))","v":""},null,null,null,"",null,null,null,{"$f":"IF(B1370=\"\",\"\",IF(ISERROR(VLOOKUP(B1370,database!$A$6:$BFQ$206,3,FALSE)),\"\",VLOOKUP(B1370,database!$A$6:$BFQ$206,3,FALSE)))","v":""},null,null,null,null,null,null,""]
["",null,{"$f":"IF(B1371=\"\",\"\",IF(ISERROR(VLOOKUP(B1371,database!$A$6:$BFQ$206,4,FALSE)),\"\",VLOOKUP(B1371,database!$A$6:$BFQ$206,4,FALSE)))","v":""},null,null,null,"",null,null,null,{"$f":"IF(B1371=\"\",\"\",IF(ISERROR(VLOOKUP(B1371,database!$A$6:$BFQ$206,3,FALSE)),\"\",VLOOKUP(B1371,database!$A$6:$BFQ$206,3,FALSE)))","v":""},null,null,null,null,null,null,""]
["",null,{"$f":"IF(B1372=\"\",\"\",IF(ISERROR(VLOOKUP(B1372,database!$A$6:$BFQ$206,4,FALSE)),\"\",VLOOKUP(B1372,database!$A$6:$BFQ$206,4,FALSE)))","v":""},null,null,null,"",null,null,null,{"$f":"IF(B1372=\"\",\"\",IF(ISERROR(VLOOKUP(B1372,database!$A$6:$BFQ$206,3,FALSE)),\"\",VLOOKUP(B1372,database!$A$6:$BFQ$206,3,FALSE)))","v":""},null,null,null,null,null,null,""]
["",null,{"$f":"IF(B1373=\"\",\"\",IF(ISERROR(VLOOKUP(B1373,database!$A$6:$BFQ$206,4,FALSE)),\"\",VLOOKUP(B1373,database!$A$6:$BFQ$206,4,FALSE)))","v":""},null,null,null,"",null,null,null,{"$f":"IF(B1373=\"\",\"\",IF(ISERROR(VLOOKUP(B1373,database!$A$6:$BFQ$206,3,FALSE)),\"\",VLOOKUP(B1373,database!$A$6:$BFQ$206,3,FALSE)))","v":""},null,null,null,null,null,null,""]
["",null,{"$f":"IF(B1374=\"\",\"\",IF(ISERROR(VLOOKUP(B1374,database!$A$6:$BFQ$206,4,FALSE)),\"\",VLOOKUP(B1374,database!$A$6:$BFQ$206,4,FALSE)))","v":""},null,null,null,"",null,null,null,{"$f":"IF(B1374=\"\",\"\",IF(ISERROR(VLOOKUP(B1374,database!$A$6:$BFQ$206,3,FALSE)),\"\",VLOOKUP(B1374,database!$A$6:$BFQ$206,3,FALSE)))","v":""},null,null,null,null,null,null,""]
["",null,{"$f":"IF(B1375=\"\",\"\",IF(ISERROR(VLOOKUP(B1375,database!$A$6:$BFQ$206,4,FALSE)),\"\",VLOOKUP(B1375,database!$A$6:$BFQ$206,4,FALSE)))","v":""},null,null,null,"",null,null,null,{"$f":"IF(B1375=\"\",\"\",IF(ISERROR(VLOOKUP(B1375,database!$A$6:$BFQ$206,3,FALSE)),\"\",VLOOKUP(B1375,database!$A$6:$BFQ$206,3,FALSE)))","v":""},null,null,null,null,null,null,""]
["",null,{"$f":"IF(B1376=\"\",\"\",IF(ISERROR(VLOOKUP(B1376,database!$A$6:$BFQ$206,4,FALSE)),\"\",VLOOKUP(B1376,database!$A$6:$BFQ$206,4,FALSE)))","v":""},null,null,null,"",null,null,null,{"$f":"IF(B1376=\"\",\"\",IF(ISERROR(VLOOKUP(B1376,database!$A$6:$BFQ$206,3,FALSE)),\"\",VLOOKUP(B1376,database!$A$6:$BFQ$206,3,FALSE)))","v":""},null,null,null,null,null,null,""]
["",null,{"$f":"IF(B1377=\"\",\"\",IF(ISERROR(VLOOKUP(B1377,database!$A$6:$BFQ$206,4,FALSE)),\"\",VLOOKUP(B1377,database!$A$6:$BFQ$206,4,FALSE)))","v":""},null,null,null,"",null,null,null,{"$f":"IF(B1377=\"\",\"\",IF(ISERROR(VLOOKUP(B1377,database!$A$6:$BFQ$206,3,FALSE)),\"\",VLOOKUP(B1377,database!$A$6:$BFQ$206,3,FALSE)))","v":""},null,null,null,null,null,null,""]
["",null,{"$f":"IF(B1378=\"\",\"\",IF(ISERROR(VLOOKUP(B1378,database!$A$6:$BFQ$206,4,FALSE)),\"\",VLOOKUP(B1378,database!$A$6:$BFQ$206,4,FALSE)))","v":""},null,null,null,"",null,null,null,{"$f":"IF(B1378=\"\",\"\",IF(ISERROR(VLOOKUP(B1378,database!$A$6:$BFQ$206,3,FALSE)),\"\",VLOOKUP(B1378,database!$A$6:$BFQ$206,3,FALSE)))","v":""},null,null,null,null,null,null,""]
["",null,{"$f":"IF(B1379=\"\",\"\",IF(ISERROR(VLOOKUP(B1379,database!$A$6:$BFQ$206,4,FALSE)),\"\",VLOOKUP(B1379,database!$A$6:$BFQ$206,4,FALSE)))","v":""},null,null,null,"",null,null,null,{"$f":"IF(B1379=\"\",\"\",IF(ISERROR(VLOOKUP(B1379,database!$A$6:$BFQ$206,3,FALSE)),\"\",VLOOKUP(B1379,database!$A$6:$BFQ$206,3,FALSE)))","v":""},null,null,null,null,null,null,""]
["",null,{"$f":"IF(B1380=\"\",\"\",IF(ISERROR(VLOOKUP(B1380,database!$A$6:$BFQ$206,4,FALSE)),\"\",VLOOKUP(B1380,database!$A$6:$BFQ$206,4,FALSE)))","v":""},null,null,null,"",null,null,null,{"$f":"IF(B1380=\"\",\"\",IF(ISERROR(VLOOKUP(B1380,database!$A$6:$BFQ$206,3,FALSE)),\"\",VLOOKUP(B1380,database!$A$6:$BFQ$206,3,FALSE)))","v":""},null,null,null,null,null,null,""]
["",null,{"$f":"IF(B1381=\"\",\"\",IF(ISERROR(VLOOKUP(B1381,database!$A$6:$BFQ$206,4,FALSE)),\"\",VLOOKUP(B1381,database!$A$6:$BFQ$206,4,FALSE)))","v":""},null,null,null,"",null,null,null,{"$f":"IF(B1381=\"\",\"\",IF(ISERROR(VLOOKUP(B1381,database!$A$6:$BFQ$206,3,FALSE)),\"\",VLOOKUP(B1381,database!$A$6:$BFQ$206,3,FALSE)))","v":""},null,null,null,null,null,null,""]
["",null,{"$f":"IF(B1382=\"\",\"\",IF(ISERROR(VLOOKUP(B1382,database!$A$6:$BFQ$206,4,FALSE)),\"\",VLOOKUP(B1382,database!$A$6:$BFQ$206,4,FALSE)))","v":""},null,null,null,"",null,null,null,{"$f":"IF(B1382=\"\",\"\",IF(ISERROR(VLOOKUP(B1382,database!$A$6:$BFQ$206,3,FALSE)),\"\",VLOOKUP(B1382,database!$A$6:$BFQ$206,3,FALSE)))","v":""},null,null,null,null,null,null,""]
["",null,{"$f":"IF(B1383=\"\",\"\",IF(ISERROR(VLOOKUP(B1383,database!$A$6:$BFQ$206,4,FALSE)),\"\",VLOOKUP(B1383,database!$A$6:$BFQ$206,4,FALSE)))","v":""},null,null,null,"",null,null,null,{"$f":"IF(B1383=\"\",\"\",IF(ISERROR(VLOOKUP(B1383,database!$A$6:$BFQ$206,3,FALSE)),\"\",VLOOKUP(B1383,database!$A$6:$BFQ$206,3,FALSE)))","v":""},null,null,null,null,null,null,""]
["",null,{"$f":"IF(B1384=\"\",\"\",IF(ISERROR(VLOOKUP(B1384,database!$A$6:$BFQ$206,4,FALSE)),\"\",VLOOKUP(B1384,database!$A$6:$BFQ$206,4,FALSE)))","v":""},null,null,null,"",null,null,null,{"$f":"IF(B1384=\"\",\"\",IF(ISERROR(VLOOKUP(B1384,database!$A$6:$BFQ$206,3,FALSE)),\"\",VLOOKUP(B1384,database!$A$6:$BFQ$206,3,FALSE)))","v":""},null,null,null,null,null,null,""]
["",null,{"$f":"IF(B1385=\"\",\"\",IF(ISERROR(VLOOKUP(B1385,database!$A$6:$BFQ$206,4,FALSE)),\"\",VLOOKUP(B1385,database!$A$6:$BFQ$206,4,FALSE)))","v":""},null,null,null,"",null,null,null,{"$f":"IF(B1385=\"\",\"\",IF(ISERROR(VLOOKUP(B1385,database!$A$6:$BFQ$206,3,FALSE)),\"\",VLOOKUP(B1385,database!$A$6:$BFQ$206,3,FALSE)))","v":""},null,null,null,null,null,null,""]
["",null,{"$f":"IF(B1386=\"\",\"\",IF(ISERROR(VLOOKUP(B1386,database!$A$6:$BFQ$206,4,FALSE)),\"\",VLOOKUP(B1386,database!$A$6:$BFQ$206,4,FALSE)))","v":""},null,null,null,"",null,null,null,{"$f":"IF(B1386=\"\",\"\",IF(ISERROR(VLOOKUP(B1386,database!$A$6:$BFQ$206,3,FALSE)),\"\",VLOOKUP(B1386,database!$A$6:$BFQ$206,3,FALSE)))","v":""},null,null,null,null,null,null,""]
["",null,{"$f":"IF(B1387=\"\",\"\",IF(ISERROR(VLOOKUP(B1387,database!$A$6:$BFQ$206,4,FALSE)),\"\",VLOOKUP(B1387,database!$A$6:$BFQ$206,4,FALSE)))","v":""},null,null,null,"",null,null,null,{"$f":"IF(B1387=\"\",\"\",IF(ISERROR(VLOOKUP(B1387,database!$A$6:$BFQ$206,3,FALSE)),\"\",VLOOKUP(B1387,database!$A$6:$BFQ$206,3,FALSE)))","v":""},null,null,null,null,null,null,""]
["",null,{"$f":"IF(B1388=\"\",\"\",IF(ISERROR(VLOOKUP(B1388,database!$A$6:$BFQ$206,4,FALSE)),\"\",VLOOKUP(B1388,database!$A$6:$BFQ$206,4,FALSE)))","v":""},null,null,null,"",null,null,null,{"$f":"IF(B1388=\"\",\"\",IF(ISERROR(VLOOKUP(B1388,database!$A$6:$BFQ$206,3,FALSE)),\"\",VLOOKUP(B1388,database!$A$6:$BFQ$206,3,FALSE)))","v":""},null,null,null,null,null,null,""]
["",null,{"$f":"IF(B1389=\"\",\"\",IF(ISERROR(VLOOKUP(B1389,database!$A$6:$BFQ$206,4,FALSE)),\"\",VLOOKUP(B1389,database!$A$6:$BFQ$206,4,FALSE)))","v":""},null,null,null,"",null,null,null,{"$f":"IF(B1389=\"\",\"\",IF(ISERROR(VLOOKUP(B1389,database!$A$6:$BFQ$206,3,FALSE)),\"\",VLOOKUP(B1389,database!$A$6:$BFQ$206,3,FALSE)))","v":""},null,null,null,null,null,null,""]
["",null,{"$f":"IF(B1390=\"\",\"\",IF(ISERROR(VLOOKUP(B1390,database!$A$6:$BFQ$206,4,FALSE)),\"\",VLOOKUP(B1390,database!$A$6:$BFQ$206,4,FALSE)))","v":""},null,null,null,"",null,null,null,{"$f":"IF(B1390=\"\",\"\",IF(ISERROR(VLOOKUP(B1390,database!$A$6:$BFQ$206,3,FALSE)),\"\",VLOOKUP(B1390,database!$A$6:$BFQ$206,3,FALSE)))","v":""},null,null,null,null,null,null,""]
["",null,{"$f":"IF(B1391=\"\",\"\",IF(ISERROR(VLOOKUP(B1391,database!$A$6:$BFQ$206,4,FALSE)),\"\",VLOOKUP(B1391,database!$A$6:$BFQ$206,4,FALSE)))","v":""},null,null,null,"",null,null,null,{"$f":"IF(B1391=\"\",\"\",IF(ISERROR(VLOOKUP(B1391,database!$A$6:$BFQ$206,3,FALSE)),\"\",VLOOKUP(B1391,database!$A$6:$BFQ$206,3,FALSE)))","v":""},null,null,null,null,null,null,""]
["",null,{"$f":"IF(B1392=\"\",\"\",IF(ISERROR(VLOOKUP(B1392,database!$A$6:$BFQ$206,4,FALSE)),\"\",VLOOKUP(B1392,database!$A$6:$BFQ$206,4,FALSE)))","v":""},null,null,null,"",null,null,null,{"$f":"IF(B1392=\"\",\"\",IF(ISERROR(VLOOKUP(B1392,database!$A$6:$BFQ$206,3,FALSE)),\"\",VLOOKUP(B1392,database!$A$6:$BFQ$206,3,FALSE)))","v":""},null,null,null,null,null,null,""]
["",null,{"$f":"IF(B1393=\"\",\"\",IF(ISERROR(VLOOKUP(B1393,database!$A$6:$BFQ$206,4,FALSE)),\"\",VLOOKUP(B1393,database!$A$6:$BFQ$206,4,FALSE)))","v":""},null,null,null,"",null,null,null,{"$f":"IF(B1393=\"\",\"\",IF(ISERROR(VLOOKUP(B1393,database!$A$6:$BFQ$206,3,FALSE)),\"\",VLOOKUP(B1393,database!$A$6:$BFQ$206,3,FALSE)))","v":""},null,null,null,null,null,null,""]
["",null,{"$f":"IF(B1394=\"\",\"\",IF(ISERROR(VLOOKUP(B1394,database!$A$6:$BFQ$206,4,FALSE)),\"\",VLOOKUP(B1394,database!$A$6:$BFQ$206,4,FALSE)))","v":""},null,null,null,"",null,null,null,{"$f":"IF(B1394=\"\",\"\",IF(ISERROR(VLOOKUP(B1394,database!$A$6:$BFQ$206,3,FALSE)),\"\",VLOOKUP(B1394,database!$A$6:$BFQ$206,3,FALSE)))","v":""},null,null,null,null,null,null,""]
["",null,{"$f":"IF(B1395=\"\",\"\",IF(ISERROR(VLOOKUP(B1395,database!$A$6:$BFQ$206,4,FALSE)),\"\",VLOOKUP(B1395,database!$A$6:$BFQ$206,4,FALSE)))","v":""},null,null,null,"",null,null,null,{"$f":"IF(B1395=\"\",\"\",IF(ISERROR(VLOOKUP(B1395,database!$A$6:$BFQ$206,3,FALSE)),\"\",VLOOKUP(B1395,database!$A$6:$BFQ$206,3,FALSE)))","v":""},null,null,null,null,null,null,""]
["",null,{"$f":"IF(B1396=\"\",\"\",IF(ISERROR(VLOOKUP(B1396,database!$A$6:$BFQ$206,4,FALSE)),\"\",VLOOKUP(B1396,database!$A$6:$BFQ$206,4,FALSE)))","v":""},null,null,null,"",null,null,null,{"$f":"IF(B1396=\"\",\"\",IF(ISERROR(VLOOKUP(B1396,database!$A$6:$BFQ$206,3,FALSE)),\"\",VLOOKUP(B1396,database!$A$6:$BFQ$206,3,FALSE)))","v":""},null,null,null,null,null,null,""]
["",null,{"$f":"IF(B1397=\"\",\"\",IF(ISERROR(VLOOKUP(B1397,database!$A$6:$BFQ$206,4,FALSE)),\"\",VLOOKUP(B1397,database!$A$6:$BFQ$206,4,FALSE)))","v":""},null,null,null,"",null,null,null,{"$f":"IF(B1397=\"\",\"\",IF(ISERROR(VLOOKUP(B1397,database!$A$6:$BFQ$206,3,FALSE)),\"\",VLOOKUP(B1397,database!$A$6:$BFQ$206,3,FALSE)))","v":""},null,null,null,null,null,null,""]
["",null,{"$f":"IF(B1398=\"\",\"\",IF(ISERROR(VLOOKUP(B1398,database!$A$6:$BFQ$206,4,FALSE)),\"\",VLOOKUP(B1398,database!$A$6:$BFQ$206,4,FALSE)))","v":""},null,null,null,"",null,null,null,{"$f":"IF(B1398=\"\",\"\",IF(ISERROR(VLOOKUP(B1398,database!$A$6:$BFQ$206,3,FALSE)),\"\",VLOOKUP(B1398,database!$A$6:$BFQ$206,3,FALSE)))","v":""},null,null,null,null,null,null,""]
["",null,{"$f":"IF(B1399=\"\",\"\",IF(ISERROR(VLOOKUP(B1399,database!$A$6:$BFQ$206,4,FALSE)),\"\",VLOOKUP(B1399,database!$A$6:$BFQ$206,4,FALSE)))","v":""},null,null,null,"",null,null,null,{"$f":"IF(B1399=\"\",\"\",IF(ISERROR(VLOOKUP(B1399,database!$A$6:$BFQ$206,3,FALSE)),\"\",VLOOKUP(B1399,database!$A$6:$BFQ$206,3,FALSE)))","v":""},null,null,null,null,null,null,""]
["",null,{"$f":"IF(B1400=\"\",\"\",IF(ISERROR(VLOOKUP(B1400,database!$A$6:$BFQ$206,4,FALSE)),\"\",VLOOKUP(B1400,database!$A$6:$BFQ$206,4,FALSE)))","v":""},null,null,null,"",null,null,null,{"$f":"IF(B1400=\"\",\"\",IF(ISERROR(VLOOKUP(B1400,database!$A$6:$BFQ$206,3,FALSE)),\"\",VLOOKUP(B1400,database!$A$6:$BFQ$206,3,FALSE)))","v":""},null,null,null,null,null,null,""]
["",null,{"$f":"IF(B1401=\"\",\"\",IF(ISERROR(VLOOKUP(B1401,database!$A$6:$BFQ$206,4,FALSE)),\"\",VLOOKUP(B1401,database!$A$6:$BFQ$206,4,FALSE)))","v":""},null,null,null,"",null,null,null,{"$f":"IF(B1401=\"\",\"\",IF(ISERROR(VLOOKUP(B1401,database!$A$6:$BFQ$206,3,FALSE)),\"\",VLOOKUP(B1401,database!$A$6:$BFQ$206,3,FALSE)))","v":""},null,null,null,null,null,null,""]
["",null,{"$f":"IF(B1402=\"\",\"\",IF(ISERROR(VLOOKUP(B1402,database!$A$6:$BFQ$206,4,FALSE)),\"\",VLOOKUP(B1402,database!$A$6:$BFQ$206,4,FALSE)))","v":""},null,null,null,"",null,null,null,{"$f":"IF(B1402=\"\",\"\",IF(ISERROR(VLOOKUP(B1402,database!$A$6:$BFQ$206,3,FALSE)),\"\",VLOOKUP(B1402,database!$A$6:$BFQ$206,3,FALSE)))","v":""},null,null,null,null,null,null,""]
["",null,{"$f":"IF(B1403=\"\",\"\",IF(ISERROR(VLOOKUP(B1403,database!$A$6:$BFQ$206,4,FALSE)),\"\",VLOOKUP(B1403,database!$A$6:$BFQ$206,4,FALSE)))","v":""},null,null,null,"",null,null,null,{"$f":"IF(B1403=\"\",\"\",IF(ISERROR(VLOOKUP(B1403,database!$A$6:$BFQ$206,3,FALSE)),\"\",VLOOKUP(B1403,database!$A$6:$BFQ$206,3,FALSE)))","v":""},null,null,null,null,null,null,""]
["",null,{"$f":"IF(B1404=\"\",\"\",IF(ISERROR(VLOOKUP(B1404,database!$A$6:$BFQ$206,4,FALSE)),\"\",VLOOKUP(B1404,database!$A$6:$BFQ$206,4,FALSE)))","v":""},null,null,null,"",null,null,null,{"$f":"IF(B1404=\"\",\"\",IF(ISERROR(VLOOKUP(B1404,database!$A$6:$BFQ$206,3,FALSE)),\"\",VLOOKUP(B1404,database!$A$6:$BFQ$206,3,FALSE)))","v":""},null,null,null,null,null,null,""]
["",null,{"$f":"IF(B1405=\"\",\"\",IF(ISERROR(VLOOKUP(B1405,database!$A$6:$BFQ$206,4,FALSE)),\"\",VLOOKUP(B1405,database!$A$6:$BFQ$206,4,FALSE)))","v":""},null,null,null,"",null,null,null,{"$f":"IF(B1405=\"\",\"\",IF(ISERROR(VLOOKUP(B1405,database!$A$6:$BFQ$206,3,FALSE)),\"\",VLOOKUP(B1405,database!$A$6:$BFQ$206,3,FALSE)))","v":""},null,null,null,null,null,null,""]
["",null,{"$f":"IF(B1406=\"\",\"\",IF(ISERROR(VLOOKUP(B1406,database!$A$6:$BFQ$206,4,FALSE)),\"\",VLOOKUP(B1406,database!$A$6:$BFQ$206,4,FALSE)))","v":""},null,null,null,"",null,null,null,{"$f":"IF(B1406=\"\",\"\",IF(ISERROR(VLOOKUP(B1406,database!$A$6:$BFQ$206,3,FALSE)),\"\",VLOOKUP(B1406,database!$A$6:$BFQ$206,3,FALSE)))","v":""},null,null,null,null,null,null,""]
["",null,{"$f":"IF(B1407=\"\",\"\",IF(ISERROR(VLOOKUP(B1407,database!$A$6:$BFQ$206,4,FALSE)),\"\",VLOOKUP(B1407,database!$A$6:$BFQ$206,4,FALSE)))","v":""},null,null,null,"",null,null,null,{"$f":"IF(B1407=\"\",\"\",IF(ISERROR(VLOOKUP(B1407,database!$A$6:$BFQ$206,3,FALSE)),\"\",VLOOKUP(B1407,database!$A$6:$BFQ$206,3,FALSE)))","v":""},null,null,null,null,null,null,""]
["",null,{"$f":"IF(B1408=\"\",\"\",IF(ISERROR(VLOOKUP(B1408,database!$A$6:$BFQ$206,4,FALSE)),\"\",VLOOKUP(B1408,database!$A$6:$BFQ$206,4,FALSE)))","v":""},null,null,null,"",null,null,null,{"$f":"IF(B1408=\"\",\"\",IF(ISERROR(VLOOKUP(B1408,database!$A$6:$BFQ$206,3,FALSE)),\"\",VLOOKUP(B1408,database!$A$6:$BFQ$206,3,FALSE)))","v":""},null,null,null,null,null,null,""]
[{"$f":"IF(B1409=\"\",\"\",ROW(A1406))","v":""},null,{"$f":"IF(B1409=\"\",\"\",IF(ISERROR(VLOOKUP(B1409,database!$A$6:$BFQ$206,4,FALSE)),\"\",VLOOKUP(B1409,database!$A$6:$BFQ$206,4,FALSE)))","v":""},null,null,null,{"$f":"IF(B1409=\"\",\"\",IF(C1409=\"\",0,1))","v":""},null,null,null,{"$f":"IF(B1409=\"\",\"\",IF(ISERROR(VLOOKUP(B1409,database!$A$6:$BFQ$206,3,FALSE)),\"\",VLOOKUP(B1409,database!$A$6:$BFQ$206,3,FALSE)))","v":""},null,null,null,null,null,null,{"$f":"LEFT(C1409,2)","v":""}]
["",null,{"$f":"IF(B1410=\"\",\"\",IF(ISERROR(VLOOKUP(B1410,database!$A$6:$BFQ$206,4,FALSE)),\"\",VLOOKUP(B1410,database!$A$6:$BFQ$206,4,FALSE)))","v":""},null,null,null,"",null,null,null,{"$f":"IF(B1410=\"\",\"\",IF(ISERROR(VLOOKUP(B1410,database!$A$6:$BFQ$206,3,FALSE)),\"\",VLOOKUP(B1410,database!$A$6:$BFQ$206,3,FALSE)))","v":""},null,null,null,null,null,null,""]
["",null,{"$f":"IF(B1411=\"\",\"\",IF(ISERROR(VLOOKUP(B1411,database!$A$6:$BFQ$206,4,FALSE)),\"\",VLOOKUP(B1411,database!$A$6:$BFQ$206,4,FALSE)))","v":""},null,null,null,"",null,null,null,{"$f":"IF(B1411=\"\",\"\",IF(ISERROR(VLOOKUP(B1411,database!$A$6:$BFQ$206,3,FALSE)),\"\",VLOOKUP(B1411,database!$A$6:$BFQ$206,3,FALSE)))","v":""},null,null,null,null,null,null,""]
["",null,{"$f":"IF(B1412=\"\",\"\",IF(ISERROR(VLOOKUP(B1412,database!$A$6:$BFQ$206,4,FALSE)),\"\",VLOOKUP(B1412,database!$A$6:$BFQ$206,4,FALSE)))","v":""},null,null,null,"",null,null,null,{"$f":"IF(B1412=\"\",\"\",IF(ISERROR(VLOOKUP(B1412,database!$A$6:$BFQ$206,3,FALSE)),\"\",VLOOKUP(B1412,database!$A$6:$BFQ$206,3,FALSE)))","v":""},null,null,null,null,null,null,""]
["",null,{"$f":"IF(B1413=\"\",\"\",IF(ISERROR(VLOOKUP(B1413,database!$A$6:$BFQ$206,4,FALSE)),\"\",VLOOKUP(B1413,database!$A$6:$BFQ$206,4,FALSE)))","v":""},null,null,null,"",null,null,null,{"$f":"IF(B1413=\"\",\"\",IF(ISERROR(VLOOKUP(B1413,database!$A$6:$BFQ$206,3,FALSE)),\"\",VLOOKUP(B1413,database!$A$6:$BFQ$206,3,FALSE)))","v":""},null,null,null,null,null,null,""]
["",null,{"$f":"IF(B1414=\"\",\"\",IF(ISERROR(VLOOKUP(B1414,database!$A$6:$BFQ$206,4,FALSE)),\"\",VLOOKUP(B1414,database!$A$6:$BFQ$206,4,FALSE)))","v":""},null,null,null,"",null,null,null,{"$f":"IF(B1414=\"\",\"\",IF(ISERROR(VLOOKUP(B1414,database!$A$6:$BFQ$206,3,FALSE)),\"\",VLOOKUP(B1414,database!$A$6:$BFQ$206,3,FALSE)))","v":""},null,null,null,null,null,null,""]
["",null,{"$f":"IF(B1415=\"\",\"\",IF(ISERROR(VLOOKUP(B1415,database!$A$6:$BFQ$206,4,FALSE)),\"\",VLOOKUP(B1415,database!$A$6:$BFQ$206,4,FALSE)))","v":""},null,null,null,"",null,null,null,{"$f":"IF(B1415=\"\",\"\",IF(ISERROR(VLOOKUP(B1415,database!$A$6:$BFQ$206,3,FALSE)),\"\",VLOOKUP(B1415,database!$A$6:$BFQ$206,3,FALSE)))","v":""},null,null,null,null,null,null,""]
["",null,{"$f":"IF(B1416=\"\",\"\",IF(ISERROR(VLOOKUP(B1416,database!$A$6:$BFQ$206,4,FALSE)),\"\",VLOOKUP(B1416,database!$A$6:$BFQ$206,4,FALSE)))","v":""},null,null,null,"",null,null,null,{"$f":"IF(B1416=\"\",\"\",IF(ISERROR(VLOOKUP(B1416,database!$A$6:$BFQ$206,3,FALSE)),\"\",VLOOKUP(B1416,database!$A$6:$BFQ$206,3,FALSE)))","v":""},null,null,null,null,null,null,""]
["",null,{"$f":"IF(B1417=\"\",\"\",IF(ISERROR(VLOOKUP(B1417,database!$A$6:$BFQ$206,4,FALSE)),\"\",VLOOKUP(B1417,database!$A$6:$BFQ$206,4,FALSE)))","v":""},null,null,null,"",null,null,null,{"$f":"IF(B1417=\"\",\"\",IF(ISERROR(VLOOKUP(B1417,database!$A$6:$BFQ$206,3,FALSE)),\"\",VLOOKUP(B1417,database!$A$6:$BFQ$206,3,FALSE)))","v":""},null,null,null,null,null,null,""]
["",null,{"$f":"IF(B1418=\"\",\"\",IF(ISERROR(VLOOKUP(B1418,database!$A$6:$BFQ$206,4,FALSE)),\"\",VLOOKUP(B1418,database!$A$6:$BFQ$206,4,FALSE)))","v":""},null,null,null,"",null,null,null,{"$f":"IF(B1418=\"\",\"\",IF(ISERROR(VLOOKUP(B1418,database!$A$6:$BFQ$206,3,FALSE)),\"\",VLOOKUP(B1418,database!$A$6:$BFQ$206,3,FALSE)))","v":""},null,null,null,null,null,null,""]
["",null,{"$f":"IF(B1419=\"\",\"\",IF(ISERROR(VLOOKUP(B1419,database!$A$6:$BFQ$206,4,FALSE)),\"\",VLOOKUP(B1419,database!$A$6:$BFQ$206,4,FALSE)))","v":""},null,null,null,"",null,null,null,{"$f":"IF(B1419=\"\",\"\",IF(ISERROR(VLOOKUP(B1419,database!$A$6:$BFQ$206,3,FALSE)),\"\",VLOOKUP(B1419,database!$A$6:$BFQ$206,3,FALSE)))","v":""},null,null,null,null,null,null,""]
["",null,{"$f":"IF(B1420=\"\",\"\",IF(ISERROR(VLOOKUP(B1420,database!$A$6:$BFQ$206,4,FALSE)),\"\",VLOOKUP(B1420,database!$A$6:$BFQ$206,4,FALSE)))","v":""},null,null,null,"",null,null,null,{"$f":"IF(B1420=\"\",\"\",IF(ISERROR(VLOOKUP(B1420,database!$A$6:$BFQ$206,3,FALSE)),\"\",VLOOKUP(B1420,database!$A$6:$BFQ$206,3,FALSE)))","v":""},null,null,null,null,null,null,""]
["",null,{"$f":"IF(B1421=\"\",\"\",IF(ISERROR(VLOOKUP(B1421,database!$A$6:$BFQ$206,4,FALSE)),\"\",VLOOKUP(B1421,database!$A$6:$BFQ$206,4,FALSE)))","v":""},null,null,null,"",null,null,null,{"$f":"IF(B1421=\"\",\"\",IF(ISERROR(VLOOKUP(B1421,database!$A$6:$BFQ$206,3,FALSE)),\"\",VLOOKUP(B1421,database!$A$6:$BFQ$206,3,FALSE)))","v":""},null,null,null,null,null,null,""]
["",null,{"$f":"IF(B1422=\"\",\"\",IF(ISERROR(VLOOKUP(B1422,database!$A$6:$BFQ$206,4,FALSE)),\"\",VLOOKUP(B1422,database!$A$6:$BFQ$206,4,FALSE)))","v":""},null,null,null,"",null,null,null,{"$f":"IF(B1422=\"\",\"\",IF(ISERROR(VLOOKUP(B1422,database!$A$6:$BFQ$206,3,FALSE)),\"\",VLOOKUP(B1422,database!$A$6:$BFQ$206,3,FALSE)))","v":""},null,null,null,null,null,null,""]
["",null,{"$f":"IF(B1423=\"\",\"\",IF(ISERROR(VLOOKUP(B1423,database!$A$6:$BFQ$206,4,FALSE)),\"\",VLOOKUP(B1423,database!$A$6:$BFQ$206,4,FALSE)))","v":""},null,null,null,"",null,null,null,{"$f":"IF(B1423=\"\",\"\",IF(ISERROR(VLOOKUP(B1423,database!$A$6:$BFQ$206,3,FALSE)),\"\",VLOOKUP(B1423,database!$A$6:$BFQ$206,3,FALSE)))","v":""},null,null,null,null,null,null,""]
["",null,{"$f":"IF(B1424=\"\",\"\",IF(ISERROR(VLOOKUP(B1424,database!$A$6:$BFQ$206,4,FALSE)),\"\",VLOOKUP(B1424,database!$A$6:$BFQ$206,4,FALSE)))","v":""},null,null,null,"",null,null,null,{"$f":"IF(B1424=\"\",\"\",IF(ISERROR(VLOOKUP(B1424,database!$A$6:$BFQ$206,3,FALSE)),\"\",VLOOKUP(B1424,database!$A$6:$BFQ$206,3,FALSE)))","v":""},null,null,null,null,null,null,""]
["",null,{"$f":"IF(B1425=\"\",\"\",IF(ISERROR(VLOOKUP(B1425,database!$A$6:$BFQ$206,4,FALSE)),\"\",VLOOKUP(B1425,database!$A$6:$BFQ$206,4,FALSE)))","v":""},null,null,null,"",null,null,null,{"$f":"IF(B1425=\"\",\"\",IF(ISERROR(VLOOKUP(B1425,database!$A$6:$BFQ$206,3,FALSE)),\"\",VLOOKUP(B1425,database!$A$6:$BFQ$206,3,FALSE)))","v":""},null,null,null,null,null,null,""]
["",null,{"$f":"IF(B1426=\"\",\"\",IF(ISERROR(VLOOKUP(B1426,database!$A$6:$BFQ$206,4,FALSE)),\"\",VLOOKUP(B1426,database!$A$6:$BFQ$206,4,FALSE)))","v":""},null,null,null,"",null,null,null,{"$f":"IF(B1426=\"\",\"\",IF(ISERROR(VLOOKUP(B1426,database!$A$6:$BFQ$206,3,FALSE)),\"\",VLOOKUP(B1426,database!$A$6:$BFQ$206,3,FALSE)))","v":""},null,null,null,null,null,null,""]
["",null,{"$f":"IF(B1427=\"\",\"\",IF(ISERROR(VLOOKUP(B1427,database!$A$6:$BFQ$206,4,FALSE)),\"\",VLOOKUP(B1427,database!$A$6:$BFQ$206,4,FALSE)))","v":""},null,null,null,"",null,null,null,{"$f":"IF(B1427=\"\",\"\",IF(ISERROR(VLOOKUP(B1427,database!$A$6:$BFQ$206,3,FALSE)),\"\",VLOOKUP(B1427,database!$A$6:$BFQ$206,3,FALSE)))","v":""},null,null,null,null,null,null,""]
["",null,{"$f":"IF(B1428=\"\",\"\",IF(ISERROR(VLOOKUP(B1428,database!$A$6:$BFQ$206,4,FALSE)),\"\",VLOOKUP(B1428,database!$A$6:$BFQ$206,4,FALSE)))","v":""},null,null,null,"",null,null,null,{"$f":"IF(B1428=\"\",\"\",IF(ISERROR(VLOOKUP(B1428,database!$A$6:$BFQ$206,3,FALSE)),\"\",VLOOKUP(B1428,database!$A$6:$BFQ$206,3,FALSE)))","v":""},null,null,null,null,null,null,""]
["",null,{"$f":"IF(B1429=\"\",\"\",IF(ISERROR(VLOOKUP(B1429,database!$A$6:$BFQ$206,4,FALSE)),\"\",VLOOKUP(B1429,database!$A$6:$BFQ$206,4,FALSE)))","v":""},null,null,null,"",null,null,null,{"$f":"IF(B1429=\"\",\"\",IF(ISERROR(VLOOKUP(B1429,database!$A$6:$BFQ$206,3,FALSE)),\"\",VLOOKUP(B1429,database!$A$6:$BFQ$206,3,FALSE)))","v":""},null,null,null,null,null,null,""]
["",null,{"$f":"IF(B1430=\"\",\"\",IF(ISERROR(VLOOKUP(B1430,database!$A$6:$BFQ$206,4,FALSE)),\"\",VLOOKUP(B1430,database!$A$6:$BFQ$206,4,FALSE)))","v":""},null,null,null,"",null,null,null,{"$f":"IF(B1430=\"\",\"\",IF(ISERROR(VLOOKUP(B1430,database!$A$6:$BFQ$206,3,FALSE)),\"\",VLOOKUP(B1430,database!$A$6:$BFQ$206,3,FALSE)))","v":""},null,null,null,null,null,null,""]
["",null,{"$f":"IF(B1431=\"\",\"\",IF(ISERROR(VLOOKUP(B1431,database!$A$6:$BFQ$206,4,FALSE)),\"\",VLOOKUP(B1431,database!$A$6:$BFQ$206,4,FALSE)))","v":""},null,null,null,"",null,null,null,{"$f":"IF(B1431=\"\",\"\",IF(ISERROR(VLOOKUP(B1431,database!$A$6:$BFQ$206,3,FALSE)),\"\",VLOOKUP(B1431,database!$A$6:$BFQ$206,3,FALSE)))","v":""},null,null,null,null,null,null,""]
["",null,{"$f":"IF(B1432=\"\",\"\",IF(ISERROR(VLOOKUP(B1432,database!$A$6:$BFQ$206,4,FALSE)),\"\",VLOOKUP(B1432,database!$A$6:$BFQ$206,4,FALSE)))","v":""},null,null,null,"",null,null,null,{"$f":"IF(B1432=\"\",\"\",IF(ISERROR(VLOOKUP(B1432,database!$A$6:$BFQ$206,3,FALSE)),\"\",VLOOKUP(B1432,database!$A$6:$BFQ$206,3,FALSE)))","v":""},null,null,null,null,null,null,""]
["",null,{"$f":"IF(B1433=\"\",\"\",IF(ISERROR(VLOOKUP(B1433,database!$A$6:$BFQ$206,4,FALSE)),\"\",VLOOKUP(B1433,database!$A$6:$BFQ$206,4,FALSE)))","v":""},null,null,null,"",null,null,null,{"$f":"IF(B1433=\"\",\"\",IF(ISERROR(VLOOKUP(B1433,database!$A$6:$BFQ$206,3,FALSE)),\"\",VLOOKUP(B1433,database!$A$6:$BFQ$206,3,FALSE)))","v":""},null,null,null,null,null,null,""]
["",null,{"$f":"IF(B1434=\"\",\"\",IF(ISERROR(VLOOKUP(B1434,database!$A$6:$BFQ$206,4,FALSE)),\"\",VLOOKUP(B1434,database!$A$6:$BFQ$206,4,FALSE)))","v":""},null,null,null,"",null,null,null,{"$f":"IF(B1434=\"\",\"\",IF(ISERROR(VLOOKUP(B1434,database!$A$6:$BFQ$206,3,FALSE)),\"\",VLOOKUP(B1434,database!$A$6:$BFQ$206,3,FALSE)))","v":""},null,null,null,null,null,null,""]
["",null,{"$f":"IF(B1435=\"\",\"\",IF(ISERROR(VLOOKUP(B1435,database!$A$6:$BFQ$206,4,FALSE)),\"\",VLOOKUP(B1435,database!$A$6:$BFQ$206,4,FALSE)))","v":""},null,null,null,"",null,null,null,{"$f":"IF(B1435=\"\",\"\",IF(ISERROR(VLOOKUP(B1435,database!$A$6:$BFQ$206,3,FALSE)),\"\",VLOOKUP(B1435,database!$A$6:$BFQ$206,3,FALSE)))","v":""},null,null,null,null,null,null,""]
["",null,{"$f":"IF(B1436=\"\",\"\",IF(ISERROR(VLOOKUP(B1436,database!$A$6:$BFQ$206,4,FALSE)),\"\",VLOOKUP(B1436,database!$A$6:$BFQ$206,4,FALSE)))","v":""},null,null,null,"",null,null,null,{"$f":"IF(B1436=\"\",\"\",IF(ISERROR(VLOOKUP(B1436,database!$A$6:$BFQ$206,3,FALSE)),\"\",VLOOKUP(B1436,database!$A$6:$BFQ$206,3,FALSE)))","v":""},null,null,null,null,null,null,""]
["",null,{"$f":"IF(B1437=\"\",\"\",IF(ISERROR(VLOOKUP(B1437,database!$A$6:$BFQ$206,4,FALSE)),\"\",VLOOKUP(B1437,database!$A$6:$BFQ$206,4,FALSE)))","v":""},null,null,null,"",null,null,null,{"$f":"IF(B1437=\"\",\"\",IF(ISERROR(VLOOKUP(B1437,database!$A$6:$BFQ$206,3,FALSE)),\"\",VLOOKUP(B1437,database!$A$6:$BFQ$206,3,FALSE)))","v":""},null,null,null,null,null,null,""]
["",null,{"$f":"IF(B1438=\"\",\"\",IF(ISERROR(VLOOKUP(B1438,database!$A$6:$BFQ$206,4,FALSE)),\"\",VLOOKUP(B1438,database!$A$6:$BFQ$206,4,FALSE)))","v":""},null,null,null,"",null,null,null,{"$f":"IF(B1438=\"\",\"\",IF(ISERROR(VLOOKUP(B1438,database!$A$6:$BFQ$206,3,FALSE)),\"\",VLOOKUP(B1438,database!$A$6:$BFQ$206,3,FALSE)))","v":""},null,null,null,null,null,null,""]
["",null,{"$f":"IF(B1439=\"\",\"\",IF(ISERROR(VLOOKUP(B1439,database!$A$6:$BFQ$206,4,FALSE)),\"\",VLOOKUP(B1439,database!$A$6:$BFQ$206,4,FALSE)))","v":""},null,null,null,"",null,null,null,{"$f":"IF(B1439=\"\",\"\",IF(ISERROR(VLOOKUP(B1439,database!$A$6:$BFQ$206,3,FALSE)),\"\",VLOOKUP(B1439,database!$A$6:$BFQ$206,3,FALSE)))","v":""},null,null,null,null,null,null,""]
["",null,{"$f":"IF(B1440=\"\",\"\",IF(ISERROR(VLOOKUP(B1440,database!$A$6:$BFQ$206,4,FALSE)),\"\",VLOOKUP(B1440,database!$A$6:$BFQ$206,4,FALSE)))","v":""},null,null,null,"",null,null,null,{"$f":"IF(B1440=\"\",\"\",IF(ISERROR(VLOOKUP(B1440,database!$A$6:$BFQ$206,3,FALSE)),\"\",VLOOKUP(B1440,database!$A$6:$BFQ$206,3,FALSE)))","v":""},null,null,null,null,null,null,""]
["",null,{"$f":"IF(B1441=\"\",\"\",IF(ISERROR(VLOOKUP(B1441,database!$A$6:$BFQ$206,4,FALSE)),\"\",VLOOKUP(B1441,database!$A$6:$BFQ$206,4,FALSE)))","v":""},null,null,null,"",null,null,null,{"$f":"IF(B1441=\"\",\"\",IF(ISERROR(VLOOKUP(B1441,database!$A$6:$BFQ$206,3,FALSE)),\"\",VLOOKUP(B1441,database!$A$6:$BFQ$206,3,FALSE)))","v":""},null,null,null,null,null,null,""]
["",null,{"$f":"IF(B1442=\"\",\"\",IF(ISERROR(VLOOKUP(B1442,database!$A$6:$BFQ$206,4,FALSE)),\"\",VLOOKUP(B1442,database!$A$6:$BFQ$206,4,FALSE)))","v":""},null,null,null,"",null,null,null,{"$f":"IF(B1442=\"\",\"\",IF(ISERROR(VLOOKUP(B1442,database!$A$6:$BFQ$206,3,FALSE)),\"\",VLOOKUP(B1442,database!$A$6:$BFQ$206,3,FALSE)))","v":""},null,null,null,null,null,null,""]
["",null,{"$f":"IF(B1443=\"\",\"\",IF(ISERROR(VLOOKUP(B1443,database!$A$6:$BFQ$206,4,FALSE)),\"\",VLOOKUP(B1443,database!$A$6:$BFQ$206,4,FALSE)))","v":""},null,null,null,"",null,null,null,{"$f":"IF(B1443=\"\",\"\",IF(ISERROR(VLOOKUP(B1443,database!$A$6:$BFQ$206,3,FALSE)),\"\",VLOOKUP(B1443,database!$A$6:$BFQ$206,3,FALSE)))","v":""},null,null,null,null,null,null,""]
["",null,{"$f":"IF(B1444=\"\",\"\",IF(ISERROR(VLOOKUP(B1444,database!$A$6:$BFQ$206,4,FALSE)),\"\",VLOOKUP(B1444,database!$A$6:$BFQ$206,4,FALSE)))","v":""},null,null,null,"",null,null,null,{"$f":"IF(B1444=\"\",\"\",IF(ISERROR(VLOOKUP(B1444,database!$A$6:$BFQ$206,3,FALSE)),\"\",VLOOKUP(B1444,database!$A$6:$BFQ$206,3,FALSE)))","v":""},null,null,null,null,null,null,""]
["",null,{"$f":"IF(B1445=\"\",\"\",IF(ISERROR(VLOOKUP(B1445,database!$A$6:$BFQ$206,4,FALSE)),\"\",VLOOKUP(B1445,database!$A$6:$BFQ$206,4,FALSE)))","v":""},null,null,null,"",null,null,null,{"$f":"IF(B1445=\"\",\"\",IF(ISERROR(VLOOKUP(B1445,database!$A$6:$BFQ$206,3,FALSE)),\"\",VLOOKUP(B1445,database!$A$6:$BFQ$206,3,FALSE)))","v":""},null,null,null,null,null,null,""]
["",null,{"$f":"IF(B1446=\"\",\"\",IF(ISERROR(VLOOKUP(B1446,database!$A$6:$BFQ$206,4,FALSE)),\"\",VLOOKUP(B1446,database!$A$6:$BFQ$206,4,FALSE)))","v":""},null,null,null,"",null,null,null,{"$f":"IF(B1446=\"\",\"\",IF(ISERROR(VLOOKUP(B1446,database!$A$6:$BFQ$206,3,FALSE)),\"\",VLOOKUP(B1446,database!$A$6:$BFQ$206,3,FALSE)))","v":""},null,null,null,null,null,null,""]
["",null,{"$f":"IF(B1447=\"\",\"\",IF(ISERROR(VLOOKUP(B1447,database!$A$6:$BFQ$206,4,FALSE)),\"\",VLOOKUP(B1447,database!$A$6:$BFQ$206,4,FALSE)))","v":""},null,null,null,"",null,null,null,{"$f":"IF(B1447=\"\",\"\",IF(ISERROR(VLOOKUP(B1447,database!$A$6:$BFQ$206,3,FALSE)),\"\",VLOOKUP(B1447,database!$A$6:$BFQ$206,3,FALSE)))","v":""},null,null,null,null,null,null,""]
["",null,{"$f":"IF(B1448=\"\",\"\",IF(ISERROR(VLOOKUP(B1448,database!$A$6:$BFQ$206,4,FALSE)),\"\",VLOOKUP(B1448,database!$A$6:$BFQ$206,4,FALSE)))","v":""},null,null,null,"",null,null,null,{"$f":"IF(B1448=\"\",\"\",IF(ISERROR(VLOOKUP(B1448,database!$A$6:$BFQ$206,3,FALSE)),\"\",VLOOKUP(B1448,database!$A$6:$BFQ$206,3,FALSE)))","v":""},null,null,null,null,null,null,""]
["",null,{"$f":"IF(B1449=\"\",\"\",IF(ISERROR(VLOOKUP(B1449,database!$A$6:$BFQ$206,4,FALSE)),\"\",VLOOKUP(B1449,database!$A$6:$BFQ$206,4,FALSE)))","v":""},null,null,null,"",null,null,null,{"$f":"IF(B1449=\"\",\"\",IF(ISERROR(VLOOKUP(B1449,database!$A$6:$BFQ$206,3,FALSE)),\"\",VLOOKUP(B1449,database!$A$6:$BFQ$206,3,FALSE)))","v":""},null,null,null,null,null,null,""]
["",null,{"$f":"IF(B1450=\"\",\"\",IF(ISERROR(VLOOKUP(B1450,database!$A$6:$BFQ$206,4,FALSE)),\"\",VLOOKUP(B1450,database!$A$6:$BFQ$206,4,FALSE)))","v":""},null,null,null,"",null,null,null,{"$f":"IF(B1450=\"\",\"\",IF(ISERROR(VLOOKUP(B1450,database!$A$6:$BFQ$206,3,FALSE)),\"\",VLOOKUP(B1450,database!$A$6:$BFQ$206,3,FALSE)))","v":""},null,null,null,null,null,null,""]
["",null,{"$f":"IF(B1451=\"\",\"\",IF(ISERROR(VLOOKUP(B1451,database!$A$6:$BFQ$206,4,FALSE)),\"\",VLOOKUP(B1451,database!$A$6:$BFQ$206,4,FALSE)))","v":""},null,null,null,"",null,null,null,{"$f":"IF(B1451=\"\",\"\",IF(ISERROR(VLOOKUP(B1451,database!$A$6:$BFQ$206,3,FALSE)),\"\",VLOOKUP(B1451,database!$A$6:$BFQ$206,3,FALSE)))","v":""},null,null,null,null,null,null,""]
["",null,{"$f":"IF(B1452=\"\",\"\",IF(ISERROR(VLOOKUP(B1452,database!$A$6:$BFQ$206,4,FALSE)),\"\",VLOOKUP(B1452,database!$A$6:$BFQ$206,4,FALSE)))","v":""},null,null,null,"",null,null,null,{"$f":"IF(B1452=\"\",\"\",IF(ISERROR(VLOOKUP(B1452,database!$A$6:$BFQ$206,3,FALSE)),\"\",VLOOKUP(B1452,database!$A$6:$BFQ$206,3,FALSE)))","v":""},null,null,null,null,null,null,""]
["",null,{"$f":"IF(B1453=\"\",\"\",IF(ISERROR(VLOOKUP(B1453,database!$A$6:$BFQ$206,4,FALSE)),\"\",VLOOKUP(B1453,database!$A$6:$BFQ$206,4,FALSE)))","v":""},null,null,null,"",null,null,null,{"$f":"IF(B1453=\"\",\"\",IF(ISERROR(VLOOKUP(B1453,database!$A$6:$BFQ$206,3,FALSE)),\"\",VLOOKUP(B1453,database!$A$6:$BFQ$206,3,FALSE)))","v":""},null,null,null,null,null,null,""]
["",null,{"$f":"IF(B1454=\"\",\"\",IF(ISERROR(VLOOKUP(B1454,database!$A$6:$BFQ$206,4,FALSE)),\"\",VLOOKUP(B1454,database!$A$6:$BFQ$206,4,FALSE)))","v":""},null,null,null,"",null,null,null,{"$f":"IF(B1454=\"\",\"\",IF(ISERROR(VLOOKUP(B1454,database!$A$6:$BFQ$206,3,FALSE)),\"\",VLOOKUP(B1454,database!$A$6:$BFQ$206,3,FALSE)))","v":""},null,null,null,null,null,null,""]
["",null,{"$f":"IF(B1455=\"\",\"\",IF(ISERROR(VLOOKUP(B1455,database!$A$6:$BFQ$206,4,FALSE)),\"\",VLOOKUP(B1455,database!$A$6:$BFQ$206,4,FALSE)))","v":""},null,null,null,"",null,null,null,{"$f":"IF(B1455=\"\",\"\",IF(ISERROR(VLOOKUP(B1455,database!$A$6:$BFQ$206,3,FALSE)),\"\",VLOOKUP(B1455,database!$A$6:$BFQ$206,3,FALSE)))","v":""},null,null,null,null,null,null,""]
["",null,{"$f":"IF(B1456=\"\",\"\",IF(ISERROR(VLOOKUP(B1456,database!$A$6:$BFQ$206,4,FALSE)),\"\",VLOOKUP(B1456,database!$A$6:$BFQ$206,4,FALSE)))","v":""},null,null,null,"",null,null,null,{"$f":"IF(B1456=\"\",\"\",IF(ISERROR(VLOOKUP(B1456,database!$A$6:$BFQ$206,3,FALSE)),\"\",VLOOKUP(B1456,database!$A$6:$BFQ$206,3,FALSE)))","v":""},null,null,null,null,null,null,""]
["",null,{"$f":"IF(B1457=\"\",\"\",IF(ISERROR(VLOOKUP(B1457,database!$A$6:$BFQ$206,4,FALSE)),\"\",VLOOKUP(B1457,database!$A$6:$BFQ$206,4,FALSE)))","v":""},null,null,null,"",null,null,null,{"$f":"IF(B1457=\"\",\"\",IF(ISERROR(VLOOKUP(B1457,database!$A$6:$BFQ$206,3,FALSE)),\"\",VLOOKUP(B1457,database!$A$6:$BFQ$206,3,FALSE)))","v":""},null,null,null,null,null,null,""]
["",null,{"$f":"IF(B1458=\"\",\"\",IF(ISERROR(VLOOKUP(B1458,database!$A$6:$BFQ$206,4,FALSE)),\"\",VLOOKUP(B1458,database!$A$6:$BFQ$206,4,FALSE)))","v":""},null,null,null,"",null,null,null,{"$f":"IF(B1458=\"\",\"\",IF(ISERROR(VLOOKUP(B1458,database!$A$6:$BFQ$206,3,FALSE)),\"\",VLOOKUP(B1458,database!$A$6:$BFQ$206,3,FALSE)))","v":""},null,null,null,null,null,null,""]
["",null,{"$f":"IF(B1459=\"\",\"\",IF(ISERROR(VLOOKUP(B1459,database!$A$6:$BFQ$206,4,FALSE)),\"\",VLOOKUP(B1459,database!$A$6:$BFQ$206,4,FALSE)))","v":""},null,null,null,"",null,null,null,{"$f":"IF(B1459=\"\",\"\",IF(ISERROR(VLOOKUP(B1459,database!$A$6:$BFQ$206,3,FALSE)),\"\",VLOOKUP(B1459,database!$A$6:$BFQ$206,3,FALSE)))","v":""},null,null,null,null,null,null,""]
["",null,{"$f":"IF(B1460=\"\",\"\",IF(ISERROR(VLOOKUP(B1460,database!$A$6:$BFQ$206,4,FALSE)),\"\",VLOOKUP(B1460,database!$A$6:$BFQ$206,4,FALSE)))","v":""},null,null,null,"",null,null,null,{"$f":"IF(B1460=\"\",\"\",IF(ISERROR(VLOOKUP(B1460,database!$A$6:$BFQ$206,3,FALSE)),\"\",VLOOKUP(B1460,database!$A$6:$BFQ$206,3,FALSE)))","v":""},null,null,null,null,null,null,""]
["",null,{"$f":"IF(B1461=\"\",\"\",IF(ISERROR(VLOOKUP(B1461,database!$A$6:$BFQ$206,4,FALSE)),\"\",VLOOKUP(B1461,database!$A$6:$BFQ$206,4,FALSE)))","v":""},null,null,null,"",null,null,null,{"$f":"IF(B1461=\"\",\"\",IF(ISERROR(VLOOKUP(B1461,database!$A$6:$BFQ$206,3,FALSE)),\"\",VLOOKUP(B1461,database!$A$6:$BFQ$206,3,FALSE)))","v":""},null,null,null,null,null,null,""]
["",null,{"$f":"IF(B1462=\"\",\"\",IF(ISERROR(VLOOKUP(B1462,database!$A$6:$BFQ$206,4,FALSE)),\"\",VLOOKUP(B1462,database!$A$6:$BFQ$206,4,FALSE)))","v":""},null,null,null,"",null,null,null,{"$f":"IF(B1462=\"\",\"\",IF(ISERROR(VLOOKUP(B1462,database!$A$6:$BFQ$206,3,FALSE)),\"\",VLOOKUP(B1462,database!$A$6:$BFQ$206,3,FALSE)))","v":""},null,null,null,null,null,null,""]
["",null,{"$f":"IF(B1463=\"\",\"\",IF(ISERROR(VLOOKUP(B1463,database!$A$6:$BFQ$206,4,FALSE)),\"\",VLOOKUP(B1463,database!$A$6:$BFQ$206,4,FALSE)))","v":""},null,null,null,"",null,null,null,{"$f":"IF(B1463=\"\",\"\",IF(ISERROR(VLOOKUP(B1463,database!$A$6:$BFQ$206,3,FALSE)),\"\",VLOOKUP(B1463,database!$A$6:$BFQ$206,3,FALSE)))","v":""},null,null,null,null,null,null,""]
["",null,{"$f":"IF(B1464=\"\",\"\",IF(ISERROR(VLOOKUP(B1464,database!$A$6:$BFQ$206,4,FALSE)),\"\",VLOOKUP(B1464,database!$A$6:$BFQ$206,4,FALSE)))","v":""},null,null,null,"",null,null,null,{"$f":"IF(B1464=\"\",\"\",IF(ISERROR(VLOOKUP(B1464,database!$A$6:$BFQ$206,3,FALSE)),\"\",VLOOKUP(B1464,database!$A$6:$BFQ$206,3,FALSE)))","v":""},null,null,null,null,null,null,""]
["",null,{"$f":"IF(B1465=\"\",\"\",IF(ISERROR(VLOOKUP(B1465,database!$A$6:$BFQ$206,4,FALSE)),\"\",VLOOKUP(B1465,database!$A$6:$BFQ$206,4,FALSE)))","v":""},null,null,null,"",null,null,null,{"$f":"IF(B1465=\"\",\"\",IF(ISERROR(VLOOKUP(B1465,database!$A$6:$BFQ$206,3,FALSE)),\"\",VLOOKUP(B1465,database!$A$6:$BFQ$206,3,FALSE)))","v":""},null,null,null,null,null,null,""]
["",null,{"$f":"IF(B1466=\"\",\"\",IF(ISERROR(VLOOKUP(B1466,database!$A$6:$BFQ$206,4,FALSE)),\"\",VLOOKUP(B1466,database!$A$6:$BFQ$206,4,FALSE)))","v":""},null,null,null,"",null,null,null,{"$f":"IF(B1466=\"\",\"\",IF(ISERROR(VLOOKUP(B1466,database!$A$6:$BFQ$206,3,FALSE)),\"\",VLOOKUP(B1466,database!$A$6:$BFQ$206,3,FALSE)))","v":""},null,null,null,null,null,null,""]
["",null,{"$f":"IF(B1467=\"\",\"\",IF(ISERROR(VLOOKUP(B1467,database!$A$6:$BFQ$206,4,FALSE)),\"\",VLOOKUP(B1467,database!$A$6:$BFQ$206,4,FALSE)))","v":""},null,null,null,"",null,null,null,{"$f":"IF(B1467=\"\",\"\",IF(ISERROR(VLOOKUP(B1467,database!$A$6:$BFQ$206,3,FALSE)),\"\",VLOOKUP(B1467,database!$A$6:$BFQ$206,3,FALSE)))","v":""},null,null,null,null,null,null,""]
["",null,{"$f":"IF(B1468=\"\",\"\",IF(ISERROR(VLOOKUP(B1468,database!$A$6:$BFQ$206,4,FALSE)),\"\",VLOOKUP(B1468,database!$A$6:$BFQ$206,4,FALSE)))","v":""},null,null,null,"",null,null,null,{"$f":"IF(B1468=\"\",\"\",IF(ISERROR(VLOOKUP(B1468,database!$A$6:$BFQ$206,3,FALSE)),\"\",VLOOKUP(B1468,database!$A$6:$BFQ$206,3,FALSE)))","v":""},null,null,null,null,null,null,""]
["",null,{"$f":"IF(B1469=\"\",\"\",IF(ISERROR(VLOOKUP(B1469,database!$A$6:$BFQ$206,4,FALSE)),\"\",VLOOKUP(B1469,database!$A$6:$BFQ$206,4,FALSE)))","v":""},null,null,null,"",null,null,null,{"$f":"IF(B1469=\"\",\"\",IF(ISERROR(VLOOKUP(B1469,database!$A$6:$BFQ$206,3,FALSE)),\"\",VLOOKUP(B1469,database!$A$6:$BFQ$206,3,FALSE)))","v":""},null,null,null,null,null,null,""]
["",null,{"$f":"IF(B1470=\"\",\"\",IF(ISERROR(VLOOKUP(B1470,database!$A$6:$BFQ$206,4,FALSE)),\"\",VLOOKUP(B1470,database!$A$6:$BFQ$206,4,FALSE)))","v":""},null,null,null,"",null,null,null,{"$f":"IF(B1470=\"\",\"\",IF(ISERROR(VLOOKUP(B1470,database!$A$6:$BFQ$206,3,FALSE)),\"\",VLOOKUP(B1470,database!$A$6:$BFQ$206,3,FALSE)))","v":""},null,null,null,null,null,null,""]
["",null,{"$f":"IF(B1471=\"\",\"\",IF(ISERROR(VLOOKUP(B1471,database!$A$6:$BFQ$206,4,FALSE)),\"\",VLOOKUP(B1471,database!$A$6:$BFQ$206,4,FALSE)))","v":""},null,null,null,"",null,null,null,{"$f":"IF(B1471=\"\",\"\",IF(ISERROR(VLOOKUP(B1471,database!$A$6:$BFQ$206,3,FALSE)),\"\",VLOOKUP(B1471,database!$A$6:$BFQ$206,3,FALSE)))","v":""},null,null,null,null,null,null,""]
["",null,{"$f":"IF(B1472=\"\",\"\",IF(ISERROR(VLOOKUP(B1472,database!$A$6:$BFQ$206,4,FALSE)),\"\",VLOOKUP(B1472,database!$A$6:$BFQ$206,4,FALSE)))","v":""},null,null,null,"",null,null,null,{"$f":"IF(B1472=\"\",\"\",IF(ISERROR(VLOOKUP(B1472,database!$A$6:$BFQ$206,3,FALSE)),\"\",VLOOKUP(B1472,database!$A$6:$BFQ$206,3,FALSE)))","v":""},null,null,null,null,null,null,""]
[{"$f":"IF(B1473=\"\",\"\",ROW(A1470))","v":""},null,{"$f":"IF(B1473=\"\",\"\",IF(ISERROR(VLOOKUP(B1473,database!$A$6:$BFQ$206,4,FALSE)),\"\",VLOOKUP(B1473,database!$A$6:$BFQ$206,4,FALSE)))","v":""},null,null,null,{"$f":"IF(B1473=\"\",\"\",IF(C1473=\"\",0,1))","v":""},null,null,null,{"$f":"IF(B1473=\"\",\"\",IF(ISERROR(VLOOKUP(B1473,database!$A$6:$BFQ$206,3,FALSE)),\"\",VLOOKUP(B1473,database!$A$6:$BFQ$206,3,FALSE)))","v":""},null,null,null,null,null,null,{"$f":"LEFT(C1473,2)","v":""}]
["",null,{"$f":"IF(B1474=\"\",\"\",IF(ISERROR(VLOOKUP(B1474,database!$A$6:$BFQ$206,4,FALSE)),\"\",VLOOKUP(B1474,database!$A$6:$BFQ$206,4,FALSE)))","v":""},null,null,null,"",null,null,null,{"$f":"IF(B1474=\"\",\"\",IF(ISERROR(VLOOKUP(B1474,database!$A$6:$BFQ$206,3,FALSE)),\"\",VLOOKUP(B1474,database!$A$6:$BFQ$206,3,FALSE)))","v":""},null,null,null,null,null,null,""]
["",null,{"$f":"IF(B1475=\"\",\"\",IF(ISERROR(VLOOKUP(B1475,database!$A$6:$BFQ$206,4,FALSE)),\"\",VLOOKUP(B1475,database!$A$6:$BFQ$206,4,FALSE)))","v":""},null,null,null,"",null,null,null,{"$f":"IF(B1475=\"\",\"\",IF(ISERROR(VLOOKUP(B1475,database!$A$6:$BFQ$206,3,FALSE)),\"\",VLOOKUP(B1475,database!$A$6:$BFQ$206,3,FALSE)))","v":""},null,null,null,null,null,null,""]
["",null,{"$f":"IF(B1476=\"\",\"\",IF(ISERROR(VLOOKUP(B1476,database!$A$6:$BFQ$206,4,FALSE)),\"\",VLOOKUP(B1476,database!$A$6:$BFQ$206,4,FALSE)))","v":""},null,null,null,"",null,null,null,{"$f":"IF(B1476=\"\",\"\",IF(ISERROR(VLOOKUP(B1476,database!$A$6:$BFQ$206,3,FALSE)),\"\",VLOOKUP(B1476,database!$A$6:$BFQ$206,3,FALSE)))","v":""},null,null,null,null,null,null,""]
["",null,{"$f":"IF(B1477=\"\",\"\",IF(ISERROR(VLOOKUP(B1477,database!$A$6:$BFQ$206,4,FALSE)),\"\",VLOOKUP(B1477,database!$A$6:$BFQ$206,4,FALSE)))","v":""},null,null,null,"",null,null,null,{"$f":"IF(B1477=\"\",\"\",IF(ISERROR(VLOOKUP(B1477,database!$A$6:$BFQ$206,3,FALSE)),\"\",VLOOKUP(B1477,database!$A$6:$BFQ$206,3,FALSE)))","v":""},null,null,null,null,null,null,""]
["",null,{"$f":"IF(B1478=\"\",\"\",IF(ISERROR(VLOOKUP(B1478,database!$A$6:$BFQ$206,4,FALSE)),\"\",VLOOKUP(B1478,database!$A$6:$BFQ$206,4,FALSE)))","v":""},null,null,null,"",null,null,null,{"$f":"IF(B1478=\"\",\"\",IF(ISERROR(VLOOKUP(B1478,database!$A$6:$BFQ$206,3,FALSE)),\"\",VLOOKUP(B1478,database!$A$6:$BFQ$206,3,FALSE)))","v":""},null,null,null,null,null,null,""]
["",null,{"$f":"IF(B1479=\"\",\"\",IF(ISERROR(VLOOKUP(B1479,database!$A$6:$BFQ$206,4,FALSE)),\"\",VLOOKUP(B1479,database!$A$6:$BFQ$206,4,FALSE)))","v":""},null,null,null,"",null,null,null,{"$f":"IF(B1479=\"\",\"\",IF(ISERROR(VLOOKUP(B1479,database!$A$6:$BFQ$206,3,FALSE)),\"\",VLOOKUP(B1479,database!$A$6:$BFQ$206,3,FALSE)))","v":""},null,null,null,null,null,null,""]
["",null,{"$f":"IF(B1480=\"\",\"\",IF(ISERROR(VLOOKUP(B1480,database!$A$6:$BFQ$206,4,FALSE)),\"\",VLOOKUP(B1480,database!$A$6:$BFQ$206,4,FALSE)))","v":""},null,null,null,"",null,null,null,{"$f":"IF(B1480=\"\",\"\",IF(ISERROR(VLOOKUP(B1480,database!$A$6:$BFQ$206,3,FALSE)),\"\",VLOOKUP(B1480,database!$A$6:$BFQ$206,3,FALSE)))","v":""},null,null,null,null,null,null,""]
["",null,{"$f":"IF(B1481=\"\",\"\",IF(ISERROR(VLOOKUP(B1481,database!$A$6:$BFQ$206,4,FALSE)),\"\",VLOOKUP(B1481,database!$A$6:$BFQ$206,4,FALSE)))","v":""},null,null,null,"",null,null,null,{"$f":"IF(B1481=\"\",\"\",IF(ISERROR(VLOOKUP(B1481,database!$A$6:$BFQ$206,3,FALSE)),\"\",VLOOKUP(B1481,database!$A$6:$BFQ$206,3,FALSE)))","v":""},null,null,null,null,null,null,""]
["",null,{"$f":"IF(B1482=\"\",\"\",IF(ISERROR(VLOOKUP(B1482,database!$A$6:$BFQ$206,4,FALSE)),\"\",VLOOKUP(B1482,database!$A$6:$BFQ$206,4,FALSE)))","v":""},null,null,null,"",null,null,null,{"$f":"IF(B1482=\"\",\"\",IF(ISERROR(VLOOKUP(B1482,database!$A$6:$BFQ$206,3,FALSE)),\"\",VLOOKUP(B1482,database!$A$6:$BFQ$206,3,FALSE)))","v":""},null,null,null,null,null,null,""]
["",null,{"$f":"IF(B1483=\"\",\"\",IF(ISERROR(VLOOKUP(B1483,database!$A$6:$BFQ$206,4,FALSE)),\"\",VLOOKUP(B1483,database!$A$6:$BFQ$206,4,FALSE)))","v":""},null,null,null,"",null,null,null,{"$f":"IF(B1483=\"\",\"\",IF(ISERROR(VLOOKUP(B1483,database!$A$6:$BFQ$206,3,FALSE)),\"\",VLOOKUP(B1483,database!$A$6:$BFQ$206,3,FALSE)))","v":""},null,null,null,null,null,null,""]
["",null,{"$f":"IF(B1484=\"\",\"\",IF(ISERROR(VLOOKUP(B1484,database!$A$6:$BFQ$206,4,FALSE)),\"\",VLOOKUP(B1484,database!$A$6:$BFQ$206,4,FALSE)))","v":""},null,null,null,"",null,null,null,{"$f":"IF(B1484=\"\",\"\",IF(ISERROR(VLOOKUP(B1484,database!$A$6:$BFQ$206,3,FALSE)),\"\",VLOOKUP(B1484,database!$A$6:$BFQ$206,3,FALSE)))","v":""},null,null,null,null,null,null,""]
["",null,{"$f":"IF(B1485=\"\",\"\",IF(ISERROR(VLOOKUP(B1485,database!$A$6:$BFQ$206,4,FALSE)),\"\",VLOOKUP(B1485,database!$A$6:$BFQ$206,4,FALSE)))","v":""},null,null,null,"",null,null,null,{"$f":"IF(B1485=\"\",\"\",IF(ISERROR(VLOOKUP(B1485,database!$A$6:$BFQ$206,3,FALSE)),\"\",VLOOKUP(B1485,database!$A$6:$BFQ$206,3,FALSE)))","v":""},null,null,null,null,null,null,""]
["",null,{"$f":"IF(B1486=\"\",\"\",IF(ISERROR(VLOOKUP(B1486,database!$A$6:$BFQ$206,4,FALSE)),\"\",VLOOKUP(B1486,database!$A$6:$BFQ$206,4,FALSE)))","v":""},null,null,null,"",null,null,null,{"$f":"IF(B1486=\"\",\"\",IF(ISERROR(VLOOKUP(B1486,database!$A$6:$BFQ$206,3,FALSE)),\"\",VLOOKUP(B1486,database!$A$6:$BFQ$206,3,FALSE)))","v":""},null,null,null,null,null,null,""]
["",null,{"$f":"IF(B1487=\"\",\"\",IF(ISERROR(VLOOKUP(B1487,database!$A$6:$BFQ$206,4,FALSE)),\"\",VLOOKUP(B1487,database!$A$6:$BFQ$206,4,FALSE)))","v":""},null,null,null,"",null,null,null,{"$f":"IF(B1487=\"\",\"\",IF(ISERROR(VLOOKUP(B1487,database!$A$6:$BFQ$206,3,FALSE)),\"\",VLOOKUP(B1487,database!$A$6:$BFQ$206,3,FALSE)))","v":""},null,null,null,null,null,null,""]
["",null,{"$f":"IF(B1488=\"\",\"\",IF(ISERROR(VLOOKUP(B1488,database!$A$6:$BFQ$206,4,FALSE)),\"\",VLOOKUP(B1488,database!$A$6:$BFQ$206,4,FALSE)))","v":""},null,null,null,"",null,null,null,{"$f":"IF(B1488=\"\",\"\",IF(ISERROR(VLOOKUP(B1488,database!$A$6:$BFQ$206,3,FALSE)),\"\",VLOOKUP(B1488,database!$A$6:$BFQ$206,3,FALSE)))","v":""},null,null,null,null,null,null,""]
["",null,{"$f":"IF(B1489=\"\",\"\",IF(ISERROR(VLOOKUP(B1489,database!$A$6:$BFQ$206,4,FALSE)),\"\",VLOOKUP(B1489,database!$A$6:$BFQ$206,4,FALSE)))","v":""},null,null,null,"",null,null,null,{"$f":"IF(B1489=\"\",\"\",IF(ISERROR(VLOOKUP(B1489,database!$A$6:$BFQ$206,3,FALSE)),\"\",VLOOKUP(B1489,database!$A$6:$BFQ$206,3,FALSE)))","v":""},null,null,null,null,null,null,""]
["",null,{"$f":"IF(B1490=\"\",\"\",IF(ISERROR(VLOOKUP(B1490,database!$A$6:$BFQ$206,4,FALSE)),\"\",VLOOKUP(B1490,database!$A$6:$BFQ$206,4,FALSE)))","v":""},null,null,null,"",null,null,null,{"$f":"IF(B1490=\"\",\"\",IF(ISERROR(VLOOKUP(B1490,database!$A$6:$BFQ$206,3,FALSE)),\"\",VLOOKUP(B1490,database!$A$6:$BFQ$206,3,FALSE)))","v":""},null,null,null,null,null,null,""]
["",null,{"$f":"IF(B1491=\"\",\"\",IF(ISERROR(VLOOKUP(B1491,database!$A$6:$BFQ$206,4,FALSE)),\"\",VLOOKUP(B1491,database!$A$6:$BFQ$206,4,FALSE)))","v":""},null,null,null,"",null,null,null,{"$f":"IF(B1491=\"\",\"\",IF(ISERROR(VLOOKUP(B1491,database!$A$6:$BFQ$206,3,FALSE)),\"\",VLOOKUP(B1491,database!$A$6:$BFQ$206,3,FALSE)))","v":""},null,null,null,null,null,null,""]
["",null,{"$f":"IF(B1492=\"\",\"\",IF(ISERROR(VLOOKUP(B1492,database!$A$6:$BFQ$206,4,FALSE)),\"\",VLOOKUP(B1492,database!$A$6:$BFQ$206,4,FALSE)))","v":""},null,null,null,"",null,null,null,{"$f":"IF(B1492=\"\",\"\",IF(ISERROR(VLOOKUP(B1492,database!$A$6:$BFQ$206,3,FALSE)),\"\",VLOOKUP(B1492,database!$A$6:$BFQ$206,3,FALSE)))","v":""},null,null,null,null,null,null,""]
["",null,{"$f":"IF(B1493=\"\",\"\",IF(ISERROR(VLOOKUP(B1493,database!$A$6:$BFQ$206,4,FALSE)),\"\",VLOOKUP(B1493,database!$A$6:$BFQ$206,4,FALSE)))","v":""},null,null,null,"",null,null,null,{"$f":"IF(B1493=\"\",\"\",IF(ISERROR(VLOOKUP(B1493,database!$A$6:$BFQ$206,3,FALSE)),\"\",VLOOKUP(B1493,database!$A$6:$BFQ$206,3,FALSE)))","v":""},null,null,null,null,null,null,""]
["",null,{"$f":"IF(B1494=\"\",\"\",IF(ISERROR(VLOOKUP(B1494,database!$A$6:$BFQ$206,4,FALSE)),\"\",VLOOKUP(B1494,database!$A$6:$BFQ$206,4,FALSE)))","v":""},null,null,null,"",null,null,null,{"$f":"IF(B1494=\"\",\"\",IF(ISERROR(VLOOKUP(B1494,database!$A$6:$BFQ$206,3,FALSE)),\"\",VLOOKUP(B1494,database!$A$6:$BFQ$206,3,FALSE)))","v":""},null,null,null,null,null,null,""]
["",null,{"$f":"IF(B1495=\"\",\"\",IF(ISERROR(VLOOKUP(B1495,database!$A$6:$BFQ$206,4,FALSE)),\"\",VLOOKUP(B1495,database!$A$6:$BFQ$206,4,FALSE)))","v":""},null,null,null,"",null,null,null,{"$f":"IF(B1495=\"\",\"\",IF(ISERROR(VLOOKUP(B1495,database!$A$6:$BFQ$206,3,FALSE)),\"\",VLOOKUP(B1495,database!$A$6:$BFQ$206,3,FALSE)))","v":""},null,null,null,null,null,null,""]
["",null,{"$f":"IF(B1496=\"\",\"\",IF(ISERROR(VLOOKUP(B1496,database!$A$6:$BFQ$206,4,FALSE)),\"\",VLOOKUP(B1496,database!$A$6:$BFQ$206,4,FALSE)))","v":""},null,null,null,"",null,null,null,{"$f":"IF(B1496=\"\",\"\",IF(ISERROR(VLOOKUP(B1496,database!$A$6:$BFQ$206,3,FALSE)),\"\",VLOOKUP(B1496,database!$A$6:$BFQ$206,3,FALSE)))","v":""},null,null,null,null,null,null,""]
["",null,{"$f":"IF(B1497=\"\",\"\",IF(ISERROR(VLOOKUP(B1497,database!$A$6:$BFQ$206,4,FALSE)),\"\",VLOOKUP(B1497,database!$A$6:$BFQ$206,4,FALSE)))","v":""},null,null,null,"",null,null,null,{"$f":"IF(B1497=\"\",\"\",IF(ISERROR(VLOOKUP(B1497,database!$A$6:$BFQ$206,3,FALSE)),\"\",VLOOKUP(B1497,database!$A$6:$BFQ$206,3,FALSE)))","v":""},null,null,null,null,null,null,""]
["",null,{"$f":"IF(B1498=\"\",\"\",IF(ISERROR(VLOOKUP(B1498,database!$A$6:$BFQ$206,4,FALSE)),\"\",VLOOKUP(B1498,database!$A$6:$BFQ$206,4,FALSE)))","v":""},null,null,null,"",null,null,null,{"$f":"IF(B1498=\"\",\"\",IF(ISERROR(VLOOKUP(B1498,database!$A$6:$BFQ$206,3,FALSE)),\"\",VLOOKUP(B1498,database!$A$6:$BFQ$206,3,FALSE)))","v":""},null,null,null,null,null,null,""]
["",null,{"$f":"IF(B1499=\"\",\"\",IF(ISERROR(VLOOKUP(B1499,database!$A$6:$BFQ$206,4,FALSE)),\"\",VLOOKUP(B1499,database!$A$6:$BFQ$206,4,FALSE)))","v":""},null,null,null,"",null,null,null,{"$f":"IF(B1499=\"\",\"\",IF(ISERROR(VLOOKUP(B1499,database!$A$6:$BFQ$206,3,FALSE)),\"\",VLOOKUP(B1499,database!$A$6:$BFQ$206,3,FALSE)))","v":""},null,null,null,null,null,null,""]
["",null,{"$f":"IF(B1500=\"\",\"\",IF(ISERROR(VLOOKUP(B1500,database!$A$6:$BFQ$206,4,FALSE)),\"\",VLOOKUP(B1500,database!$A$6:$BFQ$206,4,FALSE)))","v":""},null,null,null,"",null,null,null,{"$f":"IF(B1500=\"\",\"\",IF(ISERROR(VLOOKUP(B1500,database!$A$6:$BFQ$206,3,FALSE)),\"\",VLOOKUP(B1500,database!$A$6:$BFQ$206,3,FALSE)))","v":""},null,null,null,null,null,null,""]
["",null,{"$f":"IF(B1501=\"\",\"\",IF(ISERROR(VLOOKUP(B1501,database!$A$6:$BFQ$206,4,FALSE)),\"\",VLOOKUP(B1501,database!$A$6:$BFQ$206,4,FALSE)))","v":""},null,null,null,"",null,null,null,{"$f":"IF(B1501=\"\",\"\",IF(ISERROR(VLOOKUP(B1501,database!$A$6:$BFQ$206,3,FALSE)),\"\",VLOOKUP(B1501,database!$A$6:$BFQ$206,3,FALSE)))","v":""},null,null,null,null,null,null,""]
["",null,{"$f":"IF(B1502=\"\",\"\",IF(ISERROR(VLOOKUP(B1502,database!$A$6:$BFQ$206,4,FALSE)),\"\",VLOOKUP(B1502,database!$A$6:$BFQ$206,4,FALSE)))","v":""},null,null,null,"",null,null,null,{"$f":"IF(B1502=\"\",\"\",IF(ISERROR(VLOOKUP(B1502,database!$A$6:$BFQ$206,3,FALSE)),\"\",VLOOKUP(B1502,database!$A$6:$BFQ$206,3,FALSE)))","v":""},null,null,null,null,null,null,""]
["",null,{"$f":"IF(B1503=\"\",\"\",IF(ISERROR(VLOOKUP(B1503,database!$A$6:$BFQ$206,4,FALSE)),\"\",VLOOKUP(B1503,database!$A$6:$BFQ$206,4,FALSE)))","v":""},null,null,null,"",null,null,null,{"$f":"IF(B1503=\"\",\"\",IF(ISERROR(VLOOKUP(B1503,database!$A$6:$BFQ$206,3,FALSE)),\"\",VLOOKUP(B1503,database!$A$6:$BFQ$206,3,FALSE)))","v":""},null,null,null,null,null,null,""]
["",null,{"$f":"IF(B1504=\"\",\"\",IF(ISERROR(VLOOKUP(B1504,database!$A$6:$BFQ$206,4,FALSE)),\"\",VLOOKUP(B1504,database!$A$6:$BFQ$206,4,FALSE)))","v":""},null,null,null,"",null,null,null,{"$f":"IF(B1504=\"\",\"\",IF(ISERROR(VLOOKUP(B1504,database!$A$6:$BFQ$206,3,FALSE)),\"\",VLOOKUP(B1504,database!$A$6:$BFQ$206,3,FALSE)))","v":""},null,null,null,null,null,null,""]
["",null,{"$f":"IF(B1505=\"\",\"\",IF(ISERROR(VLOOKUP(B1505,database!$A$6:$BFQ$206,4,FALSE)),\"\",VLOOKUP(B1505,database!$A$6:$BFQ$206,4,FALSE)))","v":""},null,null,null,"",null,null,null,{"$f":"IF(B1505=\"\",\"\",IF(ISERROR(VLOOKUP(B1505,database!$A$6:$BFQ$206,3,FALSE)),\"\",VLOOKUP(B1505,database!$A$6:$BFQ$206,3,FALSE)))","v":""},null,null,null,null,null,null,""]
["",null,{"$f":"IF(B1506=\"\",\"\",IF(ISERROR(VLOOKUP(B1506,database!$A$6:$BFQ$206,4,FALSE)),\"\",VLOOKUP(B1506,database!$A$6:$BFQ$206,4,FALSE)))","v":""},null,null,null,"",null,null,null,{"$f":"IF(B1506=\"\",\"\",IF(ISERROR(VLOOKUP(B1506,database!$A$6:$BFQ$206,3,FALSE)),\"\",VLOOKUP(B1506,database!$A$6:$BFQ$206,3,FALSE)))","v":""},null,null,null,null,null,null,""]
["",null,{"$f":"IF(B1507=\"\",\"\",IF(ISERROR(VLOOKUP(B1507,database!$A$6:$BFQ$206,4,FALSE)),\"\",VLOOKUP(B1507,database!$A$6:$BFQ$206,4,FALSE)))","v":""},null,null,null,"",null,null,null,{"$f":"IF(B1507=\"\",\"\",IF(ISERROR(VLOOKUP(B1507,database!$A$6:$BFQ$206,3,FALSE)),\"\",VLOOKUP(B1507,database!$A$6:$BFQ$206,3,FALSE)))","v":""},null,null,null,null,null,null,""]
["",null,{"$f":"IF(B1508=\"\",\"\",IF(ISERROR(VLOOKUP(B1508,database!$A$6:$BFQ$206,4,FALSE)),\"\",VLOOKUP(B1508,database!$A$6:$BFQ$206,4,FALSE)))","v":""},null,null,null,"",null,null,null,{"$f":"IF(B1508=\"\",\"\",IF(ISERROR(VLOOKUP(B1508,database!$A$6:$BFQ$206,3,FALSE)),\"\",VLOOKUP(B1508,database!$A$6:$BFQ$206,3,FALSE)))","v":""},null,null,null,null,null,null,""]
["",null,{"$f":"IF(B1509=\"\",\"\",IF(ISERROR(VLOOKUP(B1509,database!$A$6:$BFQ$206,4,FALSE)),\"\",VLOOKUP(B1509,database!$A$6:$BFQ$206,4,FALSE)))","v":""},null,null,null,"",null,null,null,{"$f":"IF(B1509=\"\",\"\",IF(ISERROR(VLOOKUP(B1509,database!$A$6:$BFQ$206,3,FALSE)),\"\",VLOOKUP(B1509,database!$A$6:$BFQ$206,3,FALSE)))","v":""},null,null,null,null,null,null,""]
["",null,{"$f":"IF(B1510=\"\",\"\",IF(ISERROR(VLOOKUP(B1510,database!$A$6:$BFQ$206,4,FALSE)),\"\",VLOOKUP(B1510,database!$A$6:$BFQ$206,4,FALSE)))","v":""},null,null,null,"",null,null,null,{"$f":"IF(B1510=\"\",\"\",IF(ISERROR(VLOOKUP(B1510,database!$A$6:$BFQ$206,3,FALSE)),\"\",VLOOKUP(B1510,database!$A$6:$BFQ$206,3,FALSE)))","v":""},null,null,null,null,null,null,""]
["",null,{"$f":"IF(B1511=\"\",\"\",IF(ISERROR(VLOOKUP(B1511,database!$A$6:$BFQ$206,4,FALSE)),\"\",VLOOKUP(B1511,database!$A$6:$BFQ$206,4,FALSE)))","v":""},null,null,null,"",null,null,null,{"$f":"IF(B1511=\"\",\"\",IF(ISERROR(VLOOKUP(B1511,database!$A$6:$BFQ$206,3,FALSE)),\"\",VLOOKUP(B1511,database!$A$6:$BFQ$206,3,FALSE)))","v":""},null,null,null,null,null,null,""]
["",null,{"$f":"IF(B1512=\"\",\"\",IF(ISERROR(VLOOKUP(B1512,database!$A$6:$BFQ$206,4,FALSE)),\"\",VLOOKUP(B1512,database!$A$6:$BFQ$206,4,FALSE)))","v":""},null,null,null,"",null,null,null,{"$f":"IF(B1512=\"\",\"\",IF(ISERROR(VLOOKUP(B1512,database!$A$6:$BFQ$206,3,FALSE)),\"\",VLOOKUP(B1512,database!$A$6:$BFQ$206,3,FALSE)))","v":""},null,null,null,null,null,null,""]
["",null,{"$f":"IF(B1513=\"\",\"\",IF(ISERROR(VLOOKUP(B1513,database!$A$6:$BFQ$206,4,FALSE)),\"\",VLOOKUP(B1513,database!$A$6:$BFQ$206,4,FALSE)))","v":""},null,null,null,"",null,null,null,{"$f":"IF(B1513=\"\",\"\",IF(ISERROR(VLOOKUP(B1513,database!$A$6:$BFQ$206,3,FALSE)),\"\",VLOOKUP(B1513,database!$A$6:$BFQ$206,3,FALSE)))","v":""},null,null,null,null,null,null,""]
["",null,{"$f":"IF(B1514=\"\",\"\",IF(ISERROR(VLOOKUP(B1514,database!$A$6:$BFQ$206,4,FALSE)),\"\",VLOOKUP(B1514,database!$A$6:$BFQ$206,4,FALSE)))","v":""},null,null,null,"",null,null,null,{"$f":"IF(B1514=\"\",\"\",IF(ISERROR(VLOOKUP(B1514,database!$A$6:$BFQ$206,3,FALSE)),\"\",VLOOKUP(B1514,database!$A$6:$BFQ$206,3,FALSE)))","v":""},null,null,null,null,null,null,""]
["",null,{"$f":"IF(B1515=\"\",\"\",IF(ISERROR(VLOOKUP(B1515,database!$A$6:$BFQ$206,4,FALSE)),\"\",VLOOKUP(B1515,database!$A$6:$BFQ$206,4,FALSE)))","v":""},null,null,null,"",null,null,null,{"$f":"IF(B1515=\"\",\"\",IF(ISERROR(VLOOKUP(B1515,database!$A$6:$BFQ$206,3,FALSE)),\"\",VLOOKUP(B1515,database!$A$6:$BFQ$206,3,FALSE)))","v":""},null,null,null,null,null,null,""]
["",null,{"$f":"IF(B1516=\"\",\"\",IF(ISERROR(VLOOKUP(B1516,database!$A$6:$BFQ$206,4,FALSE)),\"\",VLOOKUP(B1516,database!$A$6:$BFQ$206,4,FALSE)))","v":""},null,null,null,"",null,null,null,{"$f":"IF(B1516=\"\",\"\",IF(ISERROR(VLOOKUP(B1516,database!$A$6:$BFQ$206,3,FALSE)),\"\",VLOOKUP(B1516,database!$A$6:$BFQ$206,3,FALSE)))","v":""},null,null,null,null,null,null,""]
["",null,{"$f":"IF(B1517=\"\",\"\",IF(ISERROR(VLOOKUP(B1517,database!$A$6:$BFQ$206,4,FALSE)),\"\",VLOOKUP(B1517,database!$A$6:$BFQ$206,4,FALSE)))","v":""},null,null,null,"",null,null,null,{"$f":"IF(B1517=\"\",\"\",IF(ISERROR(VLOOKUP(B1517,database!$A$6:$BFQ$206,3,FALSE)),\"\",VLOOKUP(B1517,database!$A$6:$BFQ$206,3,FALSE)))","v":""},null,null,null,null,null,null,""]
["",null,{"$f":"IF(B1518=\"\",\"\",IF(ISERROR(VLOOKUP(B1518,database!$A$6:$BFQ$206,4,FALSE)),\"\",VLOOKUP(B1518,database!$A$6:$BFQ$206,4,FALSE)))","v":""},null,null,null,"",null,null,null,{"$f":"IF(B1518=\"\",\"\",IF(ISERROR(VLOOKUP(B1518,database!$A$6:$BFQ$206,3,FALSE)),\"\",VLOOKUP(B1518,database!$A$6:$BFQ$206,3,FALSE)))","v":""},null,null,null,null,null,null,""]
["",null,{"$f":"IF(B1519=\"\",\"\",IF(ISERROR(VLOOKUP(B1519,database!$A$6:$BFQ$206,4,FALSE)),\"\",VLOOKUP(B1519,database!$A$6:$BFQ$206,4,FALSE)))","v":""},null,null,null,"",null,null,null,{"$f":"IF(B1519=\"\",\"\",IF(ISERROR(VLOOKUP(B1519,database!$A$6:$BFQ$206,3,FALSE)),\"\",VLOOKUP(B1519,database!$A$6:$BFQ$206,3,FALSE)))","v":""},null,null,null,null,null,null,""]
["",null,{"$f":"IF(B1520=\"\",\"\",IF(ISERROR(VLOOKUP(B1520,database!$A$6:$BFQ$206,4,FALSE)),\"\",VLOOKUP(B1520,database!$A$6:$BFQ$206,4,FALSE)))","v":""},null,null,null,"",null,null,null,{"$f":"IF(B1520=\"\",\"\",IF(ISERROR(VLOOKUP(B1520,database!$A$6:$BFQ$206,3,FALSE)),\"\",VLOOKUP(B1520,database!$A$6:$BFQ$206,3,FALSE)))","v":""},null,null,null,null,null,null,""]
["",null,{"$f":"IF(B1521=\"\",\"\",IF(ISERROR(VLOOKUP(B1521,database!$A$6:$BFQ$206,4,FALSE)),\"\",VLOOKUP(B1521,database!$A$6:$BFQ$206,4,FALSE)))","v":""},null,null,null,"",null,null,null,{"$f":"IF(B1521=\"\",\"\",IF(ISERROR(VLOOKUP(B1521,database!$A$6:$BFQ$206,3,FALSE)),\"\",VLOOKUP(B1521,database!$A$6:$BFQ$206,3,FALSE)))","v":""},null,null,null,null,null,null,""]
["",null,{"$f":"IF(B1522=\"\",\"\",IF(ISERROR(VLOOKUP(B1522,database!$A$6:$BFQ$206,4,FALSE)),\"\",VLOOKUP(B1522,database!$A$6:$BFQ$206,4,FALSE)))","v":""},null,null,null,"",null,null,null,{"$f":"IF(B1522=\"\",\"\",IF(ISERROR(VLOOKUP(B1522,database!$A$6:$BFQ$206,3,FALSE)),\"\",VLOOKUP(B1522,database!$A$6:$BFQ$206,3,FALSE)))","v":""},null,null,null,null,null,null,""]
["",null,{"$f":"IF(B1523=\"\",\"\",IF(ISERROR(VLOOKUP(B1523,database!$A$6:$BFQ$206,4,FALSE)),\"\",VLOOKUP(B1523,database!$A$6:$BFQ$206,4,FALSE)))","v":""},null,null,null,"",null,null,null,{"$f":"IF(B1523=\"\",\"\",IF(ISERROR(VLOOKUP(B1523,database!$A$6:$BFQ$206,3,FALSE)),\"\",VLOOKUP(B1523,database!$A$6:$BFQ$206,3,FALSE)))","v":""},null,null,null,null,null,null,""]
["",null,{"$f":"IF(B1524=\"\",\"\",IF(ISERROR(VLOOKUP(B1524,database!$A$6:$BFQ$206,4,FALSE)),\"\",VLOOKUP(B1524,database!$A$6:$BFQ$206,4,FALSE)))","v":""},null,null,null,"",null,null,null,{"$f":"IF(B1524=\"\",\"\",IF(ISERROR(VLOOKUP(B1524,database!$A$6:$BFQ$206,3,FALSE)),\"\",VLOOKUP(B1524,database!$A$6:$BFQ$206,3,FALSE)))","v":""},null,null,null,null,null,null,""]
["",null,{"$f":"IF(B1525=\"\",\"\",IF(ISERROR(VLOOKUP(B1525,database!$A$6:$BFQ$206,4,FALSE)),\"\",VLOOKUP(B1525,database!$A$6:$BFQ$206,4,FALSE)))","v":""},null,null,null,"",null,null,null,{"$f":"IF(B1525=\"\",\"\",IF(ISERROR(VLOOKUP(B1525,database!$A$6:$BFQ$206,3,FALSE)),\"\",VLOOKUP(B1525,database!$A$6:$BFQ$206,3,FALSE)))","v":""},null,null,null,null,null,null,""]
["",null,{"$f":"IF(B1526=\"\",\"\",IF(ISERROR(VLOOKUP(B1526,database!$A$6:$BFQ$206,4,FALSE)),\"\",VLOOKUP(B1526,database!$A$6:$BFQ$206,4,FALSE)))","v":""},null,null,null,"",null,null,null,{"$f":"IF(B1526=\"\",\"\",IF(ISERROR(VLOOKUP(B1526,database!$A$6:$BFQ$206,3,FALSE)),\"\",VLOOKUP(B1526,database!$A$6:$BFQ$206,3,FALSE)))","v":""},null,null,null,null,null,null,""]
["",null,{"$f":"IF(B1527=\"\",\"\",IF(ISERROR(VLOOKUP(B1527,database!$A$6:$BFQ$206,4,FALSE)),\"\",VLOOKUP(B1527,database!$A$6:$BFQ$206,4,FALSE)))","v":""},null,null,null,"",null,null,null,{"$f":"IF(B1527=\"\",\"\",IF(ISERROR(VLOOKUP(B1527,database!$A$6:$BFQ$206,3,FALSE)),\"\",VLOOKUP(B1527,database!$A$6:$BFQ$206,3,FALSE)))","v":""},null,null,null,null,null,null,""]
["",null,{"$f":"IF(B1528=\"\",\"\",IF(ISERROR(VLOOKUP(B1528,database!$A$6:$BFQ$206,4,FALSE)),\"\",VLOOKUP(B1528,database!$A$6:$BFQ$206,4,FALSE)))","v":""},null,null,null,"",null,null,null,{"$f":"IF(B1528=\"\",\"\",IF(ISERROR(VLOOKUP(B1528,database!$A$6:$BFQ$206,3,FALSE)),\"\",VLOOKUP(B1528,database!$A$6:$BFQ$206,3,FALSE)))","v":""},null,null,null,null,null,null,""]
["",null,{"$f":"IF(B1529=\"\",\"\",IF(ISERROR(VLOOKUP(B1529,database!$A$6:$BFQ$206,4,FALSE)),\"\",VLOOKUP(B1529,database!$A$6:$BFQ$206,4,FALSE)))","v":""},null,null,null,"",null,null,null,{"$f":"IF(B1529=\"\",\"\",IF(ISERROR(VLOOKUP(B1529,database!$A$6:$BFQ$206,3,FALSE)),\"\",VLOOKUP(B1529,database!$A$6:$BFQ$206,3,FALSE)))","v":""},null,null,null,null,null,null,""]
["",null,{"$f":"IF(B1530=\"\",\"\",IF(ISERROR(VLOOKUP(B1530,database!$A$6:$BFQ$206,4,FALSE)),\"\",VLOOKUP(B1530,database!$A$6:$BFQ$206,4,FALSE)))","v":""},null,null,null,"",null,null,null,{"$f":"IF(B1530=\"\",\"\",IF(ISERROR(VLOOKUP(B1530,database!$A$6:$BFQ$206,3,FALSE)),\"\",VLOOKUP(B1530,database!$A$6:$BFQ$206,3,FALSE)))","v":""},null,null,null,null,null,null,""]
["",null,{"$f":"IF(B1531=\"\",\"\",IF(ISERROR(VLOOKUP(B1531,database!$A$6:$BFQ$206,4,FALSE)),\"\",VLOOKUP(B1531,database!$A$6:$BFQ$206,4,FALSE)))","v":""},null,null,null,"",null,null,null,{"$f":"IF(B1531=\"\",\"\",IF(ISERROR(VLOOKUP(B1531,database!$A$6:$BFQ$206,3,FALSE)),\"\",VLOOKUP(B1531,database!$A$6:$BFQ$206,3,FALSE)))","v":""},null,null,null,null,null,null,""]
["",null,{"$f":"IF(B1532=\"\",\"\",IF(ISERROR(VLOOKUP(B1532,database!$A$6:$BFQ$206,4,FALSE)),\"\",VLOOKUP(B1532,database!$A$6:$BFQ$206,4,FALSE)))","v":""},null,null,null,"",null,null,null,{"$f":"IF(B1532=\"\",\"\",IF(ISERROR(VLOOKUP(B1532,database!$A$6:$BFQ$206,3,FALSE)),\"\",VLOOKUP(B1532,database!$A$6:$BFQ$206,3,FALSE)))","v":""},null,null,null,null,null,null,""]
["",null,{"$f":"IF(B1533=\"\",\"\",IF(ISERROR(VLOOKUP(B1533,database!$A$6:$BFQ$206,4,FALSE)),\"\",VLOOKUP(B1533,database!$A$6:$BFQ$206,4,FALSE)))","v":""},null,null,null,"",null,null,null,{"$f":"IF(B1533=\"\",\"\",IF(ISERROR(VLOOKUP(B1533,database!$A$6:$BFQ$206,3,FALSE)),\"\",VLOOKUP(B1533,database!$A$6:$BFQ$206,3,FALSE)))","v":""},null,null,null,null,null,null,""]
["",null,{"$f":"IF(B1534=\"\",\"\",IF(ISERROR(VLOOKUP(B1534,database!$A$6:$BFQ$206,4,FALSE)),\"\",VLOOKUP(B1534,database!$A$6:$BFQ$206,4,FALSE)))","v":""},null,null,null,"",null,null,null,{"$f":"IF(B1534=\"\",\"\",IF(ISERROR(VLOOKUP(B1534,database!$A$6:$BFQ$206,3,FALSE)),\"\",VLOOKUP(B1534,database!$A$6:$BFQ$206,3,FALSE)))","v":""},null,null,null,null,null,null,""]
["",null,{"$f":"IF(B1535=\"\",\"\",IF(ISERROR(VLOOKUP(B1535,database!$A$6:$BFQ$206,4,FALSE)),\"\",VLOOKUP(B1535,database!$A$6:$BFQ$206,4,FALSE)))","v":""},null,null,null,"",null,null,null,{"$f":"IF(B1535=\"\",\"\",IF(ISERROR(VLOOKUP(B1535,database!$A$6:$BFQ$206,3,FALSE)),\"\",VLOOKUP(B1535,database!$A$6:$BFQ$206,3,FALSE)))","v":""},null,null,null,null,null,null,""]
["",null,{"$f":"IF(B1536=\"\",\"\",IF(ISERROR(VLOOKUP(B1536,database!$A$6:$BFQ$206,4,FALSE)),\"\",VLOOKUP(B1536,database!$A$6:$BFQ$206,4,FALSE)))","v":""},null,null,null,"",null,null,null,{"$f":"IF(B1536=\"\",\"\",IF(ISERROR(VLOOKUP(B1536,database!$A$6:$BFQ$206,3,FALSE)),\"\",VLOOKUP(B1536,database!$A$6:$BFQ$206,3,FALSE)))","v":""},null,null,null,null,null,null,""]
[{"$f":"IF(B1537=\"\",\"\",ROW(A1534))","v":""},null,{"$f":"IF(B1537=\"\",\"\",IF(ISERROR(VLOOKUP(B1537,database!$A$6:$BFQ$206,4,FALSE)),\"\",VLOOKUP(B1537,database!$A$6:$BFQ$206,4,FALSE)))","v":""},null,null,null,{"$f":"IF(B1537=\"\",\"\",IF(C1537=\"\",0,1))","v":""},null,null,null,{"$f":"IF(B1537=\"\",\"\",IF(ISERROR(VLOOKUP(B1537,database!$A$6:$BFQ$206,3,FALSE)),\"\",VLOOKUP(B1537,database!$A$6:$BFQ$206,3,FALSE)))","v":""},null,null,null,null,null,null,{"$f":"LEFT(C1537,2)","v":""}]
["",null,{"$f":"IF(B1538=\"\",\"\",IF(ISERROR(VLOOKUP(B1538,database!$A$6:$BFQ$206,4,FALSE)),\"\",VLOOKUP(B1538,database!$A$6:$BFQ$206,4,FALSE)))","v":""},null,null,null,"",null,null,null,{"$f":"IF(B1538=\"\",\"\",IF(ISERROR(VLOOKUP(B1538,database!$A$6:$BFQ$206,3,FALSE)),\"\",VLOOKUP(B1538,database!$A$6:$BFQ$206,3,FALSE)))","v":""},null,null,null,null,null,null,""]
["",null,{"$f":"IF(B1539=\"\",\"\",IF(ISERROR(VLOOKUP(B1539,database!$A$6:$BFQ$206,4,FALSE)),\"\",VLOOKUP(B1539,database!$A$6:$BFQ$206,4,FALSE)))","v":""},null,null,null,"",null,null,null,{"$f":"IF(B1539=\"\",\"\",IF(ISERROR(VLOOKUP(B1539,database!$A$6:$BFQ$206,3,FALSE)),\"\",VLOOKUP(B1539,database!$A$6:$BFQ$206,3,FALSE)))","v":""},null,null,null,null,null,null,""]
["",null,{"$f":"IF(B1540=\"\",\"\",IF(ISERROR(VLOOKUP(B1540,database!$A$6:$BFQ$206,4,FALSE)),\"\",VLOOKUP(B1540,database!$A$6:$BFQ$206,4,FALSE)))","v":""},null,null,null,"",null,null,null,{"$f":"IF(B1540=\"\",\"\",IF(ISERROR(VLOOKUP(B1540,database!$A$6:$BFQ$206,3,FALSE)),\"\",VLOOKUP(B1540,database!$A$6:$BFQ$206,3,FALSE)))","v":""},null,null,null,null,null,null,""]
["",null,{"$f":"IF(B1541=\"\",\"\",IF(ISERROR(VLOOKUP(B1541,database!$A$6:$BFQ$206,4,FALSE)),\"\",VLOOKUP(B1541,database!$A$6:$BFQ$206,4,FALSE)))","v":""},null,null,null,"",null,null,null,{"$f":"IF(B1541=\"\",\"\",IF(ISERROR(VLOOKUP(B1541,database!$A$6:$BFQ$206,3,FALSE)),\"\",VLOOKUP(B1541,database!$A$6:$BFQ$206,3,FALSE)))","v":""},null,null,null,null,null,null,""]
["",null,{"$f":"IF(B1542=\"\",\"\",IF(ISERROR(VLOOKUP(B1542,database!$A$6:$BFQ$206,4,FALSE)),\"\",VLOOKUP(B1542,database!$A$6:$BFQ$206,4,FALSE)))","v":""},null,null,null,"",null,null,null,{"$f":"IF(B1542=\"\",\"\",IF(ISERROR(VLOOKUP(B1542,database!$A$6:$BFQ$206,3,FALSE)),\"\",VLOOKUP(B1542,database!$A$6:$BFQ$206,3,FALSE)))","v":""},null,null,null,null,null,null,""]
["",null,{"$f":"IF(B1543=\"\",\"\",IF(ISERROR(VLOOKUP(B1543,database!$A$6:$BFQ$206,4,FALSE)),\"\",VLOOKUP(B1543,database!$A$6:$BFQ$206,4,FALSE)))","v":""},null,null,null,"",null,null,null,{"$f":"IF(B1543=\"\",\"\",IF(ISERROR(VLOOKUP(B1543,database!$A$6:$BFQ$206,3,FALSE)),\"\",VLOOKUP(B1543,database!$A$6:$BFQ$206,3,FALSE)))","v":""},null,null,null,null,null,null,""]
["",null,{"$f":"IF(B1544=\"\",\"\",IF(ISERROR(VLOOKUP(B1544,database!$A$6:$BFQ$206,4,FALSE)),\"\",VLOOKUP(B1544,database!$A$6:$BFQ$206,4,FALSE)))","v":""},null,null,null,"",null,null,null,{"$f":"IF(B1544=\"\",\"\",IF(ISERROR(VLOOKUP(B1544,database!$A$6:$BFQ$206,3,FALSE)),\"\",VLOOKUP(B1544,database!$A$6:$BFQ$206,3,FALSE)))","v":""},null,null,null,null,null,null,""]
["",null,{"$f":"IF(B1545=\"\",\"\",IF(ISERROR(VLOOKUP(B1545,database!$A$6:$BFQ$206,4,FALSE)),\"\",VLOOKUP(B1545,database!$A$6:$BFQ$206,4,FALSE)))","v":""},null,null,null,"",null,null,null,{"$f":"IF(B1545=\"\",\"\",IF(ISERROR(VLOOKUP(B1545,database!$A$6:$BFQ$206,3,FALSE)),\"\",VLOOKUP(B1545,database!$A$6:$BFQ$206,3,FALSE)))","v":""},null,null,null,null,null,null,""]
["",null,{"$f":"IF(B1546=\"\",\"\",IF(ISERROR(VLOOKUP(B1546,database!$A$6:$BFQ$206,4,FALSE)),\"\",VLOOKUP(B1546,database!$A$6:$BFQ$206,4,FALSE)))","v":""},null,null,null,"",null,null,null,{"$f":"IF(B1546=\"\",\"\",IF(ISERROR(VLOOKUP(B1546,database!$A$6:$BFQ$206,3,FALSE)),\"\",VLOOKUP(B1546,database!$A$6:$BFQ$206,3,FALSE)))","v":""},null,null,null,null,null,null,""]
["",null,{"$f":"IF(B1547=\"\",\"\",IF(ISERROR(VLOOKUP(B1547,database!$A$6:$BFQ$206,4,FALSE)),\"\",VLOOKUP(B1547,database!$A$6:$BFQ$206,4,FALSE)))","v":""},null,null,null,"",null,null,null,{"$f":"IF(B1547=\"\",\"\",IF(ISERROR(VLOOKUP(B1547,database!$A$6:$BFQ$206,3,FALSE)),\"\",VLOOKUP(B1547,database!$A$6:$BFQ$206,3,FALSE)))","v":""},null,null,null,null,null,null,""]
["",null,{"$f":"IF(B1548=\"\",\"\",IF(ISERROR(VLOOKUP(B1548,database!$A$6:$BFQ$206,4,FALSE)),\"\",VLOOKUP(B1548,database!$A$6:$BFQ$206,4,FALSE)))","v":""},null,null,null,"",null,null,null,{"$f":"IF(B1548=\"\",\"\",IF(ISERROR(VLOOKUP(B1548,database!$A$6:$BFQ$206,3,FALSE)),\"\",VLOOKUP(B1548,database!$A$6:$BFQ$206,3,FALSE)))","v":""},null,null,null,null,null,null,""]
["",null,{"$f":"IF(B1549=\"\",\"\",IF(ISERROR(VLOOKUP(B1549,database!$A$6:$BFQ$206,4,FALSE)),\"\",VLOOKUP(B1549,database!$A$6:$BFQ$206,4,FALSE)))","v":""},null,null,null,"",null,null,null,{"$f":"IF(B1549=\"\",\"\",IF(ISERROR(VLOOKUP(B1549,database!$A$6:$BFQ$206,3,FALSE)),\"\",VLOOKUP(B1549,database!$A$6:$BFQ$206,3,FALSE)))","v":""},null,null,null,null,null,null,""]
["",null,{"$f":"IF(B1550=\"\",\"\",IF(ISERROR(VLOOKUP(B1550,database!$A$6:$BFQ$206,4,FALSE)),\"\",VLOOKUP(B1550,database!$A$6:$BFQ$206,4,FALSE)))","v":""},null,null,null,"",null,null,null,{"$f":"IF(B1550=\"\",\"\",IF(ISERROR(VLOOKUP(B1550,database!$A$6:$BFQ$206,3,FALSE)),\"\",VLOOKUP(B1550,database!$A$6:$BFQ$206,3,FALSE)))","v":""},null,null,null,null,null,null,""]
["",null,{"$f":"IF(B1551=\"\",\"\",IF(ISERROR(VLOOKUP(B1551,database!$A$6:$BFQ$206,4,FALSE)),\"\",VLOOKUP(B1551,database!$A$6:$BFQ$206,4,FALSE)))","v":""},null,null,null,"",null,null,null,{"$f":"IF(B1551=\"\",\"\",IF(ISERROR(VLOOKUP(B1551,database!$A$6:$BFQ$206,3,FALSE)),\"\",VLOOKUP(B1551,database!$A$6:$BFQ$206,3,FALSE)))","v":""},null,null,null,null,null,null,""]
["",null,{"$f":"IF(B1552=\"\",\"\",IF(ISERROR(VLOOKUP(B1552,database!$A$6:$BFQ$206,4,FALSE)),\"\",VLOOKUP(B1552,database!$A$6:$BFQ$206,4,FALSE)))","v":""},null,null,null,"",null,null,null,{"$f":"IF(B1552=\"\",\"\",IF(ISERROR(VLOOKUP(B1552,database!$A$6:$BFQ$206,3,FALSE)),\"\",VLOOKUP(B1552,database!$A$6:$BFQ$206,3,FALSE)))","v":""},null,null,null,null,null,null,""]
["",null,{"$f":"IF(B1553=\"\",\"\",IF(ISERROR(VLOOKUP(B1553,database!$A$6:$BFQ$206,4,FALSE)),\"\",VLOOKUP(B1553,database!$A$6:$BFQ$206,4,FALSE)))","v":""},null,null,null,"",null,null,null,{"$f":"IF(B1553=\"\",\"\",IF(ISERROR(VLOOKUP(B1553,database!$A$6:$BFQ$206,3,FALSE)),\"\",VLOOKUP(B1553,database!$A$6:$BFQ$206,3,FALSE)))","v":""},null,null,null,null,null,null,""]
["",null,{"$f":"IF(B1554=\"\",\"\",IF(ISERROR(VLOOKUP(B1554,database!$A$6:$BFQ$206,4,FALSE)),\"\",VLOOKUP(B1554,database!$A$6:$BFQ$206,4,FALSE)))","v":""},null,null,null,"",null,null,null,{"$f":"IF(B1554=\"\",\"\",IF(ISERROR(VLOOKUP(B1554,database!$A$6:$BFQ$206,3,FALSE)),\"\",VLOOKUP(B1554,database!$A$6:$BFQ$206,3,FALSE)))","v":""},null,null,null,null,null,null,""]
["",null,{"$f":"IF(B1555=\"\",\"\",IF(ISERROR(VLOOKUP(B1555,database!$A$6:$BFQ$206,4,FALSE)),\"\",VLOOKUP(B1555,database!$A$6:$BFQ$206,4,FALSE)))","v":""},null,null,null,"",null,null,null,{"$f":"IF(B1555=\"\",\"\",IF(ISERROR(VLOOKUP(B1555,database!$A$6:$BFQ$206,3,FALSE)),\"\",VLOOKUP(B1555,database!$A$6:$BFQ$206,3,FALSE)))","v":""},null,null,null,null,null,null,""]
["",null,{"$f":"IF(B1556=\"\",\"\",IF(ISERROR(VLOOKUP(B1556,database!$A$6:$BFQ$206,4,FALSE)),\"\",VLOOKUP(B1556,database!$A$6:$BFQ$206,4,FALSE)))","v":""},null,null,null,"",null,null,null,{"$f":"IF(B1556=\"\",\"\",IF(ISERROR(VLOOKUP(B1556,database!$A$6:$BFQ$206,3,FALSE)),\"\",VLOOKUP(B1556,database!$A$6:$BFQ$206,3,FALSE)))","v":""},null,null,null,null,null,null,""]
["",null,{"$f":"IF(B1557=\"\",\"\",IF(ISERROR(VLOOKUP(B1557,database!$A$6:$BFQ$206,4,FALSE)),\"\",VLOOKUP(B1557,database!$A$6:$BFQ$206,4,FALSE)))","v":""},null,null,null,"",null,null,null,{"$f":"IF(B1557=\"\",\"\",IF(ISERROR(VLOOKUP(B1557,database!$A$6:$BFQ$206,3,FALSE)),\"\",VLOOKUP(B1557,database!$A$6:$BFQ$206,3,FALSE)))","v":""},null,null,null,null,null,null,""]
["",null,{"$f":"IF(B1558=\"\",\"\",IF(ISERROR(VLOOKUP(B1558,database!$A$6:$BFQ$206,4,FALSE)),\"\",VLOOKUP(B1558,database!$A$6:$BFQ$206,4,FALSE)))","v":""},null,null,null,"",null,null,null,{"$f":"IF(B1558=\"\",\"\",IF(ISERROR(VLOOKUP(B1558,database!$A$6:$BFQ$206,3,FALSE)),\"\",VLOOKUP(B1558,database!$A$6:$BFQ$206,3,FALSE)))","v":""},null,null,null,null,null,null,""]
["",null,{"$f":"IF(B1559=\"\",\"\",IF(ISERROR(VLOOKUP(B1559,database!$A$6:$BFQ$206,4,FALSE)),\"\",VLOOKUP(B1559,database!$A$6:$BFQ$206,4,FALSE)))","v":""},null,null,null,"",null,null,null,{"$f":"IF(B1559=\"\",\"\",IF(ISERROR(VLOOKUP(B1559,database!$A$6:$BFQ$206,3,FALSE)),\"\",VLOOKUP(B1559,database!$A$6:$BFQ$206,3,FALSE)))","v":""},null,null,null,null,null,null,""]
["",null,{"$f":"IF(B1560=\"\",\"\",IF(ISERROR(VLOOKUP(B1560,database!$A$6:$BFQ$206,4,FALSE)),\"\",VLOOKUP(B1560,database!$A$6:$BFQ$206,4,FALSE)))","v":""},null,null,null,"",null,null,null,{"$f":"IF(B1560=\"\",\"\",IF(ISERROR(VLOOKUP(B1560,database!$A$6:$BFQ$206,3,FALSE)),\"\",VLOOKUP(B1560,database!$A$6:$BFQ$206,3,FALSE)))","v":""},null,null,null,null,null,null,""]
["",null,{"$f":"IF(B1561=\"\",\"\",IF(ISERROR(VLOOKUP(B1561,database!$A$6:$BFQ$206,4,FALSE)),\"\",VLOOKUP(B1561,database!$A$6:$BFQ$206,4,FALSE)))","v":""},null,null,null,"",null,null,null,{"$f":"IF(B1561=\"\",\"\",IF(ISERROR(VLOOKUP(B1561,database!$A$6:$BFQ$206,3,FALSE)),\"\",VLOOKUP(B1561,database!$A$6:$BFQ$206,3,FALSE)))","v":""},null,null,null,null,null,null,""]
["",null,{"$f":"IF(B1562=\"\",\"\",IF(ISERROR(VLOOKUP(B1562,database!$A$6:$BFQ$206,4,FALSE)),\"\",VLOOKUP(B1562,database!$A$6:$BFQ$206,4,FALSE)))","v":""},null,null,null,"",null,null,null,{"$f":"IF(B1562=\"\",\"\",IF(ISERROR(VLOOKUP(B1562,database!$A$6:$BFQ$206,3,FALSE)),\"\",VLOOKUP(B1562,database!$A$6:$BFQ$206,3,FALSE)))","v":""},null,null,null,null,null,null,""]
["",null,{"$f":"IF(B1563=\"\",\"\",IF(ISERROR(VLOOKUP(B1563,database!$A$6:$BFQ$206,4,FALSE)),\"\",VLOOKUP(B1563,database!$A$6:$BFQ$206,4,FALSE)))","v":""},null,null,null,"",null,null,null,{"$f":"IF(B1563=\"\",\"\",IF(ISERROR(VLOOKUP(B1563,database!$A$6:$BFQ$206,3,FALSE)),\"\",VLOOKUP(B1563,database!$A$6:$BFQ$206,3,FALSE)))","v":""},null,null,null,null,null,null,""]
["",null,{"$f":"IF(B1564=\"\",\"\",IF(ISERROR(VLOOKUP(B1564,database!$A$6:$BFQ$206,4,FALSE)),\"\",VLOOKUP(B1564,database!$A$6:$BFQ$206,4,FALSE)))","v":""},null,null,null,"",null,null,null,{"$f":"IF(B1564=\"\",\"\",IF(ISERROR(VLOOKUP(B1564,database!$A$6:$BFQ$206,3,FALSE)),\"\",VLOOKUP(B1564,database!$A$6:$BFQ$206,3,FALSE)))","v":""},null,null,null,null,null,null,""]
["",null,{"$f":"IF(B1565=\"\",\"\",IF(ISERROR(VLOOKUP(B1565,database!$A$6:$BFQ$206,4,FALSE)),\"\",VLOOKUP(B1565,database!$A$6:$BFQ$206,4,FALSE)))","v":""},null,null,null,"",null,null,null,{"$f":"IF(B1565=\"\",\"\",IF(ISERROR(VLOOKUP(B1565,database!$A$6:$BFQ$206,3,FALSE)),\"\",VLOOKUP(B1565,database!$A$6:$BFQ$206,3,FALSE)))","v":""},null,null,null,null,null,null,""]
["",null,{"$f":"IF(B1566=\"\",\"\",IF(ISERROR(VLOOKUP(B1566,database!$A$6:$BFQ$206,4,FALSE)),\"\",VLOOKUP(B1566,database!$A$6:$BFQ$206,4,FALSE)))","v":""},null,null,null,"",null,null,null,{"$f":"IF(B1566=\"\",\"\",IF(ISERROR(VLOOKUP(B1566,database!$A$6:$BFQ$206,3,FALSE)),\"\",VLOOKUP(B1566,database!$A$6:$BFQ$206,3,FALSE)))","v":""},null,null,null,null,null,null,""]
["",null,{"$f":"IF(B1567=\"\",\"\",IF(ISERROR(VLOOKUP(B1567,database!$A$6:$BFQ$206,4,FALSE)),\"\",VLOOKUP(B1567,database!$A$6:$BFQ$206,4,FALSE)))","v":""},null,null,null,"",null,null,null,{"$f":"IF(B1567=\"\",\"\",IF(ISERROR(VLOOKUP(B1567,database!$A$6:$BFQ$206,3,FALSE)),\"\",VLOOKUP(B1567,database!$A$6:$BFQ$206,3,FALSE)))","v":""},null,null,null,null,null,null,""]
["",null,{"$f":"IF(B1568=\"\",\"\",IF(ISERROR(VLOOKUP(B1568,database!$A$6:$BFQ$206,4,FALSE)),\"\",VLOOKUP(B1568,database!$A$6:$BFQ$206,4,FALSE)))","v":""},null,null,null,"",null,null,null,{"$f":"IF(B1568=\"\",\"\",IF(ISERROR(VLOOKUP(B1568,database!$A$6:$BFQ$206,3,FALSE)),\"\",VLOOKUP(B1568,database!$A$6:$BFQ$206,3,FALSE)))","v":""},null,null,null,null,null,null,""]
["",null,{"$f":"IF(B1569=\"\",\"\",IF(ISERROR(VLOOKUP(B1569,database!$A$6:$BFQ$206,4,FALSE)),\"\",VLOOKUP(B1569,database!$A$6:$BFQ$206,4,FALSE)))","v":""},null,null,null,"",null,null,null,{"$f":"IF(B1569=\"\",\"\",IF(ISERROR(VLOOKUP(B1569,database!$A$6:$BFQ$206,3,FALSE)),\"\",VLOOKUP(B1569,database!$A$6:$BFQ$206,3,FALSE)))","v":""},null,null,null,null,null,null,""]
["",null,{"$f":"IF(B1570=\"\",\"\",IF(ISERROR(VLOOKUP(B1570,database!$A$6:$BFQ$206,4,FALSE)),\"\",VLOOKUP(B1570,database!$A$6:$BFQ$206,4,FALSE)))","v":""},null,null,null,"",null,null,null,{"$f":"IF(B1570=\"\",\"\",IF(ISERROR(VLOOKUP(B1570,database!$A$6:$BFQ$206,3,FALSE)),\"\",VLOOKUP(B1570,database!$A$6:$BFQ$206,3,FALSE)))","v":""},null,null,null,null,null,null,""]
["",null,{"$f":"IF(B1571=\"\",\"\",IF(ISERROR(VLOOKUP(B1571,database!$A$6:$BFQ$206,4,FALSE)),\"\",VLOOKUP(B1571,database!$A$6:$BFQ$206,4,FALSE)))","v":""},null,null,null,"",null,null,null,{"$f":"IF(B1571=\"\",\"\",IF(ISERROR(VLOOKUP(B1571,database!$A$6:$BFQ$206,3,FALSE)),\"\",VLOOKUP(B1571,database!$A$6:$BFQ$206,3,FALSE)))","v":""},null,null,null,null,null,null,""]
["",null,{"$f":"IF(B1572=\"\",\"\",IF(ISERROR(VLOOKUP(B1572,database!$A$6:$BFQ$206,4,FALSE)),\"\",VLOOKUP(B1572,database!$A$6:$BFQ$206,4,FALSE)))","v":""},null,null,null,"",null,null,null,{"$f":"IF(B1572=\"\",\"\",IF(ISERROR(VLOOKUP(B1572,database!$A$6:$BFQ$206,3,FALSE)),\"\",VLOOKUP(B1572,database!$A$6:$BFQ$206,3,FALSE)))","v":""},null,null,null,null,null,null,""]
["",null,{"$f":"IF(B1573=\"\",\"\",IF(ISERROR(VLOOKUP(B1573,database!$A$6:$BFQ$206,4,FALSE)),\"\",VLOOKUP(B1573,database!$A$6:$BFQ$206,4,FALSE)))","v":""},null,null,null,"",null,null,null,{"$f":"IF(B1573=\"\",\"\",IF(ISERROR(VLOOKUP(B1573,database!$A$6:$BFQ$206,3,FALSE)),\"\",VLOOKUP(B1573,database!$A$6:$BFQ$206,3,FALSE)))","v":""},null,null,null,null,null,null,""]
["",null,{"$f":"IF(B1574=\"\",\"\",IF(ISERROR(VLOOKUP(B1574,database!$A$6:$BFQ$206,4,FALSE)),\"\",VLOOKUP(B1574,database!$A$6:$BFQ$206,4,FALSE)))","v":""},null,null,null,"",null,null,null,{"$f":"IF(B1574=\"\",\"\",IF(ISERROR(VLOOKUP(B1574,database!$A$6:$BFQ$206,3,FALSE)),\"\",VLOOKUP(B1574,database!$A$6:$BFQ$206,3,FALSE)))","v":""},null,null,null,null,null,null,""]
["",null,{"$f":"IF(B1575=\"\",\"\",IF(ISERROR(VLOOKUP(B1575,database!$A$6:$BFQ$206,4,FALSE)),\"\",VLOOKUP(B1575,database!$A$6:$BFQ$206,4,FALSE)))","v":""},null,null,null,"",null,null,null,{"$f":"IF(B1575=\"\",\"\",IF(ISERROR(VLOOKUP(B1575,database!$A$6:$BFQ$206,3,FALSE)),\"\",VLOOKUP(B1575,database!$A$6:$BFQ$206,3,FALSE)))","v":""},null,null,null,null,null,null,""]
["",null,{"$f":"IF(B1576=\"\",\"\",IF(ISERROR(VLOOKUP(B1576,database!$A$6:$BFQ$206,4,FALSE)),\"\",VLOOKUP(B1576,database!$A$6:$BFQ$206,4,FALSE)))","v":""},null,null,null,"",null,null,null,{"$f":"IF(B1576=\"\",\"\",IF(ISERROR(VLOOKUP(B1576,database!$A$6:$BFQ$206,3,FALSE)),\"\",VLOOKUP(B1576,database!$A$6:$BFQ$206,3,FALSE)))","v":""},null,null,null,null,null,null,""]
["",null,{"$f":"IF(B1577=\"\",\"\",IF(ISERROR(VLOOKUP(B1577,database!$A$6:$BFQ$206,4,FALSE)),\"\",VLOOKUP(B1577,database!$A$6:$BFQ$206,4,FALSE)))","v":""},null,null,null,"",null,null,null,{"$f":"IF(B1577=\"\",\"\",IF(ISERROR(VLOOKUP(B1577,database!$A$6:$BFQ$206,3,FALSE)),\"\",VLOOKUP(B1577,database!$A$6:$BFQ$206,3,FALSE)))","v":""},null,null,null,null,null,null,""]
["",null,{"$f":"IF(B1578=\"\",\"\",IF(ISERROR(VLOOKUP(B1578,database!$A$6:$BFQ$206,4,FALSE)),\"\",VLOOKUP(B1578,database!$A$6:$BFQ$206,4,FALSE)))","v":""},null,null,null,"",null,null,null,{"$f":"IF(B1578=\"\",\"\",IF(ISERROR(VLOOKUP(B1578,database!$A$6:$BFQ$206,3,FALSE)),\"\",VLOOKUP(B1578,database!$A$6:$BFQ$206,3,FALSE)))","v":""},null,null,null,null,null,null,""]
["",null,{"$f":"IF(B1579=\"\",\"\",IF(ISERROR(VLOOKUP(B1579,database!$A$6:$BFQ$206,4,FALSE)),\"\",VLOOKUP(B1579,database!$A$6:$BFQ$206,4,FALSE)))","v":""},null,null,null,"",null,null,null,{"$f":"IF(B1579=\"\",\"\",IF(ISERROR(VLOOKUP(B1579,database!$A$6:$BFQ$206,3,FALSE)),\"\",VLOOKUP(B1579,database!$A$6:$BFQ$206,3,FALSE)))","v":""},null,null,null,null,null,null,""]
["",null,{"$f":"IF(B1580=\"\",\"\",IF(ISERROR(VLOOKUP(B1580,database!$A$6:$BFQ$206,4,FALSE)),\"\",VLOOKUP(B1580,database!$A$6:$BFQ$206,4,FALSE)))","v":""},null,null,null,"",null,null,null,{"$f":"IF(B1580=\"\",\"\",IF(ISERROR(VLOOKUP(B1580,database!$A$6:$BFQ$206,3,FALSE)),\"\",VLOOKUP(B1580,database!$A$6:$BFQ$206,3,FALSE)))","v":""},null,null,null,null,null,null,""]
["",null,{"$f":"IF(B1581=\"\",\"\",IF(ISERROR(VLOOKUP(B1581,database!$A$6:$BFQ$206,4,FALSE)),\"\",VLOOKUP(B1581,database!$A$6:$BFQ$206,4,FALSE)))","v":""},null,null,null,"",null,null,null,{"$f":"IF(B1581=\"\",\"\",IF(ISERROR(VLOOKUP(B1581,database!$A$6:$BFQ$206,3,FALSE)),\"\",VLOOKUP(B1581,database!$A$6:$BFQ$206,3,FALSE)))","v":""},null,null,null,null,null,null,""]
["",null,{"$f":"IF(B1582=\"\",\"\",IF(ISERROR(VLOOKUP(B1582,database!$A$6:$BFQ$206,4,FALSE)),\"\",VLOOKUP(B1582,database!$A$6:$BFQ$206,4,FALSE)))","v":""},null,null,null,"",null,null,null,{"$f":"IF(B1582=\"\",\"\",IF(ISERROR(VLOOKUP(B1582,database!$A$6:$BFQ$206,3,FALSE)),\"\",VLOOKUP(B1582,database!$A$6:$BFQ$206,3,FALSE)))","v":""},null,null,null,null,null,null,""]
["",null,{"$f":"IF(B1583=\"\",\"\",IF(ISERROR(VLOOKUP(B1583,database!$A$6:$BFQ$206,4,FALSE)),\"\",VLOOKUP(B1583,database!$A$6:$BFQ$206,4,FALSE)))","v":""},null,null,null,"",null,null,null,{"$f":"IF(B1583=\"\",\"\",IF(ISERROR(VLOOKUP(B1583,database!$A$6:$BFQ$206,3,FALSE)),\"\",VLOOKUP(B1583,database!$A$6:$BFQ$206,3,FALSE)))","v":""},null,null,null,null,null,null,""]
["",null,{"$f":"IF(B1584=\"\",\"\",IF(ISERROR(VLOOKUP(B1584,database!$A$6:$BFQ$206,4,FALSE)),\"\",VLOOKUP(B1584,database!$A$6:$BFQ$206,4,FALSE)))","v":""},null,null,null,"",null,null,null,{"$f":"IF(B1584=\"\",\"\",IF(ISERROR(VLOOKUP(B1584,database!$A$6:$BFQ$206,3,FALSE)),\"\",VLOOKUP(B1584,database!$A$6:$BFQ$206,3,FALSE)))","v":""},null,null,null,null,null,null,""]
["",null,{"$f":"IF(B1585=\"\",\"\",IF(ISERROR(VLOOKUP(B1585,database!$A$6:$BFQ$206,4,FALSE)),\"\",VLOOKUP(B1585,database!$A$6:$BFQ$206,4,FALSE)))","v":""},null,null,null,"",null,null,null,{"$f":"IF(B1585=\"\",\"\",IF(ISERROR(VLOOKUP(B1585,database!$A$6:$BFQ$206,3,FALSE)),\"\",VLOOKUP(B1585,database!$A$6:$BFQ$206,3,FALSE)))","v":""},null,null,null,null,null,null,""]
["",null,{"$f":"IF(B1586=\"\",\"\",IF(ISERROR(VLOOKUP(B1586,database!$A$6:$BFQ$206,4,FALSE)),\"\",VLOOKUP(B1586,database!$A$6:$BFQ$206,4,FALSE)))","v":""},null,null,null,"",null,null,null,{"$f":"IF(B1586=\"\",\"\",IF(ISERROR(VLOOKUP(B1586,database!$A$6:$BFQ$206,3,FALSE)),\"\",VLOOKUP(B1586,database!$A$6:$BFQ$206,3,FALSE)))","v":""},null,null,null,null,null,null,""]
["",null,{"$f":"IF(B1587=\"\",\"\",IF(ISERROR(VLOOKUP(B1587,database!$A$6:$BFQ$206,4,FALSE)),\"\",VLOOKUP(B1587,database!$A$6:$BFQ$206,4,FALSE)))","v":""},null,null,null,"",null,null,null,{"$f":"IF(B1587=\"\",\"\",IF(ISERROR(VLOOKUP(B1587,database!$A$6:$BFQ$206,3,FALSE)),\"\",VLOOKUP(B1587,database!$A$6:$BFQ$206,3,FALSE)))","v":""},null,null,null,null,null,null,""]
["",null,{"$f":"IF(B1588=\"\",\"\",IF(ISERROR(VLOOKUP(B1588,database!$A$6:$BFQ$206,4,FALSE)),\"\",VLOOKUP(B1588,database!$A$6:$BFQ$206,4,FALSE)))","v":""},null,null,null,"",null,null,null,{"$f":"IF(B1588=\"\",\"\",IF(ISERROR(VLOOKUP(B1588,database!$A$6:$BFQ$206,3,FALSE)),\"\",VLOOKUP(B1588,database!$A$6:$BFQ$206,3,FALSE)))","v":""},null,null,null,null,null,null,""]
["",null,{"$f":"IF(B1589=\"\",\"\",IF(ISERROR(VLOOKUP(B1589,database!$A$6:$BFQ$206,4,FALSE)),\"\",VLOOKUP(B1589,database!$A$6:$BFQ$206,4,FALSE)))","v":""},null,null,null,"",null,null,null,{"$f":"IF(B1589=\"\",\"\",IF(ISERROR(VLOOKUP(B1589,database!$A$6:$BFQ$206,3,FALSE)),\"\",VLOOKUP(B1589,database!$A$6:$BFQ$206,3,FALSE)))","v":""},null,null,null,null,null,null,""]
["",null,{"$f":"IF(B1590=\"\",\"\",IF(ISERROR(VLOOKUP(B1590,database!$A$6:$BFQ$206,4,FALSE)),\"\",VLOOKUP(B1590,database!$A$6:$BFQ$206,4,FALSE)))","v":""},null,null,null,"",null,null,null,{"$f":"IF(B1590=\"\",\"\",IF(ISERROR(VLOOKUP(B1590,database!$A$6:$BFQ$206,3,FALSE)),\"\",VLOOKUP(B1590,database!$A$6:$BFQ$206,3,FALSE)))","v":""},null,null,null,null,null,null,""]
["",null,{"$f":"IF(B1591=\"\",\"\",IF(ISERROR(VLOOKUP(B1591,database!$A$6:$BFQ$206,4,FALSE)),\"\",VLOOKUP(B1591,database!$A$6:$BFQ$206,4,FALSE)))","v":""},null,null,null,"",null,null,null,{"$f":"IF(B1591=\"\",\"\",IF(ISERROR(VLOOKUP(B1591,database!$A$6:$BFQ$206,3,FALSE)),\"\",VLOOKUP(B1591,database!$A$6:$BFQ$206,3,FALSE)))","v":""},null,null,null,null,null,null,""]
["",null,{"$f":"IF(B1592=\"\",\"\",IF(ISERROR(VLOOKUP(B1592,database!$A$6:$BFQ$206,4,FALSE)),\"\",VLOOKUP(B1592,database!$A$6:$BFQ$206,4,FALSE)))","v":""},null,null,null,"",null,null,null,{"$f":"IF(B1592=\"\",\"\",IF(ISERROR(VLOOKUP(B1592,database!$A$6:$BFQ$206,3,FALSE)),\"\",VLOOKUP(B1592,database!$A$6:$BFQ$206,3,FALSE)))","v":""},null,null,null,null,null,null,""]
["",null,{"$f":"IF(B1593=\"\",\"\",IF(ISERROR(VLOOKUP(B1593,database!$A$6:$BFQ$206,4,FALSE)),\"\",VLOOKUP(B1593,database!$A$6:$BFQ$206,4,FALSE)))","v":""},null,null,null,"",null,null,null,{"$f":"IF(B1593=\"\",\"\",IF(ISERROR(VLOOKUP(B1593,database!$A$6:$BFQ$206,3,FALSE)),\"\",VLOOKUP(B1593,database!$A$6:$BFQ$206,3,FALSE)))","v":""},null,null,null,null,null,null,""]
["",null,{"$f":"IF(B1594=\"\",\"\",IF(ISERROR(VLOOKUP(B1594,database!$A$6:$BFQ$206,4,FALSE)),\"\",VLOOKUP(B1594,database!$A$6:$BFQ$206,4,FALSE)))","v":""},null,null,null,"",null,null,null,{"$f":"IF(B1594=\"\",\"\",IF(ISERROR(VLOOKUP(B1594,database!$A$6:$BFQ$206,3,FALSE)),\"\",VLOOKUP(B1594,database!$A$6:$BFQ$206,3,FALSE)))","v":""},null,null,null,null,null,null,""]
["",null,{"$f":"IF(B1595=\"\",\"\",IF(ISERROR(VLOOKUP(B1595,database!$A$6:$BFQ$206,4,FALSE)),\"\",VLOOKUP(B1595,database!$A$6:$BFQ$206,4,FALSE)))","v":""},null,null,null,"",null,null,null,{"$f":"IF(B1595=\"\",\"\",IF(ISERROR(VLOOKUP(B1595,database!$A$6:$BFQ$206,3,FALSE)),\"\",VLOOKUP(B1595,database!$A$6:$BFQ$206,3,FALSE)))","v":""},null,null,null,null,null,null,""]
["",null,{"$f":"IF(B1596=\"\",\"\",IF(ISERROR(VLOOKUP(B1596,database!$A$6:$BFQ$206,4,FALSE)),\"\",VLOOKUP(B1596,database!$A$6:$BFQ$206,4,FALSE)))","v":""},null,null,null,"",null,null,null,{"$f":"IF(B1596=\"\",\"\",IF(ISERROR(VLOOKUP(B1596,database!$A$6:$BFQ$206,3,FALSE)),\"\",VLOOKUP(B1596,database!$A$6:$BFQ$206,3,FALSE)))","v":""},null,null,null,null,null,null,""]
["",null,{"$f":"IF(B1597=\"\",\"\",IF(ISERROR(VLOOKUP(B1597,database!$A$6:$BFQ$206,4,FALSE)),\"\",VLOOKUP(B1597,database!$A$6:$BFQ$206,4,FALSE)))","v":""},null,null,null,"",null,null,null,{"$f":"IF(B1597=\"\",\"\",IF(ISERROR(VLOOKUP(B1597,database!$A$6:$BFQ$206,3,FALSE)),\"\",VLOOKUP(B1597,database!$A$6:$BFQ$206,3,FALSE)))","v":""},null,null,null,null,null,null,""]
["",null,{"$f":"IF(B1598=\"\",\"\",IF(ISERROR(VLOOKUP(B1598,database!$A$6:$BFQ$206,4,FALSE)),\"\",VLOOKUP(B1598,database!$A$6:$BFQ$206,4,FALSE)))","v":""},null,null,null,"",null,null,null,{"$f":"IF(B1598=\"\",\"\",IF(ISERROR(VLOOKUP(B1598,database!$A$6:$BFQ$206,3,FALSE)),\"\",VLOOKUP(B1598,database!$A$6:$BFQ$206,3,FALSE)))","v":""},null,null,null,null,null,null,""]
["",null,{"$f":"IF(B1599=\"\",\"\",IF(ISERROR(VLOOKUP(B1599,database!$A$6:$BFQ$206,4,FALSE)),\"\",VLOOKUP(B1599,database!$A$6:$BFQ$206,4,FALSE)))","v":""},null,null,null,"",null,null,null,{"$f":"IF(B1599=\"\",\"\",IF(ISERROR(VLOOKUP(B1599,database!$A$6:$BFQ$206,3,FALSE)),\"\",VLOOKUP(B1599,database!$A$6:$BFQ$206,3,FALSE)))","v":""},null,null,null,null,null,null,""]
["",null,{"$f":"IF(B1600=\"\",\"\",IF(ISERROR(VLOOKUP(B1600,database!$A$6:$BFQ$206,4,FALSE)),\"\",VLOOKUP(B1600,database!$A$6:$BFQ$206,4,FALSE)))","v":""},null,null,null,"",null,null,null,{"$f":"IF(B1600=\"\",\"\",IF(ISERROR(VLOOKUP(B1600,database!$A$6:$BFQ$206,3,FALSE)),\"\",VLOOKUP(B1600,database!$A$6:$BFQ$206,3,FALSE)))","v":""},null,null,null,null,null,null,""]
[{"$f":"IF(B1601=\"\",\"\",ROW(A1598))","v":""},null,{"$f":"IF(B1601=\"\",\"\",IF(ISERROR(VLOOKUP(B1601,database!$A$6:$BFQ$206,4,FALSE)),\"\",VLOOKUP(B1601,database!$A$6:$BFQ$206,4,FALSE)))","v":""},null,null,null,{"$f":"IF(B1601=\"\",\"\",IF(C1601=\"\",0,1))","v":""},null,null,null,{"$f":"IF(B1601=\"\",\"\",IF(ISERROR(VLOOKUP(B1601,database!$A$6:$BFQ$206,3,FALSE)),\"\",VLOOKUP(B1601,database!$A$6:$BFQ$206,3,FALSE)))","v":""},null,null,null,null,null,null,{"$f":"LEFT(C1601,2)","v":""}]
["",null,{"$f":"IF(B1602=\"\",\"\",IF(ISERROR(VLOOKUP(B1602,database!$A$6:$BFQ$206,4,FALSE)),\"\",VLOOKUP(B1602,database!$A$6:$BFQ$206,4,FALSE)))","v":""},null,null,null,"",null,null,null,{"$f":"IF(B1602=\"\",\"\",IF(ISERROR(VLOOKUP(B1602,database!$A$6:$BFQ$206,3,FALSE)),\"\",VLOOKUP(B1602,database!$A$6:$BFQ$206,3,FALSE)))","v":""},null,null,null,null,null,null,""]
["",null,{"$f":"IF(B1603=\"\",\"\",IF(ISERROR(VLOOKUP(B1603,database!$A$6:$BFQ$206,4,FALSE)),\"\",VLOOKUP(B1603,database!$A$6:$BFQ$206,4,FALSE)))","v":""},null,null,null,"",null,null,null,{"$f":"IF(B1603=\"\",\"\",IF(ISERROR(VLOOKUP(B1603,database!$A$6:$BFQ$206,3,FALSE)),\"\",VLOOKUP(B1603,database!$A$6:$BFQ$206,3,FALSE)))","v":""},null,null,null,null,null,null,""]
["",null,{"$f":"IF(B1604=\"\",\"\",IF(ISERROR(VLOOKUP(B1604,database!$A$6:$BFQ$206,4,FALSE)),\"\",VLOOKUP(B1604,database!$A$6:$BFQ$206,4,FALSE)))","v":""},null,null,null,"",null,null,null,{"$f":"IF(B1604=\"\",\"\",IF(ISERROR(VLOOKUP(B1604,database!$A$6:$BFQ$206,3,FALSE)),\"\",VLOOKUP(B1604,database!$A$6:$BFQ$206,3,FALSE)))","v":""},null,null,null,null,null,null,""]
["",null,{"$f":"IF(B1605=\"\",\"\",IF(ISERROR(VLOOKUP(B1605,database!$A$6:$BFQ$206,4,FALSE)),\"\",VLOOKUP(B1605,database!$A$6:$BFQ$206,4,FALSE)))","v":""},null,null,null,"",null,null,null,{"$f":"IF(B1605=\"\",\"\",IF(ISERROR(VLOOKUP(B1605,database!$A$6:$BFQ$206,3,FALSE)),\"\",VLOOKUP(B1605,database!$A$6:$BFQ$206,3,FALSE)))","v":""},null,null,null,null,null,null,""]
["",null,{"$f":"IF(B1606=\"\",\"\",IF(ISERROR(VLOOKUP(B1606,database!$A$6:$BFQ$206,4,FALSE)),\"\",VLOOKUP(B1606,database!$A$6:$BFQ$206,4,FALSE)))","v":""},null,null,null,"",null,null,null,{"$f":"IF(B1606=\"\",\"\",IF(ISERROR(VLOOKUP(B1606,database!$A$6:$BFQ$206,3,FALSE)),\"\",VLOOKUP(B1606,database!$A$6:$BFQ$206,3,FALSE)))","v":""},null,null,null,null,null,null,""]
["",null,{"$f":"IF(B1607=\"\",\"\",IF(ISERROR(VLOOKUP(B1607,database!$A$6:$BFQ$206,4,FALSE)),\"\",VLOOKUP(B1607,database!$A$6:$BFQ$206,4,FALSE)))","v":""},null,null,null,"",null,null,null,{"$f":"IF(B1607=\"\",\"\",IF(ISERROR(VLOOKUP(B1607,database!$A$6:$BFQ$206,3,FALSE)),\"\",VLOOKUP(B1607,database!$A$6:$BFQ$206,3,FALSE)))","v":""},null,null,null,null,null,null,""]
["",null,{"$f":"IF(B1608=\"\",\"\",IF(ISERROR(VLOOKUP(B1608,database!$A$6:$BFQ$206,4,FALSE)),\"\",VLOOKUP(B1608,database!$A$6:$BFQ$206,4,FALSE)))","v":""},null,null,null,"",null,null,null,{"$f":"IF(B1608=\"\",\"\",IF(ISERROR(VLOOKUP(B1608,database!$A$6:$BFQ$206,3,FALSE)),\"\",VLOOKUP(B1608,database!$A$6:$BFQ$206,3,FALSE)))","v":""},null,null,null,null,null,null,""]
["",null,{"$f":"IF(B1609=\"\",\"\",IF(ISERROR(VLOOKUP(B1609,database!$A$6:$BFQ$206,4,FALSE)),\"\",VLOOKUP(B1609,database!$A$6:$BFQ$206,4,FALSE)))","v":""},null,null,null,"",null,null,null,{"$f":"IF(B1609=\"\",\"\",IF(ISERROR(VLOOKUP(B1609,database!$A$6:$BFQ$206,3,FALSE)),\"\",VLOOKUP(B1609,database!$A$6:$BFQ$206,3,FALSE)))","v":""},null,null,null,null,null,null,""]
["",null,{"$f":"IF(B1610=\"\",\"\",IF(ISERROR(VLOOKUP(B1610,database!$A$6:$BFQ$206,4,FALSE)),\"\",VLOOKUP(B1610,database!$A$6:$BFQ$206,4,FALSE)))","v":""},null,null,null,"",null,null,null,{"$f":"IF(B1610=\"\",\"\",IF(ISERROR(VLOOKUP(B1610,database!$A$6:$BFQ$206,3,FALSE)),\"\",VLOOKUP(B1610,database!$A$6:$BFQ$206,3,FALSE)))","v":""},null,null,null,null,null,null,""]
["",null,{"$f":"IF(B1611=\"\",\"\",IF(ISERROR(VLOOKUP(B1611,database!$A$6:$BFQ$206,4,FALSE)),\"\",VLOOKUP(B1611,database!$A$6:$BFQ$206,4,FALSE)))","v":""},null,null,null,"",null,null,null,{"$f":"IF(B1611=\"\",\"\",IF(ISERROR(VLOOKUP(B1611,database!$A$6:$BFQ$206,3,FALSE)),\"\",VLOOKUP(B1611,database!$A$6:$BFQ$206,3,FALSE)))","v":""},null,null,null,null,null,null,""]
["",null,{"$f":"IF(B1612=\"\",\"\",IF(ISERROR(VLOOKUP(B1612,database!$A$6:$BFQ$206,4,FALSE)),\"\",VLOOKUP(B1612,database!$A$6:$BFQ$206,4,FALSE)))","v":""},null,null,null,"",null,null,null,{"$f":"IF(B1612=\"\",\"\",IF(ISERROR(VLOOKUP(B1612,database!$A$6:$BFQ$206,3,FALSE)),\"\",VLOOKUP(B1612,database!$A$6:$BFQ$206,3,FALSE)))","v":""},null,null,null,null,null,null,""]
["",null,{"$f":"IF(B1613=\"\",\"\",IF(ISERROR(VLOOKUP(B1613,database!$A$6:$BFQ$206,4,FALSE)),\"\",VLOOKUP(B1613,database!$A$6:$BFQ$206,4,FALSE)))","v":""},null,null,null,"",null,null,null,{"$f":"IF(B1613=\"\",\"\",IF(ISERROR(VLOOKUP(B1613,database!$A$6:$BFQ$206,3,FALSE)),\"\",VLOOKUP(B1613,database!$A$6:$BFQ$206,3,FALSE)))","v":""},null,null,null,null,null,null,""]
["",null,{"$f":"IF(B1614=\"\",\"\",IF(ISERROR(VLOOKUP(B1614,database!$A$6:$BFQ$206,4,FALSE)),\"\",VLOOKUP(B1614,database!$A$6:$BFQ$206,4,FALSE)))","v":""},null,null,null,"",null,null,null,{"$f":"IF(B1614=\"\",\"\",IF(ISERROR(VLOOKUP(B1614,database!$A$6:$BFQ$206,3,FALSE)),\"\",VLOOKUP(B1614,database!$A$6:$BFQ$206,3,FALSE)))","v":""},null,null,null,null,null,null,""]
["",null,{"$f":"IF(B1615=\"\",\"\",IF(ISERROR(VLOOKUP(B1615,database!$A$6:$BFQ$206,4,FALSE)),\"\",VLOOKUP(B1615,database!$A$6:$BFQ$206,4,FALSE)))","v":""},null,null,null,"",null,null,null,{"$f":"IF(B1615=\"\",\"\",IF(ISERROR(VLOOKUP(B1615,database!$A$6:$BFQ$206,3,FALSE)),\"\",VLOOKUP(B1615,database!$A$6:$BFQ$206,3,FALSE)))","v":""},null,null,null,null,null,null,""]
["",null,{"$f":"IF(B1616=\"\",\"\",IF(ISERROR(VLOOKUP(B1616,database!$A$6:$BFQ$206,4,FALSE)),\"\",VLOOKUP(B1616,database!$A$6:$BFQ$206,4,FALSE)))","v":""},null,null,null,"",null,null,null,{"$f":"IF(B1616=\"\",\"\",IF(ISERROR(VLOOKUP(B1616,database!$A$6:$BFQ$206,3,FALSE)),\"\",VLOOKUP(B1616,database!$A$6:$BFQ$206,3,FALSE)))","v":""},null,null,null,null,null,null,""]
["",null,{"$f":"IF(B1617=\"\",\"\",IF(ISERROR(VLOOKUP(B1617,database!$A$6:$BFQ$206,4,FALSE)),\"\",VLOOKUP(B1617,database!$A$6:$BFQ$206,4,FALSE)))","v":""},null,null,null,"",null,null,null,{"$f":"IF(B1617=\"\",\"\",IF(ISERROR(VLOOKUP(B1617,database!$A$6:$BFQ$206,3,FALSE)),\"\",VLOOKUP(B1617,database!$A$6:$BFQ$206,3,FALSE)))","v":""},null,null,null,null,null,null,""]
["",null,{"$f":"IF(B1618=\"\",\"\",IF(ISERROR(VLOOKUP(B1618,database!$A$6:$BFQ$206,4,FALSE)),\"\",VLOOKUP(B1618,database!$A$6:$BFQ$206,4,FALSE)))","v":""},null,null,null,"",null,null,null,{"$f":"IF(B1618=\"\",\"\",IF(ISERROR(VLOOKUP(B1618,database!$A$6:$BFQ$206,3,FALSE)),\"\",VLOOKUP(B1618,database!$A$6:$BFQ$206,3,FALSE)))","v":""},null,null,null,null,null,null,""]
["",null,{"$f":"IF(B1619=\"\",\"\",IF(ISERROR(VLOOKUP(B1619,database!$A$6:$BFQ$206,4,FALSE)),\"\",VLOOKUP(B1619,database!$A$6:$BFQ$206,4,FALSE)))","v":""},null,null,null,"",null,null,null,{"$f":"IF(B1619=\"\",\"\",IF(ISERROR(VLOOKUP(B1619,database!$A$6:$BFQ$206,3,FALSE)),\"\",VLOOKUP(B1619,database!$A$6:$BFQ$206,3,FALSE)))","v":""},null,null,null,null,null,null,""]
["",null,{"$f":"IF(B1620=\"\",\"\",IF(ISERROR(VLOOKUP(B1620,database!$A$6:$BFQ$206,4,FALSE)),\"\",VLOOKUP(B1620,database!$A$6:$BFQ$206,4,FALSE)))","v":""},null,null,null,"",null,null,null,{"$f":"IF(B1620=\"\",\"\",IF(ISERROR(VLOOKUP(B1620,database!$A$6:$BFQ$206,3,FALSE)),\"\",VLOOKUP(B1620,database!$A$6:$BFQ$206,3,FALSE)))","v":""},null,null,null,null,null,null,""]
["",null,{"$f":"IF(B1621=\"\",\"\",IF(ISERROR(VLOOKUP(B1621,database!$A$6:$BFQ$206,4,FALSE)),\"\",VLOOKUP(B1621,database!$A$6:$BFQ$206,4,FALSE)))","v":""},null,null,null,"",null,null,null,{"$f":"IF(B1621=\"\",\"\",IF(ISERROR(VLOOKUP(B1621,database!$A$6:$BFQ$206,3,FALSE)),\"\",VLOOKUP(B1621,database!$A$6:$BFQ$206,3,FALSE)))","v":""},null,null,null,null,null,null,""]
["",null,{"$f":"IF(B1622=\"\",\"\",IF(ISERROR(VLOOKUP(B1622,database!$A$6:$BFQ$206,4,FALSE)),\"\",VLOOKUP(B1622,database!$A$6:$BFQ$206,4,FALSE)))","v":""},null,null,null,"",null,null,null,{"$f":"IF(B1622=\"\",\"\",IF(ISERROR(VLOOKUP(B1622,database!$A$6:$BFQ$206,3,FALSE)),\"\",VLOOKUP(B1622,database!$A$6:$BFQ$206,3,FALSE)))","v":""},null,null,null,null,null,null,""]
["",null,{"$f":"IF(B1623=\"\",\"\",IF(ISERROR(VLOOKUP(B1623,database!$A$6:$BFQ$206,4,FALSE)),\"\",VLOOKUP(B1623,database!$A$6:$BFQ$206,4,FALSE)))","v":""},null,null,null,"",null,null,null,{"$f":"IF(B1623=\"\",\"\",IF(ISERROR(VLOOKUP(B1623,database!$A$6:$BFQ$206,3,FALSE)),\"\",VLOOKUP(B1623,database!$A$6:$BFQ$206,3,FALSE)))","v":""},null,null,null,null,null,null,""]
["",null,{"$f":"IF(B1624=\"\",\"\",IF(ISERROR(VLOOKUP(B1624,database!$A$6:$BFQ$206,4,FALSE)),\"\",VLOOKUP(B1624,database!$A$6:$BFQ$206,4,FALSE)))","v":""},null,null,null,"",null,null,null,{"$f":"IF(B1624=\"\",\"\",IF(ISERROR(VLOOKUP(B1624,database!$A$6:$BFQ$206,3,FALSE)),\"\",VLOOKUP(B1624,database!$A$6:$BFQ$206,3,FALSE)))","v":""},null,null,null,null,null,null,""]
["",null,{"$f":"IF(B1625=\"\",\"\",IF(ISERROR(VLOOKUP(B1625,database!$A$6:$BFQ$206,4,FALSE)),\"\",VLOOKUP(B1625,database!$A$6:$BFQ$206,4,FALSE)))","v":""},null,null,null,"",null,null,null,{"$f":"IF(B1625=\"\",\"\",IF(ISERROR(VLOOKUP(B1625,database!$A$6:$BFQ$206,3,FALSE)),\"\",VLOOKUP(B1625,database!$A$6:$BFQ$206,3,FALSE)))","v":""},null,null,null,null,null,null,""]
["",null,{"$f":"IF(B1626=\"\",\"\",IF(ISERROR(VLOOKUP(B1626,database!$A$6:$BFQ$206,4,FALSE)),\"\",VLOOKUP(B1626,database!$A$6:$BFQ$206,4,FALSE)))","v":""},null,null,null,"",null,null,null,{"$f":"IF(B1626=\"\",\"\",IF(ISERROR(VLOOKUP(B1626,database!$A$6:$BFQ$206,3,FALSE)),\"\",VLOOKUP(B1626,database!$A$6:$BFQ$206,3,FALSE)))","v":""},null,null,null,null,null,null,""]
["",null,{"$f":"IF(B1627=\"\",\"\",IF(ISERROR(VLOOKUP(B1627,database!$A$6:$BFQ$206,4,FALSE)),\"\",VLOOKUP(B1627,database!$A$6:$BFQ$206,4,FALSE)))","v":""},null,null,null,"",null,null,null,{"$f":"IF(B1627=\"\",\"\",IF(ISERROR(VLOOKUP(B1627,database!$A$6:$BFQ$206,3,FALSE)),\"\",VLOOKUP(B1627,database!$A$6:$BFQ$206,3,FALSE)))","v":""},null,null,null,null,null,null,""]
["",null,{"$f":"IF(B1628=\"\",\"\",IF(ISERROR(VLOOKUP(B1628,database!$A$6:$BFQ$206,4,FALSE)),\"\",VLOOKUP(B1628,database!$A$6:$BFQ$206,4,FALSE)))","v":""},null,null,null,"",null,null,null,{"$f":"IF(B1628=\"\",\"\",IF(ISERROR(VLOOKUP(B1628,database!$A$6:$BFQ$206,3,FALSE)),\"\",VLOOKUP(B1628,database!$A$6:$BFQ$206,3,FALSE)))","v":""},null,null,null,null,null,null,""]
["",null,{"$f":"IF(B1629=\"\",\"\",IF(ISERROR(VLOOKUP(B1629,database!$A$6:$BFQ$206,4,FALSE)),\"\",VLOOKUP(B1629,database!$A$6:$BFQ$206,4,FALSE)))","v":""},null,null,null,"",null,null,null,{"$f":"IF(B1629=\"\",\"\",IF(ISERROR(VLOOKUP(B1629,database!$A$6:$BFQ$206,3,FALSE)),\"\",VLOOKUP(B1629,database!$A$6:$BFQ$206,3,FALSE)))","v":""},null,null,null,null,null,null,""]
["",null,{"$f":"IF(B1630=\"\",\"\",IF(ISERROR(VLOOKUP(B1630,database!$A$6:$BFQ$206,4,FALSE)),\"\",VLOOKUP(B1630,database!$A$6:$BFQ$206,4,FALSE)))","v":""},null,null,null,"",null,null,null,{"$f":"IF(B1630=\"\",\"\",IF(ISERROR(VLOOKUP(B1630,database!$A$6:$BFQ$206,3,FALSE)),\"\",VLOOKUP(B1630,database!$A$6:$BFQ$206,3,FALSE)))","v":""},null,null,null,null,null,null,""]
["",null,{"$f":"IF(B1631=\"\",\"\",IF(ISERROR(VLOOKUP(B1631,database!$A$6:$BFQ$206,4,FALSE)),\"\",VLOOKUP(B1631,database!$A$6:$BFQ$206,4,FALSE)))","v":""},null,null,null,"",null,null,null,{"$f":"IF(B1631=\"\",\"\",IF(ISERROR(VLOOKUP(B1631,database!$A$6:$BFQ$206,3,FALSE)),\"\",VLOOKUP(B1631,database!$A$6:$BFQ$206,3,FALSE)))","v":""},null,null,null,null,null,null,""]
["",null,{"$f":"IF(B1632=\"\",\"\",IF(ISERROR(VLOOKUP(B1632,database!$A$6:$BFQ$206,4,FALSE)),\"\",VLOOKUP(B1632,database!$A$6:$BFQ$206,4,FALSE)))","v":""},null,null,null,"",null,null,null,{"$f":"IF(B1632=\"\",\"\",IF(ISERROR(VLOOKUP(B1632,database!$A$6:$BFQ$206,3,FALSE)),\"\",VLOOKUP(B1632,database!$A$6:$BFQ$206,3,FALSE)))","v":""},null,null,null,null,null,null,""]
["",null,{"$f":"IF(B1633=\"\",\"\",IF(ISERROR(VLOOKUP(B1633,database!$A$6:$BFQ$206,4,FALSE)),\"\",VLOOKUP(B1633,database!$A$6:$BFQ$206,4,FALSE)))","v":""},null,null,null,"",null,null,null,{"$f":"IF(B1633=\"\",\"\",IF(ISERROR(VLOOKUP(B1633,database!$A$6:$BFQ$206,3,FALSE)),\"\",VLOOKUP(B1633,database!$A$6:$BFQ$206,3,FALSE)))","v":""},null,null,null,null,null,null,""]
["",null,{"$f":"IF(B1634=\"\",\"\",IF(ISERROR(VLOOKUP(B1634,database!$A$6:$BFQ$206,4,FALSE)),\"\",VLOOKUP(B1634,database!$A$6:$BFQ$206,4,FALSE)))","v":""},null,null,null,"",null,null,null,{"$f":"IF(B1634=\"\",\"\",IF(ISERROR(VLOOKUP(B1634,database!$A$6:$BFQ$206,3,FALSE)),\"\",VLOOKUP(B1634,database!$A$6:$BFQ$206,3,FALSE)))","v":""},null,null,null,null,null,null,""]
["",null,{"$f":"IF(B1635=\"\",\"\",IF(ISERROR(VLOOKUP(B1635,database!$A$6:$BFQ$206,4,FALSE)),\"\",VLOOKUP(B1635,database!$A$6:$BFQ$206,4,FALSE)))","v":""},null,null,null,"",null,null,null,{"$f":"IF(B1635=\"\",\"\",IF(ISERROR(VLOOKUP(B1635,database!$A$6:$BFQ$206,3,FALSE)),\"\",VLOOKUP(B1635,database!$A$6:$BFQ$206,3,FALSE)))","v":""},null,null,null,null,null,null,""]
["",null,{"$f":"IF(B1636=\"\",\"\",IF(ISERROR(VLOOKUP(B1636,database!$A$6:$BFQ$206,4,FALSE)),\"\",VLOOKUP(B1636,database!$A$6:$BFQ$206,4,FALSE)))","v":""},null,null,null,"",null,null,null,{"$f":"IF(B1636=\"\",\"\",IF(ISERROR(VLOOKUP(B1636,database!$A$6:$BFQ$206,3,FALSE)),\"\",VLOOKUP(B1636,database!$A$6:$BFQ$206,3,FALSE)))","v":""},null,null,null,null,null,null,""]
["",null,{"$f":"IF(B1637=\"\",\"\",IF(ISERROR(VLOOKUP(B1637,database!$A$6:$BFQ$206,4,FALSE)),\"\",VLOOKUP(B1637,database!$A$6:$BFQ$206,4,FALSE)))","v":""},null,null,null,"",null,null,null,{"$f":"IF(B1637=\"\",\"\",IF(ISERROR(VLOOKUP(B1637,database!$A$6:$BFQ$206,3,FALSE)),\"\",VLOOKUP(B1637,database!$A$6:$BFQ$206,3,FALSE)))","v":""},null,null,null,null,null,null,""]
["",null,{"$f":"IF(B1638=\"\",\"\",IF(ISERROR(VLOOKUP(B1638,database!$A$6:$BFQ$206,4,FALSE)),\"\",VLOOKUP(B1638,database!$A$6:$BFQ$206,4,FALSE)))","v":""},null,null,null,"",null,null,null,{"$f":"IF(B1638=\"\",\"\",IF(ISERROR(VLOOKUP(B1638,database!$A$6:$BFQ$206,3,FALSE)),\"\",VLOOKUP(B1638,database!$A$6:$BFQ$206,3,FALSE)))","v":""},null,null,null,null,null,null,""]
["",null,{"$f":"IF(B1639=\"\",\"\",IF(ISERROR(VLOOKUP(B1639,database!$A$6:$BFQ$206,4,FALSE)),\"\",VLOOKUP(B1639,database!$A$6:$BFQ$206,4,FALSE)))","v":""},null,null,null,"",null,null,null,{"$f":"IF(B1639=\"\",\"\",IF(ISERROR(VLOOKUP(B1639,database!$A$6:$BFQ$206,3,FALSE)),\"\",VLOOKUP(B1639,database!$A$6:$BFQ$206,3,FALSE)))","v":""},null,null,null,null,null,null,""]
["",null,{"$f":"IF(B1640=\"\",\"\",IF(ISERROR(VLOOKUP(B1640,database!$A$6:$BFQ$206,4,FALSE)),\"\",VLOOKUP(B1640,database!$A$6:$BFQ$206,4,FALSE)))","v":""},null,null,null,"",null,null,null,{"$f":"IF(B1640=\"\",\"\",IF(ISERROR(VLOOKUP(B1640,database!$A$6:$BFQ$206,3,FALSE)),\"\",VLOOKUP(B1640,database!$A$6:$BFQ$206,3,FALSE)))","v":""},null,null,null,null,null,null,""]
["",null,{"$f":"IF(B1641=\"\",\"\",IF(ISERROR(VLOOKUP(B1641,database!$A$6:$BFQ$206,4,FALSE)),\"\",VLOOKUP(B1641,database!$A$6:$BFQ$206,4,FALSE)))","v":""},null,null,null,"",null,null,null,{"$f":"IF(B1641=\"\",\"\",IF(ISERROR(VLOOKUP(B1641,database!$A$6:$BFQ$206,3,FALSE)),\"\",VLOOKUP(B1641,database!$A$6:$BFQ$206,3,FALSE)))","v":""},null,null,null,null,null,null,""]
["",null,{"$f":"IF(B1642=\"\",\"\",IF(ISERROR(VLOOKUP(B1642,database!$A$6:$BFQ$206,4,FALSE)),\"\",VLOOKUP(B1642,database!$A$6:$BFQ$206,4,FALSE)))","v":""},null,null,null,"",null,null,null,{"$f":"IF(B1642=\"\",\"\",IF(ISERROR(VLOOKUP(B1642,database!$A$6:$BFQ$206,3,FALSE)),\"\",VLOOKUP(B1642,database!$A$6:$BFQ$206,3,FALSE)))","v":""},null,null,null,null,null,null,""]
["",null,{"$f":"IF(B1643=\"\",\"\",IF(ISERROR(VLOOKUP(B1643,database!$A$6:$BFQ$206,4,FALSE)),\"\",VLOOKUP(B1643,database!$A$6:$BFQ$206,4,FALSE)))","v":""},null,null,null,"",null,null,null,{"$f":"IF(B1643=\"\",\"\",IF(ISERROR(VLOOKUP(B1643,database!$A$6:$BFQ$206,3,FALSE)),\"\",VLOOKUP(B1643,database!$A$6:$BFQ$206,3,FALSE)))","v":""},null,null,null,null,null,null,""]
["",null,{"$f":"IF(B1644=\"\",\"\",IF(ISERROR(VLOOKUP(B1644,database!$A$6:$BFQ$206,4,FALSE)),\"\",VLOOKUP(B1644,database!$A$6:$BFQ$206,4,FALSE)))","v":""},null,null,null,"",null,null,null,{"$f":"IF(B1644=\"\",\"\",IF(ISERROR(VLOOKUP(B1644,database!$A$6:$BFQ$206,3,FALSE)),\"\",VLOOKUP(B1644,database!$A$6:$BFQ$206,3,FALSE)))","v":""},null,null,null,null,null,null,""]
["",null,{"$f":"IF(B1645=\"\",\"\",IF(ISERROR(VLOOKUP(B1645,database!$A$6:$BFQ$206,4,FALSE)),\"\",VLOOKUP(B1645,database!$A$6:$BFQ$206,4,FALSE)))","v":""},null,null,null,"",null,null,null,{"$f":"IF(B1645=\"\",\"\",IF(ISERROR(VLOOKUP(B1645,database!$A$6:$BFQ$206,3,FALSE)),\"\",VLOOKUP(B1645,database!$A$6:$BFQ$206,3,FALSE)))","v":""},null,null,null,null,null,null,""]
["",null,{"$f":"IF(B1646=\"\",\"\",IF(ISERROR(VLOOKUP(B1646,database!$A$6:$BFQ$206,4,FALSE)),\"\",VLOOKUP(B1646,database!$A$6:$BFQ$206,4,FALSE)))","v":""},null,null,null,"",null,null,null,{"$f":"IF(B1646=\"\",\"\",IF(ISERROR(VLOOKUP(B1646,database!$A$6:$BFQ$206,3,FALSE)),\"\",VLOOKUP(B1646,database!$A$6:$BFQ$206,3,FALSE)))","v":""},null,null,null,null,null,null,""]
["",null,{"$f":"IF(B1647=\"\",\"\",IF(ISERROR(VLOOKUP(B1647,database!$A$6:$BFQ$206,4,FALSE)),\"\",VLOOKUP(B1647,database!$A$6:$BFQ$206,4,FALSE)))","v":""},null,null,null,"",null,null,null,{"$f":"IF(B1647=\"\",\"\",IF(ISERROR(VLOOKUP(B1647,database!$A$6:$BFQ$206,3,FALSE)),\"\",VLOOKUP(B1647,database!$A$6:$BFQ$206,3,FALSE)))","v":""},null,null,null,null,null,null,""]
["",null,{"$f":"IF(B1648=\"\",\"\",IF(ISERROR(VLOOKUP(B1648,database!$A$6:$BFQ$206,4,FALSE)),\"\",VLOOKUP(B1648,database!$A$6:$BFQ$206,4,FALSE)))","v":""},null,null,null,"",null,null,null,{"$f":"IF(B1648=\"\",\"\",IF(ISERROR(VLOOKUP(B1648,database!$A$6:$BFQ$206,3,FALSE)),\"\",VLOOKUP(B1648,database!$A$6:$BFQ$206,3,FALSE)))","v":""},null,null,null,null,null,null,""]
["",null,{"$f":"IF(B1649=\"\",\"\",IF(ISERROR(VLOOKUP(B1649,database!$A$6:$BFQ$206,4,FALSE)),\"\",VLOOKUP(B1649,database!$A$6:$BFQ$206,4,FALSE)))","v":""},null,null,null,"",null,null,null,{"$f":"IF(B1649=\"\",\"\",IF(ISERROR(VLOOKUP(B1649,database!$A$6:$BFQ$206,3,FALSE)),\"\",VLOOKUP(B1649,database!$A$6:$BFQ$206,3,FALSE)))","v":""},null,null,null,null,null,null,""]
["",null,{"$f":"IF(B1650=\"\",\"\",IF(ISERROR(VLOOKUP(B1650,database!$A$6:$BFQ$206,4,FALSE)),\"\",VLOOKUP(B1650,database!$A$6:$BFQ$206,4,FALSE)))","v":""},null,null,null,"",null,null,null,{"$f":"IF(B1650=\"\",\"\",IF(ISERROR(VLOOKUP(B1650,database!$A$6:$BFQ$206,3,FALSE)),\"\",VLOOKUP(B1650,database!$A$6:$BFQ$206,3,FALSE)))","v":""},null,null,null,null,null,null,""]
["",null,{"$f":"IF(B1651=\"\",\"\",IF(ISERROR(VLOOKUP(B1651,database!$A$6:$BFQ$206,4,FALSE)),\"\",VLOOKUP(B1651,database!$A$6:$BFQ$206,4,FALSE)))","v":""},null,null,null,"",null,null,null,{"$f":"IF(B1651=\"\",\"\",IF(ISERROR(VLOOKUP(B1651,database!$A$6:$BFQ$206,3,FALSE)),\"\",VLOOKUP(B1651,database!$A$6:$BFQ$206,3,FALSE)))","v":""},null,null,null,null,null,null,""]
["",null,{"$f":"IF(B1652=\"\",\"\",IF(ISERROR(VLOOKUP(B1652,database!$A$6:$BFQ$206,4,FALSE)),\"\",VLOOKUP(B1652,database!$A$6:$BFQ$206,4,FALSE)))","v":""},null,null,null,"",null,null,null,{"$f":"IF(B1652=\"\",\"\",IF(ISERROR(VLOOKUP(B1652,database!$A$6:$BFQ$206,3,FALSE)),\"\",VLOOKUP(B1652,database!$A$6:$BFQ$206,3,FALSE)))","v":""},null,null,null,null,null,null,""]
["",null,{"$f":"IF(B1653=\"\",\"\",IF(ISERROR(VLOOKUP(B1653,database!$A$6:$BFQ$206,4,FALSE)),\"\",VLOOKUP(B1653,database!$A$6:$BFQ$206,4,FALSE)))","v":""},null,null,null,"",null,null,null,{"$f":"IF(B1653=\"\",\"\",IF(ISERROR(VLOOKUP(B1653,database!$A$6:$BFQ$206,3,FALSE)),\"\",VLOOKUP(B1653,database!$A$6:$BFQ$206,3,FALSE)))","v":""},null,null,null,null,null,null,""]
["",null,{"$f":"IF(B1654=\"\",\"\",IF(ISERROR(VLOOKUP(B1654,database!$A$6:$BFQ$206,4,FALSE)),\"\",VLOOKUP(B1654,database!$A$6:$BFQ$206,4,FALSE)))","v":""},null,null,null,"",null,null,null,{"$f":"IF(B1654=\"\",\"\",IF(ISERROR(VLOOKUP(B1654,database!$A$6:$BFQ$206,3,FALSE)),\"\",VLOOKUP(B1654,database!$A$6:$BFQ$206,3,FALSE)))","v":""},null,null,null,null,null,null,""]
["",null,{"$f":"IF(B1655=\"\",\"\",IF(ISERROR(VLOOKUP(B1655,database!$A$6:$BFQ$206,4,FALSE)),\"\",VLOOKUP(B1655,database!$A$6:$BFQ$206,4,FALSE)))","v":""},null,null,null,"",null,null,null,{"$f":"IF(B1655=\"\",\"\",IF(ISERROR(VLOOKUP(B1655,database!$A$6:$BFQ$206,3,FALSE)),\"\",VLOOKUP(B1655,database!$A$6:$BFQ$206,3,FALSE)))","v":""},null,null,null,null,null,null,""]
["",null,{"$f":"IF(B1656=\"\",\"\",IF(ISERROR(VLOOKUP(B1656,database!$A$6:$BFQ$206,4,FALSE)),\"\",VLOOKUP(B1656,database!$A$6:$BFQ$206,4,FALSE)))","v":""},null,null,null,"",null,null,null,{"$f":"IF(B1656=\"\",\"\",IF(ISERROR(VLOOKUP(B1656,database!$A$6:$BFQ$206,3,FALSE)),\"\",VLOOKUP(B1656,database!$A$6:$BFQ$206,3,FALSE)))","v":""},null,null,null,null,null,null,""]
["",null,{"$f":"IF(B1657=\"\",\"\",IF(ISERROR(VLOOKUP(B1657,database!$A$6:$BFQ$206,4,FALSE)),\"\",VLOOKUP(B1657,database!$A$6:$BFQ$206,4,FALSE)))","v":""},null,null,null,"",null,null,null,{"$f":"IF(B1657=\"\",\"\",IF(ISERROR(VLOOKUP(B1657,database!$A$6:$BFQ$206,3,FALSE)),\"\",VLOOKUP(B1657,database!$A$6:$BFQ$206,3,FALSE)))","v":""},null,null,null,null,null,null,""]
["",null,{"$f":"IF(B1658=\"\",\"\",IF(ISERROR(VLOOKUP(B1658,database!$A$6:$BFQ$206,4,FALSE)),\"\",VLOOKUP(B1658,database!$A$6:$BFQ$206,4,FALSE)))","v":""},null,null,null,"",null,null,null,{"$f":"IF(B1658=\"\",\"\",IF(ISERROR(VLOOKUP(B1658,database!$A$6:$BFQ$206,3,FALSE)),\"\",VLOOKUP(B1658,database!$A$6:$BFQ$206,3,FALSE)))","v":""},null,null,null,null,null,null,""]
["",null,{"$f":"IF(B1659=\"\",\"\",IF(ISERROR(VLOOKUP(B1659,database!$A$6:$BFQ$206,4,FALSE)),\"\",VLOOKUP(B1659,database!$A$6:$BFQ$206,4,FALSE)))","v":""},null,null,null,"",null,null,null,{"$f":"IF(B1659=\"\",\"\",IF(ISERROR(VLOOKUP(B1659,database!$A$6:$BFQ$206,3,FALSE)),\"\",VLOOKUP(B1659,database!$A$6:$BFQ$206,3,FALSE)))","v":""},null,null,null,null,null,null,""]
["",null,{"$f":"IF(B1660=\"\",\"\",IF(ISERROR(VLOOKUP(B1660,database!$A$6:$BFQ$206,4,FALSE)),\"\",VLOOKUP(B1660,database!$A$6:$BFQ$206,4,FALSE)))","v":""},null,null,null,"",null,null,null,{"$f":"IF(B1660=\"\",\"\",IF(ISERROR(VLOOKUP(B1660,database!$A$6:$BFQ$206,3,FALSE)),\"\",VLOOKUP(B1660,database!$A$6:$BFQ$206,3,FALSE)))","v":""},null,null,null,null,null,null,""]
["",null,{"$f":"IF(B1661=\"\",\"\",IF(ISERROR(VLOOKUP(B1661,database!$A$6:$BFQ$206,4,FALSE)),\"\",VLOOKUP(B1661,database!$A$6:$BFQ$206,4,FALSE)))","v":""},null,null,null,"",null,null,null,{"$f":"IF(B1661=\"\",\"\",IF(ISERROR(VLOOKUP(B1661,database!$A$6:$BFQ$206,3,FALSE)),\"\",VLOOKUP(B1661,database!$A$6:$BFQ$206,3,FALSE)))","v":""},null,null,null,null,null,null,""]
["",null,{"$f":"IF(B1662=\"\",\"\",IF(ISERROR(VLOOKUP(B1662,database!$A$6:$BFQ$206,4,FALSE)),\"\",VLOOKUP(B1662,database!$A$6:$BFQ$206,4,FALSE)))","v":""},null,null,null,"",null,null,null,{"$f":"IF(B1662=\"\",\"\",IF(ISERROR(VLOOKUP(B1662,database!$A$6:$BFQ$206,3,FALSE)),\"\",VLOOKUP(B1662,database!$A$6:$BFQ$206,3,FALSE)))","v":""},null,null,null,null,null,null,""]
["",null,{"$f":"IF(B1663=\"\",\"\",IF(ISERROR(VLOOKUP(B1663,database!$A$6:$BFQ$206,4,FALSE)),\"\",VLOOKUP(B1663,database!$A$6:$BFQ$206,4,FALSE)))","v":""},null,null,null,"",null,null,null,{"$f":"IF(B1663=\"\",\"\",IF(ISERROR(VLOOKUP(B1663,database!$A$6:$BFQ$206,3,FALSE)),\"\",VLOOKUP(B1663,database!$A$6:$BFQ$206,3,FALSE)))","v":""},null,null,null,null,null,null,""]
["",null,{"$f":"IF(B1664=\"\",\"\",IF(ISERROR(VLOOKUP(B1664,database!$A$6:$BFQ$206,4,FALSE)),\"\",VLOOKUP(B1664,database!$A$6:$BFQ$206,4,FALSE)))","v":""},null,null,null,"",null,null,null,{"$f":"IF(B1664=\"\",\"\",IF(ISERROR(VLOOKUP(B1664,database!$A$6:$BFQ$206,3,FALSE)),\"\",VLOOKUP(B1664,database!$A$6:$BFQ$206,3,FALSE)))","v":""},null,null,null,null,null,null,""]
[{"$f":"IF(B1665=\"\",\"\",ROW(A1662))","v":""},null,{"$f":"IF(B1665=\"\",\"\",IF(ISERROR(VLOOKUP(B1665,database!$A$6:$BFQ$206,4,FALSE)),\"\",VLOOKUP(B1665,database!$A$6:$BFQ$206,4,FALSE)))","v":""},null,null,null,{"$f":"IF(B1665=\"\",\"\",IF(C1665=\"\",0,1))","v":""},null,null,null,{"$f":"IF(B1665=\"\",\"\",IF(ISERROR(VLOOKUP(B1665,database!$A$6:$BFQ$206,3,FALSE)),\"\",VLOOKUP(B1665,database!$A$6:$BFQ$206,3,FALSE)))","v":""},null,null,null,null,null,null,{"$f":"LEFT(C1665,2)","v":""}]
["",null,{"$f":"IF(B1666=\"\",\"\",IF(ISERROR(VLOOKUP(B1666,database!$A$6:$BFQ$206,4,FALSE)),\"\",VLOOKUP(B1666,database!$A$6:$BFQ$206,4,FALSE)))","v":""},null,null,null,"",null,null,null,{"$f":"IF(B1666=\"\",\"\",IF(ISERROR(VLOOKUP(B1666,database!$A$6:$BFQ$206,3,FALSE)),\"\",VLOOKUP(B1666,database!$A$6:$BFQ$206,3,FALSE)))","v":""},null,null,null,null,null,null,""]
["",null,{"$f":"IF(B1667=\"\",\"\",IF(ISERROR(VLOOKUP(B1667,database!$A$6:$BFQ$206,4,FALSE)),\"\",VLOOKUP(B1667,database!$A$6:$BFQ$206,4,FALSE)))","v":""},null,null,null,"",null,null,null,{"$f":"IF(B1667=\"\",\"\",IF(ISERROR(VLOOKUP(B1667,database!$A$6:$BFQ$206,3,FALSE)),\"\",VLOOKUP(B1667,database!$A$6:$BFQ$206,3,FALSE)))","v":""},null,null,null,null,null,null,""]
["",null,{"$f":"IF(B1668=\"\",\"\",IF(ISERROR(VLOOKUP(B1668,database!$A$6:$BFQ$206,4,FALSE)),\"\",VLOOKUP(B1668,database!$A$6:$BFQ$206,4,FALSE)))","v":""},null,null,null,"",null,null,null,{"$f":"IF(B1668=\"\",\"\",IF(ISERROR(VLOOKUP(B1668,database!$A$6:$BFQ$206,3,FALSE)),\"\",VLOOKUP(B1668,database!$A$6:$BFQ$206,3,FALSE)))","v":""},null,null,null,null,null,null,""]
["",null,{"$f":"IF(B1669=\"\",\"\",IF(ISERROR(VLOOKUP(B1669,database!$A$6:$BFQ$206,4,FALSE)),\"\",VLOOKUP(B1669,database!$A$6:$BFQ$206,4,FALSE)))","v":""},null,null,null,"",null,null,null,{"$f":"IF(B1669=\"\",\"\",IF(ISERROR(VLOOKUP(B1669,database!$A$6:$BFQ$206,3,FALSE)),\"\",VLOOKUP(B1669,database!$A$6:$BFQ$206,3,FALSE)))","v":""},null,null,null,null,null,null,""]
["",null,{"$f":"IF(B1670=\"\",\"\",IF(ISERROR(VLOOKUP(B1670,database!$A$6:$BFQ$206,4,FALSE)),\"\",VLOOKUP(B1670,database!$A$6:$BFQ$206,4,FALSE)))","v":""},null,null,null,"",null,null,null,{"$f":"IF(B1670=\"\",\"\",IF(ISERROR(VLOOKUP(B1670,database!$A$6:$BFQ$206,3,FALSE)),\"\",VLOOKUP(B1670,database!$A$6:$BFQ$206,3,FALSE)))","v":""},null,null,null,null,null,null,""]
["",null,{"$f":"IF(B1671=\"\",\"\",IF(ISERROR(VLOOKUP(B1671,database!$A$6:$BFQ$206,4,FALSE)),\"\",VLOOKUP(B1671,database!$A$6:$BFQ$206,4,FALSE)))","v":""},null,null,null,"",null,null,null,{"$f":"IF(B1671=\"\",\"\",IF(ISERROR(VLOOKUP(B1671,database!$A$6:$BFQ$206,3,FALSE)),\"\",VLOOKUP(B1671,database!$A$6:$BFQ$206,3,FALSE)))","v":""},null,null,null,null,null,null,""]
["",null,{"$f":"IF(B1672=\"\",\"\",IF(ISERROR(VLOOKUP(B1672,database!$A$6:$BFQ$206,4,FALSE)),\"\",VLOOKUP(B1672,database!$A$6:$BFQ$206,4,FALSE)))","v":""},null,null,null,"",null,null,null,{"$f":"IF(B1672=\"\",\"\",IF(ISERROR(VLOOKUP(B1672,database!$A$6:$BFQ$206,3,FALSE)),\"\",VLOOKUP(B1672,database!$A$6:$BFQ$206,3,FALSE)))","v":""},null,null,null,null,null,null,""]
["",null,{"$f":"IF(B1673=\"\",\"\",IF(ISERROR(VLOOKUP(B1673,database!$A$6:$BFQ$206,4,FALSE)),\"\",VLOOKUP(B1673,database!$A$6:$BFQ$206,4,FALSE)))","v":""},null,null,null,"",null,null,null,{"$f":"IF(B1673=\"\",\"\",IF(ISERROR(VLOOKUP(B1673,database!$A$6:$BFQ$206,3,FALSE)),\"\",VLOOKUP(B1673,database!$A$6:$BFQ$206,3,FALSE)))","v":""},null,null,null,null,null,null,""]
["",null,{"$f":"IF(B1674=\"\",\"\",IF(ISERROR(VLOOKUP(B1674,database!$A$6:$BFQ$206,4,FALSE)),\"\",VLOOKUP(B1674,database!$A$6:$BFQ$206,4,FALSE)))","v":""},null,null,null,"",null,null,null,{"$f":"IF(B1674=\"\",\"\",IF(ISERROR(VLOOKUP(B1674,database!$A$6:$BFQ$206,3,FALSE)),\"\",VLOOKUP(B1674,database!$A$6:$BFQ$206,3,FALSE)))","v":""},null,null,null,null,null,null,""]
["",null,{"$f":"IF(B1675=\"\",\"\",IF(ISERROR(VLOOKUP(B1675,database!$A$6:$BFQ$206,4,FALSE)),\"\",VLOOKUP(B1675,database!$A$6:$BFQ$206,4,FALSE)))","v":""},null,null,null,"",null,null,null,{"$f":"IF(B1675=\"\",\"\",IF(ISERROR(VLOOKUP(B1675,database!$A$6:$BFQ$206,3,FALSE)),\"\",VLOOKUP(B1675,database!$A$6:$BFQ$206,3,FALSE)))","v":""},null,null,null,null,null,null,""]
["",null,{"$f":"IF(B1676=\"\",\"\",IF(ISERROR(VLOOKUP(B1676,database!$A$6:$BFQ$206,4,FALSE)),\"\",VLOOKUP(B1676,database!$A$6:$BFQ$206,4,FALSE)))","v":""},null,null,null,"",null,null,null,{"$f":"IF(B1676=\"\",\"\",IF(ISERROR(VLOOKUP(B1676,database!$A$6:$BFQ$206,3,FALSE)),\"\",VLOOKUP(B1676,database!$A$6:$BFQ$206,3,FALSE)))","v":""},null,null,null,null,null,null,""]
["",null,{"$f":"IF(B1677=\"\",\"\",IF(ISERROR(VLOOKUP(B1677,database!$A$6:$BFQ$206,4,FALSE)),\"\",VLOOKUP(B1677,database!$A$6:$BFQ$206,4,FALSE)))","v":""},null,null,null,"",null,null,null,{"$f":"IF(B1677=\"\",\"\",IF(ISERROR(VLOOKUP(B1677,database!$A$6:$BFQ$206,3,FALSE)),\"\",VLOOKUP(B1677,database!$A$6:$BFQ$206,3,FALSE)))","v":""},null,null,null,null,null,null,""]
["",null,{"$f":"IF(B1678=\"\",\"\",IF(ISERROR(VLOOKUP(B1678,database!$A$6:$BFQ$206,4,FALSE)),\"\",VLOOKUP(B1678,database!$A$6:$BFQ$206,4,FALSE)))","v":""},null,null,null,"",null,null,null,{"$f":"IF(B1678=\"\",\"\",IF(ISERROR(VLOOKUP(B1678,database!$A$6:$BFQ$206,3,FALSE)),\"\",VLOOKUP(B1678,database!$A$6:$BFQ$206,3,FALSE)))","v":""},null,null,null,null,null,null,""]
["",null,{"$f":"IF(B1679=\"\",\"\",IF(ISERROR(VLOOKUP(B1679,database!$A$6:$BFQ$206,4,FALSE)),\"\",VLOOKUP(B1679,database!$A$6:$BFQ$206,4,FALSE)))","v":""},null,null,null,"",null,null,null,{"$f":"IF(B1679=\"\",\"\",IF(ISERROR(VLOOKUP(B1679,database!$A$6:$BFQ$206,3,FALSE)),\"\",VLOOKUP(B1679,database!$A$6:$BFQ$206,3,FALSE)))","v":""},null,null,null,null,null,null,""]
["",null,{"$f":"IF(B1680=\"\",\"\",IF(ISERROR(VLOOKUP(B1680,database!$A$6:$BFQ$206,4,FALSE)),\"\",VLOOKUP(B1680,database!$A$6:$BFQ$206,4,FALSE)))","v":""},null,null,null,"",null,null,null,{"$f":"IF(B1680=\"\",\"\",IF(ISERROR(VLOOKUP(B1680,database!$A$6:$BFQ$206,3,FALSE)),\"\",VLOOKUP(B1680,database!$A$6:$BFQ$206,3,FALSE)))","v":""},null,null,null,null,null,null,""]
["",null,{"$f":"IF(B1681=\"\",\"\",IF(ISERROR(VLOOKUP(B1681,database!$A$6:$BFQ$206,4,FALSE)),\"\",VLOOKUP(B1681,database!$A$6:$BFQ$206,4,FALSE)))","v":""},null,null,null,"",null,null,null,{"$f":"IF(B1681=\"\",\"\",IF(ISERROR(VLOOKUP(B1681,database!$A$6:$BFQ$206,3,FALSE)),\"\",VLOOKUP(B1681,database!$A$6:$BFQ$206,3,FALSE)))","v":""},null,null,null,null,null,null,""]
["",null,{"$f":"IF(B1682=\"\",\"\",IF(ISERROR(VLOOKUP(B1682,database!$A$6:$BFQ$206,4,FALSE)),\"\",VLOOKUP(B1682,database!$A$6:$BFQ$206,4,FALSE)))","v":""},null,null,null,"",null,null,null,{"$f":"IF(B1682=\"\",\"\",IF(ISERROR(VLOOKUP(B1682,database!$A$6:$BFQ$206,3,FALSE)),\"\",VLOOKUP(B1682,database!$A$6:$BFQ$206,3,FALSE)))","v":""},null,null,null,null,null,null,""]
["",null,{"$f":"IF(B1683=\"\",\"\",IF(ISERROR(VLOOKUP(B1683,database!$A$6:$BFQ$206,4,FALSE)),\"\",VLOOKUP(B1683,database!$A$6:$BFQ$206,4,FALSE)))","v":""},null,null,null,"",null,null,null,{"$f":"IF(B1683=\"\",\"\",IF(ISERROR(VLOOKUP(B1683,database!$A$6:$BFQ$206,3,FALSE)),\"\",VLOOKUP(B1683,database!$A$6:$BFQ$206,3,FALSE)))","v":""},null,null,null,null,null,null,""]
["",null,{"$f":"IF(B1684=\"\",\"\",IF(ISERROR(VLOOKUP(B1684,database!$A$6:$BFQ$206,4,FALSE)),\"\",VLOOKUP(B1684,database!$A$6:$BFQ$206,4,FALSE)))","v":""},null,null,null,"",null,null,null,{"$f":"IF(B1684=\"\",\"\",IF(ISERROR(VLOOKUP(B1684,database!$A$6:$BFQ$206,3,FALSE)),\"\",VLOOKUP(B1684,database!$A$6:$BFQ$206,3,FALSE)))","v":""},null,null,null,null,null,null,""]
["",null,{"$f":"IF(B1685=\"\",\"\",IF(ISERROR(VLOOKUP(B1685,database!$A$6:$BFQ$206,4,FALSE)),\"\",VLOOKUP(B1685,database!$A$6:$BFQ$206,4,FALSE)))","v":""},null,null,null,"",null,null,null,{"$f":"IF(B1685=\"\",\"\",IF(ISERROR(VLOOKUP(B1685,database!$A$6:$BFQ$206,3,FALSE)),\"\",VLOOKUP(B1685,database!$A$6:$BFQ$206,3,FALSE)))","v":""},null,null,null,null,null,null,""]
["",null,{"$f":"IF(B1686=\"\",\"\",IF(ISERROR(VLOOKUP(B1686,database!$A$6:$BFQ$206,4,FALSE)),\"\",VLOOKUP(B1686,database!$A$6:$BFQ$206,4,FALSE)))","v":""},null,null,null,"",null,null,null,{"$f":"IF(B1686=\"\",\"\",IF(ISERROR(VLOOKUP(B1686,database!$A$6:$BFQ$206,3,FALSE)),\"\",VLOOKUP(B1686,database!$A$6:$BFQ$206,3,FALSE)))","v":""},null,null,null,null,null,null,""]
["",null,{"$f":"IF(B1687=\"\",\"\",IF(ISERROR(VLOOKUP(B1687,database!$A$6:$BFQ$206,4,FALSE)),\"\",VLOOKUP(B1687,database!$A$6:$BFQ$206,4,FALSE)))","v":""},null,null,null,"",null,null,null,{"$f":"IF(B1687=\"\",\"\",IF(ISERROR(VLOOKUP(B1687,database!$A$6:$BFQ$206,3,FALSE)),\"\",VLOOKUP(B1687,database!$A$6:$BFQ$206,3,FALSE)))","v":""},null,null,null,null,null,null,""]
["",null,{"$f":"IF(B1688=\"\",\"\",IF(ISERROR(VLOOKUP(B1688,database!$A$6:$BFQ$206,4,FALSE)),\"\",VLOOKUP(B1688,database!$A$6:$BFQ$206,4,FALSE)))","v":""},null,null,null,"",null,null,null,{"$f":"IF(B1688=\"\",\"\",IF(ISERROR(VLOOKUP(B1688,database!$A$6:$BFQ$206,3,FALSE)),\"\",VLOOKUP(B1688,database!$A$6:$BFQ$206,3,FALSE)))","v":""},null,null,null,null,null,null,""]
["",null,{"$f":"IF(B1689=\"\",\"\",IF(ISERROR(VLOOKUP(B1689,database!$A$6:$BFQ$206,4,FALSE)),\"\",VLOOKUP(B1689,database!$A$6:$BFQ$206,4,FALSE)))","v":""},null,null,null,"",null,null,null,{"$f":"IF(B1689=\"\",\"\",IF(ISERROR(VLOOKUP(B1689,database!$A$6:$BFQ$206,3,FALSE)),\"\",VLOOKUP(B1689,database!$A$6:$BFQ$206,3,FALSE)))","v":""},null,null,null,null,null,null,""]
["",null,{"$f":"IF(B1690=\"\",\"\",IF(ISERROR(VLOOKUP(B1690,database!$A$6:$BFQ$206,4,FALSE)),\"\",VLOOKUP(B1690,database!$A$6:$BFQ$206,4,FALSE)))","v":""},null,null,null,"",null,null,null,{"$f":"IF(B1690=\"\",\"\",IF(ISERROR(VLOOKUP(B1690,database!$A$6:$BFQ$206,3,FALSE)),\"\",VLOOKUP(B1690,database!$A$6:$BFQ$206,3,FALSE)))","v":""},null,null,null,null,null,null,""]
["",null,{"$f":"IF(B1691=\"\",\"\",IF(ISERROR(VLOOKUP(B1691,database!$A$6:$BFQ$206,4,FALSE)),\"\",VLOOKUP(B1691,database!$A$6:$BFQ$206,4,FALSE)))","v":""},null,null,null,"",null,null,null,{"$f":"IF(B1691=\"\",\"\",IF(ISERROR(VLOOKUP(B1691,database!$A$6:$BFQ$206,3,FALSE)),\"\",VLOOKUP(B1691,database!$A$6:$BFQ$206,3,FALSE)))","v":""},null,null,null,null,null,null,""]
["",null,{"$f":"IF(B1692=\"\",\"\",IF(ISERROR(VLOOKUP(B1692,database!$A$6:$BFQ$206,4,FALSE)),\"\",VLOOKUP(B1692,database!$A$6:$BFQ$206,4,FALSE)))","v":""},null,null,null,"",null,null,null,{"$f":"IF(B1692=\"\",\"\",IF(ISERROR(VLOOKUP(B1692,database!$A$6:$BFQ$206,3,FALSE)),\"\",VLOOKUP(B1692,database!$A$6:$BFQ$206,3,FALSE)))","v":""},null,null,null,null,null,null,""]
["",null,{"$f":"IF(B1693=\"\",\"\",IF(ISERROR(VLOOKUP(B1693,database!$A$6:$BFQ$206,4,FALSE)),\"\",VLOOKUP(B1693,database!$A$6:$BFQ$206,4,FALSE)))","v":""},null,null,null,"",null,null,null,{"$f":"IF(B1693=\"\",\"\",IF(ISERROR(VLOOKUP(B1693,database!$A$6:$BFQ$206,3,FALSE)),\"\",VLOOKUP(B1693,database!$A$6:$BFQ$206,3,FALSE)))","v":""},null,null,null,null,null,null,""]
["",null,{"$f":"IF(B1694=\"\",\"\",IF(ISERROR(VLOOKUP(B1694,database!$A$6:$BFQ$206,4,FALSE)),\"\",VLOOKUP(B1694,database!$A$6:$BFQ$206,4,FALSE)))","v":""},null,null,null,"",null,null,null,{"$f":"IF(B1694=\"\",\"\",IF(ISERROR(VLOOKUP(B1694,database!$A$6:$BFQ$206,3,FALSE)),\"\",VLOOKUP(B1694,database!$A$6:$BFQ$206,3,FALSE)))","v":""},null,null,null,null,null,null,""]
["",null,{"$f":"IF(B1695=\"\",\"\",IF(ISERROR(VLOOKUP(B1695,database!$A$6:$BFQ$206,4,FALSE)),\"\",VLOOKUP(B1695,database!$A$6:$BFQ$206,4,FALSE)))","v":""},null,null,null,"",null,null,null,{"$f":"IF(B1695=\"\",\"\",IF(ISERROR(VLOOKUP(B1695,database!$A$6:$BFQ$206,3,FALSE)),\"\",VLOOKUP(B1695,database!$A$6:$BFQ$206,3,FALSE)))","v":""},null,null,null,null,null,null,""]
["",null,{"$f":"IF(B1696=\"\",\"\",IF(ISERROR(VLOOKUP(B1696,database!$A$6:$BFQ$206,4,FALSE)),\"\",VLOOKUP(B1696,database!$A$6:$BFQ$206,4,FALSE)))","v":""},null,null,null,"",null,null,null,{"$f":"IF(B1696=\"\",\"\",IF(ISERROR(VLOOKUP(B1696,database!$A$6:$BFQ$206,3,FALSE)),\"\",VLOOKUP(B1696,database!$A$6:$BFQ$206,3,FALSE)))","v":""},null,null,null,null,null,null,""]
["",null,{"$f":"IF(B1697=\"\",\"\",IF(ISERROR(VLOOKUP(B1697,database!$A$6:$BFQ$206,4,FALSE)),\"\",VLOOKUP(B1697,database!$A$6:$BFQ$206,4,FALSE)))","v":""},null,null,null,"",null,null,null,{"$f":"IF(B1697=\"\",\"\",IF(ISERROR(VLOOKUP(B1697,database!$A$6:$BFQ$206,3,FALSE)),\"\",VLOOKUP(B1697,database!$A$6:$BFQ$206,3,FALSE)))","v":""},null,null,null,null,null,null,""]
["",null,{"$f":"IF(B1698=\"\",\"\",IF(ISERROR(VLOOKUP(B1698,database!$A$6:$BFQ$206,4,FALSE)),\"\",VLOOKUP(B1698,database!$A$6:$BFQ$206,4,FALSE)))","v":""},null,null,null,"",null,null,null,{"$f":"IF(B1698=\"\",\"\",IF(ISERROR(VLOOKUP(B1698,database!$A$6:$BFQ$206,3,FALSE)),\"\",VLOOKUP(B1698,database!$A$6:$BFQ$206,3,FALSE)))","v":""},null,null,null,null,null,null,""]
["",null,{"$f":"IF(B1699=\"\",\"\",IF(ISERROR(VLOOKUP(B1699,database!$A$6:$BFQ$206,4,FALSE)),\"\",VLOOKUP(B1699,database!$A$6:$BFQ$206,4,FALSE)))","v":""},null,null,null,"",null,null,null,{"$f":"IF(B1699=\"\",\"\",IF(ISERROR(VLOOKUP(B1699,database!$A$6:$BFQ$206,3,FALSE)),\"\",VLOOKUP(B1699,database!$A$6:$BFQ$206,3,FALSE)))","v":""},null,null,null,null,null,null,""]
["",null,{"$f":"IF(B1700=\"\",\"\",IF(ISERROR(VLOOKUP(B1700,database!$A$6:$BFQ$206,4,FALSE)),\"\",VLOOKUP(B1700,database!$A$6:$BFQ$206,4,FALSE)))","v":""},null,null,null,"",null,null,null,{"$f":"IF(B1700=\"\",\"\",IF(ISERROR(VLOOKUP(B1700,database!$A$6:$BFQ$206,3,FALSE)),\"\",VLOOKUP(B1700,database!$A$6:$BFQ$206,3,FALSE)))","v":""},null,null,null,null,null,null,""]
["",null,{"$f":"IF(B1701=\"\",\"\",IF(ISERROR(VLOOKUP(B1701,database!$A$6:$BFQ$206,4,FALSE)),\"\",VLOOKUP(B1701,database!$A$6:$BFQ$206,4,FALSE)))","v":""},null,null,null,"",null,null,null,{"$f":"IF(B1701=\"\",\"\",IF(ISERROR(VLOOKUP(B1701,database!$A$6:$BFQ$206,3,FALSE)),\"\",VLOOKUP(B1701,database!$A$6:$BFQ$206,3,FALSE)))","v":""},null,null,null,null,null,null,""]
["",null,{"$f":"IF(B1702=\"\",\"\",IF(ISERROR(VLOOKUP(B1702,database!$A$6:$BFQ$206,4,FALSE)),\"\",VLOOKUP(B1702,database!$A$6:$BFQ$206,4,FALSE)))","v":""},null,null,null,"",null,null,null,{"$f":"IF(B1702=\"\",\"\",IF(ISERROR(VLOOKUP(B1702,database!$A$6:$BFQ$206,3,FALSE)),\"\",VLOOKUP(B1702,database!$A$6:$BFQ$206,3,FALSE)))","v":""},null,null,null,null,null,null,""]
["",null,{"$f":"IF(B1703=\"\",\"\",IF(ISERROR(VLOOKUP(B1703,database!$A$6:$BFQ$206,4,FALSE)),\"\",VLOOKUP(B1703,database!$A$6:$BFQ$206,4,FALSE)))","v":""},null,null,null,"",null,null,null,{"$f":"IF(B1703=\"\",\"\",IF(ISERROR(VLOOKUP(B1703,database!$A$6:$BFQ$206,3,FALSE)),\"\",VLOOKUP(B1703,database!$A$6:$BFQ$206,3,FALSE)))","v":""},null,null,null,null,null,null,""]
["",null,{"$f":"IF(B1704=\"\",\"\",IF(ISERROR(VLOOKUP(B1704,database!$A$6:$BFQ$206,4,FALSE)),\"\",VLOOKUP(B1704,database!$A$6:$BFQ$206,4,FALSE)))","v":""},null,null,null,"",null,null,null,{"$f":"IF(B1704=\"\",\"\",IF(ISERROR(VLOOKUP(B1704,database!$A$6:$BFQ$206,3,FALSE)),\"\",VLOOKUP(B1704,database!$A$6:$BFQ$206,3,FALSE)))","v":""},null,null,null,null,null,null,""]
["",null,{"$f":"IF(B1705=\"\",\"\",IF(ISERROR(VLOOKUP(B1705,database!$A$6:$BFQ$206,4,FALSE)),\"\",VLOOKUP(B1705,database!$A$6:$BFQ$206,4,FALSE)))","v":""},null,null,null,"",null,null,null,{"$f":"IF(B1705=\"\",\"\",IF(ISERROR(VLOOKUP(B1705,database!$A$6:$BFQ$206,3,FALSE)),\"\",VLOOKUP(B1705,database!$A$6:$BFQ$206,3,FALSE)))","v":""},null,null,null,null,null,null,""]
["",null,{"$f":"IF(B1706=\"\",\"\",IF(ISERROR(VLOOKUP(B1706,database!$A$6:$BFQ$206,4,FALSE)),\"\",VLOOKUP(B1706,database!$A$6:$BFQ$206,4,FALSE)))","v":""},null,null,null,"",null,null,null,{"$f":"IF(B1706=\"\",\"\",IF(ISERROR(VLOOKUP(B1706,database!$A$6:$BFQ$206,3,FALSE)),\"\",VLOOKUP(B1706,database!$A$6:$BFQ$206,3,FALSE)))","v":""},null,null,null,null,null,null,""]
["",null,{"$f":"IF(B1707=\"\",\"\",IF(ISERROR(VLOOKUP(B1707,database!$A$6:$BFQ$206,4,FALSE)),\"\",VLOOKUP(B1707,database!$A$6:$BFQ$206,4,FALSE)))","v":""},null,null,null,"",null,null,null,{"$f":"IF(B1707=\"\",\"\",IF(ISERROR(VLOOKUP(B1707,database!$A$6:$BFQ$206,3,FALSE)),\"\",VLOOKUP(B1707,database!$A$6:$BFQ$206,3,FALSE)))","v":""},null,null,null,null,null,null,""]
["",null,{"$f":"IF(B1708=\"\",\"\",IF(ISERROR(VLOOKUP(B1708,database!$A$6:$BFQ$206,4,FALSE)),\"\",VLOOKUP(B1708,database!$A$6:$BFQ$206,4,FALSE)))","v":""},null,null,null,"",null,null,null,{"$f":"IF(B1708=\"\",\"\",IF(ISERROR(VLOOKUP(B1708,database!$A$6:$BFQ$206,3,FALSE)),\"\",VLOOKUP(B1708,database!$A$6:$BFQ$206,3,FALSE)))","v":""},null,null,null,null,null,null,""]
["",null,{"$f":"IF(B1709=\"\",\"\",IF(ISERROR(VLOOKUP(B1709,database!$A$6:$BFQ$206,4,FALSE)),\"\",VLOOKUP(B1709,database!$A$6:$BFQ$206,4,FALSE)))","v":""},null,null,null,"",null,null,null,{"$f":"IF(B1709=\"\",\"\",IF(ISERROR(VLOOKUP(B1709,database!$A$6:$BFQ$206,3,FALSE)),\"\",VLOOKUP(B1709,database!$A$6:$BFQ$206,3,FALSE)))","v":""},null,null,null,null,null,null,""]
["",null,{"$f":"IF(B1710=\"\",\"\",IF(ISERROR(VLOOKUP(B1710,database!$A$6:$BFQ$206,4,FALSE)),\"\",VLOOKUP(B1710,database!$A$6:$BFQ$206,4,FALSE)))","v":""},null,null,null,"",null,null,null,{"$f":"IF(B1710=\"\",\"\",IF(ISERROR(VLOOKUP(B1710,database!$A$6:$BFQ$206,3,FALSE)),\"\",VLOOKUP(B1710,database!$A$6:$BFQ$206,3,FALSE)))","v":""},null,null,null,null,null,null,""]
["",null,{"$f":"IF(B1711=\"\",\"\",IF(ISERROR(VLOOKUP(B1711,database!$A$6:$BFQ$206,4,FALSE)),\"\",VLOOKUP(B1711,database!$A$6:$BFQ$206,4,FALSE)))","v":""},null,null,null,"",null,null,null,{"$f":"IF(B1711=\"\",\"\",IF(ISERROR(VLOOKUP(B1711,database!$A$6:$BFQ$206,3,FALSE)),\"\",VLOOKUP(B1711,database!$A$6:$BFQ$206,3,FALSE)))","v":""},null,null,null,null,null,null,""]
["",null,{"$f":"IF(B1712=\"\",\"\",IF(ISERROR(VLOOKUP(B1712,database!$A$6:$BFQ$206,4,FALSE)),\"\",VLOOKUP(B1712,database!$A$6:$BFQ$206,4,FALSE)))","v":""},null,null,null,"",null,null,null,{"$f":"IF(B1712=\"\",\"\",IF(ISERROR(VLOOKUP(B1712,database!$A$6:$BFQ$206,3,FALSE)),\"\",VLOOKUP(B1712,database!$A$6:$BFQ$206,3,FALSE)))","v":""},null,null,null,null,null,null,""]
["",null,{"$f":"IF(B1713=\"\",\"\",IF(ISERROR(VLOOKUP(B1713,database!$A$6:$BFQ$206,4,FALSE)),\"\",VLOOKUP(B1713,database!$A$6:$BFQ$206,4,FALSE)))","v":""},null,null,null,"",null,null,null,{"$f":"IF(B1713=\"\",\"\",IF(ISERROR(VLOOKUP(B1713,database!$A$6:$BFQ$206,3,FALSE)),\"\",VLOOKUP(B1713,database!$A$6:$BFQ$206,3,FALSE)))","v":""},null,null,null,null,null,null,""]
["",null,{"$f":"IF(B1714=\"\",\"\",IF(ISERROR(VLOOKUP(B1714,database!$A$6:$BFQ$206,4,FALSE)),\"\",VLOOKUP(B1714,database!$A$6:$BFQ$206,4,FALSE)))","v":""},null,null,null,"",null,null,null,{"$f":"IF(B1714=\"\",\"\",IF(ISERROR(VLOOKUP(B1714,database!$A$6:$BFQ$206,3,FALSE)),\"\",VLOOKUP(B1714,database!$A$6:$BFQ$206,3,FALSE)))","v":""},null,null,null,null,null,null,""]
["",null,{"$f":"IF(B1715=\"\",\"\",IF(ISERROR(VLOOKUP(B1715,database!$A$6:$BFQ$206,4,FALSE)),\"\",VLOOKUP(B1715,database!$A$6:$BFQ$206,4,FALSE)))","v":""},null,null,null,"",null,null,null,{"$f":"IF(B1715=\"\",\"\",IF(ISERROR(VLOOKUP(B1715,database!$A$6:$BFQ$206,3,FALSE)),\"\",VLOOKUP(B1715,database!$A$6:$BFQ$206,3,FALSE)))","v":""},null,null,null,null,null,null,""]
["",null,{"$f":"IF(B1716=\"\",\"\",IF(ISERROR(VLOOKUP(B1716,database!$A$6:$BFQ$206,4,FALSE)),\"\",VLOOKUP(B1716,database!$A$6:$BFQ$206,4,FALSE)))","v":""},null,null,null,"",null,null,null,{"$f":"IF(B1716=\"\",\"\",IF(ISERROR(VLOOKUP(B1716,database!$A$6:$BFQ$206,3,FALSE)),\"\",VLOOKUP(B1716,database!$A$6:$BFQ$206,3,FALSE)))","v":""},null,null,null,null,null,null,""]
["",null,{"$f":"IF(B1717=\"\",\"\",IF(ISERROR(VLOOKUP(B1717,database!$A$6:$BFQ$206,4,FALSE)),\"\",VLOOKUP(B1717,database!$A$6:$BFQ$206,4,FALSE)))","v":""},null,null,null,"",null,null,null,{"$f":"IF(B1717=\"\",\"\",IF(ISERROR(VLOOKUP(B1717,database!$A$6:$BFQ$206,3,FALSE)),\"\",VLOOKUP(B1717,database!$A$6:$BFQ$206,3,FALSE)))","v":""},null,null,null,null,null,null,""]
["",null,{"$f":"IF(B1718=\"\",\"\",IF(ISERROR(VLOOKUP(B1718,database!$A$6:$BFQ$206,4,FALSE)),\"\",VLOOKUP(B1718,database!$A$6:$BFQ$206,4,FALSE)))","v":""},null,null,null,"",null,null,null,{"$f":"IF(B1718=\"\",\"\",IF(ISERROR(VLOOKUP(B1718,database!$A$6:$BFQ$206,3,FALSE)),\"\",VLOOKUP(B1718,database!$A$6:$BFQ$206,3,FALSE)))","v":""},null,null,null,null,null,null,""]
["",null,{"$f":"IF(B1719=\"\",\"\",IF(ISERROR(VLOOKUP(B1719,database!$A$6:$BFQ$206,4,FALSE)),\"\",VLOOKUP(B1719,database!$A$6:$BFQ$206,4,FALSE)))","v":""},null,null,null,"",null,null,null,{"$f":"IF(B1719=\"\",\"\",IF(ISERROR(VLOOKUP(B1719,database!$A$6:$BFQ$206,3,FALSE)),\"\",VLOOKUP(B1719,database!$A$6:$BFQ$206,3,FALSE)))","v":""},null,null,null,null,null,null,""]
["",null,{"$f":"IF(B1720=\"\",\"\",IF(ISERROR(VLOOKUP(B1720,database!$A$6:$BFQ$206,4,FALSE)),\"\",VLOOKUP(B1720,database!$A$6:$BFQ$206,4,FALSE)))","v":""},null,null,null,"",null,null,null,{"$f":"IF(B1720=\"\",\"\",IF(ISERROR(VLOOKUP(B1720,database!$A$6:$BFQ$206,3,FALSE)),\"\",VLOOKUP(B1720,database!$A$6:$BFQ$206,3,FALSE)))","v":""},null,null,null,null,null,null,""]
["",null,{"$f":"IF(B1721=\"\",\"\",IF(ISERROR(VLOOKUP(B1721,database!$A$6:$BFQ$206,4,FALSE)),\"\",VLOOKUP(B1721,database!$A$6:$BFQ$206,4,FALSE)))","v":""},null,null,null,"",null,null,null,{"$f":"IF(B1721=\"\",\"\",IF(ISERROR(VLOOKUP(B1721,database!$A$6:$BFQ$206,3,FALSE)),\"\",VLOOKUP(B1721,database!$A$6:$BFQ$206,3,FALSE)))","v":""},null,null,null,null,null,null,""]
["",null,{"$f":"IF(B1722=\"\",\"\",IF(ISERROR(VLOOKUP(B1722,database!$A$6:$BFQ$206,4,FALSE)),\"\",VLOOKUP(B1722,database!$A$6:$BFQ$206,4,FALSE)))","v":""},null,null,null,"",null,null,null,{"$f":"IF(B1722=\"\",\"\",IF(ISERROR(VLOOKUP(B1722,database!$A$6:$BFQ$206,3,FALSE)),\"\",VLOOKUP(B1722,database!$A$6:$BFQ$206,3,FALSE)))","v":""},null,null,null,null,null,null,""]
["",null,{"$f":"IF(B1723=\"\",\"\",IF(ISERROR(VLOOKUP(B1723,database!$A$6:$BFQ$206,4,FALSE)),\"\",VLOOKUP(B1723,database!$A$6:$BFQ$206,4,FALSE)))","v":""},null,null,null,"",null,null,null,{"$f":"IF(B1723=\"\",\"\",IF(ISERROR(VLOOKUP(B1723,database!$A$6:$BFQ$206,3,FALSE)),\"\",VLOOKUP(B1723,database!$A$6:$BFQ$206,3,FALSE)))","v":""},null,null,null,null,null,null,""]
["",null,{"$f":"IF(B1724=\"\",\"\",IF(ISERROR(VLOOKUP(B1724,database!$A$6:$BFQ$206,4,FALSE)),\"\",VLOOKUP(B1724,database!$A$6:$BFQ$206,4,FALSE)))","v":""},null,null,null,"",null,null,null,{"$f":"IF(B1724=\"\",\"\",IF(ISERROR(VLOOKUP(B1724,database!$A$6:$BFQ$206,3,FALSE)),\"\",VLOOKUP(B1724,database!$A$6:$BFQ$206,3,FALSE)))","v":""},null,null,null,null,null,null,""]
["",null,{"$f":"IF(B1725=\"\",\"\",IF(ISERROR(VLOOKUP(B1725,database!$A$6:$BFQ$206,4,FALSE)),\"\",VLOOKUP(B1725,database!$A$6:$BFQ$206,4,FALSE)))","v":""},null,null,null,"",null,null,null,{"$f":"IF(B1725=\"\",\"\",IF(ISERROR(VLOOKUP(B1725,database!$A$6:$BFQ$206,3,FALSE)),\"\",VLOOKUP(B1725,database!$A$6:$BFQ$206,3,FALSE)))","v":""},null,null,null,null,null,null,""]
["",null,{"$f":"IF(B1726=\"\",\"\",IF(ISERROR(VLOOKUP(B1726,database!$A$6:$BFQ$206,4,FALSE)),\"\",VLOOKUP(B1726,database!$A$6:$BFQ$206,4,FALSE)))","v":""},null,null,null,"",null,null,null,{"$f":"IF(B1726=\"\",\"\",IF(ISERROR(VLOOKUP(B1726,database!$A$6:$BFQ$206,3,FALSE)),\"\",VLOOKUP(B1726,database!$A$6:$BFQ$206,3,FALSE)))","v":""},null,null,null,null,null,null,""]
["",null,{"$f":"IF(B1727=\"\",\"\",IF(ISERROR(VLOOKUP(B1727,database!$A$6:$BFQ$206,4,FALSE)),\"\",VLOOKUP(B1727,database!$A$6:$BFQ$206,4,FALSE)))","v":""},null,null,null,"",null,null,null,{"$f":"IF(B1727=\"\",\"\",IF(ISERROR(VLOOKUP(B1727,database!$A$6:$BFQ$206,3,FALSE)),\"\",VLOOKUP(B1727,database!$A$6:$BFQ$206,3,FALSE)))","v":""},null,null,null,null,null,null,""]
["",null,{"$f":"IF(B1728=\"\",\"\",IF(ISERROR(VLOOKUP(B1728,database!$A$6:$BFQ$206,4,FALSE)),\"\",VLOOKUP(B1728,database!$A$6:$BFQ$206,4,FALSE)))","v":""},null,null,null,"",null,null,null,{"$f":"IF(B1728=\"\",\"\",IF(ISERROR(VLOOKUP(B1728,database!$A$6:$BFQ$206,3,FALSE)),\"\",VLOOKUP(B1728,database!$A$6:$BFQ$206,3,FALSE)))","v":""},null,null,null,null,null,null,""]
[{"$f":"IF(B1729=\"\",\"\",ROW(A1726))","v":""},null,{"$f":"IF(B1729=\"\",\"\",IF(ISERROR(VLOOKUP(B1729,database!$A$6:$BFQ$206,4,FALSE)),\"\",VLOOKUP(B1729,database!$A$6:$BFQ$206,4,FALSE)))","v":""},null,null,null,{"$f":"IF(B1729=\"\",\"\",IF(C1729=\"\",0,1))","v":""},null,null,null,{"$f":"IF(B1729=\"\",\"\",IF(ISERROR(VLOOKUP(B1729,database!$A$6:$BFQ$206,3,FALSE)),\"\",VLOOKUP(B1729,database!$A$6:$BFQ$206,3,FALSE)))","v":""},null,null,null,null,null,null,{"$f":"LEFT(C1729,2)","v":""}]
["",null,{"$f":"IF(B1730=\"\",\"\",IF(ISERROR(VLOOKUP(B1730,database!$A$6:$BFQ$206,4,FALSE)),\"\",VLOOKUP(B1730,database!$A$6:$BFQ$206,4,FALSE)))","v":""},null,null,null,"",null,null,null,{"$f":"IF(B1730=\"\",\"\",IF(ISERROR(VLOOKUP(B1730,database!$A$6:$BFQ$206,3,FALSE)),\"\",VLOOKUP(B1730,database!$A$6:$BFQ$206,3,FALSE)))","v":""},null,null,null,null,null,null,""]
["",null,{"$f":"IF(B1731=\"\",\"\",IF(ISERROR(VLOOKUP(B1731,database!$A$6:$BFQ$206,4,FALSE)),\"\",VLOOKUP(B1731,database!$A$6:$BFQ$206,4,FALSE)))","v":""},null,null,null,"",null,null,null,{"$f":"IF(B1731=\"\",\"\",IF(ISERROR(VLOOKUP(B1731,database!$A$6:$BFQ$206,3,FALSE)),\"\",VLOOKUP(B1731,database!$A$6:$BFQ$206,3,FALSE)))","v":""},null,null,null,null,null,null,""]
["",null,{"$f":"IF(B1732=\"\",\"\",IF(ISERROR(VLOOKUP(B1732,database!$A$6:$BFQ$206,4,FALSE)),\"\",VLOOKUP(B1732,database!$A$6:$BFQ$206,4,FALSE)))","v":""},null,null,null,"",null,null,null,{"$f":"IF(B1732=\"\",\"\",IF(ISERROR(VLOOKUP(B1732,database!$A$6:$BFQ$206,3,FALSE)),\"\",VLOOKUP(B1732,database!$A$6:$BFQ$206,3,FALSE)))","v":""},null,null,null,null,null,null,""]
["",null,{"$f":"IF(B1733=\"\",\"\",IF(ISERROR(VLOOKUP(B1733,database!$A$6:$BFQ$206,4,FALSE)),\"\",VLOOKUP(B1733,database!$A$6:$BFQ$206,4,FALSE)))","v":""},null,null,null,"",null,null,null,{"$f":"IF(B1733=\"\",\"\",IF(ISERROR(VLOOKUP(B1733,database!$A$6:$BFQ$206,3,FALSE)),\"\",VLOOKUP(B1733,database!$A$6:$BFQ$206,3,FALSE)))","v":""},null,null,null,null,null,null,""]
["",null,{"$f":"IF(B1734=\"\",\"\",IF(ISERROR(VLOOKUP(B1734,database!$A$6:$BFQ$206,4,FALSE)),\"\",VLOOKUP(B1734,database!$A$6:$BFQ$206,4,FALSE)))","v":""},null,null,null,"",null,null,null,{"$f":"IF(B1734=\"\",\"\",IF(ISERROR(VLOOKUP(B1734,database!$A$6:$BFQ$206,3,FALSE)),\"\",VLOOKUP(B1734,database!$A$6:$BFQ$206,3,FALSE)))","v":""},null,null,null,null,null,null,""]
["",null,{"$f":"IF(B1735=\"\",\"\",IF(ISERROR(VLOOKUP(B1735,database!$A$6:$BFQ$206,4,FALSE)),\"\",VLOOKUP(B1735,database!$A$6:$BFQ$206,4,FALSE)))","v":""},null,null,null,"",null,null,null,{"$f":"IF(B1735=\"\",\"\",IF(ISERROR(VLOOKUP(B1735,database!$A$6:$BFQ$206,3,FALSE)),\"\",VLOOKUP(B1735,database!$A$6:$BFQ$206,3,FALSE)))","v":""},null,null,null,null,null,null,""]
["",null,{"$f":"IF(B1736=\"\",\"\",IF(ISERROR(VLOOKUP(B1736,database!$A$6:$BFQ$206,4,FALSE)),\"\",VLOOKUP(B1736,database!$A$6:$BFQ$206,4,FALSE)))","v":""},null,null,null,"",null,null,null,{"$f":"IF(B1736=\"\",\"\",IF(ISERROR(VLOOKUP(B1736,database!$A$6:$BFQ$206,3,FALSE)),\"\",VLOOKUP(B1736,database!$A$6:$BFQ$206,3,FALSE)))","v":""},null,null,null,null,null,null,""]
["",null,{"$f":"IF(B1737=\"\",\"\",IF(ISERROR(VLOOKUP(B1737,database!$A$6:$BFQ$206,4,FALSE)),\"\",VLOOKUP(B1737,database!$A$6:$BFQ$206,4,FALSE)))","v":""},null,null,null,"",null,null,null,{"$f":"IF(B1737=\"\",\"\",IF(ISERROR(VLOOKUP(B1737,database!$A$6:$BFQ$206,3,FALSE)),\"\",VLOOKUP(B1737,database!$A$6:$BFQ$206,3,FALSE)))","v":""},null,null,null,null,null,null,""]
["",null,{"$f":"IF(B1738=\"\",\"\",IF(ISERROR(VLOOKUP(B1738,database!$A$6:$BFQ$206,4,FALSE)),\"\",VLOOKUP(B1738,database!$A$6:$BFQ$206,4,FALSE)))","v":""},null,null,null,"",null,null,null,{"$f":"IF(B1738=\"\",\"\",IF(ISERROR(VLOOKUP(B1738,database!$A$6:$BFQ$206,3,FALSE)),\"\",VLOOKUP(B1738,database!$A$6:$BFQ$206,3,FALSE)))","v":""},null,null,null,null,null,null,""]
["",null,{"$f":"IF(B1739=\"\",\"\",IF(ISERROR(VLOOKUP(B1739,database!$A$6:$BFQ$206,4,FALSE)),\"\",VLOOKUP(B1739,database!$A$6:$BFQ$206,4,FALSE)))","v":""},null,null,null,"",null,null,null,{"$f":"IF(B1739=\"\",\"\",IF(ISERROR(VLOOKUP(B1739,database!$A$6:$BFQ$206,3,FALSE)),\"\",VLOOKUP(B1739,database!$A$6:$BFQ$206,3,FALSE)))","v":""},null,null,null,null,null,null,""]
["",null,{"$f":"IF(B1740=\"\",\"\",IF(ISERROR(VLOOKUP(B1740,database!$A$6:$BFQ$206,4,FALSE)),\"\",VLOOKUP(B1740,database!$A$6:$BFQ$206,4,FALSE)))","v":""},null,null,null,"",null,null,null,{"$f":"IF(B1740=\"\",\"\",IF(ISERROR(VLOOKUP(B1740,database!$A$6:$BFQ$206,3,FALSE)),\"\",VLOOKUP(B1740,database!$A$6:$BFQ$206,3,FALSE)))","v":""},null,null,null,null,null,null,""]
["",null,{"$f":"IF(B1741=\"\",\"\",IF(ISERROR(VLOOKUP(B1741,database!$A$6:$BFQ$206,4,FALSE)),\"\",VLOOKUP(B1741,database!$A$6:$BFQ$206,4,FALSE)))","v":""},null,null,null,"",null,null,null,{"$f":"IF(B1741=\"\",\"\",IF(ISERROR(VLOOKUP(B1741,database!$A$6:$BFQ$206,3,FALSE)),\"\",VLOOKUP(B1741,database!$A$6:$BFQ$206,3,FALSE)))","v":""},null,null,null,null,null,null,""]
["",null,{"$f":"IF(B1742=\"\",\"\",IF(ISERROR(VLOOKUP(B1742,database!$A$6:$BFQ$206,4,FALSE)),\"\",VLOOKUP(B1742,database!$A$6:$BFQ$206,4,FALSE)))","v":""},null,null,null,"",null,null,null,{"$f":"IF(B1742=\"\",\"\",IF(ISERROR(VLOOKUP(B1742,database!$A$6:$BFQ$206,3,FALSE)),\"\",VLOOKUP(B1742,database!$A$6:$BFQ$206,3,FALSE)))","v":""},null,null,null,null,null,null,""]
["",null,{"$f":"IF(B1743=\"\",\"\",IF(ISERROR(VLOOKUP(B1743,database!$A$6:$BFQ$206,4,FALSE)),\"\",VLOOKUP(B1743,database!$A$6:$BFQ$206,4,FALSE)))","v":""},null,null,null,"",null,null,null,{"$f":"IF(B1743=\"\",\"\",IF(ISERROR(VLOOKUP(B1743,database!$A$6:$BFQ$206,3,FALSE)),\"\",VLOOKUP(B1743,database!$A$6:$BFQ$206,3,FALSE)))","v":""},null,null,null,null,null,null,""]
["",null,{"$f":"IF(B1744=\"\",\"\",IF(ISERROR(VLOOKUP(B1744,database!$A$6:$BFQ$206,4,FALSE)),\"\",VLOOKUP(B1744,database!$A$6:$BFQ$206,4,FALSE)))","v":""},null,null,null,"",null,null,null,{"$f":"IF(B1744=\"\",\"\",IF(ISERROR(VLOOKUP(B1744,database!$A$6:$BFQ$206,3,FALSE)),\"\",VLOOKUP(B1744,database!$A$6:$BFQ$206,3,FALSE)))","v":""},null,null,null,null,null,null,""]
["",null,{"$f":"IF(B1745=\"\",\"\",IF(ISERROR(VLOOKUP(B1745,database!$A$6:$BFQ$206,4,FALSE)),\"\",VLOOKUP(B1745,database!$A$6:$BFQ$206,4,FALSE)))","v":""},null,null,null,"",null,null,null,{"$f":"IF(B1745=\"\",\"\",IF(ISERROR(VLOOKUP(B1745,database!$A$6:$BFQ$206,3,FALSE)),\"\",VLOOKUP(B1745,database!$A$6:$BFQ$206,3,FALSE)))","v":""},null,null,null,null,null,null,""]
["",null,{"$f":"IF(B1746=\"\",\"\",IF(ISERROR(VLOOKUP(B1746,database!$A$6:$BFQ$206,4,FALSE)),\"\",VLOOKUP(B1746,database!$A$6:$BFQ$206,4,FALSE)))","v":""},null,null,null,"",null,null,null,{"$f":"IF(B1746=\"\",\"\",IF(ISERROR(VLOOKUP(B1746,database!$A$6:$BFQ$206,3,FALSE)),\"\",VLOOKUP(B1746,database!$A$6:$BFQ$206,3,FALSE)))","v":""},null,null,null,null,null,null,""]
["",null,{"$f":"IF(B1747=\"\",\"\",IF(ISERROR(VLOOKUP(B1747,database!$A$6:$BFQ$206,4,FALSE)),\"\",VLOOKUP(B1747,database!$A$6:$BFQ$206,4,FALSE)))","v":""},null,null,null,"",null,null,null,{"$f":"IF(B1747=\"\",\"\",IF(ISERROR(VLOOKUP(B1747,database!$A$6:$BFQ$206,3,FALSE)),\"\",VLOOKUP(B1747,database!$A$6:$BFQ$206,3,FALSE)))","v":""},null,null,null,null,null,null,""]
["",null,{"$f":"IF(B1748=\"\",\"\",IF(ISERROR(VLOOKUP(B1748,database!$A$6:$BFQ$206,4,FALSE)),\"\",VLOOKUP(B1748,database!$A$6:$BFQ$206,4,FALSE)))","v":""},null,null,null,"",null,null,null,{"$f":"IF(B1748=\"\",\"\",IF(ISERROR(VLOOKUP(B1748,database!$A$6:$BFQ$206,3,FALSE)),\"\",VLOOKUP(B1748,database!$A$6:$BFQ$206,3,FALSE)))","v":""},null,null,null,null,null,null,""]
["",null,{"$f":"IF(B1749=\"\",\"\",IF(ISERROR(VLOOKUP(B1749,database!$A$6:$BFQ$206,4,FALSE)),\"\",VLOOKUP(B1749,database!$A$6:$BFQ$206,4,FALSE)))","v":""},null,null,null,"",null,null,null,{"$f":"IF(B1749=\"\",\"\",IF(ISERROR(VLOOKUP(B1749,database!$A$6:$BFQ$206,3,FALSE)),\"\",VLOOKUP(B1749,database!$A$6:$BFQ$206,3,FALSE)))","v":""},null,null,null,null,null,null,""]
["",null,{"$f":"IF(B1750=\"\",\"\",IF(ISERROR(VLOOKUP(B1750,database!$A$6:$BFQ$206,4,FALSE)),\"\",VLOOKUP(B1750,database!$A$6:$BFQ$206,4,FALSE)))","v":""},null,null,null,"",null,null,null,{"$f":"IF(B1750=\"\",\"\",IF(ISERROR(VLOOKUP(B1750,database!$A$6:$BFQ$206,3,FALSE)),\"\",VLOOKUP(B1750,database!$A$6:$BFQ$206,3,FALSE)))","v":""},null,null,null,null,null,null,""]
["",null,{"$f":"IF(B1751=\"\",\"\",IF(ISERROR(VLOOKUP(B1751,database!$A$6:$BFQ$206,4,FALSE)),\"\",VLOOKUP(B1751,database!$A$6:$BFQ$206,4,FALSE)))","v":""},null,null,null,"",null,null,null,{"$f":"IF(B1751=\"\",\"\",IF(ISERROR(VLOOKUP(B1751,database!$A$6:$BFQ$206,3,FALSE)),\"\",VLOOKUP(B1751,database!$A$6:$BFQ$206,3,FALSE)))","v":""},null,null,null,null,null,null,""]
["",null,{"$f":"IF(B1752=\"\",\"\",IF(ISERROR(VLOOKUP(B1752,database!$A$6:$BFQ$206,4,FALSE)),\"\",VLOOKUP(B1752,database!$A$6:$BFQ$206,4,FALSE)))","v":""},null,null,null,"",null,null,null,{"$f":"IF(B1752=\"\",\"\",IF(ISERROR(VLOOKUP(B1752,database!$A$6:$BFQ$206,3,FALSE)),\"\",VLOOKUP(B1752,database!$A$6:$BFQ$206,3,FALSE)))","v":""},null,null,null,null,null,null,""]
["",null,{"$f":"IF(B1753=\"\",\"\",IF(ISERROR(VLOOKUP(B1753,database!$A$6:$BFQ$206,4,FALSE)),\"\",VLOOKUP(B1753,database!$A$6:$BFQ$206,4,FALSE)))","v":""},null,null,null,"",null,null,null,{"$f":"IF(B1753=\"\",\"\",IF(ISERROR(VLOOKUP(B1753,database!$A$6:$BFQ$206,3,FALSE)),\"\",VLOOKUP(B1753,database!$A$6:$BFQ$206,3,FALSE)))","v":""},null,null,null,null,null,null,""]
["",null,{"$f":"IF(B1754=\"\",\"\",IF(ISERROR(VLOOKUP(B1754,database!$A$6:$BFQ$206,4,FALSE)),\"\",VLOOKUP(B1754,database!$A$6:$BFQ$206,4,FALSE)))","v":""},null,null,null,"",null,null,null,{"$f":"IF(B1754=\"\",\"\",IF(ISERROR(VLOOKUP(B1754,database!$A$6:$BFQ$206,3,FALSE)),\"\",VLOOKUP(B1754,database!$A$6:$BFQ$206,3,FALSE)))","v":""},null,null,null,null,null,null,""]
["",null,{"$f":"IF(B1755=\"\",\"\",IF(ISERROR(VLOOKUP(B1755,database!$A$6:$BFQ$206,4,FALSE)),\"\",VLOOKUP(B1755,database!$A$6:$BFQ$206,4,FALSE)))","v":""},null,null,null,"",null,null,null,{"$f":"IF(B1755=\"\",\"\",IF(ISERROR(VLOOKUP(B1755,database!$A$6:$BFQ$206,3,FALSE)),\"\",VLOOKUP(B1755,database!$A$6:$BFQ$206,3,FALSE)))","v":""},null,null,null,null,null,null,""]
["",null,{"$f":"IF(B1756=\"\",\"\",IF(ISERROR(VLOOKUP(B1756,database!$A$6:$BFQ$206,4,FALSE)),\"\",VLOOKUP(B1756,database!$A$6:$BFQ$206,4,FALSE)))","v":""},null,null,null,"",null,null,null,{"$f":"IF(B1756=\"\",\"\",IF(ISERROR(VLOOKUP(B1756,database!$A$6:$BFQ$206,3,FALSE)),\"\",VLOOKUP(B1756,database!$A$6:$BFQ$206,3,FALSE)))","v":""},null,null,null,null,null,null,""]
["",null,{"$f":"IF(B1757=\"\",\"\",IF(ISERROR(VLOOKUP(B1757,database!$A$6:$BFQ$206,4,FALSE)),\"\",VLOOKUP(B1757,database!$A$6:$BFQ$206,4,FALSE)))","v":""},null,null,null,"",null,null,null,{"$f":"IF(B1757=\"\",\"\",IF(ISERROR(VLOOKUP(B1757,database!$A$6:$BFQ$206,3,FALSE)),\"\",VLOOKUP(B1757,database!$A$6:$BFQ$206,3,FALSE)))","v":""},null,null,null,null,null,null,""]
["",null,{"$f":"IF(B1758=\"\",\"\",IF(ISERROR(VLOOKUP(B1758,database!$A$6:$BFQ$206,4,FALSE)),\"\",VLOOKUP(B1758,database!$A$6:$BFQ$206,4,FALSE)))","v":""},null,null,null,"",null,null,null,{"$f":"IF(B1758=\"\",\"\",IF(ISERROR(VLOOKUP(B1758,database!$A$6:$BFQ$206,3,FALSE)),\"\",VLOOKUP(B1758,database!$A$6:$BFQ$206,3,FALSE)))","v":""},null,null,null,null,null,null,""]
["",null,{"$f":"IF(B1759=\"\",\"\",IF(ISERROR(VLOOKUP(B1759,database!$A$6:$BFQ$206,4,FALSE)),\"\",VLOOKUP(B1759,database!$A$6:$BFQ$206,4,FALSE)))","v":""},null,null,null,"",null,null,null,{"$f":"IF(B1759=\"\",\"\",IF(ISERROR(VLOOKUP(B1759,database!$A$6:$BFQ$206,3,FALSE)),\"\",VLOOKUP(B1759,database!$A$6:$BFQ$206,3,FALSE)))","v":""},null,null,null,null,null,null,""]
["",null,{"$f":"IF(B1760=\"\",\"\",IF(ISERROR(VLOOKUP(B1760,database!$A$6:$BFQ$206,4,FALSE)),\"\",VLOOKUP(B1760,database!$A$6:$BFQ$206,4,FALSE)))","v":""},null,null,null,"",null,null,null,{"$f":"IF(B1760=\"\",\"\",IF(ISERROR(VLOOKUP(B1760,database!$A$6:$BFQ$206,3,FALSE)),\"\",VLOOKUP(B1760,database!$A$6:$BFQ$206,3,FALSE)))","v":""},null,null,null,null,null,null,""]
["",null,{"$f":"IF(B1761=\"\",\"\",IF(ISERROR(VLOOKUP(B1761,database!$A$6:$BFQ$206,4,FALSE)),\"\",VLOOKUP(B1761,database!$A$6:$BFQ$206,4,FALSE)))","v":""},null,null,null,"",null,null,null,{"$f":"IF(B1761=\"\",\"\",IF(ISERROR(VLOOKUP(B1761,database!$A$6:$BFQ$206,3,FALSE)),\"\",VLOOKUP(B1761,database!$A$6:$BFQ$206,3,FALSE)))","v":""},null,null,null,null,null,null,""]
["",null,{"$f":"IF(B1762=\"\",\"\",IF(ISERROR(VLOOKUP(B1762,database!$A$6:$BFQ$206,4,FALSE)),\"\",VLOOKUP(B1762,database!$A$6:$BFQ$206,4,FALSE)))","v":""},null,null,null,"",null,null,null,{"$f":"IF(B1762=\"\",\"\",IF(ISERROR(VLOOKUP(B1762,database!$A$6:$BFQ$206,3,FALSE)),\"\",VLOOKUP(B1762,database!$A$6:$BFQ$206,3,FALSE)))","v":""},null,null,null,null,null,null,""]
["",null,{"$f":"IF(B1763=\"\",\"\",IF(ISERROR(VLOOKUP(B1763,database!$A$6:$BFQ$206,4,FALSE)),\"\",VLOOKUP(B1763,database!$A$6:$BFQ$206,4,FALSE)))","v":""},null,null,null,"",null,null,null,{"$f":"IF(B1763=\"\",\"\",IF(ISERROR(VLOOKUP(B1763,database!$A$6:$BFQ$206,3,FALSE)),\"\",VLOOKUP(B1763,database!$A$6:$BFQ$206,3,FALSE)))","v":""},null,null,null,null,null,null,""]
["",null,{"$f":"IF(B1764=\"\",\"\",IF(ISERROR(VLOOKUP(B1764,database!$A$6:$BFQ$206,4,FALSE)),\"\",VLOOKUP(B1764,database!$A$6:$BFQ$206,4,FALSE)))","v":""},null,null,null,"",null,null,null,{"$f":"IF(B1764=\"\",\"\",IF(ISERROR(VLOOKUP(B1764,database!$A$6:$BFQ$206,3,FALSE)),\"\",VLOOKUP(B1764,database!$A$6:$BFQ$206,3,FALSE)))","v":""},null,null,null,null,null,null,""]
["",null,{"$f":"IF(B1765=\"\",\"\",IF(ISERROR(VLOOKUP(B1765,database!$A$6:$BFQ$206,4,FALSE)),\"\",VLOOKUP(B1765,database!$A$6:$BFQ$206,4,FALSE)))","v":""},null,null,null,"",null,null,null,{"$f":"IF(B1765=\"\",\"\",IF(ISERROR(VLOOKUP(B1765,database!$A$6:$BFQ$206,3,FALSE)),\"\",VLOOKUP(B1765,database!$A$6:$BFQ$206,3,FALSE)))","v":""},null,null,null,null,null,null,""]
["",null,{"$f":"IF(B1766=\"\",\"\",IF(ISERROR(VLOOKUP(B1766,database!$A$6:$BFQ$206,4,FALSE)),\"\",VLOOKUP(B1766,database!$A$6:$BFQ$206,4,FALSE)))","v":""},null,null,null,"",null,null,null,{"$f":"IF(B1766=\"\",\"\",IF(ISERROR(VLOOKUP(B1766,database!$A$6:$BFQ$206,3,FALSE)),\"\",VLOOKUP(B1766,database!$A$6:$BFQ$206,3,FALSE)))","v":""},null,null,null,null,null,null,""]
["",null,{"$f":"IF(B1767=\"\",\"\",IF(ISERROR(VLOOKUP(B1767,database!$A$6:$BFQ$206,4,FALSE)),\"\",VLOOKUP(B1767,database!$A$6:$BFQ$206,4,FALSE)))","v":""},null,null,null,"",null,null,null,{"$f":"IF(B1767=\"\",\"\",IF(ISERROR(VLOOKUP(B1767,database!$A$6:$BFQ$206,3,FALSE)),\"\",VLOOKUP(B1767,database!$A$6:$BFQ$206,3,FALSE)))","v":""},null,null,null,null,null,null,""]
["",null,{"$f":"IF(B1768=\"\",\"\",IF(ISERROR(VLOOKUP(B1768,database!$A$6:$BFQ$206,4,FALSE)),\"\",VLOOKUP(B1768,database!$A$6:$BFQ$206,4,FALSE)))","v":""},null,null,null,"",null,null,null,{"$f":"IF(B1768=\"\",\"\",IF(ISERROR(VLOOKUP(B1768,database!$A$6:$BFQ$206,3,FALSE)),\"\",VLOOKUP(B1768,database!$A$6:$BFQ$206,3,FALSE)))","v":""},null,null,null,null,null,null,""]
["",null,{"$f":"IF(B1769=\"\",\"\",IF(ISERROR(VLOOKUP(B1769,database!$A$6:$BFQ$206,4,FALSE)),\"\",VLOOKUP(B1769,database!$A$6:$BFQ$206,4,FALSE)))","v":""},null,null,null,"",null,null,null,{"$f":"IF(B1769=\"\",\"\",IF(ISERROR(VLOOKUP(B1769,database!$A$6:$BFQ$206,3,FALSE)),\"\",VLOOKUP(B1769,database!$A$6:$BFQ$206,3,FALSE)))","v":""},null,null,null,null,null,null,""]
["",null,{"$f":"IF(B1770=\"\",\"\",IF(ISERROR(VLOOKUP(B1770,database!$A$6:$BFQ$206,4,FALSE)),\"\",VLOOKUP(B1770,database!$A$6:$BFQ$206,4,FALSE)))","v":""},null,null,null,"",null,null,null,{"$f":"IF(B1770=\"\",\"\",IF(ISERROR(VLOOKUP(B1770,database!$A$6:$BFQ$206,3,FALSE)),\"\",VLOOKUP(B1770,database!$A$6:$BFQ$206,3,FALSE)))","v":""},null,null,null,null,null,null,""]
["",null,{"$f":"IF(B1771=\"\",\"\",IF(ISERROR(VLOOKUP(B1771,database!$A$6:$BFQ$206,4,FALSE)),\"\",VLOOKUP(B1771,database!$A$6:$BFQ$206,4,FALSE)))","v":""},null,null,null,"",null,null,null,{"$f":"IF(B1771=\"\",\"\",IF(ISERROR(VLOOKUP(B1771,database!$A$6:$BFQ$206,3,FALSE)),\"\",VLOOKUP(B1771,database!$A$6:$BFQ$206,3,FALSE)))","v":""},null,null,null,null,null,null,""]
["",null,{"$f":"IF(B1772=\"\",\"\",IF(ISERROR(VLOOKUP(B1772,database!$A$6:$BFQ$206,4,FALSE)),\"\",VLOOKUP(B1772,database!$A$6:$BFQ$206,4,FALSE)))","v":""},null,null,null,"",null,null,null,{"$f":"IF(B1772=\"\",\"\",IF(ISERROR(VLOOKUP(B1772,database!$A$6:$BFQ$206,3,FALSE)),\"\",VLOOKUP(B1772,database!$A$6:$BFQ$206,3,FALSE)))","v":""},null,null,null,null,null,null,""]
["",null,{"$f":"IF(B1773=\"\",\"\",IF(ISERROR(VLOOKUP(B1773,database!$A$6:$BFQ$206,4,FALSE)),\"\",VLOOKUP(B1773,database!$A$6:$BFQ$206,4,FALSE)))","v":""},null,null,null,"",null,null,null,{"$f":"IF(B1773=\"\",\"\",IF(ISERROR(VLOOKUP(B1773,database!$A$6:$BFQ$206,3,FALSE)),\"\",VLOOKUP(B1773,database!$A$6:$BFQ$206,3,FALSE)))","v":""},null,null,null,null,null,null,""]
["",null,{"$f":"IF(B1774=\"\",\"\",IF(ISERROR(VLOOKUP(B1774,database!$A$6:$BFQ$206,4,FALSE)),\"\",VLOOKUP(B1774,database!$A$6:$BFQ$206,4,FALSE)))","v":""},null,null,null,"",null,null,null,{"$f":"IF(B1774=\"\",\"\",IF(ISERROR(VLOOKUP(B1774,database!$A$6:$BFQ$206,3,FALSE)),\"\",VLOOKUP(B1774,database!$A$6:$BFQ$206,3,FALSE)))","v":""},null,null,null,null,null,null,""]
["",null,{"$f":"IF(B1775=\"\",\"\",IF(ISERROR(VLOOKUP(B1775,database!$A$6:$BFQ$206,4,FALSE)),\"\",VLOOKUP(B1775,database!$A$6:$BFQ$206,4,FALSE)))","v":""},null,null,null,"",null,null,null,{"$f":"IF(B1775=\"\",\"\",IF(ISERROR(VLOOKUP(B1775,database!$A$6:$BFQ$206,3,FALSE)),\"\",VLOOKUP(B1775,database!$A$6:$BFQ$206,3,FALSE)))","v":""},null,null,null,null,null,null,""]
["",null,{"$f":"IF(B1776=\"\",\"\",IF(ISERROR(VLOOKUP(B1776,database!$A$6:$BFQ$206,4,FALSE)),\"\",VLOOKUP(B1776,database!$A$6:$BFQ$206,4,FALSE)))","v":""},null,null,null,"",null,null,null,{"$f":"IF(B1776=\"\",\"\",IF(ISERROR(VLOOKUP(B1776,database!$A$6:$BFQ$206,3,FALSE)),\"\",VLOOKUP(B1776,database!$A$6:$BFQ$206,3,FALSE)))","v":""},null,null,null,null,null,null,""]
["",null,{"$f":"IF(B1777=\"\",\"\",IF(ISERROR(VLOOKUP(B1777,database!$A$6:$BFQ$206,4,FALSE)),\"\",VLOOKUP(B1777,database!$A$6:$BFQ$206,4,FALSE)))","v":""},null,null,null,"",null,null,null,{"$f":"IF(B1777=\"\",\"\",IF(ISERROR(VLOOKUP(B1777,database!$A$6:$BFQ$206,3,FALSE)),\"\",VLOOKUP(B1777,database!$A$6:$BFQ$206,3,FALSE)))","v":""},null,null,null,null,null,null,""]
["",null,{"$f":"IF(B1778=\"\",\"\",IF(ISERROR(VLOOKUP(B1778,database!$A$6:$BFQ$206,4,FALSE)),\"\",VLOOKUP(B1778,database!$A$6:$BFQ$206,4,FALSE)))","v":""},null,null,null,"",null,null,null,{"$f":"IF(B1778=\"\",\"\",IF(ISERROR(VLOOKUP(B1778,database!$A$6:$BFQ$206,3,FALSE)),\"\",VLOOKUP(B1778,database!$A$6:$BFQ$206,3,FALSE)))","v":""},null,null,null,null,null,null,""]
["",null,{"$f":"IF(B1779=\"\",\"\",IF(ISERROR(VLOOKUP(B1779,database!$A$6:$BFQ$206,4,FALSE)),\"\",VLOOKUP(B1779,database!$A$6:$BFQ$206,4,FALSE)))","v":""},null,null,null,"",null,null,null,{"$f":"IF(B1779=\"\",\"\",IF(ISERROR(VLOOKUP(B1779,database!$A$6:$BFQ$206,3,FALSE)),\"\",VLOOKUP(B1779,database!$A$6:$BFQ$206,3,FALSE)))","v":""},null,null,null,null,null,null,""]
["",null,{"$f":"IF(B1780=\"\",\"\",IF(ISERROR(VLOOKUP(B1780,database!$A$6:$BFQ$206,4,FALSE)),\"\",VLOOKUP(B1780,database!$A$6:$BFQ$206,4,FALSE)))","v":""},null,null,null,"",null,null,null,{"$f":"IF(B1780=\"\",\"\",IF(ISERROR(VLOOKUP(B1780,database!$A$6:$BFQ$206,3,FALSE)),\"\",VLOOKUP(B1780,database!$A$6:$BFQ$206,3,FALSE)))","v":""},null,null,null,null,null,null,""]
["",null,{"$f":"IF(B1781=\"\",\"\",IF(ISERROR(VLOOKUP(B1781,database!$A$6:$BFQ$206,4,FALSE)),\"\",VLOOKUP(B1781,database!$A$6:$BFQ$206,4,FALSE)))","v":""},null,null,null,"",null,null,null,{"$f":"IF(B1781=\"\",\"\",IF(ISERROR(VLOOKUP(B1781,database!$A$6:$BFQ$206,3,FALSE)),\"\",VLOOKUP(B1781,database!$A$6:$BFQ$206,3,FALSE)))","v":""},null,null,null,null,null,null,""]
["",null,{"$f":"IF(B1782=\"\",\"\",IF(ISERROR(VLOOKUP(B1782,database!$A$6:$BFQ$206,4,FALSE)),\"\",VLOOKUP(B1782,database!$A$6:$BFQ$206,4,FALSE)))","v":""},null,null,null,"",null,null,null,{"$f":"IF(B1782=\"\",\"\",IF(ISERROR(VLOOKUP(B1782,database!$A$6:$BFQ$206,3,FALSE)),\"\",VLOOKUP(B1782,database!$A$6:$BFQ$206,3,FALSE)))","v":""},null,null,null,null,null,null,""]
["",null,{"$f":"IF(B1783=\"\",\"\",IF(ISERROR(VLOOKUP(B1783,database!$A$6:$BFQ$206,4,FALSE)),\"\",VLOOKUP(B1783,database!$A$6:$BFQ$206,4,FALSE)))","v":""},null,null,null,"",null,null,null,{"$f":"IF(B1783=\"\",\"\",IF(ISERROR(VLOOKUP(B1783,database!$A$6:$BFQ$206,3,FALSE)),\"\",VLOOKUP(B1783,database!$A$6:$BFQ$206,3,FALSE)))","v":""},null,null,null,null,null,null,""]
["",null,{"$f":"IF(B1784=\"\",\"\",IF(ISERROR(VLOOKUP(B1784,database!$A$6:$BFQ$206,4,FALSE)),\"\",VLOOKUP(B1784,database!$A$6:$BFQ$206,4,FALSE)))","v":""},null,null,null,"",null,null,null,{"$f":"IF(B1784=\"\",\"\",IF(ISERROR(VLOOKUP(B1784,database!$A$6:$BFQ$206,3,FALSE)),\"\",VLOOKUP(B1784,database!$A$6:$BFQ$206,3,FALSE)))","v":""},null,null,null,null,null,null,""]
["",null,{"$f":"IF(B1785=\"\",\"\",IF(ISERROR(VLOOKUP(B1785,database!$A$6:$BFQ$206,4,FALSE)),\"\",VLOOKUP(B1785,database!$A$6:$BFQ$206,4,FALSE)))","v":""},null,null,null,"",null,null,null,{"$f":"IF(B1785=\"\",\"\",IF(ISERROR(VLOOKUP(B1785,database!$A$6:$BFQ$206,3,FALSE)),\"\",VLOOKUP(B1785,database!$A$6:$BFQ$206,3,FALSE)))","v":""},null,null,null,null,null,null,""]
["",null,{"$f":"IF(B1786=\"\",\"\",IF(ISERROR(VLOOKUP(B1786,database!$A$6:$BFQ$206,4,FALSE)),\"\",VLOOKUP(B1786,database!$A$6:$BFQ$206,4,FALSE)))","v":""},null,null,null,"",null,null,null,{"$f":"IF(B1786=\"\",\"\",IF(ISERROR(VLOOKUP(B1786,database!$A$6:$BFQ$206,3,FALSE)),\"\",VLOOKUP(B1786,database!$A$6:$BFQ$206,3,FALSE)))","v":""},null,null,null,null,null,null,""]
["",null,{"$f":"IF(B1787=\"\",\"\",IF(ISERROR(VLOOKUP(B1787,database!$A$6:$BFQ$206,4,FALSE)),\"\",VLOOKUP(B1787,database!$A$6:$BFQ$206,4,FALSE)))","v":""},null,null,null,"",null,null,null,{"$f":"IF(B1787=\"\",\"\",IF(ISERROR(VLOOKUP(B1787,database!$A$6:$BFQ$206,3,FALSE)),\"\",VLOOKUP(B1787,database!$A$6:$BFQ$206,3,FALSE)))","v":""},null,null,null,null,null,null,""]
["",null,{"$f":"IF(B1788=\"\",\"\",IF(ISERROR(VLOOKUP(B1788,database!$A$6:$BFQ$206,4,FALSE)),\"\",VLOOKUP(B1788,database!$A$6:$BFQ$206,4,FALSE)))","v":""},null,null,null,"",null,null,null,{"$f":"IF(B1788=\"\",\"\",IF(ISERROR(VLOOKUP(B1788,database!$A$6:$BFQ$206,3,FALSE)),\"\",VLOOKUP(B1788,database!$A$6:$BFQ$206,3,FALSE)))","v":""},null,null,null,null,null,null,""]
["",null,{"$f":"IF(B1789=\"\",\"\",IF(ISERROR(VLOOKUP(B1789,database!$A$6:$BFQ$206,4,FALSE)),\"\",VLOOKUP(B1789,database!$A$6:$BFQ$206,4,FALSE)))","v":""},null,null,null,"",null,null,null,{"$f":"IF(B1789=\"\",\"\",IF(ISERROR(VLOOKUP(B1789,database!$A$6:$BFQ$206,3,FALSE)),\"\",VLOOKUP(B1789,database!$A$6:$BFQ$206,3,FALSE)))","v":""},null,null,null,null,null,null,""]
["",null,{"$f":"IF(B1790=\"\",\"\",IF(ISERROR(VLOOKUP(B1790,database!$A$6:$BFQ$206,4,FALSE)),\"\",VLOOKUP(B1790,database!$A$6:$BFQ$206,4,FALSE)))","v":""},null,null,null,"",null,null,null,{"$f":"IF(B1790=\"\",\"\",IF(ISERROR(VLOOKUP(B1790,database!$A$6:$BFQ$206,3,FALSE)),\"\",VLOOKUP(B1790,database!$A$6:$BFQ$206,3,FALSE)))","v":""},null,null,null,null,null,null,""]
["",null,{"$f":"IF(B1791=\"\",\"\",IF(ISERROR(VLOOKUP(B1791,database!$A$6:$BFQ$206,4,FALSE)),\"\",VLOOKUP(B1791,database!$A$6:$BFQ$206,4,FALSE)))","v":""},null,null,null,"",null,null,null,{"$f":"IF(B1791=\"\",\"\",IF(ISERROR(VLOOKUP(B1791,database!$A$6:$BFQ$206,3,FALSE)),\"\",VLOOKUP(B1791,database!$A$6:$BFQ$206,3,FALSE)))","v":""},null,null,null,null,null,null,""]
["",null,{"$f":"IF(B1792=\"\",\"\",IF(ISERROR(VLOOKUP(B1792,database!$A$6:$BFQ$206,4,FALSE)),\"\",VLOOKUP(B1792,database!$A$6:$BFQ$206,4,FALSE)))","v":""},null,null,null,"",null,null,null,{"$f":"IF(B1792=\"\",\"\",IF(ISERROR(VLOOKUP(B1792,database!$A$6:$BFQ$206,3,FALSE)),\"\",VLOOKUP(B1792,database!$A$6:$BFQ$206,3,FALSE)))","v":""},null,null,null,null,null,null,""]
[{"$f":"IF(B1793=\"\",\"\",ROW(A1790))","v":""},null,{"$f":"IF(B1793=\"\",\"\",IF(ISERROR(VLOOKUP(B1793,database!$A$6:$BFQ$206,4,FALSE)),\"\",VLOOKUP(B1793,database!$A$6:$BFQ$206,4,FALSE)))","v":""},null,null,null,{"$f":"IF(B1793=\"\",\"\",IF(C1793=\"\",0,1))","v":""},null,null,null,{"$f":"IF(B1793=\"\",\"\",IF(ISERROR(VLOOKUP(B1793,database!$A$6:$BFQ$206,3,FALSE)),\"\",VLOOKUP(B1793,database!$A$6:$BFQ$206,3,FALSE)))","v":""},null,null,null,null,null,null,{"$f":"LEFT(C1793,2)","v":""}]
["",null,{"$f":"IF(B1794=\"\",\"\",IF(ISERROR(VLOOKUP(B1794,database!$A$6:$BFQ$206,4,FALSE)),\"\",VLOOKUP(B1794,database!$A$6:$BFQ$206,4,FALSE)))","v":""},null,null,null,"",null,null,null,{"$f":"IF(B1794=\"\",\"\",IF(ISERROR(VLOOKUP(B1794,database!$A$6:$BFQ$206,3,FALSE)),\"\",VLOOKUP(B1794,database!$A$6:$BFQ$206,3,FALSE)))","v":""},null,null,null,null,null,null,""]
["",null,{"$f":"IF(B1795=\"\",\"\",IF(ISERROR(VLOOKUP(B1795,database!$A$6:$BFQ$206,4,FALSE)),\"\",VLOOKUP(B1795,database!$A$6:$BFQ$206,4,FALSE)))","v":""},null,null,null,"",null,null,null,{"$f":"IF(B1795=\"\",\"\",IF(ISERROR(VLOOKUP(B1795,database!$A$6:$BFQ$206,3,FALSE)),\"\",VLOOKUP(B1795,database!$A$6:$BFQ$206,3,FALSE)))","v":""},null,null,null,null,null,null,""]
["",null,{"$f":"IF(B1796=\"\",\"\",IF(ISERROR(VLOOKUP(B1796,database!$A$6:$BFQ$206,4,FALSE)),\"\",VLOOKUP(B1796,database!$A$6:$BFQ$206,4,FALSE)))","v":""},null,null,null,"",null,null,null,{"$f":"IF(B1796=\"\",\"\",IF(ISERROR(VLOOKUP(B1796,database!$A$6:$BFQ$206,3,FALSE)),\"\",VLOOKUP(B1796,database!$A$6:$BFQ$206,3,FALSE)))","v":""},null,null,null,null,null,null,""]
["",null,{"$f":"IF(B1797=\"\",\"\",IF(ISERROR(VLOOKUP(B1797,database!$A$6:$BFQ$206,4,FALSE)),\"\",VLOOKUP(B1797,database!$A$6:$BFQ$206,4,FALSE)))","v":""},null,null,null,"",null,null,null,{"$f":"IF(B1797=\"\",\"\",IF(ISERROR(VLOOKUP(B1797,database!$A$6:$BFQ$206,3,FALSE)),\"\",VLOOKUP(B1797,database!$A$6:$BFQ$206,3,FALSE)))","v":""},null,null,null,null,null,null,""]
["",null,{"$f":"IF(B1798=\"\",\"\",IF(ISERROR(VLOOKUP(B1798,database!$A$6:$BFQ$206,4,FALSE)),\"\",VLOOKUP(B1798,database!$A$6:$BFQ$206,4,FALSE)))","v":""},null,null,null,"",null,null,null,{"$f":"IF(B1798=\"\",\"\",IF(ISERROR(VLOOKUP(B1798,database!$A$6:$BFQ$206,3,FALSE)),\"\",VLOOKUP(B1798,database!$A$6:$BFQ$206,3,FALSE)))","v":""},null,null,null,null,null,null,""]
["",null,{"$f":"IF(B1799=\"\",\"\",IF(ISERROR(VLOOKUP(B1799,database!$A$6:$BFQ$206,4,FALSE)),\"\",VLOOKUP(B1799,database!$A$6:$BFQ$206,4,FALSE)))","v":""},null,null,null,"",null,null,null,{"$f":"IF(B1799=\"\",\"\",IF(ISERROR(VLOOKUP(B1799,database!$A$6:$BFQ$206,3,FALSE)),\"\",VLOOKUP(B1799,database!$A$6:$BFQ$206,3,FALSE)))","v":""},null,null,null,null,null,null,""]
["",null,{"$f":"IF(B1800=\"\",\"\",IF(ISERROR(VLOOKUP(B1800,database!$A$6:$BFQ$206,4,FALSE)),\"\",VLOOKUP(B1800,database!$A$6:$BFQ$206,4,FALSE)))","v":""},null,null,null,"",null,null,null,{"$f":"IF(B1800=\"\",\"\",IF(ISERROR(VLOOKUP(B1800,database!$A$6:$BFQ$206,3,FALSE)),\"\",VLOOKUP(B1800,database!$A$6:$BFQ$206,3,FALSE)))","v":""},null,null,null,null,null,null,""]
["",null,{"$f":"IF(B1801=\"\",\"\",IF(ISERROR(VLOOKUP(B1801,database!$A$6:$BFQ$206,4,FALSE)),\"\",VLOOKUP(B1801,database!$A$6:$BFQ$206,4,FALSE)))","v":""},null,null,null,"",null,null,null,{"$f":"IF(B1801=\"\",\"\",IF(ISERROR(VLOOKUP(B1801,database!$A$6:$BFQ$206,3,FALSE)),\"\",VLOOKUP(B1801,database!$A$6:$BFQ$206,3,FALSE)))","v":""},null,null,null,null,null,null,""]
["",null,{"$f":"IF(B1802=\"\",\"\",IF(ISERROR(VLOOKUP(B1802,database!$A$6:$BFQ$206,4,FALSE)),\"\",VLOOKUP(B1802,database!$A$6:$BFQ$206,4,FALSE)))","v":""},null,null,null,"",null,null,null,{"$f":"IF(B1802=\"\",\"\",IF(ISERROR(VLOOKUP(B1802,database!$A$6:$BFQ$206,3,FALSE)),\"\",VLOOKUP(B1802,database!$A$6:$BFQ$206,3,FALSE)))","v":""},null,null,null,null,null,null,""]
["",null,{"$f":"IF(B1803=\"\",\"\",IF(ISERROR(VLOOKUP(B1803,database!$A$6:$BFQ$206,4,FALSE)),\"\",VLOOKUP(B1803,database!$A$6:$BFQ$206,4,FALSE)))","v":""},null,null,null,"",null,null,null,{"$f":"IF(B1803=\"\",\"\",IF(ISERROR(VLOOKUP(B1803,database!$A$6:$BFQ$206,3,FALSE)),\"\",VLOOKUP(B1803,database!$A$6:$BFQ$206,3,FALSE)))","v":""},null,null,null,null,null,null,""]
["",null,{"$f":"IF(B1804=\"\",\"\",IF(ISERROR(VLOOKUP(B1804,database!$A$6:$BFQ$206,4,FALSE)),\"\",VLOOKUP(B1804,database!$A$6:$BFQ$206,4,FALSE)))","v":""},null,null,null,"",null,null,null,{"$f":"IF(B1804=\"\",\"\",IF(ISERROR(VLOOKUP(B1804,database!$A$6:$BFQ$206,3,FALSE)),\"\",VLOOKUP(B1804,database!$A$6:$BFQ$206,3,FALSE)))","v":""},null,null,null,null,null,null,""]
["",null,{"$f":"IF(B1805=\"\",\"\",IF(ISERROR(VLOOKUP(B1805,database!$A$6:$BFQ$206,4,FALSE)),\"\",VLOOKUP(B1805,database!$A$6:$BFQ$206,4,FALSE)))","v":""},null,null,null,"",null,null,null,{"$f":"IF(B1805=\"\",\"\",IF(ISERROR(VLOOKUP(B1805,database!$A$6:$BFQ$206,3,FALSE)),\"\",VLOOKUP(B1805,database!$A$6:$BFQ$206,3,FALSE)))","v":""},null,null,null,null,null,null,""]
["",null,{"$f":"IF(B1806=\"\",\"\",IF(ISERROR(VLOOKUP(B1806,database!$A$6:$BFQ$206,4,FALSE)),\"\",VLOOKUP(B1806,database!$A$6:$BFQ$206,4,FALSE)))","v":""},null,null,null,"",null,null,null,{"$f":"IF(B1806=\"\",\"\",IF(ISERROR(VLOOKUP(B1806,database!$A$6:$BFQ$206,3,FALSE)),\"\",VLOOKUP(B1806,database!$A$6:$BFQ$206,3,FALSE)))","v":""},null,null,null,null,null,null,""]
["",null,{"$f":"IF(B1807=\"\",\"\",IF(ISERROR(VLOOKUP(B1807,database!$A$6:$BFQ$206,4,FALSE)),\"\",VLOOKUP(B1807,database!$A$6:$BFQ$206,4,FALSE)))","v":""},null,null,null,"",null,null,null,{"$f":"IF(B1807=\"\",\"\",IF(ISERROR(VLOOKUP(B1807,database!$A$6:$BFQ$206,3,FALSE)),\"\",VLOOKUP(B1807,database!$A$6:$BFQ$206,3,FALSE)))","v":""},null,null,null,null,null,null,""]
["",null,{"$f":"IF(B1808=\"\",\"\",IF(ISERROR(VLOOKUP(B1808,database!$A$6:$BFQ$206,4,FALSE)),\"\",VLOOKUP(B1808,database!$A$6:$BFQ$206,4,FALSE)))","v":""},null,null,null,"",null,null,null,{"$f":"IF(B1808=\"\",\"\",IF(ISERROR(VLOOKUP(B1808,database!$A$6:$BFQ$206,3,FALSE)),\"\",VLOOKUP(B1808,database!$A$6:$BFQ$206,3,FALSE)))","v":""},null,null,null,null,null,null,""]
["",null,{"$f":"IF(B1809=\"\",\"\",IF(ISERROR(VLOOKUP(B1809,database!$A$6:$BFQ$206,4,FALSE)),\"\",VLOOKUP(B1809,database!$A$6:$BFQ$206,4,FALSE)))","v":""},null,null,null,"",null,null,null,{"$f":"IF(B1809=\"\",\"\",IF(ISERROR(VLOOKUP(B1809,database!$A$6:$BFQ$206,3,FALSE)),\"\",VLOOKUP(B1809,database!$A$6:$BFQ$206,3,FALSE)))","v":""},null,null,null,null,null,null,""]
["",null,{"$f":"IF(B1810=\"\",\"\",IF(ISERROR(VLOOKUP(B1810,database!$A$6:$BFQ$206,4,FALSE)),\"\",VLOOKUP(B1810,database!$A$6:$BFQ$206,4,FALSE)))","v":""},null,null,null,"",null,null,null,{"$f":"IF(B1810=\"\",\"\",IF(ISERROR(VLOOKUP(B1810,database!$A$6:$BFQ$206,3,FALSE)),\"\",VLOOKUP(B1810,database!$A$6:$BFQ$206,3,FALSE)))","v":""},null,null,null,null,null,null,""]
["",null,{"$f":"IF(B1811=\"\",\"\",IF(ISERROR(VLOOKUP(B1811,database!$A$6:$BFQ$206,4,FALSE)),\"\",VLOOKUP(B1811,database!$A$6:$BFQ$206,4,FALSE)))","v":""},null,null,null,"",null,null,null,{"$f":"IF(B1811=\"\",\"\",IF(ISERROR(VLOOKUP(B1811,database!$A$6:$BFQ$206,3,FALSE)),\"\",VLOOKUP(B1811,database!$A$6:$BFQ$206,3,FALSE)))","v":""},null,null,null,null,null,null,""]
["",null,{"$f":"IF(B1812=\"\",\"\",IF(ISERROR(VLOOKUP(B1812,database!$A$6:$BFQ$206,4,FALSE)),\"\",VLOOKUP(B1812,database!$A$6:$BFQ$206,4,FALSE)))","v":""},null,null,null,"",null,null,null,{"$f":"IF(B1812=\"\",\"\",IF(ISERROR(VLOOKUP(B1812,database!$A$6:$BFQ$206,3,FALSE)),\"\",VLOOKUP(B1812,database!$A$6:$BFQ$206,3,FALSE)))","v":""},null,null,null,null,null,null,""]
["",null,{"$f":"IF(B1813=\"\",\"\",IF(ISERROR(VLOOKUP(B1813,database!$A$6:$BFQ$206,4,FALSE)),\"\",VLOOKUP(B1813,database!$A$6:$BFQ$206,4,FALSE)))","v":""},null,null,null,"",null,null,null,{"$f":"IF(B1813=\"\",\"\",IF(ISERROR(VLOOKUP(B1813,database!$A$6:$BFQ$206,3,FALSE)),\"\",VLOOKUP(B1813,database!$A$6:$BFQ$206,3,FALSE)))","v":""},null,null,null,null,null,null,""]
["",null,{"$f":"IF(B1814=\"\",\"\",IF(ISERROR(VLOOKUP(B1814,database!$A$6:$BFQ$206,4,FALSE)),\"\",VLOOKUP(B1814,database!$A$6:$BFQ$206,4,FALSE)))","v":""},null,null,null,"",null,null,null,{"$f":"IF(B1814=\"\",\"\",IF(ISERROR(VLOOKUP(B1814,database!$A$6:$BFQ$206,3,FALSE)),\"\",VLOOKUP(B1814,database!$A$6:$BFQ$206,3,FALSE)))","v":""},null,null,null,null,null,null,""]
["",null,{"$f":"IF(B1815=\"\",\"\",IF(ISERROR(VLOOKUP(B1815,database!$A$6:$BFQ$206,4,FALSE)),\"\",VLOOKUP(B1815,database!$A$6:$BFQ$206,4,FALSE)))","v":""},null,null,null,"",null,null,null,{"$f":"IF(B1815=\"\",\"\",IF(ISERROR(VLOOKUP(B1815,database!$A$6:$BFQ$206,3,FALSE)),\"\",VLOOKUP(B1815,database!$A$6:$BFQ$206,3,FALSE)))","v":""},null,null,null,null,null,null,""]
["",null,{"$f":"IF(B1816=\"\",\"\",IF(ISERROR(VLOOKUP(B1816,database!$A$6:$BFQ$206,4,FALSE)),\"\",VLOOKUP(B1816,database!$A$6:$BFQ$206,4,FALSE)))","v":""},null,null,null,"",null,null,null,{"$f":"IF(B1816=\"\",\"\",IF(ISERROR(VLOOKUP(B1816,database!$A$6:$BFQ$206,3,FALSE)),\"\",VLOOKUP(B1816,database!$A$6:$BFQ$206,3,FALSE)))","v":""},null,null,null,null,null,null,""]
["",null,{"$f":"IF(B1817=\"\",\"\",IF(ISERROR(VLOOKUP(B1817,database!$A$6:$BFQ$206,4,FALSE)),\"\",VLOOKUP(B1817,database!$A$6:$BFQ$206,4,FALSE)))","v":""},null,null,null,"",null,null,null,{"$f":"IF(B1817=\"\",\"\",IF(ISERROR(VLOOKUP(B1817,database!$A$6:$BFQ$206,3,FALSE)),\"\",VLOOKUP(B1817,database!$A$6:$BFQ$206,3,FALSE)))","v":""},null,null,null,null,null,null,""]
["",null,{"$f":"IF(B1818=\"\",\"\",IF(ISERROR(VLOOKUP(B1818,database!$A$6:$BFQ$206,4,FALSE)),\"\",VLOOKUP(B1818,database!$A$6:$BFQ$206,4,FALSE)))","v":""},null,null,null,"",null,null,null,{"$f":"IF(B1818=\"\",\"\",IF(ISERROR(VLOOKUP(B1818,database!$A$6:$BFQ$206,3,FALSE)),\"\",VLOOKUP(B1818,database!$A$6:$BFQ$206,3,FALSE)))","v":""},null,null,null,null,null,null,""]
["",null,{"$f":"IF(B1819=\"\",\"\",IF(ISERROR(VLOOKUP(B1819,database!$A$6:$BFQ$206,4,FALSE)),\"\",VLOOKUP(B1819,database!$A$6:$BFQ$206,4,FALSE)))","v":""},null,null,null,"",null,null,null,{"$f":"IF(B1819=\"\",\"\",IF(ISERROR(VLOOKUP(B1819,database!$A$6:$BFQ$206,3,FALSE)),\"\",VLOOKUP(B1819,database!$A$6:$BFQ$206,3,FALSE)))","v":""},null,null,null,null,null,null,""]
["",null,{"$f":"IF(B1820=\"\",\"\",IF(ISERROR(VLOOKUP(B1820,database!$A$6:$BFQ$206,4,FALSE)),\"\",VLOOKUP(B1820,database!$A$6:$BFQ$206,4,FALSE)))","v":""},null,null,null,"",null,null,null,{"$f":"IF(B1820=\"\",\"\",IF(ISERROR(VLOOKUP(B1820,database!$A$6:$BFQ$206,3,FALSE)),\"\",VLOOKUP(B1820,database!$A$6:$BFQ$206,3,FALSE)))","v":""},null,null,null,null,null,null,""]
["",null,{"$f":"IF(B1821=\"\",\"\",IF(ISERROR(VLOOKUP(B1821,database!$A$6:$BFQ$206,4,FALSE)),\"\",VLOOKUP(B1821,database!$A$6:$BFQ$206,4,FALSE)))","v":""},null,null,null,"",null,null,null,{"$f":"IF(B1821=\"\",\"\",IF(ISERROR(VLOOKUP(B1821,database!$A$6:$BFQ$206,3,FALSE)),\"\",VLOOKUP(B1821,database!$A$6:$BFQ$206,3,FALSE)))","v":""},null,null,null,null,null,null,""]
["",null,{"$f":"IF(B1822=\"\",\"\",IF(ISERROR(VLOOKUP(B1822,database!$A$6:$BFQ$206,4,FALSE)),\"\",VLOOKUP(B1822,database!$A$6:$BFQ$206,4,FALSE)))","v":""},null,null,null,"",null,null,null,{"$f":"IF(B1822=\"\",\"\",IF(ISERROR(VLOOKUP(B1822,database!$A$6:$BFQ$206,3,FALSE)),\"\",VLOOKUP(B1822,database!$A$6:$BFQ$206,3,FALSE)))","v":""},null,null,null,null,null,null,""]
["",null,{"$f":"IF(B1823=\"\",\"\",IF(ISERROR(VLOOKUP(B1823,database!$A$6:$BFQ$206,4,FALSE)),\"\",VLOOKUP(B1823,database!$A$6:$BFQ$206,4,FALSE)))","v":""},null,null,null,"",null,null,null,{"$f":"IF(B1823=\"\",\"\",IF(ISERROR(VLOOKUP(B1823,database!$A$6:$BFQ$206,3,FALSE)),\"\",VLOOKUP(B1823,database!$A$6:$BFQ$206,3,FALSE)))","v":""},null,null,null,null,null,null,""]
["",null,{"$f":"IF(B1824=\"\",\"\",IF(ISERROR(VLOOKUP(B1824,database!$A$6:$BFQ$206,4,FALSE)),\"\",VLOOKUP(B1824,database!$A$6:$BFQ$206,4,FALSE)))","v":""},null,null,null,"",null,null,null,{"$f":"IF(B1824=\"\",\"\",IF(ISERROR(VLOOKUP(B1824,database!$A$6:$BFQ$206,3,FALSE)),\"\",VLOOKUP(B1824,database!$A$6:$BFQ$206,3,FALSE)))","v":""},null,null,null,null,null,null,""]
["",null,{"$f":"IF(B1825=\"\",\"\",IF(ISERROR(VLOOKUP(B1825,database!$A$6:$BFQ$206,4,FALSE)),\"\",VLOOKUP(B1825,database!$A$6:$BFQ$206,4,FALSE)))","v":""},null,null,null,"",null,null,null,{"$f":"IF(B1825=\"\",\"\",IF(ISERROR(VLOOKUP(B1825,database!$A$6:$BFQ$206,3,FALSE)),\"\",VLOOKUP(B1825,database!$A$6:$BFQ$206,3,FALSE)))","v":""},null,null,null,null,null,null,""]
["",null,{"$f":"IF(B1826=\"\",\"\",IF(ISERROR(VLOOKUP(B1826,database!$A$6:$BFQ$206,4,FALSE)),\"\",VLOOKUP(B1826,database!$A$6:$BFQ$206,4,FALSE)))","v":""},null,null,null,"",null,null,null,{"$f":"IF(B1826=\"\",\"\",IF(ISERROR(VLOOKUP(B1826,database!$A$6:$BFQ$206,3,FALSE)),\"\",VLOOKUP(B1826,database!$A$6:$BFQ$206,3,FALSE)))","v":""},null,null,null,null,null,null,""]
["",null,{"$f":"IF(B1827=\"\",\"\",IF(ISERROR(VLOOKUP(B1827,database!$A$6:$BFQ$206,4,FALSE)),\"\",VLOOKUP(B1827,database!$A$6:$BFQ$206,4,FALSE)))","v":""},null,null,null,"",null,null,null,{"$f":"IF(B1827=\"\",\"\",IF(ISERROR(VLOOKUP(B1827,database!$A$6:$BFQ$206,3,FALSE)),\"\",VLOOKUP(B1827,database!$A$6:$BFQ$206,3,FALSE)))","v":""},null,null,null,null,null,null,""]
["",null,{"$f":"IF(B1828=\"\",\"\",IF(ISERROR(VLOOKUP(B1828,database!$A$6:$BFQ$206,4,FALSE)),\"\",VLOOKUP(B1828,database!$A$6:$BFQ$206,4,FALSE)))","v":""},null,null,null,"",null,null,null,{"$f":"IF(B1828=\"\",\"\",IF(ISERROR(VLOOKUP(B1828,database!$A$6:$BFQ$206,3,FALSE)),\"\",VLOOKUP(B1828,database!$A$6:$BFQ$206,3,FALSE)))","v":""},null,null,null,null,null,null,""]
["",null,{"$f":"IF(B1829=\"\",\"\",IF(ISERROR(VLOOKUP(B1829,database!$A$6:$BFQ$206,4,FALSE)),\"\",VLOOKUP(B1829,database!$A$6:$BFQ$206,4,FALSE)))","v":""},null,null,null,"",null,null,null,{"$f":"IF(B1829=\"\",\"\",IF(ISERROR(VLOOKUP(B1829,database!$A$6:$BFQ$206,3,FALSE)),\"\",VLOOKUP(B1829,database!$A$6:$BFQ$206,3,FALSE)))","v":""},null,null,null,null,null,null,""]
["",null,{"$f":"IF(B1830=\"\",\"\",IF(ISERROR(VLOOKUP(B1830,database!$A$6:$BFQ$206,4,FALSE)),\"\",VLOOKUP(B1830,database!$A$6:$BFQ$206,4,FALSE)))","v":""},null,null,null,"",null,null,null,{"$f":"IF(B1830=\"\",\"\",IF(ISERROR(VLOOKUP(B1830,database!$A$6:$BFQ$206,3,FALSE)),\"\",VLOOKUP(B1830,database!$A$6:$BFQ$206,3,FALSE)))","v":""},null,null,null,null,null,null,""]
["",null,{"$f":"IF(B1831=\"\",\"\",IF(ISERROR(VLOOKUP(B1831,database!$A$6:$BFQ$206,4,FALSE)),\"\",VLOOKUP(B1831,database!$A$6:$BFQ$206,4,FALSE)))","v":""},null,null,null,"",null,null,null,{"$f":"IF(B1831=\"\",\"\",IF(ISERROR(VLOOKUP(B1831,database!$A$6:$BFQ$206,3,FALSE)),\"\",VLOOKUP(B1831,database!$A$6:$BFQ$206,3,FALSE)))","v":""},null,null,null,null,null,null,""]
["",null,{"$f":"IF(B1832=\"\",\"\",IF(ISERROR(VLOOKUP(B1832,database!$A$6:$BFQ$206,4,FALSE)),\"\",VLOOKUP(B1832,database!$A$6:$BFQ$206,4,FALSE)))","v":""},null,null,null,"",null,null,null,{"$f":"IF(B1832=\"\",\"\",IF(ISERROR(VLOOKUP(B1832,database!$A$6:$BFQ$206,3,FALSE)),\"\",VLOOKUP(B1832,database!$A$6:$BFQ$206,3,FALSE)))","v":""},null,null,null,null,null,null,""]
["",null,{"$f":"IF(B1833=\"\",\"\",IF(ISERROR(VLOOKUP(B1833,database!$A$6:$BFQ$206,4,FALSE)),\"\",VLOOKUP(B1833,database!$A$6:$BFQ$206,4,FALSE)))","v":""},null,null,null,"",null,null,null,{"$f":"IF(B1833=\"\",\"\",IF(ISERROR(VLOOKUP(B1833,database!$A$6:$BFQ$206,3,FALSE)),\"\",VLOOKUP(B1833,database!$A$6:$BFQ$206,3,FALSE)))","v":""},null,null,null,null,null,null,""]
["",null,{"$f":"IF(B1834=\"\",\"\",IF(ISERROR(VLOOKUP(B1834,database!$A$6:$BFQ$206,4,FALSE)),\"\",VLOOKUP(B1834,database!$A$6:$BFQ$206,4,FALSE)))","v":""},null,null,null,"",null,null,null,{"$f":"IF(B1834=\"\",\"\",IF(ISERROR(VLOOKUP(B1834,database!$A$6:$BFQ$206,3,FALSE)),\"\",VLOOKUP(B1834,database!$A$6:$BFQ$206,3,FALSE)))","v":""},null,null,null,null,null,null,""]
["",null,{"$f":"IF(B1835=\"\",\"\",IF(ISERROR(VLOOKUP(B1835,database!$A$6:$BFQ$206,4,FALSE)),\"\",VLOOKUP(B1835,database!$A$6:$BFQ$206,4,FALSE)))","v":""},null,null,null,"",null,null,null,{"$f":"IF(B1835=\"\",\"\",IF(ISERROR(VLOOKUP(B1835,database!$A$6:$BFQ$206,3,FALSE)),\"\",VLOOKUP(B1835,database!$A$6:$BFQ$206,3,FALSE)))","v":""},null,null,null,null,null,null,""]
["",null,{"$f":"IF(B1836=\"\",\"\",IF(ISERROR(VLOOKUP(B1836,database!$A$6:$BFQ$206,4,FALSE)),\"\",VLOOKUP(B1836,database!$A$6:$BFQ$206,4,FALSE)))","v":""},null,null,null,"",null,null,null,{"$f":"IF(B1836=\"\",\"\",IF(ISERROR(VLOOKUP(B1836,database!$A$6:$BFQ$206,3,FALSE)),\"\",VLOOKUP(B1836,database!$A$6:$BFQ$206,3,FALSE)))","v":""},null,null,null,null,null,null,""]
["",null,{"$f":"IF(B1837=\"\",\"\",IF(ISERROR(VLOOKUP(B1837,database!$A$6:$BFQ$206,4,FALSE)),\"\",VLOOKUP(B1837,database!$A$6:$BFQ$206,4,FALSE)))","v":""},null,null,null,"",null,null,null,{"$f":"IF(B1837=\"\",\"\",IF(ISERROR(VLOOKUP(B1837,database!$A$6:$BFQ$206,3,FALSE)),\"\",VLOOKUP(B1837,database!$A$6:$BFQ$206,3,FALSE)))","v":""},null,null,null,null,null,null,""]
["",null,{"$f":"IF(B1838=\"\",\"\",IF(ISERROR(VLOOKUP(B1838,database!$A$6:$BFQ$206,4,FALSE)),\"\",VLOOKUP(B1838,database!$A$6:$BFQ$206,4,FALSE)))","v":""},null,null,null,"",null,null,null,{"$f":"IF(B1838=\"\",\"\",IF(ISERROR(VLOOKUP(B1838,database!$A$6:$BFQ$206,3,FALSE)),\"\",VLOOKUP(B1838,database!$A$6:$BFQ$206,3,FALSE)))","v":""},null,null,null,null,null,null,""]
["",null,{"$f":"IF(B1839=\"\",\"\",IF(ISERROR(VLOOKUP(B1839,database!$A$6:$BFQ$206,4,FALSE)),\"\",VLOOKUP(B1839,database!$A$6:$BFQ$206,4,FALSE)))","v":""},null,null,null,"",null,null,null,{"$f":"IF(B1839=\"\",\"\",IF(ISERROR(VLOOKUP(B1839,database!$A$6:$BFQ$206,3,FALSE)),\"\",VLOOKUP(B1839,database!$A$6:$BFQ$206,3,FALSE)))","v":""},null,null,null,null,null,null,""]
["",null,{"$f":"IF(B1840=\"\",\"\",IF(ISERROR(VLOOKUP(B1840,database!$A$6:$BFQ$206,4,FALSE)),\"\",VLOOKUP(B1840,database!$A$6:$BFQ$206,4,FALSE)))","v":""},null,null,null,"",null,null,null,{"$f":"IF(B1840=\"\",\"\",IF(ISERROR(VLOOKUP(B1840,database!$A$6:$BFQ$206,3,FALSE)),\"\",VLOOKUP(B1840,database!$A$6:$BFQ$206,3,FALSE)))","v":""},null,null,null,null,null,null,""]
["",null,{"$f":"IF(B1841=\"\",\"\",IF(ISERROR(VLOOKUP(B1841,database!$A$6:$BFQ$206,4,FALSE)),\"\",VLOOKUP(B1841,database!$A$6:$BFQ$206,4,FALSE)))","v":""},null,null,null,"",null,null,null,{"$f":"IF(B1841=\"\",\"\",IF(ISERROR(VLOOKUP(B1841,database!$A$6:$BFQ$206,3,FALSE)),\"\",VLOOKUP(B1841,database!$A$6:$BFQ$206,3,FALSE)))","v":""},null,null,null,null,null,null,""]
["",null,{"$f":"IF(B1842=\"\",\"\",IF(ISERROR(VLOOKUP(B1842,database!$A$6:$BFQ$206,4,FALSE)),\"\",VLOOKUP(B1842,database!$A$6:$BFQ$206,4,FALSE)))","v":""},null,null,null,"",null,null,null,{"$f":"IF(B1842=\"\",\"\",IF(ISERROR(VLOOKUP(B1842,database!$A$6:$BFQ$206,3,FALSE)),\"\",VLOOKUP(B1842,database!$A$6:$BFQ$206,3,FALSE)))","v":""},null,null,null,null,null,null,""]
["",null,{"$f":"IF(B1843=\"\",\"\",IF(ISERROR(VLOOKUP(B1843,database!$A$6:$BFQ$206,4,FALSE)),\"\",VLOOKUP(B1843,database!$A$6:$BFQ$206,4,FALSE)))","v":""},null,null,null,"",null,null,null,{"$f":"IF(B1843=\"\",\"\",IF(ISERROR(VLOOKUP(B1843,database!$A$6:$BFQ$206,3,FALSE)),\"\",VLOOKUP(B1843,database!$A$6:$BFQ$206,3,FALSE)))","v":""},null,null,null,null,null,null,""]
["",null,{"$f":"IF(B1844=\"\",\"\",IF(ISERROR(VLOOKUP(B1844,database!$A$6:$BFQ$206,4,FALSE)),\"\",VLOOKUP(B1844,database!$A$6:$BFQ$206,4,FALSE)))","v":""},null,null,null,"",null,null,null,{"$f":"IF(B1844=\"\",\"\",IF(ISERROR(VLOOKUP(B1844,database!$A$6:$BFQ$206,3,FALSE)),\"\",VLOOKUP(B1844,database!$A$6:$BFQ$206,3,FALSE)))","v":""},null,null,null,null,null,null,""]
["",null,{"$f":"IF(B1845=\"\",\"\",IF(ISERROR(VLOOKUP(B1845,database!$A$6:$BFQ$206,4,FALSE)),\"\",VLOOKUP(B1845,database!$A$6:$BFQ$206,4,FALSE)))","v":""},null,null,null,"",null,null,null,{"$f":"IF(B1845=\"\",\"\",IF(ISERROR(VLOOKUP(B1845,database!$A$6:$BFQ$206,3,FALSE)),\"\",VLOOKUP(B1845,database!$A$6:$BFQ$206,3,FALSE)))","v":""},null,null,null,null,null,null,""]
["",null,{"$f":"IF(B1846=\"\",\"\",IF(ISERROR(VLOOKUP(B1846,database!$A$6:$BFQ$206,4,FALSE)),\"\",VLOOKUP(B1846,database!$A$6:$BFQ$206,4,FALSE)))","v":""},null,null,null,"",null,null,null,{"$f":"IF(B1846=\"\",\"\",IF(ISERROR(VLOOKUP(B1846,database!$A$6:$BFQ$206,3,FALSE)),\"\",VLOOKUP(B1846,database!$A$6:$BFQ$206,3,FALSE)))","v":""},null,null,null,null,null,null,""]
["",null,{"$f":"IF(B1847=\"\",\"\",IF(ISERROR(VLOOKUP(B1847,database!$A$6:$BFQ$206,4,FALSE)),\"\",VLOOKUP(B1847,database!$A$6:$BFQ$206,4,FALSE)))","v":""},null,null,null,"",null,null,null,{"$f":"IF(B1847=\"\",\"\",IF(ISERROR(VLOOKUP(B1847,database!$A$6:$BFQ$206,3,FALSE)),\"\",VLOOKUP(B1847,database!$A$6:$BFQ$206,3,FALSE)))","v":""},null,null,null,null,null,null,""]
["",null,{"$f":"IF(B1848=\"\",\"\",IF(ISERROR(VLOOKUP(B1848,database!$A$6:$BFQ$206,4,FALSE)),\"\",VLOOKUP(B1848,database!$A$6:$BFQ$206,4,FALSE)))","v":""},null,null,null,"",null,null,null,{"$f":"IF(B1848=\"\",\"\",IF(ISERROR(VLOOKUP(B1848,database!$A$6:$BFQ$206,3,FALSE)),\"\",VLOOKUP(B1848,database!$A$6:$BFQ$206,3,FALSE)))","v":""},null,null,null,null,null,null,""]
["",null,{"$f":"IF(B1849=\"\",\"\",IF(ISERROR(VLOOKUP(B1849,database!$A$6:$BFQ$206,4,FALSE)),\"\",VLOOKUP(B1849,database!$A$6:$BFQ$206,4,FALSE)))","v":""},null,null,null,"",null,null,null,{"$f":"IF(B1849=\"\",\"\",IF(ISERROR(VLOOKUP(B1849,database!$A$6:$BFQ$206,3,FALSE)),\"\",VLOOKUP(B1849,database!$A$6:$BFQ$206,3,FALSE)))","v":""},null,null,null,null,null,null,""]
["",null,{"$f":"IF(B1850=\"\",\"\",IF(ISERROR(VLOOKUP(B1850,database!$A$6:$BFQ$206,4,FALSE)),\"\",VLOOKUP(B1850,database!$A$6:$BFQ$206,4,FALSE)))","v":""},null,null,null,"",null,null,null,{"$f":"IF(B1850=\"\",\"\",IF(ISERROR(VLOOKUP(B1850,database!$A$6:$BFQ$206,3,FALSE)),\"\",VLOOKUP(B1850,database!$A$6:$BFQ$206,3,FALSE)))","v":""},null,null,null,null,null,null,""]
["",null,{"$f":"IF(B1851=\"\",\"\",IF(ISERROR(VLOOKUP(B1851,database!$A$6:$BFQ$206,4,FALSE)),\"\",VLOOKUP(B1851,database!$A$6:$BFQ$206,4,FALSE)))","v":""},null,null,null,"",null,null,null,{"$f":"IF(B1851=\"\",\"\",IF(ISERROR(VLOOKUP(B1851,database!$A$6:$BFQ$206,3,FALSE)),\"\",VLOOKUP(B1851,database!$A$6:$BFQ$206,3,FALSE)))","v":""},null,null,null,null,null,null,""]
["",null,{"$f":"IF(B1852=\"\",\"\",IF(ISERROR(VLOOKUP(B1852,database!$A$6:$BFQ$206,4,FALSE)),\"\",VLOOKUP(B1852,database!$A$6:$BFQ$206,4,FALSE)))","v":""},null,null,null,"",null,null,null,{"$f":"IF(B1852=\"\",\"\",IF(ISERROR(VLOOKUP(B1852,database!$A$6:$BFQ$206,3,FALSE)),\"\",VLOOKUP(B1852,database!$A$6:$BFQ$206,3,FALSE)))","v":""},null,null,null,null,null,null,""]
["",null,{"$f":"IF(B1853=\"\",\"\",IF(ISERROR(VLOOKUP(B1853,database!$A$6:$BFQ$206,4,FALSE)),\"\",VLOOKUP(B1853,database!$A$6:$BFQ$206,4,FALSE)))","v":""},null,null,null,"",null,null,null,{"$f":"IF(B1853=\"\",\"\",IF(ISERROR(VLOOKUP(B1853,database!$A$6:$BFQ$206,3,FALSE)),\"\",VLOOKUP(B1853,database!$A$6:$BFQ$206,3,FALSE)))","v":""},null,null,null,null,null,null,""]
["",null,{"$f":"IF(B1854=\"\",\"\",IF(ISERROR(VLOOKUP(B1854,database!$A$6:$BFQ$206,4,FALSE)),\"\",VLOOKUP(B1854,database!$A$6:$BFQ$206,4,FALSE)))","v":""},null,null,null,"",null,null,null,{"$f":"IF(B1854=\"\",\"\",IF(ISERROR(VLOOKUP(B1854,database!$A$6:$BFQ$206,3,FALSE)),\"\",VLOOKUP(B1854,database!$A$6:$BFQ$206,3,FALSE)))","v":""},null,null,null,null,null,null,""]
["",null,{"$f":"IF(B1855=\"\",\"\",IF(ISERROR(VLOOKUP(B1855,database!$A$6:$BFQ$206,4,FALSE)),\"\",VLOOKUP(B1855,database!$A$6:$BFQ$206,4,FALSE)))","v":""},null,null,null,"",null,null,null,{"$f":"IF(B1855=\"\",\"\",IF(ISERROR(VLOOKUP(B1855,database!$A$6:$BFQ$206,3,FALSE)),\"\",VLOOKUP(B1855,database!$A$6:$BFQ$206,3,FALSE)))","v":""},null,null,null,null,null,null,""]
["",null,{"$f":"IF(B1856=\"\",\"\",IF(ISERROR(VLOOKUP(B1856,database!$A$6:$BFQ$206,4,FALSE)),\"\",VLOOKUP(B1856,database!$A$6:$BFQ$206,4,FALSE)))","v":""},null,null,null,"",null,null,null,{"$f":"IF(B1856=\"\",\"\",IF(ISERROR(VLOOKUP(B1856,database!$A$6:$BFQ$206,3,FALSE)),\"\",VLOOKUP(B1856,database!$A$6:$BFQ$206,3,FALSE)))","v":""},null,null,null,null,null,null,""]
[{"$f":"IF(B1857=\"\",\"\",ROW(A1854))","v":""},null,{"$f":"IF(B1857=\"\",\"\",IF(ISERROR(VLOOKUP(B1857,database!$A$6:$BFQ$206,4,FALSE)),\"\",VLOOKUP(B1857,database!$A$6:$BFQ$206,4,FALSE)))","v":""},null,null,null,{"$f":"IF(B1857=\"\",\"\",IF(C1857=\"\",0,1))","v":""},null,null,null,{"$f":"IF(B1857=\"\",\"\",IF(ISERROR(VLOOKUP(B1857,database!$A$6:$BFQ$206,3,FALSE)),\"\",VLOOKUP(B1857,database!$A$6:$BFQ$206,3,FALSE)))","v":""},null,null,null,null,null,null,{"$f":"LEFT(C1857,2)","v":""}]
["",null,{"$f":"IF(B1858=\"\",\"\",IF(ISERROR(VLOOKUP(B1858,database!$A$6:$BFQ$206,4,FALSE)),\"\",VLOOKUP(B1858,database!$A$6:$BFQ$206,4,FALSE)))","v":""},null,null,null,"",null,null,null,{"$f":"IF(B1858=\"\",\"\",IF(ISERROR(VLOOKUP(B1858,database!$A$6:$BFQ$206,3,FALSE)),\"\",VLOOKUP(B1858,database!$A$6:$BFQ$206,3,FALSE)))","v":""},null,null,null,null,null,null,""]
["",null,{"$f":"IF(B1859=\"\",\"\",IF(ISERROR(VLOOKUP(B1859,database!$A$6:$BFQ$206,4,FALSE)),\"\",VLOOKUP(B1859,database!$A$6:$BFQ$206,4,FALSE)))","v":""},null,null,null,"",null,null,null,{"$f":"IF(B1859=\"\",\"\",IF(ISERROR(VLOOKUP(B1859,database!$A$6:$BFQ$206,3,FALSE)),\"\",VLOOKUP(B1859,database!$A$6:$BFQ$206,3,FALSE)))","v":""},null,null,null,null,null,null,""]
["",null,{"$f":"IF(B1860=\"\",\"\",IF(ISERROR(VLOOKUP(B1860,database!$A$6:$BFQ$206,4,FALSE)),\"\",VLOOKUP(B1860,database!$A$6:$BFQ$206,4,FALSE)))","v":""},null,null,null,"",null,null,null,{"$f":"IF(B1860=\"\",\"\",IF(ISERROR(VLOOKUP(B1860,database!$A$6:$BFQ$206,3,FALSE)),\"\",VLOOKUP(B1860,database!$A$6:$BFQ$206,3,FALSE)))","v":""},null,null,null,null,null,null,""]
["",null,{"$f":"IF(B1861=\"\",\"\",IF(ISERROR(VLOOKUP(B1861,database!$A$6:$BFQ$206,4,FALSE)),\"\",VLOOKUP(B1861,database!$A$6:$BFQ$206,4,FALSE)))","v":""},null,null,null,"",null,null,null,{"$f":"IF(B1861=\"\",\"\",IF(ISERROR(VLOOKUP(B1861,database!$A$6:$BFQ$206,3,FALSE)),\"\",VLOOKUP(B1861,database!$A$6:$BFQ$206,3,FALSE)))","v":""},null,null,null,null,null,null,""]
["",null,{"$f":"IF(B1862=\"\",\"\",IF(ISERROR(VLOOKUP(B1862,database!$A$6:$BFQ$206,4,FALSE)),\"\",VLOOKUP(B1862,database!$A$6:$BFQ$206,4,FALSE)))","v":""},null,null,null,"",null,null,null,{"$f":"IF(B1862=\"\",\"\",IF(ISERROR(VLOOKUP(B1862,database!$A$6:$BFQ$206,3,FALSE)),\"\",VLOOKUP(B1862,database!$A$6:$BFQ$206,3,FALSE)))","v":""},null,null,null,null,null,null,""]
["",null,{"$f":"IF(B1863=\"\",\"\",IF(ISERROR(VLOOKUP(B1863,database!$A$6:$BFQ$206,4,FALSE)),\"\",VLOOKUP(B1863,database!$A$6:$BFQ$206,4,FALSE)))","v":""},null,null,null,"",null,null,null,{"$f":"IF(B1863=\"\",\"\",IF(ISERROR(VLOOKUP(B1863,database!$A$6:$BFQ$206,3,FALSE)),\"\",VLOOKUP(B1863,database!$A$6:$BFQ$206,3,FALSE)))","v":""},null,null,null,null,null,null,""]
["",null,{"$f":"IF(B1864=\"\",\"\",IF(ISERROR(VLOOKUP(B1864,database!$A$6:$BFQ$206,4,FALSE)),\"\",VLOOKUP(B1864,database!$A$6:$BFQ$206,4,FALSE)))","v":""},null,null,null,"",null,null,null,{"$f":"IF(B1864=\"\",\"\",IF(ISERROR(VLOOKUP(B1864,database!$A$6:$BFQ$206,3,FALSE)),\"\",VLOOKUP(B1864,database!$A$6:$BFQ$206,3,FALSE)))","v":""},null,null,null,null,null,null,""]
["",null,{"$f":"IF(B1865=\"\",\"\",IF(ISERROR(VLOOKUP(B1865,database!$A$6:$BFQ$206,4,FALSE)),\"\",VLOOKUP(B1865,database!$A$6:$BFQ$206,4,FALSE)))","v":""},null,null,null,"",null,null,null,{"$f":"IF(B1865=\"\",\"\",IF(ISERROR(VLOOKUP(B1865,database!$A$6:$BFQ$206,3,FALSE)),\"\",VLOOKUP(B1865,database!$A$6:$BFQ$206,3,FALSE)))","v":""},null,null,null,null,null,null,""]
["",null,{"$f":"IF(B1866=\"\",\"\",IF(ISERROR(VLOOKUP(B1866,database!$A$6:$BFQ$206,4,FALSE)),\"\",VLOOKUP(B1866,database!$A$6:$BFQ$206,4,FALSE)))","v":""},null,null,null,"",null,null,null,{"$f":"IF(B1866=\"\",\"\",IF(ISERROR(VLOOKUP(B1866,database!$A$6:$BFQ$206,3,FALSE)),\"\",VLOOKUP(B1866,database!$A$6:$BFQ$206,3,FALSE)))","v":""},null,null,null,null,null,null,""]
["",null,{"$f":"IF(B1867=\"\",\"\",IF(ISERROR(VLOOKUP(B1867,database!$A$6:$BFQ$206,4,FALSE)),\"\",VLOOKUP(B1867,database!$A$6:$BFQ$206,4,FALSE)))","v":""},null,null,null,"",null,null,null,{"$f":"IF(B1867=\"\",\"\",IF(ISERROR(VLOOKUP(B1867,database!$A$6:$BFQ$206,3,FALSE)),\"\",VLOOKUP(B1867,database!$A$6:$BFQ$206,3,FALSE)))","v":""},null,null,null,null,null,null,""]
["",null,{"$f":"IF(B1868=\"\",\"\",IF(ISERROR(VLOOKUP(B1868,database!$A$6:$BFQ$206,4,FALSE)),\"\",VLOOKUP(B1868,database!$A$6:$BFQ$206,4,FALSE)))","v":""},null,null,null,"",null,null,null,{"$f":"IF(B1868=\"\",\"\",IF(ISERROR(VLOOKUP(B1868,database!$A$6:$BFQ$206,3,FALSE)),\"\",VLOOKUP(B1868,database!$A$6:$BFQ$206,3,FALSE)))","v":""},null,null,null,null,null,null,""]
["",null,{"$f":"IF(B1869=\"\",\"\",IF(ISERROR(VLOOKUP(B1869,database!$A$6:$BFQ$206,4,FALSE)),\"\",VLOOKUP(B1869,database!$A$6:$BFQ$206,4,FALSE)))","v":""},null,null,null,"",null,null,null,{"$f":"IF(B1869=\"\",\"\",IF(ISERROR(VLOOKUP(B1869,database!$A$6:$BFQ$206,3,FALSE)),\"\",VLOOKUP(B1869,database!$A$6:$BFQ$206,3,FALSE)))","v":""},null,null,null,null,null,null,""]
["",null,{"$f":"IF(B1870=\"\",\"\",IF(ISERROR(VLOOKUP(B1870,database!$A$6:$BFQ$206,4,FALSE)),\"\",VLOOKUP(B1870,database!$A$6:$BFQ$206,4,FALSE)))","v":""},null,null,null,"",null,null,null,{"$f":"IF(B1870=\"\",\"\",IF(ISERROR(VLOOKUP(B1870,database!$A$6:$BFQ$206,3,FALSE)),\"\",VLOOKUP(B1870,database!$A$6:$BFQ$206,3,FALSE)))","v":""},null,null,null,null,null,null,""]
["",null,{"$f":"IF(B1871=\"\",\"\",IF(ISERROR(VLOOKUP(B1871,database!$A$6:$BFQ$206,4,FALSE)),\"\",VLOOKUP(B1871,database!$A$6:$BFQ$206,4,FALSE)))","v":""},null,null,null,"",null,null,null,{"$f":"IF(B1871=\"\",\"\",IF(ISERROR(VLOOKUP(B1871,database!$A$6:$BFQ$206,3,FALSE)),\"\",VLOOKUP(B1871,database!$A$6:$BFQ$206,3,FALSE)))","v":""},null,null,null,null,null,null,""]
["",null,{"$f":"IF(B1872=\"\",\"\",IF(ISERROR(VLOOKUP(B1872,database!$A$6:$BFQ$206,4,FALSE)),\"\",VLOOKUP(B1872,database!$A$6:$BFQ$206,4,FALSE)))","v":""},null,null,null,"",null,null,null,{"$f":"IF(B1872=\"\",\"\",IF(ISERROR(VLOOKUP(B1872,database!$A$6:$BFQ$206,3,FALSE)),\"\",VLOOKUP(B1872,database!$A$6:$BFQ$206,3,FALSE)))","v":""},null,null,null,null,null,null,""]
["",null,{"$f":"IF(B1873=\"\",\"\",IF(ISERROR(VLOOKUP(B1873,database!$A$6:$BFQ$206,4,FALSE)),\"\",VLOOKUP(B1873,database!$A$6:$BFQ$206,4,FALSE)))","v":""},null,null,null,"",null,null,null,{"$f":"IF(B1873=\"\",\"\",IF(ISERROR(VLOOKUP(B1873,database!$A$6:$BFQ$206,3,FALSE)),\"\",VLOOKUP(B1873,database!$A$6:$BFQ$206,3,FALSE)))","v":""},null,null,null,null,null,null,""]
["",null,{"$f":"IF(B1874=\"\",\"\",IF(ISERROR(VLOOKUP(B1874,database!$A$6:$BFQ$206,4,FALSE)),\"\",VLOOKUP(B1874,database!$A$6:$BFQ$206,4,FALSE)))","v":""},null,null,null,"",null,null,null,{"$f":"IF(B1874=\"\",\"\",IF(ISERROR(VLOOKUP(B1874,database!$A$6:$BFQ$206,3,FALSE)),\"\",VLOOKUP(B1874,database!$A$6:$BFQ$206,3,FALSE)))","v":""},null,null,null,null,null,null,""]
["",null,{"$f":"IF(B1875=\"\",\"\",IF(ISERROR(VLOOKUP(B1875,database!$A$6:$BFQ$206,4,FALSE)),\"\",VLOOKUP(B1875,database!$A$6:$BFQ$206,4,FALSE)))","v":""},null,null,null,"",null,null,null,{"$f":"IF(B1875=\"\",\"\",IF(ISERROR(VLOOKUP(B1875,database!$A$6:$BFQ$206,3,FALSE)),\"\",VLOOKUP(B1875,database!$A$6:$BFQ$206,3,FALSE)))","v":""},null,null,null,null,null,null,""]
["",null,{"$f":"IF(B1876=\"\",\"\",IF(ISERROR(VLOOKUP(B1876,database!$A$6:$BFQ$206,4,FALSE)),\"\",VLOOKUP(B1876,database!$A$6:$BFQ$206,4,FALSE)))","v":""},null,null,null,"",null,null,null,{"$f":"IF(B1876=\"\",\"\",IF(ISERROR(VLOOKUP(B1876,database!$A$6:$BFQ$206,3,FALSE)),\"\",VLOOKUP(B1876,database!$A$6:$BFQ$206,3,FALSE)))","v":""},null,null,null,null,null,null,""]
["",null,{"$f":"IF(B1877=\"\",\"\",IF(ISERROR(VLOOKUP(B1877,database!$A$6:$BFQ$206,4,FALSE)),\"\",VLOOKUP(B1877,database!$A$6:$BFQ$206,4,FALSE)))","v":""},null,null,null,"",null,null,null,{"$f":"IF(B1877=\"\",\"\",IF(ISERROR(VLOOKUP(B1877,database!$A$6:$BFQ$206,3,FALSE)),\"\",VLOOKUP(B1877,database!$A$6:$BFQ$206,3,FALSE)))","v":""},null,null,null,null,null,null,""]
["",null,{"$f":"IF(B1878=\"\",\"\",IF(ISERROR(VLOOKUP(B1878,database!$A$6:$BFQ$206,4,FALSE)),\"\",VLOOKUP(B1878,database!$A$6:$BFQ$206,4,FALSE)))","v":""},null,null,null,"",null,null,null,{"$f":"IF(B1878=\"\",\"\",IF(ISERROR(VLOOKUP(B1878,database!$A$6:$BFQ$206,3,FALSE)),\"\",VLOOKUP(B1878,database!$A$6:$BFQ$206,3,FALSE)))","v":""},null,null,null,null,null,null,""]
["",null,{"$f":"IF(B1879=\"\",\"\",IF(ISERROR(VLOOKUP(B1879,database!$A$6:$BFQ$206,4,FALSE)),\"\",VLOOKUP(B1879,database!$A$6:$BFQ$206,4,FALSE)))","v":""},null,null,null,"",null,null,null,{"$f":"IF(B1879=\"\",\"\",IF(ISERROR(VLOOKUP(B1879,database!$A$6:$BFQ$206,3,FALSE)),\"\",VLOOKUP(B1879,database!$A$6:$BFQ$206,3,FALSE)))","v":""},null,null,null,null,null,null,""]
["",null,{"$f":"IF(B1880=\"\",\"\",IF(ISERROR(VLOOKUP(B1880,database!$A$6:$BFQ$206,4,FALSE)),\"\",VLOOKUP(B1880,database!$A$6:$BFQ$206,4,FALSE)))","v":""},null,null,null,"",null,null,null,{"$f":"IF(B1880=\"\",\"\",IF(ISERROR(VLOOKUP(B1880,database!$A$6:$BFQ$206,3,FALSE)),\"\",VLOOKUP(B1880,database!$A$6:$BFQ$206,3,FALSE)))","v":""},null,null,null,null,null,null,""]
["",null,{"$f":"IF(B1881=\"\",\"\",IF(ISERROR(VLOOKUP(B1881,database!$A$6:$BFQ$206,4,FALSE)),\"\",VLOOKUP(B1881,database!$A$6:$BFQ$206,4,FALSE)))","v":""},null,null,null,"",null,null,null,{"$f":"IF(B1881=\"\",\"\",IF(ISERROR(VLOOKUP(B1881,database!$A$6:$BFQ$206,3,FALSE)),\"\",VLOOKUP(B1881,database!$A$6:$BFQ$206,3,FALSE)))","v":""},null,null,null,null,null,null,""]
["",null,{"$f":"IF(B1882=\"\",\"\",IF(ISERROR(VLOOKUP(B1882,database!$A$6:$BFQ$206,4,FALSE)),\"\",VLOOKUP(B1882,database!$A$6:$BFQ$206,4,FALSE)))","v":""},null,null,null,"",null,null,null,{"$f":"IF(B1882=\"\",\"\",IF(ISERROR(VLOOKUP(B1882,database!$A$6:$BFQ$206,3,FALSE)),\"\",VLOOKUP(B1882,database!$A$6:$BFQ$206,3,FALSE)))","v":""},null,null,null,null,null,null,""]
["",null,{"$f":"IF(B1883=\"\",\"\",IF(ISERROR(VLOOKUP(B1883,database!$A$6:$BFQ$206,4,FALSE)),\"\",VLOOKUP(B1883,database!$A$6:$BFQ$206,4,FALSE)))","v":""},null,null,null,"",null,null,null,{"$f":"IF(B1883=\"\",\"\",IF(ISERROR(VLOOKUP(B1883,database!$A$6:$BFQ$206,3,FALSE)),\"\",VLOOKUP(B1883,database!$A$6:$BFQ$206,3,FALSE)))","v":""},null,null,null,null,null,null,""]
["",null,{"$f":"IF(B1884=\"\",\"\",IF(ISERROR(VLOOKUP(B1884,database!$A$6:$BFQ$206,4,FALSE)),\"\",VLOOKUP(B1884,database!$A$6:$BFQ$206,4,FALSE)))","v":""},null,null,null,"",null,null,null,{"$f":"IF(B1884=\"\",\"\",IF(ISERROR(VLOOKUP(B1884,database!$A$6:$BFQ$206,3,FALSE)),\"\",VLOOKUP(B1884,database!$A$6:$BFQ$206,3,FALSE)))","v":""},null,null,null,null,null,null,""]
["",null,{"$f":"IF(B1885=\"\",\"\",IF(ISERROR(VLOOKUP(B1885,database!$A$6:$BFQ$206,4,FALSE)),\"\",VLOOKUP(B1885,database!$A$6:$BFQ$206,4,FALSE)))","v":""},null,null,null,"",null,null,null,{"$f":"IF(B1885=\"\",\"\",IF(ISERROR(VLOOKUP(B1885,database!$A$6:$BFQ$206,3,FALSE)),\"\",VLOOKUP(B1885,database!$A$6:$BFQ$206,3,FALSE)))","v":""},null,null,null,null,null,null,""]
["",null,{"$f":"IF(B1886=\"\",\"\",IF(ISERROR(VLOOKUP(B1886,database!$A$6:$BFQ$206,4,FALSE)),\"\",VLOOKUP(B1886,database!$A$6:$BFQ$206,4,FALSE)))","v":""},null,null,null,"",null,null,null,{"$f":"IF(B1886=\"\",\"\",IF(ISERROR(VLOOKUP(B1886,database!$A$6:$BFQ$206,3,FALSE)),\"\",VLOOKUP(B1886,database!$A$6:$BFQ$206,3,FALSE)))","v":""},null,null,null,null,null,null,""]
["",null,{"$f":"IF(B1887=\"\",\"\",IF(ISERROR(VLOOKUP(B1887,database!$A$6:$BFQ$206,4,FALSE)),\"\",VLOOKUP(B1887,database!$A$6:$BFQ$206,4,FALSE)))","v":""},null,null,null,"",null,null,null,{"$f":"IF(B1887=\"\",\"\",IF(ISERROR(VLOOKUP(B1887,database!$A$6:$BFQ$206,3,FALSE)),\"\",VLOOKUP(B1887,database!$A$6:$BFQ$206,3,FALSE)))","v":""},null,null,null,null,null,null,""]
["",null,{"$f":"IF(B1888=\"\",\"\",IF(ISERROR(VLOOKUP(B1888,database!$A$6:$BFQ$206,4,FALSE)),\"\",VLOOKUP(B1888,database!$A$6:$BFQ$206,4,FALSE)))","v":""},null,null,null,"",null,null,null,{"$f":"IF(B1888=\"\",\"\",IF(ISERROR(VLOOKUP(B1888,database!$A$6:$BFQ$206,3,FALSE)),\"\",VLOOKUP(B1888,database!$A$6:$BFQ$206,3,FALSE)))","v":""},null,null,null,null,null,null,""]
["",null,{"$f":"IF(B1889=\"\",\"\",IF(ISERROR(VLOOKUP(B1889,database!$A$6:$BFQ$206,4,FALSE)),\"\",VLOOKUP(B1889,database!$A$6:$BFQ$206,4,FALSE)))","v":""},null,null,null,"",null,null,null,{"$f":"IF(B1889=\"\",\"\",IF(ISERROR(VLOOKUP(B1889,database!$A$6:$BFQ$206,3,FALSE)),\"\",VLOOKUP(B1889,database!$A$6:$BFQ$206,3,FALSE)))","v":""},null,null,null,null,null,null,""]
["",null,{"$f":"IF(B1890=\"\",\"\",IF(ISERROR(VLOOKUP(B1890,database!$A$6:$BFQ$206,4,FALSE)),\"\",VLOOKUP(B1890,database!$A$6:$BFQ$206,4,FALSE)))","v":""},null,null,null,"",null,null,null,{"$f":"IF(B1890=\"\",\"\",IF(ISERROR(VLOOKUP(B1890,database!$A$6:$BFQ$206,3,FALSE)),\"\",VLOOKUP(B1890,database!$A$6:$BFQ$206,3,FALSE)))","v":""},null,null,null,null,null,null,""]
["",null,{"$f":"IF(B1891=\"\",\"\",IF(ISERROR(VLOOKUP(B1891,database!$A$6:$BFQ$206,4,FALSE)),\"\",VLOOKUP(B1891,database!$A$6:$BFQ$206,4,FALSE)))","v":""},null,null,null,"",null,null,null,{"$f":"IF(B1891=\"\",\"\",IF(ISERROR(VLOOKUP(B1891,database!$A$6:$BFQ$206,3,FALSE)),\"\",VLOOKUP(B1891,database!$A$6:$BFQ$206,3,FALSE)))","v":""},null,null,null,null,null,null,""]
["",null,{"$f":"IF(B1892=\"\",\"\",IF(ISERROR(VLOOKUP(B1892,database!$A$6:$BFQ$206,4,FALSE)),\"\",VLOOKUP(B1892,database!$A$6:$BFQ$206,4,FALSE)))","v":""},null,null,null,"",null,null,null,{"$f":"IF(B1892=\"\",\"\",IF(ISERROR(VLOOKUP(B1892,database!$A$6:$BFQ$206,3,FALSE)),\"\",VLOOKUP(B1892,database!$A$6:$BFQ$206,3,FALSE)))","v":""},null,null,null,null,null,null,""]
["",null,{"$f":"IF(B1893=\"\",\"\",IF(ISERROR(VLOOKUP(B1893,database!$A$6:$BFQ$206,4,FALSE)),\"\",VLOOKUP(B1893,database!$A$6:$BFQ$206,4,FALSE)))","v":""},null,null,null,"",null,null,null,{"$f":"IF(B1893=\"\",\"\",IF(ISERROR(VLOOKUP(B1893,database!$A$6:$BFQ$206,3,FALSE)),\"\",VLOOKUP(B1893,database!$A$6:$BFQ$206,3,FALSE)))","v":""},null,null,null,null,null,null,""]
["",null,{"$f":"IF(B1894=\"\",\"\",IF(ISERROR(VLOOKUP(B1894,database!$A$6:$BFQ$206,4,FALSE)),\"\",VLOOKUP(B1894,database!$A$6:$BFQ$206,4,FALSE)))","v":""},null,null,null,"",null,null,null,{"$f":"IF(B1894=\"\",\"\",IF(ISERROR(VLOOKUP(B1894,database!$A$6:$BFQ$206,3,FALSE)),\"\",VLOOKUP(B1894,database!$A$6:$BFQ$206,3,FALSE)))","v":""},null,null,null,null,null,null,""]
["",null,{"$f":"IF(B1895=\"\",\"\",IF(ISERROR(VLOOKUP(B1895,database!$A$6:$BFQ$206,4,FALSE)),\"\",VLOOKUP(B1895,database!$A$6:$BFQ$206,4,FALSE)))","v":""},null,null,null,"",null,null,null,{"$f":"IF(B1895=\"\",\"\",IF(ISERROR(VLOOKUP(B1895,database!$A$6:$BFQ$206,3,FALSE)),\"\",VLOOKUP(B1895,database!$A$6:$BFQ$206,3,FALSE)))","v":""},null,null,null,null,null,null,""]
["",null,{"$f":"IF(B1896=\"\",\"\",IF(ISERROR(VLOOKUP(B1896,database!$A$6:$BFQ$206,4,FALSE)),\"\",VLOOKUP(B1896,database!$A$6:$BFQ$206,4,FALSE)))","v":""},null,null,null,"",null,null,null,{"$f":"IF(B1896=\"\",\"\",IF(ISERROR(VLOOKUP(B1896,database!$A$6:$BFQ$206,3,FALSE)),\"\",VLOOKUP(B1896,database!$A$6:$BFQ$206,3,FALSE)))","v":""},null,null,null,null,null,null,""]
["",null,{"$f":"IF(B1897=\"\",\"\",IF(ISERROR(VLOOKUP(B1897,database!$A$6:$BFQ$206,4,FALSE)),\"\",VLOOKUP(B1897,database!$A$6:$BFQ$206,4,FALSE)))","v":""},null,null,null,"",null,null,null,{"$f":"IF(B1897=\"\",\"\",IF(ISERROR(VLOOKUP(B1897,database!$A$6:$BFQ$206,3,FALSE)),\"\",VLOOKUP(B1897,database!$A$6:$BFQ$206,3,FALSE)))","v":""},null,null,null,null,null,null,""]
["",null,{"$f":"IF(B1898=\"\",\"\",IF(ISERROR(VLOOKUP(B1898,database!$A$6:$BFQ$206,4,FALSE)),\"\",VLOOKUP(B1898,database!$A$6:$BFQ$206,4,FALSE)))","v":""},null,null,null,"",null,null,null,{"$f":"IF(B1898=\"\",\"\",IF(ISERROR(VLOOKUP(B1898,database!$A$6:$BFQ$206,3,FALSE)),\"\",VLOOKUP(B1898,database!$A$6:$BFQ$206,3,FALSE)))","v":""},null,null,null,null,null,null,""]
["",null,{"$f":"IF(B1899=\"\",\"\",IF(ISERROR(VLOOKUP(B1899,database!$A$6:$BFQ$206,4,FALSE)),\"\",VLOOKUP(B1899,database!$A$6:$BFQ$206,4,FALSE)))","v":""},null,null,null,"",null,null,null,{"$f":"IF(B1899=\"\",\"\",IF(ISERROR(VLOOKUP(B1899,database!$A$6:$BFQ$206,3,FALSE)),\"\",VLOOKUP(B1899,database!$A$6:$BFQ$206,3,FALSE)))","v":""},null,null,null,null,null,null,""]
["",null,{"$f":"IF(B1900=\"\",\"\",IF(ISERROR(VLOOKUP(B1900,database!$A$6:$BFQ$206,4,FALSE)),\"\",VLOOKUP(B1900,database!$A$6:$BFQ$206,4,FALSE)))","v":""},null,null,null,"",null,null,null,{"$f":"IF(B1900=\"\",\"\",IF(ISERROR(VLOOKUP(B1900,database!$A$6:$BFQ$206,3,FALSE)),\"\",VLOOKUP(B1900,database!$A$6:$BFQ$206,3,FALSE)))","v":""},null,null,null,null,null,null,""]
["",null,{"$f":"IF(B1901=\"\",\"\",IF(ISERROR(VLOOKUP(B1901,database!$A$6:$BFQ$206,4,FALSE)),\"\",VLOOKUP(B1901,database!$A$6:$BFQ$206,4,FALSE)))","v":""},null,null,null,"",null,null,null,{"$f":"IF(B1901=\"\",\"\",IF(ISERROR(VLOOKUP(B1901,database!$A$6:$BFQ$206,3,FALSE)),\"\",VLOOKUP(B1901,database!$A$6:$BFQ$206,3,FALSE)))","v":""},null,null,null,null,null,null,""]
["",null,{"$f":"IF(B1902=\"\",\"\",IF(ISERROR(VLOOKUP(B1902,database!$A$6:$BFQ$206,4,FALSE)),\"\",VLOOKUP(B1902,database!$A$6:$BFQ$206,4,FALSE)))","v":""},null,null,null,"",null,null,null,{"$f":"IF(B1902=\"\",\"\",IF(ISERROR(VLOOKUP(B1902,database!$A$6:$BFQ$206,3,FALSE)),\"\",VLOOKUP(B1902,database!$A$6:$BFQ$206,3,FALSE)))","v":""},null,null,null,null,null,null,""]
["",null,{"$f":"IF(B1903=\"\",\"\",IF(ISERROR(VLOOKUP(B1903,database!$A$6:$BFQ$206,4,FALSE)),\"\",VLOOKUP(B1903,database!$A$6:$BFQ$206,4,FALSE)))","v":""},null,null,null,"",null,null,null,{"$f":"IF(B1903=\"\",\"\",IF(ISERROR(VLOOKUP(B1903,database!$A$6:$BFQ$206,3,FALSE)),\"\",VLOOKUP(B1903,database!$A$6:$BFQ$206,3,FALSE)))","v":""},null,null,null,null,null,null,""]
["",null,{"$f":"IF(B1904=\"\",\"\",IF(ISERROR(VLOOKUP(B1904,database!$A$6:$BFQ$206,4,FALSE)),\"\",VLOOKUP(B1904,database!$A$6:$BFQ$206,4,FALSE)))","v":""},null,null,null,"",null,null,null,{"$f":"IF(B1904=\"\",\"\",IF(ISERROR(VLOOKUP(B1904,database!$A$6:$BFQ$206,3,FALSE)),\"\",VLOOKUP(B1904,database!$A$6:$BFQ$206,3,FALSE)))","v":""},null,null,null,null,null,null,""]
["",null,{"$f":"IF(B1905=\"\",\"\",IF(ISERROR(VLOOKUP(B1905,database!$A$6:$BFQ$206,4,FALSE)),\"\",VLOOKUP(B1905,database!$A$6:$BFQ$206,4,FALSE)))","v":""},null,null,null,"",null,null,null,{"$f":"IF(B1905=\"\",\"\",IF(ISERROR(VLOOKUP(B1905,database!$A$6:$BFQ$206,3,FALSE)),\"\",VLOOKUP(B1905,database!$A$6:$BFQ$206,3,FALSE)))","v":""},null,null,null,null,null,null,""]
["",null,{"$f":"IF(B1906=\"\",\"\",IF(ISERROR(VLOOKUP(B1906,database!$A$6:$BFQ$206,4,FALSE)),\"\",VLOOKUP(B1906,database!$A$6:$BFQ$206,4,FALSE)))","v":""},null,null,null,"",null,null,null,{"$f":"IF(B1906=\"\",\"\",IF(ISERROR(VLOOKUP(B1906,database!$A$6:$BFQ$206,3,FALSE)),\"\",VLOOKUP(B1906,database!$A$6:$BFQ$206,3,FALSE)))","v":""},null,null,null,null,null,null,""]
["",null,{"$f":"IF(B1907=\"\",\"\",IF(ISERROR(VLOOKUP(B1907,database!$A$6:$BFQ$206,4,FALSE)),\"\",VLOOKUP(B1907,database!$A$6:$BFQ$206,4,FALSE)))","v":""},null,null,null,"",null,null,null,{"$f":"IF(B1907=\"\",\"\",IF(ISERROR(VLOOKUP(B1907,database!$A$6:$BFQ$206,3,FALSE)),\"\",VLOOKUP(B1907,database!$A$6:$BFQ$206,3,FALSE)))","v":""},null,null,null,null,null,null,""]
["",null,{"$f":"IF(B1908=\"\",\"\",IF(ISERROR(VLOOKUP(B1908,database!$A$6:$BFQ$206,4,FALSE)),\"\",VLOOKUP(B1908,database!$A$6:$BFQ$206,4,FALSE)))","v":""},null,null,null,"",null,null,null,{"$f":"IF(B1908=\"\",\"\",IF(ISERROR(VLOOKUP(B1908,database!$A$6:$BFQ$206,3,FALSE)),\"\",VLOOKUP(B1908,database!$A$6:$BFQ$206,3,FALSE)))","v":""},null,null,null,null,null,null,""]
["",null,{"$f":"IF(B1909=\"\",\"\",IF(ISERROR(VLOOKUP(B1909,database!$A$6:$BFQ$206,4,FALSE)),\"\",VLOOKUP(B1909,database!$A$6:$BFQ$206,4,FALSE)))","v":""},null,null,null,"",null,null,null,{"$f":"IF(B1909=\"\",\"\",IF(ISERROR(VLOOKUP(B1909,database!$A$6:$BFQ$206,3,FALSE)),\"\",VLOOKUP(B1909,database!$A$6:$BFQ$206,3,FALSE)))","v":""},null,null,null,null,null,null,""]
["",null,{"$f":"IF(B1910=\"\",\"\",IF(ISERROR(VLOOKUP(B1910,database!$A$6:$BFQ$206,4,FALSE)),\"\",VLOOKUP(B1910,database!$A$6:$BFQ$206,4,FALSE)))","v":""},null,null,null,"",null,null,null,{"$f":"IF(B1910=\"\",\"\",IF(ISERROR(VLOOKUP(B1910,database!$A$6:$BFQ$206,3,FALSE)),\"\",VLOOKUP(B1910,database!$A$6:$BFQ$206,3,FALSE)))","v":""},null,null,null,null,null,null,""]
["",null,{"$f":"IF(B1911=\"\",\"\",IF(ISERROR(VLOOKUP(B1911,database!$A$6:$BFQ$206,4,FALSE)),\"\",VLOOKUP(B1911,database!$A$6:$BFQ$206,4,FALSE)))","v":""},null,null,null,"",null,null,null,{"$f":"IF(B1911=\"\",\"\",IF(ISERROR(VLOOKUP(B1911,database!$A$6:$BFQ$206,3,FALSE)),\"\",VLOOKUP(B1911,database!$A$6:$BFQ$206,3,FALSE)))","v":""},null,null,null,null,null,null,""]
["",null,{"$f":"IF(B1912=\"\",\"\",IF(ISERROR(VLOOKUP(B1912,database!$A$6:$BFQ$206,4,FALSE)),\"\",VLOOKUP(B1912,database!$A$6:$BFQ$206,4,FALSE)))","v":""},null,null,null,"",null,null,null,{"$f":"IF(B1912=\"\",\"\",IF(ISERROR(VLOOKUP(B1912,database!$A$6:$BFQ$206,3,FALSE)),\"\",VLOOKUP(B1912,database!$A$6:$BFQ$206,3,FALSE)))","v":""},null,null,null,null,null,null,""]
["",null,{"$f":"IF(B1913=\"\",\"\",IF(ISERROR(VLOOKUP(B1913,database!$A$6:$BFQ$206,4,FALSE)),\"\",VLOOKUP(B1913,database!$A$6:$BFQ$206,4,FALSE)))","v":""},null,null,null,"",null,null,null,{"$f":"IF(B1913=\"\",\"\",IF(ISERROR(VLOOKUP(B1913,database!$A$6:$BFQ$206,3,FALSE)),\"\",VLOOKUP(B1913,database!$A$6:$BFQ$206,3,FALSE)))","v":""},null,null,null,null,null,null,""]
["",null,{"$f":"IF(B1914=\"\",\"\",IF(ISERROR(VLOOKUP(B1914,database!$A$6:$BFQ$206,4,FALSE)),\"\",VLOOKUP(B1914,database!$A$6:$BFQ$206,4,FALSE)))","v":""},null,null,null,"",null,null,null,{"$f":"IF(B1914=\"\",\"\",IF(ISERROR(VLOOKUP(B1914,database!$A$6:$BFQ$206,3,FALSE)),\"\",VLOOKUP(B1914,database!$A$6:$BFQ$206,3,FALSE)))","v":""},null,null,null,null,null,null,""]
["",null,{"$f":"IF(B1915=\"\",\"\",IF(ISERROR(VLOOKUP(B1915,database!$A$6:$BFQ$206,4,FALSE)),\"\",VLOOKUP(B1915,database!$A$6:$BFQ$206,4,FALSE)))","v":""},null,null,null,"",null,null,null,{"$f":"IF(B1915=\"\",\"\",IF(ISERROR(VLOOKUP(B1915,database!$A$6:$BFQ$206,3,FALSE)),\"\",VLOOKUP(B1915,database!$A$6:$BFQ$206,3,FALSE)))","v":""},null,null,null,null,null,null,""]
["",null,{"$f":"IF(B1916=\"\",\"\",IF(ISERROR(VLOOKUP(B1916,database!$A$6:$BFQ$206,4,FALSE)),\"\",VLOOKUP(B1916,database!$A$6:$BFQ$206,4,FALSE)))","v":""},null,null,null,"",null,null,null,{"$f":"IF(B1916=\"\",\"\",IF(ISERROR(VLOOKUP(B1916,database!$A$6:$BFQ$206,3,FALSE)),\"\",VLOOKUP(B1916,database!$A$6:$BFQ$206,3,FALSE)))","v":""},null,null,null,null,null,null,""]
["",null,{"$f":"IF(B1917=\"\",\"\",IF(ISERROR(VLOOKUP(B1917,database!$A$6:$BFQ$206,4,FALSE)),\"\",VLOOKUP(B1917,database!$A$6:$BFQ$206,4,FALSE)))","v":""},null,null,null,"",null,null,null,{"$f":"IF(B1917=\"\",\"\",IF(ISERROR(VLOOKUP(B1917,database!$A$6:$BFQ$206,3,FALSE)),\"\",VLOOKUP(B1917,database!$A$6:$BFQ$206,3,FALSE)))","v":""},null,null,null,null,null,null,""]
["",null,{"$f":"IF(B1918=\"\",\"\",IF(ISERROR(VLOOKUP(B1918,database!$A$6:$BFQ$206,4,FALSE)),\"\",VLOOKUP(B1918,database!$A$6:$BFQ$206,4,FALSE)))","v":""},null,null,null,"",null,null,null,{"$f":"IF(B1918=\"\",\"\",IF(ISERROR(VLOOKUP(B1918,database!$A$6:$BFQ$206,3,FALSE)),\"\",VLOOKUP(B1918,database!$A$6:$BFQ$206,3,FALSE)))","v":""},null,null,null,null,null,null,""]
["",null,{"$f":"IF(B1919=\"\",\"\",IF(ISERROR(VLOOKUP(B1919,database!$A$6:$BFQ$206,4,FALSE)),\"\",VLOOKUP(B1919,database!$A$6:$BFQ$206,4,FALSE)))","v":""},null,null,null,"",null,null,null,{"$f":"IF(B1919=\"\",\"\",IF(ISERROR(VLOOKUP(B1919,database!$A$6:$BFQ$206,3,FALSE)),\"\",VLOOKUP(B1919,database!$A$6:$BFQ$206,3,FALSE)))","v":""},null,null,null,null,null,null,""]
["",null,{"$f":"IF(B1920=\"\",\"\",IF(ISERROR(VLOOKUP(B1920,database!$A$6:$BFQ$206,4,FALSE)),\"\",VLOOKUP(B1920,database!$A$6:$BFQ$206,4,FALSE)))","v":""},null,null,null,"",null,null,null,{"$f":"IF(B1920=\"\",\"\",IF(ISERROR(VLOOKUP(B1920,database!$A$6:$BFQ$206,3,FALSE)),\"\",VLOOKUP(B1920,database!$A$6:$BFQ$206,3,FALSE)))","v":""},null,null,null,null,null,null,""]
[{"$f":"IF(B1921=\"\",\"\",ROW(A1918))","v":""},null,{"$f":"IF(B1921=\"\",\"\",IF(ISERROR(VLOOKUP(B1921,database!$A$6:$BFQ$206,4,FALSE)),\"\",VLOOKUP(B1921,database!$A$6:$BFQ$206,4,FALSE)))","v":""},null,null,null,{"$f":"IF(B1921=\"\",\"\",IF(C1921=\"\",0,1))","v":""},null,null,null,{"$f":"IF(B1921=\"\",\"\",IF(ISERROR(VLOOKUP(B1921,database!$A$6:$BFQ$206,3,FALSE)),\"\",VLOOKUP(B1921,database!$A$6:$BFQ$206,3,FALSE)))","v":""},null,null,null,null,null,null,{"$f":"LEFT(C1921,2)","v":""}]
["",null,{"$f":"IF(B1922=\"\",\"\",IF(ISERROR(VLOOKUP(B1922,database!$A$6:$BFQ$206,4,FALSE)),\"\",VLOOKUP(B1922,database!$A$6:$BFQ$206,4,FALSE)))","v":""},null,null,null,"",null,null,null,{"$f":"IF(B1922=\"\",\"\",IF(ISERROR(VLOOKUP(B1922,database!$A$6:$BFQ$206,3,FALSE)),\"\",VLOOKUP(B1922,database!$A$6:$BFQ$206,3,FALSE)))","v":""},null,null,null,null,null,null,""]
["",null,{"$f":"IF(B1923=\"\",\"\",IF(ISERROR(VLOOKUP(B1923,database!$A$6:$BFQ$206,4,FALSE)),\"\",VLOOKUP(B1923,database!$A$6:$BFQ$206,4,FALSE)))","v":""},null,null,null,"",null,null,null,{"$f":"IF(B1923=\"\",\"\",IF(ISERROR(VLOOKUP(B1923,database!$A$6:$BFQ$206,3,FALSE)),\"\",VLOOKUP(B1923,database!$A$6:$BFQ$206,3,FALSE)))","v":""},null,null,null,null,null,null,""]
["",null,{"$f":"IF(B1924=\"\",\"\",IF(ISERROR(VLOOKUP(B1924,database!$A$6:$BFQ$206,4,FALSE)),\"\",VLOOKUP(B1924,database!$A$6:$BFQ$206,4,FALSE)))","v":""},null,null,null,"",null,null,null,{"$f":"IF(B1924=\"\",\"\",IF(ISERROR(VLOOKUP(B1924,database!$A$6:$BFQ$206,3,FALSE)),\"\",VLOOKUP(B1924,database!$A$6:$BFQ$206,3,FALSE)))","v":""},null,null,null,null,null,null,""]
["",null,{"$f":"IF(B1925=\"\",\"\",IF(ISERROR(VLOOKUP(B1925,database!$A$6:$BFQ$206,4,FALSE)),\"\",VLOOKUP(B1925,database!$A$6:$BFQ$206,4,FALSE)))","v":""},null,null,null,"",null,null,null,{"$f":"IF(B1925=\"\",\"\",IF(ISERROR(VLOOKUP(B1925,database!$A$6:$BFQ$206,3,FALSE)),\"\",VLOOKUP(B1925,database!$A$6:$BFQ$206,3,FALSE)))","v":""},null,null,null,null,null,null,""]
["",null,{"$f":"IF(B1926=\"\",\"\",IF(ISERROR(VLOOKUP(B1926,database!$A$6:$BFQ$206,4,FALSE)),\"\",VLOOKUP(B1926,database!$A$6:$BFQ$206,4,FALSE)))","v":""},null,null,null,"",null,null,null,{"$f":"IF(B1926=\"\",\"\",IF(ISERROR(VLOOKUP(B1926,database!$A$6:$BFQ$206,3,FALSE)),\"\",VLOOKUP(B1926,database!$A$6:$BFQ$206,3,FALSE)))","v":""},null,null,null,null,null,null,""]
["",null,{"$f":"IF(B1927=\"\",\"\",IF(ISERROR(VLOOKUP(B1927,database!$A$6:$BFQ$206,4,FALSE)),\"\",VLOOKUP(B1927,database!$A$6:$BFQ$206,4,FALSE)))","v":""},null,null,null,"",null,null,null,{"$f":"IF(B1927=\"\",\"\",IF(ISERROR(VLOOKUP(B1927,database!$A$6:$BFQ$206,3,FALSE)),\"\",VLOOKUP(B1927,database!$A$6:$BFQ$206,3,FALSE)))","v":""},null,null,null,null,null,null,""]
["",null,{"$f":"IF(B1928=\"\",\"\",IF(ISERROR(VLOOKUP(B1928,database!$A$6:$BFQ$206,4,FALSE)),\"\",VLOOKUP(B1928,database!$A$6:$BFQ$206,4,FALSE)))","v":""},null,null,null,"",null,null,null,{"$f":"IF(B1928=\"\",\"\",IF(ISERROR(VLOOKUP(B1928,database!$A$6:$BFQ$206,3,FALSE)),\"\",VLOOKUP(B1928,database!$A$6:$BFQ$206,3,FALSE)))","v":""},null,null,null,null,null,null,""]
["",null,{"$f":"IF(B1929=\"\",\"\",IF(ISERROR(VLOOKUP(B1929,database!$A$6:$BFQ$206,4,FALSE)),\"\",VLOOKUP(B1929,database!$A$6:$BFQ$206,4,FALSE)))","v":""},null,null,null,"",null,null,null,{"$f":"IF(B1929=\"\",\"\",IF(ISERROR(VLOOKUP(B1929,database!$A$6:$BFQ$206,3,FALSE)),\"\",VLOOKUP(B1929,database!$A$6:$BFQ$206,3,FALSE)))","v":""},null,null,null,null,null,null,""]
["",null,{"$f":"IF(B1930=\"\",\"\",IF(ISERROR(VLOOKUP(B1930,database!$A$6:$BFQ$206,4,FALSE)),\"\",VLOOKUP(B1930,database!$A$6:$BFQ$206,4,FALSE)))","v":""},null,null,null,"",null,null,null,{"$f":"IF(B1930=\"\",\"\",IF(ISERROR(VLOOKUP(B1930,database!$A$6:$BFQ$206,3,FALSE)),\"\",VLOOKUP(B1930,database!$A$6:$BFQ$206,3,FALSE)))","v":""},null,null,null,null,null,null,""]
["",null,{"$f":"IF(B1931=\"\",\"\",IF(ISERROR(VLOOKUP(B1931,database!$A$6:$BFQ$206,4,FALSE)),\"\",VLOOKUP(B1931,database!$A$6:$BFQ$206,4,FALSE)))","v":""},null,null,null,"",null,null,null,{"$f":"IF(B1931=\"\",\"\",IF(ISERROR(VLOOKUP(B1931,database!$A$6:$BFQ$206,3,FALSE)),\"\",VLOOKUP(B1931,database!$A$6:$BFQ$206,3,FALSE)))","v":""},null,null,null,null,null,null,""]
["",null,{"$f":"IF(B1932=\"\",\"\",IF(ISERROR(VLOOKUP(B1932,database!$A$6:$BFQ$206,4,FALSE)),\"\",VLOOKUP(B1932,database!$A$6:$BFQ$206,4,FALSE)))","v":""},null,null,null,"",null,null,null,{"$f":"IF(B1932=\"\",\"\",IF(ISERROR(VLOOKUP(B1932,database!$A$6:$BFQ$206,3,FALSE)),\"\",VLOOKUP(B1932,database!$A$6:$BFQ$206,3,FALSE)))","v":""},null,null,null,null,null,null,""]
["",null,{"$f":"IF(B1933=\"\",\"\",IF(ISERROR(VLOOKUP(B1933,database!$A$6:$BFQ$206,4,FALSE)),\"\",VLOOKUP(B1933,database!$A$6:$BFQ$206,4,FALSE)))","v":""},null,null,null,"",null,null,null,{"$f":"IF(B1933=\"\",\"\",IF(ISERROR(VLOOKUP(B1933,database!$A$6:$BFQ$206,3,FALSE)),\"\",VLOOKUP(B1933,database!$A$6:$BFQ$206,3,FALSE)))","v":""},null,null,null,null,null,null,""]
["",null,{"$f":"IF(B1934=\"\",\"\",IF(ISERROR(VLOOKUP(B1934,database!$A$6:$BFQ$206,4,FALSE)),\"\",VLOOKUP(B1934,database!$A$6:$BFQ$206,4,FALSE)))","v":""},null,null,null,"",null,null,null,{"$f":"IF(B1934=\"\",\"\",IF(ISERROR(VLOOKUP(B1934,database!$A$6:$BFQ$206,3,FALSE)),\"\",VLOOKUP(B1934,database!$A$6:$BFQ$206,3,FALSE)))","v":""},null,null,null,null,null,null,""]
["",null,{"$f":"IF(B1935=\"\",\"\",IF(ISERROR(VLOOKUP(B1935,database!$A$6:$BFQ$206,4,FALSE)),\"\",VLOOKUP(B1935,database!$A$6:$BFQ$206,4,FALSE)))","v":""},null,null,null,"",null,null,null,{"$f":"IF(B1935=\"\",\"\",IF(ISERROR(VLOOKUP(B1935,database!$A$6:$BFQ$206,3,FALSE)),\"\",VLOOKUP(B1935,database!$A$6:$BFQ$206,3,FALSE)))","v":""},null,null,null,null,null,null,""]
["",null,{"$f":"IF(B1936=\"\",\"\",IF(ISERROR(VLOOKUP(B1936,database!$A$6:$BFQ$206,4,FALSE)),\"\",VLOOKUP(B1936,database!$A$6:$BFQ$206,4,FALSE)))","v":""},null,null,null,"",null,null,null,{"$f":"IF(B1936=\"\",\"\",IF(ISERROR(VLOOKUP(B1936,database!$A$6:$BFQ$206,3,FALSE)),\"\",VLOOKUP(B1936,database!$A$6:$BFQ$206,3,FALSE)))","v":""},null,null,null,null,null,null,""]
["",null,{"$f":"IF(B1937=\"\",\"\",IF(ISERROR(VLOOKUP(B1937,database!$A$6:$BFQ$206,4,FALSE)),\"\",VLOOKUP(B1937,database!$A$6:$BFQ$206,4,FALSE)))","v":""},null,null,null,"",null,null,null,{"$f":"IF(B1937=\"\",\"\",IF(ISERROR(VLOOKUP(B1937,database!$A$6:$BFQ$206,3,FALSE)),\"\",VLOOKUP(B1937,database!$A$6:$BFQ$206,3,FALSE)))","v":""},null,null,null,null,null,null,""]
["",null,{"$f":"IF(B1938=\"\",\"\",IF(ISERROR(VLOOKUP(B1938,database!$A$6:$BFQ$206,4,FALSE)),\"\",VLOOKUP(B1938,database!$A$6:$BFQ$206,4,FALSE)))","v":""},null,null,null,"",null,null,null,{"$f":"IF(B1938=\"\",\"\",IF(ISERROR(VLOOKUP(B1938,database!$A$6:$BFQ$206,3,FALSE)),\"\",VLOOKUP(B1938,database!$A$6:$BFQ$206,3,FALSE)))","v":""},null,null,null,null,null,null,""]
["",null,{"$f":"IF(B1939=\"\",\"\",IF(ISERROR(VLOOKUP(B1939,database!$A$6:$BFQ$206,4,FALSE)),\"\",VLOOKUP(B1939,database!$A$6:$BFQ$206,4,FALSE)))","v":""},null,null,null,"",null,null,null,{"$f":"IF(B1939=\"\",\"\",IF(ISERROR(VLOOKUP(B1939,database!$A$6:$BFQ$206,3,FALSE)),\"\",VLOOKUP(B1939,database!$A$6:$BFQ$206,3,FALSE)))","v":""},null,null,null,null,null,null,""]
["",null,{"$f":"IF(B1940=\"\",\"\",IF(ISERROR(VLOOKUP(B1940,database!$A$6:$BFQ$206,4,FALSE)),\"\",VLOOKUP(B1940,database!$A$6:$BFQ$206,4,FALSE)))","v":""},null,null,null,"",null,null,null,{"$f":"IF(B1940=\"\",\"\",IF(ISERROR(VLOOKUP(B1940,database!$A$6:$BFQ$206,3,FALSE)),\"\",VLOOKUP(B1940,database!$A$6:$BFQ$206,3,FALSE)))","v":""},null,null,null,null,null,null,""]
["",null,{"$f":"IF(B1941=\"\",\"\",IF(ISERROR(VLOOKUP(B1941,database!$A$6:$BFQ$206,4,FALSE)),\"\",VLOOKUP(B1941,database!$A$6:$BFQ$206,4,FALSE)))","v":""},null,null,null,"",null,null,null,{"$f":"IF(B1941=\"\",\"\",IF(ISERROR(VLOOKUP(B1941,database!$A$6:$BFQ$206,3,FALSE)),\"\",VLOOKUP(B1941,database!$A$6:$BFQ$206,3,FALSE)))","v":""},null,null,null,null,null,null,""]
["",null,{"$f":"IF(B1942=\"\",\"\",IF(ISERROR(VLOOKUP(B1942,database!$A$6:$BFQ$206,4,FALSE)),\"\",VLOOKUP(B1942,database!$A$6:$BFQ$206,4,FALSE)))","v":""},null,null,null,"",null,null,null,{"$f":"IF(B1942=\"\",\"\",IF(ISERROR(VLOOKUP(B1942,database!$A$6:$BFQ$206,3,FALSE)),\"\",VLOOKUP(B1942,database!$A$6:$BFQ$206,3,FALSE)))","v":""},null,null,null,null,null,null,""]
["",null,{"$f":"IF(B1943=\"\",\"\",IF(ISERROR(VLOOKUP(B1943,database!$A$6:$BFQ$206,4,FALSE)),\"\",VLOOKUP(B1943,database!$A$6:$BFQ$206,4,FALSE)))","v":""},null,null,null,"",null,null,null,{"$f":"IF(B1943=\"\",\"\",IF(ISERROR(VLOOKUP(B1943,database!$A$6:$BFQ$206,3,FALSE)),\"\",VLOOKUP(B1943,database!$A$6:$BFQ$206,3,FALSE)))","v":""},null,null,null,null,null,null,""]
["",null,{"$f":"IF(B1944=\"\",\"\",IF(ISERROR(VLOOKUP(B1944,database!$A$6:$BFQ$206,4,FALSE)),\"\",VLOOKUP(B1944,database!$A$6:$BFQ$206,4,FALSE)))","v":""},null,null,null,"",null,null,null,{"$f":"IF(B1944=\"\",\"\",IF(ISERROR(VLOOKUP(B1944,database!$A$6:$BFQ$206,3,FALSE)),\"\",VLOOKUP(B1944,database!$A$6:$BFQ$206,3,FALSE)))","v":""},null,null,null,null,null,null,""]
["",null,{"$f":"IF(B1945=\"\",\"\",IF(ISERROR(VLOOKUP(B1945,database!$A$6:$BFQ$206,4,FALSE)),\"\",VLOOKUP(B1945,database!$A$6:$BFQ$206,4,FALSE)))","v":""},null,null,null,"",null,null,null,{"$f":"IF(B1945=\"\",\"\",IF(ISERROR(VLOOKUP(B1945,database!$A$6:$BFQ$206,3,FALSE)),\"\",VLOOKUP(B1945,database!$A$6:$BFQ$206,3,FALSE)))","v":""},null,null,null,null,null,null,""]
["",null,{"$f":"IF(B1946=\"\",\"\",IF(ISERROR(VLOOKUP(B1946,database!$A$6:$BFQ$206,4,FALSE)),\"\",VLOOKUP(B1946,database!$A$6:$BFQ$206,4,FALSE)))","v":""},null,null,null,"",null,null,null,{"$f":"IF(B1946=\"\",\"\",IF(ISERROR(VLOOKUP(B1946,database!$A$6:$BFQ$206,3,FALSE)),\"\",VLOOKUP(B1946,database!$A$6:$BFQ$206,3,FALSE)))","v":""},null,null,null,null,null,null,""]
["",null,{"$f":"IF(B1947=\"\",\"\",IF(ISERROR(VLOOKUP(B1947,database!$A$6:$BFQ$206,4,FALSE)),\"\",VLOOKUP(B1947,database!$A$6:$BFQ$206,4,FALSE)))","v":""},null,null,null,"",null,null,null,{"$f":"IF(B1947=\"\",\"\",IF(ISERROR(VLOOKUP(B1947,database!$A$6:$BFQ$206,3,FALSE)),\"\",VLOOKUP(B1947,database!$A$6:$BFQ$206,3,FALSE)))","v":""},null,null,null,null,null,null,""]
["",null,{"$f":"IF(B1948=\"\",\"\",IF(ISERROR(VLOOKUP(B1948,database!$A$6:$BFQ$206,4,FALSE)),\"\",VLOOKUP(B1948,database!$A$6:$BFQ$206,4,FALSE)))","v":""},null,null,null,"",null,null,null,{"$f":"IF(B1948=\"\",\"\",IF(ISERROR(VLOOKUP(B1948,database!$A$6:$BFQ$206,3,FALSE)),\"\",VLOOKUP(B1948,database!$A$6:$BFQ$206,3,FALSE)))","v":""},null,null,null,null,null,null,""]
["",null,{"$f":"IF(B1949=\"\",\"\",IF(ISERROR(VLOOKUP(B1949,database!$A$6:$BFQ$206,4,FALSE)),\"\",VLOOKUP(B1949,database!$A$6:$BFQ$206,4,FALSE)))","v":""},null,null,null,"",null,null,null,{"$f":"IF(B1949=\"\",\"\",IF(ISERROR(VLOOKUP(B1949,database!$A$6:$BFQ$206,3,FALSE)),\"\",VLOOKUP(B1949,database!$A$6:$BFQ$206,3,FALSE)))","v":""},null,null,null,null,null,null,""]
["",null,{"$f":"IF(B1950=\"\",\"\",IF(ISERROR(VLOOKUP(B1950,database!$A$6:$BFQ$206,4,FALSE)),\"\",VLOOKUP(B1950,database!$A$6:$BFQ$206,4,FALSE)))","v":""},null,null,null,"",null,null,null,{"$f":"IF(B1950=\"\",\"\",IF(ISERROR(VLOOKUP(B1950,database!$A$6:$BFQ$206,3,FALSE)),\"\",VLOOKUP(B1950,database!$A$6:$BFQ$206,3,FALSE)))","v":""},null,null,null,null,null,null,""]
["",null,{"$f":"IF(B1951=\"\",\"\",IF(ISERROR(VLOOKUP(B1951,database!$A$6:$BFQ$206,4,FALSE)),\"\",VLOOKUP(B1951,database!$A$6:$BFQ$206,4,FALSE)))","v":""},null,null,null,"",null,null,null,{"$f":"IF(B1951=\"\",\"\",IF(ISERROR(VLOOKUP(B1951,database!$A$6:$BFQ$206,3,FALSE)),\"\",VLOOKUP(B1951,database!$A$6:$BFQ$206,3,FALSE)))","v":""},null,null,null,null,null,null,""]
["",null,{"$f":"IF(B1952=\"\",\"\",IF(ISERROR(VLOOKUP(B1952,database!$A$6:$BFQ$206,4,FALSE)),\"\",VLOOKUP(B1952,database!$A$6:$BFQ$206,4,FALSE)))","v":""},null,null,null,"",null,null,null,{"$f":"IF(B1952=\"\",\"\",IF(ISERROR(VLOOKUP(B1952,database!$A$6:$BFQ$206,3,FALSE)),\"\",VLOOKUP(B1952,database!$A$6:$BFQ$206,3,FALSE)))","v":""},null,null,null,null,null,null,""]
["",null,{"$f":"IF(B1953=\"\",\"\",IF(ISERROR(VLOOKUP(B1953,database!$A$6:$BFQ$206,4,FALSE)),\"\",VLOOKUP(B1953,database!$A$6:$BFQ$206,4,FALSE)))","v":""},null,null,null,"",null,null,null,{"$f":"IF(B1953=\"\",\"\",IF(ISERROR(VLOOKUP(B1953,database!$A$6:$BFQ$206,3,FALSE)),\"\",VLOOKUP(B1953,database!$A$6:$BFQ$206,3,FALSE)))","v":""},null,null,null,null,null,null,""]
["",null,{"$f":"IF(B1954=\"\",\"\",IF(ISERROR(VLOOKUP(B1954,database!$A$6:$BFQ$206,4,FALSE)),\"\",VLOOKUP(B1954,database!$A$6:$BFQ$206,4,FALSE)))","v":""},null,null,null,"",null,null,null,{"$f":"IF(B1954=\"\",\"\",IF(ISERROR(VLOOKUP(B1954,database!$A$6:$BFQ$206,3,FALSE)),\"\",VLOOKUP(B1954,database!$A$6:$BFQ$206,3,FALSE)))","v":""},null,null,null,null,null,null,""]
["",null,{"$f":"IF(B1955=\"\",\"\",IF(ISERROR(VLOOKUP(B1955,database!$A$6:$BFQ$206,4,FALSE)),\"\",VLOOKUP(B1955,database!$A$6:$BFQ$206,4,FALSE)))","v":""},null,null,null,"",null,null,null,{"$f":"IF(B1955=\"\",\"\",IF(ISERROR(VLOOKUP(B1955,database!$A$6:$BFQ$206,3,FALSE)),\"\",VLOOKUP(B1955,database!$A$6:$BFQ$206,3,FALSE)))","v":""},null,null,null,null,null,null,""]
["",null,{"$f":"IF(B1956=\"\",\"\",IF(ISERROR(VLOOKUP(B1956,database!$A$6:$BFQ$206,4,FALSE)),\"\",VLOOKUP(B1956,database!$A$6:$BFQ$206,4,FALSE)))","v":""},null,null,null,"",null,null,null,{"$f":"IF(B1956=\"\",\"\",IF(ISERROR(VLOOKUP(B1956,database!$A$6:$BFQ$206,3,FALSE)),\"\",VLOOKUP(B1956,database!$A$6:$BFQ$206,3,FALSE)))","v":""},null,null,null,null,null,null,""]
["",null,{"$f":"IF(B1957=\"\",\"\",IF(ISERROR(VLOOKUP(B1957,database!$A$6:$BFQ$206,4,FALSE)),\"\",VLOOKUP(B1957,database!$A$6:$BFQ$206,4,FALSE)))","v":""},null,null,null,"",null,null,null,{"$f":"IF(B1957=\"\",\"\",IF(ISERROR(VLOOKUP(B1957,database!$A$6:$BFQ$206,3,FALSE)),\"\",VLOOKUP(B1957,database!$A$6:$BFQ$206,3,FALSE)))","v":""},null,null,null,null,null,null,""]
["",null,{"$f":"IF(B1958=\"\",\"\",IF(ISERROR(VLOOKUP(B1958,database!$A$6:$BFQ$206,4,FALSE)),\"\",VLOOKUP(B1958,database!$A$6:$BFQ$206,4,FALSE)))","v":""},null,null,null,"",null,null,null,{"$f":"IF(B1958=\"\",\"\",IF(ISERROR(VLOOKUP(B1958,database!$A$6:$BFQ$206,3,FALSE)),\"\",VLOOKUP(B1958,database!$A$6:$BFQ$206,3,FALSE)))","v":""},null,null,null,null,null,null,""]
["",null,{"$f":"IF(B1959=\"\",\"\",IF(ISERROR(VLOOKUP(B1959,database!$A$6:$BFQ$206,4,FALSE)),\"\",VLOOKUP(B1959,database!$A$6:$BFQ$206,4,FALSE)))","v":""},null,null,null,"",null,null,null,{"$f":"IF(B1959=\"\",\"\",IF(ISERROR(VLOOKUP(B1959,database!$A$6:$BFQ$206,3,FALSE)),\"\",VLOOKUP(B1959,database!$A$6:$BFQ$206,3,FALSE)))","v":""},null,null,null,null,null,null,""]
["",null,{"$f":"IF(B1960=\"\",\"\",IF(ISERROR(VLOOKUP(B1960,database!$A$6:$BFQ$206,4,FALSE)),\"\",VLOOKUP(B1960,database!$A$6:$BFQ$206,4,FALSE)))","v":""},null,null,null,"",null,null,null,{"$f":"IF(B1960=\"\",\"\",IF(ISERROR(VLOOKUP(B1960,database!$A$6:$BFQ$206,3,FALSE)),\"\",VLOOKUP(B1960,database!$A$6:$BFQ$206,3,FALSE)))","v":""},null,null,null,null,null,null,""]
["",null,{"$f":"IF(B1961=\"\",\"\",IF(ISERROR(VLOOKUP(B1961,database!$A$6:$BFQ$206,4,FALSE)),\"\",VLOOKUP(B1961,database!$A$6:$BFQ$206,4,FALSE)))","v":""},null,null,null,"",null,null,null,{"$f":"IF(B1961=\"\",\"\",IF(ISERROR(VLOOKUP(B1961,database!$A$6:$BFQ$206,3,FALSE)),\"\",VLOOKUP(B1961,database!$A$6:$BFQ$206,3,FALSE)))","v":""},null,null,null,null,null,null,""]
["",null,{"$f":"IF(B1962=\"\",\"\",IF(ISERROR(VLOOKUP(B1962,database!$A$6:$BFQ$206,4,FALSE)),\"\",VLOOKUP(B1962,database!$A$6:$BFQ$206,4,FALSE)))","v":""},null,null,null,"",null,null,null,{"$f":"IF(B1962=\"\",\"\",IF(ISERROR(VLOOKUP(B1962,database!$A$6:$BFQ$206,3,FALSE)),\"\",VLOOKUP(B1962,database!$A$6:$BFQ$206,3,FALSE)))","v":""},null,null,null,null,null,null,""]
["",null,{"$f":"IF(B1963=\"\",\"\",IF(ISERROR(VLOOKUP(B1963,database!$A$6:$BFQ$206,4,FALSE)),\"\",VLOOKUP(B1963,database!$A$6:$BFQ$206,4,FALSE)))","v":""},null,null,null,"",null,null,null,{"$f":"IF(B1963=\"\",\"\",IF(ISERROR(VLOOKUP(B1963,database!$A$6:$BFQ$206,3,FALSE)),\"\",VLOOKUP(B1963,database!$A$6:$BFQ$206,3,FALSE)))","v":""},null,null,null,null,null,null,""]
["",null,{"$f":"IF(B1964=\"\",\"\",IF(ISERROR(VLOOKUP(B1964,database!$A$6:$BFQ$206,4,FALSE)),\"\",VLOOKUP(B1964,database!$A$6:$BFQ$206,4,FALSE)))","v":""},null,null,null,"",null,null,null,{"$f":"IF(B1964=\"\",\"\",IF(ISERROR(VLOOKUP(B1964,database!$A$6:$BFQ$206,3,FALSE)),\"\",VLOOKUP(B1964,database!$A$6:$BFQ$206,3,FALSE)))","v":""},null,null,null,null,null,null,""]
["",null,{"$f":"IF(B1965=\"\",\"\",IF(ISERROR(VLOOKUP(B1965,database!$A$6:$BFQ$206,4,FALSE)),\"\",VLOOKUP(B1965,database!$A$6:$BFQ$206,4,FALSE)))","v":""},null,null,null,"",null,null,null,{"$f":"IF(B1965=\"\",\"\",IF(ISERROR(VLOOKUP(B1965,database!$A$6:$BFQ$206,3,FALSE)),\"\",VLOOKUP(B1965,database!$A$6:$BFQ$206,3,FALSE)))","v":""},null,null,null,null,null,null,""]
["",null,{"$f":"IF(B1966=\"\",\"\",IF(ISERROR(VLOOKUP(B1966,database!$A$6:$BFQ$206,4,FALSE)),\"\",VLOOKUP(B1966,database!$A$6:$BFQ$206,4,FALSE)))","v":""},null,null,null,"",null,null,null,{"$f":"IF(B1966=\"\",\"\",IF(ISERROR(VLOOKUP(B1966,database!$A$6:$BFQ$206,3,FALSE)),\"\",VLOOKUP(B1966,database!$A$6:$BFQ$206,3,FALSE)))","v":""},null,null,null,null,null,null,""]
["",null,{"$f":"IF(B1967=\"\",\"\",IF(ISERROR(VLOOKUP(B1967,database!$A$6:$BFQ$206,4,FALSE)),\"\",VLOOKUP(B1967,database!$A$6:$BFQ$206,4,FALSE)))","v":""},null,null,null,"",null,null,null,{"$f":"IF(B1967=\"\",\"\",IF(ISERROR(VLOOKUP(B1967,database!$A$6:$BFQ$206,3,FALSE)),\"\",VLOOKUP(B1967,database!$A$6:$BFQ$206,3,FALSE)))","v":""},null,null,null,null,null,null,""]
["",null,{"$f":"IF(B1968=\"\",\"\",IF(ISERROR(VLOOKUP(B1968,database!$A$6:$BFQ$206,4,FALSE)),\"\",VLOOKUP(B1968,database!$A$6:$BFQ$206,4,FALSE)))","v":""},null,null,null,"",null,null,null,{"$f":"IF(B1968=\"\",\"\",IF(ISERROR(VLOOKUP(B1968,database!$A$6:$BFQ$206,3,FALSE)),\"\",VLOOKUP(B1968,database!$A$6:$BFQ$206,3,FALSE)))","v":""},null,null,null,null,null,null,""]
["",null,{"$f":"IF(B1969=\"\",\"\",IF(ISERROR(VLOOKUP(B1969,database!$A$6:$BFQ$206,4,FALSE)),\"\",VLOOKUP(B1969,database!$A$6:$BFQ$206,4,FALSE)))","v":""},null,null,null,"",null,null,null,{"$f":"IF(B1969=\"\",\"\",IF(ISERROR(VLOOKUP(B1969,database!$A$6:$BFQ$206,3,FALSE)),\"\",VLOOKUP(B1969,database!$A$6:$BFQ$206,3,FALSE)))","v":""},null,null,null,null,null,null,""]
["",null,{"$f":"IF(B1970=\"\",\"\",IF(ISERROR(VLOOKUP(B1970,database!$A$6:$BFQ$206,4,FALSE)),\"\",VLOOKUP(B1970,database!$A$6:$BFQ$206,4,FALSE)))","v":""},null,null,null,"",null,null,null,{"$f":"IF(B1970=\"\",\"\",IF(ISERROR(VLOOKUP(B1970,database!$A$6:$BFQ$206,3,FALSE)),\"\",VLOOKUP(B1970,database!$A$6:$BFQ$206,3,FALSE)))","v":""},null,null,null,null,null,null,""]
["",null,{"$f":"IF(B1971=\"\",\"\",IF(ISERROR(VLOOKUP(B1971,database!$A$6:$BFQ$206,4,FALSE)),\"\",VLOOKUP(B1971,database!$A$6:$BFQ$206,4,FALSE)))","v":""},null,null,null,"",null,null,null,{"$f":"IF(B1971=\"\",\"\",IF(ISERROR(VLOOKUP(B1971,database!$A$6:$BFQ$206,3,FALSE)),\"\",VLOOKUP(B1971,database!$A$6:$BFQ$206,3,FALSE)))","v":""},null,null,null,null,null,null,""]
["",null,{"$f":"IF(B1972=\"\",\"\",IF(ISERROR(VLOOKUP(B1972,database!$A$6:$BFQ$206,4,FALSE)),\"\",VLOOKUP(B1972,database!$A$6:$BFQ$206,4,FALSE)))","v":""},null,null,null,"",null,null,null,{"$f":"IF(B1972=\"\",\"\",IF(ISERROR(VLOOKUP(B1972,database!$A$6:$BFQ$206,3,FALSE)),\"\",VLOOKUP(B1972,database!$A$6:$BFQ$206,3,FALSE)))","v":""},null,null,null,null,null,null,""]
["",null,{"$f":"IF(B1973=\"\",\"\",IF(ISERROR(VLOOKUP(B1973,database!$A$6:$BFQ$206,4,FALSE)),\"\",VLOOKUP(B1973,database!$A$6:$BFQ$206,4,FALSE)))","v":""},null,null,null,"",null,null,null,{"$f":"IF(B1973=\"\",\"\",IF(ISERROR(VLOOKUP(B1973,database!$A$6:$BFQ$206,3,FALSE)),\"\",VLOOKUP(B1973,database!$A$6:$BFQ$206,3,FALSE)))","v":""},null,null,null,null,null,null,""]
["",null,{"$f":"IF(B1974=\"\",\"\",IF(ISERROR(VLOOKUP(B1974,database!$A$6:$BFQ$206,4,FALSE)),\"\",VLOOKUP(B1974,database!$A$6:$BFQ$206,4,FALSE)))","v":""},null,null,null,"",null,null,null,{"$f":"IF(B1974=\"\",\"\",IF(ISERROR(VLOOKUP(B1974,database!$A$6:$BFQ$206,3,FALSE)),\"\",VLOOKUP(B1974,database!$A$6:$BFQ$206,3,FALSE)))","v":""},null,null,null,null,null,null,""]
["",null,{"$f":"IF(B1975=\"\",\"\",IF(ISERROR(VLOOKUP(B1975,database!$A$6:$BFQ$206,4,FALSE)),\"\",VLOOKUP(B1975,database!$A$6:$BFQ$206,4,FALSE)))","v":""},null,null,null,"",null,null,null,{"$f":"IF(B1975=\"\",\"\",IF(ISERROR(VLOOKUP(B1975,database!$A$6:$BFQ$206,3,FALSE)),\"\",VLOOKUP(B1975,database!$A$6:$BFQ$206,3,FALSE)))","v":""},null,null,null,null,null,null,""]
["",null,{"$f":"IF(B1976=\"\",\"\",IF(ISERROR(VLOOKUP(B1976,database!$A$6:$BFQ$206,4,FALSE)),\"\",VLOOKUP(B1976,database!$A$6:$BFQ$206,4,FALSE)))","v":""},null,null,null,"",null,null,null,{"$f":"IF(B1976=\"\",\"\",IF(ISERROR(VLOOKUP(B1976,database!$A$6:$BFQ$206,3,FALSE)),\"\",VLOOKUP(B1976,database!$A$6:$BFQ$206,3,FALSE)))","v":""},null,null,null,null,null,null,""]
["",null,{"$f":"IF(B1977=\"\",\"\",IF(ISERROR(VLOOKUP(B1977,database!$A$6:$BFQ$206,4,FALSE)),\"\",VLOOKUP(B1977,database!$A$6:$BFQ$206,4,FALSE)))","v":""},null,null,null,"",null,null,null,{"$f":"IF(B1977=\"\",\"\",IF(ISERROR(VLOOKUP(B1977,database!$A$6:$BFQ$206,3,FALSE)),\"\",VLOOKUP(B1977,database!$A$6:$BFQ$206,3,FALSE)))","v":""},null,null,null,null,null,null,""]
["",null,{"$f":"IF(B1978=\"\",\"\",IF(ISERROR(VLOOKUP(B1978,database!$A$6:$BFQ$206,4,FALSE)),\"\",VLOOKUP(B1978,database!$A$6:$BFQ$206,4,FALSE)))","v":""},null,null,null,"",null,null,null,{"$f":"IF(B1978=\"\",\"\",IF(ISERROR(VLOOKUP(B1978,database!$A$6:$BFQ$206,3,FALSE)),\"\",VLOOKUP(B1978,database!$A$6:$BFQ$206,3,FALSE)))","v":""},null,null,null,null,null,null,""]
["",null,{"$f":"IF(B1979=\"\",\"\",IF(ISERROR(VLOOKUP(B1979,database!$A$6:$BFQ$206,4,FALSE)),\"\",VLOOKUP(B1979,database!$A$6:$BFQ$206,4,FALSE)))","v":""},null,null,null,"",null,null,null,{"$f":"IF(B1979=\"\",\"\",IF(ISERROR(VLOOKUP(B1979,database!$A$6:$BFQ$206,3,FALSE)),\"\",VLOOKUP(B1979,database!$A$6:$BFQ$206,3,FALSE)))","v":""},null,null,null,null,null,null,""]
["",null,{"$f":"IF(B1980=\"\",\"\",IF(ISERROR(VLOOKUP(B1980,database!$A$6:$BFQ$206,4,FALSE)),\"\",VLOOKUP(B1980,database!$A$6:$BFQ$206,4,FALSE)))","v":""},null,null,null,"",null,null,null,{"$f":"IF(B1980=\"\",\"\",IF(ISERROR(VLOOKUP(B1980,database!$A$6:$BFQ$206,3,FALSE)),\"\",VLOOKUP(B1980,database!$A$6:$BFQ$206,3,FALSE)))","v":""},null,null,null,null,null,null,""]
["",null,{"$f":"IF(B1981=\"\",\"\",IF(ISERROR(VLOOKUP(B1981,database!$A$6:$BFQ$206,4,FALSE)),\"\",VLOOKUP(B1981,database!$A$6:$BFQ$206,4,FALSE)))","v":""},null,null,null,"",null,null,null,{"$f":"IF(B1981=\"\",\"\",IF(ISERROR(VLOOKUP(B1981,database!$A$6:$BFQ$206,3,FALSE)),\"\",VLOOKUP(B1981,database!$A$6:$BFQ$206,3,FALSE)))","v":""},null,null,null,null,null,null,""]
["",null,{"$f":"IF(B1982=\"\",\"\",IF(ISERROR(VLOOKUP(B1982,database!$A$6:$BFQ$206,4,FALSE)),\"\",VLOOKUP(B1982,database!$A$6:$BFQ$206,4,FALSE)))","v":""},null,null,null,"",null,null,null,{"$f":"IF(B1982=\"\",\"\",IF(ISERROR(VLOOKUP(B1982,database!$A$6:$BFQ$206,3,FALSE)),\"\",VLOOKUP(B1982,database!$A$6:$BFQ$206,3,FALSE)))","v":""},null,null,null,null,null,null,""]
["",null,{"$f":"IF(B1983=\"\",\"\",IF(ISERROR(VLOOKUP(B1983,database!$A$6:$BFQ$206,4,FALSE)),\"\",VLOOKUP(B1983,database!$A$6:$BFQ$206,4,FALSE)))","v":""},null,null,null,"",null,null,null,{"$f":"IF(B1983=\"\",\"\",IF(ISERROR(VLOOKUP(B1983,database!$A$6:$BFQ$206,3,FALSE)),\"\",VLOOKUP(B1983,database!$A$6:$BFQ$206,3,FALSE)))","v":""},null,null,null,null,null,null,""]
["",null,{"$f":"IF(B1984=\"\",\"\",IF(ISERROR(VLOOKUP(B1984,database!$A$6:$BFQ$206,4,FALSE)),\"\",VLOOKUP(B1984,database!$A$6:$BFQ$206,4,FALSE)))","v":""},null,null,null,"",null,null,null,{"$f":"IF(B1984=\"\",\"\",IF(ISERROR(VLOOKUP(B1984,database!$A$6:$BFQ$206,3,FALSE)),\"\",VLOOKUP(B1984,database!$A$6:$BFQ$206,3,FALSE)))","v":""},null,null,null,null,null,null,""]
[{"$f":"IF(B1985=\"\",\"\",ROW(A1982))","v":""},null,{"$f":"IF(B1985=\"\",\"\",IF(ISERROR(VLOOKUP(B1985,database!$A$6:$BFQ$206,4,FALSE)),\"\",VLOOKUP(B1985,database!$A$6:$BFQ$206,4,FALSE)))","v":""},null,null,null,{"$f":"IF(B1985=\"\",\"\",IF(C1985=\"\",0,1))","v":""},null,null,null,{"$f":"IF(B1985=\"\",\"\",IF(ISERROR(VLOOKUP(B1985,database!$A$6:$BFQ$206,3,FALSE)),\"\",VLOOKUP(B1985,database!$A$6:$BFQ$206,3,FALSE)))","v":""},null,null,null,null,null,null,{"$f":"LEFT(C1985,2)","v":""}]
["",null,{"$f":"IF(B1986=\"\",\"\",IF(ISERROR(VLOOKUP(B1986,database!$A$6:$BFQ$206,4,FALSE)),\"\",VLOOKUP(B1986,database!$A$6:$BFQ$206,4,FALSE)))","v":""},null,null,null,"",null,null,null,{"$f":"IF(B1986=\"\",\"\",IF(ISERROR(VLOOKUP(B1986,database!$A$6:$BFQ$206,3,FALSE)),\"\",VLOOKUP(B1986,database!$A$6:$BFQ$206,3,FALSE)))","v":""},null,null,null,null,null,null,""]
["",null,{"$f":"IF(B1987=\"\",\"\",IF(ISERROR(VLOOKUP(B1987,database!$A$6:$BFQ$206,4,FALSE)),\"\",VLOOKUP(B1987,database!$A$6:$BFQ$206,4,FALSE)))","v":""},null,null,null,"",null,null,null,{"$f":"IF(B1987=\"\",\"\",IF(ISERROR(VLOOKUP(B1987,database!$A$6:$BFQ$206,3,FALSE)),\"\",VLOOKUP(B1987,database!$A$6:$BFQ$206,3,FALSE)))","v":""},null,null,null,null,null,null,""]
["",null,{"$f":"IF(B1988=\"\",\"\",IF(ISERROR(VLOOKUP(B1988,database!$A$6:$BFQ$206,4,FALSE)),\"\",VLOOKUP(B1988,database!$A$6:$BFQ$206,4,FALSE)))","v":""},null,null,null,"",null,null,null,{"$f":"IF(B1988=\"\",\"\",IF(ISERROR(VLOOKUP(B1988,database!$A$6:$BFQ$206,3,FALSE)),\"\",VLOOKUP(B1988,database!$A$6:$BFQ$206,3,FALSE)))","v":""},null,null,null,null,null,null,""]
["",null,{"$f":"IF(B1989=\"\",\"\",IF(ISERROR(VLOOKUP(B1989,database!$A$6:$BFQ$206,4,FALSE)),\"\",VLOOKUP(B1989,database!$A$6:$BFQ$206,4,FALSE)))","v":""},null,null,null,"",null,null,null,{"$f":"IF(B1989=\"\",\"\",IF(ISERROR(VLOOKUP(B1989,database!$A$6:$BFQ$206,3,FALSE)),\"\",VLOOKUP(B1989,database!$A$6:$BFQ$206,3,FALSE)))","v":""},null,null,null,null,null,null,""]
["",null,{"$f":"IF(B1990=\"\",\"\",IF(ISERROR(VLOOKUP(B1990,database!$A$6:$BFQ$206,4,FALSE)),\"\",VLOOKUP(B1990,database!$A$6:$BFQ$206,4,FALSE)))","v":""},null,null,null,"",null,null,null,{"$f":"IF(B1990=\"\",\"\",IF(ISERROR(VLOOKUP(B1990,database!$A$6:$BFQ$206,3,FALSE)),\"\",VLOOKUP(B1990,database!$A$6:$BFQ$206,3,FALSE)))","v":""},null,null,null,null,null,null,""]
["",null,{"$f":"IF(B1991=\"\",\"\",IF(ISERROR(VLOOKUP(B1991,database!$A$6:$BFQ$206,4,FALSE)),\"\",VLOOKUP(B1991,database!$A$6:$BFQ$206,4,FALSE)))","v":""},null,null,null,"",null,null,null,{"$f":"IF(B1991=\"\",\"\",IF(ISERROR(VLOOKUP(B1991,database!$A$6:$BFQ$206,3,FALSE)),\"\",VLOOKUP(B1991,database!$A$6:$BFQ$206,3,FALSE)))","v":""},null,null,null,null,null,null,""]
["",null,{"$f":"IF(B1992=\"\",\"\",IF(ISERROR(VLOOKUP(B1992,database!$A$6:$BFQ$206,4,FALSE)),\"\",VLOOKUP(B1992,database!$A$6:$BFQ$206,4,FALSE)))","v":""},null,null,null,"",null,null,null,{"$f":"IF(B1992=\"\",\"\",IF(ISERROR(VLOOKUP(B1992,database!$A$6:$BFQ$206,3,FALSE)),\"\",VLOOKUP(B1992,database!$A$6:$BFQ$206,3,FALSE)))","v":""},null,null,null,null,null,null,""]
["",null,{"$f":"IF(B1993=\"\",\"\",IF(ISERROR(VLOOKUP(B1993,database!$A$6:$BFQ$206,4,FALSE)),\"\",VLOOKUP(B1993,database!$A$6:$BFQ$206,4,FALSE)))","v":""},null,null,null,"",null,null,null,{"$f":"IF(B1993=\"\",\"\",IF(ISERROR(VLOOKUP(B1993,database!$A$6:$BFQ$206,3,FALSE)),\"\",VLOOKUP(B1993,database!$A$6:$BFQ$206,3,FALSE)))","v":""},null,null,null,null,null,null,""]
["",null,{"$f":"IF(B1994=\"\",\"\",IF(ISERROR(VLOOKUP(B1994,database!$A$6:$BFQ$206,4,FALSE)),\"\",VLOOKUP(B1994,database!$A$6:$BFQ$206,4,FALSE)))","v":""},null,null,null,"",null,null,null,{"$f":"IF(B1994=\"\",\"\",IF(ISERROR(VLOOKUP(B1994,database!$A$6:$BFQ$206,3,FALSE)),\"\",VLOOKUP(B1994,database!$A$6:$BFQ$206,3,FALSE)))","v":""},null,null,null,null,null,null,""]
["",null,{"$f":"IF(B1995=\"\",\"\",IF(ISERROR(VLOOKUP(B1995,database!$A$6:$BFQ$206,4,FALSE)),\"\",VLOOKUP(B1995,database!$A$6:$BFQ$206,4,FALSE)))","v":""},null,null,null,"",null,null,null,{"$f":"IF(B1995=\"\",\"\",IF(ISERROR(VLOOKUP(B1995,database!$A$6:$BFQ$206,3,FALSE)),\"\",VLOOKUP(B1995,database!$A$6:$BFQ$206,3,FALSE)))","v":""},null,null,null,null,null,null,""]
["",null,{"$f":"IF(B1996=\"\",\"\",IF(ISERROR(VLOOKUP(B1996,database!$A$6:$BFQ$206,4,FALSE)),\"\",VLOOKUP(B1996,database!$A$6:$BFQ$206,4,FALSE)))","v":""},null,null,null,"",null,null,null,{"$f":"IF(B1996=\"\",\"\",IF(ISERROR(VLOOKUP(B1996,database!$A$6:$BFQ$206,3,FALSE)),\"\",VLOOKUP(B1996,database!$A$6:$BFQ$206,3,FALSE)))","v":""},null,null,null,null,null,null,""]
["",null,{"$f":"IF(B1997=\"\",\"\",IF(ISERROR(VLOOKUP(B1997,database!$A$6:$BFQ$206,4,FALSE)),\"\",VLOOKUP(B1997,database!$A$6:$BFQ$206,4,FALSE)))","v":""},null,null,null,"",null,null,null,{"$f":"IF(B1997=\"\",\"\",IF(ISERROR(VLOOKUP(B1997,database!$A$6:$BFQ$206,3,FALSE)),\"\",VLOOKUP(B1997,database!$A$6:$BFQ$206,3,FALSE)))","v":""},null,null,null,null,null,null,""]
["",null,{"$f":"IF(B1998=\"\",\"\",IF(ISERROR(VLOOKUP(B1998,database!$A$6:$BFQ$206,4,FALSE)),\"\",VLOOKUP(B1998,database!$A$6:$BFQ$206,4,FALSE)))","v":""},null,null,null,"",null,null,null,{"$f":"IF(B1998=\"\",\"\",IF(ISERROR(VLOOKUP(B1998,database!$A$6:$BFQ$206,3,FALSE)),\"\",VLOOKUP(B1998,database!$A$6:$BFQ$206,3,FALSE)))","v":""},null,null,null,null,null,null,""]
["",null,{"$f":"IF(B1999=\"\",\"\",IF(ISERROR(VLOOKUP(B1999,database!$A$6:$BFQ$206,4,FALSE)),\"\",VLOOKUP(B1999,database!$A$6:$BFQ$206,4,FALSE)))","v":""},null,null,null,"",null,null,null,{"$f":"IF(B1999=\"\",\"\",IF(ISERROR(VLOOKUP(B1999,database!$A$6:$BFQ$206,3,FALSE)),\"\",VLOOKUP(B1999,database!$A$6:$BFQ$206,3,FALSE)))","v":""},null,null,null,null,null,null,""]
["",null,{"$f":"IF(B2000=\"\",\"\",IF(ISERROR(VLOOKUP(B2000,database!$A$6:$BFQ$206,4,FALSE)),\"\",VLOOKUP(B2000,database!$A$6:$BFQ$206,4,FALSE)))","v":""},null,null,null,"",null,null,null,{"$f":"IF(B2000=\"\",\"\",IF(ISERROR(VLOOKUP(B2000,database!$A$6:$BFQ$206,3,FALSE)),\"\",VLOOKUP(B2000,database!$A$6:$BFQ$206,3,FALSE)))","v":""},null,null,null,null,null,null,""]
["",null,{"$f":"IF(B2001=\"\",\"\",IF(ISERROR(VLOOKUP(B2001,database!$A$6:$BFQ$206,4,FALSE)),\"\",VLOOKUP(B2001,database!$A$6:$BFQ$206,4,FALSE)))","v":""},null,null,null,"",null,null,null,{"$f":"IF(B2001=\"\",\"\",IF(ISERROR(VLOOKUP(B2001,database!$A$6:$BFQ$206,3,FALSE)),\"\",VLOOKUP(B2001,database!$A$6:$BFQ$206,3,FALSE)))","v":""},null,null,null,null,null,null,""]
["",null,{"$f":"IF(B2002=\"\",\"\",IF(ISERROR(VLOOKUP(B2002,database!$A$6:$BFQ$206,4,FALSE)),\"\",VLOOKUP(B2002,database!$A$6:$BFQ$206,4,FALSE)))","v":""},null,null,null,"",null,null,null,{"$f":"IF(B2002=\"\",\"\",IF(ISERROR(VLOOKUP(B2002,database!$A$6:$BFQ$206,3,FALSE)),\"\",VLOOKUP(B2002,database!$A$6:$BFQ$206,3,FALSE)))","v":""},null,null,null,null,null,null,""]
["",null,{"$f":"IF(B2005=\"\",\"\",IF(ISERROR(VLOOKUP(B2005,database!$A$6:$BFQ$206,4,FALSE)),\"\",VLOOKUP(B2005,database!$A$6:$BFQ$206,4,FALSE)))","v":""},null,null,null,"",null,null,null,{"$f":"IF(B2005=\"\",\"\",IF(ISERROR(VLOOKUP(B2005,database!$A$6:$BFQ$206,3,FALSE)),\"\",VLOOKUP(B2005,database!$A$6:$BFQ$206,3,FALSE)))","v":""},null,null,null,null,null,null,""]
["",null,{"$f":"IF(B2006=\"\",\"\",IF(ISERROR(VLOOKUP(B2006,database!$A$6:$BFQ$206,4,FALSE)),\"\",VLOOKUP(B2006,database!$A$6:$BFQ$206,4,FALSE)))","v":""},null,null,null,"",null,null,null,{"$f":"IF(B2006=\"\",\"\",IF(ISERROR(VLOOKUP(B2006,database!$A$6:$BFQ$206,3,FALSE)),\"\",VLOOKUP(B2006,database!$A$6:$BFQ$206,3,FALSE)))","v":""},null,null,null,null,null,null,""]
["",null,{"$f":"IF(B2008=\"\",\"\",IF(ISERROR(VLOOKUP(B2008,database!$A$6:$BFQ$206,4,FALSE)),\"\",VLOOKUP(B2008,database!$A$6:$BFQ$206,4,FALSE)))","v":""},null,null,null,"",null,null,null,{"$f":"IF(B2008=\"\",\"\",IF(ISERROR(VLOOKUP(B2008,database!$A$6:$BFQ$206,3,FALSE)),\"\",VLOOKUP(B2008,database!$A$6:$BFQ$206,3,FALSE)))","v":""},null,null,null,null,null,null,""]
["",null,{"$f":"IF(B2009=\"\",\"\",IF(ISERROR(VLOOKUP(B2009,database!$A$6:$BFQ$206,4,FALSE)),\"\",VLOOKUP(B2009,database!$A$6:$BFQ$206,4,FALSE)))","v":""},null,null,null,"",null,null,null,{"$f":"IF(B2009=\"\",\"\",IF(ISERROR(VLOOKUP(B2009,database!$A$6:$BFQ$206,3,FALSE)),\"\",VLOOKUP(B2009,database!$A$6:$BFQ$206,3,FALSE)))","v":""},null,null,null,null,null,null,""]
["",null,{"$f":"IF(B2012=\"\",\"\",IF(ISERROR(VLOOKUP(B2012,database!$A$6:$BFQ$206,4,FALSE)),\"\",VLOOKUP(B2012,database!$A$6:$BFQ$206,4,FALSE)))","v":""},null,null,null,"",null,null,null,{"$f":"IF(B2012=\"\",\"\",IF(ISERROR(VLOOKUP(B2012,database!$A$6:$BFQ$206,3,FALSE)),\"\",VLOOKUP(B2012,database!$A$6:$BFQ$206,3,FALSE)))","v":""},null,null,null,null,null,null,""]
["",null,{"$f":"IF(B2013=\"\",\"\",IF(ISERROR(VLOOKUP(B2013,database!$A$6:$BFQ$206,4,FALSE)),\"\",VLOOKUP(B2013,database!$A$6:$BFQ$206,4,FALSE)))","v":""},null,null,null,"",null,null,null,{"$f":"IF(B2013=\"\",\"\",IF(ISERROR(VLOOKUP(B2013,database!$A$6:$BFQ$206,3,FALSE)),\"\",VLOOKUP(B2013,database!$A$6:$BFQ$206,3,FALSE)))","v":""},null,null,null,null,null,null,""]
["",null,{"$f":"IF(B2015=\"\",\"\",IF(ISERROR(VLOOKUP(B2015,database!$A$6:$BFQ$206,4,FALSE)),\"\",VLOOKUP(B2015,database!$A$6:$BFQ$206,4,FALSE)))","v":""},null,null,null,"",null,null,null,{"$f":"IF(B2015=\"\",\"\",IF(ISERROR(VLOOKUP(B2015,database!$A$6:$BFQ$206,3,FALSE)),\"\",VLOOKUP(B2015,database!$A$6:$BFQ$206,3,FALSE)))","v":""},null,null,null,null,null,null,""]
["",null,{"$f":"IF(B2016=\"\",\"\",IF(ISERROR(VLOOKUP(B2016,database!$A$6:$BFQ$206,4,FALSE)),\"\",VLOOKUP(B2016,database!$A$6:$BFQ$206,4,FALSE)))","v":""},null,null,null,"",null,null,null,{"$f":"IF(B2016=\"\",\"\",IF(ISERROR(VLOOKUP(B2016,database!$A$6:$BFQ$206,3,FALSE)),\"\",VLOOKUP(B2016,database!$A$6:$BFQ$206,3,FALSE)))","v":""},null,null,null,null,null,null,""]
["",null,{"$f":"IF(B2019=\"\",\"\",IF(ISERROR(VLOOKUP(B2019,database!$A$6:$BFQ$206,4,FALSE)),\"\",VLOOKUP(B2019,database!$A$6:$BFQ$206,4,FALSE)))","v":""},null,null,null,"",null,null,null,{"$f":"IF(B2019=\"\",\"\",IF(ISERROR(VLOOKUP(B2019,database!$A$6:$BFQ$206,3,FALSE)),\"\",VLOOKUP(B2019,database!$A$6:$BFQ$206,3,FALSE)))","v":""},null,null,null,null,null,null,""]
["",null,{"$f":"IF(B2020=\"\",\"\",IF(ISERROR(VLOOKUP(B2020,database!$A$6:$BFQ$206,4,FALSE)),\"\",VLOOKUP(B2020,database!$A$6:$BFQ$206,4,FALSE)))","v":""},null,null,null,"",null,null,null,{"$f":"IF(B2020=\"\",\"\",IF(ISERROR(VLOOKUP(B2020,database!$A$6:$BFQ$206,3,FALSE)),\"\",VLOOKUP(B2020,database!$A$6:$BFQ$206,3,FALSE)))","v":""},null,null,null,null,null,null,""]
["",null,{"$f":"IF(B2022=\"\",\"\",IF(ISERROR(VLOOKUP(B2022,database!$A$6:$BFQ$206,4,FALSE)),\"\",VLOOKUP(B2022,database!$A$6:$BFQ$206,4,FALSE)))","v":""},null,null,null,"",null,null,null,{"$f":"IF(B2022=\"\",\"\",IF(ISERROR(VLOOKUP(B2022,database!$A$6:$BFQ$206,3,FALSE)),\"\",VLOOKUP(B2022,database!$A$6:$BFQ$206,3,FALSE)))","v":""},null,null,null,null,null,null,""]
["",null,{"$f":"IF(B2023=\"\",\"\",IF(ISERROR(VLOOKUP(B2023,database!$A$6:$BFQ$206,4,FALSE)),\"\",VLOOKUP(B2023,database!$A$6:$BFQ$206,4,FALSE)))","v":""},null,null,null,"",null,null,null,{"$f":"IF(B2023=\"\",\"\",IF(ISERROR(VLOOKUP(B2023,database!$A$6:$BFQ$206,3,FALSE)),\"\",VLOOKUP(B2023,database!$A$6:$BFQ$206,3,FALSE)))","v":""},null,null,null,null,null,null,""]
["",null,{"$f":"IF(B2026=\"\",\"\",IF(ISERROR(VLOOKUP(B2026,database!$A$6:$BFQ$206,4,FALSE)),\"\",VLOOKUP(B2026,database!$A$6:$BFQ$206,4,FALSE)))","v":""},null,null,null,"",null,null,null,{"$f":"IF(B2026=\"\",\"\",IF(ISERROR(VLOOKUP(B2026,database!$A$6:$BFQ$206,3,FALSE)),\"\",VLOOKUP(B2026,database!$A$6:$BFQ$206,3,FALSE)))","v":""},null,null,null,null,null,null,""]
["",null,{"$f":"IF(B2027=\"\",\"\",IF(ISERROR(VLOOKUP(B2027,database!$A$6:$BFQ$206,4,FALSE)),\"\",VLOOKUP(B2027,database!$A$6:$BFQ$206,4,FALSE)))","v":""},null,null,null,"",null,null,null,{"$f":"IF(B2027=\"\",\"\",IF(ISERROR(VLOOKUP(B2027,database!$A$6:$BFQ$206,3,FALSE)),\"\",VLOOKUP(B2027,database!$A$6:$BFQ$206,3,FALSE)))","v":""},null,null,null,null,null,null,""]
["",null,{"$f":"IF(B2029=\"\",\"\",IF(ISERROR(VLOOKUP(B2029,database!$A$6:$BFQ$206,4,FALSE)),\"\",VLOOKUP(B2029,database!$A$6:$BFQ$206,4,FALSE)))","v":""},null,null,null,"",null,null,null,{"$f":"IF(B2029=\"\",\"\",IF(ISERROR(VLOOKUP(B2029,database!$A$6:$BFQ$206,3,FALSE)),\"\",VLOOKUP(B2029,database!$A$6:$BFQ$206,3,FALSE)))","v":""},null,null,null,null,null,null,""]
["",null,{"$f":"IF(B2030=\"\",\"\",IF(ISERROR(VLOOKUP(B2030,database!$A$6:$BFQ$206,4,FALSE)),\"\",VLOOKUP(B2030,database!$A$6:$BFQ$206,4,FALSE)))","v":""},null,null,null,"",null,null,null,{"$f":"IF(B2030=\"\",\"\",IF(ISERROR(VLOOKUP(B2030,database!$A$6:$BFQ$206,3,FALSE)),\"\",VLOOKUP(B2030,database!$A$6:$BFQ$206,3,FALSE)))","v":""},null,null,null,null,null,null,""]
["",null,{"$f":"IF(B2033=\"\",\"\",IF(ISERROR(VLOOKUP(B2033,database!$A$6:$BFQ$206,4,FALSE)),\"\",VLOOKUP(B2033,database!$A$6:$BFQ$206,4,FALSE)))","v":""},null,null,null,"",null,null,null,{"$f":"IF(B2033=\"\",\"\",IF(ISERROR(VLOOKUP(B2033,database!$A$6:$BFQ$206,3,FALSE)),\"\",VLOOKUP(B2033,database!$A$6:$BFQ$206,3,FALSE)))","v":""},null,null,null,null,null,null,""]
["",null,{"$f":"IF(B2034=\"\",\"\",IF(ISERROR(VLOOKUP(B2034,database!$A$6:$BFQ$206,4,FALSE)),\"\",VLOOKUP(B2034,database!$A$6:$BFQ$206,4,FALSE)))","v":""},null,null,null,"",null,null,null,{"$f":"IF(B2034=\"\",\"\",IF(ISERROR(VLOOKUP(B2034,database!$A$6:$BFQ$206,3,FALSE)),\"\",VLOOKUP(B2034,database!$A$6:$BFQ$206,3,FALSE)))","v":""},null,null,null,null,null,null,""]
["",null,{"$f":"IF(B2036=\"\",\"\",IF(ISERROR(VLOOKUP(B2036,database!$A$6:$BFQ$206,4,FALSE)),\"\",VLOOKUP(B2036,database!$A$6:$BFQ$206,4,FALSE)))","v":""},null,null,null,"",null,null,null,{"$f":"IF(B2036=\"\",\"\",IF(ISERROR(VLOOKUP(B2036,database!$A$6:$BFQ$206,3,FALSE)),\"\",VLOOKUP(B2036,database!$A$6:$BFQ$206,3,FALSE)))","v":""},null,null,null,null,null,null,""]
["",null,{"$f":"IF(B2037=\"\",\"\",IF(ISERROR(VLOOKUP(B2037,database!$A$6:$BFQ$206,4,FALSE)),\"\",VLOOKUP(B2037,database!$A$6:$BFQ$206,4,FALSE)))","v":""},null,null,null,"",null,null,null,{"$f":"IF(B2037=\"\",\"\",IF(ISERROR(VLOOKUP(B2037,database!$A$6:$BFQ$206,3,FALSE)),\"\",VLOOKUP(B2037,database!$A$6:$BFQ$206,3,FALSE)))","v":""},null,null,null,null,null,null,""]
["",null,{"$f":"IF(B2040=\"\",\"\",IF(ISERROR(VLOOKUP(B2040,database!$A$6:$BFQ$206,4,FALSE)),\"\",VLOOKUP(B2040,database!$A$6:$BFQ$206,4,FALSE)))","v":""},null,null,null,"",null,null,null,{"$f":"IF(B2040=\"\",\"\",IF(ISERROR(VLOOKUP(B2040,database!$A$6:$BFQ$206,3,FALSE)),\"\",VLOOKUP(B2040,database!$A$6:$BFQ$206,3,FALSE)))","v":""},null,null,null,null,null,null,""]
["",null,{"$f":"IF(B2041=\"\",\"\",IF(ISERROR(VLOOKUP(B2041,database!$A$6:$BFQ$206,4,FALSE)),\"\",VLOOKUP(B2041,database!$A$6:$BFQ$206,4,FALSE)))","v":""},null,null,null,"",null,null,null,{"$f":"IF(B2041=\"\",\"\",IF(ISERROR(VLOOKUP(B2041,database!$A$6:$BFQ$206,3,FALSE)),\"\",VLOOKUP(B2041,database!$A$6:$BFQ$206,3,FALSE)))","v":""},null,null,null,null,null,null,""]
["",null,{"$f":"IF(B2043=\"\",\"\",IF(ISERROR(VLOOKUP(B2043,database!$A$6:$BFQ$206,4,FALSE)),\"\",VLOOKUP(B2043,database!$A$6:$BFQ$206,4,FALSE)))","v":""},null,null,null,"",null,null,null,{"$f":"IF(B2043=\"\",\"\",IF(ISERROR(VLOOKUP(B2043,database!$A$6:$BFQ$206,3,FALSE)),\"\",VLOOKUP(B2043,database!$A$6:$BFQ$206,3,FALSE)))","v":""},null,null,null,null,null,null,""]
["",null,{"$f":"IF(B2044=\"\",\"\",IF(ISERROR(VLOOKUP(B2044,database!$A$6:$BFQ$206,4,FALSE)),\"\",VLOOKUP(B2044,database!$A$6:$BFQ$206,4,FALSE)))","v":""},null,null,null,"",null,null,null,{"$f":"IF(B2044=\"\",\"\",IF(ISERROR(VLOOKUP(B2044,database!$A$6:$BFQ$206,3,FALSE)),\"\",VLOOKUP(B2044,database!$A$6:$BFQ$206,3,FALSE)))","v":""},null,null,null,null,null,null,""]
["",null,{"$f":"IF(B2047=\"\",\"\",IF(ISERROR(VLOOKUP(B2047,database!$A$6:$BFQ$206,4,FALSE)),\"\",VLOOKUP(B2047,database!$A$6:$BFQ$206,4,FALSE)))","v":""},null,null,null,"",null,null,null,{"$f":"IF(B2047=\"\",\"\",IF(ISERROR(VLOOKUP(B2047,database!$A$6:$BFQ$206,3,FALSE)),\"\",VLOOKUP(B2047,database!$A$6:$BFQ$206,3,FALSE)))","v":""},null,null,null,null,null,null,""]
["",null,{"$f":"IF(B2048=\"\",\"\",IF(ISERROR(VLOOKUP(B2048,database!$A$6:$BFQ$206,4,FALSE)),\"\",VLOOKUP(B2048,database!$A$6:$BFQ$206,4,FALSE)))","v":""},null,null,null,"",null,null,null,{"$f":"IF(B2048=\"\",\"\",IF(ISERROR(VLOOKUP(B2048,database!$A$6:$BFQ$206,3,FALSE)),\"\",VLOOKUP(B2048,database!$A$6:$BFQ$206,3,FALSE)))","v":""},null,null,null,null,null,null,""]
["",null,{"$f":"IF(B2050=\"\",\"\",IF(ISERROR(VLOOKUP(B2050,database!$A$6:$BFQ$206,4,FALSE)),\"\",VLOOKUP(B2050,database!$A$6:$BFQ$206,4,FALSE)))","v":""},null,null,null,"",null,null,null,{"$f":"IF(B2050=\"\",\"\",IF(ISERROR(VLOOKUP(B2050,database!$A$6:$BFQ$206,3,FALSE)),\"\",VLOOKUP(B2050,database!$A$6:$BFQ$206,3,FALSE)))","v":""},null,null,null,null,null,null,""]
["",null,{"$f":"IF(B2051=\"\",\"\",IF(ISERROR(VLOOKUP(B2051,database!$A$6:$BFQ$206,4,FALSE)),\"\",VLOOKUP(B2051,database!$A$6:$BFQ$206,4,FALSE)))","v":""},null,null,null,"",null,null,null,{"$f":"IF(B2051=\"\",\"\",IF(ISERROR(VLOOKUP(B2051,database!$A$6:$BFQ$206,3,FALSE)),\"\",VLOOKUP(B2051,database!$A$6:$BFQ$206,3,FALSE)))","v":""},null,null,null,null,null,null,""]
["",null,{"$f":"IF(B2054=\"\",\"\",IF(ISERROR(VLOOKUP(B2054,database!$A$6:$BFQ$206,4,FALSE)),\"\",VLOOKUP(B2054,database!$A$6:$BFQ$206,4,FALSE)))","v":""},null,null,null,"",null,null,null,{"$f":"IF(B2054=\"\",\"\",IF(ISERROR(VLOOKUP(B2054,database!$A$6:$BFQ$206,3,FALSE)),\"\",VLOOKUP(B2054,database!$A$6:$BFQ$206,3,FALSE)))","v":""},null,null,null,null,null,null,""]
["",null,{"$f":"IF(B2055=\"\",\"\",IF(ISERROR(VLOOKUP(B2055,database!$A$6:$BFQ$206,4,FALSE)),\"\",VLOOKUP(B2055,database!$A$6:$BFQ$206,4,FALSE)))","v":""},null,null,null,"",null,null,null,{"$f":"IF(B2055=\"\",\"\",IF(ISERROR(VLOOKUP(B2055,database!$A$6:$BFQ$206,3,FALSE)),\"\",VLOOKUP(B2055,database!$A$6:$BFQ$206,3,FALSE)))","v":""},null,null,null,null,null,null,""]
["",null,{"$f":"IF(B2058=\"\",\"\",IF(ISERROR(VLOOKUP(B2058,database!$A$6:$BFQ$206,4,FALSE)),\"\",VLOOKUP(B2058,database!$A$6:$BFQ$206,4,FALSE)))","v":""},null,null,null,"",null,null,null,{"$f":"IF(B2058=\"\",\"\",IF(ISERROR(VLOOKUP(B2058,database!$A$6:$BFQ$206,3,FALSE)),\"\",VLOOKUP(B2058,database!$A$6:$BFQ$206,3,FALSE)))","v":""},null,null,null,null,null,null,""]
["",null,{"$f":"IF(B2059=\"\",\"\",IF(ISERROR(VLOOKUP(B2059,database!$A$6:$BFQ$206,4,FALSE)),\"\",VLOOKUP(B2059,database!$A$6:$BFQ$206,4,FALSE)))","v":""},null,null,null,"",null,null,null,{"$f":"IF(B2059=\"\",\"\",IF(ISERROR(VLOOKUP(B2059,database!$A$6:$BFQ$206,3,FALSE)),\"\",VLOOKUP(B2059,database!$A$6:$BFQ$206,3,FALSE)))","v":""},null,null,null,null,null,null,""]
["",null,{"$f":"IF(B2061=\"\",\"\",IF(ISERROR(VLOOKUP(B2061,database!$A$6:$BFQ$206,4,FALSE)),\"\",VLOOKUP(B2061,database!$A$6:$BFQ$206,4,FALSE)))","v":""},null,null,null,"",null,null,null,{"$f":"IF(B2061=\"\",\"\",IF(ISERROR(VLOOKUP(B2061,database!$A$6:$BFQ$206,3,FALSE)),\"\",VLOOKUP(B2061,database!$A$6:$BFQ$206,3,FALSE)))","v":""},null,null,null,null,null,null,""]
["",null,{"$f":"IF(B2062=\"\",\"\",IF(ISERROR(VLOOKUP(B2062,database!$A$6:$BFQ$206,4,FALSE)),\"\",VLOOKUP(B2062,database!$A$6:$BFQ$206,4,FALSE)))","v":""},null,null,null,"",null,null,null,{"$f":"IF(B2062=\"\",\"\",IF(ISERROR(VLOOKUP(B2062,database!$A$6:$BFQ$206,3,FALSE)),\"\",VLOOKUP(B2062,database!$A$6:$BFQ$206,3,FALSE)))","v":""},null,null,null,null,null,null,""]
["",null,{"$f":"IF(B2065=\"\",\"\",IF(ISERROR(VLOOKUP(B2065,database!$A$6:$BFQ$206,4,FALSE)),\"\",VLOOKUP(B2065,database!$A$6:$BFQ$206,4,FALSE)))","v":""},null,null,null,"",null,null,null,{"$f":"IF(B2065=\"\",\"\",IF(ISERROR(VLOOKUP(B2065,database!$A$6:$BFQ$206,3,FALSE)),\"\",VLOOKUP(B2065,database!$A$6:$BFQ$206,3,FALSE)))","v":""},null,null,null,null,null,null,""]
["",null,{"$f":"IF(B2066=\"\",\"\",IF(ISERROR(VLOOKUP(B2066,database!$A$6:$BFQ$206,4,FALSE)),\"\",VLOOKUP(B2066,database!$A$6:$BFQ$206,4,FALSE)))","v":""},null,null,null,"",null,null,null,{"$f":"IF(B2066=\"\",\"\",IF(ISERROR(VLOOKUP(B2066,database!$A$6:$BFQ$206,3,FALSE)),\"\",VLOOKUP(B2066,database!$A$6:$BFQ$206,3,FALSE)))","v":""},null,null,null,null,null,null,""]
["",null,{"$f":"IF(B2068=\"\",\"\",IF(ISERROR(VLOOKUP(B2068,database!$A$6:$BFQ$206,4,FALSE)),\"\",VLOOKUP(B2068,database!$A$6:$BFQ$206,4,FALSE)))","v":""},null,null,null,"",null,null,null,{"$f":"IF(B2068=\"\",\"\",IF(ISERROR(VLOOKUP(B2068,database!$A$6:$BFQ$206,3,FALSE)),\"\",VLOOKUP(B2068,database!$A$6:$BFQ$206,3,FALSE)))","v":""},null,null,null,null,null,null,""]
["",null,{"$f":"IF(B2069=\"\",\"\",IF(ISERROR(VLOOKUP(B2069,database!$A$6:$BFQ$206,4,FALSE)),\"\",VLOOKUP(B2069,database!$A$6:$BFQ$206,4,FALSE)))","v":""},null,null,null,"",null,null,null,{"$f":"IF(B2069=\"\",\"\",IF(ISERROR(VLOOKUP(B2069,database!$A$6:$BFQ$206,3,FALSE)),\"\",VLOOKUP(B2069,database!$A$6:$BFQ$206,3,FALSE)))","v":""},null,null,null,null,null,null,""]
["",null,{"$f":"IF(B2072=\"\",\"\",IF(ISERROR(VLOOKUP(B2072,database!$A$6:$BFQ$206,4,FALSE)),\"\",VLOOKUP(B2072,database!$A$6:$BFQ$206,4,FALSE)))","v":""},null,null,null,"",null,null,null,{"$f":"IF(B2072=\"\",\"\",IF(ISERROR(VLOOKUP(B2072,database!$A$6:$BFQ$206,3,FALSE)),\"\",VLOOKUP(B2072,database!$A$6:$BFQ$206,3,FALSE)))","v":""},null,null,null,null,null,null,""]
["",null,{"$f":"IF(B2073=\"\",\"\",IF(ISERROR(VLOOKUP(B2073,database!$A$6:$BFQ$206,4,FALSE)),\"\",VLOOKUP(B2073,database!$A$6:$BFQ$206,4,FALSE)))","v":""},null,null,null,"",null,null,null,{"$f":"IF(B2073=\"\",\"\",IF(ISERROR(VLOOKUP(B2073,database!$A$6:$BFQ$206,3,FALSE)),\"\",VLOOKUP(B2073,database!$A$6:$BFQ$206,3,FALSE)))","v":""},null,null,null,null,null,null,""]
["",null,{"$f":"IF(B2075=\"\",\"\",IF(ISERROR(VLOOKUP(B2075,database!$A$6:$BFQ$206,4,FALSE)),\"\",VLOOKUP(B2075,database!$A$6:$BFQ$206,4,FALSE)))","v":""},null,null,null,"",null,null,null,{"$f":"IF(B2075=\"\",\"\",IF(ISERROR(VLOOKUP(B2075,database!$A$6:$BFQ$206,3,FALSE)),\"\",VLOOKUP(B2075,database!$A$6:$BFQ$206,3,FALSE)))","v":""},null,null,null,null,null,null,""]
["",null,{"$f":"IF(B2076=\"\",\"\",IF(ISERROR(VLOOKUP(B2076,database!$A$6:$BFQ$206,4,FALSE)),\"\",VLOOKUP(B2076,database!$A$6:$BFQ$206,4,FALSE)))","v":""},null,null,null,"",null,null,null,{"$f":"IF(B2076=\"\",\"\",IF(ISERROR(VLOOKUP(B2076,database!$A$6:$BFQ$206,3,FALSE)),\"\",VLOOKUP(B2076,database!$A$6:$BFQ$206,3,FALSE)))","v":""},null,null,null,null,null,null,""]
["",null,{"$f":"IF(B2079=\"\",\"\",IF(ISERROR(VLOOKUP(B2079,database!$A$6:$BFQ$206,4,FALSE)),\"\",VLOOKUP(B2079,database!$A$6:$BFQ$206,4,FALSE)))","v":""},null,null,null,"",null,null,null,{"$f":"IF(B2079=\"\",\"\",IF(ISERROR(VLOOKUP(B2079,database!$A$6:$BFQ$206,3,FALSE)),\"\",VLOOKUP(B2079,database!$A$6:$BFQ$206,3,FALSE)))","v":""},null,null,null,null,null,null,""]
["",null,{"$f":"IF(B2080=\"\",\"\",IF(ISERROR(VLOOKUP(B2080,database!$A$6:$BFQ$206,4,FALSE)),\"\",VLOOKUP(B2080,database!$A$6:$BFQ$206,4,FALSE)))","v":""},null,null,null,"",null,null,null,{"$f":"IF(B2080=\"\",\"\",IF(ISERROR(VLOOKUP(B2080,database!$A$6:$BFQ$206,3,FALSE)),\"\",VLOOKUP(B2080,database!$A$6:$BFQ$206,3,FALSE)))","v":""},null,null,null,null,null,null,""]
["",null,{"$f":"IF(B2082=\"\",\"\",IF(ISERROR(VLOOKUP(B2082,database!$A$6:$BFQ$206,4,FALSE)),\"\",VLOOKUP(B2082,database!$A$6:$BFQ$206,4,FALSE)))","v":""},null,null,null,"",null,null,null,{"$f":"IF(B2082=\"\",\"\",IF(ISERROR(VLOOKUP(B2082,database!$A$6:$BFQ$206,3,FALSE)),\"\",VLOOKUP(B2082,database!$A$6:$BFQ$206,3,FALSE)))","v":""},null,null,null,null,null,null,""]
["",null,{"$f":"IF(B2083=\"\",\"\",IF(ISERROR(VLOOKUP(B2083,database!$A$6:$BFQ$206,4,FALSE)),\"\",VLOOKUP(B2083,database!$A$6:$BFQ$206,4,FALSE)))","v":""},null,null,null,"",null,null,null,{"$f":"IF(B2083=\"\",\"\",IF(ISERROR(VLOOKUP(B2083,database!$A$6:$BFQ$206,3,FALSE)),\"\",VLOOKUP(B2083,database!$A$6:$BFQ$206,3,FALSE)))","v":""},null,null,null,null,null,null,""]
["",null,{"$f":"IF(B2086=\"\",\"\",IF(ISERROR(VLOOKUP(B2086,database!$A$6:$BFQ$206,4,FALSE)),\"\",VLOOKUP(B2086,database!$A$6:$BFQ$206,4,FALSE)))","v":""},null,null,null,"",null,null,null,{"$f":"IF(B2086=\"\",\"\",IF(ISERROR(VLOOKUP(B2086,database!$A$6:$BFQ$206,3,FALSE)),\"\",VLOOKUP(B2086,database!$A$6:$BFQ$206,3,FALSE)))","v":""},null,null,null,null,null,null,""]
["",null,{"$f":"IF(B2087=\"\",\"\",IF(ISERROR(VLOOKUP(B2087,database!$A$6:$BFQ$206,4,FALSE)),\"\",VLOOKUP(B2087,database!$A$6:$BFQ$206,4,FALSE)))","v":""},null,null,null,"",null,null,null,{"$f":"IF(B2087=\"\",\"\",IF(ISERROR(VLOOKUP(B2087,database!$A$6:$BFQ$206,3,FALSE)),\"\",VLOOKUP(B2087,database!$A$6:$BFQ$206,3,FALSE)))","v":""},null,null,null,null,null,null,""]
["",null,{"$f":"IF(B2089=\"\",\"\",IF(ISERROR(VLOOKUP(B2089,database!$A$6:$BFQ$206,4,FALSE)),\"\",VLOOKUP(B2089,database!$A$6:$BFQ$206,4,FALSE)))","v":""},null,null,null,"",null,null,null,{"$f":"IF(B2089=\"\",\"\",IF(ISERROR(VLOOKUP(B2089,database!$A$6:$BFQ$206,3,FALSE)),\"\",VLOOKUP(B2089,database!$A$6:$BFQ$206,3,FALSE)))","v":""},null,null,null,null,null,null,""]
["",null,{"$f":"IF(B2090=\"\",\"\",IF(ISERROR(VLOOKUP(B2090,database!$A$6:$BFQ$206,4,FALSE)),\"\",VLOOKUP(B2090,database!$A$6:$BFQ$206,4,FALSE)))","v":""},null,null,null,"",null,null,null,{"$f":"IF(B2090=\"\",\"\",IF(ISERROR(VLOOKUP(B2090,database!$A$6:$BFQ$206,3,FALSE)),\"\",VLOOKUP(B2090,database!$A$6:$BFQ$206,3,FALSE)))","v":""},null,null,null,null,null,null,""]
["",null,{"$f":"IF(B2093=\"\",\"\",IF(ISERROR(VLOOKUP(B2093,database!$A$6:$BFQ$206,4,FALSE)),\"\",VLOOKUP(B2093,database!$A$6:$BFQ$206,4,FALSE)))","v":""},null,null,null,"",null,null,null,{"$f":"IF(B2093=\"\",\"\",IF(ISERROR(VLOOKUP(B2093,database!$A$6:$BFQ$206,3,FALSE)),\"\",VLOOKUP(B2093,database!$A$6:$BFQ$206,3,FALSE)))","v":""},null,null,null,null,null,null,""]
["",null,{"$f":"IF(B2094=\"\",\"\",IF(ISERROR(VLOOKUP(B2094,database!$A$6:$BFQ$206,4,FALSE)),\"\",VLOOKUP(B2094,database!$A$6:$BFQ$206,4,FALSE)))","v":""},null,null,null,"",null,null,null,{"$f":"IF(B2094=\"\",\"\",IF(ISERROR(VLOOKUP(B2094,database!$A$6:$BFQ$206,3,FALSE)),\"\",VLOOKUP(B2094,database!$A$6:$BFQ$206,3,FALSE)))","v":""},null,null,null,null,null,null,""]
["",null,{"$f":"IF(B2096=\"\",\"\",IF(ISERROR(VLOOKUP(B2096,database!$A$6:$BFQ$206,4,FALSE)),\"\",VLOOKUP(B2096,database!$A$6:$BFQ$206,4,FALSE)))","v":""},null,null,null,"",null,null,null,{"$f":"IF(B2096=\"\",\"\",IF(ISERROR(VLOOKUP(B2096,database!$A$6:$BFQ$206,3,FALSE)),\"\",VLOOKUP(B2096,database!$A$6:$BFQ$206,3,FALSE)))","v":""},null,null,null,null,null,null,""]
["",null,{"$f":"IF(B2097=\"\",\"\",IF(ISERROR(VLOOKUP(B2097,database!$A$6:$BFQ$206,4,FALSE)),\"\",VLOOKUP(B2097,database!$A$6:$BFQ$206,4,FALSE)))","v":""},null,null,null,"",null,null,null,{"$f":"IF(B2097=\"\",\"\",IF(ISERROR(VLOOKUP(B2097,database!$A$6:$BFQ$206,3,FALSE)),\"\",VLOOKUP(B2097,database!$A$6:$BFQ$206,3,FALSE)))","v":""},null,null,null,null,null,null,""]
["",null,{"$f":"IF(B2100=\"\",\"\",IF(ISERROR(VLOOKUP(B2100,database!$A$6:$BFQ$206,4,FALSE)),\"\",VLOOKUP(B2100,database!$A$6:$BFQ$206,4,FALSE)))","v":""},null,null,null,"",null,null,null,{"$f":"IF(B2100=\"\",\"\",IF(ISERROR(VLOOKUP(B2100,database!$A$6:$BFQ$206,3,FALSE)),\"\",VLOOKUP(B2100,database!$A$6:$BFQ$206,3,FALSE)))","v":""},null,null,null,null,null,null,""]
["",null,{"$f":"IF(B2101=\"\",\"\",IF(ISERROR(VLOOKUP(B2101,database!$A$6:$BFQ$206,4,FALSE)),\"\",VLOOKUP(B2101,database!$A$6:$BFQ$206,4,FALSE)))","v":""},null,null,null,"",null,null,null,{"$f":"IF(B2101=\"\",\"\",IF(ISERROR(VLOOKUP(B2101,database!$A$6:$BFQ$206,3,FALSE)),\"\",VLOOKUP(B2101,database!$A$6:$BFQ$206,3,FALSE)))","v":""},null,null,null,null,null,null,""]
["",null,{"$f":"IF(B2103=\"\",\"\",IF(ISERROR(VLOOKUP(B2103,database!$A$6:$BFQ$206,4,FALSE)),\"\",VLOOKUP(B2103,database!$A$6:$BFQ$206,4,FALSE)))","v":""},null,null,null,"",null,null,null,{"$f":"IF(B2103=\"\",\"\",IF(ISERROR(VLOOKUP(B2103,database!$A$6:$BFQ$206,3,FALSE)),\"\",VLOOKUP(B2103,database!$A$6:$BFQ$206,3,FALSE)))","v":""},null,null,null,null,null,null,""]
["",null,{"$f":"IF(B2104=\"\",\"\",IF(ISERROR(VLOOKUP(B2104,database!$A$6:$BFQ$206,4,FALSE)),\"\",VLOOKUP(B2104,database!$A$6:$BFQ$206,4,FALSE)))","v":""},null,null,null,"",null,null,null,{"$f":"IF(B2104=\"\",\"\",IF(ISERROR(VLOOKUP(B2104,database!$A$6:$BFQ$206,3,FALSE)),\"\",VLOOKUP(B2104,database!$A$6:$BFQ$206,3,FALSE)))","v":""},null,null,null,null,null,null,""]
["",null,{"$f":"IF(B2107=\"\",\"\",IF(ISERROR(VLOOKUP(B2107,database!$A$6:$BFQ$206,4,FALSE)),\"\",VLOOKUP(B2107,database!$A$6:$BFQ$206,4,FALSE)))","v":""},null,null,null,"",null,null,null,{"$f":"IF(B2107=\"\",\"\",IF(ISERROR(VLOOKUP(B2107,database!$A$6:$BFQ$206,3,FALSE)),\"\",VLOOKUP(B2107,database!$A$6:$BFQ$206,3,FALSE)))","v":""},null,null,null,null,null,null,""]
["",null,{"$f":"IF(B2108=\"\",\"\",IF(ISERROR(VLOOKUP(B2108,database!$A$6:$BFQ$206,4,FALSE)),\"\",VLOOKUP(B2108,database!$A$6:$BFQ$206,4,FALSE)))","v":""},null,null,null,"",null,null,null,{"$f":"IF(B2108=\"\",\"\",IF(ISERROR(VLOOKUP(B2108,database!$A$6:$BFQ$206,3,FALSE)),\"\",VLOOKUP(B2108,database!$A$6:$BFQ$206,3,FALSE)))","v":""},null,null,null,null,null,null,""]
["",null,{"$f":"IF(B2110=\"\",\"\",IF(ISERROR(VLOOKUP(B2110,database!$A$6:$BFQ$206,4,FALSE)),\"\",VLOOKUP(B2110,database!$A$6:$BFQ$206,4,FALSE)))","v":""},null,null,null,"",null,null,null,{"$f":"IF(B2110=\"\",\"\",IF(ISERROR(VLOOKUP(B2110,database!$A$6:$BFQ$206,3,FALSE)),\"\",VLOOKUP(B2110,database!$A$6:$BFQ$206,3,FALSE)))","v":""},null,null,null,null,null,null,""]
["",null,{"$f":"IF(B2111=\"\",\"\",IF(ISERROR(VLOOKUP(B2111,database!$A$6:$BFQ$206,4,FALSE)),\"\",VLOOKUP(B2111,database!$A$6:$BFQ$206,4,FALSE)))","v":""},null,null,null,"",null,null,null,{"$f":"IF(B2111=\"\",\"\",IF(ISERROR(VLOOKUP(B2111,database!$A$6:$BFQ$206,3,FALSE)),\"\",VLOOKUP(B2111,database!$A$6:$BFQ$206,3,FALSE)))","v":""},null,null,null,null,null,null,""]
["",null,{"$f":"IF(B2114=\"\",\"\",IF(ISERROR(VLOOKUP(B2114,database!$A$6:$BFQ$206,4,FALSE)),\"\",VLOOKUP(B2114,database!$A$6:$BFQ$206,4,FALSE)))","v":""},null,null,null,"",null,null,null,{"$f":"IF(B2114=\"\",\"\",IF(ISERROR(VLOOKUP(B2114,database!$A$6:$BFQ$206,3,FALSE)),\"\",VLOOKUP(B2114,database!$A$6:$BFQ$206,3,FALSE)))","v":""},null,null,null,null,null,null,""]
["",null,{"$f":"IF(B2115=\"\",\"\",IF(ISERROR(VLOOKUP(B2115,database!$A$6:$BFQ$206,4,FALSE)),\"\",VLOOKUP(B2115,database!$A$6:$BFQ$206,4,FALSE)))","v":""},null,null,null,"",null,null,null,{"$f":"IF(B2115=\"\",\"\",IF(ISERROR(VLOOKUP(B2115,database!$A$6:$BFQ$206,3,FALSE)),\"\",VLOOKUP(B2115,database!$A$6:$BFQ$206,3,FALSE)))","v":""},null,null,null,null,null,null,""]
["",null,{"$f":"IF(B2117=\"\",\"\",IF(ISERROR(VLOOKUP(B2117,database!$A$6:$BFQ$206,4,FALSE)),\"\",VLOOKUP(B2117,database!$A$6:$BFQ$206,4,FALSE)))","v":""},null,null,null,"",null,null,null,{"$f":"IF(B2117=\"\",\"\",IF(ISERROR(VLOOKUP(B2117,database!$A$6:$BFQ$206,3,FALSE)),\"\",VLOOKUP(B2117,database!$A$6:$BFQ$206,3,FALSE)))","v":""},null,null,null,null,null,null,""]
["",null,{"$f":"IF(B2118=\"\",\"\",IF(ISERROR(VLOOKUP(B2118,database!$A$6:$BFQ$206,4,FALSE)),\"\",VLOOKUP(B2118,database!$A$6:$BFQ$206,4,FALSE)))","v":""},null,null,null,"",null,null,null,{"$f":"IF(B2118=\"\",\"\",IF(ISERROR(VLOOKUP(B2118,database!$A$6:$BFQ$206,3,FALSE)),\"\",VLOOKUP(B2118,database!$A$6:$BFQ$206,3,FALSE)))","v":""},null,null,null,null,null,null,""]
["",null,{"$f":"IF(B2121=\"\",\"\",IF(ISERROR(VLOOKUP(B2121,database!$A$6:$BFQ$206,4,FALSE)),\"\",VLOOKUP(B2121,database!$A$6:$BFQ$206,4,FALSE)))","v":""},null,null,null,"",null,null,null,{"$f":"IF(B2121=\"\",\"\",IF(ISERROR(VLOOKUP(B2121,database!$A$6:$BFQ$206,3,FALSE)),\"\",VLOOKUP(B2121,database!$A$6:$BFQ$206,3,FALSE)))","v":""},null,null,null,null,null,null,""]
["",null,{"$f":"IF(B2122=\"\",\"\",IF(ISERROR(VLOOKUP(B2122,database!$A$6:$BFQ$206,4,FALSE)),\"\",VLOOKUP(B2122,database!$A$6:$BFQ$206,4,FALSE)))","v":""},null,null,null,"",null,null,null,{"$f":"IF(B2122=\"\",\"\",IF(ISERROR(VLOOKUP(B2122,database!$A$6:$BFQ$206,3,FALSE)),\"\",VLOOKUP(B2122,database!$A$6:$BFQ$206,3,FALSE)))","v":""},null,null,null,null,null,null,""]
["",null,{"$f":"IF(B2124=\"\",\"\",IF(ISERROR(VLOOKUP(B2124,database!$A$6:$BFQ$206,4,FALSE)),\"\",VLOOKUP(B2124,database!$A$6:$BFQ$206,4,FALSE)))","v":""},null,null,null,"",null,null,null,{"$f":"IF(B2124=\"\",\"\",IF(ISERROR(VLOOKUP(B2124,database!$A$6:$BFQ$206,3,FALSE)),\"\",VLOOKUP(B2124,database!$A$6:$BFQ$206,3,FALSE)))","v":""},null,null,null,null,null,null,""]
["",null,{"$f":"IF(B2125=\"\",\"\",IF(ISERROR(VLOOKUP(B2125,database!$A$6:$BFQ$206,4,FALSE)),\"\",VLOOKUP(B2125,database!$A$6:$BFQ$206,4,FALSE)))","v":""},null,null,null,"",null,null,null,{"$f":"IF(B2125=\"\",\"\",IF(ISERROR(VLOOKUP(B2125,database!$A$6:$BFQ$206,3,FALSE)),\"\",VLOOKUP(B2125,database!$A$6:$BFQ$206,3,FALSE)))","v":""},null,null,null,null,null,null,""]
["",null,{"$f":"IF(B2128=\"\",\"\",IF(ISERROR(VLOOKUP(B2128,database!$A$6:$BFQ$206,4,FALSE)),\"\",VLOOKUP(B2128,database!$A$6:$BFQ$206,4,FALSE)))","v":""},null,null,null,"",null,null,null,{"$f":"IF(B2128=\"\",\"\",IF(ISERROR(VLOOKUP(B2128,database!$A$6:$BFQ$206,3,FALSE)),\"\",VLOOKUP(B2128,database!$A$6:$BFQ$206,3,FALSE)))","v":""},null,null,null,null,null,null,""]
["",null,{"$f":"IF(B2129=\"\",\"\",IF(ISERROR(VLOOKUP(B2129,database!$A$6:$BFQ$206,4,FALSE)),\"\",VLOOKUP(B2129,database!$A$6:$BFQ$206,4,FALSE)))","v":""},null,null,null,"",null,null,null,{"$f":"IF(B2129=\"\",\"\",IF(ISERROR(VLOOKUP(B2129,database!$A$6:$BFQ$206,3,FALSE)),\"\",VLOOKUP(B2129,database!$A$6:$BFQ$206,3,FALSE)))","v":""},null,null,null,null,null,null,""]
["",null,{"$f":"IF(B2131=\"\",\"\",IF(ISERROR(VLOOKUP(B2131,database!$A$6:$BFQ$206,4,FALSE)),\"\",VLOOKUP(B2131,database!$A$6:$BFQ$206,4,FALSE)))","v":""},null,null,null,"",null,null,null,{"$f":"IF(B2131=\"\",\"\",IF(ISERROR(VLOOKUP(B2131,database!$A$6:$BFQ$206,3,FALSE)),\"\",VLOOKUP(B2131,database!$A$6:$BFQ$206,3,FALSE)))","v":""},null,null,null,null,null,null,""]
["",null,{"$f":"IF(B2132=\"\",\"\",IF(ISERROR(VLOOKUP(B2132,database!$A$6:$BFQ$206,4,FALSE)),\"\",VLOOKUP(B2132,database!$A$6:$BFQ$206,4,FALSE)))","v":""},null,null,null,"",null,null,null,{"$f":"IF(B2132=\"\",\"\",IF(ISERROR(VLOOKUP(B2132,database!$A$6:$BFQ$206,3,FALSE)),\"\",VLOOKUP(B2132,database!$A$6:$BFQ$206,3,FALSE)))","v":""},null,null,null,null,null,null,""]
["",null,{"$f":"IF(B2135=\"\",\"\",IF(ISERROR(VLOOKUP(B2135,database!$A$6:$BFQ$206,4,FALSE)),\"\",VLOOKUP(B2135,database!$A$6:$BFQ$206,4,FALSE)))","v":""},null,null,null,"",null,null,null,{"$f":"IF(B2135=\"\",\"\",IF(ISERROR(VLOOKUP(B2135,database!$A$6:$BFQ$206,3,FALSE)),\"\",VLOOKUP(B2135,database!$A$6:$BFQ$206,3,FALSE)))","v":""},null,null,null,null,null,null,""]
["",null,{"$f":"IF(B2136=\"\",\"\",IF(ISERROR(VLOOKUP(B2136,database!$A$6:$BFQ$206,4,FALSE)),\"\",VLOOKUP(B2136,database!$A$6:$BFQ$206,4,FALSE)))","v":""},null,null,null,"",null,null,null,{"$f":"IF(B2136=\"\",\"\",IF(ISERROR(VLOOKUP(B2136,database!$A$6:$BFQ$206,3,FALSE)),\"\",VLOOKUP(B2136,database!$A$6:$BFQ$206,3,FALSE)))","v":""},null,null,null,null,null,null,""]
["",null,{"$f":"IF(B2138=\"\",\"\",IF(ISERROR(VLOOKUP(B2138,database!$A$6:$BFQ$206,4,FALSE)),\"\",VLOOKUP(B2138,database!$A$6:$BFQ$206,4,FALSE)))","v":""},null,null,null,"",null,null,null,{"$f":"IF(B2138=\"\",\"\",IF(ISERROR(VLOOKUP(B2138,database!$A$6:$BFQ$206,3,FALSE)),\"\",VLOOKUP(B2138,database!$A$6:$BFQ$206,3,FALSE)))","v":""},null,null,null,null,null,null,""]
["",null,{"$f":"IF(B2139=\"\",\"\",IF(ISERROR(VLOOKUP(B2139,database!$A$6:$BFQ$206,4,FALSE)),\"\",VLOOKUP(B2139,database!$A$6:$BFQ$206,4,FALSE)))","v":""},null,null,null,"",null,null,null,{"$f":"IF(B2139=\"\",\"\",IF(ISERROR(VLOOKUP(B2139,database!$A$6:$BFQ$206,3,FALSE)),\"\",VLOOKUP(B2139,database!$A$6:$BFQ$206,3,FALSE)))","v":""},null,null,null,null,null,null,""]
["",null,{"$f":"IF(B2142=\"\",\"\",IF(ISERROR(VLOOKUP(B2142,database!$A$6:$BFQ$206,4,FALSE)),\"\",VLOOKUP(B2142,database!$A$6:$BFQ$206,4,FALSE)))","v":""},null,null,null,"",null,null,null,{"$f":"IF(B2142=\"\",\"\",IF(ISERROR(VLOOKUP(B2142,database!$A$6:$BFQ$206,3,FALSE)),\"\",VLOOKUP(B2142,database!$A$6:$BFQ$206,3,FALSE)))","v":""},null,null,null,null,null,null,""]
["",null,{"$f":"IF(B2143=\"\",\"\",IF(ISERROR(VLOOKUP(B2143,database!$A$6:$BFQ$206,4,FALSE)),\"\",VLOOKUP(B2143,database!$A$6:$BFQ$206,4,FALSE)))","v":""},null,null,null,"",null,null,null,{"$f":"IF(B2143=\"\",\"\",IF(ISERROR(VLOOKUP(B2143,database!$A$6:$BFQ$206,3,FALSE)),\"\",VLOOKUP(B2143,database!$A$6:$BFQ$206,3,FALSE)))","v":""},null,null,null,null,null,null,""]
["",null,{"$f":"IF(B2145=\"\",\"\",IF(ISERROR(VLOOKUP(B2145,database!$A$6:$BFQ$206,4,FALSE)),\"\",VLOOKUP(B2145,database!$A$6:$BFQ$206,4,FALSE)))","v":""},null,null,null,"",null,null,null,{"$f":"IF(B2145=\"\",\"\",IF(ISERROR(VLOOKUP(B2145,database!$A$6:$BFQ$206,3,FALSE)),\"\",VLOOKUP(B2145,database!$A$6:$BFQ$206,3,FALSE)))","v":""},null,null,null,null,null,null,""]
["",null,{"$f":"IF(B2146=\"\",\"\",IF(ISERROR(VLOOKUP(B2146,database!$A$6:$BFQ$206,4,FALSE)),\"\",VLOOKUP(B2146,database!$A$6:$BFQ$206,4,FALSE)))","v":""},null,null,null,"",null,null,null,{"$f":"IF(B2146=\"\",\"\",IF(ISERROR(VLOOKUP(B2146,database!$A$6:$BFQ$206,3,FALSE)),\"\",VLOOKUP(B2146,database!$A$6:$BFQ$206,3,FALSE)))","v":""},null,null,null,null,null,null,""]
["",null,{"$f":"IF(B2149=\"\",\"\",IF(ISERROR(VLOOKUP(B2149,database!$A$6:$BFQ$206,4,FALSE)),\"\",VLOOKUP(B2149,database!$A$6:$BFQ$206,4,FALSE)))","v":""},null,null,null,"",null,null,null,{"$f":"IF(B2149=\"\",\"\",IF(ISERROR(VLOOKUP(B2149,database!$A$6:$BFQ$206,3,FALSE)),\"\",VLOOKUP(B2149,database!$A$6:$BFQ$206,3,FALSE)))","v":""},null,null,null,null,null,null,""]
["",null,{"$f":"IF(B2150=\"\",\"\",IF(ISERROR(VLOOKUP(B2150,database!$A$6:$BFQ$206,4,FALSE)),\"\",VLOOKUP(B2150,database!$A$6:$BFQ$206,4,FALSE)))","v":""},null,null,null,"",null,null,null,{"$f":"IF(B2150=\"\",\"\",IF(ISERROR(VLOOKUP(B2150,database!$A$6:$BFQ$206,3,FALSE)),\"\",VLOOKUP(B2150,database!$A$6:$BFQ$206,3,FALSE)))","v":""},null,null,null,null,null,null,""]
["",null,{"$f":"IF(B2152=\"\",\"\",IF(ISERROR(VLOOKUP(B2152,database!$A$6:$BFQ$206,4,FALSE)),\"\",VLOOKUP(B2152,database!$A$6:$BFQ$206,4,FALSE)))","v":""},null,null,null,"",null,null,null,{"$f":"IF(B2152=\"\",\"\",IF(ISERROR(VLOOKUP(B2152,database!$A$6:$BFQ$206,3,FALSE)),\"\",VLOOKUP(B2152,database!$A$6:$BFQ$206,3,FALSE)))","v":""},null,null,null,null,null,null,""]
["",null,{"$f":"IF(B2153=\"\",\"\",IF(ISERROR(VLOOKUP(B2153,database!$A$6:$BFQ$206,4,FALSE)),\"\",VLOOKUP(B2153,database!$A$6:$BFQ$206,4,FALSE)))","v":""},null,null,null,"",null,null,null,{"$f":"IF(B2153=\"\",\"\",IF(ISERROR(VLOOKUP(B2153,database!$A$6:$BFQ$206,3,FALSE)),\"\",VLOOKUP(B2153,database!$A$6:$BFQ$206,3,FALSE)))","v":""},null,null,null,null,null,null,""]
["",null,{"$f":"IF(B2156=\"\",\"\",IF(ISERROR(VLOOKUP(B2156,database!$A$6:$BFQ$206,4,FALSE)),\"\",VLOOKUP(B2156,database!$A$6:$BFQ$206,4,FALSE)))","v":""},null,null,null,"",null,null,null,{"$f":"IF(B2156=\"\",\"\",IF(ISERROR(VLOOKUP(B2156,database!$A$6:$BFQ$206,3,FALSE)),\"\",VLOOKUP(B2156,database!$A$6:$BFQ$206,3,FALSE)))","v":""},null,null,null,null,null,null,""]
["",null,{"$f":"IF(B2157=\"\",\"\",IF(ISERROR(VLOOKUP(B2157,database!$A$6:$BFQ$206,4,FALSE)),\"\",VLOOKUP(B2157,database!$A$6:$BFQ$206,4,FALSE)))","v":""},null,null,null,"",null,null,null,{"$f":"IF(B2157=\"\",\"\",IF(ISERROR(VLOOKUP(B2157,database!$A$6:$BFQ$206,3,FALSE)),\"\",VLOOKUP(B2157,database!$A$6:$BFQ$206,3,FALSE)))","v":""},null,null,null,null,null,null,""]
["",null,{"$f":"IF(B2159=\"\",\"\",IF(ISERROR(VLOOKUP(B2159,database!$A$6:$BFQ$206,4,FALSE)),\"\",VLOOKUP(B2159,database!$A$6:$BFQ$206,4,FALSE)))","v":""},null,null,null,"",null,null,null,{"$f":"IF(B2159=\"\",\"\",IF(ISERROR(VLOOKUP(B2159,database!$A$6:$BFQ$206,3,FALSE)),\"\",VLOOKUP(B2159,database!$A$6:$BFQ$206,3,FALSE)))","v":""},null,null,null,null,null,null,""]
["",null,{"$f":"IF(B2160=\"\",\"\",IF(ISERROR(VLOOKUP(B2160,database!$A$6:$BFQ$206,4,FALSE)),\"\",VLOOKUP(B2160,database!$A$6:$BFQ$206,4,FALSE)))","v":""},null,null,null,"",null,null,null,{"$f":"IF(B2160=\"\",\"\",IF(ISERROR(VLOOKUP(B2160,database!$A$6:$BFQ$206,3,FALSE)),\"\",VLOOKUP(B2160,database!$A$6:$BFQ$206,3,FALSE)))","v":""},null,null,null,null,null,null,""]
["",null,{"$f":"IF(B2163=\"\",\"\",IF(ISERROR(VLOOKUP(B2163,database!$A$6:$BFQ$206,4,FALSE)),\"\",VLOOKUP(B2163,database!$A$6:$BFQ$206,4,FALSE)))","v":""},null,null,null,"",null,null,null,{"$f":"IF(B2163=\"\",\"\",IF(ISERROR(VLOOKUP(B2163,database!$A$6:$BFQ$206,3,FALSE)),\"\",VLOOKUP(B2163,database!$A$6:$BFQ$206,3,FALSE)))","v":""},null,null,null,null,null,null,""]
["",null,{"$f":"IF(B2164=\"\",\"\",IF(ISERROR(VLOOKUP(B2164,database!$A$6:$BFQ$206,4,FALSE)),\"\",VLOOKUP(B2164,database!$A$6:$BFQ$206,4,FALSE)))","v":""},null,null,null,"",null,null,null,{"$f":"IF(B2164=\"\",\"\",IF(ISERROR(VLOOKUP(B2164,database!$A$6:$BFQ$206,3,FALSE)),\"\",VLOOKUP(B2164,database!$A$6:$BFQ$206,3,FALSE)))","v":""},null,null,null,null,null,null,""]
["",null,{"$f":"IF(B2167=\"\",\"\",IF(ISERROR(VLOOKUP(B2167,database!$A$6:$BFQ$206,4,FALSE)),\"\",VLOOKUP(B2167,database!$A$6:$BFQ$206,4,FALSE)))","v":""},null,null,null,"",null,null,null,{"$f":"IF(B2167=\"\",\"\",IF(ISERROR(VLOOKUP(B2167,database!$A$6:$BFQ$206,3,FALSE)),\"\",VLOOKUP(B2167,database!$A$6:$BFQ$206,3,FALSE)))","v":""},null,null,null,null,null,null,""]
["",null,{"$f":"IF(B2168=\"\",\"\",IF(ISERROR(VLOOKUP(B2168,database!$A$6:$BFQ$206,4,FALSE)),\"\",VLOOKUP(B2168,database!$A$6:$BFQ$206,4,FALSE)))","v":""},null,null,null,"",null,null,null,{"$f":"IF(B2168=\"\",\"\",IF(ISERROR(VLOOKUP(B2168,database!$A$6:$BFQ$206,3,FALSE)),\"\",VLOOKUP(B2168,database!$A$6:$BFQ$206,3,FALSE)))","v":""},null,null,null,null,null,null,""]
["",null,{"$f":"IF(B2170=\"\",\"\",IF(ISERROR(VLOOKUP(B2170,database!$A$6:$BFQ$206,4,FALSE)),\"\",VLOOKUP(B2170,database!$A$6:$BFQ$206,4,FALSE)))","v":""},null,null,null,"",null,null,null,{"$f":"IF(B2170=\"\",\"\",IF(ISERROR(VLOOKUP(B2170,database!$A$6:$BFQ$206,3,FALSE)),\"\",VLOOKUP(B2170,database!$A$6:$BFQ$206,3,FALSE)))","v":""},null,null,null,null,null,null,""]
["",null,{"$f":"IF(B2171=\"\",\"\",IF(ISERROR(VLOOKUP(B2171,database!$A$6:$BFQ$206,4,FALSE)),\"\",VLOOKUP(B2171,database!$A$6:$BFQ$206,4,FALSE)))","v":""},null,null,null,"",null,null,null,{"$f":"IF(B2171=\"\",\"\",IF(ISERROR(VLOOKUP(B2171,database!$A$6:$BFQ$206,3,FALSE)),\"\",VLOOKUP(B2171,database!$A$6:$BFQ$206,3,FALSE)))","v":""},null,null,null,null,null,null,""]
["",null,{"$f":"IF(B2174=\"\",\"\",IF(ISERROR(VLOOKUP(B2174,database!$A$6:$BFQ$206,4,FALSE)),\"\",VLOOKUP(B2174,database!$A$6:$BFQ$206,4,FALSE)))","v":""},null,null,null,"",null,null,null,{"$f":"IF(B2174=\"\",\"\",IF(ISERROR(VLOOKUP(B2174,database!$A$6:$BFQ$206,3,FALSE)),\"\",VLOOKUP(B2174,database!$A$6:$BFQ$206,3,FALSE)))","v":""},null,null,null,null,null,null,""]
["",null,{"$f":"IF(B2175=\"\",\"\",IF(ISERROR(VLOOKUP(B2175,database!$A$6:$BFQ$206,4,FALSE)),\"\",VLOOKUP(B2175,database!$A$6:$BFQ$206,4,FALSE)))","v":""},null,null,null,"",null,null,null,{"$f":"IF(B2175=\"\",\"\",IF(ISERROR(VLOOKUP(B2175,database!$A$6:$BFQ$206,3,FALSE)),\"\",VLOOKUP(B2175,database!$A$6:$BFQ$206,3,FALSE)))","v":""},null,null,null,null,null,null,""]
[{"$f":"IF(B2177=\"\",\"\",ROW(A2174))","v":""},null,{"$f":"IF(B2177=\"\",\"\",IF(ISERROR(VLOOKUP(B2177,database!$A$6:$BFQ$206,4,FALSE)),\"\",VLOOKUP(B2177,database!$A$6:$BFQ$206,4,FALSE)))","v":""},null,null,null,{"$f":"IF(B2177=\"\",\"\",IF(C2177=\"\",0,1))","v":""},null,null,null,{"$f":"IF(B2177=\"\",\"\",IF(ISERROR(VLOOKUP(B2177,database!$A$6:$BFQ$206,3,FALSE)),\"\",VLOOKUP(B2177,database!$A$6:$BFQ$206,3,FALSE)))","v":""},null,null,null,null,null,null,{"$f":"LEFT(C2177,2)","v":""}]
["",null,{"$f":"IF(B2178=\"\",\"\",IF(ISERROR(VLOOKUP(B2178,database!$A$6:$BFQ$206,4,FALSE)),\"\",VLOOKUP(B2178,database!$A$6:$BFQ$206,4,FALSE)))","v":""},null,null,null,"",null,null,null,{"$f":"IF(B2178=\"\",\"\",IF(ISERROR(VLOOKUP(B2178,database!$A$6:$BFQ$206,3,FALSE)),\"\",VLOOKUP(B2178,database!$A$6:$BFQ$206,3,FALSE)))","v":""},null,null,null,null,null,null,""]
["",null,{"$f":"IF(B2181=\"\",\"\",IF(ISERROR(VLOOKUP(B2181,database!$A$6:$BFQ$206,4,FALSE)),\"\",VLOOKUP(B2181,database!$A$6:$BFQ$206,4,FALSE)))","v":""},null,null,null,"",null,null,null,{"$f":"IF(B2181=\"\",\"\",IF(ISERROR(VLOOKUP(B2181,database!$A$6:$BFQ$206,3,FALSE)),\"\",VLOOKUP(B2181,database!$A$6:$BFQ$206,3,FALSE)))","v":""},null,null,null,null,null,null,""]
["",null,{"$f":"IF(B2182=\"\",\"\",IF(ISERROR(VLOOKUP(B2182,database!$A$6:$BFQ$206,4,FALSE)),\"\",VLOOKUP(B2182,database!$A$6:$BFQ$206,4,FALSE)))","v":""},null,null,null,"",null,null,null,{"$f":"IF(B2182=\"\",\"\",IF(ISERROR(VLOOKUP(B2182,database!$A$6:$BFQ$206,3,FALSE)),\"\",VLOOKUP(B2182,database!$A$6:$BFQ$206,3,FALSE)))","v":""},null,null,null,null,null,null,""]
["",null,{"$f":"IF(B2184=\"\",\"\",IF(ISERROR(VLOOKUP(B2184,database!$A$6:$BFQ$206,4,FALSE)),\"\",VLOOKUP(B2184,database!$A$6:$BFQ$206,4,FALSE)))","v":""},null,null,null,"",null,null,null,{"$f":"IF(B2184=\"\",\"\",IF(ISERROR(VLOOKUP(B2184,database!$A$6:$BFQ$206,3,FALSE)),\"\",VLOOKUP(B2184,database!$A$6:$BFQ$206,3,FALSE)))","v":""},null,null,null,null,null,null,""]
["",null,{"$f":"IF(B2185=\"\",\"\",IF(ISERROR(VLOOKUP(B2185,database!$A$6:$BFQ$206,4,FALSE)),\"\",VLOOKUP(B2185,database!$A$6:$BFQ$206,4,FALSE)))","v":""},null,null,null,"",null,null,null,{"$f":"IF(B2185=\"\",\"\",IF(ISERROR(VLOOKUP(B2185,database!$A$6:$BFQ$206,3,FALSE)),\"\",VLOOKUP(B2185,database!$A$6:$BFQ$206,3,FALSE)))","v":""},null,null,null,null,null,null,""]
["",null,{"$f":"IF(B2188=\"\",\"\",IF(ISERROR(VLOOKUP(B2188,database!$A$6:$BFQ$206,4,FALSE)),\"\",VLOOKUP(B2188,database!$A$6:$BFQ$206,4,FALSE)))","v":""},null,null,null,"",null,null,null,{"$f":"IF(B2188=\"\",\"\",IF(ISERROR(VLOOKUP(B2188,database!$A$6:$BFQ$206,3,FALSE)),\"\",VLOOKUP(B2188,database!$A$6:$BFQ$206,3,FALSE)))","v":""},null,null,null,null,null,null,""]
["",null,{"$f":"IF(B2189=\"\",\"\",IF(ISERROR(VLOOKUP(B2189,database!$A$6:$BFQ$206,4,FALSE)),\"\",VLOOKUP(B2189,database!$A$6:$BFQ$206,4,FALSE)))","v":""},null,null,null,"",null,null,null,{"$f":"IF(B2189=\"\",\"\",IF(ISERROR(VLOOKUP(B2189,database!$A$6:$BFQ$206,3,FALSE)),\"\",VLOOKUP(B2189,database!$A$6:$BFQ$206,3,FALSE)))","v":""},null,null,null,null,null,null,""]
["",null,{"$f":"IF(B2191=\"\",\"\",IF(ISERROR(VLOOKUP(B2191,database!$A$6:$BFQ$206,4,FALSE)),\"\",VLOOKUP(B2191,database!$A$6:$BFQ$206,4,FALSE)))","v":""},null,null,null,"",null,null,null,{"$f":"IF(B2191=\"\",\"\",IF(ISERROR(VLOOKUP(B2191,database!$A$6:$BFQ$206,3,FALSE)),\"\",VLOOKUP(B2191,database!$A$6:$BFQ$206,3,FALSE)))","v":""},null,null,null,null,null,null,""]
["",null,{"$f":"IF(B2192=\"\",\"\",IF(ISERROR(VLOOKUP(B2192,database!$A$6:$BFQ$206,4,FALSE)),\"\",VLOOKUP(B2192,database!$A$6:$BFQ$206,4,FALSE)))","v":""},null,null,null,"",null,null,null,{"$f":"IF(B2192=\"\",\"\",IF(ISERROR(VLOOKUP(B2192,database!$A$6:$BFQ$206,3,FALSE)),\"\",VLOOKUP(B2192,database!$A$6:$BFQ$206,3,FALSE)))","v":""},null,null,null,null,null,null,""]
["",null,{"$f":"IF(B2195=\"\",\"\",IF(ISERROR(VLOOKUP(B2195,database!$A$6:$BFQ$206,4,FALSE)),\"\",VLOOKUP(B2195,database!$A$6:$BFQ$206,4,FALSE)))","v":""},null,null,null,"",null,null,null,{"$f":"IF(B2195=\"\",\"\",IF(ISERROR(VLOOKUP(B2195,database!$A$6:$BFQ$206,3,FALSE)),\"\",VLOOKUP(B2195,database!$A$6:$BFQ$206,3,FALSE)))","v":""},null,null,null,null,null,null,""]
["",null,{"$f":"IF(B2196=\"\",\"\",IF(ISERROR(VLOOKUP(B2196,database!$A$6:$BFQ$206,4,FALSE)),\"\",VLOOKUP(B2196,database!$A$6:$BFQ$206,4,FALSE)))","v":""},null,null,null,"",null,null,null,{"$f":"IF(B2196=\"\",\"\",IF(ISERROR(VLOOKUP(B2196,database!$A$6:$BFQ$206,3,FALSE)),\"\",VLOOKUP(B2196,database!$A$6:$BFQ$206,3,FALSE)))","v":""},null,null,null,null,null,null,""]
["",null,{"$f":"IF(B2198=\"\",\"\",IF(ISERROR(VLOOKUP(B2198,database!$A$6:$BFQ$206,4,FALSE)),\"\",VLOOKUP(B2198,database!$A$6:$BFQ$206,4,FALSE)))","v":""},null,null,null,"",null,null,null,{"$f":"IF(B2198=\"\",\"\",IF(ISERROR(VLOOKUP(B2198,database!$A$6:$BFQ$206,3,FALSE)),\"\",VLOOKUP(B2198,database!$A$6:$BFQ$206,3,FALSE)))","v":""},null,null,null,null,null,null,""]
["",null,{"$f":"IF(B2199=\"\",\"\",IF(ISERROR(VLOOKUP(B2199,database!$A$6:$BFQ$206,4,FALSE)),\"\",VLOOKUP(B2199,database!$A$6:$BFQ$206,4,FALSE)))","v":""},null,null,null,"",null,null,null,{"$f":"IF(B2199=\"\",\"\",IF(ISERROR(VLOOKUP(B2199,database!$A$6:$BFQ$206,3,FALSE)),\"\",VLOOKUP(B2199,database!$A$6:$BFQ$206,3,FALSE)))","v":""},null,null,null,null,null,null,""]
["",null,{"$f":"IF(B2202=\"\",\"\",IF(ISERROR(VLOOKUP(B2202,database!$A$6:$BFQ$206,4,FALSE)),\"\",VLOOKUP(B2202,database!$A$6:$BFQ$206,4,FALSE)))","v":""},null,null,null,"",null,null,null,{"$f":"IF(B2202=\"\",\"\",IF(ISERROR(VLOOKUP(B2202,database!$A$6:$BFQ$206,3,FALSE)),\"\",VLOOKUP(B2202,database!$A$6:$BFQ$206,3,FALSE)))","v":""},null,null,null,null,null,null,""]
["",null,{"$f":"IF(B2203=\"\",\"\",IF(ISERROR(VLOOKUP(B2203,database!$A$6:$BFQ$206,4,FALSE)),\"\",VLOOKUP(B2203,database!$A$6:$BFQ$206,4,FALSE)))","v":""},null,null,null,"",null,null,null,{"$f":"IF(B2203=\"\",\"\",IF(ISERROR(VLOOKUP(B2203,database!$A$6:$BFQ$206,3,FALSE)),\"\",VLOOKUP(B2203,database!$A$6:$BFQ$206,3,FALSE)))","v":""},null,null,null,null,null,null,""]
["",null,{"$f":"IF(B2205=\"\",\"\",IF(ISERROR(VLOOKUP(B2205,database!$A$6:$BFQ$206,4,FALSE)),\"\",VLOOKUP(B2205,database!$A$6:$BFQ$206,4,FALSE)))","v":""},null,null,null,"",null,null,null,{"$f":"IF(B2205=\"\",\"\",IF(ISERROR(VLOOKUP(B2205,database!$A$6:$BFQ$206,3,FALSE)),\"\",VLOOKUP(B2205,database!$A$6:$BFQ$206,3,FALSE)))","v":""},null,null,null,null,null,null,""]
["",null,{"$f":"IF(B2206=\"\",\"\",IF(ISERROR(VLOOKUP(B2206,database!$A$6:$BFQ$206,4,FALSE)),\"\",VLOOKUP(B2206,database!$A$6:$BFQ$206,4,FALSE)))","v":""},null,null,null,"",null,null,null,{"$f":"IF(B2206=\"\",\"\",IF(ISERROR(VLOOKUP(B2206,database!$A$6:$BFQ$206,3,FALSE)),\"\",VLOOKUP(B2206,database!$A$6:$BFQ$206,3,FALSE)))","v":""},null,null,null,null,null,null,""]
["",null,{"$f":"IF(B2209=\"\",\"\",IF(ISERROR(VLOOKUP(B2209,database!$A$6:$BFQ$206,4,FALSE)),\"\",VLOOKUP(B2209,database!$A$6:$BFQ$206,4,FALSE)))","v":""},null,null,null,"",null,null,null,{"$f":"IF(B2209=\"\",\"\",IF(ISERROR(VLOOKUP(B2209,database!$A$6:$BFQ$206,3,FALSE)),\"\",VLOOKUP(B2209,database!$A$6:$BFQ$206,3,FALSE)))","v":""},null,null,null,null,null,null,""]
["",null,{"$f":"IF(B2210=\"\",\"\",IF(ISERROR(VLOOKUP(B2210,database!$A$6:$BFQ$206,4,FALSE)),\"\",VLOOKUP(B2210,database!$A$6:$BFQ$206,4,FALSE)))","v":""},null,null,null,"",null,null,null,{"$f":"IF(B2210=\"\",\"\",IF(ISERROR(VLOOKUP(B2210,database!$A$6:$BFQ$206,3,FALSE)),\"\",VLOOKUP(B2210,database!$A$6:$BFQ$206,3,FALSE)))","v":""},null,null,null,null,null,null,""]
["",null,{"$f":"IF(B2212=\"\",\"\",IF(ISERROR(VLOOKUP(B2212,database!$A$6:$BFQ$206,4,FALSE)),\"\",VLOOKUP(B2212,database!$A$6:$BFQ$206,4,FALSE)))","v":""},null,null,null,"",null,null,null,{"$f":"IF(B2212=\"\",\"\",IF(ISERROR(VLOOKUP(B2212,database!$A$6:$BFQ$206,3,FALSE)),\"\",VLOOKUP(B2212,database!$A$6:$BFQ$206,3,FALSE)))","v":""},null,null,null,null,null,null,""]
["",null,{"$f":"IF(B2213=\"\",\"\",IF(ISERROR(VLOOKUP(B2213,database!$A$6:$BFQ$206,4,FALSE)),\"\",VLOOKUP(B2213,database!$A$6:$BFQ$206,4,FALSE)))","v":""},null,null,null,"",null,null,null,{"$f":"IF(B2213=\"\",\"\",IF(ISERROR(VLOOKUP(B2213,database!$A$6:$BFQ$206,3,FALSE)),\"\",VLOOKUP(B2213,database!$A$6:$BFQ$206,3,FALSE)))","v":""},null,null,null,null,null,null,""]
["",null,{"$f":"IF(B2216=\"\",\"\",IF(ISERROR(VLOOKUP(B2216,database!$A$6:$BFQ$206,4,FALSE)),\"\",VLOOKUP(B2216,database!$A$6:$BFQ$206,4,FALSE)))","v":""},null,null,null,"",null,null,null,{"$f":"IF(B2216=\"\",\"\",IF(ISERROR(VLOOKUP(B2216,database!$A$6:$BFQ$206,3,FALSE)),\"\",VLOOKUP(B2216,database!$A$6:$BFQ$206,3,FALSE)))","v":""},null,null,null,null,null,null,""]
["",null,{"$f":"IF(B2217=\"\",\"\",IF(ISERROR(VLOOKUP(B2217,database!$A$6:$BFQ$206,4,FALSE)),\"\",VLOOKUP(B2217,database!$A$6:$BFQ$206,4,FALSE)))","v":""},null,null,null,"",null,null,null,{"$f":"IF(B2217=\"\",\"\",IF(ISERROR(VLOOKUP(B2217,database!$A$6:$BFQ$206,3,FALSE)),\"\",VLOOKUP(B2217,database!$A$6:$BFQ$206,3,FALSE)))","v":""},null,null,null,null,null,null,""]
["",null,{"$f":"IF(B2219=\"\",\"\",IF(ISERROR(VLOOKUP(B2219,database!$A$6:$BFQ$206,4,FALSE)),\"\",VLOOKUP(B2219,database!$A$6:$BFQ$206,4,FALSE)))","v":""},null,null,null,"",null,null,null,{"$f":"IF(B2219=\"\",\"\",IF(ISERROR(VLOOKUP(B2219,database!$A$6:$BFQ$206,3,FALSE)),\"\",VLOOKUP(B2219,database!$A$6:$BFQ$206,3,FALSE)))","v":""},null,null,null,null,null,null,""]
["",null,{"$f":"IF(B2220=\"\",\"\",IF(ISERROR(VLOOKUP(B2220,database!$A$6:$BFQ$206,4,FALSE)),\"\",VLOOKUP(B2220,database!$A$6:$BFQ$206,4,FALSE)))","v":""},null,null,null,"",null,null,null,{"$f":"IF(B2220=\"\",\"\",IF(ISERROR(VLOOKUP(B2220,database!$A$6:$BFQ$206,3,FALSE)),\"\",VLOOKUP(B2220,database!$A$6:$BFQ$206,3,FALSE)))","v":""},null,null,null,null,null,null,""]
["",null,{"$f":"IF(B2223=\"\",\"\",IF(ISERROR(VLOOKUP(B2223,database!$A$6:$BFQ$206,4,FALSE)),\"\",VLOOKUP(B2223,database!$A$6:$BFQ$206,4,FALSE)))","v":""},null,null,null,"",null,null,null,{"$f":"IF(B2223=\"\",\"\",IF(ISERROR(VLOOKUP(B2223,database!$A$6:$BFQ$206,3,FALSE)),\"\",VLOOKUP(B2223,database!$A$6:$BFQ$206,3,FALSE)))","v":""},null,null,null,null,null,null,""]
["",null,{"$f":"IF(B2224=\"\",\"\",IF(ISERROR(VLOOKUP(B2224,database!$A$6:$BFQ$206,4,FALSE)),\"\",VLOOKUP(B2224,database!$A$6:$BFQ$206,4,FALSE)))","v":""},null,null,null,"",null,null,null,{"$f":"IF(B2224=\"\",\"\",IF(ISERROR(VLOOKUP(B2224,database!$A$6:$BFQ$206,3,FALSE)),\"\",VLOOKUP(B2224,database!$A$6:$BFQ$206,3,FALSE)))","v":""},null,null,null,null,null,null,""]
["",null,{"$f":"IF(B2226=\"\",\"\",IF(ISERROR(VLOOKUP(B2226,database!$A$6:$BFQ$206,4,FALSE)),\"\",VLOOKUP(B2226,database!$A$6:$BFQ$206,4,FALSE)))","v":""},null,null,null,"",null,null,null,{"$f":"IF(B2226=\"\",\"\",IF(ISERROR(VLOOKUP(B2226,database!$A$6:$BFQ$206,3,FALSE)),\"\",VLOOKUP(B2226,database!$A$6:$BFQ$206,3,FALSE)))","v":""},null,null,null,null,null,null,""]
["",null,{"$f":"IF(B2227=\"\",\"\",IF(ISERROR(VLOOKUP(B2227,database!$A$6:$BFQ$206,4,FALSE)),\"\",VLOOKUP(B2227,database!$A$6:$BFQ$206,4,FALSE)))","v":""},null,null,null,"",null,null,null,{"$f":"IF(B2227=\"\",\"\",IF(ISERROR(VLOOKUP(B2227,database!$A$6:$BFQ$206,3,FALSE)),\"\",VLOOKUP(B2227,database!$A$6:$BFQ$206,3,FALSE)))","v":""},null,null,null,null,null,null,""]
["",null,{"$f":"IF(B2230=\"\",\"\",IF(ISERROR(VLOOKUP(B2230,database!$A$6:$BFQ$206,4,FALSE)),\"\",VLOOKUP(B2230,database!$A$6:$BFQ$206,4,FALSE)))","v":""},null,null,null,"",null,null,null,{"$f":"IF(B2230=\"\",\"\",IF(ISERROR(VLOOKUP(B2230,database!$A$6:$BFQ$206,3,FALSE)),\"\",VLOOKUP(B2230,database!$A$6:$BFQ$206,3,FALSE)))","v":""},null,null,null,null,null,null,""]
["",null,{"$f":"IF(B2231=\"\",\"\",IF(ISERROR(VLOOKUP(B2231,database!$A$6:$BFQ$206,4,FALSE)),\"\",VLOOKUP(B2231,database!$A$6:$BFQ$206,4,FALSE)))","v":""},null,null,null,"",null,null,null,{"$f":"IF(B2231=\"\",\"\",IF(ISERROR(VLOOKUP(B2231,database!$A$6:$BFQ$206,3,FALSE)),\"\",VLOOKUP(B2231,database!$A$6:$BFQ$206,3,FALSE)))","v":""},null,null,null,null,null,null,""]
["",null,{"$f":"IF(B2233=\"\",\"\",IF(ISERROR(VLOOKUP(B2233,database!$A$6:$BFQ$206,4,FALSE)),\"\",VLOOKUP(B2233,database!$A$6:$BFQ$206,4,FALSE)))","v":""},null,null,null,"",null,null,null,{"$f":"IF(B2233=\"\",\"\",IF(ISERROR(VLOOKUP(B2233,database!$A$6:$BFQ$206,3,FALSE)),\"\",VLOOKUP(B2233,database!$A$6:$BFQ$206,3,FALSE)))","v":""},null,null,null,null,null,null,""]
["",null,{"$f":"IF(B2234=\"\",\"\",IF(ISERROR(VLOOKUP(B2234,database!$A$6:$BFQ$206,4,FALSE)),\"\",VLOOKUP(B2234,database!$A$6:$BFQ$206,4,FALSE)))","v":""},null,null,null,"",null,null,null,{"$f":"IF(B2234=\"\",\"\",IF(ISERROR(VLOOKUP(B2234,database!$A$6:$BFQ$206,3,FALSE)),\"\",VLOOKUP(B2234,database!$A$6:$BFQ$206,3,FALSE)))","v":""},null,null,null,null,null,null,""]
["",null,{"$f":"IF(B2237=\"\",\"\",IF(ISERROR(VLOOKUP(B2237,database!$A$6:$BFQ$206,4,FALSE)),\"\",VLOOKUP(B2237,database!$A$6:$BFQ$206,4,FALSE)))","v":""},null,null,null,"",null,null,null,{"$f":"IF(B2237=\"\",\"\",IF(ISERROR(VLOOKUP(B2237,database!$A$6:$BFQ$206,3,FALSE)),\"\",VLOOKUP(B2237,database!$A$6:$BFQ$206,3,FALSE)))","v":""},null,null,null,null,null,null,""]
["",null,{"$f":"IF(B2238=\"\",\"\",IF(ISERROR(VLOOKUP(B2238,database!$A$6:$BFQ$206,4,FALSE)),\"\",VLOOKUP(B2238,database!$A$6:$BFQ$206,4,FALSE)))","v":""},null,null,null,"",null,null,null,{"$f":"IF(B2238=\"\",\"\",IF(ISERROR(VLOOKUP(B2238,database!$A$6:$BFQ$206,3,FALSE)),\"\",VLOOKUP(B2238,database!$A$6:$BFQ$206,3,FALSE)))","v":""},null,null,null,null,null,null,""]
["",null,{"$f":"IF(B2240=\"\",\"\",IF(ISERROR(VLOOKUP(B2240,database!$A$6:$BFQ$206,4,FALSE)),\"\",VLOOKUP(B2240,database!$A$6:$BFQ$206,4,FALSE)))","v":""},null,null,null,"",null,null,null,{"$f":"IF(B2240=\"\",\"\",IF(ISERROR(VLOOKUP(B2240,database!$A$6:$BFQ$206,3,FALSE)),\"\",VLOOKUP(B2240,database!$A$6:$BFQ$206,3,FALSE)))","v":""},null,null,null,null,null,null,""]
[{"$f":"IF(B2241=\"\",\"\",ROW(A2238))","v":""},null,{"$f":"IF(B2241=\"\",\"\",IF(ISERROR(VLOOKUP(B2241,database!$A$6:$BFQ$206,4,FALSE)),\"\",VLOOKUP(B2241,database!$A$6:$BFQ$206,4,FALSE)))","v":""},null,null,null,{"$f":"IF(B2241=\"\",\"\",IF(C2241=\"\",0,1))","v":""},null,null,null,{"$f":"IF(B2241=\"\",\"\",IF(ISERROR(VLOOKUP(B2241,database!$A$6:$BFQ$206,3,FALSE)),\"\",VLOOKUP(B2241,database!$A$6:$BFQ$206,3,FALSE)))","v":""},null,null,null,null,null,null,{"$f":"LEFT(C2241,2)","v":""}]
["",null,{"$f":"IF(B2244=\"\",\"\",IF(ISERROR(VLOOKUP(B2244,database!$A$6:$BFQ$206,4,FALSE)),\"\",VLOOKUP(B2244,database!$A$6:$BFQ$206,4,FALSE)))","v":""},null,null,null,"",null,null,null,{"$f":"IF(B2244=\"\",\"\",IF(ISERROR(VLOOKUP(B2244,database!$A$6:$BFQ$206,3,FALSE)),\"\",VLOOKUP(B2244,database!$A$6:$BFQ$206,3,FALSE)))","v":""},null,null,null,null,null,null,""]
["",null,{"$f":"IF(B2245=\"\",\"\",IF(ISERROR(VLOOKUP(B2245,database!$A$6:$BFQ$206,4,FALSE)),\"\",VLOOKUP(B2245,database!$A$6:$BFQ$206,4,FALSE)))","v":""},null,null,null,"",null,null,null,{"$f":"IF(B2245=\"\",\"\",IF(ISERROR(VLOOKUP(B2245,database!$A$6:$BFQ$206,3,FALSE)),\"\",VLOOKUP(B2245,database!$A$6:$BFQ$206,3,FALSE)))","v":""},null,null,null,null,null,null,""]
["",null,{"$f":"IF(B2247=\"\",\"\",IF(ISERROR(VLOOKUP(B2247,database!$A$6:$BFQ$206,4,FALSE)),\"\",VLOOKUP(B2247,database!$A$6:$BFQ$206,4,FALSE)))","v":""},null,null,null,"",null,null,null,{"$f":"IF(B2247=\"\",\"\",IF(ISERROR(VLOOKUP(B2247,database!$A$6:$BFQ$206,3,FALSE)),\"\",VLOOKUP(B2247,database!$A$6:$BFQ$206,3,FALSE)))","v":""},null,null,null,null,null,null,""]
["",null,{"$f":"IF(B2248=\"\",\"\",IF(ISERROR(VLOOKUP(B2248,database!$A$6:$BFQ$206,4,FALSE)),\"\",VLOOKUP(B2248,database!$A$6:$BFQ$206,4,FALSE)))","v":""},null,null,null,"",null,null,null,{"$f":"IF(B2248=\"\",\"\",IF(ISERROR(VLOOKUP(B2248,database!$A$6:$BFQ$206,3,FALSE)),\"\",VLOOKUP(B2248,database!$A$6:$BFQ$206,3,FALSE)))","v":""},null,null,null,null,null,null,""]
["",null,{"$f":"IF(B2251=\"\",\"\",IF(ISERROR(VLOOKUP(B2251,database!$A$6:$BFQ$206,4,FALSE)),\"\",VLOOKUP(B2251,database!$A$6:$BFQ$206,4,FALSE)))","v":""},null,null,null,"",null,null,null,{"$f":"IF(B2251=\"\",\"\",IF(ISERROR(VLOOKUP(B2251,database!$A$6:$BFQ$206,3,FALSE)),\"\",VLOOKUP(B2251,database!$A$6:$BFQ$206,3,FALSE)))","v":""},null,null,null,null,null,null,""]
["",null,{"$f":"IF(B2252=\"\",\"\",IF(ISERROR(VLOOKUP(B2252,database!$A$6:$BFQ$206,4,FALSE)),\"\",VLOOKUP(B2252,database!$A$6:$BFQ$206,4,FALSE)))","v":""},null,null,null,"",null,null,null,{"$f":"IF(B2252=\"\",\"\",IF(ISERROR(VLOOKUP(B2252,database!$A$6:$BFQ$206,3,FALSE)),\"\",VLOOKUP(B2252,database!$A$6:$BFQ$206,3,FALSE)))","v":""},null,null,null,null,null,null,""]
["",null,{"$f":"IF(B2254=\"\",\"\",IF(ISERROR(VLOOKUP(B2254,database!$A$6:$BFQ$206,4,FALSE)),\"\",VLOOKUP(B2254,database!$A$6:$BFQ$206,4,FALSE)))","v":""},null,null,null,"",null,null,null,{"$f":"IF(B2254=\"\",\"\",IF(ISERROR(VLOOKUP(B2254,database!$A$6:$BFQ$206,3,FALSE)),\"\",VLOOKUP(B2254,database!$A$6:$BFQ$206,3,FALSE)))","v":""},null,null,null,null,null,null,""]
["",null,{"$f":"IF(B2255=\"\",\"\",IF(ISERROR(VLOOKUP(B2255,database!$A$6:$BFQ$206,4,FALSE)),\"\",VLOOKUP(B2255,database!$A$6:$BFQ$206,4,FALSE)))","v":""},null,null,null,"",null,null,null,{"$f":"IF(B2255=\"\",\"\",IF(ISERROR(VLOOKUP(B2255,database!$A$6:$BFQ$206,3,FALSE)),\"\",VLOOKUP(B2255,database!$A$6:$BFQ$206,3,FALSE)))","v":""},null,null,null,null,null,null,""]
["",null,{"$f":"IF(B2258=\"\",\"\",IF(ISERROR(VLOOKUP(B2258,database!$A$6:$BFQ$206,4,FALSE)),\"\",VLOOKUP(B2258,database!$A$6:$BFQ$206,4,FALSE)))","v":""},null,null,null,"",null,null,null,{"$f":"IF(B2258=\"\",\"\",IF(ISERROR(VLOOKUP(B2258,database!$A$6:$BFQ$206,3,FALSE)),\"\",VLOOKUP(B2258,database!$A$6:$BFQ$206,3,FALSE)))","v":""},null,null,null,null,null,null,""]
["",null,{"$f":"IF(B2259=\"\",\"\",IF(ISERROR(VLOOKUP(B2259,database!$A$6:$BFQ$206,4,FALSE)),\"\",VLOOKUP(B2259,database!$A$6:$BFQ$206,4,FALSE)))","v":""},null,null,null,"",null,null,null,{"$f":"IF(B2259=\"\",\"\",IF(ISERROR(VLOOKUP(B2259,database!$A$6:$BFQ$206,3,FALSE)),\"\",VLOOKUP(B2259,database!$A$6:$BFQ$206,3,FALSE)))","v":""},null,null,null,null,null,null,""]
["",null,{"$f":"IF(B2261=\"\",\"\",IF(ISERROR(VLOOKUP(B2261,database!$A$6:$BFQ$206,4,FALSE)),\"\",VLOOKUP(B2261,database!$A$6:$BFQ$206,4,FALSE)))","v":""},null,null,null,"",null,null,null,{"$f":"IF(B2261=\"\",\"\",IF(ISERROR(VLOOKUP(B2261,database!$A$6:$BFQ$206,3,FALSE)),\"\",VLOOKUP(B2261,database!$A$6:$BFQ$206,3,FALSE)))","v":""},null,null,null,null,null,null,""]
["",null,{"$f":"IF(B2262=\"\",\"\",IF(ISERROR(VLOOKUP(B2262,database!$A$6:$BFQ$206,4,FALSE)),\"\",VLOOKUP(B2262,database!$A$6:$BFQ$206,4,FALSE)))","v":""},null,null,null,"",null,null,null,{"$f":"IF(B2262=\"\",\"\",IF(ISERROR(VLOOKUP(B2262,database!$A$6:$BFQ$206,3,FALSE)),\"\",VLOOKUP(B2262,database!$A$6:$BFQ$206,3,FALSE)))","v":""},null,null,null,null,null,null,""]
["",null,{"$f":"IF(B2265=\"\",\"\",IF(ISERROR(VLOOKUP(B2265,database!$A$6:$BFQ$206,4,FALSE)),\"\",VLOOKUP(B2265,database!$A$6:$BFQ$206,4,FALSE)))","v":""},null,null,null,"",null,null,null,{"$f":"IF(B2265=\"\",\"\",IF(ISERROR(VLOOKUP(B2265,database!$A$6:$BFQ$206,3,FALSE)),\"\",VLOOKUP(B2265,database!$A$6:$BFQ$206,3,FALSE)))","v":""},null,null,null,null,null,null,""]
["",null,{"$f":"IF(B2266=\"\",\"\",IF(ISERROR(VLOOKUP(B2266,database!$A$6:$BFQ$206,4,FALSE)),\"\",VLOOKUP(B2266,database!$A$6:$BFQ$206,4,FALSE)))","v":""},null,null,null,"",null,null,null,{"$f":"IF(B2266=\"\",\"\",IF(ISERROR(VLOOKUP(B2266,database!$A$6:$BFQ$206,3,FALSE)),\"\",VLOOKUP(B2266,database!$A$6:$BFQ$206,3,FALSE)))","v":""},null,null,null,null,null,null,""]
["",null,{"$f":"IF(B2268=\"\",\"\",IF(ISERROR(VLOOKUP(B2268,database!$A$6:$BFQ$206,4,FALSE)),\"\",VLOOKUP(B2268,database!$A$6:$BFQ$206,4,FALSE)))","v":""},null,null,null,"",null,null,null,{"$f":"IF(B2268=\"\",\"\",IF(ISERROR(VLOOKUP(B2268,database!$A$6:$BFQ$206,3,FALSE)),\"\",VLOOKUP(B2268,database!$A$6:$BFQ$206,3,FALSE)))","v":""},null,null,null,null,null,null,""]
["",null,{"$f":"IF(B2269=\"\",\"\",IF(ISERROR(VLOOKUP(B2269,database!$A$6:$BFQ$206,4,FALSE)),\"\",VLOOKUP(B2269,database!$A$6:$BFQ$206,4,FALSE)))","v":""},null,null,null,"",null,null,null,{"$f":"IF(B2269=\"\",\"\",IF(ISERROR(VLOOKUP(B2269,database!$A$6:$BFQ$206,3,FALSE)),\"\",VLOOKUP(B2269,database!$A$6:$BFQ$206,3,FALSE)))","v":""},null,null,null,null,null,null,""]
["",null,{"$f":"IF(B2272=\"\",\"\",IF(ISERROR(VLOOKUP(B2272,database!$A$6:$BFQ$206,4,FALSE)),\"\",VLOOKUP(B2272,database!$A$6:$BFQ$206,4,FALSE)))","v":""},null,null,null,"",null,null,null,{"$f":"IF(B2272=\"\",\"\",IF(ISERROR(VLOOKUP(B2272,database!$A$6:$BFQ$206,3,FALSE)),\"\",VLOOKUP(B2272,database!$A$6:$BFQ$206,3,FALSE)))","v":""},null,null,null,null,null,null,""]
["",null,{"$f":"IF(B2273=\"\",\"\",IF(ISERROR(VLOOKUP(B2273,database!$A$6:$BFQ$206,4,FALSE)),\"\",VLOOKUP(B2273,database!$A$6:$BFQ$206,4,FALSE)))","v":""},null,null,null,"",null,null,null,{"$f":"IF(B2273=\"\",\"\",IF(ISERROR(VLOOKUP(B2273,database!$A$6:$BFQ$206,3,FALSE)),\"\",VLOOKUP(B2273,database!$A$6:$BFQ$206,3,FALSE)))","v":""},null,null,null,null,null,null,""]
["",null,{"$f":"IF(B2276=\"\",\"\",IF(ISERROR(VLOOKUP(B2276,database!$A$6:$BFQ$206,4,FALSE)),\"\",VLOOKUP(B2276,database!$A$6:$BFQ$206,4,FALSE)))","v":""},null,null,null,"",null,null,null,{"$f":"IF(B2276=\"\",\"\",IF(ISERROR(VLOOKUP(B2276,database!$A$6:$BFQ$206,3,FALSE)),\"\",VLOOKUP(B2276,database!$A$6:$BFQ$206,3,FALSE)))","v":""},null,null,null,null,null,null,""]
["",null,{"$f":"IF(B2277=\"\",\"\",IF(ISERROR(VLOOKUP(B2277,database!$A$6:$BFQ$206,4,FALSE)),\"\",VLOOKUP(B2277,database!$A$6:$BFQ$206,4,FALSE)))","v":""},null,null,null,"",null,null,null,{"$f":"IF(B2277=\"\",\"\",IF(ISERROR(VLOOKUP(B2277,database!$A$6:$BFQ$206,3,FALSE)),\"\",VLOOKUP(B2277,database!$A$6:$BFQ$206,3,FALSE)))","v":""},null,null,null,null,null,null,""]
["",null,{"$f":"IF(B2279=\"\",\"\",IF(ISERROR(VLOOKUP(B2279,database!$A$6:$BFQ$206,4,FALSE)),\"\",VLOOKUP(B2279,database!$A$6:$BFQ$206,4,FALSE)))","v":""},null,null,null,"",null,null,null,{"$f":"IF(B2279=\"\",\"\",IF(ISERROR(VLOOKUP(B2279,database!$A$6:$BFQ$206,3,FALSE)),\"\",VLOOKUP(B2279,database!$A$6:$BFQ$206,3,FALSE)))","v":""},null,null,null,null,null,null,""]
["",null,{"$f":"IF(B2280=\"\",\"\",IF(ISERROR(VLOOKUP(B2280,database!$A$6:$BFQ$206,4,FALSE)),\"\",VLOOKUP(B2280,database!$A$6:$BFQ$206,4,FALSE)))","v":""},null,null,null,"",null,null,null,{"$f":"IF(B2280=\"\",\"\",IF(ISERROR(VLOOKUP(B2280,database!$A$6:$BFQ$206,3,FALSE)),\"\",VLOOKUP(B2280,database!$A$6:$BFQ$206,3,FALSE)))","v":""},null,null,null,null,null,null,""]
["",null,{"$f":"IF(B2283=\"\",\"\",IF(ISERROR(VLOOKUP(B2283,database!$A$6:$BFQ$206,4,FALSE)),\"\",VLOOKUP(B2283,database!$A$6:$BFQ$206,4,FALSE)))","v":""},null,null,null,"",null,null,null,{"$f":"IF(B2283=\"\",\"\",IF(ISERROR(VLOOKUP(B2283,database!$A$6:$BFQ$206,3,FALSE)),\"\",VLOOKUP(B2283,database!$A$6:$BFQ$206,3,FALSE)))","v":""},null,null,null,null,null,null,""]
["",null,{"$f":"IF(B2284=\"\",\"\",IF(ISERROR(VLOOKUP(B2284,database!$A$6:$BFQ$206,4,FALSE)),\"\",VLOOKUP(B2284,database!$A$6:$BFQ$206,4,FALSE)))","v":""},null,null,null,"",null,null,null,{"$f":"IF(B2284=\"\",\"\",IF(ISERROR(VLOOKUP(B2284,database!$A$6:$BFQ$206,3,FALSE)),\"\",VLOOKUP(B2284,database!$A$6:$BFQ$206,3,FALSE)))","v":""},null,null,null,null,null,null,""]
["",null,{"$f":"IF(B2286=\"\",\"\",IF(ISERROR(VLOOKUP(B2286,database!$A$6:$BFQ$206,4,FALSE)),\"\",VLOOKUP(B2286,database!$A$6:$BFQ$206,4,FALSE)))","v":""},null,null,null,"",null,null,null,{"$f":"IF(B2286=\"\",\"\",IF(ISERROR(VLOOKUP(B2286,database!$A$6:$BFQ$206,3,FALSE)),\"\",VLOOKUP(B2286,database!$A$6:$BFQ$206,3,FALSE)))","v":""},null,null,null,null,null,null,""]
["",null,{"$f":"IF(B2287=\"\",\"\",IF(ISERROR(VLOOKUP(B2287,database!$A$6:$BFQ$206,4,FALSE)),\"\",VLOOKUP(B2287,database!$A$6:$BFQ$206,4,FALSE)))","v":""},null,null,null,"",null,null,null,{"$f":"IF(B2287=\"\",\"\",IF(ISERROR(VLOOKUP(B2287,database!$A$6:$BFQ$206,3,FALSE)),\"\",VLOOKUP(B2287,database!$A$6:$BFQ$206,3,FALSE)))","v":""},null,null,null,null,null,null,""]
["",null,{"$f":"IF(B2290=\"\",\"\",IF(ISERROR(VLOOKUP(B2290,database!$A$6:$BFQ$206,4,FALSE)),\"\",VLOOKUP(B2290,database!$A$6:$BFQ$206,4,FALSE)))","v":""},null,null,null,"",null,null,null,{"$f":"IF(B2290=\"\",\"\",IF(ISERROR(VLOOKUP(B2290,database!$A$6:$BFQ$206,3,FALSE)),\"\",VLOOKUP(B2290,database!$A$6:$BFQ$206,3,FALSE)))","v":""},null,null,null,null,null,null,""]
["",null,{"$f":"IF(B2291=\"\",\"\",IF(ISERROR(VLOOKUP(B2291,database!$A$6:$BFQ$206,4,FALSE)),\"\",VLOOKUP(B2291,database!$A$6:$BFQ$206,4,FALSE)))","v":""},null,null,null,"",null,null,null,{"$f":"IF(B2291=\"\",\"\",IF(ISERROR(VLOOKUP(B2291,database!$A$6:$BFQ$206,3,FALSE)),\"\",VLOOKUP(B2291,database!$A$6:$BFQ$206,3,FALSE)))","v":""},null,null,null,null,null,null,""]
["",null,{"$f":"IF(B2293=\"\",\"\",IF(ISERROR(VLOOKUP(B2293,database!$A$6:$BFQ$206,4,FALSE)),\"\",VLOOKUP(B2293,database!$A$6:$BFQ$206,4,FALSE)))","v":""},null,null,null,"",null,null,null,{"$f":"IF(B2293=\"\",\"\",IF(ISERROR(VLOOKUP(B2293,database!$A$6:$BFQ$206,3,FALSE)),\"\",VLOOKUP(B2293,database!$A$6:$BFQ$206,3,FALSE)))","v":""},null,null,null,null,null,null,""]
["",null,{"$f":"IF(B2294=\"\",\"\",IF(ISERROR(VLOOKUP(B2294,database!$A$6:$BFQ$206,4,FALSE)),\"\",VLOOKUP(B2294,database!$A$6:$BFQ$206,4,FALSE)))","v":""},null,null,null,"",null,null,null,{"$f":"IF(B2294=\"\",\"\",IF(ISERROR(VLOOKUP(B2294,database!$A$6:$BFQ$206,3,FALSE)),\"\",VLOOKUP(B2294,database!$A$6:$BFQ$206,3,FALSE)))","v":""},null,null,null,null,null,null,""]
["",null,{"$f":"IF(B2297=\"\",\"\",IF(ISERROR(VLOOKUP(B2297,database!$A$6:$BFQ$206,4,FALSE)),\"\",VLOOKUP(B2297,database!$A$6:$BFQ$206,4,FALSE)))","v":""},null,null,null,"",null,null,null,{"$f":"IF(B2297=\"\",\"\",IF(ISERROR(VLOOKUP(B2297,database!$A$6:$BFQ$206,3,FALSE)),\"\",VLOOKUP(B2297,database!$A$6:$BFQ$206,3,FALSE)))","v":""},null,null,null,null,null,null,""]
["",null,{"$f":"IF(B2298=\"\",\"\",IF(ISERROR(VLOOKUP(B2298,database!$A$6:$BFQ$206,4,FALSE)),\"\",VLOOKUP(B2298,database!$A$6:$BFQ$206,4,FALSE)))","v":""},null,null,null,"",null,null,null,{"$f":"IF(B2298=\"\",\"\",IF(ISERROR(VLOOKUP(B2298,database!$A$6:$BFQ$206,3,FALSE)),\"\",VLOOKUP(B2298,database!$A$6:$BFQ$206,3,FALSE)))","v":""},null,null,null,null,null,null,""]
["",null,{"$f":"IF(B2300=\"\",\"\",IF(ISERROR(VLOOKUP(B2300,database!$A$6:$BFQ$206,4,FALSE)),\"\",VLOOKUP(B2300,database!$A$6:$BFQ$206,4,FALSE)))","v":""},null,null,null,"",null,null,null,{"$f":"IF(B2300=\"\",\"\",IF(ISERROR(VLOOKUP(B2300,database!$A$6:$BFQ$206,3,FALSE)),\"\",VLOOKUP(B2300,database!$A$6:$BFQ$206,3,FALSE)))","v":""},null,null,null,null,null,null,""]
["",null,{"$f":"IF(B2301=\"\",\"\",IF(ISERROR(VLOOKUP(B2301,database!$A$6:$BFQ$206,4,FALSE)),\"\",VLOOKUP(B2301,database!$A$6:$BFQ$206,4,FALSE)))","v":""},null,null,null,"",null,null,null,{"$f":"IF(B2301=\"\",\"\",IF(ISERROR(VLOOKUP(B2301,database!$A$6:$BFQ$206,3,FALSE)),\"\",VLOOKUP(B2301,database!$A$6:$BFQ$206,3,FALSE)))","v":""},null,null,null,null,null,null,""]
["",null,{"$f":"IF(B2304=\"\",\"\",IF(ISERROR(VLOOKUP(B2304,database!$A$6:$BFQ$206,4,FALSE)),\"\",VLOOKUP(B2304,database!$A$6:$BFQ$206,4,FALSE)))","v":""},null,null,null,"",null,null,null,{"$f":"IF(B2304=\"\",\"\",IF(ISERROR(VLOOKUP(B2304,database!$A$6:$BFQ$206,3,FALSE)),\"\",VLOOKUP(B2304,database!$A$6:$BFQ$206,3,FALSE)))","v":""},null,null,null,null,null,null,""]
[{"$f":"IF(B2305=\"\",\"\",ROW(A2302))","v":""},null,{"$f":"IF(B2305=\"\",\"\",IF(ISERROR(VLOOKUP(B2305,database!$A$6:$BFQ$206,4,FALSE)),\"\",VLOOKUP(B2305,database!$A$6:$BFQ$206,4,FALSE)))","v":""},null,null,null,{"$f":"IF(B2305=\"\",\"\",IF(C2305=\"\",0,1))","v":""},null,null,null,{"$f":"IF(B2305=\"\",\"\",IF(ISERROR(VLOOKUP(B2305,database!$A$6:$BFQ$206,3,FALSE)),\"\",VLOOKUP(B2305,database!$A$6:$BFQ$206,3,FALSE)))","v":""},null,null,null,null,null,null,{"$f":"LEFT(C2305,2)","v":""}]
["",null,{"$f":"IF(B2307=\"\",\"\",IF(ISERROR(VLOOKUP(B2307,database!$A$6:$BFQ$206,4,FALSE)),\"\",VLOOKUP(B2307,database!$A$6:$BFQ$206,4,FALSE)))","v":""},null,null,null,"",null,null,null,{"$f":"IF(B2307=\"\",\"\",IF(ISERROR(VLOOKUP(B2307,database!$A$6:$BFQ$206,3,FALSE)),\"\",VLOOKUP(B2307,database!$A$6:$BFQ$206,3,FALSE)))","v":""},null,null,null,null,null,null,""]
["",null,{"$f":"IF(B2308=\"\",\"\",IF(ISERROR(VLOOKUP(B2308,database!$A$6:$BFQ$206,4,FALSE)),\"\",VLOOKUP(B2308,database!$A$6:$BFQ$206,4,FALSE)))","v":""},null,null,null,"",null,null,null,{"$f":"IF(B2308=\"\",\"\",IF(ISERROR(VLOOKUP(B2308,database!$A$6:$BFQ$206,3,FALSE)),\"\",VLOOKUP(B2308,database!$A$6:$BFQ$206,3,FALSE)))","v":""},null,null,null,null,null,null,""]
["",null,{"$f":"IF(B2311=\"\",\"\",IF(ISERROR(VLOOKUP(B2311,database!$A$6:$BFQ$206,4,FALSE)),\"\",VLOOKUP(B2311,database!$A$6:$BFQ$206,4,FALSE)))","v":""},null,null,null,"",null,null,null,{"$f":"IF(B2311=\"\",\"\",IF(ISERROR(VLOOKUP(B2311,database!$A$6:$BFQ$206,3,FALSE)),\"\",VLOOKUP(B2311,database!$A$6:$BFQ$206,3,FALSE)))","v":""},null,null,null,null,null,null,""]
["",null,{"$f":"IF(B2312=\"\",\"\",IF(ISERROR(VLOOKUP(B2312,database!$A$6:$BFQ$206,4,FALSE)),\"\",VLOOKUP(B2312,database!$A$6:$BFQ$206,4,FALSE)))","v":""},null,null,null,"",null,null,null,{"$f":"IF(B2312=\"\",\"\",IF(ISERROR(VLOOKUP(B2312,database!$A$6:$BFQ$206,3,FALSE)),\"\",VLOOKUP(B2312,database!$A$6:$BFQ$206,3,FALSE)))","v":""},null,null,null,null,null,null,""]
["",null,{"$f":"IF(B2314=\"\",\"\",IF(ISERROR(VLOOKUP(B2314,database!$A$6:$BFQ$206,4,FALSE)),\"\",VLOOKUP(B2314,database!$A$6:$BFQ$206,4,FALSE)))","v":""},null,null,null,"",null,null,null,{"$f":"IF(B2314=\"\",\"\",IF(ISERROR(VLOOKUP(B2314,database!$A$6:$BFQ$206,3,FALSE)),\"\",VLOOKUP(B2314,database!$A$6:$BFQ$206,3,FALSE)))","v":""},null,null,null,null,null,null,""]
["",null,{"$f":"IF(B2315=\"\",\"\",IF(ISERROR(VLOOKUP(B2315,database!$A$6:$BFQ$206,4,FALSE)),\"\",VLOOKUP(B2315,database!$A$6:$BFQ$206,4,FALSE)))","v":""},null,null,null,"",null,null,null,{"$f":"IF(B2315=\"\",\"\",IF(ISERROR(VLOOKUP(B2315,database!$A$6:$BFQ$206,3,FALSE)),\"\",VLOOKUP(B2315,database!$A$6:$BFQ$206,3,FALSE)))","v":""},null,null,null,null,null,null,""]
["",null,{"$f":"IF(B2318=\"\",\"\",IF(ISERROR(VLOOKUP(B2318,database!$A$6:$BFQ$206,4,FALSE)),\"\",VLOOKUP(B2318,database!$A$6:$BFQ$206,4,FALSE)))","v":""},null,null,null,"",null,null,null,{"$f":"IF(B2318=\"\",\"\",IF(ISERROR(VLOOKUP(B2318,database!$A$6:$BFQ$206,3,FALSE)),\"\",VLOOKUP(B2318,database!$A$6:$BFQ$206,3,FALSE)))","v":""},null,null,null,null,null,null,""]
["",null,{"$f":"IF(B2319=\"\",\"\",IF(ISERROR(VLOOKUP(B2319,database!$A$6:$BFQ$206,4,FALSE)),\"\",VLOOKUP(B2319,database!$A$6:$BFQ$206,4,FALSE)))","v":""},null,null,null,"",null,null,null,{"$f":"IF(B2319=\"\",\"\",IF(ISERROR(VLOOKUP(B2319,database!$A$6:$BFQ$206,3,FALSE)),\"\",VLOOKUP(B2319,database!$A$6:$BFQ$206,3,FALSE)))","v":""},null,null,null,null,null,null,""]
["",null,{"$f":"IF(B2321=\"\",\"\",IF(ISERROR(VLOOKUP(B2321,database!$A$6:$BFQ$206,4,FALSE)),\"\",VLOOKUP(B2321,database!$A$6:$BFQ$206,4,FALSE)))","v":""},null,null,null,"",null,null,null,{"$f":"IF(B2321=\"\",\"\",IF(ISERROR(VLOOKUP(B2321,database!$A$6:$BFQ$206,3,FALSE)),\"\",VLOOKUP(B2321,database!$A$6:$BFQ$206,3,FALSE)))","v":""},null,null,null,null,null,null,""]
["",null,{"$f":"IF(B2322=\"\",\"\",IF(ISERROR(VLOOKUP(B2322,database!$A$6:$BFQ$206,4,FALSE)),\"\",VLOOKUP(B2322,database!$A$6:$BFQ$206,4,FALSE)))","v":""},null,null,null,"",null,null,null,{"$f":"IF(B2322=\"\",\"\",IF(ISERROR(VLOOKUP(B2322,database!$A$6:$BFQ$206,3,FALSE)),\"\",VLOOKUP(B2322,database!$A$6:$BFQ$206,3,FALSE)))","v":""},null,null,null,null,null,null,""]
["",null,{"$f":"IF(B2325=\"\",\"\",IF(ISERROR(VLOOKUP(B2325,database!$A$6:$BFQ$206,4,FALSE)),\"\",VLOOKUP(B2325,database!$A$6:$BFQ$206,4,FALSE)))","v":""},null,null,null,"",null,null,null,{"$f":"IF(B2325=\"\",\"\",IF(ISERROR(VLOOKUP(B2325,database!$A$6:$BFQ$206,3,FALSE)),\"\",VLOOKUP(B2325,database!$A$6:$BFQ$206,3,FALSE)))","v":""},null,null,null,null,null,null,""]
["",null,{"$f":"IF(B2326=\"\",\"\",IF(ISERROR(VLOOKUP(B2326,database!$A$6:$BFQ$206,4,FALSE)),\"\",VLOOKUP(B2326,database!$A$6:$BFQ$206,4,FALSE)))","v":""},null,null,null,"",null,null,null,{"$f":"IF(B2326=\"\",\"\",IF(ISERROR(VLOOKUP(B2326,database!$A$6:$BFQ$206,3,FALSE)),\"\",VLOOKUP(B2326,database!$A$6:$BFQ$206,3,FALSE)))","v":""},null,null,null,null,null,null,""]
["",null,{"$f":"IF(B2328=\"\",\"\",IF(ISERROR(VLOOKUP(B2328,database!$A$6:$BFQ$206,4,FALSE)),\"\",VLOOKUP(B2328,database!$A$6:$BFQ$206,4,FALSE)))","v":""},null,null,null,"",null,null,null,{"$f":"IF(B2328=\"\",\"\",IF(ISERROR(VLOOKUP(B2328,database!$A$6:$BFQ$206,3,FALSE)),\"\",VLOOKUP(B2328,database!$A$6:$BFQ$206,3,FALSE)))","v":""},null,null,null,null,null,null,""]
["",null,{"$f":"IF(B2329=\"\",\"\",IF(ISERROR(VLOOKUP(B2329,database!$A$6:$BFQ$206,4,FALSE)),\"\",VLOOKUP(B2329,database!$A$6:$BFQ$206,4,FALSE)))","v":""},null,null,null,"",null,null,null,{"$f":"IF(B2329=\"\",\"\",IF(ISERROR(VLOOKUP(B2329,database!$A$6:$BFQ$206,3,FALSE)),\"\",VLOOKUP(B2329,database!$A$6:$BFQ$206,3,FALSE)))","v":""},null,null,null,null,null,null,""]
["",null,{"$f":"IF(B2332=\"\",\"\",IF(ISERROR(VLOOKUP(B2332,database!$A$6:$BFQ$206,4,FALSE)),\"\",VLOOKUP(B2332,database!$A$6:$BFQ$206,4,FALSE)))","v":""},null,null,null,"",null,null,null,{"$f":"IF(B2332=\"\",\"\",IF(ISERROR(VLOOKUP(B2332,database!$A$6:$BFQ$206,3,FALSE)),\"\",VLOOKUP(B2332,database!$A$6:$BFQ$206,3,FALSE)))","v":""},null,null,null,null,null,null,""]
["",null,{"$f":"IF(B2333=\"\",\"\",IF(ISERROR(VLOOKUP(B2333,database!$A$6:$BFQ$206,4,FALSE)),\"\",VLOOKUP(B2333,database!$A$6:$BFQ$206,4,FALSE)))","v":""},null,null,null,"",null,null,null,{"$f":"IF(B2333=\"\",\"\",IF(ISERROR(VLOOKUP(B2333,database!$A$6:$BFQ$206,3,FALSE)),\"\",VLOOKUP(B2333,database!$A$6:$BFQ$206,3,FALSE)))","v":""},null,null,null,null,null,null,""]
["",null,{"$f":"IF(B2335=\"\",\"\",IF(ISERROR(VLOOKUP(B2335,database!$A$6:$BFQ$206,4,FALSE)),\"\",VLOOKUP(B2335,database!$A$6:$BFQ$206,4,FALSE)))","v":""},null,null,null,"",null,null,null,{"$f":"IF(B2335=\"\",\"\",IF(ISERROR(VLOOKUP(B2335,database!$A$6:$BFQ$206,3,FALSE)),\"\",VLOOKUP(B2335,database!$A$6:$BFQ$206,3,FALSE)))","v":""},null,null,null,null,null,null,""]
["",null,{"$f":"IF(B2336=\"\",\"\",IF(ISERROR(VLOOKUP(B2336,database!$A$6:$BFQ$206,4,FALSE)),\"\",VLOOKUP(B2336,database!$A$6:$BFQ$206,4,FALSE)))","v":""},null,null,null,"",null,null,null,{"$f":"IF(B2336=\"\",\"\",IF(ISERROR(VLOOKUP(B2336,database!$A$6:$BFQ$206,3,FALSE)),\"\",VLOOKUP(B2336,database!$A$6:$BFQ$206,3,FALSE)))","v":""},null,null,null,null,null,null,""]
["",null,{"$f":"IF(B2339=\"\",\"\",IF(ISERROR(VLOOKUP(B2339,database!$A$6:$BFQ$206,4,FALSE)),\"\",VLOOKUP(B2339,database!$A$6:$BFQ$206,4,FALSE)))","v":""},null,null,null,"",null,null,null,{"$f":"IF(B2339=\"\",\"\",IF(ISERROR(VLOOKUP(B2339,database!$A$6:$BFQ$206,3,FALSE)),\"\",VLOOKUP(B2339,database!$A$6:$BFQ$206,3,FALSE)))","v":""},null,null,null,null,null,null,""]
["",null,{"$f":"IF(B2340=\"\",\"\",IF(ISERROR(VLOOKUP(B2340,database!$A$6:$BFQ$206,4,FALSE)),\"\",VLOOKUP(B2340,database!$A$6:$BFQ$206,4,FALSE)))","v":""},null,null,null,"",null,null,null,{"$f":"IF(B2340=\"\",\"\",IF(ISERROR(VLOOKUP(B2340,database!$A$6:$BFQ$206,3,FALSE)),\"\",VLOOKUP(B2340,database!$A$6:$BFQ$206,3,FALSE)))","v":""},null,null,null,null,null,null,""]
["",null,{"$f":"IF(B2342=\"\",\"\",IF(ISERROR(VLOOKUP(B2342,database!$A$6:$BFQ$206,4,FALSE)),\"\",VLOOKUP(B2342,database!$A$6:$BFQ$206,4,FALSE)))","v":""},null,null,null,"",null,null,null,{"$f":"IF(B2342=\"\",\"\",IF(ISERROR(VLOOKUP(B2342,database!$A$6:$BFQ$206,3,FALSE)),\"\",VLOOKUP(B2342,database!$A$6:$BFQ$206,3,FALSE)))","v":""},null,null,null,null,null,null,""]
["",null,{"$f":"IF(B2343=\"\",\"\",IF(ISERROR(VLOOKUP(B2343,database!$A$6:$BFQ$206,4,FALSE)),\"\",VLOOKUP(B2343,database!$A$6:$BFQ$206,4,FALSE)))","v":""},null,null,null,"",null,null,null,{"$f":"IF(B2343=\"\",\"\",IF(ISERROR(VLOOKUP(B2343,database!$A$6:$BFQ$206,3,FALSE)),\"\",VLOOKUP(B2343,database!$A$6:$BFQ$206,3,FALSE)))","v":""},null,null,null,null,null,null,""]
["",null,{"$f":"IF(B2346=\"\",\"\",IF(ISERROR(VLOOKUP(B2346,database!$A$6:$BFQ$206,4,FALSE)),\"\",VLOOKUP(B2346,database!$A$6:$BFQ$206,4,FALSE)))","v":""},null,null,null,"",null,null,null,{"$f":"IF(B2346=\"\",\"\",IF(ISERROR(VLOOKUP(B2346,database!$A$6:$BFQ$206,3,FALSE)),\"\",VLOOKUP(B2346,database!$A$6:$BFQ$206,3,FALSE)))","v":""},null,null,null,null,null,null,""]
["",null,{"$f":"IF(B2347=\"\",\"\",IF(ISERROR(VLOOKUP(B2347,database!$A$6:$BFQ$206,4,FALSE)),\"\",VLOOKUP(B2347,database!$A$6:$BFQ$206,4,FALSE)))","v":""},null,null,null,"",null,null,null,{"$f":"IF(B2347=\"\",\"\",IF(ISERROR(VLOOKUP(B2347,database!$A$6:$BFQ$206,3,FALSE)),\"\",VLOOKUP(B2347,database!$A$6:$BFQ$206,3,FALSE)))","v":""},null,null,null,null,null,null,""]
["",null,{"$f":"IF(B2349=\"\",\"\",IF(ISERROR(VLOOKUP(B2349,database!$A$6:$BFQ$206,4,FALSE)),\"\",VLOOKUP(B2349,database!$A$6:$BFQ$206,4,FALSE)))","v":""},null,null,null,"",null,null,null,{"$f":"IF(B2349=\"\",\"\",IF(ISERROR(VLOOKUP(B2349,database!$A$6:$BFQ$206,3,FALSE)),\"\",VLOOKUP(B2349,database!$A$6:$BFQ$206,3,FALSE)))","v":""},null,null,null,null,null,null,""]
["",null,{"$f":"IF(B2350=\"\",\"\",IF(ISERROR(VLOOKUP(B2350,database!$A$6:$BFQ$206,4,FALSE)),\"\",VLOOKUP(B2350,database!$A$6:$BFQ$206,4,FALSE)))","v":""},null,null,null,"",null,null,null,{"$f":"IF(B2350=\"\",\"\",IF(ISERROR(VLOOKUP(B2350,database!$A$6:$BFQ$206,3,FALSE)),\"\",VLOOKUP(B2350,database!$A$6:$BFQ$206,3,FALSE)))","v":""},null,null,null,null,null,null,""]
["",null,{"$f":"IF(B2353=\"\",\"\",IF(ISERROR(VLOOKUP(B2353,database!$A$6:$BFQ$206,4,FALSE)),\"\",VLOOKUP(B2353,database!$A$6:$BFQ$206,4,FALSE)))","v":""},null,null,null,"",null,null,null,{"$f":"IF(B2353=\"\",\"\",IF(ISERROR(VLOOKUP(B2353,database!$A$6:$BFQ$206,3,FALSE)),\"\",VLOOKUP(B2353,database!$A$6:$BFQ$206,3,FALSE)))","v":""},null,null,null,null,null,null,""]
["",null,{"$f":"IF(B2354=\"\",\"\",IF(ISERROR(VLOOKUP(B2354,database!$A$6:$BFQ$206,4,FALSE)),\"\",VLOOKUP(B2354,database!$A$6:$BFQ$206,4,FALSE)))","v":""},null,null,null,"",null,null,null,{"$f":"IF(B2354=\"\",\"\",IF(ISERROR(VLOOKUP(B2354,database!$A$6:$BFQ$206,3,FALSE)),\"\",VLOOKUP(B2354,database!$A$6:$BFQ$206,3,FALSE)))","v":""},null,null,null,null,null,null,""]
["",null,{"$f":"IF(B2356=\"\",\"\",IF(ISERROR(VLOOKUP(B2356,database!$A$6:$BFQ$206,4,FALSE)),\"\",VLOOKUP(B2356,database!$A$6:$BFQ$206,4,FALSE)))","v":""},null,null,null,"",null,null,null,{"$f":"IF(B2356=\"\",\"\",IF(ISERROR(VLOOKUP(B2356,database!$A$6:$BFQ$206,3,FALSE)),\"\",VLOOKUP(B2356,database!$A$6:$BFQ$206,3,FALSE)))","v":""},null,null,null,null,null,null,""]
["",null,{"$f":"IF(B2357=\"\",\"\",IF(ISERROR(VLOOKUP(B2357,database!$A$6:$BFQ$206,4,FALSE)),\"\",VLOOKUP(B2357,database!$A$6:$BFQ$206,4,FALSE)))","v":""},null,null,null,"",null,null,null,{"$f":"IF(B2357=\"\",\"\",IF(ISERROR(VLOOKUP(B2357,database!$A$6:$BFQ$206,3,FALSE)),\"\",VLOOKUP(B2357,database!$A$6:$BFQ$206,3,FALSE)))","v":""},null,null,null,null,null,null,""]
["",null,{"$f":"IF(B2360=\"\",\"\",IF(ISERROR(VLOOKUP(B2360,database!$A$6:$BFQ$206,4,FALSE)),\"\",VLOOKUP(B2360,database!$A$6:$BFQ$206,4,FALSE)))","v":""},null,null,null,"",null,null,null,{"$f":"IF(B2360=\"\",\"\",IF(ISERROR(VLOOKUP(B2360,database!$A$6:$BFQ$206,3,FALSE)),\"\",VLOOKUP(B2360,database!$A$6:$BFQ$206,3,FALSE)))","v":""},null,null,null,null,null,null,""]
["",null,{"$f":"IF(B2361=\"\",\"\",IF(ISERROR(VLOOKUP(B2361,database!$A$6:$BFQ$206,4,FALSE)),\"\",VLOOKUP(B2361,database!$A$6:$BFQ$206,4,FALSE)))","v":""},null,null,null,"",null,null,null,{"$f":"IF(B2361=\"\",\"\",IF(ISERROR(VLOOKUP(B2361,database!$A$6:$BFQ$206,3,FALSE)),\"\",VLOOKUP(B2361,database!$A$6:$BFQ$206,3,FALSE)))","v":""},null,null,null,null,null,null,""]
["",null,{"$f":"IF(B2363=\"\",\"\",IF(ISERROR(VLOOKUP(B2363,database!$A$6:$BFQ$206,4,FALSE)),\"\",VLOOKUP(B2363,database!$A$6:$BFQ$206,4,FALSE)))","v":""},null,null,null,"",null,null,null,{"$f":"IF(B2363=\"\",\"\",IF(ISERROR(VLOOKUP(B2363,database!$A$6:$BFQ$206,3,FALSE)),\"\",VLOOKUP(B2363,database!$A$6:$BFQ$206,3,FALSE)))","v":""},null,null,null,null,null,null,""]
["",null,{"$f":"IF(B2364=\"\",\"\",IF(ISERROR(VLOOKUP(B2364,database!$A$6:$BFQ$206,4,FALSE)),\"\",VLOOKUP(B2364,database!$A$6:$BFQ$206,4,FALSE)))","v":""},null,null,null,"",null,null,null,{"$f":"IF(B2364=\"\",\"\",IF(ISERROR(VLOOKUP(B2364,database!$A$6:$BFQ$206,3,FALSE)),\"\",VLOOKUP(B2364,database!$A$6:$BFQ$206,3,FALSE)))","v":""},null,null,null,null,null,null,""]
["",null,{"$f":"IF(B2367=\"\",\"\",IF(ISERROR(VLOOKUP(B2367,database!$A$6:$BFQ$206,4,FALSE)),\"\",VLOOKUP(B2367,database!$A$6:$BFQ$206,4,FALSE)))","v":""},null,null,null,"",null,null,null,{"$f":"IF(B2367=\"\",\"\",IF(ISERROR(VLOOKUP(B2367,database!$A$6:$BFQ$206,3,FALSE)),\"\",VLOOKUP(B2367,database!$A$6:$BFQ$206,3,FALSE)))","v":""},null,null,null,null,null,null,""]
["",null,{"$f":"IF(B2368=\"\",\"\",IF(ISERROR(VLOOKUP(B2368,database!$A$6:$BFQ$206,4,FALSE)),\"\",VLOOKUP(B2368,database!$A$6:$BFQ$206,4,FALSE)))","v":""},null,null,null,"",null,null,null,{"$f":"IF(B2368=\"\",\"\",IF(ISERROR(VLOOKUP(B2368,database!$A$6:$BFQ$206,3,FALSE)),\"\",VLOOKUP(B2368,database!$A$6:$BFQ$206,3,FALSE)))","v":""},null,null,null,null,null,null,""]
["",null,{"$f":"IF(B2370=\"\",\"\",IF(ISERROR(VLOOKUP(B2370,database!$A$6:$BFQ$206,4,FALSE)),\"\",VLOOKUP(B2370,database!$A$6:$BFQ$206,4,FALSE)))","v":""},null,null,null,"",null,null,null,{"$f":"IF(B2370=\"\",\"\",IF(ISERROR(VLOOKUP(B2370,database!$A$6:$BFQ$206,3,FALSE)),\"\",VLOOKUP(B2370,database!$A$6:$BFQ$206,3,FALSE)))","v":""},null,null,null,null,null,null,""]
["",null,{"$f":"IF(B2371=\"\",\"\",IF(ISERROR(VLOOKUP(B2371,database!$A$6:$BFQ$206,4,FALSE)),\"\",VLOOKUP(B2371,database!$A$6:$BFQ$206,4,FALSE)))","v":""},null,null,null,"",null,null,null,{"$f":"IF(B2371=\"\",\"\",IF(ISERROR(VLOOKUP(B2371,database!$A$6:$BFQ$206,3,FALSE)),\"\",VLOOKUP(B2371,database!$A$6:$BFQ$206,3,FALSE)))","v":""},null,null,null,null,null,null,""]
["",null,{"$f":"IF(B2374=\"\",\"\",IF(ISERROR(VLOOKUP(B2374,database!$A$6:$BFQ$206,4,FALSE)),\"\",VLOOKUP(B2374,database!$A$6:$BFQ$206,4,FALSE)))","v":""},null,null,null,"",null,null,null,{"$f":"IF(B2374=\"\",\"\",IF(ISERROR(VLOOKUP(B2374,database!$A$6:$BFQ$206,3,FALSE)),\"\",VLOOKUP(B2374,database!$A$6:$BFQ$206,3,FALSE)))","v":""},null,null,null,null,null,null,""]
["",null,{"$f":"IF(B2375=\"\",\"\",IF(ISERROR(VLOOKUP(B2375,database!$A$6:$BFQ$206,4,FALSE)),\"\",VLOOKUP(B2375,database!$A$6:$BFQ$206,4,FALSE)))","v":""},null,null,null,"",null,null,null,{"$f":"IF(B2375=\"\",\"\",IF(ISERROR(VLOOKUP(B2375,database!$A$6:$BFQ$206,3,FALSE)),\"\",VLOOKUP(B2375,database!$A$6:$BFQ$206,3,FALSE)))","v":""},null,null,null,null,null,null,""]
["",null,{"$f":"IF(B2377=\"\",\"\",IF(ISERROR(VLOOKUP(B2377,database!$A$6:$BFQ$206,4,FALSE)),\"\",VLOOKUP(B2377,database!$A$6:$BFQ$206,4,FALSE)))","v":""},null,null,null,"",null,null,null,{"$f":"IF(B2377=\"\",\"\",IF(ISERROR(VLOOKUP(B2377,database!$A$6:$BFQ$206,3,FALSE)),\"\",VLOOKUP(B2377,database!$A$6:$BFQ$206,3,FALSE)))","v":""},null,null,null,null,null,null,""]
["",null,{"$f":"IF(B2378=\"\",\"\",IF(ISERROR(VLOOKUP(B2378,database!$A$6:$BFQ$206,4,FALSE)),\"\",VLOOKUP(B2378,database!$A$6:$BFQ$206,4,FALSE)))","v":""},null,null,null,"",null,null,null,{"$f":"IF(B2378=\"\",\"\",IF(ISERROR(VLOOKUP(B2378,database!$A$6:$BFQ$206,3,FALSE)),\"\",VLOOKUP(B2378,database!$A$6:$BFQ$206,3,FALSE)))","v":""},null,null,null,null,null,null,""]
["",null,{"$f":"IF(B2381=\"\",\"\",IF(ISERROR(VLOOKUP(B2381,database!$A$6:$BFQ$206,4,FALSE)),\"\",VLOOKUP(B2381,database!$A$6:$BFQ$206,4,FALSE)))","v":""},null,null,null,"",null,null,null,{"$f":"IF(B2381=\"\",\"\",IF(ISERROR(VLOOKUP(B2381,database!$A$6:$BFQ$206,3,FALSE)),\"\",VLOOKUP(B2381,database!$A$6:$BFQ$206,3,FALSE)))","v":""},null,null,null,null,null,null,""]
["",null,{"$f":"IF(B2382=\"\",\"\",IF(ISERROR(VLOOKUP(B2382,database!$A$6:$BFQ$206,4,FALSE)),\"\",VLOOKUP(B2382,database!$A$6:$BFQ$206,4,FALSE)))","v":""},null,null,null,"",null,null,null,{"$f":"IF(B2382=\"\",\"\",IF(ISERROR(VLOOKUP(B2382,database!$A$6:$BFQ$206,3,FALSE)),\"\",VLOOKUP(B2382,database!$A$6:$BFQ$206,3,FALSE)))","v":""},null,null,null,null,null,null,""]
["",null,{"$f":"IF(B2385=\"\",\"\",IF(ISERROR(VLOOKUP(B2385,database!$A$6:$BFQ$206,4,FALSE)),\"\",VLOOKUP(B2385,database!$A$6:$BFQ$206,4,FALSE)))","v":""},null,null,null,"",null,null,null,{"$f":"IF(B2385=\"\",\"\",IF(ISERROR(VLOOKUP(B2385,database!$A$6:$BFQ$206,3,FALSE)),\"\",VLOOKUP(B2385,database!$A$6:$BFQ$206,3,FALSE)))","v":""},null,null,null,null,null,null,""]
["",null,{"$f":"IF(B2386=\"\",\"\",IF(ISERROR(VLOOKUP(B2386,database!$A$6:$BFQ$206,4,FALSE)),\"\",VLOOKUP(B2386,database!$A$6:$BFQ$206,4,FALSE)))","v":""},null,null,null,"",null,null,null,{"$f":"IF(B2386=\"\",\"\",IF(ISERROR(VLOOKUP(B2386,database!$A$6:$BFQ$206,3,FALSE)),\"\",VLOOKUP(B2386,database!$A$6:$BFQ$206,3,FALSE)))","v":""},null,null,null,null,null,null,""]
["",null,{"$f":"IF(B2388=\"\",\"\",IF(ISERROR(VLOOKUP(B2388,database!$A$6:$BFQ$206,4,FALSE)),\"\",VLOOKUP(B2388,database!$A$6:$BFQ$206,4,FALSE)))","v":""},null,null,null,"",null,null,null,{"$f":"IF(B2388=\"\",\"\",IF(ISERROR(VLOOKUP(B2388,database!$A$6:$BFQ$206,3,FALSE)),\"\",VLOOKUP(B2388,database!$A$6:$BFQ$206,3,FALSE)))","v":""},null,null,null,null,null,null,""]
["",null,{"$f":"IF(B2389=\"\",\"\",IF(ISERROR(VLOOKUP(B2389,database!$A$6:$BFQ$206,4,FALSE)),\"\",VLOOKUP(B2389,database!$A$6:$BFQ$206,4,FALSE)))","v":""},null,null,null,"",null,null,null,{"$f":"IF(B2389=\"\",\"\",IF(ISERROR(VLOOKUP(B2389,database!$A$6:$BFQ$206,3,FALSE)),\"\",VLOOKUP(B2389,database!$A$6:$BFQ$206,3,FALSE)))","v":""},null,null,null,null,null,null,""]
["",null,{"$f":"IF(B2392=\"\",\"\",IF(ISERROR(VLOOKUP(B2392,database!$A$6:$BFQ$206,4,FALSE)),\"\",VLOOKUP(B2392,database!$A$6:$BFQ$206,4,FALSE)))","v":""},null,null,null,"",null,null,null,{"$f":"IF(B2392=\"\",\"\",IF(ISERROR(VLOOKUP(B2392,database!$A$6:$BFQ$206,3,FALSE)),\"\",VLOOKUP(B2392,database!$A$6:$BFQ$206,3,FALSE)))","v":""},null,null,null,null,null,null,""]
["",null,{"$f":"IF(B2393=\"\",\"\",IF(ISERROR(VLOOKUP(B2393,database!$A$6:$BFQ$206,4,FALSE)),\"\",VLOOKUP(B2393,database!$A$6:$BFQ$206,4,FALSE)))","v":""},null,null,null,"",null,null,null,{"$f":"IF(B2393=\"\",\"\",IF(ISERROR(VLOOKUP(B2393,database!$A$6:$BFQ$206,3,FALSE)),\"\",VLOOKUP(B2393,database!$A$6:$BFQ$206,3,FALSE)))","v":""},null,null,null,null,null,null,""]
["",null,{"$f":"IF(B2395=\"\",\"\",IF(ISERROR(VLOOKUP(B2395,database!$A$6:$BFQ$206,4,FALSE)),\"\",VLOOKUP(B2395,database!$A$6:$BFQ$206,4,FALSE)))","v":""},null,null,null,"",null,null,null,{"$f":"IF(B2395=\"\",\"\",IF(ISERROR(VLOOKUP(B2395,database!$A$6:$BFQ$206,3,FALSE)),\"\",VLOOKUP(B2395,database!$A$6:$BFQ$206,3,FALSE)))","v":""},null,null,null,null,null,null,""]
["",null,{"$f":"IF(B2396=\"\",\"\",IF(ISERROR(VLOOKUP(B2396,database!$A$6:$BFQ$206,4,FALSE)),\"\",VLOOKUP(B2396,database!$A$6:$BFQ$206,4,FALSE)))","v":""},null,null,null,"",null,null,null,{"$f":"IF(B2396=\"\",\"\",IF(ISERROR(VLOOKUP(B2396,database!$A$6:$BFQ$206,3,FALSE)),\"\",VLOOKUP(B2396,database!$A$6:$BFQ$206,3,FALSE)))","v":""},null,null,null,null,null,null,""]
["",null,{"$f":"IF(B2399=\"\",\"\",IF(ISERROR(VLOOKUP(B2399,database!$A$6:$BFQ$206,4,FALSE)),\"\",VLOOKUP(B2399,database!$A$6:$BFQ$206,4,FALSE)))","v":""},null,null,null,"",null,null,null,{"$f":"IF(B2399=\"\",\"\",IF(ISERROR(VLOOKUP(B2399,database!$A$6:$BFQ$206,3,FALSE)),\"\",VLOOKUP(B2399,database!$A$6:$BFQ$206,3,FALSE)))","v":""},null,null,null,null,null,null,""]
["",null,{"$f":"IF(B2400=\"\",\"\",IF(ISERROR(VLOOKUP(B2400,database!$A$6:$BFQ$206,4,FALSE)),\"\",VLOOKUP(B2400,database!$A$6:$BFQ$206,4,FALSE)))","v":""},null,null,null,"",null,null,null,{"$f":"IF(B2400=\"\",\"\",IF(ISERROR(VLOOKUP(B2400,database!$A$6:$BFQ$206,3,FALSE)),\"\",VLOOKUP(B2400,database!$A$6:$BFQ$206,3,FALSE)))","v":""},null,null,null,null,null,null,""]
["",null,{"$f":"IF(B2402=\"\",\"\",IF(ISERROR(VLOOKUP(B2402,database!$A$6:$BFQ$206,4,FALSE)),\"\",VLOOKUP(B2402,database!$A$6:$BFQ$206,4,FALSE)))","v":""},null,null,null,"",null,null,null,{"$f":"IF(B2402=\"\",\"\",IF(ISERROR(VLOOKUP(B2402,database!$A$6:$BFQ$206,3,FALSE)),\"\",VLOOKUP(B2402,database!$A$6:$BFQ$206,3,FALSE)))","v":""},null,null,null,null,null,null,""]
["",null,{"$f":"IF(B2403=\"\",\"\",IF(ISERROR(VLOOKUP(B2403,database!$A$6:$BFQ$206,4,FALSE)),\"\",VLOOKUP(B2403,database!$A$6:$BFQ$206,4,FALSE)))","v":""},null,null,null,"",null,null,null,{"$f":"IF(B2403=\"\",\"\",IF(ISERROR(VLOOKUP(B2403,database!$A$6:$BFQ$206,3,FALSE)),\"\",VLOOKUP(B2403,database!$A$6:$BFQ$206,3,FALSE)))","v":""},null,null,null,null,null,null,""]
["",null,{"$f":"IF(B2406=\"\",\"\",IF(ISERROR(VLOOKUP(B2406,database!$A$6:$BFQ$206,4,FALSE)),\"\",VLOOKUP(B2406,database!$A$6:$BFQ$206,4,FALSE)))","v":""},null,null,null,"",null,null,null,{"$f":"IF(B2406=\"\",\"\",IF(ISERROR(VLOOKUP(B2406,database!$A$6:$BFQ$206,3,FALSE)),\"\",VLOOKUP(B2406,database!$A$6:$BFQ$206,3,FALSE)))","v":""},null,null,null,null,null,null,""]
["",null,{"$f":"IF(B2407=\"\",\"\",IF(ISERROR(VLOOKUP(B2407,database!$A$6:$BFQ$206,4,FALSE)),\"\",VLOOKUP(B2407,database!$A$6:$BFQ$206,4,FALSE)))","v":""},null,null,null,"",null,null,null,{"$f":"IF(B2407=\"\",\"\",IF(ISERROR(VLOOKUP(B2407,database!$A$6:$BFQ$206,3,FALSE)),\"\",VLOOKUP(B2407,database!$A$6:$BFQ$206,3,FALSE)))","v":""},null,null,null,null,null,null,""]
["",null,{"$f":"IF(B2409=\"\",\"\",IF(ISERROR(VLOOKUP(B2409,database!$A$6:$BFQ$206,4,FALSE)),\"\",VLOOKUP(B2409,database!$A$6:$BFQ$206,4,FALSE)))","v":""},null,null,null,"",null,null,null,{"$f":"IF(B2409=\"\",\"\",IF(ISERROR(VLOOKUP(B2409,database!$A$6:$BFQ$206,3,FALSE)),\"\",VLOOKUP(B2409,database!$A$6:$BFQ$206,3,FALSE)))","v":""},null,null,null,null,null,null,""]
["",null,{"$f":"IF(B2410=\"\",\"\",IF(ISERROR(VLOOKUP(B2410,database!$A$6:$BFQ$206,4,FALSE)),\"\",VLOOKUP(B2410,database!$A$6:$BFQ$206,4,FALSE)))","v":""},null,null,null,"",null,null,null,{"$f":"IF(B2410=\"\",\"\",IF(ISERROR(VLOOKUP(B2410,database!$A$6:$BFQ$206,3,FALSE)),\"\",VLOOKUP(B2410,database!$A$6:$BFQ$206,3,FALSE)))","v":""},null,null,null,null,null,null,""]
["",null,{"$f":"IF(B2413=\"\",\"\",IF(ISERROR(VLOOKUP(B2413,database!$A$6:$BFQ$206,4,FALSE)),\"\",VLOOKUP(B2413,database!$A$6:$BFQ$206,4,FALSE)))","v":""},null,null,null,"",null,null,null,{"$f":"IF(B2413=\"\",\"\",IF(ISERROR(VLOOKUP(B2413,database!$A$6:$BFQ$206,3,FALSE)),\"\",VLOOKUP(B2413,database!$A$6:$BFQ$206,3,FALSE)))","v":""},null,null,null,null,null,null,""]
["",null,{"$f":"IF(B2414=\"\",\"\",IF(ISERROR(VLOOKUP(B2414,database!$A$6:$BFQ$206,4,FALSE)),\"\",VLOOKUP(B2414,database!$A$6:$BFQ$206,4,FALSE)))","v":""},null,null,null,"",null,null,null,{"$f":"IF(B2414=\"\",\"\",IF(ISERROR(VLOOKUP(B2414,database!$A$6:$BFQ$206,3,FALSE)),\"\",VLOOKUP(B2414,database!$A$6:$BFQ$206,3,FALSE)))","v":""},null,null,null,null,null,null,""]
["",null,{"$f":"IF(B2416=\"\",\"\",IF(ISERROR(VLOOKUP(B2416,database!$A$6:$BFQ$206,4,FALSE)),\"\",VLOOKUP(B2416,database!$A$6:$BFQ$206,4,FALSE)))","v":""},null,null,null,"",null,null,null,{"$f":"IF(B2416=\"\",\"\",IF(ISERROR(VLOOKUP(B2416,database!$A$6:$BFQ$206,3,FALSE)),\"\",VLOOKUP(B2416,database!$A$6:$BFQ$206,3,FALSE)))","v":""},null,null,null,null,null,null,""]
["",null,{"$f":"IF(B2417=\"\",\"\",IF(ISERROR(VLOOKUP(B2417,database!$A$6:$BFQ$206,4,FALSE)),\"\",VLOOKUP(B2417,database!$A$6:$BFQ$206,4,FALSE)))","v":""},null,null,null,"",null,null,null,{"$f":"IF(B2417=\"\",\"\",IF(ISERROR(VLOOKUP(B2417,database!$A$6:$BFQ$206,3,FALSE)),\"\",VLOOKUP(B2417,database!$A$6:$BFQ$206,3,FALSE)))","v":""},null,null,null,null,null,null,""]
["",null,{"$f":"IF(B2420=\"\",\"\",IF(ISERROR(VLOOKUP(B2420,database!$A$6:$BFQ$206,4,FALSE)),\"\",VLOOKUP(B2420,database!$A$6:$BFQ$206,4,FALSE)))","v":""},null,null,null,"",null,null,null,{"$f":"IF(B2420=\"\",\"\",IF(ISERROR(VLOOKUP(B2420,database!$A$6:$BFQ$206,3,FALSE)),\"\",VLOOKUP(B2420,database!$A$6:$BFQ$206,3,FALSE)))","v":""},null,null,null,null,null,null,""]
["",null,{"$f":"IF(B2421=\"\",\"\",IF(ISERROR(VLOOKUP(B2421,database!$A$6:$BFQ$206,4,FALSE)),\"\",VLOOKUP(B2421,database!$A$6:$BFQ$206,4,FALSE)))","v":""},null,null,null,"",null,null,null,{"$f":"IF(B2421=\"\",\"\",IF(ISERROR(VLOOKUP(B2421,database!$A$6:$BFQ$206,3,FALSE)),\"\",VLOOKUP(B2421,database!$A$6:$BFQ$206,3,FALSE)))","v":""},null,null,null,null,null,null,""]
["",null,{"$f":"IF(B2423=\"\",\"\",IF(ISERROR(VLOOKUP(B2423,database!$A$6:$BFQ$206,4,FALSE)),\"\",VLOOKUP(B2423,database!$A$6:$BFQ$206,4,FALSE)))","v":""},null,null,null,"",null,null,null,{"$f":"IF(B2423=\"\",\"\",IF(ISERROR(VLOOKUP(B2423,database!$A$6:$BFQ$206,3,FALSE)),\"\",VLOOKUP(B2423,database!$A$6:$BFQ$206,3,FALSE)))","v":""},null,null,null,null,null,null,""]
["",null,{"$f":"IF(B2424=\"\",\"\",IF(ISERROR(VLOOKUP(B2424,database!$A$6:$BFQ$206,4,FALSE)),\"\",VLOOKUP(B2424,database!$A$6:$BFQ$206,4,FALSE)))","v":""},null,null,null,"",null,null,null,{"$f":"IF(B2424=\"\",\"\",IF(ISERROR(VLOOKUP(B2424,database!$A$6:$BFQ$206,3,FALSE)),\"\",VLOOKUP(B2424,database!$A$6:$BFQ$206,3,FALSE)))","v":""},null,null,null,null,null,null,""]
["",null,{"$f":"IF(B2427=\"\",\"\",IF(ISERROR(VLOOKUP(B2427,database!$A$6:$BFQ$206,4,FALSE)),\"\",VLOOKUP(B2427,database!$A$6:$BFQ$206,4,FALSE)))","v":""},null,null,null,"",null,null,null,{"$f":"IF(B2427=\"\",\"\",IF(ISERROR(VLOOKUP(B2427,database!$A$6:$BFQ$206,3,FALSE)),\"\",VLOOKUP(B2427,database!$A$6:$BFQ$206,3,FALSE)))","v":""},null,null,null,null,null,null,""]
["",null,{"$f":"IF(B2428=\"\",\"\",IF(ISERROR(VLOOKUP(B2428,database!$A$6:$BFQ$206,4,FALSE)),\"\",VLOOKUP(B2428,database!$A$6:$BFQ$206,4,FALSE)))","v":""},null,null,null,"",null,null,null,{"$f":"IF(B2428=\"\",\"\",IF(ISERROR(VLOOKUP(B2428,database!$A$6:$BFQ$206,3,FALSE)),\"\",VLOOKUP(B2428,database!$A$6:$BFQ$206,3,FALSE)))","v":""},null,null,null,null,null,null,""]
["",null,{"$f":"IF(B2430=\"\",\"\",IF(ISERROR(VLOOKUP(B2430,database!$A$6:$BFQ$206,4,FALSE)),\"\",VLOOKUP(B2430,database!$A$6:$BFQ$206,4,FALSE)))","v":""},null,null,null,"",null,null,null,{"$f":"IF(B2430=\"\",\"\",IF(ISERROR(VLOOKUP(B2430,database!$A$6:$BFQ$206,3,FALSE)),\"\",VLOOKUP(B2430,database!$A$6:$BFQ$206,3,FALSE)))","v":""},null,null,null,null,null,null,""]
["",null,{"$f":"IF(B2431=\"\",\"\",IF(ISERROR(VLOOKUP(B2431,database!$A$6:$BFQ$206,4,FALSE)),\"\",VLOOKUP(B2431,database!$A$6:$BFQ$206,4,FALSE)))","v":""},null,null,null,"",null,null,null,{"$f":"IF(B2431=\"\",\"\",IF(ISERROR(VLOOKUP(B2431,database!$A$6:$BFQ$206,3,FALSE)),\"\",VLOOKUP(B2431,database!$A$6:$BFQ$206,3,FALSE)))","v":""},null,null,null,null,null,null,""]
["",null,{"$f":"IF(B2434=\"\",\"\",IF(ISERROR(VLOOKUP(B2434,database!$A$6:$BFQ$206,4,FALSE)),\"\",VLOOKUP(B2434,database!$A$6:$BFQ$206,4,FALSE)))","v":""},null,null,null,"",null,null,null,{"$f":"IF(B2434=\"\",\"\",IF(ISERROR(VLOOKUP(B2434,database!$A$6:$BFQ$206,3,FALSE)),\"\",VLOOKUP(B2434,database!$A$6:$BFQ$206,3,FALSE)))","v":""},null,null,null,null,null,null,""]
["",null,{"$f":"IF(B2435=\"\",\"\",IF(ISERROR(VLOOKUP(B2435,database!$A$6:$BFQ$206,4,FALSE)),\"\",VLOOKUP(B2435,database!$A$6:$BFQ$206,4,FALSE)))","v":""},null,null,null,"",null,null,null,{"$f":"IF(B2435=\"\",\"\",IF(ISERROR(VLOOKUP(B2435,database!$A$6:$BFQ$206,3,FALSE)),\"\",VLOOKUP(B2435,database!$A$6:$BFQ$206,3,FALSE)))","v":""},null,null,null,null,null,null,""]
["",null,{"$f":"IF(B2437=\"\",\"\",IF(ISERROR(VLOOKUP(B2437,database!$A$6:$BFQ$206,4,FALSE)),\"\",VLOOKUP(B2437,database!$A$6:$BFQ$206,4,FALSE)))","v":""},null,null,null,"",null,null,null,{"$f":"IF(B2437=\"\",\"\",IF(ISERROR(VLOOKUP(B2437,database!$A$6:$BFQ$206,3,FALSE)),\"\",VLOOKUP(B2437,database!$A$6:$BFQ$206,3,FALSE)))","v":""},null,null,null,null,null,null,""]
["",null,{"$f":"IF(B2438=\"\",\"\",IF(ISERROR(VLOOKUP(B2438,database!$A$6:$BFQ$206,4,FALSE)),\"\",VLOOKUP(B2438,database!$A$6:$BFQ$206,4,FALSE)))","v":""},null,null,null,"",null,null,null,{"$f":"IF(B2438=\"\",\"\",IF(ISERROR(VLOOKUP(B2438,database!$A$6:$BFQ$206,3,FALSE)),\"\",VLOOKUP(B2438,database!$A$6:$BFQ$206,3,FALSE)))","v":""},null,null,null,null,null,null,""]
["",null,{"$f":"IF(B2441=\"\",\"\",IF(ISERROR(VLOOKUP(B2441,database!$A$6:$BFQ$206,4,FALSE)),\"\",VLOOKUP(B2441,database!$A$6:$BFQ$206,4,FALSE)))","v":""},null,null,null,"",null,null,null,{"$f":"IF(B2441=\"\",\"\",IF(ISERROR(VLOOKUP(B2441,database!$A$6:$BFQ$206,3,FALSE)),\"\",VLOOKUP(B2441,database!$A$6:$BFQ$206,3,FALSE)))","v":""},null,null,null,null,null,null,""]
["",null,{"$f":"IF(B2442=\"\",\"\",IF(ISERROR(VLOOKUP(B2442,database!$A$6:$BFQ$206,4,FALSE)),\"\",VLOOKUP(B2442,database!$A$6:$BFQ$206,4,FALSE)))","v":""},null,null,null,"",null,null,null,{"$f":"IF(B2442=\"\",\"\",IF(ISERROR(VLOOKUP(B2442,database!$A$6:$BFQ$206,3,FALSE)),\"\",VLOOKUP(B2442,database!$A$6:$BFQ$206,3,FALSE)))","v":""},null,null,null,null,null,null,""]
["",null,{"$f":"IF(B2444=\"\",\"\",IF(ISERROR(VLOOKUP(B2444,database!$A$6:$BFQ$206,4,FALSE)),\"\",VLOOKUP(B2444,database!$A$6:$BFQ$206,4,FALSE)))","v":""},null,null,null,"",null,null,null,{"$f":"IF(B2444=\"\",\"\",IF(ISERROR(VLOOKUP(B2444,database!$A$6:$BFQ$206,3,FALSE)),\"\",VLOOKUP(B2444,database!$A$6:$BFQ$206,3,FALSE)))","v":""},null,null,null,null,null,null,""]
["",null,{"$f":"IF(B2445=\"\",\"\",IF(ISERROR(VLOOKUP(B2445,database!$A$6:$BFQ$206,4,FALSE)),\"\",VLOOKUP(B2445,database!$A$6:$BFQ$206,4,FALSE)))","v":""},null,null,null,"",null,null,null,{"$f":"IF(B2445=\"\",\"\",IF(ISERROR(VLOOKUP(B2445,database!$A$6:$BFQ$206,3,FALSE)),\"\",VLOOKUP(B2445,database!$A$6:$BFQ$206,3,FALSE)))","v":""},null,null,null,null,null,null,""]
["",null,{"$f":"IF(B2448=\"\",\"\",IF(ISERROR(VLOOKUP(B2448,database!$A$6:$BFQ$206,4,FALSE)),\"\",VLOOKUP(B2448,database!$A$6:$BFQ$206,4,FALSE)))","v":""},null,null,null,"",null,null,null,{"$f":"IF(B2448=\"\",\"\",IF(ISERROR(VLOOKUP(B2448,database!$A$6:$BFQ$206,3,FALSE)),\"\",VLOOKUP(B2448,database!$A$6:$BFQ$206,3,FALSE)))","v":""},null,null,null,null,null,null,""]
["",null,{"$f":"IF(B2449=\"\",\"\",IF(ISERROR(VLOOKUP(B2449,database!$A$6:$BFQ$206,4,FALSE)),\"\",VLOOKUP(B2449,database!$A$6:$BFQ$206,4,FALSE)))","v":""},null,null,null,"",null,null,null,{"$f":"IF(B2449=\"\",\"\",IF(ISERROR(VLOOKUP(B2449,database!$A$6:$BFQ$206,3,FALSE)),\"\",VLOOKUP(B2449,database!$A$6:$BFQ$206,3,FALSE)))","v":""},null,null,null,null,null,null,""]
["",null,{"$f":"IF(B2451=\"\",\"\",IF(ISERROR(VLOOKUP(B2451,database!$A$6:$BFQ$206,4,FALSE)),\"\",VLOOKUP(B2451,database!$A$6:$BFQ$206,4,FALSE)))","v":""},null,null,null,"",null,null,null,{"$f":"IF(B2451=\"\",\"\",IF(ISERROR(VLOOKUP(B2451,database!$A$6:$BFQ$206,3,FALSE)),\"\",VLOOKUP(B2451,database!$A$6:$BFQ$206,3,FALSE)))","v":""},null,null,null,null,null,null,""]
["",null,{"$f":"IF(B2452=\"\",\"\",IF(ISERROR(VLOOKUP(B2452,database!$A$6:$BFQ$206,4,FALSE)),\"\",VLOOKUP(B2452,database!$A$6:$BFQ$206,4,FALSE)))","v":""},null,null,null,"",null,null,null,{"$f":"IF(B2452=\"\",\"\",IF(ISERROR(VLOOKUP(B2452,database!$A$6:$BFQ$206,3,FALSE)),\"\",VLOOKUP(B2452,database!$A$6:$BFQ$206,3,FALSE)))","v":""},null,null,null,null,null,null,""]
["",null,{"$f":"IF(B2455=\"\",\"\",IF(ISERROR(VLOOKUP(B2455,database!$A$6:$BFQ$206,4,FALSE)),\"\",VLOOKUP(B2455,database!$A$6:$BFQ$206,4,FALSE)))","v":""},null,null,null,"",null,null,null,{"$f":"IF(B2455=\"\",\"\",IF(ISERROR(VLOOKUP(B2455,database!$A$6:$BFQ$206,3,FALSE)),\"\",VLOOKUP(B2455,database!$A$6:$BFQ$206,3,FALSE)))","v":""},null,null,null,null,null,null,""]
["",null,{"$f":"IF(B2456=\"\",\"\",IF(ISERROR(VLOOKUP(B2456,database!$A$6:$BFQ$206,4,FALSE)),\"\",VLOOKUP(B2456,database!$A$6:$BFQ$206,4,FALSE)))","v":""},null,null,null,"",null,null,null,{"$f":"IF(B2456=\"\",\"\",IF(ISERROR(VLOOKUP(B2456,database!$A$6:$BFQ$206,3,FALSE)),\"\",VLOOKUP(B2456,database!$A$6:$BFQ$206,3,FALSE)))","v":""},null,null,null,null,null,null,""]
["",null,{"$f":"IF(B2458=\"\",\"\",IF(ISERROR(VLOOKUP(B2458,database!$A$6:$BFQ$206,4,FALSE)),\"\",VLOOKUP(B2458,database!$A$6:$BFQ$206,4,FALSE)))","v":""},null,null,null,"",null,null,null,{"$f":"IF(B2458=\"\",\"\",IF(ISERROR(VLOOKUP(B2458,database!$A$6:$BFQ$206,3,FALSE)),\"\",VLOOKUP(B2458,database!$A$6:$BFQ$206,3,FALSE)))","v":""},null,null,null,null,null,null,""]
["",null,{"$f":"IF(B2459=\"\",\"\",IF(ISERROR(VLOOKUP(B2459,database!$A$6:$BFQ$206,4,FALSE)),\"\",VLOOKUP(B2459,database!$A$6:$BFQ$206,4,FALSE)))","v":""},null,null,null,"",null,null,null,{"$f":"IF(B2459=\"\",\"\",IF(ISERROR(VLOOKUP(B2459,database!$A$6:$BFQ$206,3,FALSE)),\"\",VLOOKUP(B2459,database!$A$6:$BFQ$206,3,FALSE)))","v":""},null,null,null,null,null,null,""]
["",null,{"$f":"IF(B2462=\"\",\"\",IF(ISERROR(VLOOKUP(B2462,database!$A$6:$BFQ$206,4,FALSE)),\"\",VLOOKUP(B2462,database!$A$6:$BFQ$206,4,FALSE)))","v":""},null,null,null,"",null,null,null,{"$f":"IF(B2462=\"\",\"\",IF(ISERROR(VLOOKUP(B2462,database!$A$6:$BFQ$206,3,FALSE)),\"\",VLOOKUP(B2462,database!$A$6:$BFQ$206,3,FALSE)))","v":""},null,null,null,null,null,null,""]
["",null,{"$f":"IF(B2463=\"\",\"\",IF(ISERROR(VLOOKUP(B2463,database!$A$6:$BFQ$206,4,FALSE)),\"\",VLOOKUP(B2463,database!$A$6:$BFQ$206,4,FALSE)))","v":""},null,null,null,"",null,null,null,{"$f":"IF(B2463=\"\",\"\",IF(ISERROR(VLOOKUP(B2463,database!$A$6:$BFQ$206,3,FALSE)),\"\",VLOOKUP(B2463,database!$A$6:$BFQ$206,3,FALSE)))","v":""},null,null,null,null,null,null,""]
["",null,{"$f":"IF(B2465=\"\",\"\",IF(ISERROR(VLOOKUP(B2465,database!$A$6:$BFQ$206,4,FALSE)),\"\",VLOOKUP(B2465,database!$A$6:$BFQ$206,4,FALSE)))","v":""},null,null,null,"",null,null,null,{"$f":"IF(B2465=\"\",\"\",IF(ISERROR(VLOOKUP(B2465,database!$A$6:$BFQ$206,3,FALSE)),\"\",VLOOKUP(B2465,database!$A$6:$BFQ$206,3,FALSE)))","v":""},null,null,null,null,null,null,""]
["",null,{"$f":"IF(B2466=\"\",\"\",IF(ISERROR(VLOOKUP(B2466,database!$A$6:$BFQ$206,4,FALSE)),\"\",VLOOKUP(B2466,database!$A$6:$BFQ$206,4,FALSE)))","v":""},null,null,null,"",null,null,null,{"$f":"IF(B2466=\"\",\"\",IF(ISERROR(VLOOKUP(B2466,database!$A$6:$BFQ$206,3,FALSE)),\"\",VLOOKUP(B2466,database!$A$6:$BFQ$206,3,FALSE)))","v":""},null,null,null,null,null,null,""]
["",null,{"$f":"IF(B2469=\"\",\"\",IF(ISERROR(VLOOKUP(B2469,database!$A$6:$BFQ$206,4,FALSE)),\"\",VLOOKUP(B2469,database!$A$6:$BFQ$206,4,FALSE)))","v":""},null,null,null,"",null,null,null,{"$f":"IF(B2469=\"\",\"\",IF(ISERROR(VLOOKUP(B2469,database!$A$6:$BFQ$206,3,FALSE)),\"\",VLOOKUP(B2469,database!$A$6:$BFQ$206,3,FALSE)))","v":""},null,null,null,null,null,null,""]
["",null,{"$f":"IF(B2470=\"\",\"\",IF(ISERROR(VLOOKUP(B2470,database!$A$6:$BFQ$206,4,FALSE)),\"\",VLOOKUP(B2470,database!$A$6:$BFQ$206,4,FALSE)))","v":""},null,null,null,"",null,null,null,{"$f":"IF(B2470=\"\",\"\",IF(ISERROR(VLOOKUP(B2470,database!$A$6:$BFQ$206,3,FALSE)),\"\",VLOOKUP(B2470,database!$A$6:$BFQ$206,3,FALSE)))","v":""},null,null,null,null,null,null,""]
["",null,{"$f":"IF(B2472=\"\",\"\",IF(ISERROR(VLOOKUP(B2472,database!$A$6:$BFQ$206,4,FALSE)),\"\",VLOOKUP(B2472,database!$A$6:$BFQ$206,4,FALSE)))","v":""},null,null,null,"",null,null,null,{"$f":"IF(B2472=\"\",\"\",IF(ISERROR(VLOOKUP(B2472,database!$A$6:$BFQ$206,3,FALSE)),\"\",VLOOKUP(B2472,database!$A$6:$BFQ$206,3,FALSE)))","v":""},null,null,null,null,null,null,""]
["",null,{"$f":"IF(B2473=\"\",\"\",IF(ISERROR(VLOOKUP(B2473,database!$A$6:$BFQ$206,4,FALSE)),\"\",VLOOKUP(B2473,database!$A$6:$BFQ$206,4,FALSE)))","v":""},null,null,null,"",null,null,null,{"$f":"IF(B2473=\"\",\"\",IF(ISERROR(VLOOKUP(B2473,database!$A$6:$BFQ$206,3,FALSE)),\"\",VLOOKUP(B2473,database!$A$6:$BFQ$206,3,FALSE)))","v":""},null,null,null,null,null,null,""]
["",null,{"$f":"IF(B2476=\"\",\"\",IF(ISERROR(VLOOKUP(B2476,database!$A$6:$BFQ$206,4,FALSE)),\"\",VLOOKUP(B2476,database!$A$6:$BFQ$206,4,FALSE)))","v":""},null,null,null,"",null,null,null,{"$f":"IF(B2476=\"\",\"\",IF(ISERROR(VLOOKUP(B2476,database!$A$6:$BFQ$206,3,FALSE)),\"\",VLOOKUP(B2476,database!$A$6:$BFQ$206,3,FALSE)))","v":""},null,null,null,null,null,null,""]
["",null,{"$f":"IF(B2477=\"\",\"\",IF(ISERROR(VLOOKUP(B2477,database!$A$6:$BFQ$206,4,FALSE)),\"\",VLOOKUP(B2477,database!$A$6:$BFQ$206,4,FALSE)))","v":""},null,null,null,"",null,null,null,{"$f":"IF(B2477=\"\",\"\",IF(ISERROR(VLOOKUP(B2477,database!$A$6:$BFQ$206,3,FALSE)),\"\",VLOOKUP(B2477,database!$A$6:$BFQ$206,3,FALSE)))","v":""},null,null,null,null,null,null,""]
["",null,{"$f":"IF(B2479=\"\",\"\",IF(ISERROR(VLOOKUP(B2479,database!$A$6:$BFQ$206,4,FALSE)),\"\",VLOOKUP(B2479,database!$A$6:$BFQ$206,4,FALSE)))","v":""},null,null,null,"",null,null,null,{"$f":"IF(B2479=\"\",\"\",IF(ISERROR(VLOOKUP(B2479,database!$A$6:$BFQ$206,3,FALSE)),\"\",VLOOKUP(B2479,database!$A$6:$BFQ$206,3,FALSE)))","v":""},null,null,null,null,null,null,""]
["",null,{"$f":"IF(B2480=\"\",\"\",IF(ISERROR(VLOOKUP(B2480,database!$A$6:$BFQ$206,4,FALSE)),\"\",VLOOKUP(B2480,database!$A$6:$BFQ$206,4,FALSE)))","v":""},null,null,null,"",null,null,null,{"$f":"IF(B2480=\"\",\"\",IF(ISERROR(VLOOKUP(B2480,database!$A$6:$BFQ$206,3,FALSE)),\"\",VLOOKUP(B2480,database!$A$6:$BFQ$206,3,FALSE)))","v":""},null,null,null,null,null,null,""]
["",null,{"$f":"IF(B2483=\"\",\"\",IF(ISERROR(VLOOKUP(B2483,database!$A$6:$BFQ$206,4,FALSE)),\"\",VLOOKUP(B2483,database!$A$6:$BFQ$206,4,FALSE)))","v":""},null,null,null,"",null,null,null,{"$f":"IF(B2483=\"\",\"\",IF(ISERROR(VLOOKUP(B2483,database!$A$6:$BFQ$206,3,FALSE)),\"\",VLOOKUP(B2483,database!$A$6:$BFQ$206,3,FALSE)))","v":""},null,null,null,null,null,null,""]
["",null,{"$f":"IF(B2484=\"\",\"\",IF(ISERROR(VLOOKUP(B2484,database!$A$6:$BFQ$206,4,FALSE)),\"\",VLOOKUP(B2484,database!$A$6:$BFQ$206,4,FALSE)))","v":""},null,null,null,"",null,null,null,{"$f":"IF(B2484=\"\",\"\",IF(ISERROR(VLOOKUP(B2484,database!$A$6:$BFQ$206,3,FALSE)),\"\",VLOOKUP(B2484,database!$A$6:$BFQ$206,3,FALSE)))","v":""},null,null,null,null,null,null,""]
["",null,{"$f":"IF(B2486=\"\",\"\",IF(ISERROR(VLOOKUP(B2486,database!$A$6:$BFQ$206,4,FALSE)),\"\",VLOOKUP(B2486,database!$A$6:$BFQ$206,4,FALSE)))","v":""},null,null,null,"",null,null,null,{"$f":"IF(B2486=\"\",\"\",IF(ISERROR(VLOOKUP(B2486,database!$A$6:$BFQ$206,3,FALSE)),\"\",VLOOKUP(B2486,database!$A$6:$BFQ$206,3,FALSE)))","v":""},null,null,null,null,null,null,""]
["",null,{"$f":"IF(B2487=\"\",\"\",IF(ISERROR(VLOOKUP(B2487,database!$A$6:$BFQ$206,4,FALSE)),\"\",VLOOKUP(B2487,database!$A$6:$BFQ$206,4,FALSE)))","v":""},null,null,null,"",null,null,null,{"$f":"IF(B2487=\"\",\"\",IF(ISERROR(VLOOKUP(B2487,database!$A$6:$BFQ$206,3,FALSE)),\"\",VLOOKUP(B2487,database!$A$6:$BFQ$206,3,FALSE)))","v":""},null,null,null,null,null,null,""]
["",null,{"$f":"IF(B2490=\"\",\"\",IF(ISERROR(VLOOKUP(B2490,database!$A$6:$BFQ$206,4,FALSE)),\"\",VLOOKUP(B2490,database!$A$6:$BFQ$206,4,FALSE)))","v":""},null,null,null,"",null,null,null,{"$f":"IF(B2490=\"\",\"\",IF(ISERROR(VLOOKUP(B2490,database!$A$6:$BFQ$206,3,FALSE)),\"\",VLOOKUP(B2490,database!$A$6:$BFQ$206,3,FALSE)))","v":""},null,null,null,null,null,null,""]
["",null,{"$f":"IF(B2491=\"\",\"\",IF(ISERROR(VLOOKUP(B2491,database!$A$6:$BFQ$206,4,FALSE)),\"\",VLOOKUP(B2491,database!$A$6:$BFQ$206,4,FALSE)))","v":""},null,null,null,"",null,null,null,{"$f":"IF(B2491=\"\",\"\",IF(ISERROR(VLOOKUP(B2491,database!$A$6:$BFQ$206,3,FALSE)),\"\",VLOOKUP(B2491,database!$A$6:$BFQ$206,3,FALSE)))","v":""},null,null,null,null,null,null,""]
["",null,{"$f":"IF(B2493=\"\",\"\",IF(ISERROR(VLOOKUP(B2493,database!$A$6:$BFQ$206,4,FALSE)),\"\",VLOOKUP(B2493,database!$A$6:$BFQ$206,4,FALSE)))","v":""},null,null,null,"",null,null,null,{"$f":"IF(B2493=\"\",\"\",IF(ISERROR(VLOOKUP(B2493,database!$A$6:$BFQ$206,3,FALSE)),\"\",VLOOKUP(B2493,database!$A$6:$BFQ$206,3,FALSE)))","v":""},null,null,null,null,null,null,""]
["",null,{"$f":"IF(B2494=\"\",\"\",IF(ISERROR(VLOOKUP(B2494,database!$A$6:$BFQ$206,4,FALSE)),\"\",VLOOKUP(B2494,database!$A$6:$BFQ$206,4,FALSE)))","v":""},null,null,null,"",null,null,null,{"$f":"IF(B2494=\"\",\"\",IF(ISERROR(VLOOKUP(B2494,database!$A$6:$BFQ$206,3,FALSE)),\"\",VLOOKUP(B2494,database!$A$6:$BFQ$206,3,FALSE)))","v":""},null,null,null,null,null,null,""]
[{"$f":"IF(B2497=\"\",\"\",ROW(A2494))","v":""},null,{"$f":"IF(B2497=\"\",\"\",IF(ISERROR(VLOOKUP(B2497,database!$A$6:$BFQ$206,4,FALSE)),\"\",VLOOKUP(B2497,database!$A$6:$BFQ$206,4,FALSE)))","v":""},null,null,null,{"$f":"IF(B2497=\"\",\"\",IF(C2497=\"\",0,1))","v":""},null,null,null,{"$f":"IF(B2497=\"\",\"\",IF(ISERROR(VLOOKUP(B2497,database!$A$6:$BFQ$206,3,FALSE)),\"\",VLOOKUP(B2497,database!$A$6:$BFQ$206,3,FALSE)))","v":""},null,null,null,null,null,null,{"$f":"LEFT(C2497,2)","v":""}]
["",null,{"$f":"IF(B2498=\"\",\"\",IF(ISERROR(VLOOKUP(B2498,database!$A$6:$BFQ$206,4,FALSE)),\"\",VLOOKUP(B2498,database!$A$6:$BFQ$206,4,FALSE)))","v":""},null,null,null,"",null,null,null,{"$f":"IF(B2498=\"\",\"\",IF(ISERROR(VLOOKUP(B2498,database!$A$6:$BFQ$206,3,FALSE)),\"\",VLOOKUP(B2498,database!$A$6:$BFQ$206,3,FALSE)))","v":""},null,null,null,null,null,null,""]
["",null,{"$f":"IF(B2501=\"\",\"\",IF(ISERROR(VLOOKUP(B2501,database!$A$6:$BFQ$206,4,FALSE)),\"\",VLOOKUP(B2501,database!$A$6:$BFQ$206,4,FALSE)))","v":""},null,null,null,"",null,null,null,{"$f":"IF(B2501=\"\",\"\",IF(ISERROR(VLOOKUP(B2501,database!$A$6:$BFQ$206,3,FALSE)),\"\",VLOOKUP(B2501,database!$A$6:$BFQ$206,3,FALSE)))","v":""},null,null,null,null,null,null,""]
["",null,{"$f":"IF(B2502=\"\",\"\",IF(ISERROR(VLOOKUP(B2502,database!$A$6:$BFQ$206,4,FALSE)),\"\",VLOOKUP(B2502,database!$A$6:$BFQ$206,4,FALSE)))","v":""},null,null,null,"",null,null,null,{"$f":"IF(B2502=\"\",\"\",IF(ISERROR(VLOOKUP(B2502,database!$A$6:$BFQ$206,3,FALSE)),\"\",VLOOKUP(B2502,database!$A$6:$BFQ$206,3,FALSE)))","v":""},null,null,null,null,null,null,""]
["",null,{"$f":"IF(B2504=\"\",\"\",IF(ISERROR(VLOOKUP(B2504,database!$A$6:$BFQ$206,4,FALSE)),\"\",VLOOKUP(B2504,database!$A$6:$BFQ$206,4,FALSE)))","v":""},null,null,null,"",null,null,null,{"$f":"IF(B2504=\"\",\"\",IF(ISERROR(VLOOKUP(B2504,database!$A$6:$BFQ$206,3,FALSE)),\"\",VLOOKUP(B2504,database!$A$6:$BFQ$206,3,FALSE)))","v":""},null,null,null,null,null,null,""]
["",null,{"$f":"IF(B2505=\"\",\"\",IF(ISERROR(VLOOKUP(B2505,database!$A$6:$BFQ$206,4,FALSE)),\"\",VLOOKUP(B2505,database!$A$6:$BFQ$206,4,FALSE)))","v":""},null,null,null,"",null,null,null,{"$f":"IF(B2505=\"\",\"\",IF(ISERROR(VLOOKUP(B2505,database!$A$6:$BFQ$206,3,FALSE)),\"\",VLOOKUP(B2505,database!$A$6:$BFQ$206,3,FALSE)))","v":""},null,null,null,null,null,null,""]
["",null,{"$f":"IF(B2508=\"\",\"\",IF(ISERROR(VLOOKUP(B2508,database!$A$6:$BFQ$206,4,FALSE)),\"\",VLOOKUP(B2508,database!$A$6:$BFQ$206,4,FALSE)))","v":""},null,null,null,"",null,null,null,{"$f":"IF(B2508=\"\",\"\",IF(ISERROR(VLOOKUP(B2508,database!$A$6:$BFQ$206,3,FALSE)),\"\",VLOOKUP(B2508,database!$A$6:$BFQ$206,3,FALSE)))","v":""},null,null,null,null,null,null,""]
["",null,{"$f":"IF(B2509=\"\",\"\",IF(ISERROR(VLOOKUP(B2509,database!$A$6:$BFQ$206,4,FALSE)),\"\",VLOOKUP(B2509,database!$A$6:$BFQ$206,4,FALSE)))","v":""},null,null,null,"",null,null,null,{"$f":"IF(B2509=\"\",\"\",IF(ISERROR(VLOOKUP(B2509,database!$A$6:$BFQ$206,3,FALSE)),\"\",VLOOKUP(B2509,database!$A$6:$BFQ$206,3,FALSE)))","v":""},null,null,null,null,null,null,""]
["",null,{"$f":"IF(B2511=\"\",\"\",IF(ISERROR(VLOOKUP(B2511,database!$A$6:$BFQ$206,4,FALSE)),\"\",VLOOKUP(B2511,database!$A$6:$BFQ$206,4,FALSE)))","v":""},null,null,null,"",null,null,null,{"$f":"IF(B2511=\"\",\"\",IF(ISERROR(VLOOKUP(B2511,database!$A$6:$BFQ$206,3,FALSE)),\"\",VLOOKUP(B2511,database!$A$6:$BFQ$206,3,FALSE)))","v":""},null,null,null,null,null,null,""]
["",null,{"$f":"IF(B2512=\"\",\"\",IF(ISERROR(VLOOKUP(B2512,database!$A$6:$BFQ$206,4,FALSE)),\"\",VLOOKUP(B2512,database!$A$6:$BFQ$206,4,FALSE)))","v":""},null,null,null,"",null,null,null,{"$f":"IF(B2512=\"\",\"\",IF(ISERROR(VLOOKUP(B2512,database!$A$6:$BFQ$206,3,FALSE)),\"\",VLOOKUP(B2512,database!$A$6:$BFQ$206,3,FALSE)))","v":""},null,null,null,null,null,null,""]
["",null,{"$f":"IF(B2515=\"\",\"\",IF(ISERROR(VLOOKUP(B2515,database!$A$6:$BFQ$206,4,FALSE)),\"\",VLOOKUP(B2515,database!$A$6:$BFQ$206,4,FALSE)))","v":""},null,null,null,"",null,null,null,{"$f":"IF(B2515=\"\",\"\",IF(ISERROR(VLOOKUP(B2515,database!$A$6:$BFQ$206,3,FALSE)),\"\",VLOOKUP(B2515,database!$A$6:$BFQ$206,3,FALSE)))","v":""},null,null,null,null,null,null,""]
["",null,{"$f":"IF(B2516=\"\",\"\",IF(ISERROR(VLOOKUP(B2516,database!$A$6:$BFQ$206,4,FALSE)),\"\",VLOOKUP(B2516,database!$A$6:$BFQ$206,4,FALSE)))","v":""},null,null,null,"",null,null,null,{"$f":"IF(B2516=\"\",\"\",IF(ISERROR(VLOOKUP(B2516,database!$A$6:$BFQ$206,3,FALSE)),\"\",VLOOKUP(B2516,database!$A$6:$BFQ$206,3,FALSE)))","v":""},null,null,null,null,null,null,""]
["",null,{"$f":"IF(B2518=\"\",\"\",IF(ISERROR(VLOOKUP(B2518,database!$A$6:$BFQ$206,4,FALSE)),\"\",VLOOKUP(B2518,database!$A$6:$BFQ$206,4,FALSE)))","v":""},null,null,null,"",null,null,null,{"$f":"IF(B2518=\"\",\"\",IF(ISERROR(VLOOKUP(B2518,database!$A$6:$BFQ$206,3,FALSE)),\"\",VLOOKUP(B2518,database!$A$6:$BFQ$206,3,FALSE)))","v":""},null,null,null,null,null,null,""]
["",null,{"$f":"IF(B2519=\"\",\"\",IF(ISERROR(VLOOKUP(B2519,database!$A$6:$BFQ$206,4,FALSE)),\"\",VLOOKUP(B2519,database!$A$6:$BFQ$206,4,FALSE)))","v":""},null,null,null,"",null,null,null,{"$f":"IF(B2519=\"\",\"\",IF(ISERROR(VLOOKUP(B2519,database!$A$6:$BFQ$206,3,FALSE)),\"\",VLOOKUP(B2519,database!$A$6:$BFQ$206,3,FALSE)))","v":""},null,null,null,null,null,null,""]
["",null,{"$f":"IF(B2522=\"\",\"\",IF(ISERROR(VLOOKUP(B2522,database!$A$6:$BFQ$206,4,FALSE)),\"\",VLOOKUP(B2522,database!$A$6:$BFQ$206,4,FALSE)))","v":""},null,null,null,"",null,null,null,{"$f":"IF(B2522=\"\",\"\",IF(ISERROR(VLOOKUP(B2522,database!$A$6:$BFQ$206,3,FALSE)),\"\",VLOOKUP(B2522,database!$A$6:$BFQ$206,3,FALSE)))","v":""},null,null,null,null,null,null,""]
["",null,{"$f":"IF(B2523=\"\",\"\",IF(ISERROR(VLOOKUP(B2523,database!$A$6:$BFQ$206,4,FALSE)),\"\",VLOOKUP(B2523,database!$A$6:$BFQ$206,4,FALSE)))","v":""},null,null,null,"",null,null,null,{"$f":"IF(B2523=\"\",\"\",IF(ISERROR(VLOOKUP(B2523,database!$A$6:$BFQ$206,3,FALSE)),\"\",VLOOKUP(B2523,database!$A$6:$BFQ$206,3,FALSE)))","v":""},null,null,null,null,null,null,""]
["",null,{"$f":"IF(B2525=\"\",\"\",IF(ISERROR(VLOOKUP(B2525,database!$A$6:$BFQ$206,4,FALSE)),\"\",VLOOKUP(B2525,database!$A$6:$BFQ$206,4,FALSE)))","v":""},null,null,null,"",null,null,null,{"$f":"IF(B2525=\"\",\"\",IF(ISERROR(VLOOKUP(B2525,database!$A$6:$BFQ$206,3,FALSE)),\"\",VLOOKUP(B2525,database!$A$6:$BFQ$206,3,FALSE)))","v":""},null,null,null,null,null,null,""]
["",null,{"$f":"IF(B2526=\"\",\"\",IF(ISERROR(VLOOKUP(B2526,database!$A$6:$BFQ$206,4,FALSE)),\"\",VLOOKUP(B2526,database!$A$6:$BFQ$206,4,FALSE)))","v":""},null,null,null,"",null,null,null,{"$f":"IF(B2526=\"\",\"\",IF(ISERROR(VLOOKUP(B2526,database!$A$6:$BFQ$206,3,FALSE)),\"\",VLOOKUP(B2526,database!$A$6:$BFQ$206,3,FALSE)))","v":""},null,null,null,null,null,null,""]
["",null,{"$f":"IF(B2529=\"\",\"\",IF(ISERROR(VLOOKUP(B2529,database!$A$6:$BFQ$206,4,FALSE)),\"\",VLOOKUP(B2529,database!$A$6:$BFQ$206,4,FALSE)))","v":""},null,null,null,"",null,null,null,{"$f":"IF(B2529=\"\",\"\",IF(ISERROR(VLOOKUP(B2529,database!$A$6:$BFQ$206,3,FALSE)),\"\",VLOOKUP(B2529,database!$A$6:$BFQ$206,3,FALSE)))","v":""},null,null,null,null,null,null,""]
["",null,{"$f":"IF(B2530=\"\",\"\",IF(ISERROR(VLOOKUP(B2530,database!$A$6:$BFQ$206,4,FALSE)),\"\",VLOOKUP(B2530,database!$A$6:$BFQ$206,4,FALSE)))","v":""},null,null,null,"",null,null,null,{"$f":"IF(B2530=\"\",\"\",IF(ISERROR(VLOOKUP(B2530,database!$A$6:$BFQ$206,3,FALSE)),\"\",VLOOKUP(B2530,database!$A$6:$BFQ$206,3,FALSE)))","v":""},null,null,null,null,null,null,""]
["",null,{"$f":"IF(B2532=\"\",\"\",IF(ISERROR(VLOOKUP(B2532,database!$A$6:$BFQ$206,4,FALSE)),\"\",VLOOKUP(B2532,database!$A$6:$BFQ$206,4,FALSE)))","v":""},null,null,null,"",null,null,null,{"$f":"IF(B2532=\"\",\"\",IF(ISERROR(VLOOKUP(B2532,database!$A$6:$BFQ$206,3,FALSE)),\"\",VLOOKUP(B2532,database!$A$6:$BFQ$206,3,FALSE)))","v":""},null,null,null,null,null,null,""]
["",null,{"$f":"IF(B2533=\"\",\"\",IF(ISERROR(VLOOKUP(B2533,database!$A$6:$BFQ$206,4,FALSE)),\"\",VLOOKUP(B2533,database!$A$6:$BFQ$206,4,FALSE)))","v":""},null,null,null,"",null,null,null,{"$f":"IF(B2533=\"\",\"\",IF(ISERROR(VLOOKUP(B2533,database!$A$6:$BFQ$206,3,FALSE)),\"\",VLOOKUP(B2533,database!$A$6:$BFQ$206,3,FALSE)))","v":""},null,null,null,null,null,null,""]
["",null,{"$f":"IF(B2536=\"\",\"\",IF(ISERROR(VLOOKUP(B2536,database!$A$6:$BFQ$206,4,FALSE)),\"\",VLOOKUP(B2536,database!$A$6:$BFQ$206,4,FALSE)))","v":""},null,null,null,"",null,null,null,{"$f":"IF(B2536=\"\",\"\",IF(ISERROR(VLOOKUP(B2536,database!$A$6:$BFQ$206,3,FALSE)),\"\",VLOOKUP(B2536,database!$A$6:$BFQ$206,3,FALSE)))","v":""},null,null,null,null,null,null,""]
["",null,{"$f":"IF(B2537=\"\",\"\",IF(ISERROR(VLOOKUP(B2537,database!$A$6:$BFQ$206,4,FALSE)),\"\",VLOOKUP(B2537,database!$A$6:$BFQ$206,4,FALSE)))","v":""},null,null,null,"",null,null,null,{"$f":"IF(B2537=\"\",\"\",IF(ISERROR(VLOOKUP(B2537,database!$A$6:$BFQ$206,3,FALSE)),\"\",VLOOKUP(B2537,database!$A$6:$BFQ$206,3,FALSE)))","v":""},null,null,null,null,null,null,""]
["",null,{"$f":"IF(B2539=\"\",\"\",IF(ISERROR(VLOOKUP(B2539,database!$A$6:$BFQ$206,4,FALSE)),\"\",VLOOKUP(B2539,database!$A$6:$BFQ$206,4,FALSE)))","v":""},null,null,null,"",null,null,null,{"$f":"IF(B2539=\"\",\"\",IF(ISERROR(VLOOKUP(B2539,database!$A$6:$BFQ$206,3,FALSE)),\"\",VLOOKUP(B2539,database!$A$6:$BFQ$206,3,FALSE)))","v":""},null,null,null,null,null,null,""]
["",null,{"$f":"IF(B2540=\"\",\"\",IF(ISERROR(VLOOKUP(B2540,database!$A$6:$BFQ$206,4,FALSE)),\"\",VLOOKUP(B2540,database!$A$6:$BFQ$206,4,FALSE)))","v":""},null,null,null,"",null,null,null,{"$f":"IF(B2540=\"\",\"\",IF(ISERROR(VLOOKUP(B2540,database!$A$6:$BFQ$206,3,FALSE)),\"\",VLOOKUP(B2540,database!$A$6:$BFQ$206,3,FALSE)))","v":""},null,null,null,null,null,null,""]
["",null,{"$f":"IF(B2543=\"\",\"\",IF(ISERROR(VLOOKUP(B2543,database!$A$6:$BFQ$206,4,FALSE)),\"\",VLOOKUP(B2543,database!$A$6:$BFQ$206,4,FALSE)))","v":""},null,null,null,"",null,null,null,{"$f":"IF(B2543=\"\",\"\",IF(ISERROR(VLOOKUP(B2543,database!$A$6:$BFQ$206,3,FALSE)),\"\",VLOOKUP(B2543,database!$A$6:$BFQ$206,3,FALSE)))","v":""},null,null,null,null,null,null,""]
["",null,{"$f":"IF(B2544=\"\",\"\",IF(ISERROR(VLOOKUP(B2544,database!$A$6:$BFQ$206,4,FALSE)),\"\",VLOOKUP(B2544,database!$A$6:$BFQ$206,4,FALSE)))","v":""},null,null,null,"",null,null,null,{"$f":"IF(B2544=\"\",\"\",IF(ISERROR(VLOOKUP(B2544,database!$A$6:$BFQ$206,3,FALSE)),\"\",VLOOKUP(B2544,database!$A$6:$BFQ$206,3,FALSE)))","v":""},null,null,null,null,null,null,""]
["",null,{"$f":"IF(B2546=\"\",\"\",IF(ISERROR(VLOOKUP(B2546,database!$A$6:$BFQ$206,4,FALSE)),\"\",VLOOKUP(B2546,database!$A$6:$BFQ$206,4,FALSE)))","v":""},null,null,null,"",null,null,null,{"$f":"IF(B2546=\"\",\"\",IF(ISERROR(VLOOKUP(B2546,database!$A$6:$BFQ$206,3,FALSE)),\"\",VLOOKUP(B2546,database!$A$6:$BFQ$206,3,FALSE)))","v":""},null,null,null,null,null,null,""]
["",null,{"$f":"IF(B2547=\"\",\"\",IF(ISERROR(VLOOKUP(B2547,database!$A$6:$BFQ$206,4,FALSE)),\"\",VLOOKUP(B2547,database!$A$6:$BFQ$206,4,FALSE)))","v":""},null,null,null,"",null,null,null,{"$f":"IF(B2547=\"\",\"\",IF(ISERROR(VLOOKUP(B2547,database!$A$6:$BFQ$206,3,FALSE)),\"\",VLOOKUP(B2547,database!$A$6:$BFQ$206,3,FALSE)))","v":""},null,null,null,null,null,null,""]
["",null,{"$f":"IF(B2550=\"\",\"\",IF(ISERROR(VLOOKUP(B2550,database!$A$6:$BFQ$206,4,FALSE)),\"\",VLOOKUP(B2550,database!$A$6:$BFQ$206,4,FALSE)))","v":""},null,null,null,"",null,null,null,{"$f":"IF(B2550=\"\",\"\",IF(ISERROR(VLOOKUP(B2550,database!$A$6:$BFQ$206,3,FALSE)),\"\",VLOOKUP(B2550,database!$A$6:$BFQ$206,3,FALSE)))","v":""},null,null,null,null,null,null,""]
["",null,{"$f":"IF(B2551=\"\",\"\",IF(ISERROR(VLOOKUP(B2551,database!$A$6:$BFQ$206,4,FALSE)),\"\",VLOOKUP(B2551,database!$A$6:$BFQ$206,4,FALSE)))","v":""},null,null,null,"",null,null,null,{"$f":"IF(B2551=\"\",\"\",IF(ISERROR(VLOOKUP(B2551,database!$A$6:$BFQ$206,3,FALSE)),\"\",VLOOKUP(B2551,database!$A$6:$BFQ$206,3,FALSE)))","v":""},null,null,null,null,null,null,""]
["",null,{"$f":"IF(B2553=\"\",\"\",IF(ISERROR(VLOOKUP(B2553,database!$A$6:$BFQ$206,4,FALSE)),\"\",VLOOKUP(B2553,database!$A$6:$BFQ$206,4,FALSE)))","v":""},null,null,null,"",null,null,null,{"$f":"IF(B2553=\"\",\"\",IF(ISERROR(VLOOKUP(B2553,database!$A$6:$BFQ$206,3,FALSE)),\"\",VLOOKUP(B2553,database!$A$6:$BFQ$206,3,FALSE)))","v":""},null,null,null,null,null,null,""]
["",null,{"$f":"IF(B2554=\"\",\"\",IF(ISERROR(VLOOKUP(B2554,database!$A$6:$BFQ$206,4,FALSE)),\"\",VLOOKUP(B2554,database!$A$6:$BFQ$206,4,FALSE)))","v":""},null,null,null,"",null,null,null,{"$f":"IF(B2554=\"\",\"\",IF(ISERROR(VLOOKUP(B2554,database!$A$6:$BFQ$206,3,FALSE)),\"\",VLOOKUP(B2554,database!$A$6:$BFQ$206,3,FALSE)))","v":""},null,null,null,null,null,null,""]
["",null,{"$f":"IF(B2557=\"\",\"\",IF(ISERROR(VLOOKUP(B2557,database!$A$6:$BFQ$206,4,FALSE)),\"\",VLOOKUP(B2557,database!$A$6:$BFQ$206,4,FALSE)))","v":""},null,null,null,"",null,null,null,{"$f":"IF(B2557=\"\",\"\",IF(ISERROR(VLOOKUP(B2557,database!$A$6:$BFQ$206,3,FALSE)),\"\",VLOOKUP(B2557,database!$A$6:$BFQ$206,3,FALSE)))","v":""},null,null,null,null,null,null,""]
["",null,{"$f":"IF(B2558=\"\",\"\",IF(ISERROR(VLOOKUP(B2558,database!$A$6:$BFQ$206,4,FALSE)),\"\",VLOOKUP(B2558,database!$A$6:$BFQ$206,4,FALSE)))","v":""},null,null,null,"",null,null,null,{"$f":"IF(B2558=\"\",\"\",IF(ISERROR(VLOOKUP(B2558,database!$A$6:$BFQ$206,3,FALSE)),\"\",VLOOKUP(B2558,database!$A$6:$BFQ$206,3,FALSE)))","v":""},null,null,null,null,null,null,""]
["",null,{"$f":"IF(B2560=\"\",\"\",IF(ISERROR(VLOOKUP(B2560,database!$A$6:$BFQ$206,4,FALSE)),\"\",VLOOKUP(B2560,database!$A$6:$BFQ$206,4,FALSE)))","v":""},null,null,null,"",null,null,null,{"$f":"IF(B2560=\"\",\"\",IF(ISERROR(VLOOKUP(B2560,database!$A$6:$BFQ$206,3,FALSE)),\"\",VLOOKUP(B2560,database!$A$6:$BFQ$206,3,FALSE)))","v":""},null,null,null,null,null,null,""]
[{"$f":"IF(B2561=\"\",\"\",ROW(A2558))","v":""},null,{"$f":"IF(B2561=\"\",\"\",IF(ISERROR(VLOOKUP(B2561,database!$A$6:$BFQ$206,4,FALSE)),\"\",VLOOKUP(B2561,database!$A$6:$BFQ$206,4,FALSE)))","v":""},null,null,null,{"$f":"IF(B2561=\"\",\"\",IF(C2561=\"\",0,1))","v":""},null,null,null,{"$f":"IF(B2561=\"\",\"\",IF(ISERROR(VLOOKUP(B2561,database!$A$6:$BFQ$206,3,FALSE)),\"\",VLOOKUP(B2561,database!$A$6:$BFQ$206,3,FALSE)))","v":""},null,null,null,null,null,null,{"$f":"LEFT(C2561,2)","v":""}]
["",null,{"$f":"IF(B2564=\"\",\"\",IF(ISERROR(VLOOKUP(B2564,database!$A$6:$BFQ$206,4,FALSE)),\"\",VLOOKUP(B2564,database!$A$6:$BFQ$206,4,FALSE)))","v":""},null,null,null,"",null,null,null,{"$f":"IF(B2564=\"\",\"\",IF(ISERROR(VLOOKUP(B2564,database!$A$6:$BFQ$206,3,FALSE)),\"\",VLOOKUP(B2564,database!$A$6:$BFQ$206,3,FALSE)))","v":""},null,null,null,null,null,null,""]
["",null,{"$f":"IF(B2565=\"\",\"\",IF(ISERROR(VLOOKUP(B2565,database!$A$6:$BFQ$206,4,FALSE)),\"\",VLOOKUP(B2565,database!$A$6:$BFQ$206,4,FALSE)))","v":""},null,null,null,"",null,null,null,{"$f":"IF(B2565=\"\",\"\",IF(ISERROR(VLOOKUP(B2565,database!$A$6:$BFQ$206,3,FALSE)),\"\",VLOOKUP(B2565,database!$A$6:$BFQ$206,3,FALSE)))","v":""},null,null,null,null,null,null,""]
["",null,{"$f":"IF(B2567=\"\",\"\",IF(ISERROR(VLOOKUP(B2567,database!$A$6:$BFQ$206,4,FALSE)),\"\",VLOOKUP(B2567,database!$A$6:$BFQ$206,4,FALSE)))","v":""},null,null,null,"",null,null,null,{"$f":"IF(B2567=\"\",\"\",IF(ISERROR(VLOOKUP(B2567,database!$A$6:$BFQ$206,3,FALSE)),\"\",VLOOKUP(B2567,database!$A$6:$BFQ$206,3,FALSE)))","v":""},null,null,null,null,null,null,""]
["",null,{"$f":"IF(B2568=\"\",\"\",IF(ISERROR(VLOOKUP(B2568,database!$A$6:$BFQ$206,4,FALSE)),\"\",VLOOKUP(B2568,database!$A$6:$BFQ$206,4,FALSE)))","v":""},null,null,null,"",null,null,null,{"$f":"IF(B2568=\"\",\"\",IF(ISERROR(VLOOKUP(B2568,database!$A$6:$BFQ$206,3,FALSE)),\"\",VLOOKUP(B2568,database!$A$6:$BFQ$206,3,FALSE)))","v":""},null,null,null,null,null,null,""]
["",null,{"$f":"IF(B2571=\"\",\"\",IF(ISERROR(VLOOKUP(B2571,database!$A$6:$BFQ$206,4,FALSE)),\"\",VLOOKUP(B2571,database!$A$6:$BFQ$206,4,FALSE)))","v":""},null,null,null,"",null,null,null,{"$f":"IF(B2571=\"\",\"\",IF(ISERROR(VLOOKUP(B2571,database!$A$6:$BFQ$206,3,FALSE)),\"\",VLOOKUP(B2571,database!$A$6:$BFQ$206,3,FALSE)))","v":""},null,null,null,null,null,null,""]
["",null,{"$f":"IF(B2572=\"\",\"\",IF(ISERROR(VLOOKUP(B2572,database!$A$6:$BFQ$206,4,FALSE)),\"\",VLOOKUP(B2572,database!$A$6:$BFQ$206,4,FALSE)))","v":""},null,null,null,"",null,null,null,{"$f":"IF(B2572=\"\",\"\",IF(ISERROR(VLOOKUP(B2572,database!$A$6:$BFQ$206,3,FALSE)),\"\",VLOOKUP(B2572,database!$A$6:$BFQ$206,3,FALSE)))","v":""},null,null,null,null,null,null,""]
["",null,{"$f":"IF(B2574=\"\",\"\",IF(ISERROR(VLOOKUP(B2574,database!$A$6:$BFQ$206,4,FALSE)),\"\",VLOOKUP(B2574,database!$A$6:$BFQ$206,4,FALSE)))","v":""},null,null,null,"",null,null,null,{"$f":"IF(B2574=\"\",\"\",IF(ISERROR(VLOOKUP(B2574,database!$A$6:$BFQ$206,3,FALSE)),\"\",VLOOKUP(B2574,database!$A$6:$BFQ$206,3,FALSE)))","v":""},null,null,null,null,null,null,""]
["",null,{"$f":"IF(B2575=\"\",\"\",IF(ISERROR(VLOOKUP(B2575,database!$A$6:$BFQ$206,4,FALSE)),\"\",VLOOKUP(B2575,database!$A$6:$BFQ$206,4,FALSE)))","v":""},null,null,null,"",null,null,null,{"$f":"IF(B2575=\"\",\"\",IF(ISERROR(VLOOKUP(B2575,database!$A$6:$BFQ$206,3,FALSE)),\"\",VLOOKUP(B2575,database!$A$6:$BFQ$206,3,FALSE)))","v":""},null,null,null,null,null,null,""]
["",null,{"$f":"IF(B2578=\"\",\"\",IF(ISERROR(VLOOKUP(B2578,database!$A$6:$BFQ$206,4,FALSE)),\"\",VLOOKUP(B2578,database!$A$6:$BFQ$206,4,FALSE)))","v":""},null,null,null,"",null,null,null,{"$f":"IF(B2578=\"\",\"\",IF(ISERROR(VLOOKUP(B2578,database!$A$6:$BFQ$206,3,FALSE)),\"\",VLOOKUP(B2578,database!$A$6:$BFQ$206,3,FALSE)))","v":""},null,null,null,null,null,null,""]
["",null,{"$f":"IF(B2579=\"\",\"\",IF(ISERROR(VLOOKUP(B2579,database!$A$6:$BFQ$206,4,FALSE)),\"\",VLOOKUP(B2579,database!$A$6:$BFQ$206,4,FALSE)))","v":""},null,null,null,"",null,null,null,{"$f":"IF(B2579=\"\",\"\",IF(ISERROR(VLOOKUP(B2579,database!$A$6:$BFQ$206,3,FALSE)),\"\",VLOOKUP(B2579,database!$A$6:$BFQ$206,3,FALSE)))","v":""},null,null,null,null,null,null,""]
["",null,{"$f":"IF(B2581=\"\",\"\",IF(ISERROR(VLOOKUP(B2581,database!$A$6:$BFQ$206,4,FALSE)),\"\",VLOOKUP(B2581,database!$A$6:$BFQ$206,4,FALSE)))","v":""},null,null,null,"",null,null,null,{"$f":"IF(B2581=\"\",\"\",IF(ISERROR(VLOOKUP(B2581,database!$A$6:$BFQ$206,3,FALSE)),\"\",VLOOKUP(B2581,database!$A$6:$BFQ$206,3,FALSE)))","v":""},null,null,null,null,null,null,""]
["",null,{"$f":"IF(B2582=\"\",\"\",IF(ISERROR(VLOOKUP(B2582,database!$A$6:$BFQ$206,4,FALSE)),\"\",VLOOKUP(B2582,database!$A$6:$BFQ$206,4,FALSE)))","v":""},null,null,null,"",null,null,null,{"$f":"IF(B2582=\"\",\"\",IF(ISERROR(VLOOKUP(B2582,database!$A$6:$BFQ$206,3,FALSE)),\"\",VLOOKUP(B2582,database!$A$6:$BFQ$206,3,FALSE)))","v":""},null,null,null,null,null,null,""]
["",null,{"$f":"IF(B2585=\"\",\"\",IF(ISERROR(VLOOKUP(B2585,database!$A$6:$BFQ$206,4,FALSE)),\"\",VLOOKUP(B2585,database!$A$6:$BFQ$206,4,FALSE)))","v":""},null,null,null,"",null,null,null,{"$f":"IF(B2585=\"\",\"\",IF(ISERROR(VLOOKUP(B2585,database!$A$6:$BFQ$206,3,FALSE)),\"\",VLOOKUP(B2585,database!$A$6:$BFQ$206,3,FALSE)))","v":""},null,null,null,null,null,null,""]
["",null,{"$f":"IF(B2586=\"\",\"\",IF(ISERROR(VLOOKUP(B2586,database!$A$6:$BFQ$206,4,FALSE)),\"\",VLOOKUP(B2586,database!$A$6:$BFQ$206,4,FALSE)))","v":""},null,null,null,"",null,null,null,{"$f":"IF(B2586=\"\",\"\",IF(ISERROR(VLOOKUP(B2586,database!$A$6:$BFQ$206,3,FALSE)),\"\",VLOOKUP(B2586,database!$A$6:$BFQ$206,3,FALSE)))","v":""},null,null,null,null,null,null,""]
["",null,{"$f":"IF(B2588=\"\",\"\",IF(ISERROR(VLOOKUP(B2588,database!$A$6:$BFQ$206,4,FALSE)),\"\",VLOOKUP(B2588,database!$A$6:$BFQ$206,4,FALSE)))","v":""},null,null,null,"",null,null,null,{"$f":"IF(B2588=\"\",\"\",IF(ISERROR(VLOOKUP(B2588,database!$A$6:$BFQ$206,3,FALSE)),\"\",VLOOKUP(B2588,database!$A$6:$BFQ$206,3,FALSE)))","v":""},null,null,null,null,null,null,""]
["",null,{"$f":"IF(B2589=\"\",\"\",IF(ISERROR(VLOOKUP(B2589,database!$A$6:$BFQ$206,4,FALSE)),\"\",VLOOKUP(B2589,database!$A$6:$BFQ$206,4,FALSE)))","v":""},null,null,null,"",null,null,null,{"$f":"IF(B2589=\"\",\"\",IF(ISERROR(VLOOKUP(B2589,database!$A$6:$BFQ$206,3,FALSE)),\"\",VLOOKUP(B2589,database!$A$6:$BFQ$206,3,FALSE)))","v":""},null,null,null,null,null,null,""]
["",null,{"$f":"IF(B2592=\"\",\"\",IF(ISERROR(VLOOKUP(B2592,database!$A$6:$BFQ$206,4,FALSE)),\"\",VLOOKUP(B2592,database!$A$6:$BFQ$206,4,FALSE)))","v":""},null,null,null,"",null,null,null,{"$f":"IF(B2592=\"\",\"\",IF(ISERROR(VLOOKUP(B2592,database!$A$6:$BFQ$206,3,FALSE)),\"\",VLOOKUP(B2592,database!$A$6:$BFQ$206,3,FALSE)))","v":""},null,null,null,null,null,null,""]
["",null,{"$f":"IF(B2593=\"\",\"\",IF(ISERROR(VLOOKUP(B2593,database!$A$6:$BFQ$206,4,FALSE)),\"\",VLOOKUP(B2593,database!$A$6:$BFQ$206,4,FALSE)))","v":""},null,null,null,"",null,null,null,{"$f":"IF(B2593=\"\",\"\",IF(ISERROR(VLOOKUP(B2593,database!$A$6:$BFQ$206,3,FALSE)),\"\",VLOOKUP(B2593,database!$A$6:$BFQ$206,3,FALSE)))","v":""},null,null,null,null,null,null,""]
["",null,{"$f":"IF(B2595=\"\",\"\",IF(ISERROR(VLOOKUP(B2595,database!$A$6:$BFQ$206,4,FALSE)),\"\",VLOOKUP(B2595,database!$A$6:$BFQ$206,4,FALSE)))","v":""},null,null,null,"",null,null,null,{"$f":"IF(B2595=\"\",\"\",IF(ISERROR(VLOOKUP(B2595,database!$A$6:$BFQ$206,3,FALSE)),\"\",VLOOKUP(B2595,database!$A$6:$BFQ$206,3,FALSE)))","v":""},null,null,null,null,null,null,""]
["",null,{"$f":"IF(B2596=\"\",\"\",IF(ISERROR(VLOOKUP(B2596,database!$A$6:$BFQ$206,4,FALSE)),\"\",VLOOKUP(B2596,database!$A$6:$BFQ$206,4,FALSE)))","v":""},null,null,null,"",null,null,null,{"$f":"IF(B2596=\"\",\"\",IF(ISERROR(VLOOKUP(B2596,database!$A$6:$BFQ$206,3,FALSE)),\"\",VLOOKUP(B2596,database!$A$6:$BFQ$206,3,FALSE)))","v":""},null,null,null,null,null,null,""]
["",null,{"$f":"IF(B2599=\"\",\"\",IF(ISERROR(VLOOKUP(B2599,database!$A$6:$BFQ$206,4,FALSE)),\"\",VLOOKUP(B2599,database!$A$6:$BFQ$206,4,FALSE)))","v":""},null,null,null,"",null,null,null,{"$f":"IF(B2599=\"\",\"\",IF(ISERROR(VLOOKUP(B2599,database!$A$6:$BFQ$206,3,FALSE)),\"\",VLOOKUP(B2599,database!$A$6:$BFQ$206,3,FALSE)))","v":""},null,null,null,null,null,null,""]
["",null,{"$f":"IF(B2600=\"\",\"\",IF(ISERROR(VLOOKUP(B2600,database!$A$6:$BFQ$206,4,FALSE)),\"\",VLOOKUP(B2600,database!$A$6:$BFQ$206,4,FALSE)))","v":""},null,null,null,"",null,null,null,{"$f":"IF(B2600=\"\",\"\",IF(ISERROR(VLOOKUP(B2600,database!$A$6:$BFQ$206,3,FALSE)),\"\",VLOOKUP(B2600,database!$A$6:$BFQ$206,3,FALSE)))","v":""},null,null,null,null,null,null,""]
["",null,{"$f":"IF(B2602=\"\",\"\",IF(ISERROR(VLOOKUP(B2602,database!$A$6:$BFQ$206,4,FALSE)),\"\",VLOOKUP(B2602,database!$A$6:$BFQ$206,4,FALSE)))","v":""},null,null,null,"",null,null,null,{"$f":"IF(B2602=\"\",\"\",IF(ISERROR(VLOOKUP(B2602,database!$A$6:$BFQ$206,3,FALSE)),\"\",VLOOKUP(B2602,database!$A$6:$BFQ$206,3,FALSE)))","v":""},null,null,null,null,null,null,""]
["",null,{"$f":"IF(B2603=\"\",\"\",IF(ISERROR(VLOOKUP(B2603,database!$A$6:$BFQ$206,4,FALSE)),\"\",VLOOKUP(B2603,database!$A$6:$BFQ$206,4,FALSE)))","v":""},null,null,null,"",null,null,null,{"$f":"IF(B2603=\"\",\"\",IF(ISERROR(VLOOKUP(B2603,database!$A$6:$BFQ$206,3,FALSE)),\"\",VLOOKUP(B2603,database!$A$6:$BFQ$206,3,FALSE)))","v":""},null,null,null,null,null,null,""]
["",null,{"$f":"IF(B2606=\"\",\"\",IF(ISERROR(VLOOKUP(B2606,database!$A$6:$BFQ$206,4,FALSE)),\"\",VLOOKUP(B2606,database!$A$6:$BFQ$206,4,FALSE)))","v":""},null,null,null,"",null,null,null,{"$f":"IF(B2606=\"\",\"\",IF(ISERROR(VLOOKUP(B2606,database!$A$6:$BFQ$206,3,FALSE)),\"\",VLOOKUP(B2606,database!$A$6:$BFQ$206,3,FALSE)))","v":""},null,null,null,null,null,null,""]
["",null,{"$f":"IF(B2607=\"\",\"\",IF(ISERROR(VLOOKUP(B2607,database!$A$6:$BFQ$206,4,FALSE)),\"\",VLOOKUP(B2607,database!$A$6:$BFQ$206,4,FALSE)))","v":""},null,null,null,"",null,null,null,{"$f":"IF(B2607=\"\",\"\",IF(ISERROR(VLOOKUP(B2607,database!$A$6:$BFQ$206,3,FALSE)),\"\",VLOOKUP(B2607,database!$A$6:$BFQ$206,3,FALSE)))","v":""},null,null,null,null,null,null,""]
["",null,{"$f":"IF(B2610=\"\",\"\",IF(ISERROR(VLOOKUP(B2610,database!$A$6:$BFQ$206,4,FALSE)),\"\",VLOOKUP(B2610,database!$A$6:$BFQ$206,4,FALSE)))","v":""},null,null,null,"",null,null,null,{"$f":"IF(B2610=\"\",\"\",IF(ISERROR(VLOOKUP(B2610,database!$A$6:$BFQ$206,3,FALSE)),\"\",VLOOKUP(B2610,database!$A$6:$BFQ$206,3,FALSE)))","v":""},null,null,null,null,null,null,""]
["",null,{"$f":"IF(B2611=\"\",\"\",IF(ISERROR(VLOOKUP(B2611,database!$A$6:$BFQ$206,4,FALSE)),\"\",VLOOKUP(B2611,database!$A$6:$BFQ$206,4,FALSE)))","v":""},null,null,null,"",null,null,null,{"$f":"IF(B2611=\"\",\"\",IF(ISERROR(VLOOKUP(B2611,database!$A$6:$BFQ$206,3,FALSE)),\"\",VLOOKUP(B2611,database!$A$6:$BFQ$206,3,FALSE)))","v":""},null,null,null,null,null,null,""]
["",null,{"$f":"IF(B2613=\"\",\"\",IF(ISERROR(VLOOKUP(B2613,database!$A$6:$BFQ$206,4,FALSE)),\"\",VLOOKUP(B2613,database!$A$6:$BFQ$206,4,FALSE)))","v":""},null,null,null,"",null,null,null,{"$f":"IF(B2613=\"\",\"\",IF(ISERROR(VLOOKUP(B2613,database!$A$6:$BFQ$206,3,FALSE)),\"\",VLOOKUP(B2613,database!$A$6:$BFQ$206,3,FALSE)))","v":""},null,null,null,null,null,null,""]
["",null,{"$f":"IF(B2614=\"\",\"\",IF(ISERROR(VLOOKUP(B2614,database!$A$6:$BFQ$206,4,FALSE)),\"\",VLOOKUP(B2614,database!$A$6:$BFQ$206,4,FALSE)))","v":""},null,null,null,"",null,null,null,{"$f":"IF(B2614=\"\",\"\",IF(ISERROR(VLOOKUP(B2614,database!$A$6:$BFQ$206,3,FALSE)),\"\",VLOOKUP(B2614,database!$A$6:$BFQ$206,3,FALSE)))","v":""},null,null,null,null,null,null,""]
["",null,{"$f":"IF(B2617=\"\",\"\",IF(ISERROR(VLOOKUP(B2617,database!$A$6:$BFQ$206,4,FALSE)),\"\",VLOOKUP(B2617,database!$A$6:$BFQ$206,4,FALSE)))","v":""},null,null,null,"",null,null,null,{"$f":"IF(B2617=\"\",\"\",IF(ISERROR(VLOOKUP(B2617,database!$A$6:$BFQ$206,3,FALSE)),\"\",VLOOKUP(B2617,database!$A$6:$BFQ$206,3,FALSE)))","v":""},null,null,null,null,null,null,""]
["",null,{"$f":"IF(B2618=\"\",\"\",IF(ISERROR(VLOOKUP(B2618,database!$A$6:$BFQ$206,4,FALSE)),\"\",VLOOKUP(B2618,database!$A$6:$BFQ$206,4,FALSE)))","v":""},null,null,null,"",null,null,null,{"$f":"IF(B2618=\"\",\"\",IF(ISERROR(VLOOKUP(B2618,database!$A$6:$BFQ$206,3,FALSE)),\"\",VLOOKUP(B2618,database!$A$6:$BFQ$206,3,FALSE)))","v":""},null,null,null,null,null,null,""]
["",null,{"$f":"IF(B2620=\"\",\"\",IF(ISERROR(VLOOKUP(B2620,database!$A$6:$BFQ$206,4,FALSE)),\"\",VLOOKUP(B2620,database!$A$6:$BFQ$206,4,FALSE)))","v":""},null,null,null,"",null,null,null,{"$f":"IF(B2620=\"\",\"\",IF(ISERROR(VLOOKUP(B2620,database!$A$6:$BFQ$206,3,FALSE)),\"\",VLOOKUP(B2620,database!$A$6:$BFQ$206,3,FALSE)))","v":""},null,null,null,null,null,null,""]
["",null,{"$f":"IF(B2621=\"\",\"\",IF(ISERROR(VLOOKUP(B2621,database!$A$6:$BFQ$206,4,FALSE)),\"\",VLOOKUP(B2621,database!$A$6:$BFQ$206,4,FALSE)))","v":""},null,null,null,"",null,null,null,{"$f":"IF(B2621=\"\",\"\",IF(ISERROR(VLOOKUP(B2621,database!$A$6:$BFQ$206,3,FALSE)),\"\",VLOOKUP(B2621,database!$A$6:$BFQ$206,3,FALSE)))","v":""},null,null,null,null,null,null,""]
["",null,{"$f":"IF(B2624=\"\",\"\",IF(ISERROR(VLOOKUP(B2624,database!$A$6:$BFQ$206,4,FALSE)),\"\",VLOOKUP(B2624,database!$A$6:$BFQ$206,4,FALSE)))","v":""},null,null,null,"",null,null,null,{"$f":"IF(B2624=\"\",\"\",IF(ISERROR(VLOOKUP(B2624,database!$A$6:$BFQ$206,3,FALSE)),\"\",VLOOKUP(B2624,database!$A$6:$BFQ$206,3,FALSE)))","v":""},null,null,null,null,null,null,""]
[{"$f":"IF(B2625=\"\",\"\",ROW(A2622))","v":""},null,{"$f":"IF(B2625=\"\",\"\",IF(ISERROR(VLOOKUP(B2625,database!$A$6:$BFQ$206,4,FALSE)),\"\",VLOOKUP(B2625,database!$A$6:$BFQ$206,4,FALSE)))","v":""},null,null,null,{"$f":"IF(B2625=\"\",\"\",IF(C2625=\"\",0,1))","v":""},null,null,null,{"$f":"IF(B2625=\"\",\"\",IF(ISERROR(VLOOKUP(B2625,database!$A$6:$BFQ$206,3,FALSE)),\"\",VLOOKUP(B2625,database!$A$6:$BFQ$206,3,FALSE)))","v":""},null,null,null,null,null,null,{"$f":"LEFT(C2625,2)","v":""}]
["",null,{"$f":"IF(B2627=\"\",\"\",IF(ISERROR(VLOOKUP(B2627,database!$A$6:$BFQ$206,4,FALSE)),\"\",VLOOKUP(B2627,database!$A$6:$BFQ$206,4,FALSE)))","v":""},null,null,null,"",null,null,null,{"$f":"IF(B2627=\"\",\"\",IF(ISERROR(VLOOKUP(B2627,database!$A$6:$BFQ$206,3,FALSE)),\"\",VLOOKUP(B2627,database!$A$6:$BFQ$206,3,FALSE)))","v":""},null,null,null,null,null,null,""]
["",null,{"$f":"IF(B2628=\"\",\"\",IF(ISERROR(VLOOKUP(B2628,database!$A$6:$BFQ$206,4,FALSE)),\"\",VLOOKUP(B2628,database!$A$6:$BFQ$206,4,FALSE)))","v":""},null,null,null,"",null,null,null,{"$f":"IF(B2628=\"\",\"\",IF(ISERROR(VLOOKUP(B2628,database!$A$6:$BFQ$206,3,FALSE)),\"\",VLOOKUP(B2628,database!$A$6:$BFQ$206,3,FALSE)))","v":""},null,null,null,null,null,null,""]
["",null,{"$f":"IF(B2631=\"\",\"\",IF(ISERROR(VLOOKUP(B2631,database!$A$6:$BFQ$206,4,FALSE)),\"\",VLOOKUP(B2631,database!$A$6:$BFQ$206,4,FALSE)))","v":""},null,null,null,"",null,null,null,{"$f":"IF(B2631=\"\",\"\",IF(ISERROR(VLOOKUP(B2631,database!$A$6:$BFQ$206,3,FALSE)),\"\",VLOOKUP(B2631,database!$A$6:$BFQ$206,3,FALSE)))","v":""},null,null,null,null,null,null,""]
["",null,{"$f":"IF(B2632=\"\",\"\",IF(ISERROR(VLOOKUP(B2632,database!$A$6:$BFQ$206,4,FALSE)),\"\",VLOOKUP(B2632,database!$A$6:$BFQ$206,4,FALSE)))","v":""},null,null,null,"",null,null,null,{"$f":"IF(B2632=\"\",\"\",IF(ISERROR(VLOOKUP(B2632,database!$A$6:$BFQ$206,3,FALSE)),\"\",VLOOKUP(B2632,database!$A$6:$BFQ$206,3,FALSE)))","v":""},null,null,null,null,null,null,""]
["",null,{"$f":"IF(B2634=\"\",\"\",IF(ISERROR(VLOOKUP(B2634,database!$A$6:$BFQ$206,4,FALSE)),\"\",VLOOKUP(B2634,database!$A$6:$BFQ$206,4,FALSE)))","v":""},null,null,null,"",null,null,null,{"$f":"IF(B2634=\"\",\"\",IF(ISERROR(VLOOKUP(B2634,database!$A$6:$BFQ$206,3,FALSE)),\"\",VLOOKUP(B2634,database!$A$6:$BFQ$206,3,FALSE)))","v":""},null,null,null,null,null,null,""]
["",null,{"$f":"IF(B2635=\"\",\"\",IF(ISERROR(VLOOKUP(B2635,database!$A$6:$BFQ$206,4,FALSE)),\"\",VLOOKUP(B2635,database!$A$6:$BFQ$206,4,FALSE)))","v":""},null,null,null,"",null,null,null,{"$f":"IF(B2635=\"\",\"\",IF(ISERROR(VLOOKUP(B2635,database!$A$6:$BFQ$206,3,FALSE)),\"\",VLOOKUP(B2635,database!$A$6:$BFQ$206,3,FALSE)))","v":""},null,null,null,null,null,null,""]
["",null,{"$f":"IF(B2638=\"\",\"\",IF(ISERROR(VLOOKUP(B2638,database!$A$6:$BFQ$206,4,FALSE)),\"\",VLOOKUP(B2638,database!$A$6:$BFQ$206,4,FALSE)))","v":""},null,null,null,"",null,null,null,{"$f":"IF(B2638=\"\",\"\",IF(ISERROR(VLOOKUP(B2638,database!$A$6:$BFQ$206,3,FALSE)),\"\",VLOOKUP(B2638,database!$A$6:$BFQ$206,3,FALSE)))","v":""},null,null,null,null,null,null,""]
["",null,{"$f":"IF(B2639=\"\",\"\",IF(ISERROR(VLOOKUP(B2639,database!$A$6:$BFQ$206,4,FALSE)),\"\",VLOOKUP(B2639,database!$A$6:$BFQ$206,4,FALSE)))","v":""},null,null,null,"",null,null,null,{"$f":"IF(B2639=\"\",\"\",IF(ISERROR(VLOOKUP(B2639,database!$A$6:$BFQ$206,3,FALSE)),\"\",VLOOKUP(B2639,database!$A$6:$BFQ$206,3,FALSE)))","v":""},null,null,null,null,null,null,""]
["",null,{"$f":"IF(B2641=\"\",\"\",IF(ISERROR(VLOOKUP(B2641,database!$A$6:$BFQ$206,4,FALSE)),\"\",VLOOKUP(B2641,database!$A$6:$BFQ$206,4,FALSE)))","v":""},null,null,null,"",null,null,null,{"$f":"IF(B2641=\"\",\"\",IF(ISERROR(VLOOKUP(B2641,database!$A$6:$BFQ$206,3,FALSE)),\"\",VLOOKUP(B2641,database!$A$6:$BFQ$206,3,FALSE)))","v":""},null,null,null,null,null,null,""]
["",null,{"$f":"IF(B2642=\"\",\"\",IF(ISERROR(VLOOKUP(B2642,database!$A$6:$BFQ$206,4,FALSE)),\"\",VLOOKUP(B2642,database!$A$6:$BFQ$206,4,FALSE)))","v":""},null,null,null,"",null,null,null,{"$f":"IF(B2642=\"\",\"\",IF(ISERROR(VLOOKUP(B2642,database!$A$6:$BFQ$206,3,FALSE)),\"\",VLOOKUP(B2642,database!$A$6:$BFQ$206,3,FALSE)))","v":""},null,null,null,null,null,null,""]
["",null,{"$f":"IF(B2645=\"\",\"\",IF(ISERROR(VLOOKUP(B2645,database!$A$6:$BFQ$206,4,FALSE)),\"\",VLOOKUP(B2645,database!$A$6:$BFQ$206,4,FALSE)))","v":""},null,null,null,"",null,null,null,{"$f":"IF(B2645=\"\",\"\",IF(ISERROR(VLOOKUP(B2645,database!$A$6:$BFQ$206,3,FALSE)),\"\",VLOOKUP(B2645,database!$A$6:$BFQ$206,3,FALSE)))","v":""},null,null,null,null,null,null,""]
["",null,{"$f":"IF(B2646=\"\",\"\",IF(ISERROR(VLOOKUP(B2646,database!$A$6:$BFQ$206,4,FALSE)),\"\",VLOOKUP(B2646,database!$A$6:$BFQ$206,4,FALSE)))","v":""},null,null,null,"",null,null,null,{"$f":"IF(B2646=\"\",\"\",IF(ISERROR(VLOOKUP(B2646,database!$A$6:$BFQ$206,3,FALSE)),\"\",VLOOKUP(B2646,database!$A$6:$BFQ$206,3,FALSE)))","v":""},null,null,null,null,null,null,""]
["",null,{"$f":"IF(B2648=\"\",\"\",IF(ISERROR(VLOOKUP(B2648,database!$A$6:$BFQ$206,4,FALSE)),\"\",VLOOKUP(B2648,database!$A$6:$BFQ$206,4,FALSE)))","v":""},null,null,null,"",null,null,null,{"$f":"IF(B2648=\"\",\"\",IF(ISERROR(VLOOKUP(B2648,database!$A$6:$BFQ$206,3,FALSE)),\"\",VLOOKUP(B2648,database!$A$6:$BFQ$206,3,FALSE)))","v":""},null,null,null,null,null,null,""]
["",null,{"$f":"IF(B2649=\"\",\"\",IF(ISERROR(VLOOKUP(B2649,database!$A$6:$BFQ$206,4,FALSE)),\"\",VLOOKUP(B2649,database!$A$6:$BFQ$206,4,FALSE)))","v":""},null,null,null,"",null,null,null,{"$f":"IF(B2649=\"\",\"\",IF(ISERROR(VLOOKUP(B2649,database!$A$6:$BFQ$206,3,FALSE)),\"\",VLOOKUP(B2649,database!$A$6:$BFQ$206,3,FALSE)))","v":""},null,null,null,null,null,null,""]
["",null,{"$f":"IF(B2652=\"\",\"\",IF(ISERROR(VLOOKUP(B2652,database!$A$6:$BFQ$206,4,FALSE)),\"\",VLOOKUP(B2652,database!$A$6:$BFQ$206,4,FALSE)))","v":""},null,null,null,"",null,null,null,{"$f":"IF(B2652=\"\",\"\",IF(ISERROR(VLOOKUP(B2652,database!$A$6:$BFQ$206,3,FALSE)),\"\",VLOOKUP(B2652,database!$A$6:$BFQ$206,3,FALSE)))","v":""},null,null,null,null,null,null,""]
["",null,{"$f":"IF(B2653=\"\",\"\",IF(ISERROR(VLOOKUP(B2653,database!$A$6:$BFQ$206,4,FALSE)),\"\",VLOOKUP(B2653,database!$A$6:$BFQ$206,4,FALSE)))","v":""},null,null,null,"",null,null,null,{"$f":"IF(B2653=\"\",\"\",IF(ISERROR(VLOOKUP(B2653,database!$A$6:$BFQ$206,3,FALSE)),\"\",VLOOKUP(B2653,database!$A$6:$BFQ$206,3,FALSE)))","v":""},null,null,null,null,null,null,""]
["",null,{"$f":"IF(B2655=\"\",\"\",IF(ISERROR(VLOOKUP(B2655,database!$A$6:$BFQ$206,4,FALSE)),\"\",VLOOKUP(B2655,database!$A$6:$BFQ$206,4,FALSE)))","v":""},null,null,null,"",null,null,null,{"$f":"IF(B2655=\"\",\"\",IF(ISERROR(VLOOKUP(B2655,database!$A$6:$BFQ$206,3,FALSE)),\"\",VLOOKUP(B2655,database!$A$6:$BFQ$206,3,FALSE)))","v":""},null,null,null,null,null,null,""]
["",null,{"$f":"IF(B2656=\"\",\"\",IF(ISERROR(VLOOKUP(B2656,database!$A$6:$BFQ$206,4,FALSE)),\"\",VLOOKUP(B2656,database!$A$6:$BFQ$206,4,FALSE)))","v":""},null,null,null,"",null,null,null,{"$f":"IF(B2656=\"\",\"\",IF(ISERROR(VLOOKUP(B2656,database!$A$6:$BFQ$206,3,FALSE)),\"\",VLOOKUP(B2656,database!$A$6:$BFQ$206,3,FALSE)))","v":""},null,null,null,null,null,null,""]
["",null,{"$f":"IF(B2659=\"\",\"\",IF(ISERROR(VLOOKUP(B2659,database!$A$6:$BFQ$206,4,FALSE)),\"\",VLOOKUP(B2659,database!$A$6:$BFQ$206,4,FALSE)))","v":""},null,null,null,"",null,null,null,{"$f":"IF(B2659=\"\",\"\",IF(ISERROR(VLOOKUP(B2659,database!$A$6:$BFQ$206,3,FALSE)),\"\",VLOOKUP(B2659,database!$A$6:$BFQ$206,3,FALSE)))","v":""},null,null,null,null,null,null,""]
["",null,{"$f":"IF(B2660=\"\",\"\",IF(ISERROR(VLOOKUP(B2660,database!$A$6:$BFQ$206,4,FALSE)),\"\",VLOOKUP(B2660,database!$A$6:$BFQ$206,4,FALSE)))","v":""},null,null,null,"",null,null,null,{"$f":"IF(B2660=\"\",\"\",IF(ISERROR(VLOOKUP(B2660,database!$A$6:$BFQ$206,3,FALSE)),\"\",VLOOKUP(B2660,database!$A$6:$BFQ$206,3,FALSE)))","v":""},null,null,null,null,null,null,""]
["",null,{"$f":"IF(B2662=\"\",\"\",IF(ISERROR(VLOOKUP(B2662,database!$A$6:$BFQ$206,4,FALSE)),\"\",VLOOKUP(B2662,database!$A$6:$BFQ$206,4,FALSE)))","v":""},null,null,null,"",null,null,null,{"$f":"IF(B2662=\"\",\"\",IF(ISERROR(VLOOKUP(B2662,database!$A$6:$BFQ$206,3,FALSE)),\"\",VLOOKUP(B2662,database!$A$6:$BFQ$206,3,FALSE)))","v":""},null,null,null,null,null,null,""]
["",null,{"$f":"IF(B2663=\"\",\"\",IF(ISERROR(VLOOKUP(B2663,database!$A$6:$BFQ$206,4,FALSE)),\"\",VLOOKUP(B2663,database!$A$6:$BFQ$206,4,FALSE)))","v":""},null,null,null,"",null,null,null,{"$f":"IF(B2663=\"\",\"\",IF(ISERROR(VLOOKUP(B2663,database!$A$6:$BFQ$206,3,FALSE)),\"\",VLOOKUP(B2663,database!$A$6:$BFQ$206,3,FALSE)))","v":""},null,null,null,null,null,null,""]
["",null,{"$f":"IF(B2666=\"\",\"\",IF(ISERROR(VLOOKUP(B2666,database!$A$6:$BFQ$206,4,FALSE)),\"\",VLOOKUP(B2666,database!$A$6:$BFQ$206,4,FALSE)))","v":""},null,null,null,"",null,null,null,{"$f":"IF(B2666=\"\",\"\",IF(ISERROR(VLOOKUP(B2666,database!$A$6:$BFQ$206,3,FALSE)),\"\",VLOOKUP(B2666,database!$A$6:$BFQ$206,3,FALSE)))","v":""},null,null,null,null,null,null,""]
["",null,{"$f":"IF(B2667=\"\",\"\",IF(ISERROR(VLOOKUP(B2667,database!$A$6:$BFQ$206,4,FALSE)),\"\",VLOOKUP(B2667,database!$A$6:$BFQ$206,4,FALSE)))","v":""},null,null,null,"",null,null,null,{"$f":"IF(B2667=\"\",\"\",IF(ISERROR(VLOOKUP(B2667,database!$A$6:$BFQ$206,3,FALSE)),\"\",VLOOKUP(B2667,database!$A$6:$BFQ$206,3,FALSE)))","v":""},null,null,null,null,null,null,""]
["",null,{"$f":"IF(B2669=\"\",\"\",IF(ISERROR(VLOOKUP(B2669,database!$A$6:$BFQ$206,4,FALSE)),\"\",VLOOKUP(B2669,database!$A$6:$BFQ$206,4,FALSE)))","v":""},null,null,null,"",null,null,null,{"$f":"IF(B2669=\"\",\"\",IF(ISERROR(VLOOKUP(B2669,database!$A$6:$BFQ$206,3,FALSE)),\"\",VLOOKUP(B2669,database!$A$6:$BFQ$206,3,FALSE)))","v":""},null,null,null,null,null,null,""]
["",null,{"$f":"IF(B2670=\"\",\"\",IF(ISERROR(VLOOKUP(B2670,database!$A$6:$BFQ$206,4,FALSE)),\"\",VLOOKUP(B2670,database!$A$6:$BFQ$206,4,FALSE)))","v":""},null,null,null,"",null,null,null,{"$f":"IF(B2670=\"\",\"\",IF(ISERROR(VLOOKUP(B2670,database!$A$6:$BFQ$206,3,FALSE)),\"\",VLOOKUP(B2670,database!$A$6:$BFQ$206,3,FALSE)))","v":""},null,null,null,null,null,null,""]
["",null,{"$f":"IF(B2673=\"\",\"\",IF(ISERROR(VLOOKUP(B2673,database!$A$6:$BFQ$206,4,FALSE)),\"\",VLOOKUP(B2673,database!$A$6:$BFQ$206,4,FALSE)))","v":""},null,null,null,"",null,null,null,{"$f":"IF(B2673=\"\",\"\",IF(ISERROR(VLOOKUP(B2673,database!$A$6:$BFQ$206,3,FALSE)),\"\",VLOOKUP(B2673,database!$A$6:$BFQ$206,3,FALSE)))","v":""},null,null,null,null,null,null,""]
["",null,{"$f":"IF(B2674=\"\",\"\",IF(ISERROR(VLOOKUP(B2674,database!$A$6:$BFQ$206,4,FALSE)),\"\",VLOOKUP(B2674,database!$A$6:$BFQ$206,4,FALSE)))","v":""},null,null,null,"",null,null,null,{"$f":"IF(B2674=\"\",\"\",IF(ISERROR(VLOOKUP(B2674,database!$A$6:$BFQ$206,3,FALSE)),\"\",VLOOKUP(B2674,database!$A$6:$BFQ$206,3,FALSE)))","v":""},null,null,null,null,null,null,""]
["",null,{"$f":"IF(B2676=\"\",\"\",IF(ISERROR(VLOOKUP(B2676,database!$A$6:$BFQ$206,4,FALSE)),\"\",VLOOKUP(B2676,database!$A$6:$BFQ$206,4,FALSE)))","v":""},null,null,null,"",null,null,null,{"$f":"IF(B2676=\"\",\"\",IF(ISERROR(VLOOKUP(B2676,database!$A$6:$BFQ$206,3,FALSE)),\"\",VLOOKUP(B2676,database!$A$6:$BFQ$206,3,FALSE)))","v":""},null,null,null,null,null,null,""]
["",null,{"$f":"IF(B2677=\"\",\"\",IF(ISERROR(VLOOKUP(B2677,database!$A$6:$BFQ$206,4,FALSE)),\"\",VLOOKUP(B2677,database!$A$6:$BFQ$206,4,FALSE)))","v":""},null,null,null,"",null,null,null,{"$f":"IF(B2677=\"\",\"\",IF(ISERROR(VLOOKUP(B2677,database!$A$6:$BFQ$206,3,FALSE)),\"\",VLOOKUP(B2677,database!$A$6:$BFQ$206,3,FALSE)))","v":""},null,null,null,null,null,null,""]
["",null,{"$f":"IF(B2680=\"\",\"\",IF(ISERROR(VLOOKUP(B2680,database!$A$6:$BFQ$206,4,FALSE)),\"\",VLOOKUP(B2680,database!$A$6:$BFQ$206,4,FALSE)))","v":""},null,null,null,"",null,null,null,{"$f":"IF(B2680=\"\",\"\",IF(ISERROR(VLOOKUP(B2680,database!$A$6:$BFQ$206,3,FALSE)),\"\",VLOOKUP(B2680,database!$A$6:$BFQ$206,3,FALSE)))","v":""},null,null,null,null,null,null,""]
["",null,{"$f":"IF(B2681=\"\",\"\",IF(ISERROR(VLOOKUP(B2681,database!$A$6:$BFQ$206,4,FALSE)),\"\",VLOOKUP(B2681,database!$A$6:$BFQ$206,4,FALSE)))","v":""},null,null,null,"",null,null,null,{"$f":"IF(B2681=\"\",\"\",IF(ISERROR(VLOOKUP(B2681,database!$A$6:$BFQ$206,3,FALSE)),\"\",VLOOKUP(B2681,database!$A$6:$BFQ$206,3,FALSE)))","v":""},null,null,null,null,null,null,""]
["",null,{"$f":"IF(B2683=\"\",\"\",IF(ISERROR(VLOOKUP(B2683,database!$A$6:$BFQ$206,4,FALSE)),\"\",VLOOKUP(B2683,database!$A$6:$BFQ$206,4,FALSE)))","v":""},null,null,null,"",null,null,null,{"$f":"IF(B2683=\"\",\"\",IF(ISERROR(VLOOKUP(B2683,database!$A$6:$BFQ$206,3,FALSE)),\"\",VLOOKUP(B2683,database!$A$6:$BFQ$206,3,FALSE)))","v":""},null,null,null,null,null,null,""]
["",null,{"$f":"IF(B2684=\"\",\"\",IF(ISERROR(VLOOKUP(B2684,database!$A$6:$BFQ$206,4,FALSE)),\"\",VLOOKUP(B2684,database!$A$6:$BFQ$206,4,FALSE)))","v":""},null,null,null,"",null,null,null,{"$f":"IF(B2684=\"\",\"\",IF(ISERROR(VLOOKUP(B2684,database!$A$6:$BFQ$206,3,FALSE)),\"\",VLOOKUP(B2684,database!$A$6:$BFQ$206,3,FALSE)))","v":""},null,null,null,null,null,null,""]
["",null,{"$f":"IF(B2687=\"\",\"\",IF(ISERROR(VLOOKUP(B2687,database!$A$6:$BFQ$206,4,FALSE)),\"\",VLOOKUP(B2687,database!$A$6:$BFQ$206,4,FALSE)))","v":""},null,null,null,"",null,null,null,{"$f":"IF(B2687=\"\",\"\",IF(ISERROR(VLOOKUP(B2687,database!$A$6:$BFQ$206,3,FALSE)),\"\",VLOOKUP(B2687,database!$A$6:$BFQ$206,3,FALSE)))","v":""},null,null,null,null,null,null,""]
["",null,{"$f":"IF(B2688=\"\",\"\",IF(ISERROR(VLOOKUP(B2688,database!$A$6:$BFQ$206,4,FALSE)),\"\",VLOOKUP(B2688,database!$A$6:$BFQ$206,4,FALSE)))","v":""},null,null,null,"",null,null,null,{"$f":"IF(B2688=\"\",\"\",IF(ISERROR(VLOOKUP(B2688,database!$A$6:$BFQ$206,3,FALSE)),\"\",VLOOKUP(B2688,database!$A$6:$BFQ$206,3,FALSE)))","v":""},null,null,null,null,null,null,""]
["",null,{"$f":"IF(B2690=\"\",\"\",IF(ISERROR(VLOOKUP(B2690,database!$A$6:$BFQ$206,4,FALSE)),\"\",VLOOKUP(B2690,database!$A$6:$BFQ$206,4,FALSE)))","v":""},null,null,null,"",null,null,null,{"$f":"IF(B2690=\"\",\"\",IF(ISERROR(VLOOKUP(B2690,database!$A$6:$BFQ$206,3,FALSE)),\"\",VLOOKUP(B2690,database!$A$6:$BFQ$206,3,FALSE)))","v":""},null,null,null,null,null,null,""]
["",null,{"$f":"IF(B2691=\"\",\"\",IF(ISERROR(VLOOKUP(B2691,database!$A$6:$BFQ$206,4,FALSE)),\"\",VLOOKUP(B2691,database!$A$6:$BFQ$206,4,FALSE)))","v":""},null,null,null,"",null,null,null,{"$f":"IF(B2691=\"\",\"\",IF(ISERROR(VLOOKUP(B2691,database!$A$6:$BFQ$206,3,FALSE)),\"\",VLOOKUP(B2691,database!$A$6:$BFQ$206,3,FALSE)))","v":""},null,null,null,null,null,null,""]
["",null,{"$f":"IF(B2694=\"\",\"\",IF(ISERROR(VLOOKUP(B2694,database!$A$6:$BFQ$206,4,FALSE)),\"\",VLOOKUP(B2694,database!$A$6:$BFQ$206,4,FALSE)))","v":""},null,null,null,"",null,null,null,{"$f":"IF(B2694=\"\",\"\",IF(ISERROR(VLOOKUP(B2694,database!$A$6:$BFQ$206,3,FALSE)),\"\",VLOOKUP(B2694,database!$A$6:$BFQ$206,3,FALSE)))","v":""},null,null,null,null,null,null,""]
["",null,{"$f":"IF(B2695=\"\",\"\",IF(ISERROR(VLOOKUP(B2695,database!$A$6:$BFQ$206,4,FALSE)),\"\",VLOOKUP(B2695,database!$A$6:$BFQ$206,4,FALSE)))","v":""},null,null,null,"",null,null,null,{"$f":"IF(B2695=\"\",\"\",IF(ISERROR(VLOOKUP(B2695,database!$A$6:$BFQ$206,3,FALSE)),\"\",VLOOKUP(B2695,database!$A$6:$BFQ$206,3,FALSE)))","v":""},null,null,null,null,null,null,""]
["",null,{"$f":"IF(B2697=\"\",\"\",IF(ISERROR(VLOOKUP(B2697,database!$A$6:$BFQ$206,4,FALSE)),\"\",VLOOKUP(B2697,database!$A$6:$BFQ$206,4,FALSE)))","v":""},null,null,null,"",null,null,null,{"$f":"IF(B2697=\"\",\"\",IF(ISERROR(VLOOKUP(B2697,database!$A$6:$BFQ$206,3,FALSE)),\"\",VLOOKUP(B2697,database!$A$6:$BFQ$206,3,FALSE)))","v":""},null,null,null,null,null,null,""]
["",null,{"$f":"IF(B2698=\"\",\"\",IF(ISERROR(VLOOKUP(B2698,database!$A$6:$BFQ$206,4,FALSE)),\"\",VLOOKUP(B2698,database!$A$6:$BFQ$206,4,FALSE)))","v":""},null,null,null,"",null,null,null,{"$f":"IF(B2698=\"\",\"\",IF(ISERROR(VLOOKUP(B2698,database!$A$6:$BFQ$206,3,FALSE)),\"\",VLOOKUP(B2698,database!$A$6:$BFQ$206,3,FALSE)))","v":""},null,null,null,null,null,null,""]
["",null,{"$f":"IF(B2701=\"\",\"\",IF(ISERROR(VLOOKUP(B2701,database!$A$6:$BFQ$206,4,FALSE)),\"\",VLOOKUP(B2701,database!$A$6:$BFQ$206,4,FALSE)))","v":""},null,null,null,"",null,null,null,{"$f":"IF(B2701=\"\",\"\",IF(ISERROR(VLOOKUP(B2701,database!$A$6:$BFQ$206,3,FALSE)),\"\",VLOOKUP(B2701,database!$A$6:$BFQ$206,3,FALSE)))","v":""},null,null,null,null,null,null,""]
["",null,{"$f":"IF(B2702=\"\",\"\",IF(ISERROR(VLOOKUP(B2702,database!$A$6:$BFQ$206,4,FALSE)),\"\",VLOOKUP(B2702,database!$A$6:$BFQ$206,4,FALSE)))","v":""},null,null,null,"",null,null,null,{"$f":"IF(B2702=\"\",\"\",IF(ISERROR(VLOOKUP(B2702,database!$A$6:$BFQ$206,3,FALSE)),\"\",VLOOKUP(B2702,database!$A$6:$BFQ$206,3,FALSE)))","v":""},null,null,null,null,null,null,""]
["",null,{"$f":"IF(B2704=\"\",\"\",IF(ISERROR(VLOOKUP(B2704,database!$A$6:$BFQ$206,4,FALSE)),\"\",VLOOKUP(B2704,database!$A$6:$BFQ$206,4,FALSE)))","v":""},null,null,null,"",null,null,null,{"$f":"IF(B2704=\"\",\"\",IF(ISERROR(VLOOKUP(B2704,database!$A$6:$BFQ$206,3,FALSE)),\"\",VLOOKUP(B2704,database!$A$6:$BFQ$206,3,FALSE)))","v":""},null,null,null,null,null,null,""]
["",null,{"$f":"IF(B2705=\"\",\"\",IF(ISERROR(VLOOKUP(B2705,database!$A$6:$BFQ$206,4,FALSE)),\"\",VLOOKUP(B2705,database!$A$6:$BFQ$206,4,FALSE)))","v":""},null,null,null,"",null,null,null,{"$f":"IF(B2705=\"\",\"\",IF(ISERROR(VLOOKUP(B2705,database!$A$6:$BFQ$206,3,FALSE)),\"\",VLOOKUP(B2705,database!$A$6:$BFQ$206,3,FALSE)))","v":""},null,null,null,null,null,null,""]
["",null,{"$f":"IF(B2708=\"\",\"\",IF(ISERROR(VLOOKUP(B2708,database!$A$6:$BFQ$206,4,FALSE)),\"\",VLOOKUP(B2708,database!$A$6:$BFQ$206,4,FALSE)))","v":""},null,null,null,"",null,null,null,{"$f":"IF(B2708=\"\",\"\",IF(ISERROR(VLOOKUP(B2708,database!$A$6:$BFQ$206,3,FALSE)),\"\",VLOOKUP(B2708,database!$A$6:$BFQ$206,3,FALSE)))","v":""},null,null,null,null,null,null,""]
["",null,{"$f":"IF(B2709=\"\",\"\",IF(ISERROR(VLOOKUP(B2709,database!$A$6:$BFQ$206,4,FALSE)),\"\",VLOOKUP(B2709,database!$A$6:$BFQ$206,4,FALSE)))","v":""},null,null,null,"",null,null,null,{"$f":"IF(B2709=\"\",\"\",IF(ISERROR(VLOOKUP(B2709,database!$A$6:$BFQ$206,3,FALSE)),\"\",VLOOKUP(B2709,database!$A$6:$BFQ$206,3,FALSE)))","v":""},null,null,null,null,null,null,""]
["",null,{"$f":"IF(B2711=\"\",\"\",IF(ISERROR(VLOOKUP(B2711,database!$A$6:$BFQ$206,4,FALSE)),\"\",VLOOKUP(B2711,database!$A$6:$BFQ$206,4,FALSE)))","v":""},null,null,null,"",null,null,null,{"$f":"IF(B2711=\"\",\"\",IF(ISERROR(VLOOKUP(B2711,database!$A$6:$BFQ$206,3,FALSE)),\"\",VLOOKUP(B2711,database!$A$6:$BFQ$206,3,FALSE)))","v":""},null,null,null,null,null,null,""]
["",null,{"$f":"IF(B2712=\"\",\"\",IF(ISERROR(VLOOKUP(B2712,database!$A$6:$BFQ$206,4,FALSE)),\"\",VLOOKUP(B2712,database!$A$6:$BFQ$206,4,FALSE)))","v":""},null,null,null,"",null,null,null,{"$f":"IF(B2712=\"\",\"\",IF(ISERROR(VLOOKUP(B2712,database!$A$6:$BFQ$206,3,FALSE)),\"\",VLOOKUP(B2712,database!$A$6:$BFQ$206,3,FALSE)))","v":""},null,null,null,null,null,null,""]
["",null,{"$f":"IF(B2715=\"\",\"\",IF(ISERROR(VLOOKUP(B2715,database!$A$6:$BFQ$206,4,FALSE)),\"\",VLOOKUP(B2715,database!$A$6:$BFQ$206,4,FALSE)))","v":""},null,null,null,"",null,null,null,{"$f":"IF(B2715=\"\",\"\",IF(ISERROR(VLOOKUP(B2715,database!$A$6:$BFQ$206,3,FALSE)),\"\",VLOOKUP(B2715,database!$A$6:$BFQ$206,3,FALSE)))","v":""},null,null,null,null,null,null,""]
["",null,{"$f":"IF(B2716=\"\",\"\",IF(ISERROR(VLOOKUP(B2716,database!$A$6:$BFQ$206,4,FALSE)),\"\",VLOOKUP(B2716,database!$A$6:$BFQ$206,4,FALSE)))","v":""},null,null,null,"",null,null,null,{"$f":"IF(B2716=\"\",\"\",IF(ISERROR(VLOOKUP(B2716,database!$A$6:$BFQ$206,3,FALSE)),\"\",VLOOKUP(B2716,database!$A$6:$BFQ$206,3,FALSE)))","v":""},null,null,null,null,null,null,""]
["",null,{"$f":"IF(B2719=\"\",\"\",IF(ISERROR(VLOOKUP(B2719,database!$A$6:$BFQ$206,4,FALSE)),\"\",VLOOKUP(B2719,database!$A$6:$BFQ$206,4,FALSE)))","v":""},null,null,null,"",null,null,null,{"$f":"IF(B2719=\"\",\"\",IF(ISERROR(VLOOKUP(B2719,database!$A$6:$BFQ$206,3,FALSE)),\"\",VLOOKUP(B2719,database!$A$6:$BFQ$206,3,FALSE)))","v":""},null,null,null,null,null,null,""]
["",null,{"$f":"IF(B2720=\"\",\"\",IF(ISERROR(VLOOKUP(B2720,database!$A$6:$BFQ$206,4,FALSE)),\"\",VLOOKUP(B2720,database!$A$6:$BFQ$206,4,FALSE)))","v":""},null,null,null,"",null,null,null,{"$f":"IF(B2720=\"\",\"\",IF(ISERROR(VLOOKUP(B2720,database!$A$6:$BFQ$206,3,FALSE)),\"\",VLOOKUP(B2720,database!$A$6:$BFQ$206,3,FALSE)))","v":""},null,null,null,null,null,null,""]
["",null,{"$f":"IF(B2722=\"\",\"\",IF(ISERROR(VLOOKUP(B2722,database!$A$6:$BFQ$206,4,FALSE)),\"\",VLOOKUP(B2722,database!$A$6:$BFQ$206,4,FALSE)))","v":""},null,null,null,"",null,null,null,{"$f":"IF(B2722=\"\",\"\",IF(ISERROR(VLOOKUP(B2722,database!$A$6:$BFQ$206,3,FALSE)),\"\",VLOOKUP(B2722,database!$A$6:$BFQ$206,3,FALSE)))","v":""},null,null,null,null,null,null,""]
["",null,{"$f":"IF(B2723=\"\",\"\",IF(ISERROR(VLOOKUP(B2723,database!$A$6:$BFQ$206,4,FALSE)),\"\",VLOOKUP(B2723,database!$A$6:$BFQ$206,4,FALSE)))","v":""},null,null,null,"",null,null,null,{"$f":"IF(B2723=\"\",\"\",IF(ISERROR(VLOOKUP(B2723,database!$A$6:$BFQ$206,3,FALSE)),\"\",VLOOKUP(B2723,database!$A$6:$BFQ$206,3,FALSE)))","v":""},null,null,null,null,null,null,""]
["",null,{"$f":"IF(B2726=\"\",\"\",IF(ISERROR(VLOOKUP(B2726,database!$A$6:$BFQ$206,4,FALSE)),\"\",VLOOKUP(B2726,database!$A$6:$BFQ$206,4,FALSE)))","v":""},null,null,null,"",null,null,null,{"$f":"IF(B2726=\"\",\"\",IF(ISERROR(VLOOKUP(B2726,database!$A$6:$BFQ$206,3,FALSE)),\"\",VLOOKUP(B2726,database!$A$6:$BFQ$206,3,FALSE)))","v":""},null,null,null,null,null,null,""]
["",null,{"$f":"IF(B2727=\"\",\"\",IF(ISERROR(VLOOKUP(B2727,database!$A$6:$BFQ$206,4,FALSE)),\"\",VLOOKUP(B2727,database!$A$6:$BFQ$206,4,FALSE)))","v":""},null,null,null,"",null,null,null,{"$f":"IF(B2727=\"\",\"\",IF(ISERROR(VLOOKUP(B2727,database!$A$6:$BFQ$206,3,FALSE)),\"\",VLOOKUP(B2727,database!$A$6:$BFQ$206,3,FALSE)))","v":""},null,null,null,null,null,null,""]
["",null,{"$f":"IF(B2729=\"\",\"\",IF(ISERROR(VLOOKUP(B2729,database!$A$6:$BFQ$206,4,FALSE)),\"\",VLOOKUP(B2729,database!$A$6:$BFQ$206,4,FALSE)))","v":""},null,null,null,"",null,null,null,{"$f":"IF(B2729=\"\",\"\",IF(ISERROR(VLOOKUP(B2729,database!$A$6:$BFQ$206,3,FALSE)),\"\",VLOOKUP(B2729,database!$A$6:$BFQ$206,3,FALSE)))","v":""},null,null,null,null,null,null,""]
["",null,{"$f":"IF(B2730=\"\",\"\",IF(ISERROR(VLOOKUP(B2730,database!$A$6:$BFQ$206,4,FALSE)),\"\",VLOOKUP(B2730,database!$A$6:$BFQ$206,4,FALSE)))","v":""},null,null,null,"",null,null,null,{"$f":"IF(B2730=\"\",\"\",IF(ISERROR(VLOOKUP(B2730,database!$A$6:$BFQ$206,3,FALSE)),\"\",VLOOKUP(B2730,database!$A$6:$BFQ$206,3,FALSE)))","v":""},null,null,null,null,null,null,""]
["",null,{"$f":"IF(B2733=\"\",\"\",IF(ISERROR(VLOOKUP(B2733,database!$A$6:$BFQ$206,4,FALSE)),\"\",VLOOKUP(B2733,database!$A$6:$BFQ$206,4,FALSE)))","v":""},null,null,null,"",null,null,null,{"$f":"IF(B2733=\"\",\"\",IF(ISERROR(VLOOKUP(B2733,database!$A$6:$BFQ$206,3,FALSE)),\"\",VLOOKUP(B2733,database!$A$6:$BFQ$206,3,FALSE)))","v":""},null,null,null,null,null,null,""]
["",null,{"$f":"IF(B2734=\"\",\"\",IF(ISERROR(VLOOKUP(B2734,database!$A$6:$BFQ$206,4,FALSE)),\"\",VLOOKUP(B2734,database!$A$6:$BFQ$206,4,FALSE)))","v":""},null,null,null,"",null,null,null,{"$f":"IF(B2734=\"\",\"\",IF(ISERROR(VLOOKUP(B2734,database!$A$6:$BFQ$206,3,FALSE)),\"\",VLOOKUP(B2734,database!$A$6:$BFQ$206,3,FALSE)))","v":""},null,null,null,null,null,null,""]
["",null,{"$f":"IF(B2736=\"\",\"\",IF(ISERROR(VLOOKUP(B2736,database!$A$6:$BFQ$206,4,FALSE)),\"\",VLOOKUP(B2736,database!$A$6:$BFQ$206,4,FALSE)))","v":""},null,null,null,"",null,null,null,{"$f":"IF(B2736=\"\",\"\",IF(ISERROR(VLOOKUP(B2736,database!$A$6:$BFQ$206,3,FALSE)),\"\",VLOOKUP(B2736,database!$A$6:$BFQ$206,3,FALSE)))","v":""},null,null,null,null,null,null,""]
["",null,{"$f":"IF(B2737=\"\",\"\",IF(ISERROR(VLOOKUP(B2737,database!$A$6:$BFQ$206,4,FALSE)),\"\",VLOOKUP(B2737,database!$A$6:$BFQ$206,4,FALSE)))","v":""},null,null,null,"",null,null,null,{"$f":"IF(B2737=\"\",\"\",IF(ISERROR(VLOOKUP(B2737,database!$A$6:$BFQ$206,3,FALSE)),\"\",VLOOKUP(B2737,database!$A$6:$BFQ$206,3,FALSE)))","v":""},null,null,null,null,null,null,""]
["",null,{"$f":"IF(B2740=\"\",\"\",IF(ISERROR(VLOOKUP(B2740,database!$A$6:$BFQ$206,4,FALSE)),\"\",VLOOKUP(B2740,database!$A$6:$BFQ$206,4,FALSE)))","v":""},null,null,null,"",null,null,null,{"$f":"IF(B2740=\"\",\"\",IF(ISERROR(VLOOKUP(B2740,database!$A$6:$BFQ$206,3,FALSE)),\"\",VLOOKUP(B2740,database!$A$6:$BFQ$206,3,FALSE)))","v":""},null,null,null,null,null,null,""]
["",null,{"$f":"IF(B2741=\"\",\"\",IF(ISERROR(VLOOKUP(B2741,database!$A$6:$BFQ$206,4,FALSE)),\"\",VLOOKUP(B2741,database!$A$6:$BFQ$206,4,FALSE)))","v":""},null,null,null,"",null,null,null,{"$f":"IF(B2741=\"\",\"\",IF(ISERROR(VLOOKUP(B2741,database!$A$6:$BFQ$206,3,FALSE)),\"\",VLOOKUP(B2741,database!$A$6:$BFQ$206,3,FALSE)))","v":""},null,null,null,null,null,null,""]
["",null,{"$f":"IF(B2743=\"\",\"\",IF(ISERROR(VLOOKUP(B2743,database!$A$6:$BFQ$206,4,FALSE)),\"\",VLOOKUP(B2743,database!$A$6:$BFQ$206,4,FALSE)))","v":""},null,null,null,"",null,null,null,{"$f":"IF(B2743=\"\",\"\",IF(ISERROR(VLOOKUP(B2743,database!$A$6:$BFQ$206,3,FALSE)),\"\",VLOOKUP(B2743,database!$A$6:$BFQ$206,3,FALSE)))","v":""},null,null,null,null,null,null,""]
["",null,{"$f":"IF(B2744=\"\",\"\",IF(ISERROR(VLOOKUP(B2744,database!$A$6:$BFQ$206,4,FALSE)),\"\",VLOOKUP(B2744,database!$A$6:$BFQ$206,4,FALSE)))","v":""},null,null,null,"",null,null,null,{"$f":"IF(B2744=\"\",\"\",IF(ISERROR(VLOOKUP(B2744,database!$A$6:$BFQ$206,3,FALSE)),\"\",VLOOKUP(B2744,database!$A$6:$BFQ$206,3,FALSE)))","v":""},null,null,null,null,null,null,""]
["",null,{"$f":"IF(B2747=\"\",\"\",IF(ISERROR(VLOOKUP(B2747,database!$A$6:$BFQ$206,4,FALSE)),\"\",VLOOKUP(B2747,database!$A$6:$BFQ$206,4,FALSE)))","v":""},null,null,null,"",null,null,null,{"$f":"IF(B2747=\"\",\"\",IF(ISERROR(VLOOKUP(B2747,database!$A$6:$BFQ$206,3,FALSE)),\"\",VLOOKUP(B2747,database!$A$6:$BFQ$206,3,FALSE)))","v":""},null,null,null,null,null,null,""]
["",null,{"$f":"IF(B2748=\"\",\"\",IF(ISERROR(VLOOKUP(B2748,database!$A$6:$BFQ$206,4,FALSE)),\"\",VLOOKUP(B2748,database!$A$6:$BFQ$206,4,FALSE)))","v":""},null,null,null,"",null,null,null,{"$f":"IF(B2748=\"\",\"\",IF(ISERROR(VLOOKUP(B2748,database!$A$6:$BFQ$206,3,FALSE)),\"\",VLOOKUP(B2748,database!$A$6:$BFQ$206,3,FALSE)))","v":""},null,null,null,null,null,null,""]
["",null,{"$f":"IF(B2750=\"\",\"\",IF(ISERROR(VLOOKUP(B2750,database!$A$6:$BFQ$206,4,FALSE)),\"\",VLOOKUP(B2750,database!$A$6:$BFQ$206,4,FALSE)))","v":""},null,null,null,"",null,null,null,{"$f":"IF(B2750=\"\",\"\",IF(ISERROR(VLOOKUP(B2750,database!$A$6:$BFQ$206,3,FALSE)),\"\",VLOOKUP(B2750,database!$A$6:$BFQ$206,3,FALSE)))","v":""},null,null,null,null,null,null,""]
["",null,{"$f":"IF(B2751=\"\",\"\",IF(ISERROR(VLOOKUP(B2751,database!$A$6:$BFQ$206,4,FALSE)),\"\",VLOOKUP(B2751,database!$A$6:$BFQ$206,4,FALSE)))","v":""},null,null,null,"",null,null,null,{"$f":"IF(B2751=\"\",\"\",IF(ISERROR(VLOOKUP(B2751,database!$A$6:$BFQ$206,3,FALSE)),\"\",VLOOKUP(B2751,database!$A$6:$BFQ$206,3,FALSE)))","v":""},null,null,null,null,null,null,""]
["",null,{"$f":"IF(B2754=\"\",\"\",IF(ISERROR(VLOOKUP(B2754,database!$A$6:$BFQ$206,4,FALSE)),\"\",VLOOKUP(B2754,database!$A$6:$BFQ$206,4,FALSE)))","v":""},null,null,null,"",null,null,null,{"$f":"IF(B2754=\"\",\"\",IF(ISERROR(VLOOKUP(B2754,database!$A$6:$BFQ$206,3,FALSE)),\"\",VLOOKUP(B2754,database!$A$6:$BFQ$206,3,FALSE)))","v":""},null,null,null,null,null,null,""]
["",null,{"$f":"IF(B2755=\"\",\"\",IF(ISERROR(VLOOKUP(B2755,database!$A$6:$BFQ$206,4,FALSE)),\"\",VLOOKUP(B2755,database!$A$6:$BFQ$206,4,FALSE)))","v":""},null,null,null,"",null,null,null,{"$f":"IF(B2755=\"\",\"\",IF(ISERROR(VLOOKUP(B2755,database!$A$6:$BFQ$206,3,FALSE)),\"\",VLOOKUP(B2755,database!$A$6:$BFQ$206,3,FALSE)))","v":""},null,null,null,null,null,null,""]
["",null,{"$f":"IF(B2757=\"\",\"\",IF(ISERROR(VLOOKUP(B2757,database!$A$6:$BFQ$206,4,FALSE)),\"\",VLOOKUP(B2757,database!$A$6:$BFQ$206,4,FALSE)))","v":""},null,null,null,"",null,null,null,{"$f":"IF(B2757=\"\",\"\",IF(ISERROR(VLOOKUP(B2757,database!$A$6:$BFQ$206,3,FALSE)),\"\",VLOOKUP(B2757,database!$A$6:$BFQ$206,3,FALSE)))","v":""},null,null,null,null,null,null,""]
["",null,{"$f":"IF(B2758=\"\",\"\",IF(ISERROR(VLOOKUP(B2758,database!$A$6:$BFQ$206,4,FALSE)),\"\",VLOOKUP(B2758,database!$A$6:$BFQ$206,4,FALSE)))","v":""},null,null,null,"",null,null,null,{"$f":"IF(B2758=\"\",\"\",IF(ISERROR(VLOOKUP(B2758,database!$A$6:$BFQ$206,3,FALSE)),\"\",VLOOKUP(B2758,database!$A$6:$BFQ$206,3,FALSE)))","v":""},null,null,null,null,null,null,""]
["",null,{"$f":"IF(B2761=\"\",\"\",IF(ISERROR(VLOOKUP(B2761,database!$A$6:$BFQ$206,4,FALSE)),\"\",VLOOKUP(B2761,database!$A$6:$BFQ$206,4,FALSE)))","v":""},null,null,null,"",null,null,null,{"$f":"IF(B2761=\"\",\"\",IF(ISERROR(VLOOKUP(B2761,database!$A$6:$BFQ$206,3,FALSE)),\"\",VLOOKUP(B2761,database!$A$6:$BFQ$206,3,FALSE)))","v":""},null,null,null,null,null,null,""]
["",null,{"$f":"IF(B2762=\"\",\"\",IF(ISERROR(VLOOKUP(B2762,database!$A$6:$BFQ$206,4,FALSE)),\"\",VLOOKUP(B2762,database!$A$6:$BFQ$206,4,FALSE)))","v":""},null,null,null,"",null,null,null,{"$f":"IF(B2762=\"\",\"\",IF(ISERROR(VLOOKUP(B2762,database!$A$6:$BFQ$206,3,FALSE)),\"\",VLOOKUP(B2762,database!$A$6:$BFQ$206,3,FALSE)))","v":""},null,null,null,null,null,null,""]
["",null,{"$f":"IF(B2764=\"\",\"\",IF(ISERROR(VLOOKUP(B2764,database!$A$6:$BFQ$206,4,FALSE)),\"\",VLOOKUP(B2764,database!$A$6:$BFQ$206,4,FALSE)))","v":""},null,null,null,"",null,null,null,{"$f":"IF(B2764=\"\",\"\",IF(ISERROR(VLOOKUP(B2764,database!$A$6:$BFQ$206,3,FALSE)),\"\",VLOOKUP(B2764,database!$A$6:$BFQ$206,3,FALSE)))","v":""},null,null,null,null,null,null,""]
["",null,{"$f":"IF(B2765=\"\",\"\",IF(ISERROR(VLOOKUP(B2765,database!$A$6:$BFQ$206,4,FALSE)),\"\",VLOOKUP(B2765,database!$A$6:$BFQ$206,4,FALSE)))","v":""},null,null,null,"",null,null,null,{"$f":"IF(B2765=\"\",\"\",IF(ISERROR(VLOOKUP(B2765,database!$A$6:$BFQ$206,3,FALSE)),\"\",VLOOKUP(B2765,database!$A$6:$BFQ$206,3,FALSE)))","v":""},null,null,null,null,null,null,""]
["",null,{"$f":"IF(B2768=\"\",\"\",IF(ISERROR(VLOOKUP(B2768,database!$A$6:$BFQ$206,4,FALSE)),\"\",VLOOKUP(B2768,database!$A$6:$BFQ$206,4,FALSE)))","v":""},null,null,null,"",null,null,null,{"$f":"IF(B2768=\"\",\"\",IF(ISERROR(VLOOKUP(B2768,database!$A$6:$BFQ$206,3,FALSE)),\"\",VLOOKUP(B2768,database!$A$6:$BFQ$206,3,FALSE)))","v":""},null,null,null,null,null,null,""]
["",null,{"$f":"IF(B2769=\"\",\"\",IF(ISERROR(VLOOKUP(B2769,database!$A$6:$BFQ$206,4,FALSE)),\"\",VLOOKUP(B2769,database!$A$6:$BFQ$206,4,FALSE)))","v":""},null,null,null,"",null,null,null,{"$f":"IF(B2769=\"\",\"\",IF(ISERROR(VLOOKUP(B2769,database!$A$6:$BFQ$206,3,FALSE)),\"\",VLOOKUP(B2769,database!$A$6:$BFQ$206,3,FALSE)))","v":""},null,null,null,null,null,null,""]
["",null,{"$f":"IF(B2771=\"\",\"\",IF(ISERROR(VLOOKUP(B2771,database!$A$6:$BFQ$206,4,FALSE)),\"\",VLOOKUP(B2771,database!$A$6:$BFQ$206,4,FALSE)))","v":""},null,null,null,"",null,null,null,{"$f":"IF(B2771=\"\",\"\",IF(ISERROR(VLOOKUP(B2771,database!$A$6:$BFQ$206,3,FALSE)),\"\",VLOOKUP(B2771,database!$A$6:$BFQ$206,3,FALSE)))","v":""},null,null,null,null,null,null,""]
["",null,{"$f":"IF(B2772=\"\",\"\",IF(ISERROR(VLOOKUP(B2772,database!$A$6:$BFQ$206,4,FALSE)),\"\",VLOOKUP(B2772,database!$A$6:$BFQ$206,4,FALSE)))","v":""},null,null,null,"",null,null,null,{"$f":"IF(B2772=\"\",\"\",IF(ISERROR(VLOOKUP(B2772,database!$A$6:$BFQ$206,3,FALSE)),\"\",VLOOKUP(B2772,database!$A$6:$BFQ$206,3,FALSE)))","v":""},null,null,null,null,null,null,""]
["",null,{"$f":"IF(B2775=\"\",\"\",IF(ISERROR(VLOOKUP(B2775,database!$A$6:$BFQ$206,4,FALSE)),\"\",VLOOKUP(B2775,database!$A$6:$BFQ$206,4,FALSE)))","v":""},null,null,null,"",null,null,null,{"$f":"IF(B2775=\"\",\"\",IF(ISERROR(VLOOKUP(B2775,database!$A$6:$BFQ$206,3,FALSE)),\"\",VLOOKUP(B2775,database!$A$6:$BFQ$206,3,FALSE)))","v":""},null,null,null,null,null,null,""]
["",null,{"$f":"IF(B2776=\"\",\"\",IF(ISERROR(VLOOKUP(B2776,database!$A$6:$BFQ$206,4,FALSE)),\"\",VLOOKUP(B2776,database!$A$6:$BFQ$206,4,FALSE)))","v":""},null,null,null,"",null,null,null,{"$f":"IF(B2776=\"\",\"\",IF(ISERROR(VLOOKUP(B2776,database!$A$6:$BFQ$206,3,FALSE)),\"\",VLOOKUP(B2776,database!$A$6:$BFQ$206,3,FALSE)))","v":""},null,null,null,null,null,null,""]
["",null,{"$f":"IF(B2778=\"\",\"\",IF(ISERROR(VLOOKUP(B2778,database!$A$6:$BFQ$206,4,FALSE)),\"\",VLOOKUP(B2778,database!$A$6:$BFQ$206,4,FALSE)))","v":""},null,null,null,"",null,null,null,{"$f":"IF(B2778=\"\",\"\",IF(ISERROR(VLOOKUP(B2778,database!$A$6:$BFQ$206,3,FALSE)),\"\",VLOOKUP(B2778,database!$A$6:$BFQ$206,3,FALSE)))","v":""},null,null,null,null,null,null,""]
["",null,{"$f":"IF(B2779=\"\",\"\",IF(ISERROR(VLOOKUP(B2779,database!$A$6:$BFQ$206,4,FALSE)),\"\",VLOOKUP(B2779,database!$A$6:$BFQ$206,4,FALSE)))","v":""},null,null,null,"",null,null,null,{"$f":"IF(B2779=\"\",\"\",IF(ISERROR(VLOOKUP(B2779,database!$A$6:$BFQ$206,3,FALSE)),\"\",VLOOKUP(B2779,database!$A$6:$BFQ$206,3,FALSE)))","v":""},null,null,null,null,null,null,""]
["",null,{"$f":"IF(B2782=\"\",\"\",IF(ISERROR(VLOOKUP(B2782,database!$A$6:$BFQ$206,4,FALSE)),\"\",VLOOKUP(B2782,database!$A$6:$BFQ$206,4,FALSE)))","v":""},null,null,null,"",null,null,null,{"$f":"IF(B2782=\"\",\"\",IF(ISERROR(VLOOKUP(B2782,database!$A$6:$BFQ$206,3,FALSE)),\"\",VLOOKUP(B2782,database!$A$6:$BFQ$206,3,FALSE)))","v":""},null,null,null,null,null,null,""]
["",null,{"$f":"IF(B2783=\"\",\"\",IF(ISERROR(VLOOKUP(B2783,database!$A$6:$BFQ$206,4,FALSE)),\"\",VLOOKUP(B2783,database!$A$6:$BFQ$206,4,FALSE)))","v":""},null,null,null,"",null,null,null,{"$f":"IF(B2783=\"\",\"\",IF(ISERROR(VLOOKUP(B2783,database!$A$6:$BFQ$206,3,FALSE)),\"\",VLOOKUP(B2783,database!$A$6:$BFQ$206,3,FALSE)))","v":""},null,null,null,null,null,null,""]
["",null,{"$f":"IF(B2785=\"\",\"\",IF(ISERROR(VLOOKUP(B2785,database!$A$6:$BFQ$206,4,FALSE)),\"\",VLOOKUP(B2785,database!$A$6:$BFQ$206,4,FALSE)))","v":""},null,null,null,"",null,null,null,{"$f":"IF(B2785=\"\",\"\",IF(ISERROR(VLOOKUP(B2785,database!$A$6:$BFQ$206,3,FALSE)),\"\",VLOOKUP(B2785,database!$A$6:$BFQ$206,3,FALSE)))","v":""},null,null,null,null,null,null,""]
["",null,{"$f":"IF(B2786=\"\",\"\",IF(ISERROR(VLOOKUP(B2786,database!$A$6:$BFQ$206,4,FALSE)),\"\",VLOOKUP(B2786,database!$A$6:$BFQ$206,4,FALSE)))","v":""},null,null,null,"",null,null,null,{"$f":"IF(B2786=\"\",\"\",IF(ISERROR(VLOOKUP(B2786,database!$A$6:$BFQ$206,3,FALSE)),\"\",VLOOKUP(B2786,database!$A$6:$BFQ$206,3,FALSE)))","v":""},null,null,null,null,null,null,""]
["",null,{"$f":"IF(B2789=\"\",\"\",IF(ISERROR(VLOOKUP(B2789,database!$A$6:$BFQ$206,4,FALSE)),\"\",VLOOKUP(B2789,database!$A$6:$BFQ$206,4,FALSE)))","v":""},null,null,null,"",null,null,null,{"$f":"IF(B2789=\"\",\"\",IF(ISERROR(VLOOKUP(B2789,database!$A$6:$BFQ$206,3,FALSE)),\"\",VLOOKUP(B2789,database!$A$6:$BFQ$206,3,FALSE)))","v":""},null,null,null,null,null,null,""]
["",null,{"$f":"IF(B2790=\"\",\"\",IF(ISERROR(VLOOKUP(B2790,database!$A$6:$BFQ$206,4,FALSE)),\"\",VLOOKUP(B2790,database!$A$6:$BFQ$206,4,FALSE)))","v":""},null,null,null,"",null,null,null,{"$f":"IF(B2790=\"\",\"\",IF(ISERROR(VLOOKUP(B2790,database!$A$6:$BFQ$206,3,FALSE)),\"\",VLOOKUP(B2790,database!$A$6:$BFQ$206,3,FALSE)))","v":""},null,null,null,null,null,null,""]
["",null,{"$f":"IF(B2792=\"\",\"\",IF(ISERROR(VLOOKUP(B2792,database!$A$6:$BFQ$206,4,FALSE)),\"\",VLOOKUP(B2792,database!$A$6:$BFQ$206,4,FALSE)))","v":""},null,null,null,"",null,null,null,{"$f":"IF(B2792=\"\",\"\",IF(ISERROR(VLOOKUP(B2792,database!$A$6:$BFQ$206,3,FALSE)),\"\",VLOOKUP(B2792,database!$A$6:$BFQ$206,3,FALSE)))","v":""},null,null,null,null,null,null,""]
["",null,{"$f":"IF(B2793=\"\",\"\",IF(ISERROR(VLOOKUP(B2793,database!$A$6:$BFQ$206,4,FALSE)),\"\",VLOOKUP(B2793,database!$A$6:$BFQ$206,4,FALSE)))","v":""},null,null,null,"",null,null,null,{"$f":"IF(B2793=\"\",\"\",IF(ISERROR(VLOOKUP(B2793,database!$A$6:$BFQ$206,3,FALSE)),\"\",VLOOKUP(B2793,database!$A$6:$BFQ$206,3,FALSE)))","v":""},null,null,null,null,null,null,""]
["",null,{"$f":"IF(B2796=\"\",\"\",IF(ISERROR(VLOOKUP(B2796,database!$A$6:$BFQ$206,4,FALSE)),\"\",VLOOKUP(B2796,database!$A$6:$BFQ$206,4,FALSE)))","v":""},null,null,null,"",null,null,null,{"$f":"IF(B2796=\"\",\"\",IF(ISERROR(VLOOKUP(B2796,database!$A$6:$BFQ$206,3,FALSE)),\"\",VLOOKUP(B2796,database!$A$6:$BFQ$206,3,FALSE)))","v":""},null,null,null,null,null,null,""]
["",null,{"$f":"IF(B2797=\"\",\"\",IF(ISERROR(VLOOKUP(B2797,database!$A$6:$BFQ$206,4,FALSE)),\"\",VLOOKUP(B2797,database!$A$6:$BFQ$206,4,FALSE)))","v":""},null,null,null,"",null,null,null,{"$f":"IF(B2797=\"\",\"\",IF(ISERROR(VLOOKUP(B2797,database!$A$6:$BFQ$206,3,FALSE)),\"\",VLOOKUP(B2797,database!$A$6:$BFQ$206,3,FALSE)))","v":""},null,null,null,null,null,null,""]
["",null,{"$f":"IF(B2799=\"\",\"\",IF(ISERROR(VLOOKUP(B2799,database!$A$6:$BFQ$206,4,FALSE)),\"\",VLOOKUP(B2799,database!$A$6:$BFQ$206,4,FALSE)))","v":""},null,null,null,"",null,null,null,{"$f":"IF(B2799=\"\",\"\",IF(ISERROR(VLOOKUP(B2799,database!$A$6:$BFQ$206,3,FALSE)),\"\",VLOOKUP(B2799,database!$A$6:$BFQ$206,3,FALSE)))","v":""},null,null,null,null,null,null,""]
["",null,{"$f":"IF(B2800=\"\",\"\",IF(ISERROR(VLOOKUP(B2800,database!$A$6:$BFQ$206,4,FALSE)),\"\",VLOOKUP(B2800,database!$A$6:$BFQ$206,4,FALSE)))","v":""},null,null,null,"",null,null,null,{"$f":"IF(B2800=\"\",\"\",IF(ISERROR(VLOOKUP(B2800,database!$A$6:$BFQ$206,3,FALSE)),\"\",VLOOKUP(B2800,database!$A$6:$BFQ$206,3,FALSE)))","v":""},null,null,null,null,null,null,""]
["",null,{"$f":"IF(B2803=\"\",\"\",IF(ISERROR(VLOOKUP(B2803,database!$A$6:$BFQ$206,4,FALSE)),\"\",VLOOKUP(B2803,database!$A$6:$BFQ$206,4,FALSE)))","v":""},null,null,null,"",null,null,null,{"$f":"IF(B2803=\"\",\"\",IF(ISERROR(VLOOKUP(B2803,database!$A$6:$BFQ$206,3,FALSE)),\"\",VLOOKUP(B2803,database!$A$6:$BFQ$206,3,FALSE)))","v":""},null,null,null,null,null,null,""]
["",null,{"$f":"IF(B2804=\"\",\"\",IF(ISERROR(VLOOKUP(B2804,database!$A$6:$BFQ$206,4,FALSE)),\"\",VLOOKUP(B2804,database!$A$6:$BFQ$206,4,FALSE)))","v":""},null,null,null,"",null,null,null,{"$f":"IF(B2804=\"\",\"\",IF(ISERROR(VLOOKUP(B2804,database!$A$6:$BFQ$206,3,FALSE)),\"\",VLOOKUP(B2804,database!$A$6:$BFQ$206,3,FALSE)))","v":""},null,null,null,null,null,null,""]
["",null,{"$f":"IF(B2806=\"\",\"\",IF(ISERROR(VLOOKUP(B2806,database!$A$6:$BFQ$206,4,FALSE)),\"\",VLOOKUP(B2806,database!$A$6:$BFQ$206,4,FALSE)))","v":""},null,null,null,"",null,null,null,{"$f":"IF(B2806=\"\",\"\",IF(ISERROR(VLOOKUP(B2806,database!$A$6:$BFQ$206,3,FALSE)),\"\",VLOOKUP(B2806,database!$A$6:$BFQ$206,3,FALSE)))","v":""},null,null,null,null,null,null,""]
["",null,{"$f":"IF(B2807=\"\",\"\",IF(ISERROR(VLOOKUP(B2807,database!$A$6:$BFQ$206,4,FALSE)),\"\",VLOOKUP(B2807,database!$A$6:$BFQ$206,4,FALSE)))","v":""},null,null,null,"",null,null,null,{"$f":"IF(B2807=\"\",\"\",IF(ISERROR(VLOOKUP(B2807,database!$A$6:$BFQ$206,3,FALSE)),\"\",VLOOKUP(B2807,database!$A$6:$BFQ$206,3,FALSE)))","v":""},null,null,null,null,null,null,""]
["",null,{"$f":"IF(B2810=\"\",\"\",IF(ISERROR(VLOOKUP(B2810,database!$A$6:$BFQ$206,4,FALSE)),\"\",VLOOKUP(B2810,database!$A$6:$BFQ$206,4,FALSE)))","v":""},null,null,null,"",null,null,null,{"$f":"IF(B2810=\"\",\"\",IF(ISERROR(VLOOKUP(B2810,database!$A$6:$BFQ$206,3,FALSE)),\"\",VLOOKUP(B2810,database!$A$6:$BFQ$206,3,FALSE)))","v":""},null,null,null,null,null,null,""]
["",null,{"$f":"IF(B2811=\"\",\"\",IF(ISERROR(VLOOKUP(B2811,database!$A$6:$BFQ$206,4,FALSE)),\"\",VLOOKUP(B2811,database!$A$6:$BFQ$206,4,FALSE)))","v":""},null,null,null,"",null,null,null,{"$f":"IF(B2811=\"\",\"\",IF(ISERROR(VLOOKUP(B2811,database!$A$6:$BFQ$206,3,FALSE)),\"\",VLOOKUP(B2811,database!$A$6:$BFQ$206,3,FALSE)))","v":""},null,null,null,null,null,null,""]
["",null,{"$f":"IF(B2813=\"\",\"\",IF(ISERROR(VLOOKUP(B2813,database!$A$6:$BFQ$206,4,FALSE)),\"\",VLOOKUP(B2813,database!$A$6:$BFQ$206,4,FALSE)))","v":""},null,null,null,"",null,null,null,{"$f":"IF(B2813=\"\",\"\",IF(ISERROR(VLOOKUP(B2813,database!$A$6:$BFQ$206,3,FALSE)),\"\",VLOOKUP(B2813,database!$A$6:$BFQ$206,3,FALSE)))","v":""},null,null,null,null,null,null,""]
["",null,{"$f":"IF(B2814=\"\",\"\",IF(ISERROR(VLOOKUP(B2814,database!$A$6:$BFQ$206,4,FALSE)),\"\",VLOOKUP(B2814,database!$A$6:$BFQ$206,4,FALSE)))","v":""},null,null,null,"",null,null,null,{"$f":"IF(B2814=\"\",\"\",IF(ISERROR(VLOOKUP(B2814,database!$A$6:$BFQ$206,3,FALSE)),\"\",VLOOKUP(B2814,database!$A$6:$BFQ$206,3,FALSE)))","v":""},null,null,null,null,null,null,""]
[{"$f":"IF(B2817=\"\",\"\",ROW(A2814))","v":""},null,{"$f":"IF(B2817=\"\",\"\",IF(ISERROR(VLOOKUP(B2817,database!$A$6:$BFQ$206,4,FALSE)),\"\",VLOOKUP(B2817,database!$A$6:$BFQ$206,4,FALSE)))","v":""},null,null,null,{"$f":"IF(B2817=\"\",\"\",IF(C2817=\"\",0,1))","v":""},null,null,null,{"$f":"IF(B2817=\"\",\"\",IF(ISERROR(VLOOKUP(B2817,database!$A$6:$BFQ$206,3,FALSE)),\"\",VLOOKUP(B2817,database!$A$6:$BFQ$206,3,FALSE)))","v":""},null,null,null,null,null,null,{"$f":"LEFT(C2817,2)","v":""}]
["",null,{"$f":"IF(B2818=\"\",\"\",IF(ISERROR(VLOOKUP(B2818,database!$A$6:$BFQ$206,4,FALSE)),\"\",VLOOKUP(B2818,database!$A$6:$BFQ$206,4,FALSE)))","v":""},null,null,null,"",null,null,null,{"$f":"IF(B2818=\"\",\"\",IF(ISERROR(VLOOKUP(B2818,database!$A$6:$BFQ$206,3,FALSE)),\"\",VLOOKUP(B2818,database!$A$6:$BFQ$206,3,FALSE)))","v":""},null,null,null,null,null,null,""]
["",null,{"$f":"IF(B2820=\"\",\"\",IF(ISERROR(VLOOKUP(B2820,database!$A$6:$BFQ$206,4,FALSE)),\"\",VLOOKUP(B2820,database!$A$6:$BFQ$206,4,FALSE)))","v":""},null,null,null,"",null,null,null,{"$f":"IF(B2820=\"\",\"\",IF(ISERROR(VLOOKUP(B2820,database!$A$6:$BFQ$206,3,FALSE)),\"\",VLOOKUP(B2820,database!$A$6:$BFQ$206,3,FALSE)))","v":""},null,null,null,null,null,null,""]
["",null,{"$f":"IF(B2821=\"\",\"\",IF(ISERROR(VLOOKUP(B2821,database!$A$6:$BFQ$206,4,FALSE)),\"\",VLOOKUP(B2821,database!$A$6:$BFQ$206,4,FALSE)))","v":""},null,null,null,"",null,null,null,{"$f":"IF(B2821=\"\",\"\",IF(ISERROR(VLOOKUP(B2821,database!$A$6:$BFQ$206,3,FALSE)),\"\",VLOOKUP(B2821,database!$A$6:$BFQ$206,3,FALSE)))","v":""},null,null,null,null,null,null,""]
["",null,{"$f":"IF(B2824=\"\",\"\",IF(ISERROR(VLOOKUP(B2824,database!$A$6:$BFQ$206,4,FALSE)),\"\",VLOOKUP(B2824,database!$A$6:$BFQ$206,4,FALSE)))","v":""},null,null,null,"",null,null,null,{"$f":"IF(B2824=\"\",\"\",IF(ISERROR(VLOOKUP(B2824,database!$A$6:$BFQ$206,3,FALSE)),\"\",VLOOKUP(B2824,database!$A$6:$BFQ$206,3,FALSE)))","v":""},null,null,null,null,null,null,""]
["",null,{"$f":"IF(B2825=\"\",\"\",IF(ISERROR(VLOOKUP(B2825,database!$A$6:$BFQ$206,4,FALSE)),\"\",VLOOKUP(B2825,database!$A$6:$BFQ$206,4,FALSE)))","v":""},null,null,null,"",null,null,null,{"$f":"IF(B2825=\"\",\"\",IF(ISERROR(VLOOKUP(B2825,database!$A$6:$BFQ$206,3,FALSE)),\"\",VLOOKUP(B2825,database!$A$6:$BFQ$206,3,FALSE)))","v":""},null,null,null,null,null,null,""]
["",null,{"$f":"IF(B2828=\"\",\"\",IF(ISERROR(VLOOKUP(B2828,database!$A$6:$BFQ$206,4,FALSE)),\"\",VLOOKUP(B2828,database!$A$6:$BFQ$206,4,FALSE)))","v":""},null,null,null,"",null,null,null,{"$f":"IF(B2828=\"\",\"\",IF(ISERROR(VLOOKUP(B2828,database!$A$6:$BFQ$206,3,FALSE)),\"\",VLOOKUP(B2828,database!$A$6:$BFQ$206,3,FALSE)))","v":""},null,null,null,null,null,null,""]
["",null,{"$f":"IF(B2829=\"\",\"\",IF(ISERROR(VLOOKUP(B2829,database!$A$6:$BFQ$206,4,FALSE)),\"\",VLOOKUP(B2829,database!$A$6:$BFQ$206,4,FALSE)))","v":""},null,null,null,"",null,null,null,{"$f":"IF(B2829=\"\",\"\",IF(ISERROR(VLOOKUP(B2829,database!$A$6:$BFQ$206,3,FALSE)),\"\",VLOOKUP(B2829,database!$A$6:$BFQ$206,3,FALSE)))","v":""},null,null,null,null,null,null,""]
["",null,{"$f":"IF(B2831=\"\",\"\",IF(ISERROR(VLOOKUP(B2831,database!$A$6:$BFQ$206,4,FALSE)),\"\",VLOOKUP(B2831,database!$A$6:$BFQ$206,4,FALSE)))","v":""},null,null,null,"",null,null,null,{"$f":"IF(B2831=\"\",\"\",IF(ISERROR(VLOOKUP(B2831,database!$A$6:$BFQ$206,3,FALSE)),\"\",VLOOKUP(B2831,database!$A$6:$BFQ$206,3,FALSE)))","v":""},null,null,null,null,null,null,""]
["",null,{"$f":"IF(B2832=\"\",\"\",IF(ISERROR(VLOOKUP(B2832,database!$A$6:$BFQ$206,4,FALSE)),\"\",VLOOKUP(B2832,database!$A$6:$BFQ$206,4,FALSE)))","v":""},null,null,null,"",null,null,null,{"$f":"IF(B2832=\"\",\"\",IF(ISERROR(VLOOKUP(B2832,database!$A$6:$BFQ$206,3,FALSE)),\"\",VLOOKUP(B2832,database!$A$6:$BFQ$206,3,FALSE)))","v":""},null,null,null,null,null,null,""]
["",null,{"$f":"IF(B2835=\"\",\"\",IF(ISERROR(VLOOKUP(B2835,database!$A$6:$BFQ$206,4,FALSE)),\"\",VLOOKUP(B2835,database!$A$6:$BFQ$206,4,FALSE)))","v":""},null,null,null,"",null,null,null,{"$f":"IF(B2835=\"\",\"\",IF(ISERROR(VLOOKUP(B2835,database!$A$6:$BFQ$206,3,FALSE)),\"\",VLOOKUP(B2835,database!$A$6:$BFQ$206,3,FALSE)))","v":""},null,null,null,null,null,null,""]
["",null,{"$f":"IF(B2836=\"\",\"\",IF(ISERROR(VLOOKUP(B2836,database!$A$6:$BFQ$206,4,FALSE)),\"\",VLOOKUP(B2836,database!$A$6:$BFQ$206,4,FALSE)))","v":""},null,null,null,"",null,null,null,{"$f":"IF(B2836=\"\",\"\",IF(ISERROR(VLOOKUP(B2836,database!$A$6:$BFQ$206,3,FALSE)),\"\",VLOOKUP(B2836,database!$A$6:$BFQ$206,3,FALSE)))","v":""},null,null,null,null,null,null,""]
["",null,{"$f":"IF(B2838=\"\",\"\",IF(ISERROR(VLOOKUP(B2838,database!$A$6:$BFQ$206,4,FALSE)),\"\",VLOOKUP(B2838,database!$A$6:$BFQ$206,4,FALSE)))","v":""},null,null,null,"",null,null,null,{"$f":"IF(B2838=\"\",\"\",IF(ISERROR(VLOOKUP(B2838,database!$A$6:$BFQ$206,3,FALSE)),\"\",VLOOKUP(B2838,database!$A$6:$BFQ$206,3,FALSE)))","v":""},null,null,null,null,null,null,""]
["",null,{"$f":"IF(B2839=\"\",\"\",IF(ISERROR(VLOOKUP(B2839,database!$A$6:$BFQ$206,4,FALSE)),\"\",VLOOKUP(B2839,database!$A$6:$BFQ$206,4,FALSE)))","v":""},null,null,null,"",null,null,null,{"$f":"IF(B2839=\"\",\"\",IF(ISERROR(VLOOKUP(B2839,database!$A$6:$BFQ$206,3,FALSE)),\"\",VLOOKUP(B2839,database!$A$6:$BFQ$206,3,FALSE)))","v":""},null,null,null,null,null,null,""]
["",null,{"$f":"IF(B2842=\"\",\"\",IF(ISERROR(VLOOKUP(B2842,database!$A$6:$BFQ$206,4,FALSE)),\"\",VLOOKUP(B2842,database!$A$6:$BFQ$206,4,FALSE)))","v":""},null,null,null,"",null,null,null,{"$f":"IF(B2842=\"\",\"\",IF(ISERROR(VLOOKUP(B2842,database!$A$6:$BFQ$206,3,FALSE)),\"\",VLOOKUP(B2842,database!$A$6:$BFQ$206,3,FALSE)))","v":""},null,null,null,null,null,null,""]
["",null,{"$f":"IF(B2843=\"\",\"\",IF(ISERROR(VLOOKUP(B2843,database!$A$6:$BFQ$206,4,FALSE)),\"\",VLOOKUP(B2843,database!$A$6:$BFQ$206,4,FALSE)))","v":""},null,null,null,"",null,null,null,{"$f":"IF(B2843=\"\",\"\",IF(ISERROR(VLOOKUP(B2843,database!$A$6:$BFQ$206,3,FALSE)),\"\",VLOOKUP(B2843,database!$A$6:$BFQ$206,3,FALSE)))","v":""},null,null,null,null,null,null,""]
["",null,{"$f":"IF(B2845=\"\",\"\",IF(ISERROR(VLOOKUP(B2845,database!$A$6:$BFQ$206,4,FALSE)),\"\",VLOOKUP(B2845,database!$A$6:$BFQ$206,4,FALSE)))","v":""},null,null,null,"",null,null,null,{"$f":"IF(B2845=\"\",\"\",IF(ISERROR(VLOOKUP(B2845,database!$A$6:$BFQ$206,3,FALSE)),\"\",VLOOKUP(B2845,database!$A$6:$BFQ$206,3,FALSE)))","v":""},null,null,null,null,null,null,""]
["",null,{"$f":"IF(B2846=\"\",\"\",IF(ISERROR(VLOOKUP(B2846,database!$A$6:$BFQ$206,4,FALSE)),\"\",VLOOKUP(B2846,database!$A$6:$BFQ$206,4,FALSE)))","v":""},null,null,null,"",null,null,null,{"$f":"IF(B2846=\"\",\"\",IF(ISERROR(VLOOKUP(B2846,database!$A$6:$BFQ$206,3,FALSE)),\"\",VLOOKUP(B2846,database!$A$6:$BFQ$206,3,FALSE)))","v":""},null,null,null,null,null,null,""]
["",null,{"$f":"IF(B2849=\"\",\"\",IF(ISERROR(VLOOKUP(B2849,database!$A$6:$BFQ$206,4,FALSE)),\"\",VLOOKUP(B2849,database!$A$6:$BFQ$206,4,FALSE)))","v":""},null,null,null,"",null,null,null,{"$f":"IF(B2849=\"\",\"\",IF(ISERROR(VLOOKUP(B2849,database!$A$6:$BFQ$206,3,FALSE)),\"\",VLOOKUP(B2849,database!$A$6:$BFQ$206,3,FALSE)))","v":""},null,null,null,null,null,null,""]
["",null,{"$f":"IF(B2850=\"\",\"\",IF(ISERROR(VLOOKUP(B2850,database!$A$6:$BFQ$206,4,FALSE)),\"\",VLOOKUP(B2850,database!$A$6:$BFQ$206,4,FALSE)))","v":""},null,null,null,"",null,null,null,{"$f":"IF(B2850=\"\",\"\",IF(ISERROR(VLOOKUP(B2850,database!$A$6:$BFQ$206,3,FALSE)),\"\",VLOOKUP(B2850,database!$A$6:$BFQ$206,3,FALSE)))","v":""},null,null,null,null,null,null,""]
["",null,{"$f":"IF(B2852=\"\",\"\",IF(ISERROR(VLOOKUP(B2852,database!$A$6:$BFQ$206,4,FALSE)),\"\",VLOOKUP(B2852,database!$A$6:$BFQ$206,4,FALSE)))","v":""},null,null,null,"",null,null,null,{"$f":"IF(B2852=\"\",\"\",IF(ISERROR(VLOOKUP(B2852,database!$A$6:$BFQ$206,3,FALSE)),\"\",VLOOKUP(B2852,database!$A$6:$BFQ$206,3,FALSE)))","v":""},null,null,null,null,null,null,""]
["",null,{"$f":"IF(B2853=\"\",\"\",IF(ISERROR(VLOOKUP(B2853,database!$A$6:$BFQ$206,4,FALSE)),\"\",VLOOKUP(B2853,database!$A$6:$BFQ$206,4,FALSE)))","v":""},null,null,null,"",null,null,null,{"$f":"IF(B2853=\"\",\"\",IF(ISERROR(VLOOKUP(B2853,database!$A$6:$BFQ$206,3,FALSE)),\"\",VLOOKUP(B2853,database!$A$6:$BFQ$206,3,FALSE)))","v":""},null,null,null,null,null,null,""]
["",null,{"$f":"IF(B2856=\"\",\"\",IF(ISERROR(VLOOKUP(B2856,database!$A$6:$BFQ$206,4,FALSE)),\"\",VLOOKUP(B2856,database!$A$6:$BFQ$206,4,FALSE)))","v":""},null,null,null,"",null,null,null,{"$f":"IF(B2856=\"\",\"\",IF(ISERROR(VLOOKUP(B2856,database!$A$6:$BFQ$206,3,FALSE)),\"\",VLOOKUP(B2856,database!$A$6:$BFQ$206,3,FALSE)))","v":""},null,null,null,null,null,null,""]
["",null,{"$f":"IF(B2857=\"\",\"\",IF(ISERROR(VLOOKUP(B2857,database!$A$6:$BFQ$206,4,FALSE)),\"\",VLOOKUP(B2857,database!$A$6:$BFQ$206,4,FALSE)))","v":""},null,null,null,"",null,null,null,{"$f":"IF(B2857=\"\",\"\",IF(ISERROR(VLOOKUP(B2857,database!$A$6:$BFQ$206,3,FALSE)),\"\",VLOOKUP(B2857,database!$A$6:$BFQ$206,3,FALSE)))","v":""},null,null,null,null,null,null,""]
["",null,{"$f":"IF(B2859=\"\",\"\",IF(ISERROR(VLOOKUP(B2859,database!$A$6:$BFQ$206,4,FALSE)),\"\",VLOOKUP(B2859,database!$A$6:$BFQ$206,4,FALSE)))","v":""},null,null,null,"",null,null,null,{"$f":"IF(B2859=\"\",\"\",IF(ISERROR(VLOOKUP(B2859,database!$A$6:$BFQ$206,3,FALSE)),\"\",VLOOKUP(B2859,database!$A$6:$BFQ$206,3,FALSE)))","v":""},null,null,null,null,null,null,""]
["",null,{"$f":"IF(B2860=\"\",\"\",IF(ISERROR(VLOOKUP(B2860,database!$A$6:$BFQ$206,4,FALSE)),\"\",VLOOKUP(B2860,database!$A$6:$BFQ$206,4,FALSE)))","v":""},null,null,null,"",null,null,null,{"$f":"IF(B2860=\"\",\"\",IF(ISERROR(VLOOKUP(B2860,database!$A$6:$BFQ$206,3,FALSE)),\"\",VLOOKUP(B2860,database!$A$6:$BFQ$206,3,FALSE)))","v":""},null,null,null,null,null,null,""]
["",null,{"$f":"IF(B2863=\"\",\"\",IF(ISERROR(VLOOKUP(B2863,database!$A$6:$BFQ$206,4,FALSE)),\"\",VLOOKUP(B2863,database!$A$6:$BFQ$206,4,FALSE)))","v":""},null,null,null,"",null,null,null,{"$f":"IF(B2863=\"\",\"\",IF(ISERROR(VLOOKUP(B2863,database!$A$6:$BFQ$206,3,FALSE)),\"\",VLOOKUP(B2863,database!$A$6:$BFQ$206,3,FALSE)))","v":""},null,null,null,null,null,null,""]
["",null,{"$f":"IF(B2864=\"\",\"\",IF(ISERROR(VLOOKUP(B2864,database!$A$6:$BFQ$206,4,FALSE)),\"\",VLOOKUP(B2864,database!$A$6:$BFQ$206,4,FALSE)))","v":""},null,null,null,"",null,null,null,{"$f":"IF(B2864=\"\",\"\",IF(ISERROR(VLOOKUP(B2864,database!$A$6:$BFQ$206,3,FALSE)),\"\",VLOOKUP(B2864,database!$A$6:$BFQ$206,3,FALSE)))","v":""},null,null,null,null,null,null,""]
["",null,{"$f":"IF(B2866=\"\",\"\",IF(ISERROR(VLOOKUP(B2866,database!$A$6:$BFQ$206,4,FALSE)),\"\",VLOOKUP(B2866,database!$A$6:$BFQ$206,4,FALSE)))","v":""},null,null,null,"",null,null,null,{"$f":"IF(B2866=\"\",\"\",IF(ISERROR(VLOOKUP(B2866,database!$A$6:$BFQ$206,3,FALSE)),\"\",VLOOKUP(B2866,database!$A$6:$BFQ$206,3,FALSE)))","v":""},null,null,null,null,null,null,""]
["",null,{"$f":"IF(B2867=\"\",\"\",IF(ISERROR(VLOOKUP(B2867,database!$A$6:$BFQ$206,4,FALSE)),\"\",VLOOKUP(B2867,database!$A$6:$BFQ$206,4,FALSE)))","v":""},null,null,null,"",null,null,null,{"$f":"IF(B2867=\"\",\"\",IF(ISERROR(VLOOKUP(B2867,database!$A$6:$BFQ$206,3,FALSE)),\"\",VLOOKUP(B2867,database!$A$6:$BFQ$206,3,FALSE)))","v":""},null,null,null,null,null,null,""]
["",null,{"$f":"IF(B2870=\"\",\"\",IF(ISERROR(VLOOKUP(B2870,database!$A$6:$BFQ$206,4,FALSE)),\"\",VLOOKUP(B2870,database!$A$6:$BFQ$206,4,FALSE)))","v":""},null,null,null,"",null,null,null,{"$f":"IF(B2870=\"\",\"\",IF(ISERROR(VLOOKUP(B2870,database!$A$6:$BFQ$206,3,FALSE)),\"\",VLOOKUP(B2870,database!$A$6:$BFQ$206,3,FALSE)))","v":""},null,null,null,null,null,null,""]
["",null,{"$f":"IF(B2871=\"\",\"\",IF(ISERROR(VLOOKUP(B2871,database!$A$6:$BFQ$206,4,FALSE)),\"\",VLOOKUP(B2871,database!$A$6:$BFQ$206,4,FALSE)))","v":""},null,null,null,"",null,null,null,{"$f":"IF(B2871=\"\",\"\",IF(ISERROR(VLOOKUP(B2871,database!$A$6:$BFQ$206,3,FALSE)),\"\",VLOOKUP(B2871,database!$A$6:$BFQ$206,3,FALSE)))","v":""},null,null,null,null,null,null,""]
["",null,{"$f":"IF(B2873=\"\",\"\",IF(ISERROR(VLOOKUP(B2873,database!$A$6:$BFQ$206,4,FALSE)),\"\",VLOOKUP(B2873,database!$A$6:$BFQ$206,4,FALSE)))","v":""},null,null,null,"",null,null,null,{"$f":"IF(B2873=\"\",\"\",IF(ISERROR(VLOOKUP(B2873,database!$A$6:$BFQ$206,3,FALSE)),\"\",VLOOKUP(B2873,database!$A$6:$BFQ$206,3,FALSE)))","v":""},null,null,null,null,null,null,""]
["",null,{"$f":"IF(B2874=\"\",\"\",IF(ISERROR(VLOOKUP(B2874,database!$A$6:$BFQ$206,4,FALSE)),\"\",VLOOKUP(B2874,database!$A$6:$BFQ$206,4,FALSE)))","v":""},null,null,null,"",null,null,null,{"$f":"IF(B2874=\"\",\"\",IF(ISERROR(VLOOKUP(B2874,database!$A$6:$BFQ$206,3,FALSE)),\"\",VLOOKUP(B2874,database!$A$6:$BFQ$206,3,FALSE)))","v":""},null,null,null,null,null,null,""]
["",null,{"$f":"IF(B2877=\"\",\"\",IF(ISERROR(VLOOKUP(B2877,database!$A$6:$BFQ$206,4,FALSE)),\"\",VLOOKUP(B2877,database!$A$6:$BFQ$206,4,FALSE)))","v":""},null,null,null,"",null,null,null,{"$f":"IF(B2877=\"\",\"\",IF(ISERROR(VLOOKUP(B2877,database!$A$6:$BFQ$206,3,FALSE)),\"\",VLOOKUP(B2877,database!$A$6:$BFQ$206,3,FALSE)))","v":""},null,null,null,null,null,null,""]
["",null,{"$f":"IF(B2878=\"\",\"\",IF(ISERROR(VLOOKUP(B2878,database!$A$6:$BFQ$206,4,FALSE)),\"\",VLOOKUP(B2878,database!$A$6:$BFQ$206,4,FALSE)))","v":""},null,null,null,"",null,null,null,{"$f":"IF(B2878=\"\",\"\",IF(ISERROR(VLOOKUP(B2878,database!$A$6:$BFQ$206,3,FALSE)),\"\",VLOOKUP(B2878,database!$A$6:$BFQ$206,3,FALSE)))","v":""},null,null,null,null,null,null,""]
["",null,{"$f":"IF(B2880=\"\",\"\",IF(ISERROR(VLOOKUP(B2880,database!$A$6:$BFQ$206,4,FALSE)),\"\",VLOOKUP(B2880,database!$A$6:$BFQ$206,4,FALSE)))","v":""},null,null,null,"",null,null,null,{"$f":"IF(B2880=\"\",\"\",IF(ISERROR(VLOOKUP(B2880,database!$A$6:$BFQ$206,3,FALSE)),\"\",VLOOKUP(B2880,database!$A$6:$BFQ$206,3,FALSE)))","v":""},null,null,null,null,null,null,""]
[{"$f":"IF(B2881=\"\",\"\",ROW(A2878))","v":""},null,{"$f":"IF(B2881=\"\",\"\",IF(ISERROR(VLOOKUP(B2881,database!$A$6:$BFQ$206,4,FALSE)),\"\",VLOOKUP(B2881,database!$A$6:$BFQ$206,4,FALSE)))","v":""},null,null,null,{"$f":"IF(B2881=\"\",\"\",IF(C2881=\"\",0,1))","v":""},null,null,null,{"$f":"IF(B2881=\"\",\"\",IF(ISERROR(VLOOKUP(B2881,database!$A$6:$BFQ$206,3,FALSE)),\"\",VLOOKUP(B2881,database!$A$6:$BFQ$206,3,FALSE)))","v":""},null,null,null,null,null,null,{"$f":"LEFT(C2881,2)","v":""}]
["",null,{"$f":"IF(B2884=\"\",\"\",IF(ISERROR(VLOOKUP(B2884,database!$A$6:$BFQ$206,4,FALSE)),\"\",VLOOKUP(B2884,database!$A$6:$BFQ$206,4,FALSE)))","v":""},null,null,null,"",null,null,null,{"$f":"IF(B2884=\"\",\"\",IF(ISERROR(VLOOKUP(B2884,database!$A$6:$BFQ$206,3,FALSE)),\"\",VLOOKUP(B2884,database!$A$6:$BFQ$206,3,FALSE)))","v":""},null,null,null,null,null,null,""]
["",null,{"$f":"IF(B2885=\"\",\"\",IF(ISERROR(VLOOKUP(B2885,database!$A$6:$BFQ$206,4,FALSE)),\"\",VLOOKUP(B2885,database!$A$6:$BFQ$206,4,FALSE)))","v":""},null,null,null,"",null,null,null,{"$f":"IF(B2885=\"\",\"\",IF(ISERROR(VLOOKUP(B2885,database!$A$6:$BFQ$206,3,FALSE)),\"\",VLOOKUP(B2885,database!$A$6:$BFQ$206,3,FALSE)))","v":""},null,null,null,null,null,null,""]
["",null,{"$f":"IF(B2887=\"\",\"\",IF(ISERROR(VLOOKUP(B2887,database!$A$6:$BFQ$206,4,FALSE)),\"\",VLOOKUP(B2887,database!$A$6:$BFQ$206,4,FALSE)))","v":""},null,null,null,"",null,null,null,{"$f":"IF(B2887=\"\",\"\",IF(ISERROR(VLOOKUP(B2887,database!$A$6:$BFQ$206,3,FALSE)),\"\",VLOOKUP(B2887,database!$A$6:$BFQ$206,3,FALSE)))","v":""},null,null,null,null,null,null,""]
["",null,{"$f":"IF(B2888=\"\",\"\",IF(ISERROR(VLOOKUP(B2888,database!$A$6:$BFQ$206,4,FALSE)),\"\",VLOOKUP(B2888,database!$A$6:$BFQ$206,4,FALSE)))","v":""},null,null,null,"",null,null,null,{"$f":"IF(B2888=\"\",\"\",IF(ISERROR(VLOOKUP(B2888,database!$A$6:$BFQ$206,3,FALSE)),\"\",VLOOKUP(B2888,database!$A$6:$BFQ$206,3,FALSE)))","v":""},null,null,null,null,null,null,""]
["",null,{"$f":"IF(B2891=\"\",\"\",IF(ISERROR(VLOOKUP(B2891,database!$A$6:$BFQ$206,4,FALSE)),\"\",VLOOKUP(B2891,database!$A$6:$BFQ$206,4,FALSE)))","v":""},null,null,null,"",null,null,null,{"$f":"IF(B2891=\"\",\"\",IF(ISERROR(VLOOKUP(B2891,database!$A$6:$BFQ$206,3,FALSE)),\"\",VLOOKUP(B2891,database!$A$6:$BFQ$206,3,FALSE)))","v":""},null,null,null,null,null,null,""]
["",null,{"$f":"IF(B2892=\"\",\"\",IF(ISERROR(VLOOKUP(B2892,database!$A$6:$BFQ$206,4,FALSE)),\"\",VLOOKUP(B2892,database!$A$6:$BFQ$206,4,FALSE)))","v":""},null,null,null,"",null,null,null,{"$f":"IF(B2892=\"\",\"\",IF(ISERROR(VLOOKUP(B2892,database!$A$6:$BFQ$206,3,FALSE)),\"\",VLOOKUP(B2892,database!$A$6:$BFQ$206,3,FALSE)))","v":""},null,null,null,null,null,null,""]
["",null,{"$f":"IF(B2894=\"\",\"\",IF(ISERROR(VLOOKUP(B2894,database!$A$6:$BFQ$206,4,FALSE)),\"\",VLOOKUP(B2894,database!$A$6:$BFQ$206,4,FALSE)))","v":""},null,null,null,"",null,null,null,{"$f":"IF(B2894=\"\",\"\",IF(ISERROR(VLOOKUP(B2894,database!$A$6:$BFQ$206,3,FALSE)),\"\",VLOOKUP(B2894,database!$A$6:$BFQ$206,3,FALSE)))","v":""},null,null,null,null,null,null,""]
["",null,{"$f":"IF(B2895=\"\",\"\",IF(ISERROR(VLOOKUP(B2895,database!$A$6:$BFQ$206,4,FALSE)),\"\",VLOOKUP(B2895,database!$A$6:$BFQ$206,4,FALSE)))","v":""},null,null,null,"",null,null,null,{"$f":"IF(B2895=\"\",\"\",IF(ISERROR(VLOOKUP(B2895,database!$A$6:$BFQ$206,3,FALSE)),\"\",VLOOKUP(B2895,database!$A$6:$BFQ$206,3,FALSE)))","v":""},null,null,null,null,null,null,""]
["",null,{"$f":"IF(B2898=\"\",\"\",IF(ISERROR(VLOOKUP(B2898,database!$A$6:$BFQ$206,4,FALSE)),\"\",VLOOKUP(B2898,database!$A$6:$BFQ$206,4,FALSE)))","v":""},null,null,null,"",null,null,null,{"$f":"IF(B2898=\"\",\"\",IF(ISERROR(VLOOKUP(B2898,database!$A$6:$BFQ$206,3,FALSE)),\"\",VLOOKUP(B2898,database!$A$6:$BFQ$206,3,FALSE)))","v":""},null,null,null,null,null,null,""]
["",null,{"$f":"IF(B2899=\"\",\"\",IF(ISERROR(VLOOKUP(B2899,database!$A$6:$BFQ$206,4,FALSE)),\"\",VLOOKUP(B2899,database!$A$6:$BFQ$206,4,FALSE)))","v":""},null,null,null,"",null,null,null,{"$f":"IF(B2899=\"\",\"\",IF(ISERROR(VLOOKUP(B2899,database!$A$6:$BFQ$206,3,FALSE)),\"\",VLOOKUP(B2899,database!$A$6:$BFQ$206,3,FALSE)))","v":""},null,null,null,null,null,null,""]
["",null,{"$f":"IF(B2901=\"\",\"\",IF(ISERROR(VLOOKUP(B2901,database!$A$6:$BFQ$206,4,FALSE)),\"\",VLOOKUP(B2901,database!$A$6:$BFQ$206,4,FALSE)))","v":""},null,null,null,"",null,null,null,{"$f":"IF(B2901=\"\",\"\",IF(ISERROR(VLOOKUP(B2901,database!$A$6:$BFQ$206,3,FALSE)),\"\",VLOOKUP(B2901,database!$A$6:$BFQ$206,3,FALSE)))","v":""},null,null,null,null,null,null,""]
["",null,{"$f":"IF(B2902=\"\",\"\",IF(ISERROR(VLOOKUP(B2902,database!$A$6:$BFQ$206,4,FALSE)),\"\",VLOOKUP(B2902,database!$A$6:$BFQ$206,4,FALSE)))","v":""},null,null,null,"",null,null,null,{"$f":"IF(B2902=\"\",\"\",IF(ISERROR(VLOOKUP(B2902,database!$A$6:$BFQ$206,3,FALSE)),\"\",VLOOKUP(B2902,database!$A$6:$BFQ$206,3,FALSE)))","v":""},null,null,null,null,null,null,""]
["",null,{"$f":"IF(B2905=\"\",\"\",IF(ISERROR(VLOOKUP(B2905,database!$A$6:$BFQ$206,4,FALSE)),\"\",VLOOKUP(B2905,database!$A$6:$BFQ$206,4,FALSE)))","v":""},null,null,null,"",null,null,null,{"$f":"IF(B2905=\"\",\"\",IF(ISERROR(VLOOKUP(B2905,database!$A$6:$BFQ$206,3,FALSE)),\"\",VLOOKUP(B2905,database!$A$6:$BFQ$206,3,FALSE)))","v":""},null,null,null,null,null,null,""]
["",null,{"$f":"IF(B2906=\"\",\"\",IF(ISERROR(VLOOKUP(B2906,database!$A$6:$BFQ$206,4,FALSE)),\"\",VLOOKUP(B2906,database!$A$6:$BFQ$206,4,FALSE)))","v":""},null,null,null,"",null,null,null,{"$f":"IF(B2906=\"\",\"\",IF(ISERROR(VLOOKUP(B2906,database!$A$6:$BFQ$206,3,FALSE)),\"\",VLOOKUP(B2906,database!$A$6:$BFQ$206,3,FALSE)))","v":""},null,null,null,null,null,null,""]
["",null,{"$f":"IF(B2908=\"\",\"\",IF(ISERROR(VLOOKUP(B2908,database!$A$6:$BFQ$206,4,FALSE)),\"\",VLOOKUP(B2908,database!$A$6:$BFQ$206,4,FALSE)))","v":""},null,null,null,"",null,null,null,{"$f":"IF(B2908=\"\",\"\",IF(ISERROR(VLOOKUP(B2908,database!$A$6:$BFQ$206,3,FALSE)),\"\",VLOOKUP(B2908,database!$A$6:$BFQ$206,3,FALSE)))","v":""},null,null,null,null,null,null,""]
["",null,{"$f":"IF(B2909=\"\",\"\",IF(ISERROR(VLOOKUP(B2909,database!$A$6:$BFQ$206,4,FALSE)),\"\",VLOOKUP(B2909,database!$A$6:$BFQ$206,4,FALSE)))","v":""},null,null,null,"",null,null,null,{"$f":"IF(B2909=\"\",\"\",IF(ISERROR(VLOOKUP(B2909,database!$A$6:$BFQ$206,3,FALSE)),\"\",VLOOKUP(B2909,database!$A$6:$BFQ$206,3,FALSE)))","v":""},null,null,null,null,null,null,""]
["",null,{"$f":"IF(B2912=\"\",\"\",IF(ISERROR(VLOOKUP(B2912,database!$A$6:$BFQ$206,4,FALSE)),\"\",VLOOKUP(B2912,database!$A$6:$BFQ$206,4,FALSE)))","v":""},null,null,null,"",null,null,null,{"$f":"IF(B2912=\"\",\"\",IF(ISERROR(VLOOKUP(B2912,database!$A$6:$BFQ$206,3,FALSE)),\"\",VLOOKUP(B2912,database!$A$6:$BFQ$206,3,FALSE)))","v":""},null,null,null,null,null,null,""]
["",null,{"$f":"IF(B2913=\"\",\"\",IF(ISERROR(VLOOKUP(B2913,database!$A$6:$BFQ$206,4,FALSE)),\"\",VLOOKUP(B2913,database!$A$6:$BFQ$206,4,FALSE)))","v":""},null,null,null,"",null,null,null,{"$f":"IF(B2913=\"\",\"\",IF(ISERROR(VLOOKUP(B2913,database!$A$6:$BFQ$206,3,FALSE)),\"\",VLOOKUP(B2913,database!$A$6:$BFQ$206,3,FALSE)))","v":""},null,null,null,null,null,null,""]
["",null,{"$f":"IF(B2915=\"\",\"\",IF(ISERROR(VLOOKUP(B2915,database!$A$6:$BFQ$206,4,FALSE)),\"\",VLOOKUP(B2915,database!$A$6:$BFQ$206,4,FALSE)))","v":""},null,null,null,"",null,null,null,{"$f":"IF(B2915=\"\",\"\",IF(ISERROR(VLOOKUP(B2915,database!$A$6:$BFQ$206,3,FALSE)),\"\",VLOOKUP(B2915,database!$A$6:$BFQ$206,3,FALSE)))","v":""},null,null,null,null,null,null,""]
["",null,{"$f":"IF(B2916=\"\",\"\",IF(ISERROR(VLOOKUP(B2916,database!$A$6:$BFQ$206,4,FALSE)),\"\",VLOOKUP(B2916,database!$A$6:$BFQ$206,4,FALSE)))","v":""},null,null,null,"",null,null,null,{"$f":"IF(B2916=\"\",\"\",IF(ISERROR(VLOOKUP(B2916,database!$A$6:$BFQ$206,3,FALSE)),\"\",VLOOKUP(B2916,database!$A$6:$BFQ$206,3,FALSE)))","v":""},null,null,null,null,null,null,""]
["",null,{"$f":"IF(B2919=\"\",\"\",IF(ISERROR(VLOOKUP(B2919,database!$A$6:$BFQ$206,4,FALSE)),\"\",VLOOKUP(B2919,database!$A$6:$BFQ$206,4,FALSE)))","v":""},null,null,null,"",null,null,null,{"$f":"IF(B2919=\"\",\"\",IF(ISERROR(VLOOKUP(B2919,database!$A$6:$BFQ$206,3,FALSE)),\"\",VLOOKUP(B2919,database!$A$6:$BFQ$206,3,FALSE)))","v":""},null,null,null,null,null,null,""]
["",null,{"$f":"IF(B2920=\"\",\"\",IF(ISERROR(VLOOKUP(B2920,database!$A$6:$BFQ$206,4,FALSE)),\"\",VLOOKUP(B2920,database!$A$6:$BFQ$206,4,FALSE)))","v":""},null,null,null,"",null,null,null,{"$f":"IF(B2920=\"\",\"\",IF(ISERROR(VLOOKUP(B2920,database!$A$6:$BFQ$206,3,FALSE)),\"\",VLOOKUP(B2920,database!$A$6:$BFQ$206,3,FALSE)))","v":""},null,null,null,null,null,null,""]
["",null,{"$f":"IF(B2922=\"\",\"\",IF(ISERROR(VLOOKUP(B2922,database!$A$6:$BFQ$206,4,FALSE)),\"\",VLOOKUP(B2922,database!$A$6:$BFQ$206,4,FALSE)))","v":""},null,null,null,"",null,null,null,{"$f":"IF(B2922=\"\",\"\",IF(ISERROR(VLOOKUP(B2922,database!$A$6:$BFQ$206,3,FALSE)),\"\",VLOOKUP(B2922,database!$A$6:$BFQ$206,3,FALSE)))","v":""},null,null,null,null,null,null,""]
["",null,{"$f":"IF(B2923=\"\",\"\",IF(ISERROR(VLOOKUP(B2923,database!$A$6:$BFQ$206,4,FALSE)),\"\",VLOOKUP(B2923,database!$A$6:$BFQ$206,4,FALSE)))","v":""},null,null,null,"",null,null,null,{"$f":"IF(B2923=\"\",\"\",IF(ISERROR(VLOOKUP(B2923,database!$A$6:$BFQ$206,3,FALSE)),\"\",VLOOKUP(B2923,database!$A$6:$BFQ$206,3,FALSE)))","v":""},null,null,null,null,null,null,""]
["",null,{"$f":"IF(B2926=\"\",\"\",IF(ISERROR(VLOOKUP(B2926,database!$A$6:$BFQ$206,4,FALSE)),\"\",VLOOKUP(B2926,database!$A$6:$BFQ$206,4,FALSE)))","v":""},null,null,null,"",null,null,null,{"$f":"IF(B2926=\"\",\"\",IF(ISERROR(VLOOKUP(B2926,database!$A$6:$BFQ$206,3,FALSE)),\"\",VLOOKUP(B2926,database!$A$6:$BFQ$206,3,FALSE)))","v":""},null,null,null,null,null,null,""]
["",null,{"$f":"IF(B2927=\"\",\"\",IF(ISERROR(VLOOKUP(B2927,database!$A$6:$BFQ$206,4,FALSE)),\"\",VLOOKUP(B2927,database!$A$6:$BFQ$206,4,FALSE)))","v":""},null,null,null,"",null,null,null,{"$f":"IF(B2927=\"\",\"\",IF(ISERROR(VLOOKUP(B2927,database!$A$6:$BFQ$206,3,FALSE)),\"\",VLOOKUP(B2927,database!$A$6:$BFQ$206,3,FALSE)))","v":""},null,null,null,null,null,null,""]
["",null,{"$f":"IF(B2929=\"\",\"\",IF(ISERROR(VLOOKUP(B2929,database!$A$6:$BFQ$206,4,FALSE)),\"\",VLOOKUP(B2929,database!$A$6:$BFQ$206,4,FALSE)))","v":""},null,null,null,"",null,null,null,{"$f":"IF(B2929=\"\",\"\",IF(ISERROR(VLOOKUP(B2929,database!$A$6:$BFQ$206,3,FALSE)),\"\",VLOOKUP(B2929,database!$A$6:$BFQ$206,3,FALSE)))","v":""},null,null,null,null,null,null,""]
["",null,{"$f":"IF(B2930=\"\",\"\",IF(ISERROR(VLOOKUP(B2930,database!$A$6:$BFQ$206,4,FALSE)),\"\",VLOOKUP(B2930,database!$A$6:$BFQ$206,4,FALSE)))","v":""},null,null,null,"",null,null,null,{"$f":"IF(B2930=\"\",\"\",IF(ISERROR(VLOOKUP(B2930,database!$A$6:$BFQ$206,3,FALSE)),\"\",VLOOKUP(B2930,database!$A$6:$BFQ$206,3,FALSE)))","v":""},null,null,null,null,null,null,""]
["",null,{"$f":"IF(B2933=\"\",\"\",IF(ISERROR(VLOOKUP(B2933,database!$A$6:$BFQ$206,4,FALSE)),\"\",VLOOKUP(B2933,database!$A$6:$BFQ$206,4,FALSE)))","v":""},null,null,null,"",null,null,null,{"$f":"IF(B2933=\"\",\"\",IF(ISERROR(VLOOKUP(B2933,database!$A$6:$BFQ$206,3,FALSE)),\"\",VLOOKUP(B2933,database!$A$6:$BFQ$206,3,FALSE)))","v":""},null,null,null,null,null,null,""]
["",null,{"$f":"IF(B2934=\"\",\"\",IF(ISERROR(VLOOKUP(B2934,database!$A$6:$BFQ$206,4,FALSE)),\"\",VLOOKUP(B2934,database!$A$6:$BFQ$206,4,FALSE)))","v":""},null,null,null,"",null,null,null,{"$f":"IF(B2934=\"\",\"\",IF(ISERROR(VLOOKUP(B2934,database!$A$6:$BFQ$206,3,FALSE)),\"\",VLOOKUP(B2934,database!$A$6:$BFQ$206,3,FALSE)))","v":""},null,null,null,null,null,null,""]
["",null,{"$f":"IF(B2937=\"\",\"\",IF(ISERROR(VLOOKUP(B2937,database!$A$6:$BFQ$206,4,FALSE)),\"\",VLOOKUP(B2937,database!$A$6:$BFQ$206,4,FALSE)))","v":""},null,null,null,"",null,null,null,{"$f":"IF(B2937=\"\",\"\",IF(ISERROR(VLOOKUP(B2937,database!$A$6:$BFQ$206,3,FALSE)),\"\",VLOOKUP(B2937,database!$A$6:$BFQ$206,3,FALSE)))","v":""},null,null,null,null,null,null,""]
["",null,{"$f":"IF(B2938=\"\",\"\",IF(ISERROR(VLOOKUP(B2938,database!$A$6:$BFQ$206,4,FALSE)),\"\",VLOOKUP(B2938,database!$A$6:$BFQ$206,4,FALSE)))","v":""},null,null,null,"",null,null,null,{"$f":"IF(B2938=\"\",\"\",IF(ISERROR(VLOOKUP(B2938,database!$A$6:$BFQ$206,3,FALSE)),\"\",VLOOKUP(B2938,database!$A$6:$BFQ$206,3,FALSE)))","v":""},null,null,null,null,null,null,""]
["",null,{"$f":"IF(B2940=\"\",\"\",IF(ISERROR(VLOOKUP(B2940,database!$A$6:$BFQ$206,4,FALSE)),\"\",VLOOKUP(B2940,database!$A$6:$BFQ$206,4,FALSE)))","v":""},null,null,null,"",null,null,null,{"$f":"IF(B2940=\"\",\"\",IF(ISERROR(VLOOKUP(B2940,database!$A$6:$BFQ$206,3,FALSE)),\"\",VLOOKUP(B2940,database!$A$6:$BFQ$206,3,FALSE)))","v":""},null,null,null,null,null,null,""]
["",null,{"$f":"IF(B2941=\"\",\"\",IF(ISERROR(VLOOKUP(B2941,database!$A$6:$BFQ$206,4,FALSE)),\"\",VLOOKUP(B2941,database!$A$6:$BFQ$206,4,FALSE)))","v":""},null,null,null,"",null,null,null,{"$f":"IF(B2941=\"\",\"\",IF(ISERROR(VLOOKUP(B2941,database!$A$6:$BFQ$206,3,FALSE)),\"\",VLOOKUP(B2941,database!$A$6:$BFQ$206,3,FALSE)))","v":""},null,null,null,null,null,null,""]
["",null,{"$f":"IF(B2944=\"\",\"\",IF(ISERROR(VLOOKUP(B2944,database!$A$6:$BFQ$206,4,FALSE)),\"\",VLOOKUP(B2944,database!$A$6:$BFQ$206,4,FALSE)))","v":""},null,null,null,"",null,null,null,{"$f":"IF(B2944=\"\",\"\",IF(ISERROR(VLOOKUP(B2944,database!$A$6:$BFQ$206,3,FALSE)),\"\",VLOOKUP(B2944,database!$A$6:$BFQ$206,3,FALSE)))","v":""},null,null,null,null,null,null,""]
[{"$f":"IF(B2945=\"\",\"\",ROW(A2942))","v":""},null,{"$f":"IF(B2945=\"\",\"\",IF(ISERROR(VLOOKUP(B2945,database!$A$6:$BFQ$206,4,FALSE)),\"\",VLOOKUP(B2945,database!$A$6:$BFQ$206,4,FALSE)))","v":""},null,null,null,{"$f":"IF(B2945=\"\",\"\",IF(C2945=\"\",0,1))","v":""},null,null,null,{"$f":"IF(B2945=\"\",\"\",IF(ISERROR(VLOOKUP(B2945,database!$A$6:$BFQ$206,3,FALSE)),\"\",VLOOKUP(B2945,database!$A$6:$BFQ$206,3,FALSE)))","v":""},null,null,null,null,null,null,{"$f":"LEFT(C2945,2)","v":""}]
["",null,{"$f":"IF(B2947=\"\",\"\",IF(ISERROR(VLOOKUP(B2947,database!$A$6:$BFQ$206,4,FALSE)),\"\",VLOOKUP(B2947,database!$A$6:$BFQ$206,4,FALSE)))","v":""},null,null,null,"",null,null,null,{"$f":"IF(B2947=\"\",\"\",IF(ISERROR(VLOOKUP(B2947,database!$A$6:$BFQ$206,3,FALSE)),\"\",VLOOKUP(B2947,database!$A$6:$BFQ$206,3,FALSE)))","v":""},null,null,null,null,null,null,""]
["",null,{"$f":"IF(B2948=\"\",\"\",IF(ISERROR(VLOOKUP(B2948,database!$A$6:$BFQ$206,4,FALSE)),\"\",VLOOKUP(B2948,database!$A$6:$BFQ$206,4,FALSE)))","v":""},null,null,null,"",null,null,null,{"$f":"IF(B2948=\"\",\"\",IF(ISERROR(VLOOKUP(B2948,database!$A$6:$BFQ$206,3,FALSE)),\"\",VLOOKUP(B2948,database!$A$6:$BFQ$206,3,FALSE)))","v":""},null,null,null,null,null,null,""]
["",null,{"$f":"IF(B2951=\"\",\"\",IF(ISERROR(VLOOKUP(B2951,database!$A$6:$BFQ$206,4,FALSE)),\"\",VLOOKUP(B2951,database!$A$6:$BFQ$206,4,FALSE)))","v":""},null,null,null,"",null,null,null,{"$f":"IF(B2951=\"\",\"\",IF(ISERROR(VLOOKUP(B2951,database!$A$6:$BFQ$206,3,FALSE)),\"\",VLOOKUP(B2951,database!$A$6:$BFQ$206,3,FALSE)))","v":""},null,null,null,null,null,null,""]
["",null,{"$f":"IF(B2952=\"\",\"\",IF(ISERROR(VLOOKUP(B2952,database!$A$6:$BFQ$206,4,FALSE)),\"\",VLOOKUP(B2952,database!$A$6:$BFQ$206,4,FALSE)))","v":""},null,null,null,"",null,null,null,{"$f":"IF(B2952=\"\",\"\",IF(ISERROR(VLOOKUP(B2952,database!$A$6:$BFQ$206,3,FALSE)),\"\",VLOOKUP(B2952,database!$A$6:$BFQ$206,3,FALSE)))","v":""},null,null,null,null,null,null,""]
["",null,{"$f":"IF(B2954=\"\",\"\",IF(ISERROR(VLOOKUP(B2954,database!$A$6:$BFQ$206,4,FALSE)),\"\",VLOOKUP(B2954,database!$A$6:$BFQ$206,4,FALSE)))","v":""},null,null,null,"",null,null,null,{"$f":"IF(B2954=\"\",\"\",IF(ISERROR(VLOOKUP(B2954,database!$A$6:$BFQ$206,3,FALSE)),\"\",VLOOKUP(B2954,database!$A$6:$BFQ$206,3,FALSE)))","v":""},null,null,null,null,null,null,""]
["",null,{"$f":"IF(B2955=\"\",\"\",IF(ISERROR(VLOOKUP(B2955,database!$A$6:$BFQ$206,4,FALSE)),\"\",VLOOKUP(B2955,database!$A$6:$BFQ$206,4,FALSE)))","v":""},null,null,null,"",null,null,null,{"$f":"IF(B2955=\"\",\"\",IF(ISERROR(VLOOKUP(B2955,database!$A$6:$BFQ$206,3,FALSE)),\"\",VLOOKUP(B2955,database!$A$6:$BFQ$206,3,FALSE)))","v":""},null,null,null,null,null,null,""]
["",null,{"$f":"IF(B2958=\"\",\"\",IF(ISERROR(VLOOKUP(B2958,database!$A$6:$BFQ$206,4,FALSE)),\"\",VLOOKUP(B2958,database!$A$6:$BFQ$206,4,FALSE)))","v":""},null,null,null,"",null,null,null,{"$f":"IF(B2958=\"\",\"\",IF(ISERROR(VLOOKUP(B2958,database!$A$6:$BFQ$206,3,FALSE)),\"\",VLOOKUP(B2958,database!$A$6:$BFQ$206,3,FALSE)))","v":""},null,null,null,null,null,null,""]
["",null,{"$f":"IF(B2959=\"\",\"\",IF(ISERROR(VLOOKUP(B2959,database!$A$6:$BFQ$206,4,FALSE)),\"\",VLOOKUP(B2959,database!$A$6:$BFQ$206,4,FALSE)))","v":""},null,null,null,"",null,null,null,{"$f":"IF(B2959=\"\",\"\",IF(ISERROR(VLOOKUP(B2959,database!$A$6:$BFQ$206,3,FALSE)),\"\",VLOOKUP(B2959,database!$A$6:$BFQ$206,3,FALSE)))","v":""},null,null,null,null,null,null,""]
["",null,{"$f":"IF(B2961=\"\",\"\",IF(ISERROR(VLOOKUP(B2961,database!$A$6:$BFQ$206,4,FALSE)),\"\",VLOOKUP(B2961,database!$A$6:$BFQ$206,4,FALSE)))","v":""},null,null,null,"",null,null,null,{"$f":"IF(B2961=\"\",\"\",IF(ISERROR(VLOOKUP(B2961,database!$A$6:$BFQ$206,3,FALSE)),\"\",VLOOKUP(B2961,database!$A$6:$BFQ$206,3,FALSE)))","v":""},null,null,null,null,null,null,""]
["",null,{"$f":"IF(B2962=\"\",\"\",IF(ISERROR(VLOOKUP(B2962,database!$A$6:$BFQ$206,4,FALSE)),\"\",VLOOKUP(B2962,database!$A$6:$BFQ$206,4,FALSE)))","v":""},null,null,null,"",null,null,null,{"$f":"IF(B2962=\"\",\"\",IF(ISERROR(VLOOKUP(B2962,database!$A$6:$BFQ$206,3,FALSE)),\"\",VLOOKUP(B2962,database!$A$6:$BFQ$206,3,FALSE)))","v":""},null,null,null,null,null,null,""]
["",null,{"$f":"IF(B2965=\"\",\"\",IF(ISERROR(VLOOKUP(B2965,database!$A$6:$BFQ$206,4,FALSE)),\"\",VLOOKUP(B2965,database!$A$6:$BFQ$206,4,FALSE)))","v":""},null,null,null,"",null,null,null,{"$f":"IF(B2965=\"\",\"\",IF(ISERROR(VLOOKUP(B2965,database!$A$6:$BFQ$206,3,FALSE)),\"\",VLOOKUP(B2965,database!$A$6:$BFQ$206,3,FALSE)))","v":""},null,null,null,null,null,null,""]
["",null,{"$f":"IF(B2966=\"\",\"\",IF(ISERROR(VLOOKUP(B2966,database!$A$6:$BFQ$206,4,FALSE)),\"\",VLOOKUP(B2966,database!$A$6:$BFQ$206,4,FALSE)))","v":""},null,null,null,"",null,null,null,{"$f":"IF(B2966=\"\",\"\",IF(ISERROR(VLOOKUP(B2966,database!$A$6:$BFQ$206,3,FALSE)),\"\",VLOOKUP(B2966,database!$A$6:$BFQ$206,3,FALSE)))","v":""},null,null,null,null,null,null,""]
["",null,{"$f":"IF(B2968=\"\",\"\",IF(ISERROR(VLOOKUP(B2968,database!$A$6:$BFQ$206,4,FALSE)),\"\",VLOOKUP(B2968,database!$A$6:$BFQ$206,4,FALSE)))","v":""},null,null,null,"",null,null,null,{"$f":"IF(B2968=\"\",\"\",IF(ISERROR(VLOOKUP(B2968,database!$A$6:$BFQ$206,3,FALSE)),\"\",VLOOKUP(B2968,database!$A$6:$BFQ$206,3,FALSE)))","v":""},null,null,null,null,null,null,""]
["",null,{"$f":"IF(B2969=\"\",\"\",IF(ISERROR(VLOOKUP(B2969,database!$A$6:$BFQ$206,4,FALSE)),\"\",VLOOKUP(B2969,database!$A$6:$BFQ$206,4,FALSE)))","v":""},null,null,null,"",null,null,null,{"$f":"IF(B2969=\"\",\"\",IF(ISERROR(VLOOKUP(B2969,database!$A$6:$BFQ$206,3,FALSE)),\"\",VLOOKUP(B2969,database!$A$6:$BFQ$206,3,FALSE)))","v":""},null,null,null,null,null,null,""]
["",null,{"$f":"IF(B2972=\"\",\"\",IF(ISERROR(VLOOKUP(B2972,database!$A$6:$BFQ$206,4,FALSE)),\"\",VLOOKUP(B2972,database!$A$6:$BFQ$206,4,FALSE)))","v":""},null,null,null,"",null,null,null,{"$f":"IF(B2972=\"\",\"\",IF(ISERROR(VLOOKUP(B2972,database!$A$6:$BFQ$206,3,FALSE)),\"\",VLOOKUP(B2972,database!$A$6:$BFQ$206,3,FALSE)))","v":""},null,null,null,null,null,null,""]
["",null,{"$f":"IF(B2973=\"\",\"\",IF(ISERROR(VLOOKUP(B2973,database!$A$6:$BFQ$206,4,FALSE)),\"\",VLOOKUP(B2973,database!$A$6:$BFQ$206,4,FALSE)))","v":""},null,null,null,"",null,null,null,{"$f":"IF(B2973=\"\",\"\",IF(ISERROR(VLOOKUP(B2973,database!$A$6:$BFQ$206,3,FALSE)),\"\",VLOOKUP(B2973,database!$A$6:$BFQ$206,3,FALSE)))","v":""},null,null,null,null,null,null,""]
["",null,{"$f":"IF(B2975=\"\",\"\",IF(ISERROR(VLOOKUP(B2975,database!$A$6:$BFQ$206,4,FALSE)),\"\",VLOOKUP(B2975,database!$A$6:$BFQ$206,4,FALSE)))","v":""},null,null,null,"",null,null,null,{"$f":"IF(B2975=\"\",\"\",IF(ISERROR(VLOOKUP(B2975,database!$A$6:$BFQ$206,3,FALSE)),\"\",VLOOKUP(B2975,database!$A$6:$BFQ$206,3,FALSE)))","v":""},null,null,null,null,null,null,""]
["",null,{"$f":"IF(B2976=\"\",\"\",IF(ISERROR(VLOOKUP(B2976,database!$A$6:$BFQ$206,4,FALSE)),\"\",VLOOKUP(B2976,database!$A$6:$BFQ$206,4,FALSE)))","v":""},null,null,null,"",null,null,null,{"$f":"IF(B2976=\"\",\"\",IF(ISERROR(VLOOKUP(B2976,database!$A$6:$BFQ$206,3,FALSE)),\"\",VLOOKUP(B2976,database!$A$6:$BFQ$206,3,FALSE)))","v":""},null,null,null,null,null,null,""]
["",null,{"$f":"IF(B2979=\"\",\"\",IF(ISERROR(VLOOKUP(B2979,database!$A$6:$BFQ$206,4,FALSE)),\"\",VLOOKUP(B2979,database!$A$6:$BFQ$206,4,FALSE)))","v":""},null,null,null,"",null,null,null,{"$f":"IF(B2979=\"\",\"\",IF(ISERROR(VLOOKUP(B2979,database!$A$6:$BFQ$206,3,FALSE)),\"\",VLOOKUP(B2979,database!$A$6:$BFQ$206,3,FALSE)))","v":""},null,null,null,null,null,null,""]
["",null,{"$f":"IF(B2980=\"\",\"\",IF(ISERROR(VLOOKUP(B2980,database!$A$6:$BFQ$206,4,FALSE)),\"\",VLOOKUP(B2980,database!$A$6:$BFQ$206,4,FALSE)))","v":""},null,null,null,"",null,null,null,{"$f":"IF(B2980=\"\",\"\",IF(ISERROR(VLOOKUP(B2980,database!$A$6:$BFQ$206,3,FALSE)),\"\",VLOOKUP(B2980,database!$A$6:$BFQ$206,3,FALSE)))","v":""},null,null,null,null,null,null,""]
["",null,{"$f":"IF(B2982=\"\",\"\",IF(ISERROR(VLOOKUP(B2982,database!$A$6:$BFQ$206,4,FALSE)),\"\",VLOOKUP(B2982,database!$A$6:$BFQ$206,4,FALSE)))","v":""},null,null,null,"",null,null,null,{"$f":"IF(B2982=\"\",\"\",IF(ISERROR(VLOOKUP(B2982,database!$A$6:$BFQ$206,3,FALSE)),\"\",VLOOKUP(B2982,database!$A$6:$BFQ$206,3,FALSE)))","v":""},null,null,null,null,null,null,""]
["",null,{"$f":"IF(B2983=\"\",\"\",IF(ISERROR(VLOOKUP(B2983,database!$A$6:$BFQ$206,4,FALSE)),\"\",VLOOKUP(B2983,database!$A$6:$BFQ$206,4,FALSE)))","v":""},null,null,null,"",null,null,null,{"$f":"IF(B2983=\"\",\"\",IF(ISERROR(VLOOKUP(B2983,database!$A$6:$BFQ$206,3,FALSE)),\"\",VLOOKUP(B2983,database!$A$6:$BFQ$206,3,FALSE)))","v":""},null,null,null,null,null,null,""]
["",null,{"$f":"IF(B2986=\"\",\"\",IF(ISERROR(VLOOKUP(B2986,database!$A$6:$BFQ$206,4,FALSE)),\"\",VLOOKUP(B2986,database!$A$6:$BFQ$206,4,FALSE)))","v":""},null,null,null,"",null,null,null,{"$f":"IF(B2986=\"\",\"\",IF(ISERROR(VLOOKUP(B2986,database!$A$6:$BFQ$206,3,FALSE)),\"\",VLOOKUP(B2986,database!$A$6:$BFQ$206,3,FALSE)))","v":""},null,null,null,null,null,null,""]
["",null,{"$f":"IF(B2987=\"\",\"\",IF(ISERROR(VLOOKUP(B2987,database!$A$6:$BFQ$206,4,FALSE)),\"\",VLOOKUP(B2987,database!$A$6:$BFQ$206,4,FALSE)))","v":""},null,null,null,"",null,null,null,{"$f":"IF(B2987=\"\",\"\",IF(ISERROR(VLOOKUP(B2987,database!$A$6:$BFQ$206,3,FALSE)),\"\",VLOOKUP(B2987,database!$A$6:$BFQ$206,3,FALSE)))","v":""},null,null,null,null,null,null,""]
["",null,{"$f":"IF(B2989=\"\",\"\",IF(ISERROR(VLOOKUP(B2989,database!$A$6:$BFQ$206,4,FALSE)),\"\",VLOOKUP(B2989,database!$A$6:$BFQ$206,4,FALSE)))","v":""},null,null,null,"",null,null,null,{"$f":"IF(B2989=\"\",\"\",IF(ISERROR(VLOOKUP(B2989,database!$A$6:$BFQ$206,3,FALSE)),\"\",VLOOKUP(B2989,database!$A$6:$BFQ$206,3,FALSE)))","v":""},null,null,null,null,null,null,""]
["",null,{"$f":"IF(B2990=\"\",\"\",IF(ISERROR(VLOOKUP(B2990,database!$A$6:$BFQ$206,4,FALSE)),\"\",VLOOKUP(B2990,database!$A$6:$BFQ$206,4,FALSE)))","v":""},null,null,null,"",null,null,null,{"$f":"IF(B2990=\"\",\"\",IF(ISERROR(VLOOKUP(B2990,database!$A$6:$BFQ$206,3,FALSE)),\"\",VLOOKUP(B2990,database!$A$6:$BFQ$206,3,FALSE)))","v":""},null,null,null,null,null,null,""]
["",null,{"$f":"IF(B2993=\"\",\"\",IF(ISERROR(VLOOKUP(B2993,database!$A$6:$BFQ$206,4,FALSE)),\"\",VLOOKUP(B2993,database!$A$6:$BFQ$206,4,FALSE)))","v":""},null,null,null,"",null,null,null,{"$f":"IF(B2993=\"\",\"\",IF(ISERROR(VLOOKUP(B2993,database!$A$6:$BFQ$206,3,FALSE)),\"\",VLOOKUP(B2993,database!$A$6:$BFQ$206,3,FALSE)))","v":""},null,null,null,null,null,null,""]
["",null,{"$f":"IF(B2994=\"\",\"\",IF(ISERROR(VLOOKUP(B2994,database!$A$6:$BFQ$206,4,FALSE)),\"\",VLOOKUP(B2994,database!$A$6:$BFQ$206,4,FALSE)))","v":""},null,null,null,"",null,null,null,{"$f":"IF(B2994=\"\",\"\",IF(ISERROR(VLOOKUP(B2994,database!$A$6:$BFQ$206,3,FALSE)),\"\",VLOOKUP(B2994,database!$A$6:$BFQ$206,3,FALSE)))","v":""},null,null,null,null,null,null,""]
["",null,{"$f":"IF(B2996=\"\",\"\",IF(ISERROR(VLOOKUP(B2996,database!$A$6:$BFQ$206,4,FALSE)),\"\",VLOOKUP(B2996,database!$A$6:$BFQ$206,4,FALSE)))","v":""},null,null,null,"",null,null,null,{"$f":"IF(B2996=\"\",\"\",IF(ISERROR(VLOOKUP(B2996,database!$A$6:$BFQ$206,3,FALSE)),\"\",VLOOKUP(B2996,database!$A$6:$BFQ$206,3,FALSE)))","v":""},null,null,null,null,null,null,""]
["",null,{"$f":"IF(B2997=\"\",\"\",IF(ISERROR(VLOOKUP(B2997,database!$A$6:$BFQ$206,4,FALSE)),\"\",VLOOKUP(B2997,database!$A$6:$BFQ$206,4,FALSE)))","v":""},null,null,null,"",null,null,null,{"$f":"IF(B2997=\"\",\"\",IF(ISERROR(VLOOKUP(B2997,database!$A$6:$BFQ$206,3,FALSE)),\"\",VLOOKUP(B2997,database!$A$6:$BFQ$206,3,FALSE)))","v":""},null,null,null,null,null,null,""]
["",null,{"$f":"IF(B3000=\"\",\"\",IF(ISERROR(VLOOKUP(B3000,database!$A$6:$BFQ$206,4,FALSE)),\"\",VLOOKUP(B3000,database!$A$6:$BFQ$206,4,FALSE)))","v":""},null,null,null,"",null,null,null,{"$f":"IF(B3000=\"\",\"\",IF(ISERROR(VLOOKUP(B3000,database!$A$6:$BFQ$206,3,FALSE)),\"\",VLOOKUP(B3000,database!$A$6:$BFQ$206,3,FALSE)))","v":""},null,null,null,null,null,null,""]
["",null,{"$f":"IF(B3001=\"\",\"\",IF(ISERROR(VLOOKUP(B3001,database!$A$6:$BFQ$206,4,FALSE)),\"\",VLOOKUP(B3001,database!$A$6:$BFQ$206,4,FALSE)))","v":""},null,null,null,"",null,null,null,{"$f":"IF(B3001=\"\",\"\",IF(ISERROR(VLOOKUP(B3001,database!$A$6:$BFQ$206,3,FALSE)),\"\",VLOOKUP(B3001,database!$A$6:$BFQ$206,3,FALSE)))","v":""},null,null,null,null,null,null,""]
["",null,{"$f":"IF(B3003=\"\",\"\",IF(ISERROR(VLOOKUP(B3003,database!$A$6:$BFQ$206,4,FALSE)),\"\",VLOOKUP(B3003,database!$A$6:$BFQ$206,4,FALSE)))","v":""},null,null,null,"",null,null,null,{"$f":"IF(B3003=\"\",\"\",IF(ISERROR(VLOOKUP(B3003,database!$A$6:$BFQ$206,3,FALSE)),\"\",VLOOKUP(B3003,database!$A$6:$BFQ$206,3,FALSE)))","v":""},null,null,null,null,null,null,""]
["",null,{"$f":"IF(B3004=\"\",\"\",IF(ISERROR(VLOOKUP(B3004,database!$A$6:$BFQ$206,4,FALSE)),\"\",VLOOKUP(B3004,database!$A$6:$BFQ$206,4,FALSE)))","v":""},null,null,null,"",null,null,null,{"$f":"IF(B3004=\"\",\"\",IF(ISERROR(VLOOKUP(B3004,database!$A$6:$BFQ$206,3,FALSE)),\"\",VLOOKUP(B3004,database!$A$6:$BFQ$206,3,FALSE)))","v":""},null,null,null,null,null,null,""]
["",null,{"$f":"IF(B3007=\"\",\"\",IF(ISERROR(VLOOKUP(B3007,database!$A$6:$BFQ$206,4,FALSE)),\"\",VLOOKUP(B3007,database!$A$6:$BFQ$206,4,FALSE)))","v":""},null,null,null,"",null,null,null,{"$f":"IF(B3007=\"\",\"\",IF(ISERROR(VLOOKUP(B3007,database!$A$6:$BFQ$206,3,FALSE)),\"\",VLOOKUP(B3007,database!$A$6:$BFQ$206,3,FALSE)))","v":""},null,null,null,null,null,null,""]
["",null,{"$f":"IF(B3008=\"\",\"\",IF(ISERROR(VLOOKUP(B3008,database!$A$6:$BFQ$206,4,FALSE)),\"\",VLOOKUP(B3008,database!$A$6:$BFQ$206,4,FALSE)))","v":""},null,null,null,"",null,null,null,{"$f":"IF(B3008=\"\",\"\",IF(ISERROR(VLOOKUP(B3008,database!$A$6:$BFQ$206,3,FALSE)),\"\",VLOOKUP(B3008,database!$A$6:$BFQ$206,3,FALSE)))","v":""},null,null,null,null,null,null,""]
["",null,{"$f":"IF(B3010=\"\",\"\",IF(ISERROR(VLOOKUP(B3010,database!$A$6:$BFQ$206,4,FALSE)),\"\",VLOOKUP(B3010,database!$A$6:$BFQ$206,4,FALSE)))","v":""},null,null,null,"",null,null,null,{"$f":"IF(B3010=\"\",\"\",IF(ISERROR(VLOOKUP(B3010,database!$A$6:$BFQ$206,3,FALSE)),\"\",VLOOKUP(B3010,database!$A$6:$BFQ$206,3,FALSE)))","v":""},null,null,null,null,null,null,""]
["",null,{"$f":"IF(B3011=\"\",\"\",IF(ISERROR(VLOOKUP(B3011,database!$A$6:$BFQ$206,4,FALSE)),\"\",VLOOKUP(B3011,database!$A$6:$BFQ$206,4,FALSE)))","v":""},null,null,null,"",null,null,null,{"$f":"IF(B3011=\"\",\"\",IF(ISERROR(VLOOKUP(B3011,database!$A$6:$BFQ$206,3,FALSE)),\"\",VLOOKUP(B3011,database!$A$6:$BFQ$206,3,FALSE)))","v":""},null,null,null,null,null,null,""]
["",null,{"$f":"IF(B3014=\"\",\"\",IF(ISERROR(VLOOKUP(B3014,database!$A$6:$BFQ$206,4,FALSE)),\"\",VLOOKUP(B3014,database!$A$6:$BFQ$206,4,FALSE)))","v":""},null,null,null,"",null,null,null,{"$f":"IF(B3014=\"\",\"\",IF(ISERROR(VLOOKUP(B3014,database!$A$6:$BFQ$206,3,FALSE)),\"\",VLOOKUP(B3014,database!$A$6:$BFQ$206,3,FALSE)))","v":""},null,null,null,null,null,null,""]
["",null,{"$f":"IF(B3015=\"\",\"\",IF(ISERROR(VLOOKUP(B3015,database!$A$6:$BFQ$206,4,FALSE)),\"\",VLOOKUP(B3015,database!$A$6:$BFQ$206,4,FALSE)))","v":""},null,null,null,"",null,null,null,{"$f":"IF(B3015=\"\",\"\",IF(ISERROR(VLOOKUP(B3015,database!$A$6:$BFQ$206,3,FALSE)),\"\",VLOOKUP(B3015,database!$A$6:$BFQ$206,3,FALSE)))","v":""},null,null,null,null,null,null,""]
["",null,{"$f":"IF(B3017=\"\",\"\",IF(ISERROR(VLOOKUP(B3017,database!$A$6:$BFQ$206,4,FALSE)),\"\",VLOOKUP(B3017,database!$A$6:$BFQ$206,4,FALSE)))","v":""},null,null,null,"",null,null,null,{"$f":"IF(B3017=\"\",\"\",IF(ISERROR(VLOOKUP(B3017,database!$A$6:$BFQ$206,3,FALSE)),\"\",VLOOKUP(B3017,database!$A$6:$BFQ$206,3,FALSE)))","v":""},null,null,null,null,null,null,""]
["",null,{"$f":"IF(B3018=\"\",\"\",IF(ISERROR(VLOOKUP(B3018,database!$A$6:$BFQ$206,4,FALSE)),\"\",VLOOKUP(B3018,database!$A$6:$BFQ$206,4,FALSE)))","v":""},null,null,null,"",null,null,null,{"$f":"IF(B3018=\"\",\"\",IF(ISERROR(VLOOKUP(B3018,database!$A$6:$BFQ$206,3,FALSE)),\"\",VLOOKUP(B3018,database!$A$6:$BFQ$206,3,FALSE)))","v":""},null,null,null,null,null,null,""]
["",null,{"$f":"IF(B3021=\"\",\"\",IF(ISERROR(VLOOKUP(B3021,database!$A$6:$BFQ$206,4,FALSE)),\"\",VLOOKUP(B3021,database!$A$6:$BFQ$206,4,FALSE)))","v":""},null,null,null,"",null,null,null,{"$f":"IF(B3021=\"\",\"\",IF(ISERROR(VLOOKUP(B3021,database!$A$6:$BFQ$206,3,FALSE)),\"\",VLOOKUP(B3021,database!$A$6:$BFQ$206,3,FALSE)))","v":""},null,null,null,null,null,null,""]
["",null,{"$f":"IF(B3022=\"\",\"\",IF(ISERROR(VLOOKUP(B3022,database!$A$6:$BFQ$206,4,FALSE)),\"\",VLOOKUP(B3022,database!$A$6:$BFQ$206,4,FALSE)))","v":""},null,null,null,"",null,null,null,{"$f":"IF(B3022=\"\",\"\",IF(ISERROR(VLOOKUP(B3022,database!$A$6:$BFQ$206,3,FALSE)),\"\",VLOOKUP(B3022,database!$A$6:$BFQ$206,3,FALSE)))","v":""},null,null,null,null,null,null,""]
["",null,{"$f":"IF(B3024=\"\",\"\",IF(ISERROR(VLOOKUP(B3024,database!$A$6:$BFQ$206,4,FALSE)),\"\",VLOOKUP(B3024,database!$A$6:$BFQ$206,4,FALSE)))","v":""},null,null,null,"",null,null,null,{"$f":"IF(B3024=\"\",\"\",IF(ISERROR(VLOOKUP(B3024,database!$A$6:$BFQ$206,3,FALSE)),\"\",VLOOKUP(B3024,database!$A$6:$BFQ$206,3,FALSE)))","v":""},null,null,null,null,null,null,""]
["",null,{"$f":"IF(B3025=\"\",\"\",IF(ISERROR(VLOOKUP(B3025,database!$A$6:$BFQ$206,4,FALSE)),\"\",VLOOKUP(B3025,database!$A$6:$BFQ$206,4,FALSE)))","v":""},null,null,null,"",null,null,null,{"$f":"IF(B3025=\"\",\"\",IF(ISERROR(VLOOKUP(B3025,database!$A$6:$BFQ$206,3,FALSE)),\"\",VLOOKUP(B3025,database!$A$6:$BFQ$206,3,FALSE)))","v":""},null,null,null,null,null,null,""]
["",null,{"$f":"IF(B3028=\"\",\"\",IF(ISERROR(VLOOKUP(B3028,database!$A$6:$BFQ$206,4,FALSE)),\"\",VLOOKUP(B3028,database!$A$6:$BFQ$206,4,FALSE)))","v":""},null,null,null,"",null,null,null,{"$f":"IF(B3028=\"\",\"\",IF(ISERROR(VLOOKUP(B3028,database!$A$6:$BFQ$206,3,FALSE)),\"\",VLOOKUP(B3028,database!$A$6:$BFQ$206,3,FALSE)))","v":""},null,null,null,null,null,null,""]
["",null,{"$f":"IF(B3029=\"\",\"\",IF(ISERROR(VLOOKUP(B3029,database!$A$6:$BFQ$206,4,FALSE)),\"\",VLOOKUP(B3029,database!$A$6:$BFQ$206,4,FALSE)))","v":""},null,null,null,"",null,null,null,{"$f":"IF(B3029=\"\",\"\",IF(ISERROR(VLOOKUP(B3029,database!$A$6:$BFQ$206,3,FALSE)),\"\",VLOOKUP(B3029,database!$A$6:$BFQ$206,3,FALSE)))","v":""},null,null,null,null,null,null,""]
["",null,{"$f":"IF(B3031=\"\",\"\",IF(ISERROR(VLOOKUP(B3031,database!$A$6:$BFQ$206,4,FALSE)),\"\",VLOOKUP(B3031,database!$A$6:$BFQ$206,4,FALSE)))","v":""},null,null,null,"",null,null,null,{"$f":"IF(B3031=\"\",\"\",IF(ISERROR(VLOOKUP(B3031,database!$A$6:$BFQ$206,3,FALSE)),\"\",VLOOKUP(B3031,database!$A$6:$BFQ$206,3,FALSE)))","v":""},null,null,null,null,null,null,""]
["",null,{"$f":"IF(B3032=\"\",\"\",IF(ISERROR(VLOOKUP(B3032,database!$A$6:$BFQ$206,4,FALSE)),\"\",VLOOKUP(B3032,database!$A$6:$BFQ$206,4,FALSE)))","v":""},null,null,null,"",null,null,null,{"$f":"IF(B3032=\"\",\"\",IF(ISERROR(VLOOKUP(B3032,database!$A$6:$BFQ$206,3,FALSE)),\"\",VLOOKUP(B3032,database!$A$6:$BFQ$206,3,FALSE)))","v":""},null,null,null,null,null,null,""]
["",null,{"$f":"IF(B3035=\"\",\"\",IF(ISERROR(VLOOKUP(B3035,database!$A$6:$BFQ$206,4,FALSE)),\"\",VLOOKUP(B3035,database!$A$6:$BFQ$206,4,FALSE)))","v":""},null,null,null,"",null,null,null,{"$f":"IF(B3035=\"\",\"\",IF(ISERROR(VLOOKUP(B3035,database!$A$6:$BFQ$206,3,FALSE)),\"\",VLOOKUP(B3035,database!$A$6:$BFQ$206,3,FALSE)))","v":""},null,null,null,null,null,null,""]
["",null,{"$f":"IF(B3036=\"\",\"\",IF(ISERROR(VLOOKUP(B3036,database!$A$6:$BFQ$206,4,FALSE)),\"\",VLOOKUP(B3036,database!$A$6:$BFQ$206,4,FALSE)))","v":""},null,null,null,"",null,null,null,{"$f":"IF(B3036=\"\",\"\",IF(ISERROR(VLOOKUP(B3036,database!$A$6:$BFQ$206,3,FALSE)),\"\",VLOOKUP(B3036,database!$A$6:$BFQ$206,3,FALSE)))","v":""},null,null,null,null,null,null,""]
["",null,{"$f":"IF(B3038=\"\",\"\",IF(ISERROR(VLOOKUP(B3038,database!$A$6:$BFQ$206,4,FALSE)),\"\",VLOOKUP(B3038,database!$A$6:$BFQ$206,4,FALSE)))","v":""},null,null,null,"",null,null,null,{"$f":"IF(B3038=\"\",\"\",IF(ISERROR(VLOOKUP(B3038,database!$A$6:$BFQ$206,3,FALSE)),\"\",VLOOKUP(B3038,database!$A$6:$BFQ$206,3,FALSE)))","v":""},null,null,null,null,null,null,""]
["",null,{"$f":"IF(B3039=\"\",\"\",IF(ISERROR(VLOOKUP(B3039,database!$A$6:$BFQ$206,4,FALSE)),\"\",VLOOKUP(B3039,database!$A$6:$BFQ$206,4,FALSE)))","v":""},null,null,null,"",null,null,null,{"$f":"IF(B3039=\"\",\"\",IF(ISERROR(VLOOKUP(B3039,database!$A$6:$BFQ$206,3,FALSE)),\"\",VLOOKUP(B3039,database!$A$6:$BFQ$206,3,FALSE)))","v":""},null,null,null,null,null,null,""]
["",null,{"$f":"IF(B3042=\"\",\"\",IF(ISERROR(VLOOKUP(B3042,database!$A$6:$BFQ$206,4,FALSE)),\"\",VLOOKUP(B3042,database!$A$6:$BFQ$206,4,FALSE)))","v":""},null,null,null,"",null,null,null,{"$f":"IF(B3042=\"\",\"\",IF(ISERROR(VLOOKUP(B3042,database!$A$6:$BFQ$206,3,FALSE)),\"\",VLOOKUP(B3042,database!$A$6:$BFQ$206,3,FALSE)))","v":""},null,null,null,null,null,null,""]
["",null,{"$f":"IF(B3043=\"\",\"\",IF(ISERROR(VLOOKUP(B3043,database!$A$6:$BFQ$206,4,FALSE)),\"\",VLOOKUP(B3043,database!$A$6:$BFQ$206,4,FALSE)))","v":""},null,null,null,"",null,null,null,{"$f":"IF(B3043=\"\",\"\",IF(ISERROR(VLOOKUP(B3043,database!$A$6:$BFQ$206,3,FALSE)),\"\",VLOOKUP(B3043,database!$A$6:$BFQ$206,3,FALSE)))","v":""},null,null,null,null,null,null,""]
["",null,{"$f":"IF(B3046=\"\",\"\",IF(ISERROR(VLOOKUP(B3046,database!$A$6:$BFQ$206,4,FALSE)),\"\",VLOOKUP(B3046,database!$A$6:$BFQ$206,4,FALSE)))","v":""},null,null,null,"",null,null,null,{"$f":"IF(B3046=\"\",\"\",IF(ISERROR(VLOOKUP(B3046,database!$A$6:$BFQ$206,3,FALSE)),\"\",VLOOKUP(B3046,database!$A$6:$BFQ$206,3,FALSE)))","v":""},null,null,null,null,null,null,""]
["",null,{"$f":"IF(B3047=\"\",\"\",IF(ISERROR(VLOOKUP(B3047,database!$A$6:$BFQ$206,4,FALSE)),\"\",VLOOKUP(B3047,database!$A$6:$BFQ$206,4,FALSE)))","v":""},null,null,null,"",null,null,null,{"$f":"IF(B3047=\"\",\"\",IF(ISERROR(VLOOKUP(B3047,database!$A$6:$BFQ$206,3,FALSE)),\"\",VLOOKUP(B3047,database!$A$6:$BFQ$206,3,FALSE)))","v":""},null,null,null,null,null,null,""]
["",null,{"$f":"IF(B3049=\"\",\"\",IF(ISERROR(VLOOKUP(B3049,database!$A$6:$BFQ$206,4,FALSE)),\"\",VLOOKUP(B3049,database!$A$6:$BFQ$206,4,FALSE)))","v":""},null,null,null,"",null,null,null,{"$f":"IF(B3049=\"\",\"\",IF(ISERROR(VLOOKUP(B3049,database!$A$6:$BFQ$206,3,FALSE)),\"\",VLOOKUP(B3049,database!$A$6:$BFQ$206,3,FALSE)))","v":""},null,null,null,null,null,null,""]
["",null,{"$f":"IF(B3050=\"\",\"\",IF(ISERROR(VLOOKUP(B3050,database!$A$6:$BFQ$206,4,FALSE)),\"\",VLOOKUP(B3050,database!$A$6:$BFQ$206,4,FALSE)))","v":""},null,null,null,"",null,null,null,{"$f":"IF(B3050=\"\",\"\",IF(ISERROR(VLOOKUP(B3050,database!$A$6:$BFQ$206,3,FALSE)),\"\",VLOOKUP(B3050,database!$A$6:$BFQ$206,3,FALSE)))","v":""},null,null,null,null,null,null,""]
["",null,{"$f":"IF(B3053=\"\",\"\",IF(ISERROR(VLOOKUP(B3053,database!$A$6:$BFQ$206,4,FALSE)),\"\",VLOOKUP(B3053,database!$A$6:$BFQ$206,4,FALSE)))","v":""},null,null,null,"",null,null,null,{"$f":"IF(B3053=\"\",\"\",IF(ISERROR(VLOOKUP(B3053,database!$A$6:$BFQ$206,3,FALSE)),\"\",VLOOKUP(B3053,database!$A$6:$BFQ$206,3,FALSE)))","v":""},null,null,null,null,null,null,""]
["",null,{"$f":"IF(B3054=\"\",\"\",IF(ISERROR(VLOOKUP(B3054,database!$A$6:$BFQ$206,4,FALSE)),\"\",VLOOKUP(B3054,database!$A$6:$BFQ$206,4,FALSE)))","v":""},null,null,null,"",null,null,null,{"$f":"IF(B3054=\"\",\"\",IF(ISERROR(VLOOKUP(B3054,database!$A$6:$BFQ$206,3,FALSE)),\"\",VLOOKUP(B3054,database!$A$6:$BFQ$206,3,FALSE)))","v":""},null,null,null,null,null,null,""]
["",null,{"$f":"IF(B3056=\"\",\"\",IF(ISERROR(VLOOKUP(B3056,database!$A$6:$BFQ$206,4,FALSE)),\"\",VLOOKUP(B3056,database!$A$6:$BFQ$206,4,FALSE)))","v":""},null,null,null,"",null,null,null,{"$f":"IF(B3056=\"\",\"\",IF(ISERROR(VLOOKUP(B3056,database!$A$6:$BFQ$206,3,FALSE)),\"\",VLOOKUP(B3056,database!$A$6:$BFQ$206,3,FALSE)))","v":""},null,null,null,null,null,null,""]
["",null,{"$f":"IF(B3057=\"\",\"\",IF(ISERROR(VLOOKUP(B3057,database!$A$6:$BFQ$206,4,FALSE)),\"\",VLOOKUP(B3057,database!$A$6:$BFQ$206,4,FALSE)))","v":""},null,null,null,"",null,null,null,{"$f":"IF(B3057=\"\",\"\",IF(ISERROR(VLOOKUP(B3057,database!$A$6:$BFQ$206,3,FALSE)),\"\",VLOOKUP(B3057,database!$A$6:$BFQ$206,3,FALSE)))","v":""},null,null,null,null,null,null,""]
["",null,{"$f":"IF(B3060=\"\",\"\",IF(ISERROR(VLOOKUP(B3060,database!$A$6:$BFQ$206,4,FALSE)),\"\",VLOOKUP(B3060,database!$A$6:$BFQ$206,4,FALSE)))","v":""},null,null,null,"",null,null,null,{"$f":"IF(B3060=\"\",\"\",IF(ISERROR(VLOOKUP(B3060,database!$A$6:$BFQ$206,3,FALSE)),\"\",VLOOKUP(B3060,database!$A$6:$BFQ$206,3,FALSE)))","v":""},null,null,null,null,null,null,""]
["",null,{"$f":"IF(B3061=\"\",\"\",IF(ISERROR(VLOOKUP(B3061,database!$A$6:$BFQ$206,4,FALSE)),\"\",VLOOKUP(B3061,database!$A$6:$BFQ$206,4,FALSE)))","v":""},null,null,null,"",null,null,null,{"$f":"IF(B3061=\"\",\"\",IF(ISERROR(VLOOKUP(B3061,database!$A$6:$BFQ$206,3,FALSE)),\"\",VLOOKUP(B3061,database!$A$6:$BFQ$206,3,FALSE)))","v":""},null,null,null,null,null,null,""]
["",null,{"$f":"IF(B3063=\"\",\"\",IF(ISERROR(VLOOKUP(B3063,database!$A$6:$BFQ$206,4,FALSE)),\"\",VLOOKUP(B3063,database!$A$6:$BFQ$206,4,FALSE)))","v":""},null,null,null,"",null,null,null,{"$f":"IF(B3063=\"\",\"\",IF(ISERROR(VLOOKUP(B3063,database!$A$6:$BFQ$206,3,FALSE)),\"\",VLOOKUP(B3063,database!$A$6:$BFQ$206,3,FALSE)))","v":""},null,null,null,null,null,null,""]
["",null,{"$f":"IF(B3064=\"\",\"\",IF(ISERROR(VLOOKUP(B3064,database!$A$6:$BFQ$206,4,FALSE)),\"\",VLOOKUP(B3064,database!$A$6:$BFQ$206,4,FALSE)))","v":""},null,null,null,"",null,null,null,{"$f":"IF(B3064=\"\",\"\",IF(ISERROR(VLOOKUP(B3064,database!$A$6:$BFQ$206,3,FALSE)),\"\",VLOOKUP(B3064,database!$A$6:$BFQ$206,3,FALSE)))","v":""},null,null,null,null,null,null,""]
["",null,{"$f":"IF(B3067=\"\",\"\",IF(ISERROR(VLOOKUP(B3067,database!$A$6:$BFQ$206,4,FALSE)),\"\",VLOOKUP(B3067,database!$A$6:$BFQ$206,4,FALSE)))","v":""},null,null,null,"",null,null,null,{"$f":"IF(B3067=\"\",\"\",IF(ISERROR(VLOOKUP(B3067,database!$A$6:$BFQ$206,3,FALSE)),\"\",VLOOKUP(B3067,database!$A$6:$BFQ$206,3,FALSE)))","v":""},null,null,null,null,null,null,""]
["",null,{"$f":"IF(B3068=\"\",\"\",IF(ISERROR(VLOOKUP(B3068,database!$A$6:$BFQ$206,4,FALSE)),\"\",VLOOKUP(B3068,database!$A$6:$BFQ$206,4,FALSE)))","v":""},null,null,null,"",null,null,null,{"$f":"IF(B3068=\"\",\"\",IF(ISERROR(VLOOKUP(B3068,database!$A$6:$BFQ$206,3,FALSE)),\"\",VLOOKUP(B3068,database!$A$6:$BFQ$206,3,FALSE)))","v":""},null,null,null,null,null,null,""]
["",null,{"$f":"IF(B3070=\"\",\"\",IF(ISERROR(VLOOKUP(B3070,database!$A$6:$BFQ$206,4,FALSE)),\"\",VLOOKUP(B3070,database!$A$6:$BFQ$206,4,FALSE)))","v":""},null,null,null,"",null,null,null,{"$f":"IF(B3070=\"\",\"\",IF(ISERROR(VLOOKUP(B3070,database!$A$6:$BFQ$206,3,FALSE)),\"\",VLOOKUP(B3070,database!$A$6:$BFQ$206,3,FALSE)))","v":""},null,null,null,null,null,null,""]
["",null,{"$f":"IF(B3071=\"\",\"\",IF(ISERROR(VLOOKUP(B3071,database!$A$6:$BFQ$206,4,FALSE)),\"\",VLOOKUP(B3071,database!$A$6:$BFQ$206,4,FALSE)))","v":""},null,null,null,"",null,null,null,{"$f":"IF(B3071=\"\",\"\",IF(ISERROR(VLOOKUP(B3071,database!$A$6:$BFQ$206,3,FALSE)),\"\",VLOOKUP(B3071,database!$A$6:$BFQ$206,3,FALSE)))","v":""},null,null,null,null,null,null,""]
["",null,{"$f":"IF(B3074=\"\",\"\",IF(ISERROR(VLOOKUP(B3074,database!$A$6:$BFQ$206,4,FALSE)),\"\",VLOOKUP(B3074,database!$A$6:$BFQ$206,4,FALSE)))","v":""},null,null,null,"",null,null,null,{"$f":"IF(B3074=\"\",\"\",IF(ISERROR(VLOOKUP(B3074,database!$A$6:$BFQ$206,3,FALSE)),\"\",VLOOKUP(B3074,database!$A$6:$BFQ$206,3,FALSE)))","v":""},null,null,null,null,null,null,""]
["",null,{"$f":"IF(B3075=\"\",\"\",IF(ISERROR(VLOOKUP(B3075,database!$A$6:$BFQ$206,4,FALSE)),\"\",VLOOKUP(B3075,database!$A$6:$BFQ$206,4,FALSE)))","v":""},null,null,null,"",null,null,null,{"$f":"IF(B3075=\"\",\"\",IF(ISERROR(VLOOKUP(B3075,database!$A$6:$BFQ$206,3,FALSE)),\"\",VLOOKUP(B3075,database!$A$6:$BFQ$206,3,FALSE)))","v":""},null,null,null,null,null,null,""]
["",null,{"$f":"IF(B3077=\"\",\"\",IF(ISERROR(VLOOKUP(B3077,database!$A$6:$BFQ$206,4,FALSE)),\"\",VLOOKUP(B3077,database!$A$6:$BFQ$206,4,FALSE)))","v":""},null,null,null,"",null,null,null,{"$f":"IF(B3077=\"\",\"\",IF(ISERROR(VLOOKUP(B3077,database!$A$6:$BFQ$206,3,FALSE)),\"\",VLOOKUP(B3077,database!$A$6:$BFQ$206,3,FALSE)))","v":""},null,null,null,null,null,null,""]
["",null,{"$f":"IF(B3078=\"\",\"\",IF(ISERROR(VLOOKUP(B3078,database!$A$6:$BFQ$206,4,FALSE)),\"\",VLOOKUP(B3078,database!$A$6:$BFQ$206,4,FALSE)))","v":""},null,null,null,"",null,null,null,{"$f":"IF(B3078=\"\",\"\",IF(ISERROR(VLOOKUP(B3078,database!$A$6:$BFQ$206,3,FALSE)),\"\",VLOOKUP(B3078,database!$A$6:$BFQ$206,3,FALSE)))","v":""},null,null,null,null,null,null,""]
["",null,{"$f":"IF(B3081=\"\",\"\",IF(ISERROR(VLOOKUP(B3081,database!$A$6:$BFQ$206,4,FALSE)),\"\",VLOOKUP(B3081,database!$A$6:$BFQ$206,4,FALSE)))","v":""},null,null,null,"",null,null,null,{"$f":"IF(B3081=\"\",\"\",IF(ISERROR(VLOOKUP(B3081,database!$A$6:$BFQ$206,3,FALSE)),\"\",VLOOKUP(B3081,database!$A$6:$BFQ$206,3,FALSE)))","v":""},null,null,null,null,null,null,""]
["",null,{"$f":"IF(B3082=\"\",\"\",IF(ISERROR(VLOOKUP(B3082,database!$A$6:$BFQ$206,4,FALSE)),\"\",VLOOKUP(B3082,database!$A$6:$BFQ$206,4,FALSE)))","v":""},null,null,null,"",null,null,null,{"$f":"IF(B3082=\"\",\"\",IF(ISERROR(VLOOKUP(B3082,database!$A$6:$BFQ$206,3,FALSE)),\"\",VLOOKUP(B3082,database!$A$6:$BFQ$206,3,FALSE)))","v":""},null,null,null,null,null,null,""]
["",null,{"$f":"IF(B3084=\"\",\"\",IF(ISERROR(VLOOKUP(B3084,database!$A$6:$BFQ$206,4,FALSE)),\"\",VLOOKUP(B3084,database!$A$6:$BFQ$206,4,FALSE)))","v":""},null,null,null,"",null,null,null,{"$f":"IF(B3084=\"\",\"\",IF(ISERROR(VLOOKUP(B3084,database!$A$6:$BFQ$206,3,FALSE)),\"\",VLOOKUP(B3084,database!$A$6:$BFQ$206,3,FALSE)))","v":""},null,null,null,null,null,null,""]
["",null,{"$f":"IF(B3085=\"\",\"\",IF(ISERROR(VLOOKUP(B3085,database!$A$6:$BFQ$206,4,FALSE)),\"\",VLOOKUP(B3085,database!$A$6:$BFQ$206,4,FALSE)))","v":""},null,null,null,"",null,null,null,{"$f":"IF(B3085=\"\",\"\",IF(ISERROR(VLOOKUP(B3085,database!$A$6:$BFQ$206,3,FALSE)),\"\",VLOOKUP(B3085,database!$A$6:$BFQ$206,3,FALSE)))","v":""},null,null,null,null,null,null,""]
["",null,{"$f":"IF(B3088=\"\",\"\",IF(ISERROR(VLOOKUP(B3088,database!$A$6:$BFQ$206,4,FALSE)),\"\",VLOOKUP(B3088,database!$A$6:$BFQ$206,4,FALSE)))","v":""},null,null,null,"",null,null,null,{"$f":"IF(B3088=\"\",\"\",IF(ISERROR(VLOOKUP(B3088,database!$A$6:$BFQ$206,3,FALSE)),\"\",VLOOKUP(B3088,database!$A$6:$BFQ$206,3,FALSE)))","v":""},null,null,null,null,null,null,""]
["",null,{"$f":"IF(B3089=\"\",\"\",IF(ISERROR(VLOOKUP(B3089,database!$A$6:$BFQ$206,4,FALSE)),\"\",VLOOKUP(B3089,database!$A$6:$BFQ$206,4,FALSE)))","v":""},null,null,null,"",null,null,null,{"$f":"IF(B3089=\"\",\"\",IF(ISERROR(VLOOKUP(B3089,database!$A$6:$BFQ$206,3,FALSE)),\"\",VLOOKUP(B3089,database!$A$6:$BFQ$206,3,FALSE)))","v":""},null,null,null,null,null,null,""]
["",null,{"$f":"IF(B3091=\"\",\"\",IF(ISERROR(VLOOKUP(B3091,database!$A$6:$BFQ$206,4,FALSE)),\"\",VLOOKUP(B3091,database!$A$6:$BFQ$206,4,FALSE)))","v":""},null,null,null,"",null,null,null,{"$f":"IF(B3091=\"\",\"\",IF(ISERROR(VLOOKUP(B3091,database!$A$6:$BFQ$206,3,FALSE)),\"\",VLOOKUP(B3091,database!$A$6:$BFQ$206,3,FALSE)))","v":""},null,null,null,null,null,null,""]
["",null,{"$f":"IF(B3092=\"\",\"\",IF(ISERROR(VLOOKUP(B3092,database!$A$6:$BFQ$206,4,FALSE)),\"\",VLOOKUP(B3092,database!$A$6:$BFQ$206,4,FALSE)))","v":""},null,null,null,"",null,null,null,{"$f":"IF(B3092=\"\",\"\",IF(ISERROR(VLOOKUP(B3092,database!$A$6:$BFQ$206,3,FALSE)),\"\",VLOOKUP(B3092,database!$A$6:$BFQ$206,3,FALSE)))","v":""},null,null,null,null,null,null,""]
["",null,{"$f":"IF(B3095=\"\",\"\",IF(ISERROR(VLOOKUP(B3095,database!$A$6:$BFQ$206,4,FALSE)),\"\",VLOOKUP(B3095,database!$A$6:$BFQ$206,4,FALSE)))","v":""},null,null,null,"",null,null,null,{"$f":"IF(B3095=\"\",\"\",IF(ISERROR(VLOOKUP(B3095,database!$A$6:$BFQ$206,3,FALSE)),\"\",VLOOKUP(B3095,database!$A$6:$BFQ$206,3,FALSE)))","v":""},null,null,null,null,null,null,""]
["",null,{"$f":"IF(B3096=\"\",\"\",IF(ISERROR(VLOOKUP(B3096,database!$A$6:$BFQ$206,4,FALSE)),\"\",VLOOKUP(B3096,database!$A$6:$BFQ$206,4,FALSE)))","v":""},null,null,null,"",null,null,null,{"$f":"IF(B3096=\"\",\"\",IF(ISERROR(VLOOKUP(B3096,database!$A$6:$BFQ$206,3,FALSE)),\"\",VLOOKUP(B3096,database!$A$6:$BFQ$206,3,FALSE)))","v":""},null,null,null,null,null,null,""]
["",null,{"$f":"IF(B3098=\"\",\"\",IF(ISERROR(VLOOKUP(B3098,database!$A$6:$BFQ$206,4,FALSE)),\"\",VLOOKUP(B3098,database!$A$6:$BFQ$206,4,FALSE)))","v":""},null,null,null,"",null,null,null,{"$f":"IF(B3098=\"\",\"\",IF(ISERROR(VLOOKUP(B3098,database!$A$6:$BFQ$206,3,FALSE)),\"\",VLOOKUP(B3098,database!$A$6:$BFQ$206,3,FALSE)))","v":""},null,null,null,null,null,null,""]
["",null,{"$f":"IF(B3099=\"\",\"\",IF(ISERROR(VLOOKUP(B3099,database!$A$6:$BFQ$206,4,FALSE)),\"\",VLOOKUP(B3099,database!$A$6:$BFQ$206,4,FALSE)))","v":""},null,null,null,"",null,null,null,{"$f":"IF(B3099=\"\",\"\",IF(ISERROR(VLOOKUP(B3099,database!$A$6:$BFQ$206,3,FALSE)),\"\",VLOOKUP(B3099,database!$A$6:$BFQ$206,3,FALSE)))","v":""},null,null,null,null,null,null,""]
["",null,{"$f":"IF(B3102=\"\",\"\",IF(ISERROR(VLOOKUP(B3102,database!$A$6:$BFQ$206,4,FALSE)),\"\",VLOOKUP(B3102,database!$A$6:$BFQ$206,4,FALSE)))","v":""},null,null,null,"",null,null,null,{"$f":"IF(B3102=\"\",\"\",IF(ISERROR(VLOOKUP(B3102,database!$A$6:$BFQ$206,3,FALSE)),\"\",VLOOKUP(B3102,database!$A$6:$BFQ$206,3,FALSE)))","v":""},null,null,null,null,null,null,""]
["",null,{"$f":"IF(B3103=\"\",\"\",IF(ISERROR(VLOOKUP(B3103,database!$A$6:$BFQ$206,4,FALSE)),\"\",VLOOKUP(B3103,database!$A$6:$BFQ$206,4,FALSE)))","v":""},null,null,null,"",null,null,null,{"$f":"IF(B3103=\"\",\"\",IF(ISERROR(VLOOKUP(B3103,database!$A$6:$BFQ$206,3,FALSE)),\"\",VLOOKUP(B3103,database!$A$6:$BFQ$206,3,FALSE)))","v":""},null,null,null,null,null,null,""]
["",null,{"$f":"IF(B3105=\"\",\"\",IF(ISERROR(VLOOKUP(B3105,database!$A$6:$BFQ$206,4,FALSE)),\"\",VLOOKUP(B3105,database!$A$6:$BFQ$206,4,FALSE)))","v":""},null,null,null,"",null,null,null,{"$f":"IF(B3105=\"\",\"\",IF(ISERROR(VLOOKUP(B3105,database!$A$6:$BFQ$206,3,FALSE)),\"\",VLOOKUP(B3105,database!$A$6:$BFQ$206,3,FALSE)))","v":""},null,null,null,null,null,null,""]
["",null,{"$f":"IF(B3106=\"\",\"\",IF(ISERROR(VLOOKUP(B3106,database!$A$6:$BFQ$206,4,FALSE)),\"\",VLOOKUP(B3106,database!$A$6:$BFQ$206,4,FALSE)))","v":""},null,null,null,"",null,null,null,{"$f":"IF(B3106=\"\",\"\",IF(ISERROR(VLOOKUP(B3106,database!$A$6:$BFQ$206,3,FALSE)),\"\",VLOOKUP(B3106,database!$A$6:$BFQ$206,3,FALSE)))","v":""},null,null,null,null,null,null,""]
["",null,{"$f":"IF(B3109=\"\",\"\",IF(ISERROR(VLOOKUP(B3109,database!$A$6:$BFQ$206,4,FALSE)),\"\",VLOOKUP(B3109,database!$A$6:$BFQ$206,4,FALSE)))","v":""},null,null,null,"",null,null,null,{"$f":"IF(B3109=\"\",\"\",IF(ISERROR(VLOOKUP(B3109,database!$A$6:$BFQ$206,3,FALSE)),\"\",VLOOKUP(B3109,database!$A$6:$BFQ$206,3,FALSE)))","v":""},null,null,null,null,null,null,""]
["",null,{"$f":"IF(B3110=\"\",\"\",IF(ISERROR(VLOOKUP(B3110,database!$A$6:$BFQ$206,4,FALSE)),\"\",VLOOKUP(B3110,database!$A$6:$BFQ$206,4,FALSE)))","v":""},null,null,null,"",null,null,null,{"$f":"IF(B3110=\"\",\"\",IF(ISERROR(VLOOKUP(B3110,database!$A$6:$BFQ$206,3,FALSE)),\"\",VLOOKUP(B3110,database!$A$6:$BFQ$206,3,FALSE)))","v":""},null,null,null,null,null,null,""]
["",null,{"$f":"IF(B3112=\"\",\"\",IF(ISERROR(VLOOKUP(B3112,database!$A$6:$BFQ$206,4,FALSE)),\"\",VLOOKUP(B3112,database!$A$6:$BFQ$206,4,FALSE)))","v":""},null,null,null,"",null,null,null,{"$f":"IF(B3112=\"\",\"\",IF(ISERROR(VLOOKUP(B3112,database!$A$6:$BFQ$206,3,FALSE)),\"\",VLOOKUP(B3112,database!$A$6:$BFQ$206,3,FALSE)))","v":""},null,null,null,null,null,null,""]
["",null,{"$f":"IF(B3113=\"\",\"\",IF(ISERROR(VLOOKUP(B3113,database!$A$6:$BFQ$206,4,FALSE)),\"\",VLOOKUP(B3113,database!$A$6:$BFQ$206,4,FALSE)))","v":""},null,null,null,"",null,null,null,{"$f":"IF(B3113=\"\",\"\",IF(ISERROR(VLOOKUP(B3113,database!$A$6:$BFQ$206,3,FALSE)),\"\",VLOOKUP(B3113,database!$A$6:$BFQ$206,3,FALSE)))","v":""},null,null,null,null,null,null,""]
["",null,{"$f":"IF(B3116=\"\",\"\",IF(ISERROR(VLOOKUP(B3116,database!$A$6:$BFQ$206,4,FALSE)),\"\",VLOOKUP(B3116,database!$A$6:$BFQ$206,4,FALSE)))","v":""},null,null,null,"",null,null,null,{"$f":"IF(B3116=\"\",\"\",IF(ISERROR(VLOOKUP(B3116,database!$A$6:$BFQ$206,3,FALSE)),\"\",VLOOKUP(B3116,database!$A$6:$BFQ$206,3,FALSE)))","v":""},null,null,null,null,null,null,""]
["",null,{"$f":"IF(B3117=\"\",\"\",IF(ISERROR(VLOOKUP(B3117,database!$A$6:$BFQ$206,4,FALSE)),\"\",VLOOKUP(B3117,database!$A$6:$BFQ$206,4,FALSE)))","v":""},null,null,null,"",null,null,null,{"$f":"IF(B3117=\"\",\"\",IF(ISERROR(VLOOKUP(B3117,database!$A$6:$BFQ$206,3,FALSE)),\"\",VLOOKUP(B3117,database!$A$6:$BFQ$206,3,FALSE)))","v":""},null,null,null,null,null,null,""]
["",null,{"$f":"IF(B3119=\"\",\"\",IF(ISERROR(VLOOKUP(B3119,database!$A$6:$BFQ$206,4,FALSE)),\"\",VLOOKUP(B3119,database!$A$6:$BFQ$206,4,FALSE)))","v":""},null,null,null,"",null,null,null,{"$f":"IF(B3119=\"\",\"\",IF(ISERROR(VLOOKUP(B3119,database!$A$6:$BFQ$206,3,FALSE)),\"\",VLOOKUP(B3119,database!$A$6:$BFQ$206,3,FALSE)))","v":""},null,null,null,null,null,null,""]
["",null,{"$f":"IF(B3120=\"\",\"\",IF(ISERROR(VLOOKUP(B3120,database!$A$6:$BFQ$206,4,FALSE)),\"\",VLOOKUP(B3120,database!$A$6:$BFQ$206,4,FALSE)))","v":""},null,null,null,"",null,null,null,{"$f":"IF(B3120=\"\",\"\",IF(ISERROR(VLOOKUP(B3120,database!$A$6:$BFQ$206,3,FALSE)),\"\",VLOOKUP(B3120,database!$A$6:$BFQ$206,3,FALSE)))","v":""},null,null,null,null,null,null,""]
["",null,{"$f":"IF(B3123=\"\",\"\",IF(ISERROR(VLOOKUP(B3123,database!$A$6:$BFQ$206,4,FALSE)),\"\",VLOOKUP(B3123,database!$A$6:$BFQ$206,4,FALSE)))","v":""},null,null,null,"",null,null,null,{"$f":"IF(B3123=\"\",\"\",IF(ISERROR(VLOOKUP(B3123,database!$A$6:$BFQ$206,3,FALSE)),\"\",VLOOKUP(B3123,database!$A$6:$BFQ$206,3,FALSE)))","v":""},null,null,null,null,null,null,""]
["",null,{"$f":"IF(B3124=\"\",\"\",IF(ISERROR(VLOOKUP(B3124,database!$A$6:$BFQ$206,4,FALSE)),\"\",VLOOKUP(B3124,database!$A$6:$BFQ$206,4,FALSE)))","v":""},null,null,null,"",null,null,null,{"$f":"IF(B3124=\"\",\"\",IF(ISERROR(VLOOKUP(B3124,database!$A$6:$BFQ$206,3,FALSE)),\"\",VLOOKUP(B3124,database!$A$6:$BFQ$206,3,FALSE)))","v":""},null,null,null,null,null,null,""]
["",null,{"$f":"IF(B3126=\"\",\"\",IF(ISERROR(VLOOKUP(B3126,database!$A$6:$BFQ$206,4,FALSE)),\"\",VLOOKUP(B3126,database!$A$6:$BFQ$206,4,FALSE)))","v":""},null,null,null,"",null,null,null,{"$f":"IF(B3126=\"\",\"\",IF(ISERROR(VLOOKUP(B3126,database!$A$6:$BFQ$206,3,FALSE)),\"\",VLOOKUP(B3126,database!$A$6:$BFQ$206,3,FALSE)))","v":""},null,null,null,null,null,null,""]
["",null,{"$f":"IF(B3127=\"\",\"\",IF(ISERROR(VLOOKUP(B3127,database!$A$6:$BFQ$206,4,FALSE)),\"\",VLOOKUP(B3127,database!$A$6:$BFQ$206,4,FALSE)))","v":""},null,null,null,"",null,null,null,{"$f":"IF(B3127=\"\",\"\",IF(ISERROR(VLOOKUP(B3127,database!$A$6:$BFQ$206,3,FALSE)),\"\",VLOOKUP(B3127,database!$A$6:$BFQ$206,3,FALSE)))","v":""},null,null,null,null,null,null,""]
["",null,{"$f":"IF(B3130=\"\",\"\",IF(ISERROR(VLOOKUP(B3130,database!$A$6:$BFQ$206,4,FALSE)),\"\",VLOOKUP(B3130,database!$A$6:$BFQ$206,4,FALSE)))","v":""},null,null,null,"",null,null,null,{"$f":"IF(B3130=\"\",\"\",IF(ISERROR(VLOOKUP(B3130,database!$A$6:$BFQ$206,3,FALSE)),\"\",VLOOKUP(B3130,database!$A$6:$BFQ$206,3,FALSE)))","v":""},null,null,null,null,null,null,""]
["",null,{"$f":"IF(B3131=\"\",\"\",IF(ISERROR(VLOOKUP(B3131,database!$A$6:$BFQ$206,4,FALSE)),\"\",VLOOKUP(B3131,database!$A$6:$BFQ$206,4,FALSE)))","v":""},null,null,null,"",null,null,null,{"$f":"IF(B3131=\"\",\"\",IF(ISERROR(VLOOKUP(B3131,database!$A$6:$BFQ$206,3,FALSE)),\"\",VLOOKUP(B3131,database!$A$6:$BFQ$206,3,FALSE)))","v":""},null,null,null,null,null,null,""]
["",null,{"$f":"IF(B3133=\"\",\"\",IF(ISERROR(VLOOKUP(B3133,database!$A$6:$BFQ$206,4,FALSE)),\"\",VLOOKUP(B3133,database!$A$6:$BFQ$206,4,FALSE)))","v":""},null,null,null,"",null,null,null,{"$f":"IF(B3133=\"\",\"\",IF(ISERROR(VLOOKUP(B3133,database!$A$6:$BFQ$206,3,FALSE)),\"\",VLOOKUP(B3133,database!$A$6:$BFQ$206,3,FALSE)))","v":""},null,null,null,null,null,null,""]
["",null,{"$f":"IF(B3134=\"\",\"\",IF(ISERROR(VLOOKUP(B3134,database!$A$6:$BFQ$206,4,FALSE)),\"\",VLOOKUP(B3134,database!$A$6:$BFQ$206,4,FALSE)))","v":""},null,null,null,"",null,null,null,{"$f":"IF(B3134=\"\",\"\",IF(ISERROR(VLOOKUP(B3134,database!$A$6:$BFQ$206,3,FALSE)),\"\",VLOOKUP(B3134,database!$A$6:$BFQ$206,3,FALSE)))","v":""},null,null,null,null,null,null,""]
[{"$f":"IF(B3137=\"\",\"\",ROW(A3134))","v":""},null,{"$f":"IF(B3137=\"\",\"\",IF(ISERROR(VLOOKUP(B3137,database!$A$6:$BFQ$206,4,FALSE)),\"\",VLOOKUP(B3137,database!$A$6:$BFQ$206,4,FALSE)))","v":""},null,null,null,{"$f":"IF(B3137=\"\",\"\",IF(C3137=\"\",0,1))","v":""},null,null,null,{"$f":"IF(B3137=\"\",\"\",IF(ISERROR(VLOOKUP(B3137,database!$A$6:$BFQ$206,3,FALSE)),\"\",VLOOKUP(B3137,database!$A$6:$BFQ$206,3,FALSE)))","v":""},null,null,null,null,null,null,{"$f":"LEFT(C3137,2)","v":""}]
["",null,{"$f":"IF(B3138=\"\",\"\",IF(ISERROR(VLOOKUP(B3138,database!$A$6:$BFQ$206,4,FALSE)),\"\",VLOOKUP(B3138,database!$A$6:$BFQ$206,4,FALSE)))","v":""},null,null,null,"",null,null,null,{"$f":"IF(B3138=\"\",\"\",IF(ISERROR(VLOOKUP(B3138,database!$A$6:$BFQ$206,3,FALSE)),\"\",VLOOKUP(B3138,database!$A$6:$BFQ$206,3,FALSE)))","v":""},null,null,null,null,null,null,""]
["",null,{"$f":"IF(B3140=\"\",\"\",IF(ISERROR(VLOOKUP(B3140,database!$A$6:$BFQ$206,4,FALSE)),\"\",VLOOKUP(B3140,database!$A$6:$BFQ$206,4,FALSE)))","v":""},null,null,null,"",null,null,null,{"$f":"IF(B3140=\"\",\"\",IF(ISERROR(VLOOKUP(B3140,database!$A$6:$BFQ$206,3,FALSE)),\"\",VLOOKUP(B3140,database!$A$6:$BFQ$206,3,FALSE)))","v":""},null,null,null,null,null,null,""]
["",null,{"$f":"IF(B3141=\"\",\"\",IF(ISERROR(VLOOKUP(B3141,database!$A$6:$BFQ$206,4,FALSE)),\"\",VLOOKUP(B3141,database!$A$6:$BFQ$206,4,FALSE)))","v":""},null,null,null,"",null,null,null,{"$f":"IF(B3141=\"\",\"\",IF(ISERROR(VLOOKUP(B3141,database!$A$6:$BFQ$206,3,FALSE)),\"\",VLOOKUP(B3141,database!$A$6:$BFQ$206,3,FALSE)))","v":""},null,null,null,null,null,null,""]
["",null,{"$f":"IF(B3144=\"\",\"\",IF(ISERROR(VLOOKUP(B3144,database!$A$6:$BFQ$206,4,FALSE)),\"\",VLOOKUP(B3144,database!$A$6:$BFQ$206,4,FALSE)))","v":""},null,null,null,"",null,null,null,{"$f":"IF(B3144=\"\",\"\",IF(ISERROR(VLOOKUP(B3144,database!$A$6:$BFQ$206,3,FALSE)),\"\",VLOOKUP(B3144,database!$A$6:$BFQ$206,3,FALSE)))","v":""},null,null,null,null,null,null,""]
["",null,{"$f":"IF(B3145=\"\",\"\",IF(ISERROR(VLOOKUP(B3145,database!$A$6:$BFQ$206,4,FALSE)),\"\",VLOOKUP(B3145,database!$A$6:$BFQ$206,4,FALSE)))","v":""},null,null,null,"",null,null,null,{"$f":"IF(B3145=\"\",\"\",IF(ISERROR(VLOOKUP(B3145,database!$A$6:$BFQ$206,3,FALSE)),\"\",VLOOKUP(B3145,database!$A$6:$BFQ$206,3,FALSE)))","v":""},null,null,null,null,null,null,""]
["",null,{"$f":"IF(B3147=\"\",\"\",IF(ISERROR(VLOOKUP(B3147,database!$A$6:$BFQ$206,4,FALSE)),\"\",VLOOKUP(B3147,database!$A$6:$BFQ$206,4,FALSE)))","v":""},null,null,null,"",null,null,null,{"$f":"IF(B3147=\"\",\"\",IF(ISERROR(VLOOKUP(B3147,database!$A$6:$BFQ$206,3,FALSE)),\"\",VLOOKUP(B3147,database!$A$6:$BFQ$206,3,FALSE)))","v":""},null,null,null,null,null,null,""]
["",null,{"$f":"IF(B3148=\"\",\"\",IF(ISERROR(VLOOKUP(B3148,database!$A$6:$BFQ$206,4,FALSE)),\"\",VLOOKUP(B3148,database!$A$6:$BFQ$206,4,FALSE)))","v":""},null,null,null,"",null,null,null,{"$f":"IF(B3148=\"\",\"\",IF(ISERROR(VLOOKUP(B3148,database!$A$6:$BFQ$206,3,FALSE)),\"\",VLOOKUP(B3148,database!$A$6:$BFQ$206,3,FALSE)))","v":""},null,null,null,null,null,null,""]
["",null,{"$f":"IF(B3151=\"\",\"\",IF(ISERROR(VLOOKUP(B3151,database!$A$6:$BFQ$206,4,FALSE)),\"\",VLOOKUP(B3151,database!$A$6:$BFQ$206,4,FALSE)))","v":""},null,null,null,"",null,null,null,{"$f":"IF(B3151=\"\",\"\",IF(ISERROR(VLOOKUP(B3151,database!$A$6:$BFQ$206,3,FALSE)),\"\",VLOOKUP(B3151,database!$A$6:$BFQ$206,3,FALSE)))","v":""},null,null,null,null,null,null,""]
["",null,{"$f":"IF(B3152=\"\",\"\",IF(ISERROR(VLOOKUP(B3152,database!$A$6:$BFQ$206,4,FALSE)),\"\",VLOOKUP(B3152,database!$A$6:$BFQ$206,4,FALSE)))","v":""},null,null,null,"",null,null,null,{"$f":"IF(B3152=\"\",\"\",IF(ISERROR(VLOOKUP(B3152,database!$A$6:$BFQ$206,3,FALSE)),\"\",VLOOKUP(B3152,database!$A$6:$BFQ$206,3,FALSE)))","v":""},null,null,null,null,null,null,""]
["",null,{"$f":"IF(B3155=\"\",\"\",IF(ISERROR(VLOOKUP(B3155,database!$A$6:$BFQ$206,4,FALSE)),\"\",VLOOKUP(B3155,database!$A$6:$BFQ$206,4,FALSE)))","v":""},null,null,null,"",null,null,null,{"$f":"IF(B3155=\"\",\"\",IF(ISERROR(VLOOKUP(B3155,database!$A$6:$BFQ$206,3,FALSE)),\"\",VLOOKUP(B3155,database!$A$6:$BFQ$206,3,FALSE)))","v":""},null,null,null,null,null,null,""]
["",null,{"$f":"IF(B3156=\"\",\"\",IF(ISERROR(VLOOKUP(B3156,database!$A$6:$BFQ$206,4,FALSE)),\"\",VLOOKUP(B3156,database!$A$6:$BFQ$206,4,FALSE)))","v":""},null,null,null,"",null,null,null,{"$f":"IF(B3156=\"\",\"\",IF(ISERROR(VLOOKUP(B3156,database!$A$6:$BFQ$206,3,FALSE)),\"\",VLOOKUP(B3156,database!$A$6:$BFQ$206,3,FALSE)))","v":""},null,null,null,null,null,null,""]
["",null,{"$f":"IF(B3158=\"\",\"\",IF(ISERROR(VLOOKUP(B3158,database!$A$6:$BFQ$206,4,FALSE)),\"\",VLOOKUP(B3158,database!$A$6:$BFQ$206,4,FALSE)))","v":""},null,null,null,"",null,null,null,{"$f":"IF(B3158=\"\",\"\",IF(ISERROR(VLOOKUP(B3158,database!$A$6:$BFQ$206,3,FALSE)),\"\",VLOOKUP(B3158,database!$A$6:$BFQ$206,3,FALSE)))","v":""},null,null,null,null,null,null,""]
["",null,{"$f":"IF(B3159=\"\",\"\",IF(ISERROR(VLOOKUP(B3159,database!$A$6:$BFQ$206,4,FALSE)),\"\",VLOOKUP(B3159,database!$A$6:$BFQ$206,4,FALSE)))","v":""},null,null,null,"",null,null,null,{"$f":"IF(B3159=\"\",\"\",IF(ISERROR(VLOOKUP(B3159,database!$A$6:$BFQ$206,3,FALSE)),\"\",VLOOKUP(B3159,database!$A$6:$BFQ$206,3,FALSE)))","v":""},null,null,null,null,null,null,""]
["",null,{"$f":"IF(B3162=\"\",\"\",IF(ISERROR(VLOOKUP(B3162,database!$A$6:$BFQ$206,4,FALSE)),\"\",VLOOKUP(B3162,database!$A$6:$BFQ$206,4,FALSE)))","v":""},null,null,null,"",null,null,null,{"$f":"IF(B3162=\"\",\"\",IF(ISERROR(VLOOKUP(B3162,database!$A$6:$BFQ$206,3,FALSE)),\"\",VLOOKUP(B3162,database!$A$6:$BFQ$206,3,FALSE)))","v":""},null,null,null,null,null,null,""]
["",null,{"$f":"IF(B3163=\"\",\"\",IF(ISERROR(VLOOKUP(B3163,database!$A$6:$BFQ$206,4,FALSE)),\"\",VLOOKUP(B3163,database!$A$6:$BFQ$206,4,FALSE)))","v":""},null,null,null,"",null,null,null,{"$f":"IF(B3163=\"\",\"\",IF(ISERROR(VLOOKUP(B3163,database!$A$6:$BFQ$206,3,FALSE)),\"\",VLOOKUP(B3163,database!$A$6:$BFQ$206,3,FALSE)))","v":""},null,null,null,null,null,null,""]
["",null,{"$f":"IF(B3165=\"\",\"\",IF(ISERROR(VLOOKUP(B3165,database!$A$6:$BFQ$206,4,FALSE)),\"\",VLOOKUP(B3165,database!$A$6:$BFQ$206,4,FALSE)))","v":""},null,null,null,"",null,null,null,{"$f":"IF(B3165=\"\",\"\",IF(ISERROR(VLOOKUP(B3165,database!$A$6:$BFQ$206,3,FALSE)),\"\",VLOOKUP(B3165,database!$A$6:$BFQ$206,3,FALSE)))","v":""},null,null,null,null,null,null,""]
["",null,{"$f":"IF(B3166=\"\",\"\",IF(ISERROR(VLOOKUP(B3166,database!$A$6:$BFQ$206,4,FALSE)),\"\",VLOOKUP(B3166,database!$A$6:$BFQ$206,4,FALSE)))","v":""},null,null,null,"",null,null,null,{"$f":"IF(B3166=\"\",\"\",IF(ISERROR(VLOOKUP(B3166,database!$A$6:$BFQ$206,3,FALSE)),\"\",VLOOKUP(B3166,database!$A$6:$BFQ$206,3,FALSE)))","v":""},null,null,null,null,null,null,""]
["",null,{"$f":"IF(B3169=\"\",\"\",IF(ISERROR(VLOOKUP(B3169,database!$A$6:$BFQ$206,4,FALSE)),\"\",VLOOKUP(B3169,database!$A$6:$BFQ$206,4,FALSE)))","v":""},null,null,null,"",null,null,null,{"$f":"IF(B3169=\"\",\"\",IF(ISERROR(VLOOKUP(B3169,database!$A$6:$BFQ$206,3,FALSE)),\"\",VLOOKUP(B3169,database!$A$6:$BFQ$206,3,FALSE)))","v":""},null,null,null,null,null,null,""]
["",null,{"$f":"IF(B3170=\"\",\"\",IF(ISERROR(VLOOKUP(B3170,database!$A$6:$BFQ$206,4,FALSE)),\"\",VLOOKUP(B3170,database!$A$6:$BFQ$206,4,FALSE)))","v":""},null,null,null,"",null,null,null,{"$f":"IF(B3170=\"\",\"\",IF(ISERROR(VLOOKUP(B3170,database!$A$6:$BFQ$206,3,FALSE)),\"\",VLOOKUP(B3170,database!$A$6:$BFQ$206,3,FALSE)))","v":""},null,null,null,null,null,null,""]
["",null,{"$f":"IF(B3172=\"\",\"\",IF(ISERROR(VLOOKUP(B3172,database!$A$6:$BFQ$206,4,FALSE)),\"\",VLOOKUP(B3172,database!$A$6:$BFQ$206,4,FALSE)))","v":""},null,null,null,"",null,null,null,{"$f":"IF(B3172=\"\",\"\",IF(ISERROR(VLOOKUP(B3172,database!$A$6:$BFQ$206,3,FALSE)),\"\",VLOOKUP(B3172,database!$A$6:$BFQ$206,3,FALSE)))","v":""},null,null,null,null,null,null,""]
["",null,{"$f":"IF(B3173=\"\",\"\",IF(ISERROR(VLOOKUP(B3173,database!$A$6:$BFQ$206,4,FALSE)),\"\",VLOOKUP(B3173,database!$A$6:$BFQ$206,4,FALSE)))","v":""},null,null,null,"",null,null,null,{"$f":"IF(B3173=\"\",\"\",IF(ISERROR(VLOOKUP(B3173,database!$A$6:$BFQ$206,3,FALSE)),\"\",VLOOKUP(B3173,database!$A$6:$BFQ$206,3,FALSE)))","v":""},null,null,null,null,null,null,""]
["",null,{"$f":"IF(B3176=\"\",\"\",IF(ISERROR(VLOOKUP(B3176,database!$A$6:$BFQ$206,4,FALSE)),\"\",VLOOKUP(B3176,database!$A$6:$BFQ$206,4,FALSE)))","v":""},null,null,null,"",null,null,null,{"$f":"IF(B3176=\"\",\"\",IF(ISERROR(VLOOKUP(B3176,database!$A$6:$BFQ$206,3,FALSE)),\"\",VLOOKUP(B3176,database!$A$6:$BFQ$206,3,FALSE)))","v":""},null,null,null,null,null,null,""]
["",null,{"$f":"IF(B3177=\"\",\"\",IF(ISERROR(VLOOKUP(B3177,database!$A$6:$BFQ$206,4,FALSE)),\"\",VLOOKUP(B3177,database!$A$6:$BFQ$206,4,FALSE)))","v":""},null,null,null,"",null,null,null,{"$f":"IF(B3177=\"\",\"\",IF(ISERROR(VLOOKUP(B3177,database!$A$6:$BFQ$206,3,FALSE)),\"\",VLOOKUP(B3177,database!$A$6:$BFQ$206,3,FALSE)))","v":""},null,null,null,null,null,null,""]
["",null,{"$f":"IF(B3179=\"\",\"\",IF(ISERROR(VLOOKUP(B3179,database!$A$6:$BFQ$206,4,FALSE)),\"\",VLOOKUP(B3179,database!$A$6:$BFQ$206,4,FALSE)))","v":""},null,null,null,"",null,null,null,{"$f":"IF(B3179=\"\",\"\",IF(ISERROR(VLOOKUP(B3179,database!$A$6:$BFQ$206,3,FALSE)),\"\",VLOOKUP(B3179,database!$A$6:$BFQ$206,3,FALSE)))","v":""},null,null,null,null,null,null,""]
["",null,{"$f":"IF(B3180=\"\",\"\",IF(ISERROR(VLOOKUP(B3180,database!$A$6:$BFQ$206,4,FALSE)),\"\",VLOOKUP(B3180,database!$A$6:$BFQ$206,4,FALSE)))","v":""},null,null,null,"",null,null,null,{"$f":"IF(B3180=\"\",\"\",IF(ISERROR(VLOOKUP(B3180,database!$A$6:$BFQ$206,3,FALSE)),\"\",VLOOKUP(B3180,database!$A$6:$BFQ$206,3,FALSE)))","v":""},null,null,null,null,null,null,""]
["",null,{"$f":"IF(B3183=\"\",\"\",IF(ISERROR(VLOOKUP(B3183,database!$A$6:$BFQ$206,4,FALSE)),\"\",VLOOKUP(B3183,database!$A$6:$BFQ$206,4,FALSE)))","v":""},null,null,null,"",null,null,null,{"$f":"IF(B3183=\"\",\"\",IF(ISERROR(VLOOKUP(B3183,database!$A$6:$BFQ$206,3,FALSE)),\"\",VLOOKUP(B3183,database!$A$6:$BFQ$206,3,FALSE)))","v":""},null,null,null,null,null,null,""]
["",null,{"$f":"IF(B3184=\"\",\"\",IF(ISERROR(VLOOKUP(B3184,database!$A$6:$BFQ$206,4,FALSE)),\"\",VLOOKUP(B3184,database!$A$6:$BFQ$206,4,FALSE)))","v":""},null,null,null,"",null,null,null,{"$f":"IF(B3184=\"\",\"\",IF(ISERROR(VLOOKUP(B3184,database!$A$6:$BFQ$206,3,FALSE)),\"\",VLOOKUP(B3184,database!$A$6:$BFQ$206,3,FALSE)))","v":""},null,null,null,null,null,null,""]
["",null,{"$f":"IF(B3186=\"\",\"\",IF(ISERROR(VLOOKUP(B3186,database!$A$6:$BFQ$206,4,FALSE)),\"\",VLOOKUP(B3186,database!$A$6:$BFQ$206,4,FALSE)))","v":""},null,null,null,"",null,null,null,{"$f":"IF(B3186=\"\",\"\",IF(ISERROR(VLOOKUP(B3186,database!$A$6:$BFQ$206,3,FALSE)),\"\",VLOOKUP(B3186,database!$A$6:$BFQ$206,3,FALSE)))","v":""},null,null,null,null,null,null,""]
["",null,{"$f":"IF(B3187=\"\",\"\",IF(ISERROR(VLOOKUP(B3187,database!$A$6:$BFQ$206,4,FALSE)),\"\",VLOOKUP(B3187,database!$A$6:$BFQ$206,4,FALSE)))","v":""},null,null,null,"",null,null,null,{"$f":"IF(B3187=\"\",\"\",IF(ISERROR(VLOOKUP(B3187,database!$A$6:$BFQ$206,3,FALSE)),\"\",VLOOKUP(B3187,database!$A$6:$BFQ$206,3,FALSE)))","v":""},null,null,null,null,null,null,""]
["",null,{"$f":"IF(B3190=\"\",\"\",IF(ISERROR(VLOOKUP(B3190,database!$A$6:$BFQ$206,4,FALSE)),\"\",VLOOKUP(B3190,database!$A$6:$BFQ$206,4,FALSE)))","v":""},null,null,null,"",null,null,null,{"$f":"IF(B3190=\"\",\"\",IF(ISERROR(VLOOKUP(B3190,database!$A$6:$BFQ$206,3,FALSE)),\"\",VLOOKUP(B3190,database!$A$6:$BFQ$206,3,FALSE)))","v":""},null,null,null,null,null,null,""]
["",null,{"$f":"IF(B3191=\"\",\"\",IF(ISERROR(VLOOKUP(B3191,database!$A$6:$BFQ$206,4,FALSE)),\"\",VLOOKUP(B3191,database!$A$6:$BFQ$206,4,FALSE)))","v":""},null,null,null,"",null,null,null,{"$f":"IF(B3191=\"\",\"\",IF(ISERROR(VLOOKUP(B3191,database!$A$6:$BFQ$206,3,FALSE)),\"\",VLOOKUP(B3191,database!$A$6:$BFQ$206,3,FALSE)))","v":""},null,null,null,null,null,null,""]
["",null,{"$f":"IF(B3193=\"\",\"\",IF(ISERROR(VLOOKUP(B3193,database!$A$6:$BFQ$206,4,FALSE)),\"\",VLOOKUP(B3193,database!$A$6:$BFQ$206,4,FALSE)))","v":""},null,null,null,"",null,null,null,{"$f":"IF(B3193=\"\",\"\",IF(ISERROR(VLOOKUP(B3193,database!$A$6:$BFQ$206,3,FALSE)),\"\",VLOOKUP(B3193,database!$A$6:$BFQ$206,3,FALSE)))","v":""},null,null,null,null,null,null,""]
["",null,{"$f":"IF(B3194=\"\",\"\",IF(ISERROR(VLOOKUP(B3194,database!$A$6:$BFQ$206,4,FALSE)),\"\",VLOOKUP(B3194,database!$A$6:$BFQ$206,4,FALSE)))","v":""},null,null,null,"",null,null,null,{"$f":"IF(B3194=\"\",\"\",IF(ISERROR(VLOOKUP(B3194,database!$A$6:$BFQ$206,3,FALSE)),\"\",VLOOKUP(B3194,database!$A$6:$BFQ$206,3,FALSE)))","v":""},null,null,null,null,null,null,""]
["",null,{"$f":"IF(B3197=\"\",\"\",IF(ISERROR(VLOOKUP(B3197,database!$A$6:$BFQ$206,4,FALSE)),\"\",VLOOKUP(B3197,database!$A$6:$BFQ$206,4,FALSE)))","v":""},null,null,null,"",null,null,null,{"$f":"IF(B3197=\"\",\"\",IF(ISERROR(VLOOKUP(B3197,database!$A$6:$BFQ$206,3,FALSE)),\"\",VLOOKUP(B3197,database!$A$6:$BFQ$206,3,FALSE)))","v":""},null,null,null,null,null,null,""]
["",null,{"$f":"IF(B3198=\"\",\"\",IF(ISERROR(VLOOKUP(B3198,database!$A$6:$BFQ$206,4,FALSE)),\"\",VLOOKUP(B3198,database!$A$6:$BFQ$206,4,FALSE)))","v":""},null,null,null,"",null,null,null,{"$f":"IF(B3198=\"\",\"\",IF(ISERROR(VLOOKUP(B3198,database!$A$6:$BFQ$206,3,FALSE)),\"\",VLOOKUP(B3198,database!$A$6:$BFQ$206,3,FALSE)))","v":""},null,null,null,null,null,null,""]
["",null,{"$f":"IF(B3200=\"\",\"\",IF(ISERROR(VLOOKUP(B3200,database!$A$6:$BFQ$206,4,FALSE)),\"\",VLOOKUP(B3200,database!$A$6:$BFQ$206,4,FALSE)))","v":""},null,null,null,"",null,null,null,{"$f":"IF(B3200=\"\",\"\",IF(ISERROR(VLOOKUP(B3200,database!$A$6:$BFQ$206,3,FALSE)),\"\",VLOOKUP(B3200,database!$A$6:$BFQ$206,3,FALSE)))","v":""},null,null,null,null,null,null,""]
[{"$f":"IF(B3201=\"\",\"\",ROW(A3198))","v":""},null,{"$f":"IF(B3201=\"\",\"\",IF(ISERROR(VLOOKUP(B3201,database!$A$6:$BFQ$206,4,FALSE)),\"\",VLOOKUP(B3201,database!$A$6:$BFQ$206,4,FALSE)))","v":""},null,null,null,{"$f":"IF(B3201=\"\",\"\",IF(C3201=\"\",0,1))","v":""},null,null,null,{"$f":"IF(B3201=\"\",\"\",IF(ISERROR(VLOOKUP(B3201,database!$A$6:$BFQ$206,3,FALSE)),\"\",VLOOKUP(B3201,database!$A$6:$BFQ$206,3,FALSE)))","v":""},null,null,null,null,null,null,{"$f":"LEFT(C3201,2)","v":""}]
["",null,{"$f":"IF(B3204=\"\",\"\",IF(ISERROR(VLOOKUP(B3204,database!$A$6:$BFQ$206,4,FALSE)),\"\",VLOOKUP(B3204,database!$A$6:$BFQ$206,4,FALSE)))","v":""},null,null,null,"",null,null,null,{"$f":"IF(B3204=\"\",\"\",IF(ISERROR(VLOOKUP(B3204,database!$A$6:$BFQ$206,3,FALSE)),\"\",VLOOKUP(B3204,database!$A$6:$BFQ$206,3,FALSE)))","v":""},null,null,null,null,null,null,""]
["",null,{"$f":"IF(B3205=\"\",\"\",IF(ISERROR(VLOOKUP(B3205,database!$A$6:$BFQ$206,4,FALSE)),\"\",VLOOKUP(B3205,database!$A$6:$BFQ$206,4,FALSE)))","v":""},null,null,null,"",null,null,null,{"$f":"IF(B3205=\"\",\"\",IF(ISERROR(VLOOKUP(B3205,database!$A$6:$BFQ$206,3,FALSE)),\"\",VLOOKUP(B3205,database!$A$6:$BFQ$206,3,FALSE)))","v":""},null,null,null,null,null,null,""]
["",null,{"$f":"IF(B3207=\"\",\"\",IF(ISERROR(VLOOKUP(B3207,database!$A$6:$BFQ$206,4,FALSE)),\"\",VLOOKUP(B3207,database!$A$6:$BFQ$206,4,FALSE)))","v":""},null,null,null,"",null,null,null,{"$f":"IF(B3207=\"\",\"\",IF(ISERROR(VLOOKUP(B3207,database!$A$6:$BFQ$206,3,FALSE)),\"\",VLOOKUP(B3207,database!$A$6:$BFQ$206,3,FALSE)))","v":""},null,null,null,null,null,null,""]
["",null,{"$f":"IF(B3208=\"\",\"\",IF(ISERROR(VLOOKUP(B3208,database!$A$6:$BFQ$206,4,FALSE)),\"\",VLOOKUP(B3208,database!$A$6:$BFQ$206,4,FALSE)))","v":""},null,null,null,"",null,null,null,{"$f":"IF(B3208=\"\",\"\",IF(ISERROR(VLOOKUP(B3208,database!$A$6:$BFQ$206,3,FALSE)),\"\",VLOOKUP(B3208,database!$A$6:$BFQ$206,3,FALSE)))","v":""},null,null,null,null,null,null,""]
["",null,{"$f":"IF(B3211=\"\",\"\",IF(ISERROR(VLOOKUP(B3211,database!$A$6:$BFQ$206,4,FALSE)),\"\",VLOOKUP(B3211,database!$A$6:$BFQ$206,4,FALSE)))","v":""},null,null,null,"",null,null,null,{"$f":"IF(B3211=\"\",\"\",IF(ISERROR(VLOOKUP(B3211,database!$A$6:$BFQ$206,3,FALSE)),\"\",VLOOKUP(B3211,database!$A$6:$BFQ$206,3,FALSE)))","v":""},null,null,null,null,null,null,""]
["",null,{"$f":"IF(B3212=\"\",\"\",IF(ISERROR(VLOOKUP(B3212,database!$A$6:$BFQ$206,4,FALSE)),\"\",VLOOKUP(B3212,database!$A$6:$BFQ$206,4,FALSE)))","v":""},null,null,null,"",null,null,null,{"$f":"IF(B3212=\"\",\"\",IF(ISERROR(VLOOKUP(B3212,database!$A$6:$BFQ$206,3,FALSE)),\"\",VLOOKUP(B3212,database!$A$6:$BFQ$206,3,FALSE)))","v":""},null,null,null,null,null,null,""]
["",null,{"$f":"IF(B3214=\"\",\"\",IF(ISERROR(VLOOKUP(B3214,database!$A$6:$BFQ$206,4,FALSE)),\"\",VLOOKUP(B3214,database!$A$6:$BFQ$206,4,FALSE)))","v":""},null,null,null,"",null,null,null,{"$f":"IF(B3214=\"\",\"\",IF(ISERROR(VLOOKUP(B3214,database!$A$6:$BFQ$206,3,FALSE)),\"\",VLOOKUP(B3214,database!$A$6:$BFQ$206,3,FALSE)))","v":""},null,null,null,null,null,null,""]
["",null,{"$f":"IF(B3215=\"\",\"\",IF(ISERROR(VLOOKUP(B3215,database!$A$6:$BFQ$206,4,FALSE)),\"\",VLOOKUP(B3215,database!$A$6:$BFQ$206,4,FALSE)))","v":""},null,null,null,"",null,null,null,{"$f":"IF(B3215=\"\",\"\",IF(ISERROR(VLOOKUP(B3215,database!$A$6:$BFQ$206,3,FALSE)),\"\",VLOOKUP(B3215,database!$A$6:$BFQ$206,3,FALSE)))","v":""},null,null,null,null,null,null,""]
["",null,{"$f":"IF(B3218=\"\",\"\",IF(ISERROR(VLOOKUP(B3218,database!$A$6:$BFQ$206,4,FALSE)),\"\",VLOOKUP(B3218,database!$A$6:$BFQ$206,4,FALSE)))","v":""},null,null,null,"",null,null,null,{"$f":"IF(B3218=\"\",\"\",IF(ISERROR(VLOOKUP(B3218,database!$A$6:$BFQ$206,3,FALSE)),\"\",VLOOKUP(B3218,database!$A$6:$BFQ$206,3,FALSE)))","v":""},null,null,null,null,null,null,""]
["",null,{"$f":"IF(B3219=\"\",\"\",IF(ISERROR(VLOOKUP(B3219,database!$A$6:$BFQ$206,4,FALSE)),\"\",VLOOKUP(B3219,database!$A$6:$BFQ$206,4,FALSE)))","v":""},null,null,null,"",null,null,null,{"$f":"IF(B3219=\"\",\"\",IF(ISERROR(VLOOKUP(B3219,database!$A$6:$BFQ$206,3,FALSE)),\"\",VLOOKUP(B3219,database!$A$6:$BFQ$206,3,FALSE)))","v":""},null,null,null,null,null,null,""]
["",null,{"$f":"IF(B3221=\"\",\"\",IF(ISERROR(VLOOKUP(B3221,database!$A$6:$BFQ$206,4,FALSE)),\"\",VLOOKUP(B3221,database!$A$6:$BFQ$206,4,FALSE)))","v":""},null,null,null,"",null,null,null,{"$f":"IF(B3221=\"\",\"\",IF(ISERROR(VLOOKUP(B3221,database!$A$6:$BFQ$206,3,FALSE)),\"\",VLOOKUP(B3221,database!$A$6:$BFQ$206,3,FALSE)))","v":""},null,null,null,null,null,null,""]
["",null,{"$f":"IF(B3222=\"\",\"\",IF(ISERROR(VLOOKUP(B3222,database!$A$6:$BFQ$206,4,FALSE)),\"\",VLOOKUP(B3222,database!$A$6:$BFQ$206,4,FALSE)))","v":""},null,null,null,"",null,null,null,{"$f":"IF(B3222=\"\",\"\",IF(ISERROR(VLOOKUP(B3222,database!$A$6:$BFQ$206,3,FALSE)),\"\",VLOOKUP(B3222,database!$A$6:$BFQ$206,3,FALSE)))","v":""},null,null,null,null,null,null,""]
["",null,{"$f":"IF(B3225=\"\",\"\",IF(ISERROR(VLOOKUP(B3225,database!$A$6:$BFQ$206,4,FALSE)),\"\",VLOOKUP(B3225,database!$A$6:$BFQ$206,4,FALSE)))","v":""},null,null,null,"",null,null,null,{"$f":"IF(B3225=\"\",\"\",IF(ISERROR(VLOOKUP(B3225,database!$A$6:$BFQ$206,3,FALSE)),\"\",VLOOKUP(B3225,database!$A$6:$BFQ$206,3,FALSE)))","v":""},null,null,null,null,null,null,""]
["",null,{"$f":"IF(B3226=\"\",\"\",IF(ISERROR(VLOOKUP(B3226,database!$A$6:$BFQ$206,4,FALSE)),\"\",VLOOKUP(B3226,database!$A$6:$BFQ$206,4,FALSE)))","v":""},null,null,null,"",null,null,null,{"$f":"IF(B3226=\"\",\"\",IF(ISERROR(VLOOKUP(B3226,database!$A$6:$BFQ$206,3,FALSE)),\"\",VLOOKUP(B3226,database!$A$6:$BFQ$206,3,FALSE)))","v":""},null,null,null,null,null,null,""]
["",null,{"$f":"IF(B3228=\"\",\"\",IF(ISERROR(VLOOKUP(B3228,database!$A$6:$BFQ$206,4,FALSE)),\"\",VLOOKUP(B3228,database!$A$6:$BFQ$206,4,FALSE)))","v":""},null,null,null,"",null,null,null,{"$f":"IF(B3228=\"\",\"\",IF(ISERROR(VLOOKUP(B3228,database!$A$6:$BFQ$206,3,FALSE)),\"\",VLOOKUP(B3228,database!$A$6:$BFQ$206,3,FALSE)))","v":""},null,null,null,null,null,null,""]
["",null,{"$f":"IF(B3229=\"\",\"\",IF(ISERROR(VLOOKUP(B3229,database!$A$6:$BFQ$206,4,FALSE)),\"\",VLOOKUP(B3229,database!$A$6:$BFQ$206,4,FALSE)))","v":""},null,null,null,"",null,null,null,{"$f":"IF(B3229=\"\",\"\",IF(ISERROR(VLOOKUP(B3229,database!$A$6:$BFQ$206,3,FALSE)),\"\",VLOOKUP(B3229,database!$A$6:$BFQ$206,3,FALSE)))","v":""},null,null,null,null,null,null,""]
["",null,{"$f":"IF(B3232=\"\",\"\",IF(ISERROR(VLOOKUP(B3232,database!$A$6:$BFQ$206,4,FALSE)),\"\",VLOOKUP(B3232,database!$A$6:$BFQ$206,4,FALSE)))","v":""},null,null,null,"",null,null,null,{"$f":"IF(B3232=\"\",\"\",IF(ISERROR(VLOOKUP(B3232,database!$A$6:$BFQ$206,3,FALSE)),\"\",VLOOKUP(B3232,database!$A$6:$BFQ$206,3,FALSE)))","v":""},null,null,null,null,null,null,""]
["",null,{"$f":"IF(B3233=\"\",\"\",IF(ISERROR(VLOOKUP(B3233,database!$A$6:$BFQ$206,4,FALSE)),\"\",VLOOKUP(B3233,database!$A$6:$BFQ$206,4,FALSE)))","v":""},null,null,null,"",null,null,null,{"$f":"IF(B3233=\"\",\"\",IF(ISERROR(VLOOKUP(B3233,database!$A$6:$BFQ$206,3,FALSE)),\"\",VLOOKUP(B3233,database!$A$6:$BFQ$206,3,FALSE)))","v":""},null,null,null,null,null,null,""]
["",null,{"$f":"IF(B3235=\"\",\"\",IF(ISERROR(VLOOKUP(B3235,database!$A$6:$BFQ$206,4,FALSE)),\"\",VLOOKUP(B3235,database!$A$6:$BFQ$206,4,FALSE)))","v":""},null,null,null,"",null,null,null,{"$f":"IF(B3235=\"\",\"\",IF(ISERROR(VLOOKUP(B3235,database!$A$6:$BFQ$206,3,FALSE)),\"\",VLOOKUP(B3235,database!$A$6:$BFQ$206,3,FALSE)))","v":""},null,null,null,null,null,null,""]
["",null,{"$f":"IF(B3236=\"\",\"\",IF(ISERROR(VLOOKUP(B3236,database!$A$6:$BFQ$206,4,FALSE)),\"\",VLOOKUP(B3236,database!$A$6:$BFQ$206,4,FALSE)))","v":""},null,null,null,"",null,null,null,{"$f":"IF(B3236=\"\",\"\",IF(ISERROR(VLOOKUP(B3236,database!$A$6:$BFQ$206,3,FALSE)),\"\",VLOOKUP(B3236,database!$A$6:$BFQ$206,3,FALSE)))","v":""},null,null,null,null,null,null,""]
["",null,{"$f":"IF(B3239=\"\",\"\",IF(ISERROR(VLOOKUP(B3239,database!$A$6:$BFQ$206,4,FALSE)),\"\",VLOOKUP(B3239,database!$A$6:$BFQ$206,4,FALSE)))","v":""},null,null,null,"",null,null,null,{"$f":"IF(B3239=\"\",\"\",IF(ISERROR(VLOOKUP(B3239,database!$A$6:$BFQ$206,3,FALSE)),\"\",VLOOKUP(B3239,database!$A$6:$BFQ$206,3,FALSE)))","v":""},null,null,null,null,null,null,""]
["",null,{"$f":"IF(B3240=\"\",\"\",IF(ISERROR(VLOOKUP(B3240,database!$A$6:$BFQ$206,4,FALSE)),\"\",VLOOKUP(B3240,database!$A$6:$BFQ$206,4,FALSE)))","v":""},null,null,null,"",null,null,null,{"$f":"IF(B3240=\"\",\"\",IF(ISERROR(VLOOKUP(B3240,database!$A$6:$BFQ$206,3,FALSE)),\"\",VLOOKUP(B3240,database!$A$6:$BFQ$206,3,FALSE)))","v":""},null,null,null,null,null,null,""]
["",null,{"$f":"IF(B3242=\"\",\"\",IF(ISERROR(VLOOKUP(B3242,database!$A$6:$BFQ$206,4,FALSE)),\"\",VLOOKUP(B3242,database!$A$6:$BFQ$206,4,FALSE)))","v":""},null,null,null,"",null,null,null,{"$f":"IF(B3242=\"\",\"\",IF(ISERROR(VLOOKUP(B3242,database!$A$6:$BFQ$206,3,FALSE)),\"\",VLOOKUP(B3242,database!$A$6:$BFQ$206,3,FALSE)))","v":""},null,null,null,null,null,null,""]
["",null,{"$f":"IF(B3243=\"\",\"\",IF(ISERROR(VLOOKUP(B3243,database!$A$6:$BFQ$206,4,FALSE)),\"\",VLOOKUP(B3243,database!$A$6:$BFQ$206,4,FALSE)))","v":""},null,null,null,"",null,null,null,{"$f":"IF(B3243=\"\",\"\",IF(ISERROR(VLOOKUP(B3243,database!$A$6:$BFQ$206,3,FALSE)),\"\",VLOOKUP(B3243,database!$A$6:$BFQ$206,3,FALSE)))","v":""},null,null,null,null,null,null,""]
["",null,{"$f":"IF(B3246=\"\",\"\",IF(ISERROR(VLOOKUP(B3246,database!$A$6:$BFQ$206,4,FALSE)),\"\",VLOOKUP(B3246,database!$A$6:$BFQ$206,4,FALSE)))","v":""},null,null,null,"",null,null,null,{"$f":"IF(B3246=\"\",\"\",IF(ISERROR(VLOOKUP(B3246,database!$A$6:$BFQ$206,3,FALSE)),\"\",VLOOKUP(B3246,database!$A$6:$BFQ$206,3,FALSE)))","v":""},null,null,null,null,null,null,""]
["",null,{"$f":"IF(B3247=\"\",\"\",IF(ISERROR(VLOOKUP(B3247,database!$A$6:$BFQ$206,4,FALSE)),\"\",VLOOKUP(B3247,database!$A$6:$BFQ$206,4,FALSE)))","v":""},null,null,null,"",null,null,null,{"$f":"IF(B3247=\"\",\"\",IF(ISERROR(VLOOKUP(B3247,database!$A$6:$BFQ$206,3,FALSE)),\"\",VLOOKUP(B3247,database!$A$6:$BFQ$206,3,FALSE)))","v":""},null,null,null,null,null,null,""]
["",null,{"$f":"IF(B3249=\"\",\"\",IF(ISERROR(VLOOKUP(B3249,database!$A$6:$BFQ$206,4,FALSE)),\"\",VLOOKUP(B3249,database!$A$6:$BFQ$206,4,FALSE)))","v":""},null,null,null,"",null,null,null,{"$f":"IF(B3249=\"\",\"\",IF(ISERROR(VLOOKUP(B3249,database!$A$6:$BFQ$206,3,FALSE)),\"\",VLOOKUP(B3249,database!$A$6:$BFQ$206,3,FALSE)))","v":""},null,null,null,null,null,null,""]
["",null,{"$f":"IF(B3250=\"\",\"\",IF(ISERROR(VLOOKUP(B3250,database!$A$6:$BFQ$206,4,FALSE)),\"\",VLOOKUP(B3250,database!$A$6:$BFQ$206,4,FALSE)))","v":""},null,null,null,"",null,null,null,{"$f":"IF(B3250=\"\",\"\",IF(ISERROR(VLOOKUP(B3250,database!$A$6:$BFQ$206,3,FALSE)),\"\",VLOOKUP(B3250,database!$A$6:$BFQ$206,3,FALSE)))","v":""},null,null,null,null,null,null,""]
["",null,{"$f":"IF(B3253=\"\",\"\",IF(ISERROR(VLOOKUP(B3253,database!$A$6:$BFQ$206,4,FALSE)),\"\",VLOOKUP(B3253,database!$A$6:$BFQ$206,4,FALSE)))","v":""},null,null,null,"",null,null,null,{"$f":"IF(B3253=\"\",\"\",IF(ISERROR(VLOOKUP(B3253,database!$A$6:$BFQ$206,3,FALSE)),\"\",VLOOKUP(B3253,database!$A$6:$BFQ$206,3,FALSE)))","v":""},null,null,null,null,null,null,""]
["",null,{"$f":"IF(B3254=\"\",\"\",IF(ISERROR(VLOOKUP(B3254,database!$A$6:$BFQ$206,4,FALSE)),\"\",VLOOKUP(B3254,database!$A$6:$BFQ$206,4,FALSE)))","v":""},null,null,null,"",null,null,null,{"$f":"IF(B3254=\"\",\"\",IF(ISERROR(VLOOKUP(B3254,database!$A$6:$BFQ$206,3,FALSE)),\"\",VLOOKUP(B3254,database!$A$6:$BFQ$206,3,FALSE)))","v":""},null,null,null,null,null,null,""]
["",null,{"$f":"IF(B3256=\"\",\"\",IF(ISERROR(VLOOKUP(B3256,database!$A$6:$BFQ$206,4,FALSE)),\"\",VLOOKUP(B3256,database!$A$6:$BFQ$206,4,FALSE)))","v":""},null,null,null,"",null,null,null,{"$f":"IF(B3256=\"\",\"\",IF(ISERROR(VLOOKUP(B3256,database!$A$6:$BFQ$206,3,FALSE)),\"\",VLOOKUP(B3256,database!$A$6:$BFQ$206,3,FALSE)))","v":""},null,null,null,null,null,null,""]
["",null,{"$f":"IF(B3257=\"\",\"\",IF(ISERROR(VLOOKUP(B3257,database!$A$6:$BFQ$206,4,FALSE)),\"\",VLOOKUP(B3257,database!$A$6:$BFQ$206,4,FALSE)))","v":""},null,null,null,"",null,null,null,{"$f":"IF(B3257=\"\",\"\",IF(ISERROR(VLOOKUP(B3257,database!$A$6:$BFQ$206,3,FALSE)),\"\",VLOOKUP(B3257,database!$A$6:$BFQ$206,3,FALSE)))","v":""},null,null,null,null,null,null,""]
["",null,{"$f":"IF(B3260=\"\",\"\",IF(ISERROR(VLOOKUP(B3260,database!$A$6:$BFQ$206,4,FALSE)),\"\",VLOOKUP(B3260,database!$A$6:$BFQ$206,4,FALSE)))","v":""},null,null,null,"",null,null,null,{"$f":"IF(B3260=\"\",\"\",IF(ISERROR(VLOOKUP(B3260,database!$A$6:$BFQ$206,3,FALSE)),\"\",VLOOKUP(B3260,database!$A$6:$BFQ$206,3,FALSE)))","v":""},null,null,null,null,null,null,""]
["",null,{"$f":"IF(B3261=\"\",\"\",IF(ISERROR(VLOOKUP(B3261,database!$A$6:$BFQ$206,4,FALSE)),\"\",VLOOKUP(B3261,database!$A$6:$BFQ$206,4,FALSE)))","v":""},null,null,null,"",null,null,null,{"$f":"IF(B3261=\"\",\"\",IF(ISERROR(VLOOKUP(B3261,database!$A$6:$BFQ$206,3,FALSE)),\"\",VLOOKUP(B3261,database!$A$6:$BFQ$206,3,FALSE)))","v":""},null,null,null,null,null,null,""]
["",null,{"$f":"IF(B3264=\"\",\"\",IF(ISERROR(VLOOKUP(B3264,database!$A$6:$BFQ$206,4,FALSE)),\"\",VLOOKUP(B3264,database!$A$6:$BFQ$206,4,FALSE)))","v":""},null,null,null,"",null,null,null,{"$f":"IF(B3264=\"\",\"\",IF(ISERROR(VLOOKUP(B3264,database!$A$6:$BFQ$206,3,FALSE)),\"\",VLOOKUP(B3264,database!$A$6:$BFQ$206,3,FALSE)))","v":""},null,null,null,null,null,null,""]
[{"$f":"IF(B3265=\"\",\"\",ROW(A3262))","v":""},null,{"$f":"IF(B3265=\"\",\"\",IF(ISERROR(VLOOKUP(B3265,database!$A$6:$BFQ$206,4,FALSE)),\"\",VLOOKUP(B3265,database!$A$6:$BFQ$206,4,FALSE)))","v":""},null,null,null,{"$f":"IF(B3265=\"\",\"\",IF(C3265=\"\",0,1))","v":""},null,null,null,{"$f":"IF(B3265=\"\",\"\",IF(ISERROR(VLOOKUP(B3265,database!$A$6:$BFQ$206,3,FALSE)),\"\",VLOOKUP(B3265,database!$A$6:$BFQ$206,3,FALSE)))","v":""},null,null,null,null,null,null,{"$f":"LEFT(C3265,2)","v":""}]
["",null,{"$f":"IF(B3267=\"\",\"\",IF(ISERROR(VLOOKUP(B3267,database!$A$6:$BFQ$206,4,FALSE)),\"\",VLOOKUP(B3267,database!$A$6:$BFQ$206,4,FALSE)))","v":""},null,null,null,"",null,null,null,{"$f":"IF(B3267=\"\",\"\",IF(ISERROR(VLOOKUP(B3267,database!$A$6:$BFQ$206,3,FALSE)),\"\",VLOOKUP(B3267,database!$A$6:$BFQ$206,3,FALSE)))","v":""},null,null,null,null,null,null,""]
["",null,{"$f":"IF(B3268=\"\",\"\",IF(ISERROR(VLOOKUP(B3268,database!$A$6:$BFQ$206,4,FALSE)),\"\",VLOOKUP(B3268,database!$A$6:$BFQ$206,4,FALSE)))","v":""},null,null,null,"",null,null,null,{"$f":"IF(B3268=\"\",\"\",IF(ISERROR(VLOOKUP(B3268,database!$A$6:$BFQ$206,3,FALSE)),\"\",VLOOKUP(B3268,database!$A$6:$BFQ$206,3,FALSE)))","v":""},null,null,null,null,null,null,""]
["",null,{"$f":"IF(B3271=\"\",\"\",IF(ISERROR(VLOOKUP(B3271,database!$A$6:$BFQ$206,4,FALSE)),\"\",VLOOKUP(B3271,database!$A$6:$BFQ$206,4,FALSE)))","v":""},null,null,null,"",null,null,null,{"$f":"IF(B3271=\"\",\"\",IF(ISERROR(VLOOKUP(B3271,database!$A$6:$BFQ$206,3,FALSE)),\"\",VLOOKUP(B3271,database!$A$6:$BFQ$206,3,FALSE)))","v":""},null,null,null,null,null,null,""]
["",null,{"$f":"IF(B3272=\"\",\"\",IF(ISERROR(VLOOKUP(B3272,database!$A$6:$BFQ$206,4,FALSE)),\"\",VLOOKUP(B3272,database!$A$6:$BFQ$206,4,FALSE)))","v":""},null,null,null,"",null,null,null,{"$f":"IF(B3272=\"\",\"\",IF(ISERROR(VLOOKUP(B3272,database!$A$6:$BFQ$206,3,FALSE)),\"\",VLOOKUP(B3272,database!$A$6:$BFQ$206,3,FALSE)))","v":""},null,null,null,null,null,null,""]
["",null,{"$f":"IF(B3274=\"\",\"\",IF(ISERROR(VLOOKUP(B3274,database!$A$6:$BFQ$206,4,FALSE)),\"\",VLOOKUP(B3274,database!$A$6:$BFQ$206,4,FALSE)))","v":""},null,null,null,"",null,null,null,{"$f":"IF(B3274=\"\",\"\",IF(ISERROR(VLOOKUP(B3274,database!$A$6:$BFQ$206,3,FALSE)),\"\",VLOOKUP(B3274,database!$A$6:$BFQ$206,3,FALSE)))","v":""},null,null,null,null,null,null,""]
["",null,{"$f":"IF(B3275=\"\",\"\",IF(ISERROR(VLOOKUP(B3275,database!$A$6:$BFQ$206,4,FALSE)),\"\",VLOOKUP(B3275,database!$A$6:$BFQ$206,4,FALSE)))","v":""},null,null,null,"",null,null,null,{"$f":"IF(B3275=\"\",\"\",IF(ISERROR(VLOOKUP(B3275,database!$A$6:$BFQ$206,3,FALSE)),\"\",VLOOKUP(B3275,database!$A$6:$BFQ$206,3,FALSE)))","v":""},null,null,null,null,null,null,""]
["",null,{"$f":"IF(B3278=\"\",\"\",IF(ISERROR(VLOOKUP(B3278,database!$A$6:$BFQ$206,4,FALSE)),\"\",VLOOKUP(B3278,database!$A$6:$BFQ$206,4,FALSE)))","v":""},null,null,null,"",null,null,null,{"$f":"IF(B3278=\"\",\"\",IF(ISERROR(VLOOKUP(B3278,database!$A$6:$BFQ$206,3,FALSE)),\"\",VLOOKUP(B3278,database!$A$6:$BFQ$206,3,FALSE)))","v":""},null,null,null,null,null,null,""]
["",null,{"$f":"IF(B3279=\"\",\"\",IF(ISERROR(VLOOKUP(B3279,database!$A$6:$BFQ$206,4,FALSE)),\"\",VLOOKUP(B3279,database!$A$6:$BFQ$206,4,FALSE)))","v":""},null,null,null,"",null,null,null,{"$f":"IF(B3279=\"\",\"\",IF(ISERROR(VLOOKUP(B3279,database!$A$6:$BFQ$206,3,FALSE)),\"\",VLOOKUP(B3279,database!$A$6:$BFQ$206,3,FALSE)))","v":""},null,null,null,null,null,null,""]
["",null,{"$f":"IF(B3281=\"\",\"\",IF(ISERROR(VLOOKUP(B3281,database!$A$6:$BFQ$206,4,FALSE)),\"\",VLOOKUP(B3281,database!$A$6:$BFQ$206,4,FALSE)))","v":""},null,null,null,"",null,null,null,{"$f":"IF(B3281=\"\",\"\",IF(ISERROR(VLOOKUP(B3281,database!$A$6:$BFQ$206,3,FALSE)),\"\",VLOOKUP(B3281,database!$A$6:$BFQ$206,3,FALSE)))","v":""},null,null,null,null,null,null,""]
["",null,{"$f":"IF(B3282=\"\",\"\",IF(ISERROR(VLOOKUP(B3282,database!$A$6:$BFQ$206,4,FALSE)),\"\",VLOOKUP(B3282,database!$A$6:$BFQ$206,4,FALSE)))","v":""},null,null,null,"",null,null,null,{"$f":"IF(B3282=\"\",\"\",IF(ISERROR(VLOOKUP(B3282,database!$A$6:$BFQ$206,3,FALSE)),\"\",VLOOKUP(B3282,database!$A$6:$BFQ$206,3,FALSE)))","v":""},null,null,null,null,null,null,""]
["",null,{"$f":"IF(B3285=\"\",\"\",IF(ISERROR(VLOOKUP(B3285,database!$A$6:$BFQ$206,4,FALSE)),\"\",VLOOKUP(B3285,database!$A$6:$BFQ$206,4,FALSE)))","v":""},null,null,null,"",null,null,null,{"$f":"IF(B3285=\"\",\"\",IF(ISERROR(VLOOKUP(B3285,database!$A$6:$BFQ$206,3,FALSE)),\"\",VLOOKUP(B3285,database!$A$6:$BFQ$206,3,FALSE)))","v":""},null,null,null,null,null,null,""]
["",null,{"$f":"IF(B3286=\"\",\"\",IF(ISERROR(VLOOKUP(B3286,database!$A$6:$BFQ$206,4,FALSE)),\"\",VLOOKUP(B3286,database!$A$6:$BFQ$206,4,FALSE)))","v":""},null,null,null,"",null,null,null,{"$f":"IF(B3286=\"\",\"\",IF(ISERROR(VLOOKUP(B3286,database!$A$6:$BFQ$206,3,FALSE)),\"\",VLOOKUP(B3286,database!$A$6:$BFQ$206,3,FALSE)))","v":""},null,null,null,null,null,null,""]
["",null,{"$f":"IF(B3288=\"\",\"\",IF(ISERROR(VLOOKUP(B3288,database!$A$6:$BFQ$206,4,FALSE)),\"\",VLOOKUP(B3288,database!$A$6:$BFQ$206,4,FALSE)))","v":""},null,null,null,"",null,null,null,{"$f":"IF(B3288=\"\",\"\",IF(ISERROR(VLOOKUP(B3288,database!$A$6:$BFQ$206,3,FALSE)),\"\",VLOOKUP(B3288,database!$A$6:$BFQ$206,3,FALSE)))","v":""},null,null,null,null,null,null,""]
["",null,{"$f":"IF(B3289=\"\",\"\",IF(ISERROR(VLOOKUP(B3289,database!$A$6:$BFQ$206,4,FALSE)),\"\",VLOOKUP(B3289,database!$A$6:$BFQ$206,4,FALSE)))","v":""},null,null,null,"",null,null,null,{"$f":"IF(B3289=\"\",\"\",IF(ISERROR(VLOOKUP(B3289,database!$A$6:$BFQ$206,3,FALSE)),\"\",VLOOKUP(B3289,database!$A$6:$BFQ$206,3,FALSE)))","v":""},null,null,null,null,null,null,""]
["",null,{"$f":"IF(B3292=\"\",\"\",IF(ISERROR(VLOOKUP(B3292,database!$A$6:$BFQ$206,4,FALSE)),\"\",VLOOKUP(B3292,database!$A$6:$BFQ$206,4,FALSE)))","v":""},null,null,null,"",null,null,null,{"$f":"IF(B3292=\"\",\"\",IF(ISERROR(VLOOKUP(B3292,database!$A$6:$BFQ$206,3,FALSE)),\"\",VLOOKUP(B3292,database!$A$6:$BFQ$206,3,FALSE)))","v":""},null,null,null,null,null,null,""]
["",null,{"$f":"IF(B3293=\"\",\"\",IF(ISERROR(VLOOKUP(B3293,database!$A$6:$BFQ$206,4,FALSE)),\"\",VLOOKUP(B3293,database!$A$6:$BFQ$206,4,FALSE)))","v":""},null,null,null,"",null,null,null,{"$f":"IF(B3293=\"\",\"\",IF(ISERROR(VLOOKUP(B3293,database!$A$6:$BFQ$206,3,FALSE)),\"\",VLOOKUP(B3293,database!$A$6:$BFQ$206,3,FALSE)))","v":""},null,null,null,null,null,null,""]
["",null,{"$f":"IF(B3295=\"\",\"\",IF(ISERROR(VLOOKUP(B3295,database!$A$6:$BFQ$206,4,FALSE)),\"\",VLOOKUP(B3295,database!$A$6:$BFQ$206,4,FALSE)))","v":""},null,null,null,"",null,null,null,{"$f":"IF(B3295=\"\",\"\",IF(ISERROR(VLOOKUP(B3295,database!$A$6:$BFQ$206,3,FALSE)),\"\",VLOOKUP(B3295,database!$A$6:$BFQ$206,3,FALSE)))","v":""},null,null,null,null,null,null,""]
["",null,{"$f":"IF(B3296=\"\",\"\",IF(ISERROR(VLOOKUP(B3296,database!$A$6:$BFQ$206,4,FALSE)),\"\",VLOOKUP(B3296,database!$A$6:$BFQ$206,4,FALSE)))","v":""},null,null,null,"",null,null,null,{"$f":"IF(B3296=\"\",\"\",IF(ISERROR(VLOOKUP(B3296,database!$A$6:$BFQ$206,3,FALSE)),\"\",VLOOKUP(B3296,database!$A$6:$BFQ$206,3,FALSE)))","v":""},null,null,null,null,null,null,""]
["",null,{"$f":"IF(B3299=\"\",\"\",IF(ISERROR(VLOOKUP(B3299,database!$A$6:$BFQ$206,4,FALSE)),\"\",VLOOKUP(B3299,database!$A$6:$BFQ$206,4,FALSE)))","v":""},null,null,null,"",null,null,null,{"$f":"IF(B3299=\"\",\"\",IF(ISERROR(VLOOKUP(B3299,database!$A$6:$BFQ$206,3,FALSE)),\"\",VLOOKUP(B3299,database!$A$6:$BFQ$206,3,FALSE)))","v":""},null,null,null,null,null,null,""]
["",null,{"$f":"IF(B3300=\"\",\"\",IF(ISERROR(VLOOKUP(B3300,database!$A$6:$BFQ$206,4,FALSE)),\"\",VLOOKUP(B3300,database!$A$6:$BFQ$206,4,FALSE)))","v":""},null,null,null,"",null,null,null,{"$f":"IF(B3300=\"\",\"\",IF(ISERROR(VLOOKUP(B3300,database!$A$6:$BFQ$206,3,FALSE)),\"\",VLOOKUP(B3300,database!$A$6:$BFQ$206,3,FALSE)))","v":""},null,null,null,null,null,null,""]
["",null,{"$f":"IF(B3302=\"\",\"\",IF(ISERROR(VLOOKUP(B3302,database!$A$6:$BFQ$206,4,FALSE)),\"\",VLOOKUP(B3302,database!$A$6:$BFQ$206,4,FALSE)))","v":""},null,null,null,"",null,null,null,{"$f":"IF(B3302=\"\",\"\",IF(ISERROR(VLOOKUP(B3302,database!$A$6:$BFQ$206,3,FALSE)),\"\",VLOOKUP(B3302,database!$A$6:$BFQ$206,3,FALSE)))","v":""},null,null,null,null,null,null,""]
["",null,{"$f":"IF(B3303=\"\",\"\",IF(ISERROR(VLOOKUP(B3303,database!$A$6:$BFQ$206,4,FALSE)),\"\",VLOOKUP(B3303,database!$A$6:$BFQ$206,4,FALSE)))","v":""},null,null,null,"",null,null,null,{"$f":"IF(B3303=\"\",\"\",IF(ISERROR(VLOOKUP(B3303,database!$A$6:$BFQ$206,3,FALSE)),\"\",VLOOKUP(B3303,database!$A$6:$BFQ$206,3,FALSE)))","v":""},null,null,null,null,null,null,""]
["",null,{"$f":"IF(B3306=\"\",\"\",IF(ISERROR(VLOOKUP(B3306,database!$A$6:$BFQ$206,4,FALSE)),\"\",VLOOKUP(B3306,database!$A$6:$BFQ$206,4,FALSE)))","v":""},null,null,null,"",null,null,null,{"$f":"IF(B3306=\"\",\"\",IF(ISERROR(VLOOKUP(B3306,database!$A$6:$BFQ$206,3,FALSE)),\"\",VLOOKUP(B3306,database!$A$6:$BFQ$206,3,FALSE)))","v":""},null,null,null,null,null,null,""]
["",null,{"$f":"IF(B3307=\"\",\"\",IF(ISERROR(VLOOKUP(B3307,database!$A$6:$BFQ$206,4,FALSE)),\"\",VLOOKUP(B3307,database!$A$6:$BFQ$206,4,FALSE)))","v":""},null,null,null,"",null,null,null,{"$f":"IF(B3307=\"\",\"\",IF(ISERROR(VLOOKUP(B3307,database!$A$6:$BFQ$206,3,FALSE)),\"\",VLOOKUP(B3307,database!$A$6:$BFQ$206,3,FALSE)))","v":""},null,null,null,null,null,null,""]
["",null,{"$f":"IF(B3309=\"\",\"\",IF(ISERROR(VLOOKUP(B3309,database!$A$6:$BFQ$206,4,FALSE)),\"\",VLOOKUP(B3309,database!$A$6:$BFQ$206,4,FALSE)))","v":""},null,null,null,"",null,null,null,{"$f":"IF(B3309=\"\",\"\",IF(ISERROR(VLOOKUP(B3309,database!$A$6:$BFQ$206,3,FALSE)),\"\",VLOOKUP(B3309,database!$A$6:$BFQ$206,3,FALSE)))","v":""},null,null,null,null,null,null,""]
["",null,{"$f":"IF(B3310=\"\",\"\",IF(ISERROR(VLOOKUP(B3310,database!$A$6:$BFQ$206,4,FALSE)),\"\",VLOOKUP(B3310,database!$A$6:$BFQ$206,4,FALSE)))","v":""},null,null,null,"",null,null,null,{"$f":"IF(B3310=\"\",\"\",IF(ISERROR(VLOOKUP(B3310,database!$A$6:$BFQ$206,3,FALSE)),\"\",VLOOKUP(B3310,database!$A$6:$BFQ$206,3,FALSE)))","v":""},null,null,null,null,null,null,""]
["",null,{"$f":"IF(B3313=\"\",\"\",IF(ISERROR(VLOOKUP(B3313,database!$A$6:$BFQ$206,4,FALSE)),\"\",VLOOKUP(B3313,database!$A$6:$BFQ$206,4,FALSE)))","v":""},null,null,null,"",null,null,null,{"$f":"IF(B3313=\"\",\"\",IF(ISERROR(VLOOKUP(B3313,database!$A$6:$BFQ$206,3,FALSE)),\"\",VLOOKUP(B3313,database!$A$6:$BFQ$206,3,FALSE)))","v":""},null,null,null,null,null,null,""]
["",null,{"$f":"IF(B3314=\"\",\"\",IF(ISERROR(VLOOKUP(B3314,database!$A$6:$BFQ$206,4,FALSE)),\"\",VLOOKUP(B3314,database!$A$6:$BFQ$206,4,FALSE)))","v":""},null,null,null,"",null,null,null,{"$f":"IF(B3314=\"\",\"\",IF(ISERROR(VLOOKUP(B3314,database!$A$6:$BFQ$206,3,FALSE)),\"\",VLOOKUP(B3314,database!$A$6:$BFQ$206,3,FALSE)))","v":""},null,null,null,null,null,null,""]
["",null,{"$f":"IF(B3316=\"\",\"\",IF(ISERROR(VLOOKUP(B3316,database!$A$6:$BFQ$206,4,FALSE)),\"\",VLOOKUP(B3316,database!$A$6:$BFQ$206,4,FALSE)))","v":""},null,null,null,"",null,null,null,{"$f":"IF(B3316=\"\",\"\",IF(ISERROR(VLOOKUP(B3316,database!$A$6:$BFQ$206,3,FALSE)),\"\",VLOOKUP(B3316,database!$A$6:$BFQ$206,3,FALSE)))","v":""},null,null,null,null,null,null,""]
["",null,{"$f":"IF(B3317=\"\",\"\",IF(ISERROR(VLOOKUP(B3317,database!$A$6:$BFQ$206,4,FALSE)),\"\",VLOOKUP(B3317,database!$A$6:$BFQ$206,4,FALSE)))","v":""},null,null,null,"",null,null,null,{"$f":"IF(B3317=\"\",\"\",IF(ISERROR(VLOOKUP(B3317,database!$A$6:$BFQ$206,3,FALSE)),\"\",VLOOKUP(B3317,database!$A$6:$BFQ$206,3,FALSE)))","v":""},null,null,null,null,null,null,""]
["",null,{"$f":"IF(B3320=\"\",\"\",IF(ISERROR(VLOOKUP(B3320,database!$A$6:$BFQ$206,4,FALSE)),\"\",VLOOKUP(B3320,database!$A$6:$BFQ$206,4,FALSE)))","v":""},null,null,null,"",null,null,null,{"$f":"IF(B3320=\"\",\"\",IF(ISERROR(VLOOKUP(B3320,database!$A$6:$BFQ$206,3,FALSE)),\"\",VLOOKUP(B3320,database!$A$6:$BFQ$206,3,FALSE)))","v":""},null,null,null,null,null,null,""]
["",null,{"$f":"IF(B3321=\"\",\"\",IF(ISERROR(VLOOKUP(B3321,database!$A$6:$BFQ$206,4,FALSE)),\"\",VLOOKUP(B3321,database!$A$6:$BFQ$206,4,FALSE)))","v":""},null,null,null,"",null,null,null,{"$f":"IF(B3321=\"\",\"\",IF(ISERROR(VLOOKUP(B3321,database!$A$6:$BFQ$206,3,FALSE)),\"\",VLOOKUP(B3321,database!$A$6:$BFQ$206,3,FALSE)))","v":""},null,null,null,null,null,null,""]
["",null,{"$f":"IF(B3323=\"\",\"\",IF(ISERROR(VLOOKUP(B3323,database!$A$6:$BFQ$206,4,FALSE)),\"\",VLOOKUP(B3323,database!$A$6:$BFQ$206,4,FALSE)))","v":""},null,null,null,"",null,null,null,{"$f":"IF(B3323=\"\",\"\",IF(ISERROR(VLOOKUP(B3323,database!$A$6:$BFQ$206,3,FALSE)),\"\",VLOOKUP(B3323,database!$A$6:$BFQ$206,3,FALSE)))","v":""},null,null,null,null,null,null,""]
["",null,{"$f":"IF(B3324=\"\",\"\",IF(ISERROR(VLOOKUP(B3324,database!$A$6:$BFQ$206,4,FALSE)),\"\",VLOOKUP(B3324,database!$A$6:$BFQ$206,4,FALSE)))","v":""},null,null,null,"",null,null,null,{"$f":"IF(B3324=\"\",\"\",IF(ISERROR(VLOOKUP(B3324,database!$A$6:$BFQ$206,3,FALSE)),\"\",VLOOKUP(B3324,database!$A$6:$BFQ$206,3,FALSE)))","v":""},null,null,null,null,null,null,""]
["",null,{"$f":"IF(B3327=\"\",\"\",IF(ISERROR(VLOOKUP(B3327,database!$A$6:$BFQ$206,4,FALSE)),\"\",VLOOKUP(B3327,database!$A$6:$BFQ$206,4,FALSE)))","v":""},null,null,null,"",null,null,null,{"$f":"IF(B3327=\"\",\"\",IF(ISERROR(VLOOKUP(B3327,database!$A$6:$BFQ$206,3,FALSE)),\"\",VLOOKUP(B3327,database!$A$6:$BFQ$206,3,FALSE)))","v":""},null,null,null,null,null,null,""]
["",null,{"$f":"IF(B3328=\"\",\"\",IF(ISERROR(VLOOKUP(B3328,database!$A$6:$BFQ$206,4,FALSE)),\"\",VLOOKUP(B3328,database!$A$6:$BFQ$206,4,FALSE)))","v":""},null,null,null,"",null,null,null,{"$f":"IF(B3328=\"\",\"\",IF(ISERROR(VLOOKUP(B3328,database!$A$6:$BFQ$206,3,FALSE)),\"\",VLOOKUP(B3328,database!$A$6:$BFQ$206,3,FALSE)))","v":""},null,null,null,null,null,null,""]
["",null,{"$f":"IF(B3330=\"\",\"\",IF(ISERROR(VLOOKUP(B3330,database!$A$6:$BFQ$206,4,FALSE)),\"\",VLOOKUP(B3330,database!$A$6:$BFQ$206,4,FALSE)))","v":""},null,null,null,"",null,null,null,{"$f":"IF(B3330=\"\",\"\",IF(ISERROR(VLOOKUP(B3330,database!$A$6:$BFQ$206,3,FALSE)),\"\",VLOOKUP(B3330,database!$A$6:$BFQ$206,3,FALSE)))","v":""},null,null,null,null,null,null,""]
["",null,{"$f":"IF(B3331=\"\",\"\",IF(ISERROR(VLOOKUP(B3331,database!$A$6:$BFQ$206,4,FALSE)),\"\",VLOOKUP(B3331,database!$A$6:$BFQ$206,4,FALSE)))","v":""},null,null,null,"",null,null,null,{"$f":"IF(B3331=\"\",\"\",IF(ISERROR(VLOOKUP(B3331,database!$A$6:$BFQ$206,3,FALSE)),\"\",VLOOKUP(B3331,database!$A$6:$BFQ$206,3,FALSE)))","v":""},null,null,null,null,null,null,""]
["",null,{"$f":"IF(B3334=\"\",\"\",IF(ISERROR(VLOOKUP(B3334,database!$A$6:$BFQ$206,4,FALSE)),\"\",VLOOKUP(B3334,database!$A$6:$BFQ$206,4,FALSE)))","v":""},null,null,null,"",null,null,null,{"$f":"IF(B3334=\"\",\"\",IF(ISERROR(VLOOKUP(B3334,database!$A$6:$BFQ$206,3,FALSE)),\"\",VLOOKUP(B3334,database!$A$6:$BFQ$206,3,FALSE)))","v":""},null,null,null,null,null,null,""]
["",null,{"$f":"IF(B3335=\"\",\"\",IF(ISERROR(VLOOKUP(B3335,database!$A$6:$BFQ$206,4,FALSE)),\"\",VLOOKUP(B3335,database!$A$6:$BFQ$206,4,FALSE)))","v":""},null,null,null,"",null,null,null,{"$f":"IF(B3335=\"\",\"\",IF(ISERROR(VLOOKUP(B3335,database!$A$6:$BFQ$206,3,FALSE)),\"\",VLOOKUP(B3335,database!$A$6:$BFQ$206,3,FALSE)))","v":""},null,null,null,null,null,null,""]
["",null,{"$f":"IF(B3337=\"\",\"\",IF(ISERROR(VLOOKUP(B3337,database!$A$6:$BFQ$206,4,FALSE)),\"\",VLOOKUP(B3337,database!$A$6:$BFQ$206,4,FALSE)))","v":""},null,null,null,"",null,null,null,{"$f":"IF(B3337=\"\",\"\",IF(ISERROR(VLOOKUP(B3337,database!$A$6:$BFQ$206,3,FALSE)),\"\",VLOOKUP(B3337,database!$A$6:$BFQ$206,3,FALSE)))","v":""},null,null,null,null,null,null,""]
["",null,{"$f":"IF(B3338=\"\",\"\",IF(ISERROR(VLOOKUP(B3338,database!$A$6:$BFQ$206,4,FALSE)),\"\",VLOOKUP(B3338,database!$A$6:$BFQ$206,4,FALSE)))","v":""},null,null,null,"",null,null,null,{"$f":"IF(B3338=\"\",\"\",IF(ISERROR(VLOOKUP(B3338,database!$A$6:$BFQ$206,3,FALSE)),\"\",VLOOKUP(B3338,database!$A$6:$BFQ$206,3,FALSE)))","v":""},null,null,null,null,null,null,""]
["",null,{"$f":"IF(B3341=\"\",\"\",IF(ISERROR(VLOOKUP(B3341,database!$A$6:$BFQ$206,4,FALSE)),\"\",VLOOKUP(B3341,database!$A$6:$BFQ$206,4,FALSE)))","v":""},null,null,null,"",null,null,null,{"$f":"IF(B3341=\"\",\"\",IF(ISERROR(VLOOKUP(B3341,database!$A$6:$BFQ$206,3,FALSE)),\"\",VLOOKUP(B3341,database!$A$6:$BFQ$206,3,FALSE)))","v":""},null,null,null,null,null,null,""]
["",null,{"$f":"IF(B3342=\"\",\"\",IF(ISERROR(VLOOKUP(B3342,database!$A$6:$BFQ$206,4,FALSE)),\"\",VLOOKUP(B3342,database!$A$6:$BFQ$206,4,FALSE)))","v":""},null,null,null,"",null,null,null,{"$f":"IF(B3342=\"\",\"\",IF(ISERROR(VLOOKUP(B3342,database!$A$6:$BFQ$206,3,FALSE)),\"\",VLOOKUP(B3342,database!$A$6:$BFQ$206,3,FALSE)))","v":""},null,null,null,null,null,null,""]
["",null,{"$f":"IF(B3344=\"\",\"\",IF(ISERROR(VLOOKUP(B3344,database!$A$6:$BFQ$206,4,FALSE)),\"\",VLOOKUP(B3344,database!$A$6:$BFQ$206,4,FALSE)))","v":""},null,null,null,"",null,null,null,{"$f":"IF(B3344=\"\",\"\",IF(ISERROR(VLOOKUP(B3344,database!$A$6:$BFQ$206,3,FALSE)),\"\",VLOOKUP(B3344,database!$A$6:$BFQ$206,3,FALSE)))","v":""},null,null,null,null,null,null,""]
["",null,{"$f":"IF(B3345=\"\",\"\",IF(ISERROR(VLOOKUP(B3345,database!$A$6:$BFQ$206,4,FALSE)),\"\",VLOOKUP(B3345,database!$A$6:$BFQ$206,4,FALSE)))","v":""},null,null,null,"",null,null,null,{"$f":"IF(B3345=\"\",\"\",IF(ISERROR(VLOOKUP(B3345,database!$A$6:$BFQ$206,3,FALSE)),\"\",VLOOKUP(B3345,database!$A$6:$BFQ$206,3,FALSE)))","v":""},null,null,null,null,null,null,""]
["",null,{"$f":"IF(B3348=\"\",\"\",IF(ISERROR(VLOOKUP(B3348,database!$A$6:$BFQ$206,4,FALSE)),\"\",VLOOKUP(B3348,database!$A$6:$BFQ$206,4,FALSE)))","v":""},null,null,null,"",null,null,null,{"$f":"IF(B3348=\"\",\"\",IF(ISERROR(VLOOKUP(B3348,database!$A$6:$BFQ$206,3,FALSE)),\"\",VLOOKUP(B3348,database!$A$6:$BFQ$206,3,FALSE)))","v":""},null,null,null,null,null,null,""]
["",null,{"$f":"IF(B3349=\"\",\"\",IF(ISERROR(VLOOKUP(B3349,database!$A$6:$BFQ$206,4,FALSE)),\"\",VLOOKUP(B3349,database!$A$6:$BFQ$206,4,FALSE)))","v":""},null,null,null,"",null,null,null,{"$f":"IF(B3349=\"\",\"\",IF(ISERROR(VLOOKUP(B3349,database!$A$6:$BFQ$206,3,FALSE)),\"\",VLOOKUP(B3349,database!$A$6:$BFQ$206,3,FALSE)))","v":""},null,null,null,null,null,null,""]
["",null,{"$f":"IF(B3351=\"\",\"\",IF(ISERROR(VLOOKUP(B3351,database!$A$6:$BFQ$206,4,FALSE)),\"\",VLOOKUP(B3351,database!$A$6:$BFQ$206,4,FALSE)))","v":""},null,null,null,"",null,null,null,{"$f":"IF(B3351=\"\",\"\",IF(ISERROR(VLOOKUP(B3351,database!$A$6:$BFQ$206,3,FALSE)),\"\",VLOOKUP(B3351,database!$A$6:$BFQ$206,3,FALSE)))","v":""},null,null,null,null,null,null,""]
["",null,{"$f":"IF(B3352=\"\",\"\",IF(ISERROR(VLOOKUP(B3352,database!$A$6:$BFQ$206,4,FALSE)),\"\",VLOOKUP(B3352,database!$A$6:$BFQ$206,4,FALSE)))","v":""},null,null,null,"",null,null,null,{"$f":"IF(B3352=\"\",\"\",IF(ISERROR(VLOOKUP(B3352,database!$A$6:$BFQ$206,3,FALSE)),\"\",VLOOKUP(B3352,database!$A$6:$BFQ$206,3,FALSE)))","v":""},null,null,null,null,null,null,""]
["",null,{"$f":"IF(B3355=\"\",\"\",IF(ISERROR(VLOOKUP(B3355,database!$A$6:$BFQ$206,4,FALSE)),\"\",VLOOKUP(B3355,database!$A$6:$BFQ$206,4,FALSE)))","v":""},null,null,null,"",null,null,null,{"$f":"IF(B3355=\"\",\"\",IF(ISERROR(VLOOKUP(B3355,database!$A$6:$BFQ$206,3,FALSE)),\"\",VLOOKUP(B3355,database!$A$6:$BFQ$206,3,FALSE)))","v":""},null,null,null,null,null,null,""]
["",null,{"$f":"IF(B3356=\"\",\"\",IF(ISERROR(VLOOKUP(B3356,database!$A$6:$BFQ$206,4,FALSE)),\"\",VLOOKUP(B3356,database!$A$6:$BFQ$206,4,FALSE)))","v":""},null,null,null,"",null,null,null,{"$f":"IF(B3356=\"\",\"\",IF(ISERROR(VLOOKUP(B3356,database!$A$6:$BFQ$206,3,FALSE)),\"\",VLOOKUP(B3356,database!$A$6:$BFQ$206,3,FALSE)))","v":""},null,null,null,null,null,null,""]
["",null,{"$f":"IF(B3358=\"\",\"\",IF(ISERROR(VLOOKUP(B3358,database!$A$6:$BFQ$206,4,FALSE)),\"\",VLOOKUP(B3358,database!$A$6:$BFQ$206,4,FALSE)))","v":""},null,null,null,"",null,null,null,{"$f":"IF(B3358=\"\",\"\",IF(ISERROR(VLOOKUP(B3358,database!$A$6:$BFQ$206,3,FALSE)),\"\",VLOOKUP(B3358,database!$A$6:$BFQ$206,3,FALSE)))","v":""},null,null,null,null,null,null,""]
["",null,{"$f":"IF(B3359=\"\",\"\",IF(ISERROR(VLOOKUP(B3359,database!$A$6:$BFQ$206,4,FALSE)),\"\",VLOOKUP(B3359,database!$A$6:$BFQ$206,4,FALSE)))","v":""},null,null,null,"",null,null,null,{"$f":"IF(B3359=\"\",\"\",IF(ISERROR(VLOOKUP(B3359,database!$A$6:$BFQ$206,3,FALSE)),\"\",VLOOKUP(B3359,database!$A$6:$BFQ$206,3,FALSE)))","v":""},null,null,null,null,null,null,""]
["",null,{"$f":"IF(B3362=\"\",\"\",IF(ISERROR(VLOOKUP(B3362,database!$A$6:$BFQ$206,4,FALSE)),\"\",VLOOKUP(B3362,database!$A$6:$BFQ$206,4,FALSE)))","v":""},null,null,null,"",null,null,null,{"$f":"IF(B3362=\"\",\"\",IF(ISERROR(VLOOKUP(B3362,database!$A$6:$BFQ$206,3,FALSE)),\"\",VLOOKUP(B3362,database!$A$6:$BFQ$206,3,FALSE)))","v":""},null,null,null,null,null,null,""]
["",null,{"$f":"IF(B3363=\"\",\"\",IF(ISERROR(VLOOKUP(B3363,database!$A$6:$BFQ$206,4,FALSE)),\"\",VLOOKUP(B3363,database!$A$6:$BFQ$206,4,FALSE)))","v":""},null,null,null,"",null,null,null,{"$f":"IF(B3363=\"\",\"\",IF(ISERROR(VLOOKUP(B3363,database!$A$6:$BFQ$206,3,FALSE)),\"\",VLOOKUP(B3363,database!$A$6:$BFQ$206,3,FALSE)))","v":""},null,null,null,null,null,null,""]
["",null,{"$f":"IF(B3365=\"\",\"\",IF(ISERROR(VLOOKUP(B3365,database!$A$6:$BFQ$206,4,FALSE)),\"\",VLOOKUP(B3365,database!$A$6:$BFQ$206,4,FALSE)))","v":""},null,null,null,"",null,null,null,{"$f":"IF(B3365=\"\",\"\",IF(ISERROR(VLOOKUP(B3365,database!$A$6:$BFQ$206,3,FALSE)),\"\",VLOOKUP(B3365,database!$A$6:$BFQ$206,3,FALSE)))","v":""},null,null,null,null,null,null,""]
["",null,{"$f":"IF(B3366=\"\",\"\",IF(ISERROR(VLOOKUP(B3366,database!$A$6:$BFQ$206,4,FALSE)),\"\",VLOOKUP(B3366,database!$A$6:$BFQ$206,4,FALSE)))","v":""},null,null,null,"",null,null,null,{"$f":"IF(B3366=\"\",\"\",IF(ISERROR(VLOOKUP(B3366,database!$A$6:$BFQ$206,3,FALSE)),\"\",VLOOKUP(B3366,database!$A$6:$BFQ$206,3,FALSE)))","v":""},null,null,null,null,null,null,""]
["",null,{"$f":"IF(B3369=\"\",\"\",IF(ISERROR(VLOOKUP(B3369,database!$A$6:$BFQ$206,4,FALSE)),\"\",VLOOKUP(B3369,database!$A$6:$BFQ$206,4,FALSE)))","v":""},null,null,null,"",null,null,null,{"$f":"IF(B3369=\"\",\"\",IF(ISERROR(VLOOKUP(B3369,database!$A$6:$BFQ$206,3,FALSE)),\"\",VLOOKUP(B3369,database!$A$6:$BFQ$206,3,FALSE)))","v":""},null,null,null,null,null,null,""]
["",null,{"$f":"IF(B3370=\"\",\"\",IF(ISERROR(VLOOKUP(B3370,database!$A$6:$BFQ$206,4,FALSE)),\"\",VLOOKUP(B3370,database!$A$6:$BFQ$206,4,FALSE)))","v":""},null,null,null,"",null,null,null,{"$f":"IF(B3370=\"\",\"\",IF(ISERROR(VLOOKUP(B3370,database!$A$6:$BFQ$206,3,FALSE)),\"\",VLOOKUP(B3370,database!$A$6:$BFQ$206,3,FALSE)))","v":""},null,null,null,null,null,null,""]
["",null,{"$f":"IF(B3372=\"\",\"\",IF(ISERROR(VLOOKUP(B3372,database!$A$6:$BFQ$206,4,FALSE)),\"\",VLOOKUP(B3372,database!$A$6:$BFQ$206,4,FALSE)))","v":""},null,null,null,"",null,null,null,{"$f":"IF(B3372=\"\",\"\",IF(ISERROR(VLOOKUP(B3372,database!$A$6:$BFQ$206,3,FALSE)),\"\",VLOOKUP(B3372,database!$A$6:$BFQ$206,3,FALSE)))","v":""},null,null,null,null,null,null,""]
["",null,{"$f":"IF(B3373=\"\",\"\",IF(ISERROR(VLOOKUP(B3373,database!$A$6:$BFQ$206,4,FALSE)),\"\",VLOOKUP(B3373,database!$A$6:$BFQ$206,4,FALSE)))","v":""},null,null,null,"",null,null,null,{"$f":"IF(B3373=\"\",\"\",IF(ISERROR(VLOOKUP(B3373,database!$A$6:$BFQ$206,3,FALSE)),\"\",VLOOKUP(B3373,database!$A$6:$BFQ$206,3,FALSE)))","v":""},null,null,null,null,null,null,""]
["",null,{"$f":"IF(B3376=\"\",\"\",IF(ISERROR(VLOOKUP(B3376,database!$A$6:$BFQ$206,4,FALSE)),\"\",VLOOKUP(B3376,database!$A$6:$BFQ$206,4,FALSE)))","v":""},null,null,null,"",null,null,null,{"$f":"IF(B3376=\"\",\"\",IF(ISERROR(VLOOKUP(B3376,database!$A$6:$BFQ$206,3,FALSE)),\"\",VLOOKUP(B3376,database!$A$6:$BFQ$206,3,FALSE)))","v":""},null,null,null,null,null,null,""]
["",null,{"$f":"IF(B3377=\"\",\"\",IF(ISERROR(VLOOKUP(B3377,database!$A$6:$BFQ$206,4,FALSE)),\"\",VLOOKUP(B3377,database!$A$6:$BFQ$206,4,FALSE)))","v":""},null,null,null,"",null,null,null,{"$f":"IF(B3377=\"\",\"\",IF(ISERROR(VLOOKUP(B3377,database!$A$6:$BFQ$206,3,FALSE)),\"\",VLOOKUP(B3377,database!$A$6:$BFQ$206,3,FALSE)))","v":""},null,null,null,null,null,null,""]
["",null,{"$f":"IF(B3380=\"\",\"\",IF(ISERROR(VLOOKUP(B3380,database!$A$6:$BFQ$206,4,FALSE)),\"\",VLOOKUP(B3380,database!$A$6:$BFQ$206,4,FALSE)))","v":""},null,null,null,"",null,null,null,{"$f":"IF(B3380=\"\",\"\",IF(ISERROR(VLOOKUP(B3380,database!$A$6:$BFQ$206,3,FALSE)),\"\",VLOOKUP(B3380,database!$A$6:$BFQ$206,3,FALSE)))","v":""},null,null,null,null,null,null,""]
["",null,{"$f":"IF(B3381=\"\",\"\",IF(ISERROR(VLOOKUP(B3381,database!$A$6:$BFQ$206,4,FALSE)),\"\",VLOOKUP(B3381,database!$A$6:$BFQ$206,4,FALSE)))","v":""},null,null,null,"",null,null,null,{"$f":"IF(B3381=\"\",\"\",IF(ISERROR(VLOOKUP(B3381,database!$A$6:$BFQ$206,3,FALSE)),\"\",VLOOKUP(B3381,database!$A$6:$BFQ$206,3,FALSE)))","v":""},null,null,null,null,null,null,""]
["",null,{"$f":"IF(B3383=\"\",\"\",IF(ISERROR(VLOOKUP(B3383,database!$A$6:$BFQ$206,4,FALSE)),\"\",VLOOKUP(B3383,database!$A$6:$BFQ$206,4,FALSE)))","v":""},null,null,null,"",null,null,null,{"$f":"IF(B3383=\"\",\"\",IF(ISERROR(VLOOKUP(B3383,database!$A$6:$BFQ$206,3,FALSE)),\"\",VLOOKUP(B3383,database!$A$6:$BFQ$206,3,FALSE)))","v":""},null,null,null,null,null,null,""]
["",null,{"$f":"IF(B3384=\"\",\"\",IF(ISERROR(VLOOKUP(B3384,database!$A$6:$BFQ$206,4,FALSE)),\"\",VLOOKUP(B3384,database!$A$6:$BFQ$206,4,FALSE)))","v":""},null,null,null,"",null,null,null,{"$f":"IF(B3384=\"\",\"\",IF(ISERROR(VLOOKUP(B3384,database!$A$6:$BFQ$206,3,FALSE)),\"\",VLOOKUP(B3384,database!$A$6:$BFQ$206,3,FALSE)))","v":""},null,null,null,null,null,null,""]
["",null,{"$f":"IF(B3387=\"\",\"\",IF(ISERROR(VLOOKUP(B3387,database!$A$6:$BFQ$206,4,FALSE)),\"\",VLOOKUP(B3387,database!$A$6:$BFQ$206,4,FALSE)))","v":""},null,null,null,"",null,null,null,{"$f":"IF(B3387=\"\",\"\",IF(ISERROR(VLOOKUP(B3387,database!$A$6:$BFQ$206,3,FALSE)),\"\",VLOOKUP(B3387,database!$A$6:$BFQ$206,3,FALSE)))","v":""},null,null,null,null,null,null,""]
["",null,{"$f":"IF(B3388=\"\",\"\",IF(ISERROR(VLOOKUP(B3388,database!$A$6:$BFQ$206,4,FALSE)),\"\",VLOOKUP(B3388,database!$A$6:$BFQ$206,4,FALSE)))","v":""},null,null,null,"",null,null,null,{"$f":"IF(B3388=\"\",\"\",IF(ISERROR(VLOOKUP(B3388,database!$A$6:$BFQ$206,3,FALSE)),\"\",VLOOKUP(B3388,database!$A$6:$BFQ$206,3,FALSE)))","v":""},null,null,null,null,null,null,""]
["",null,{"$f":"IF(B3390=\"\",\"\",IF(ISERROR(VLOOKUP(B3390,database!$A$6:$BFQ$206,4,FALSE)),\"\",VLOOKUP(B3390,database!$A$6:$BFQ$206,4,FALSE)))","v":""},null,null,null,"",null,null,null,{"$f":"IF(B3390=\"\",\"\",IF(ISERROR(VLOOKUP(B3390,database!$A$6:$BFQ$206,3,FALSE)),\"\",VLOOKUP(B3390,database!$A$6:$BFQ$206,3,FALSE)))","v":""},null,null,null,null,null,null,""]
["",null,{"$f":"IF(B3391=\"\",\"\",IF(ISERROR(VLOOKUP(B3391,database!$A$6:$BFQ$206,4,FALSE)),\"\",VLOOKUP(B3391,database!$A$6:$BFQ$206,4,FALSE)))","v":""},null,null,null,"",null,null,null,{"$f":"IF(B3391=\"\",\"\",IF(ISERROR(VLOOKUP(B3391,database!$A$6:$BFQ$206,3,FALSE)),\"\",VLOOKUP(B3391,database!$A$6:$BFQ$206,3,FALSE)))","v":""},null,null,null,null,null,null,""]
["",null,{"$f":"IF(B3394=\"\",\"\",IF(ISERROR(VLOOKUP(B3394,database!$A$6:$BFQ$206,4,FALSE)),\"\",VLOOKUP(B3394,database!$A$6:$BFQ$206,4,FALSE)))","v":""},null,null,null,"",null,null,null,{"$f":"IF(B3394=\"\",\"\",IF(ISERROR(VLOOKUP(B3394,database!$A$6:$BFQ$206,3,FALSE)),\"\",VLOOKUP(B3394,database!$A$6:$BFQ$206,3,FALSE)))","v":""},null,null,null,null,null,null,""]
["",null,{"$f":"IF(B3395=\"\",\"\",IF(ISERROR(VLOOKUP(B3395,database!$A$6:$BFQ$206,4,FALSE)),\"\",VLOOKUP(B3395,database!$A$6:$BFQ$206,4,FALSE)))","v":""},null,null,null,"",null,null,null,{"$f":"IF(B3395=\"\",\"\",IF(ISERROR(VLOOKUP(B3395,database!$A$6:$BFQ$206,3,FALSE)),\"\",VLOOKUP(B3395,database!$A$6:$BFQ$206,3,FALSE)))","v":""},null,null,null,null,null,null,""]
["",null,{"$f":"IF(B3397=\"\",\"\",IF(ISERROR(VLOOKUP(B3397,database!$A$6:$BFQ$206,4,FALSE)),\"\",VLOOKUP(B3397,database!$A$6:$BFQ$206,4,FALSE)))","v":""},null,null,null,"",null,null,null,{"$f":"IF(B3397=\"\",\"\",IF(ISERROR(VLOOKUP(B3397,database!$A$6:$BFQ$206,3,FALSE)),\"\",VLOOKUP(B3397,database!$A$6:$BFQ$206,3,FALSE)))","v":""},null,null,null,null,null,null,""]
["",null,{"$f":"IF(B3398=\"\",\"\",IF(ISERROR(VLOOKUP(B3398,database!$A$6:$BFQ$206,4,FALSE)),\"\",VLOOKUP(B3398,database!$A$6:$BFQ$206,4,FALSE)))","v":""},null,null,null,"",null,null,null,{"$f":"IF(B3398=\"\",\"\",IF(ISERROR(VLOOKUP(B3398,database!$A$6:$BFQ$206,3,FALSE)),\"\",VLOOKUP(B3398,database!$A$6:$BFQ$206,3,FALSE)))","v":""},null,null,null,null,null,null,""]
["",null,{"$f":"IF(B3401=\"\",\"\",IF(ISERROR(VLOOKUP(B3401,database!$A$6:$BFQ$206,4,FALSE)),\"\",VLOOKUP(B3401,database!$A$6:$BFQ$206,4,FALSE)))","v":""},null,null,null,"",null,null,null,{"$f":"IF(B3401=\"\",\"\",IF(ISERROR(VLOOKUP(B3401,database!$A$6:$BFQ$206,3,FALSE)),\"\",VLOOKUP(B3401,database!$A$6:$BFQ$206,3,FALSE)))","v":""},null,null,null,null,null,null,""]
["",null,{"$f":"IF(B3402=\"\",\"\",IF(ISERROR(VLOOKUP(B3402,database!$A$6:$BFQ$206,4,FALSE)),\"\",VLOOKUP(B3402,database!$A$6:$BFQ$206,4,FALSE)))","v":""},null,null,null,"",null,null,null,{"$f":"IF(B3402=\"\",\"\",IF(ISERROR(VLOOKUP(B3402,database!$A$6:$BFQ$206,3,FALSE)),\"\",VLOOKUP(B3402,database!$A$6:$BFQ$206,3,FALSE)))","v":""},null,null,null,null,null,null,""]
["",null,{"$f":"IF(B3404=\"\",\"\",IF(ISERROR(VLOOKUP(B3404,database!$A$6:$BFQ$206,4,FALSE)),\"\",VLOOKUP(B3404,database!$A$6:$BFQ$206,4,FALSE)))","v":""},null,null,null,"",null,null,null,{"$f":"IF(B3404=\"\",\"\",IF(ISERROR(VLOOKUP(B3404,database!$A$6:$BFQ$206,3,FALSE)),\"\",VLOOKUP(B3404,database!$A$6:$BFQ$206,3,FALSE)))","v":""},null,null,null,null,null,null,""]
["",null,{"$f":"IF(B3405=\"\",\"\",IF(ISERROR(VLOOKUP(B3405,database!$A$6:$BFQ$206,4,FALSE)),\"\",VLOOKUP(B3405,database!$A$6:$BFQ$206,4,FALSE)))","v":""},null,null,null,"",null,null,null,{"$f":"IF(B3405=\"\",\"\",IF(ISERROR(VLOOKUP(B3405,database!$A$6:$BFQ$206,3,FALSE)),\"\",VLOOKUP(B3405,database!$A$6:$BFQ$206,3,FALSE)))","v":""},null,null,null,null,null,null,""]
["",null,{"$f":"IF(B3408=\"\",\"\",IF(ISERROR(VLOOKUP(B3408,database!$A$6:$BFQ$206,4,FALSE)),\"\",VLOOKUP(B3408,database!$A$6:$BFQ$206,4,FALSE)))","v":""},null,null,null,"",null,null,null,{"$f":"IF(B3408=\"\",\"\",IF(ISERROR(VLOOKUP(B3408,database!$A$6:$BFQ$206,3,FALSE)),\"\",VLOOKUP(B3408,database!$A$6:$BFQ$206,3,FALSE)))","v":""},null,null,null,null,null,null,""]
["",null,{"$f":"IF(B3409=\"\",\"\",IF(ISERROR(VLOOKUP(B3409,database!$A$6:$BFQ$206,4,FALSE)),\"\",VLOOKUP(B3409,database!$A$6:$BFQ$206,4,FALSE)))","v":""},null,null,null,"",null,null,null,{"$f":"IF(B3409=\"\",\"\",IF(ISERROR(VLOOKUP(B3409,database!$A$6:$BFQ$206,3,FALSE)),\"\",VLOOKUP(B3409,database!$A$6:$BFQ$206,3,FALSE)))","v":""},null,null,null,null,null,null,""]
["",null,{"$f":"IF(B3411=\"\",\"\",IF(ISERROR(VLOOKUP(B3411,database!$A$6:$BFQ$206,4,FALSE)),\"\",VLOOKUP(B3411,database!$A$6:$BFQ$206,4,FALSE)))","v":""},null,null,null,"",null,null,null,{"$f":"IF(B3411=\"\",\"\",IF(ISERROR(VLOOKUP(B3411,database!$A$6:$BFQ$206,3,FALSE)),\"\",VLOOKUP(B3411,database!$A$6:$BFQ$206,3,FALSE)))","v":""},null,null,null,null,null,null,""]
["",null,{"$f":"IF(B3412=\"\",\"\",IF(ISERROR(VLOOKUP(B3412,database!$A$6:$BFQ$206,4,FALSE)),\"\",VLOOKUP(B3412,database!$A$6:$BFQ$206,4,FALSE)))","v":""},null,null,null,"",null,null,null,{"$f":"IF(B3412=\"\",\"\",IF(ISERROR(VLOOKUP(B3412,database!$A$6:$BFQ$206,3,FALSE)),\"\",VLOOKUP(B3412,database!$A$6:$BFQ$206,3,FALSE)))","v":""},null,null,null,null,null,null,""]
["",null,{"$f":"IF(B3415=\"\",\"\",IF(ISERROR(VLOOKUP(B3415,database!$A$6:$BFQ$206,4,FALSE)),\"\",VLOOKUP(B3415,database!$A$6:$BFQ$206,4,FALSE)))","v":""},null,null,null,"",null,null,null,{"$f":"IF(B3415=\"\",\"\",IF(ISERROR(VLOOKUP(B3415,database!$A$6:$BFQ$206,3,FALSE)),\"\",VLOOKUP(B3415,database!$A$6:$BFQ$206,3,FALSE)))","v":""},null,null,null,null,null,null,""]
["",null,{"$f":"IF(B3416=\"\",\"\",IF(ISERROR(VLOOKUP(B3416,database!$A$6:$BFQ$206,4,FALSE)),\"\",VLOOKUP(B3416,database!$A$6:$BFQ$206,4,FALSE)))","v":""},null,null,null,"",null,null,null,{"$f":"IF(B3416=\"\",\"\",IF(ISERROR(VLOOKUP(B3416,database!$A$6:$BFQ$206,3,FALSE)),\"\",VLOOKUP(B3416,database!$A$6:$BFQ$206,3,FALSE)))","v":""},null,null,null,null,null,null,""]
["",null,{"$f":"IF(B3418=\"\",\"\",IF(ISERROR(VLOOKUP(B3418,database!$A$6:$BFQ$206,4,FALSE)),\"\",VLOOKUP(B3418,database!$A$6:$BFQ$206,4,FALSE)))","v":""},null,null,null,"",null,null,null,{"$f":"IF(B3418=\"\",\"\",IF(ISERROR(VLOOKUP(B3418,database!$A$6:$BFQ$206,3,FALSE)),\"\",VLOOKUP(B3418,database!$A$6:$BFQ$206,3,FALSE)))","v":""},null,null,null,null,null,null,""]
["",null,{"$f":"IF(B3419=\"\",\"\",IF(ISERROR(VLOOKUP(B3419,database!$A$6:$BFQ$206,4,FALSE)),\"\",VLOOKUP(B3419,database!$A$6:$BFQ$206,4,FALSE)))","v":""},null,null,null,"",null,null,null,{"$f":"IF(B3419=\"\",\"\",IF(ISERROR(VLOOKUP(B3419,database!$A$6:$BFQ$206,3,FALSE)),\"\",VLOOKUP(B3419,database!$A$6:$BFQ$206,3,FALSE)))","v":""},null,null,null,null,null,null,""]
["",null,{"$f":"IF(B3422=\"\",\"\",IF(ISERROR(VLOOKUP(B3422,database!$A$6:$BFQ$206,4,FALSE)),\"\",VLOOKUP(B3422,database!$A$6:$BFQ$206,4,FALSE)))","v":""},null,null,null,"",null,null,null,{"$f":"IF(B3422=\"\",\"\",IF(ISERROR(VLOOKUP(B3422,database!$A$6:$BFQ$206,3,FALSE)),\"\",VLOOKUP(B3422,database!$A$6:$BFQ$206,3,FALSE)))","v":""},null,null,null,null,null,null,""]
["",null,{"$f":"IF(B3423=\"\",\"\",IF(ISERROR(VLOOKUP(B3423,database!$A$6:$BFQ$206,4,FALSE)),\"\",VLOOKUP(B3423,database!$A$6:$BFQ$206,4,FALSE)))","v":""},null,null,null,"",null,null,null,{"$f":"IF(B3423=\"\",\"\",IF(ISERROR(VLOOKUP(B3423,database!$A$6:$BFQ$206,3,FALSE)),\"\",VLOOKUP(B3423,database!$A$6:$BFQ$206,3,FALSE)))","v":""},null,null,null,null,null,null,""]
["",null,{"$f":"IF(B3425=\"\",\"\",IF(ISERROR(VLOOKUP(B3425,database!$A$6:$BFQ$206,4,FALSE)),\"\",VLOOKUP(B3425,database!$A$6:$BFQ$206,4,FALSE)))","v":""},null,null,null,"",null,null,null,{"$f":"IF(B3425=\"\",\"\",IF(ISERROR(VLOOKUP(B3425,database!$A$6:$BFQ$206,3,FALSE)),\"\",VLOOKUP(B3425,database!$A$6:$BFQ$206,3,FALSE)))","v":""},null,null,null,null,null,null,""]
["",null,{"$f":"IF(B3426=\"\",\"\",IF(ISERROR(VLOOKUP(B3426,database!$A$6:$BFQ$206,4,FALSE)),\"\",VLOOKUP(B3426,database!$A$6:$BFQ$206,4,FALSE)))","v":""},null,null,null,"",null,null,null,{"$f":"IF(B3426=\"\",\"\",IF(ISERROR(VLOOKUP(B3426,database!$A$6:$BFQ$206,3,FALSE)),\"\",VLOOKUP(B3426,database!$A$6:$BFQ$206,3,FALSE)))","v":""},null,null,null,null,null,null,""]
["",null,{"$f":"IF(B3429=\"\",\"\",IF(ISERROR(VLOOKUP(B3429,database!$A$6:$BFQ$206,4,FALSE)),\"\",VLOOKUP(B3429,database!$A$6:$BFQ$206,4,FALSE)))","v":""},null,null,null,"",null,null,null,{"$f":"IF(B3429=\"\",\"\",IF(ISERROR(VLOOKUP(B3429,database!$A$6:$BFQ$206,3,FALSE)),\"\",VLOOKUP(B3429,database!$A$6:$BFQ$206,3,FALSE)))","v":""},null,null,null,null,null,null,""]
["",null,{"$f":"IF(B3430=\"\",\"\",IF(ISERROR(VLOOKUP(B3430,database!$A$6:$BFQ$206,4,FALSE)),\"\",VLOOKUP(B3430,database!$A$6:$BFQ$206,4,FALSE)))","v":""},null,null,null,"",null,null,null,{"$f":"IF(B3430=\"\",\"\",IF(ISERROR(VLOOKUP(B3430,database!$A$6:$BFQ$206,3,FALSE)),\"\",VLOOKUP(B3430,database!$A$6:$BFQ$206,3,FALSE)))","v":""},null,null,null,null,null,null,""]
["",null,{"$f":"IF(B3432=\"\",\"\",IF(ISERROR(VLOOKUP(B3432,database!$A$6:$BFQ$206,4,FALSE)),\"\",VLOOKUP(B3432,database!$A$6:$BFQ$206,4,FALSE)))","v":""},null,null,null,"",null,null,null,{"$f":"IF(B3432=\"\",\"\",IF(ISERROR(VLOOKUP(B3432,database!$A$6:$BFQ$206,3,FALSE)),\"\",VLOOKUP(B3432,database!$A$6:$BFQ$206,3,FALSE)))","v":""},null,null,null,null,null,null,""]
["",null,{"$f":"IF(B3433=\"\",\"\",IF(ISERROR(VLOOKUP(B3433,database!$A$6:$BFQ$206,4,FALSE)),\"\",VLOOKUP(B3433,database!$A$6:$BFQ$206,4,FALSE)))","v":""},null,null,null,"",null,null,null,{"$f":"IF(B3433=\"\",\"\",IF(ISERROR(VLOOKUP(B3433,database!$A$6:$BFQ$206,3,FALSE)),\"\",VLOOKUP(B3433,database!$A$6:$BFQ$206,3,FALSE)))","v":""},null,null,null,null,null,null,""]
["",null,{"$f":"IF(B3436=\"\",\"\",IF(ISERROR(VLOOKUP(B3436,database!$A$6:$BFQ$206,4,FALSE)),\"\",VLOOKUP(B3436,database!$A$6:$BFQ$206,4,FALSE)))","v":""},null,null,null,"",null,null,null,{"$f":"IF(B3436=\"\",\"\",IF(ISERROR(VLOOKUP(B3436,database!$A$6:$BFQ$206,3,FALSE)),\"\",VLOOKUP(B3436,database!$A$6:$BFQ$206,3,FALSE)))","v":""},null,null,null,null,null,null,""]
["",null,{"$f":"IF(B3437=\"\",\"\",IF(ISERROR(VLOOKUP(B3437,database!$A$6:$BFQ$206,4,FALSE)),\"\",VLOOKUP(B3437,database!$A$6:$BFQ$206,4,FALSE)))","v":""},null,null,null,"",null,null,null,{"$f":"IF(B3437=\"\",\"\",IF(ISERROR(VLOOKUP(B3437,database!$A$6:$BFQ$206,3,FALSE)),\"\",VLOOKUP(B3437,database!$A$6:$BFQ$206,3,FALSE)))","v":""},null,null,null,null,null,null,""]
["",null,{"$f":"IF(B3439=\"\",\"\",IF(ISERROR(VLOOKUP(B3439,database!$A$6:$BFQ$206,4,FALSE)),\"\",VLOOKUP(B3439,database!$A$6:$BFQ$206,4,FALSE)))","v":""},null,null,null,"",null,null,null,{"$f":"IF(B3439=\"\",\"\",IF(ISERROR(VLOOKUP(B3439,database!$A$6:$BFQ$206,3,FALSE)),\"\",VLOOKUP(B3439,database!$A$6:$BFQ$206,3,FALSE)))","v":""},null,null,null,null,null,null,""]
["",null,{"$f":"IF(B3440=\"\",\"\",IF(ISERROR(VLOOKUP(B3440,database!$A$6:$BFQ$206,4,FALSE)),\"\",VLOOKUP(B3440,database!$A$6:$BFQ$206,4,FALSE)))","v":""},null,null,null,"",null,null,null,{"$f":"IF(B3440=\"\",\"\",IF(ISERROR(VLOOKUP(B3440,database!$A$6:$BFQ$206,3,FALSE)),\"\",VLOOKUP(B3440,database!$A$6:$BFQ$206,3,FALSE)))","v":""},null,null,null,null,null,null,""]
["",null,{"$f":"IF(B3443=\"\",\"\",IF(ISERROR(VLOOKUP(B3443,database!$A$6:$BFQ$206,4,FALSE)),\"\",VLOOKUP(B3443,database!$A$6:$BFQ$206,4,FALSE)))","v":""},null,null,null,"",null,null,null,{"$f":"IF(B3443=\"\",\"\",IF(ISERROR(VLOOKUP(B3443,database!$A$6:$BFQ$206,3,FALSE)),\"\",VLOOKUP(B3443,database!$A$6:$BFQ$206,3,FALSE)))","v":""},null,null,null,null,null,null,""]
["",null,{"$f":"IF(B3444=\"\",\"\",IF(ISERROR(VLOOKUP(B3444,database!$A$6:$BFQ$206,4,FALSE)),\"\",VLOOKUP(B3444,database!$A$6:$BFQ$206,4,FALSE)))","v":""},null,null,null,"",null,null,null,{"$f":"IF(B3444=\"\",\"\",IF(ISERROR(VLOOKUP(B3444,database!$A$6:$BFQ$206,3,FALSE)),\"\",VLOOKUP(B3444,database!$A$6:$BFQ$206,3,FALSE)))","v":""},null,null,null,null,null,null,""]
["",null,{"$f":"IF(B3446=\"\",\"\",IF(ISERROR(VLOOKUP(B3446,database!$A$6:$BFQ$206,4,FALSE)),\"\",VLOOKUP(B3446,database!$A$6:$BFQ$206,4,FALSE)))","v":""},null,null,null,"",null,null,null,{"$f":"IF(B3446=\"\",\"\",IF(ISERROR(VLOOKUP(B3446,database!$A$6:$BFQ$206,3,FALSE)),\"\",VLOOKUP(B3446,database!$A$6:$BFQ$206,3,FALSE)))","v":""},null,null,null,null,null,null,""]
["",null,{"$f":"IF(B3447=\"\",\"\",IF(ISERROR(VLOOKUP(B3447,database!$A$6:$BFQ$206,4,FALSE)),\"\",VLOOKUP(B3447,database!$A$6:$BFQ$206,4,FALSE)))","v":""},null,null,null,"",null,null,null,{"$f":"IF(B3447=\"\",\"\",IF(ISERROR(VLOOKUP(B3447,database!$A$6:$BFQ$206,3,FALSE)),\"\",VLOOKUP(B3447,database!$A$6:$BFQ$206,3,FALSE)))","v":""},null,null,null,null,null,null,""]
["",null,{"$f":"IF(B3450=\"\",\"\",IF(ISERROR(VLOOKUP(B3450,database!$A$6:$BFQ$206,4,FALSE)),\"\",VLOOKUP(B3450,database!$A$6:$BFQ$206,4,FALSE)))","v":""},null,null,null,"",null,null,null,{"$f":"IF(B3450=\"\",\"\",IF(ISERROR(VLOOKUP(B3450,database!$A$6:$BFQ$206,3,FALSE)),\"\",VLOOKUP(B3450,database!$A$6:$BFQ$206,3,FALSE)))","v":""},null,null,null,null,null,null,""]
["",null,{"$f":"IF(B3451=\"\",\"\",IF(ISERROR(VLOOKUP(B3451,database!$A$6:$BFQ$206,4,FALSE)),\"\",VLOOKUP(B3451,database!$A$6:$BFQ$206,4,FALSE)))","v":""},null,null,null,"",null,null,null,{"$f":"IF(B3451=\"\",\"\",IF(ISERROR(VLOOKUP(B3451,database!$A$6:$BFQ$206,3,FALSE)),\"\",VLOOKUP(B3451,database!$A$6:$BFQ$206,3,FALSE)))","v":""},null,null,null,null,null,null,""]
["",null,{"$f":"IF(B3453=\"\",\"\",IF(ISERROR(VLOOKUP(B3453,database!$A$6:$BFQ$206,4,FALSE)),\"\",VLOOKUP(B3453,database!$A$6:$BFQ$206,4,FALSE)))","v":""},null,null,null,"",null,null,null,{"$f":"IF(B3453=\"\",\"\",IF(ISERROR(VLOOKUP(B3453,database!$A$6:$BFQ$206,3,FALSE)),\"\",VLOOKUP(B3453,database!$A$6:$BFQ$206,3,FALSE)))","v":""},null,null,null,null,null,null,""]
["",null,{"$f":"IF(B3454=\"\",\"\",IF(ISERROR(VLOOKUP(B3454,database!$A$6:$BFQ$206,4,FALSE)),\"\",VLOOKUP(B3454,database!$A$6:$BFQ$206,4,FALSE)))","v":""},null,null,null,"",null,null,null,{"$f":"IF(B3454=\"\",\"\",IF(ISERROR(VLOOKUP(B3454,database!$A$6:$BFQ$206,3,FALSE)),\"\",VLOOKUP(B3454,database!$A$6:$BFQ$206,3,FALSE)))","v":""},null,null,null,null,null,null,""]
[{"$f":"IF(B3457=\"\",\"\",ROW(A3454))","v":""},null,{"$f":"IF(B3457=\"\",\"\",IF(ISERROR(VLOOKUP(B3457,database!$A$6:$BFQ$206,4,FALSE)),\"\",VLOOKUP(B3457,database!$A$6:$BFQ$206,4,FALSE)))","v":""},null,null,null,{"$f":"IF(B3457=\"\",\"\",IF(C3457=\"\",0,1))","v":""},null,null,null,{"$f":"IF(B3457=\"\",\"\",IF(ISERROR(VLOOKUP(B3457,database!$A$6:$BFQ$206,3,FALSE)),\"\",VLOOKUP(B3457,database!$A$6:$BFQ$206,3,FALSE)))","v":""},null,null,null,null,null,null,{"$f":"LEFT(C3457,2)","v":""}]
["",null,{"$f":"IF(B3458=\"\",\"\",IF(ISERROR(VLOOKUP(B3458,database!$A$6:$BFQ$206,4,FALSE)),\"\",VLOOKUP(B3458,database!$A$6:$BFQ$206,4,FALSE)))","v":""},null,null,null,"",null,null,null,{"$f":"IF(B3458=\"\",\"\",IF(ISERROR(VLOOKUP(B3458,database!$A$6:$BFQ$206,3,FALSE)),\"\",VLOOKUP(B3458,database!$A$6:$BFQ$206,3,FALSE)))","v":""},null,null,null,null,null,null,""]
["",null,{"$f":"IF(B3460=\"\",\"\",IF(ISERROR(VLOOKUP(B3460,database!$A$6:$BFQ$206,4,FALSE)),\"\",VLOOKUP(B3460,database!$A$6:$BFQ$206,4,FALSE)))","v":""},null,null,null,"",null,null,null,{"$f":"IF(B3460=\"\",\"\",IF(ISERROR(VLOOKUP(B3460,database!$A$6:$BFQ$206,3,FALSE)),\"\",VLOOKUP(B3460,database!$A$6:$BFQ$206,3,FALSE)))","v":""},null,null,null,null,null,null,""]
["",null,{"$f":"IF(B3461=\"\",\"\",IF(ISERROR(VLOOKUP(B3461,database!$A$6:$BFQ$206,4,FALSE)),\"\",VLOOKUP(B3461,database!$A$6:$BFQ$206,4,FALSE)))","v":""},null,null,null,"",null,null,null,{"$f":"IF(B3461=\"\",\"\",IF(ISERROR(VLOOKUP(B3461,database!$A$6:$BFQ$206,3,FALSE)),\"\",VLOOKUP(B3461,database!$A$6:$BFQ$206,3,FALSE)))","v":""},null,null,null,null,null,null,""]
["",null,{"$f":"IF(B3464=\"\",\"\",IF(ISERROR(VLOOKUP(B3464,database!$A$6:$BFQ$206,4,FALSE)),\"\",VLOOKUP(B3464,database!$A$6:$BFQ$206,4,FALSE)))","v":""},null,null,null,"",null,null,null,{"$f":"IF(B3464=\"\",\"\",IF(ISERROR(VLOOKUP(B3464,database!$A$6:$BFQ$206,3,FALSE)),\"\",VLOOKUP(B3464,database!$A$6:$BFQ$206,3,FALSE)))","v":""},null,null,null,null,null,null,""]
["",null,{"$f":"IF(B3465=\"\",\"\",IF(ISERROR(VLOOKUP(B3465,database!$A$6:$BFQ$206,4,FALSE)),\"\",VLOOKUP(B3465,database!$A$6:$BFQ$206,4,FALSE)))","v":""},null,null,null,"",null,null,null,{"$f":"IF(B3465=\"\",\"\",IF(ISERROR(VLOOKUP(B3465,database!$A$6:$BFQ$206,3,FALSE)),\"\",VLOOKUP(B3465,database!$A$6:$BFQ$206,3,FALSE)))","v":""},null,null,null,null,null,null,""]
["",null,{"$f":"IF(B3467=\"\",\"\",IF(ISERROR(VLOOKUP(B3467,database!$A$6:$BFQ$206,4,FALSE)),\"\",VLOOKUP(B3467,database!$A$6:$BFQ$206,4,FALSE)))","v":""},null,null,null,"",null,null,null,{"$f":"IF(B3467=\"\",\"\",IF(ISERROR(VLOOKUP(B3467,database!$A$6:$BFQ$206,3,FALSE)),\"\",VLOOKUP(B3467,database!$A$6:$BFQ$206,3,FALSE)))","v":""},null,null,null,null,null,null,""]
["",null,{"$f":"IF(B3468=\"\",\"\",IF(ISERROR(VLOOKUP(B3468,database!$A$6:$BFQ$206,4,FALSE)),\"\",VLOOKUP(B3468,database!$A$6:$BFQ$206,4,FALSE)))","v":""},null,null,null,"",null,null,null,{"$f":"IF(B3468=\"\",\"\",IF(ISERROR(VLOOKUP(B3468,database!$A$6:$BFQ$206,3,FALSE)),\"\",VLOOKUP(B3468,database!$A$6:$BFQ$206,3,FALSE)))","v":""},null,null,null,null,null,null,""]
["",null,{"$f":"IF(B3471=\"\",\"\",IF(ISERROR(VLOOKUP(B3471,database!$A$6:$BFQ$206,4,FALSE)),\"\",VLOOKUP(B3471,database!$A$6:$BFQ$206,4,FALSE)))","v":""},null,null,null,"",null,null,null,{"$f":"IF(B3471=\"\",\"\",IF(ISERROR(VLOOKUP(B3471,database!$A$6:$BFQ$206,3,FALSE)),\"\",VLOOKUP(B3471,database!$A$6:$BFQ$206,3,FALSE)))","v":""},null,null,null,null,null,null,""]
["",null,{"$f":"IF(B3472=\"\",\"\",IF(ISERROR(VLOOKUP(B3472,database!$A$6:$BFQ$206,4,FALSE)),\"\",VLOOKUP(B3472,database!$A$6:$BFQ$206,4,FALSE)))","v":""},null,null,null,"",null,null,null,{"$f":"IF(B3472=\"\",\"\",IF(ISERROR(VLOOKUP(B3472,database!$A$6:$BFQ$206,3,FALSE)),\"\",VLOOKUP(B3472,database!$A$6:$BFQ$206,3,FALSE)))","v":""},null,null,null,null,null,null,""]
["",null,{"$f":"IF(B3474=\"\",\"\",IF(ISERROR(VLOOKUP(B3474,database!$A$6:$BFQ$206,4,FALSE)),\"\",VLOOKUP(B3474,database!$A$6:$BFQ$206,4,FALSE)))","v":""},null,null,null,"",null,null,null,{"$f":"IF(B3474=\"\",\"\",IF(ISERROR(VLOOKUP(B3474,database!$A$6:$BFQ$206,3,FALSE)),\"\",VLOOKUP(B3474,database!$A$6:$BFQ$206,3,FALSE)))","v":""},null,null,null,null,null,null,""]
["",null,{"$f":"IF(B3475=\"\",\"\",IF(ISERROR(VLOOKUP(B3475,database!$A$6:$BFQ$206,4,FALSE)),\"\",VLOOKUP(B3475,database!$A$6:$BFQ$206,4,FALSE)))","v":""},null,null,null,"",null,null,null,{"$f":"IF(B3475=\"\",\"\",IF(ISERROR(VLOOKUP(B3475,database!$A$6:$BFQ$206,3,FALSE)),\"\",VLOOKUP(B3475,database!$A$6:$BFQ$206,3,FALSE)))","v":""},null,null,null,null,null,null,""]
["",null,{"$f":"IF(B3478=\"\",\"\",IF(ISERROR(VLOOKUP(B3478,database!$A$6:$BFQ$206,4,FALSE)),\"\",VLOOKUP(B3478,database!$A$6:$BFQ$206,4,FALSE)))","v":""},null,null,null,"",null,null,null,{"$f":"IF(B3478=\"\",\"\",IF(ISERROR(VLOOKUP(B3478,database!$A$6:$BFQ$206,3,FALSE)),\"\",VLOOKUP(B3478,database!$A$6:$BFQ$206,3,FALSE)))","v":""},null,null,null,null,null,null,""]
["",null,{"$f":"IF(B3479=\"\",\"\",IF(ISERROR(VLOOKUP(B3479,database!$A$6:$BFQ$206,4,FALSE)),\"\",VLOOKUP(B3479,database!$A$6:$BFQ$206,4,FALSE)))","v":""},null,null,null,"",null,null,null,{"$f":"IF(B3479=\"\",\"\",IF(ISERROR(VLOOKUP(B3479,database!$A$6:$BFQ$206,3,FALSE)),\"\",VLOOKUP(B3479,database!$A$6:$BFQ$206,3,FALSE)))","v":""},null,null,null,null,null,null,""]
["",null,{"$f":"IF(B3481=\"\",\"\",IF(ISERROR(VLOOKUP(B3481,database!$A$6:$BFQ$206,4,FALSE)),\"\",VLOOKUP(B3481,database!$A$6:$BFQ$206,4,FALSE)))","v":""},null,null,null,"",null,null,null,{"$f":"IF(B3481=\"\",\"\",IF(ISERROR(VLOOKUP(B3481,database!$A$6:$BFQ$206,3,FALSE)),\"\",VLOOKUP(B3481,database!$A$6:$BFQ$206,3,FALSE)))","v":""},null,null,null,null,null,null,""]
["",null,{"$f":"IF(B3482=\"\",\"\",IF(ISERROR(VLOOKUP(B3482,database!$A$6:$BFQ$206,4,FALSE)),\"\",VLOOKUP(B3482,database!$A$6:$BFQ$206,4,FALSE)))","v":""},null,null,null,"",null,null,null,{"$f":"IF(B3482=\"\",\"\",IF(ISERROR(VLOOKUP(B3482,database!$A$6:$BFQ$206,3,FALSE)),\"\",VLOOKUP(B3482,database!$A$6:$BFQ$206,3,FALSE)))","v":""},null,null,null,null,null,null,""]
["",null,{"$f":"IF(B3485=\"\",\"\",IF(ISERROR(VLOOKUP(B3485,database!$A$6:$BFQ$206,4,FALSE)),\"\",VLOOKUP(B3485,database!$A$6:$BFQ$206,4,FALSE)))","v":""},null,null,null,"",null,null,null,{"$f":"IF(B3485=\"\",\"\",IF(ISERROR(VLOOKUP(B3485,database!$A$6:$BFQ$206,3,FALSE)),\"\",VLOOKUP(B3485,database!$A$6:$BFQ$206,3,FALSE)))","v":""},null,null,null,null,null,null,""]
["",null,{"$f":"IF(B3486=\"\",\"\",IF(ISERROR(VLOOKUP(B3486,database!$A$6:$BFQ$206,4,FALSE)),\"\",VLOOKUP(B3486,database!$A$6:$BFQ$206,4,FALSE)))","v":""},null,null,null,"",null,null,null,{"$f":"IF(B3486=\"\",\"\",IF(ISERROR(VLOOKUP(B3486,database!$A$6:$BFQ$206,3,FALSE)),\"\",VLOOKUP(B3486,database!$A$6:$BFQ$206,3,FALSE)))","v":""},null,null,null,null,null,null,""]
["",null,{"$f":"IF(B3489=\"\",\"\",IF(ISERROR(VLOOKUP(B3489,database!$A$6:$BFQ$206,4,FALSE)),\"\",VLOOKUP(B3489,database!$A$6:$BFQ$206,4,FALSE)))","v":""},null,null,null,"",null,null,null,{"$f":"IF(B3489=\"\",\"\",IF(ISERROR(VLOOKUP(B3489,database!$A$6:$BFQ$206,3,FALSE)),\"\",VLOOKUP(B3489,database!$A$6:$BFQ$206,3,FALSE)))","v":""},null,null,null,null,null,null,""]
["",null,{"$f":"IF(B3490=\"\",\"\",IF(ISERROR(VLOOKUP(B3490,database!$A$6:$BFQ$206,4,FALSE)),\"\",VLOOKUP(B3490,database!$A$6:$BFQ$206,4,FALSE)))","v":""},null,null,null,"",null,null,null,{"$f":"IF(B3490=\"\",\"\",IF(ISERROR(VLOOKUP(B3490,database!$A$6:$BFQ$206,3,FALSE)),\"\",VLOOKUP(B3490,database!$A$6:$BFQ$206,3,FALSE)))","v":""},null,null,null,null,null,null,""]
["",null,{"$f":"IF(B3492=\"\",\"\",IF(ISERROR(VLOOKUP(B3492,database!$A$6:$BFQ$206,4,FALSE)),\"\",VLOOKUP(B3492,database!$A$6:$BFQ$206,4,FALSE)))","v":""},null,null,null,"",null,null,null,{"$f":"IF(B3492=\"\",\"\",IF(ISERROR(VLOOKUP(B3492,database!$A$6:$BFQ$206,3,FALSE)),\"\",VLOOKUP(B3492,database!$A$6:$BFQ$206,3,FALSE)))","v":""},null,null,null,null,null,null,""]
["",null,{"$f":"IF(B3493=\"\",\"\",IF(ISERROR(VLOOKUP(B3493,database!$A$6:$BFQ$206,4,FALSE)),\"\",VLOOKUP(B3493,database!$A$6:$BFQ$206,4,FALSE)))","v":""},null,null,null,"",null,null,null,{"$f":"IF(B3493=\"\",\"\",IF(ISERROR(VLOOKUP(B3493,database!$A$6:$BFQ$206,3,FALSE)),\"\",VLOOKUP(B3493,database!$A$6:$BFQ$206,3,FALSE)))","v":""},null,null,null,null,null,null,""]
["",null,{"$f":"IF(B3496=\"\",\"\",IF(ISERROR(VLOOKUP(B3496,database!$A$6:$BFQ$206,4,FALSE)),\"\",VLOOKUP(B3496,database!$A$6:$BFQ$206,4,FALSE)))","v":""},null,null,null,"",null,null,null,{"$f":"IF(B3496=\"\",\"\",IF(ISERROR(VLOOKUP(B3496,database!$A$6:$BFQ$206,3,FALSE)),\"\",VLOOKUP(B3496,database!$A$6:$BFQ$206,3,FALSE)))","v":""},null,null,null,null,null,null,""]
["",null,{"$f":"IF(B3497=\"\",\"\",IF(ISERROR(VLOOKUP(B3497,database!$A$6:$BFQ$206,4,FALSE)),\"\",VLOOKUP(B3497,database!$A$6:$BFQ$206,4,FALSE)))","v":""},null,null,null,"",null,null,null,{"$f":"IF(B3497=\"\",\"\",IF(ISERROR(VLOOKUP(B3497,database!$A$6:$BFQ$206,3,FALSE)),\"\",VLOOKUP(B3497,database!$A$6:$BFQ$206,3,FALSE)))","v":""},null,null,null,null,null,null,""]
["",null,{"$f":"IF(B3499=\"\",\"\",IF(ISERROR(VLOOKUP(B3499,database!$A$6:$BFQ$206,4,FALSE)),\"\",VLOOKUP(B3499,database!$A$6:$BFQ$206,4,FALSE)))","v":""},null,null,null,"",null,null,null,{"$f":"IF(B3499=\"\",\"\",IF(ISERROR(VLOOKUP(B3499,database!$A$6:$BFQ$206,3,FALSE)),\"\",VLOOKUP(B3499,database!$A$6:$BFQ$206,3,FALSE)))","v":""},null,null,null,null,null,null,""]
["",null,{"$f":"IF(B3500=\"\",\"\",IF(ISERROR(VLOOKUP(B3500,database!$A$6:$BFQ$206,4,FALSE)),\"\",VLOOKUP(B3500,database!$A$6:$BFQ$206,4,FALSE)))","v":""},null,null,null,"",null,null,null,{"$f":"IF(B3500=\"\",\"\",IF(ISERROR(VLOOKUP(B3500,database!$A$6:$BFQ$206,3,FALSE)),\"\",VLOOKUP(B3500,database!$A$6:$BFQ$206,3,FALSE)))","v":""},null,null,null,null,null,null,""]
["",null,{"$f":"IF(B3503=\"\",\"\",IF(ISERROR(VLOOKUP(B3503,database!$A$6:$BFQ$206,4,FALSE)),\"\",VLOOKUP(B3503,database!$A$6:$BFQ$206,4,FALSE)))","v":""},null,null,null,"",null,null,null,{"$f":"IF(B3503=\"\",\"\",IF(ISERROR(VLOOKUP(B3503,database!$A$6:$BFQ$206,3,FALSE)),\"\",VLOOKUP(B3503,database!$A$6:$BFQ$206,3,FALSE)))","v":""},null,null,null,null,null,null,""]
["",null,{"$f":"IF(B3504=\"\",\"\",IF(ISERROR(VLOOKUP(B3504,database!$A$6:$BFQ$206,4,FALSE)),\"\",VLOOKUP(B3504,database!$A$6:$BFQ$206,4,FALSE)))","v":""},null,null,null,"",null,null,null,{"$f":"IF(B3504=\"\",\"\",IF(ISERROR(VLOOKUP(B3504,database!$A$6:$BFQ$206,3,FALSE)),\"\",VLOOKUP(B3504,database!$A$6:$BFQ$206,3,FALSE)))","v":""},null,null,null,null,null,null,""]
["",null,{"$f":"IF(B3506=\"\",\"\",IF(ISERROR(VLOOKUP(B3506,database!$A$6:$BFQ$206,4,FALSE)),\"\",VLOOKUP(B3506,database!$A$6:$BFQ$206,4,FALSE)))","v":""},null,null,null,"",null,null,null,{"$f":"IF(B3506=\"\",\"\",IF(ISERROR(VLOOKUP(B3506,database!$A$6:$BFQ$206,3,FALSE)),\"\",VLOOKUP(B3506,database!$A$6:$BFQ$206,3,FALSE)))","v":""},null,null,null,null,null,null,""]
["",null,{"$f":"IF(B3507=\"\",\"\",IF(ISERROR(VLOOKUP(B3507,database!$A$6:$BFQ$206,4,FALSE)),\"\",VLOOKUP(B3507,database!$A$6:$BFQ$206,4,FALSE)))","v":""},null,null,null,"",null,null,null,{"$f":"IF(B3507=\"\",\"\",IF(ISERROR(VLOOKUP(B3507,database!$A$6:$BFQ$206,3,FALSE)),\"\",VLOOKUP(B3507,database!$A$6:$BFQ$206,3,FALSE)))","v":""},null,null,null,null,null,null,""]
["",null,{"$f":"IF(B3510=\"\",\"\",IF(ISERROR(VLOOKUP(B3510,database!$A$6:$BFQ$206,4,FALSE)),\"\",VLOOKUP(B3510,database!$A$6:$BFQ$206,4,FALSE)))","v":""},null,null,null,"",null,null,null,{"$f":"IF(B3510=\"\",\"\",IF(ISERROR(VLOOKUP(B3510,database!$A$6:$BFQ$206,3,FALSE)),\"\",VLOOKUP(B3510,database!$A$6:$BFQ$206,3,FALSE)))","v":""},null,null,null,null,null,null,""]
["",null,{"$f":"IF(B3511=\"\",\"\",IF(ISERROR(VLOOKUP(B3511,database!$A$6:$BFQ$206,4,FALSE)),\"\",VLOOKUP(B3511,database!$A$6:$BFQ$206,4,FALSE)))","v":""},null,null,null,"",null,null,null,{"$f":"IF(B3511=\"\",\"\",IF(ISERROR(VLOOKUP(B3511,database!$A$6:$BFQ$206,3,FALSE)),\"\",VLOOKUP(B3511,database!$A$6:$BFQ$206,3,FALSE)))","v":""},null,null,null,null,null,null,""]
["",null,{"$f":"IF(B3513=\"\",\"\",IF(ISERROR(VLOOKUP(B3513,database!$A$6:$BFQ$206,4,FALSE)),\"\",VLOOKUP(B3513,database!$A$6:$BFQ$206,4,FALSE)))","v":""},null,null,null,"",null,null,null,{"$f":"IF(B3513=\"\",\"\",IF(ISERROR(VLOOKUP(B3513,database!$A$6:$BFQ$206,3,FALSE)),\"\",VLOOKUP(B3513,database!$A$6:$BFQ$206,3,FALSE)))","v":""},null,null,null,null,null,null,""]
["",null,{"$f":"IF(B3514=\"\",\"\",IF(ISERROR(VLOOKUP(B3514,database!$A$6:$BFQ$206,4,FALSE)),\"\",VLOOKUP(B3514,database!$A$6:$BFQ$206,4,FALSE)))","v":""},null,null,null,"",null,null,null,{"$f":"IF(B3514=\"\",\"\",IF(ISERROR(VLOOKUP(B3514,database!$A$6:$BFQ$206,3,FALSE)),\"\",VLOOKUP(B3514,database!$A$6:$BFQ$206,3,FALSE)))","v":""},null,null,null,null,null,null,""]
["",null,{"$f":"IF(B3517=\"\",\"\",IF(ISERROR(VLOOKUP(B3517,database!$A$6:$BFQ$206,4,FALSE)),\"\",VLOOKUP(B3517,database!$A$6:$BFQ$206,4,FALSE)))","v":""},null,null,null,"",null,null,null,{"$f":"IF(B3517=\"\",\"\",IF(ISERROR(VLOOKUP(B3517,database!$A$6:$BFQ$206,3,FALSE)),\"\",VLOOKUP(B3517,database!$A$6:$BFQ$206,3,FALSE)))","v":""},null,null,null,null,null,null,""]
["",null,{"$f":"IF(B3518=\"\",\"\",IF(ISERROR(VLOOKUP(B3518,database!$A$6:$BFQ$206,4,FALSE)),\"\",VLOOKUP(B3518,database!$A$6:$BFQ$206,4,FALSE)))","v":""},null,null,null,"",null,null,null,{"$f":"IF(B3518=\"\",\"\",IF(ISERROR(VLOOKUP(B3518,database!$A$6:$BFQ$206,3,FALSE)),\"\",VLOOKUP(B3518,database!$A$6:$BFQ$206,3,FALSE)))","v":""},null,null,null,null,null,null,""]
["",null,{"$f":"IF(B3520=\"\",\"\",IF(ISERROR(VLOOKUP(B3520,database!$A$6:$BFQ$206,4,FALSE)),\"\",VLOOKUP(B3520,database!$A$6:$BFQ$206,4,FALSE)))","v":""},null,null,null,"",null,null,null,{"$f":"IF(B3520=\"\",\"\",IF(ISERROR(VLOOKUP(B3520,database!$A$6:$BFQ$206,3,FALSE)),\"\",VLOOKUP(B3520,database!$A$6:$BFQ$206,3,FALSE)))","v":""},null,null,null,null,null,null,""]
[{"$f":"IF(B3521=\"\",\"\",ROW(A3518))","v":""},null,{"$f":"IF(B3521=\"\",\"\",IF(ISERROR(VLOOKUP(B3521,database!$A$6:$BFQ$206,4,FALSE)),\"\",VLOOKUP(B3521,database!$A$6:$BFQ$206,4,FALSE)))","v":""},null,null,null,{"$f":"IF(B3521=\"\",\"\",IF(C3521=\"\",0,1))","v":""},null,null,null,{"$f":"IF(B3521=\"\",\"\",IF(ISERROR(VLOOKUP(B3521,database!$A$6:$BFQ$206,3,FALSE)),\"\",VLOOKUP(B3521,database!$A$6:$BFQ$206,3,FALSE)))","v":""},null,null,null,null,null,null,{"$f":"LEFT(C3521,2)","v":""}]
["",null,{"$f":"IF(B3524=\"\",\"\",IF(ISERROR(VLOOKUP(B3524,database!$A$6:$BFQ$206,4,FALSE)),\"\",VLOOKUP(B3524,database!$A$6:$BFQ$206,4,FALSE)))","v":""},null,null,null,"",null,null,null,{"$f":"IF(B3524=\"\",\"\",IF(ISERROR(VLOOKUP(B3524,database!$A$6:$BFQ$206,3,FALSE)),\"\",VLOOKUP(B3524,database!$A$6:$BFQ$206,3,FALSE)))","v":""},null,null,null,null,null,null,""]
["",null,{"$f":"IF(B3525=\"\",\"\",IF(ISERROR(VLOOKUP(B3525,database!$A$6:$BFQ$206,4,FALSE)),\"\",VLOOKUP(B3525,database!$A$6:$BFQ$206,4,FALSE)))","v":""},null,null,null,"",null,null,null,{"$f":"IF(B3525=\"\",\"\",IF(ISERROR(VLOOKUP(B3525,database!$A$6:$BFQ$206,3,FALSE)),\"\",VLOOKUP(B3525,database!$A$6:$BFQ$206,3,FALSE)))","v":""},null,null,null,null,null,null,""]
["",null,{"$f":"IF(B3527=\"\",\"\",IF(ISERROR(VLOOKUP(B3527,database!$A$6:$BFQ$206,4,FALSE)),\"\",VLOOKUP(B3527,database!$A$6:$BFQ$206,4,FALSE)))","v":""},null,null,null,"",null,null,null,{"$f":"IF(B3527=\"\",\"\",IF(ISERROR(VLOOKUP(B3527,database!$A$6:$BFQ$206,3,FALSE)),\"\",VLOOKUP(B3527,database!$A$6:$BFQ$206,3,FALSE)))","v":""},null,null,null,null,null,null,""]
["",null,{"$f":"IF(B3528=\"\",\"\",IF(ISERROR(VLOOKUP(B3528,database!$A$6:$BFQ$206,4,FALSE)),\"\",VLOOKUP(B3528,database!$A$6:$BFQ$206,4,FALSE)))","v":""},null,null,null,"",null,null,null,{"$f":"IF(B3528=\"\",\"\",IF(ISERROR(VLOOKUP(B3528,database!$A$6:$BFQ$206,3,FALSE)),\"\",VLOOKUP(B3528,database!$A$6:$BFQ$206,3,FALSE)))","v":""},null,null,null,null,null,null,""]
["",null,{"$f":"IF(B3531=\"\",\"\",IF(ISERROR(VLOOKUP(B3531,database!$A$6:$BFQ$206,4,FALSE)),\"\",VLOOKUP(B3531,database!$A$6:$BFQ$206,4,FALSE)))","v":""},null,null,null,"",null,null,null,{"$f":"IF(B3531=\"\",\"\",IF(ISERROR(VLOOKUP(B3531,database!$A$6:$BFQ$206,3,FALSE)),\"\",VLOOKUP(B3531,database!$A$6:$BFQ$206,3,FALSE)))","v":""},null,null,null,null,null,null,""]
["",null,{"$f":"IF(B3532=\"\",\"\",IF(ISERROR(VLOOKUP(B3532,database!$A$6:$BFQ$206,4,FALSE)),\"\",VLOOKUP(B3532,database!$A$6:$BFQ$206,4,FALSE)))","v":""},null,null,null,"",null,null,null,{"$f":"IF(B3532=\"\",\"\",IF(ISERROR(VLOOKUP(B3532,database!$A$6:$BFQ$206,3,FALSE)),\"\",VLOOKUP(B3532,database!$A$6:$BFQ$206,3,FALSE)))","v":""},null,null,null,null,null,null,""]
["",null,{"$f":"IF(B3534=\"\",\"\",IF(ISERROR(VLOOKUP(B3534,database!$A$6:$BFQ$206,4,FALSE)),\"\",VLOOKUP(B3534,database!$A$6:$BFQ$206,4,FALSE)))","v":""},null,null,null,"",null,null,null,{"$f":"IF(B3534=\"\",\"\",IF(ISERROR(VLOOKUP(B3534,database!$A$6:$BFQ$206,3,FALSE)),\"\",VLOOKUP(B3534,database!$A$6:$BFQ$206,3,FALSE)))","v":""},null,null,null,null,null,null,""]
["",null,{"$f":"IF(B3535=\"\",\"\",IF(ISERROR(VLOOKUP(B3535,database!$A$6:$BFQ$206,4,FALSE)),\"\",VLOOKUP(B3535,database!$A$6:$BFQ$206,4,FALSE)))","v":""},null,null,null,"",null,null,null,{"$f":"IF(B3535=\"\",\"\",IF(ISERROR(VLOOKUP(B3535,database!$A$6:$BFQ$206,3,FALSE)),\"\",VLOOKUP(B3535,database!$A$6:$BFQ$206,3,FALSE)))","v":""},null,null,null,null,null,null,""]
["",null,{"$f":"IF(B3538=\"\",\"\",IF(ISERROR(VLOOKUP(B3538,database!$A$6:$BFQ$206,4,FALSE)),\"\",VLOOKUP(B3538,database!$A$6:$BFQ$206,4,FALSE)))","v":""},null,null,null,"",null,null,null,{"$f":"IF(B3538=\"\",\"\",IF(ISERROR(VLOOKUP(B3538,database!$A$6:$BFQ$206,3,FALSE)),\"\",VLOOKUP(B3538,database!$A$6:$BFQ$206,3,FALSE)))","v":""},null,null,null,null,null,null,""]
["",null,{"$f":"IF(B3539=\"\",\"\",IF(ISERROR(VLOOKUP(B3539,database!$A$6:$BFQ$206,4,FALSE)),\"\",VLOOKUP(B3539,database!$A$6:$BFQ$206,4,FALSE)))","v":""},null,null,null,"",null,null,null,{"$f":"IF(B3539=\"\",\"\",IF(ISERROR(VLOOKUP(B3539,database!$A$6:$BFQ$206,3,FALSE)),\"\",VLOOKUP(B3539,database!$A$6:$BFQ$206,3,FALSE)))","v":""},null,null,null,null,null,null,""]
["",null,{"$f":"IF(B3541=\"\",\"\",IF(ISERROR(VLOOKUP(B3541,database!$A$6:$BFQ$206,4,FALSE)),\"\",VLOOKUP(B3541,database!$A$6:$BFQ$206,4,FALSE)))","v":""},null,null,null,"",null,null,null,{"$f":"IF(B3541=\"\",\"\",IF(ISERROR(VLOOKUP(B3541,database!$A$6:$BFQ$206,3,FALSE)),\"\",VLOOKUP(B3541,database!$A$6:$BFQ$206,3,FALSE)))","v":""},null,null,null,null,null,null,""]
["",null,{"$f":"IF(B3542=\"\",\"\",IF(ISERROR(VLOOKUP(B3542,database!$A$6:$BFQ$206,4,FALSE)),\"\",VLOOKUP(B3542,database!$A$6:$BFQ$206,4,FALSE)))","v":""},null,null,null,"",null,null,null,{"$f":"IF(B3542=\"\",\"\",IF(ISERROR(VLOOKUP(B3542,database!$A$6:$BFQ$206,3,FALSE)),\"\",VLOOKUP(B3542,database!$A$6:$BFQ$206,3,FALSE)))","v":""},null,null,null,null,null,null,""]
["",null,{"$f":"IF(B3545=\"\",\"\",IF(ISERROR(VLOOKUP(B3545,database!$A$6:$BFQ$206,4,FALSE)),\"\",VLOOKUP(B3545,database!$A$6:$BFQ$206,4,FALSE)))","v":""},null,null,null,"",null,null,null,{"$f":"IF(B3545=\"\",\"\",IF(ISERROR(VLOOKUP(B3545,database!$A$6:$BFQ$206,3,FALSE)),\"\",VLOOKUP(B3545,database!$A$6:$BFQ$206,3,FALSE)))","v":""},null,null,null,null,null,null,""]
["",null,{"$f":"IF(B3546=\"\",\"\",IF(ISERROR(VLOOKUP(B3546,database!$A$6:$BFQ$206,4,FALSE)),\"\",VLOOKUP(B3546,database!$A$6:$BFQ$206,4,FALSE)))","v":""},null,null,null,"",null,null,null,{"$f":"IF(B3546=\"\",\"\",IF(ISERROR(VLOOKUP(B3546,database!$A$6:$BFQ$206,3,FALSE)),\"\",VLOOKUP(B3546,database!$A$6:$BFQ$206,3,FALSE)))","v":""},null,null,null,null,null,null,""]
["",null,{"$f":"IF(B3548=\"\",\"\",IF(ISERROR(VLOOKUP(B3548,database!$A$6:$BFQ$206,4,FALSE)),\"\",VLOOKUP(B3548,database!$A$6:$BFQ$206,4,FALSE)))","v":""},null,null,null,"",null,null,null,{"$f":"IF(B3548=\"\",\"\",IF(ISERROR(VLOOKUP(B3548,database!$A$6:$BFQ$206,3,FALSE)),\"\",VLOOKUP(B3548,database!$A$6:$BFQ$206,3,FALSE)))","v":""},null,null,null,null,null,null,""]
["",null,{"$f":"IF(B3549=\"\",\"\",IF(ISERROR(VLOOKUP(B3549,database!$A$6:$BFQ$206,4,FALSE)),\"\",VLOOKUP(B3549,database!$A$6:$BFQ$206,4,FALSE)))","v":""},null,null,null,"",null,null,null,{"$f":"IF(B3549=\"\",\"\",IF(ISERROR(VLOOKUP(B3549,database!$A$6:$BFQ$206,3,FALSE)),\"\",VLOOKUP(B3549,database!$A$6:$BFQ$206,3,FALSE)))","v":""},null,null,null,null,null,null,""]
["",null,{"$f":"IF(B3552=\"\",\"\",IF(ISERROR(VLOOKUP(B3552,database!$A$6:$BFQ$206,4,FALSE)),\"\",VLOOKUP(B3552,database!$A$6:$BFQ$206,4,FALSE)))","v":""},null,null,null,"",null,null,null,{"$f":"IF(B3552=\"\",\"\",IF(ISERROR(VLOOKUP(B3552,database!$A$6:$BFQ$206,3,FALSE)),\"\",VLOOKUP(B3552,database!$A$6:$BFQ$206,3,FALSE)))","v":""},null,null,null,null,null,null,""]
["",null,{"$f":"IF(B3553=\"\",\"\",IF(ISERROR(VLOOKUP(B3553,database!$A$6:$BFQ$206,4,FALSE)),\"\",VLOOKUP(B3553,database!$A$6:$BFQ$206,4,FALSE)))","v":""},null,null,null,"",null,null,null,{"$f":"IF(B3553=\"\",\"\",IF(ISERROR(VLOOKUP(B3553,database!$A$6:$BFQ$206,3,FALSE)),\"\",VLOOKUP(B3553,database!$A$6:$BFQ$206,3,FALSE)))","v":""},null,null,null,null,null,null,""]
["",null,{"$f":"IF(B3555=\"\",\"\",IF(ISERROR(VLOOKUP(B3555,database!$A$6:$BFQ$206,4,FALSE)),\"\",VLOOKUP(B3555,database!$A$6:$BFQ$206,4,FALSE)))","v":""},null,null,null,"",null,null,null,{"$f":"IF(B3555=\"\",\"\",IF(ISERROR(VLOOKUP(B3555,database!$A$6:$BFQ$206,3,FALSE)),\"\",VLOOKUP(B3555,database!$A$6:$BFQ$206,3,FALSE)))","v":""},null,null,null,null,null,null,""]
["",null,{"$f":"IF(B3556=\"\",\"\",IF(ISERROR(VLOOKUP(B3556,database!$A$6:$BFQ$206,4,FALSE)),\"\",VLOOKUP(B3556,database!$A$6:$BFQ$206,4,FALSE)))","v":""},null,null,null,"",null,null,null,{"$f":"IF(B3556=\"\",\"\",IF(ISERROR(VLOOKUP(B3556,database!$A$6:$BFQ$206,3,FALSE)),\"\",VLOOKUP(B3556,database!$A$6:$BFQ$206,3,FALSE)))","v":""},null,null,null,null,null,null,""]
["",null,{"$f":"IF(B3559=\"\",\"\",IF(ISERROR(VLOOKUP(B3559,database!$A$6:$BFQ$206,4,FALSE)),\"\",VLOOKUP(B3559,database!$A$6:$BFQ$206,4,FALSE)))","v":""},null,null,null,"",null,null,null,{"$f":"IF(B3559=\"\",\"\",IF(ISERROR(VLOOKUP(B3559,database!$A$6:$BFQ$206,3,FALSE)),\"\",VLOOKUP(B3559,database!$A$6:$BFQ$206,3,FALSE)))","v":""},null,null,null,null,null,null,""]
["",null,{"$f":"IF(B3560=\"\",\"\",IF(ISERROR(VLOOKUP(B3560,database!$A$6:$BFQ$206,4,FALSE)),\"\",VLOOKUP(B3560,database!$A$6:$BFQ$206,4,FALSE)))","v":""},null,null,null,"",null,null,null,{"$f":"IF(B3560=\"\",\"\",IF(ISERROR(VLOOKUP(B3560,database!$A$6:$BFQ$206,3,FALSE)),\"\",VLOOKUP(B3560,database!$A$6:$BFQ$206,3,FALSE)))","v":""},null,null,null,null,null,null,""]
["",null,{"$f":"IF(B3562=\"\",\"\",IF(ISERROR(VLOOKUP(B3562,database!$A$6:$BFQ$206,4,FALSE)),\"\",VLOOKUP(B3562,database!$A$6:$BFQ$206,4,FALSE)))","v":""},null,null,null,"",null,null,null,{"$f":"IF(B3562=\"\",\"\",IF(ISERROR(VLOOKUP(B3562,database!$A$6:$BFQ$206,3,FALSE)),\"\",VLOOKUP(B3562,database!$A$6:$BFQ$206,3,FALSE)))","v":""},null,null,null,null,null,null,""]
["",null,{"$f":"IF(B3563=\"\",\"\",IF(ISERROR(VLOOKUP(B3563,database!$A$6:$BFQ$206,4,FALSE)),\"\",VLOOKUP(B3563,database!$A$6:$BFQ$206,4,FALSE)))","v":""},null,null,null,"",null,null,null,{"$f":"IF(B3563=\"\",\"\",IF(ISERROR(VLOOKUP(B3563,database!$A$6:$BFQ$206,3,FALSE)),\"\",VLOOKUP(B3563,database!$A$6:$BFQ$206,3,FALSE)))","v":""},null,null,null,null,null,null,""]
["",null,{"$f":"IF(B3566=\"\",\"\",IF(ISERROR(VLOOKUP(B3566,database!$A$6:$BFQ$206,4,FALSE)),\"\",VLOOKUP(B3566,database!$A$6:$BFQ$206,4,FALSE)))","v":""},null,null,null,"",null,null,null,{"$f":"IF(B3566=\"\",\"\",IF(ISERROR(VLOOKUP(B3566,database!$A$6:$BFQ$206,3,FALSE)),\"\",VLOOKUP(B3566,database!$A$6:$BFQ$206,3,FALSE)))","v":""},null,null,null,null,null,null,""]
["",null,{"$f":"IF(B3567=\"\",\"\",IF(ISERROR(VLOOKUP(B3567,database!$A$6:$BFQ$206,4,FALSE)),\"\",VLOOKUP(B3567,database!$A$6:$BFQ$206,4,FALSE)))","v":""},null,null,null,"",null,null,null,{"$f":"IF(B3567=\"\",\"\",IF(ISERROR(VLOOKUP(B3567,database!$A$6:$BFQ$206,3,FALSE)),\"\",VLOOKUP(B3567,database!$A$6:$BFQ$206,3,FALSE)))","v":""},null,null,null,null,null,null,""]
["",null,{"$f":"IF(B3569=\"\",\"\",IF(ISERROR(VLOOKUP(B3569,database!$A$6:$BFQ$206,4,FALSE)),\"\",VLOOKUP(B3569,database!$A$6:$BFQ$206,4,FALSE)))","v":""},null,null,null,"",null,null,null,{"$f":"IF(B3569=\"\",\"\",IF(ISERROR(VLOOKUP(B3569,database!$A$6:$BFQ$206,3,FALSE)),\"\",VLOOKUP(B3569,database!$A$6:$BFQ$206,3,FALSE)))","v":""},null,null,null,null,null,null,""]
["",null,{"$f":"IF(B3570=\"\",\"\",IF(ISERROR(VLOOKUP(B3570,database!$A$6:$BFQ$206,4,FALSE)),\"\",VLOOKUP(B3570,database!$A$6:$BFQ$206,4,FALSE)))","v":""},null,null,null,"",null,null,null,{"$f":"IF(B3570=\"\",\"\",IF(ISERROR(VLOOKUP(B3570,database!$A$6:$BFQ$206,3,FALSE)),\"\",VLOOKUP(B3570,database!$A$6:$BFQ$206,3,FALSE)))","v":""},null,null,null,null,null,null,""]
["",null,{"$f":"IF(B3573=\"\",\"\",IF(ISERROR(VLOOKUP(B3573,database!$A$6:$BFQ$206,4,FALSE)),\"\",VLOOKUP(B3573,database!$A$6:$BFQ$206,4,FALSE)))","v":""},null,null,null,"",null,null,null,{"$f":"IF(B3573=\"\",\"\",IF(ISERROR(VLOOKUP(B3573,database!$A$6:$BFQ$206,3,FALSE)),\"\",VLOOKUP(B3573,database!$A$6:$BFQ$206,3,FALSE)))","v":""},null,null,null,null,null,null,""]
["",null,{"$f":"IF(B3574=\"\",\"\",IF(ISERROR(VLOOKUP(B3574,database!$A$6:$BFQ$206,4,FALSE)),\"\",VLOOKUP(B3574,database!$A$6:$BFQ$206,4,FALSE)))","v":""},null,null,null,"",null,null,null,{"$f":"IF(B3574=\"\",\"\",IF(ISERROR(VLOOKUP(B3574,database!$A$6:$BFQ$206,3,FALSE)),\"\",VLOOKUP(B3574,database!$A$6:$BFQ$206,3,FALSE)))","v":""},null,null,null,null,null,null,""]
["",null,{"$f":"IF(B3576=\"\",\"\",IF(ISERROR(VLOOKUP(B3576,database!$A$6:$BFQ$206,4,FALSE)),\"\",VLOOKUP(B3576,database!$A$6:$BFQ$206,4,FALSE)))","v":""},null,null,null,"",null,null,null,{"$f":"IF(B3576=\"\",\"\",IF(ISERROR(VLOOKUP(B3576,database!$A$6:$BFQ$206,3,FALSE)),\"\",VLOOKUP(B3576,database!$A$6:$BFQ$206,3,FALSE)))","v":""},null,null,null,null,null,null,""]
["",null,{"$f":"IF(B3577=\"\",\"\",IF(ISERROR(VLOOKUP(B3577,database!$A$6:$BFQ$206,4,FALSE)),\"\",VLOOKUP(B3577,database!$A$6:$BFQ$206,4,FALSE)))","v":""},null,null,null,"",null,null,null,{"$f":"IF(B3577=\"\",\"\",IF(ISERROR(VLOOKUP(B3577,database!$A$6:$BFQ$206,3,FALSE)),\"\",VLOOKUP(B3577,database!$A$6:$BFQ$206,3,FALSE)))","v":""},null,null,null,null,null,null,""]
["",null,{"$f":"IF(B3580=\"\",\"\",IF(ISERROR(VLOOKUP(B3580,database!$A$6:$BFQ$206,4,FALSE)),\"\",VLOOKUP(B3580,database!$A$6:$BFQ$206,4,FALSE)))","v":""},null,null,null,"",null,null,null,{"$f":"IF(B3580=\"\",\"\",IF(ISERROR(VLOOKUP(B3580,database!$A$6:$BFQ$206,3,FALSE)),\"\",VLOOKUP(B3580,database!$A$6:$BFQ$206,3,FALSE)))","v":""},null,null,null,null,null,null,""]
["",null,{"$f":"IF(B3581=\"\",\"\",IF(ISERROR(VLOOKUP(B3581,database!$A$6:$BFQ$206,4,FALSE)),\"\",VLOOKUP(B3581,database!$A$6:$BFQ$206,4,FALSE)))","v":""},null,null,null,"",null,null,null,{"$f":"IF(B3581=\"\",\"\",IF(ISERROR(VLOOKUP(B3581,database!$A$6:$BFQ$206,3,FALSE)),\"\",VLOOKUP(B3581,database!$A$6:$BFQ$206,3,FALSE)))","v":""},null,null,null,null,null,null,""]
["",null,{"$f":"IF(B3583=\"\",\"\",IF(ISERROR(VLOOKUP(B3583,database!$A$6:$BFQ$206,4,FALSE)),\"\",VLOOKUP(B3583,database!$A$6:$BFQ$206,4,FALSE)))","v":""},null,null,null,"",null,null,null,{"$f":"IF(B3583=\"\",\"\",IF(ISERROR(VLOOKUP(B3583,database!$A$6:$BFQ$206,3,FALSE)),\"\",VLOOKUP(B3583,database!$A$6:$BFQ$206,3,FALSE)))","v":""},null,null,null,null,null,null,""]
["",null,{"$f":"IF(B3584=\"\",\"\",IF(ISERROR(VLOOKUP(B3584,database!$A$6:$BFQ$206,4,FALSE)),\"\",VLOOKUP(B3584,database!$A$6:$BFQ$206,4,FALSE)))","v":""},null,null,null,"",null,null,null,{"$f":"IF(B3584=\"\",\"\",IF(ISERROR(VLOOKUP(B3584,database!$A$6:$BFQ$206,3,FALSE)),\"\",VLOOKUP(B3584,database!$A$6:$BFQ$206,3,FALSE)))","v":""},null,null,null,null,null,null,""]
["",null,{"$f":"IF(B3587=\"\",\"\",IF(ISERROR(VLOOKUP(B3587,database!$A$6:$BFQ$206,4,FALSE)),\"\",VLOOKUP(B3587,database!$A$6:$BFQ$206,4,FALSE)))","v":""},null,null,null,"",null,null,null,{"$f":"IF(B3587=\"\",\"\",IF(ISERROR(VLOOKUP(B3587,database!$A$6:$BFQ$206,3,FALSE)),\"\",VLOOKUP(B3587,database!$A$6:$BFQ$206,3,FALSE)))","v":""},null,null,null,null,null,null,""]
["",null,{"$f":"IF(B3588=\"\",\"\",IF(ISERROR(VLOOKUP(B3588,database!$A$6:$BFQ$206,4,FALSE)),\"\",VLOOKUP(B3588,database!$A$6:$BFQ$206,4,FALSE)))","v":""},null,null,null,"",null,null,null,{"$f":"IF(B3588=\"\",\"\",IF(ISERROR(VLOOKUP(B3588,database!$A$6:$BFQ$206,3,FALSE)),\"\",VLOOKUP(B3588,database!$A$6:$BFQ$206,3,FALSE)))","v":""},null,null,null,null,null,null,""]
["",null,{"$f":"IF(B3590=\"\",\"\",IF(ISERROR(VLOOKUP(B3590,database!$A$6:$BFQ$206,4,FALSE)),\"\",VLOOKUP(B3590,database!$A$6:$BFQ$206,4,FALSE)))","v":""},null,null,null,"",null,null,null,{"$f":"IF(B3590=\"\",\"\",IF(ISERROR(VLOOKUP(B3590,database!$A$6:$BFQ$206,3,FALSE)),\"\",VLOOKUP(B3590,database!$A$6:$BFQ$206,3,FALSE)))","v":""},null,null,null,null,null,null,""]
["",null,{"$f":"IF(B3591=\"\",\"\",IF(ISERROR(VLOOKUP(B3591,database!$A$6:$BFQ$206,4,FALSE)),\"\",VLOOKUP(B3591,database!$A$6:$BFQ$206,4,FALSE)))","v":""},null,null,null,"",null,null,null,{"$f":"IF(B3591=\"\",\"\",IF(ISERROR(VLOOKUP(B3591,database!$A$6:$BFQ$206,3,FALSE)),\"\",VLOOKUP(B3591,database!$A$6:$BFQ$206,3,FALSE)))","v":""},null,null,null,null,null,null,""]
["",null,{"$f":"IF(B3594=\"\",\"\",IF(ISERROR(VLOOKUP(B3594,database!$A$6:$BFQ$206,4,FALSE)),\"\",VLOOKUP(B3594,database!$A$6:$BFQ$206,4,FALSE)))","v":""},null,null,null,"",null,null,null,{"$f":"IF(B3594=\"\",\"\",IF(ISERROR(VLOOKUP(B3594,database!$A$6:$BFQ$206,3,FALSE)),\"\",VLOOKUP(B3594,database!$A$6:$BFQ$206,3,FALSE)))","v":""},null,null,null,null,null,null,""]
["",null,{"$f":"IF(B3595=\"\",\"\",IF(ISERROR(VLOOKUP(B3595,database!$A$6:$BFQ$206,4,FALSE)),\"\",VLOOKUP(B3595,database!$A$6:$BFQ$206,4,FALSE)))","v":""},null,null,null,"",null,null,null,{"$f":"IF(B3595=\"\",\"\",IF(ISERROR(VLOOKUP(B3595,database!$A$6:$BFQ$206,3,FALSE)),\"\",VLOOKUP(B3595,database!$A$6:$BFQ$206,3,FALSE)))","v":""},null,null,null,null,null,null,""]
["",null,{"$f":"IF(B3598=\"\",\"\",IF(ISERROR(VLOOKUP(B3598,database!$A$6:$BFQ$206,4,FALSE)),\"\",VLOOKUP(B3598,database!$A$6:$BFQ$206,4,FALSE)))","v":""},null,null,null,"",null,null,null,{"$f":"IF(B3598=\"\",\"\",IF(ISERROR(VLOOKUP(B3598,database!$A$6:$BFQ$206,3,FALSE)),\"\",VLOOKUP(B3598,database!$A$6:$BFQ$206,3,FALSE)))","v":""},null,null,null,null,null,null,""]
["",null,{"$f":"IF(B3599=\"\",\"\",IF(ISERROR(VLOOKUP(B3599,database!$A$6:$BFQ$206,4,FALSE)),\"\",VLOOKUP(B3599,database!$A$6:$BFQ$206,4,FALSE)))","v":""},null,null,null,"",null,null,null,{"$f":"IF(B3599=\"\",\"\",IF(ISERROR(VLOOKUP(B3599,database!$A$6:$BFQ$206,3,FALSE)),\"\",VLOOKUP(B3599,database!$A$6:$BFQ$206,3,FALSE)))","v":""},null,null,null,null,null,null,""]
["",null,{"$f":"IF(B3601=\"\",\"\",IF(ISERROR(VLOOKUP(B3601,database!$A$6:$BFQ$206,4,FALSE)),\"\",VLOOKUP(B3601,database!$A$6:$BFQ$206,4,FALSE)))","v":""},null,null,null,"",null,null,null,{"$f":"IF(B3601=\"\",\"\",IF(ISERROR(VLOOKUP(B3601,database!$A$6:$BFQ$206,3,FALSE)),\"\",VLOOKUP(B3601,database!$A$6:$BFQ$206,3,FALSE)))","v":""},null,null,null,null,null,null,""]
["",null,{"$f":"IF(B3602=\"\",\"\",IF(ISERROR(VLOOKUP(B3602,database!$A$6:$BFQ$206,4,FALSE)),\"\",VLOOKUP(B3602,database!$A$6:$BFQ$206,4,FALSE)))","v":""},null,null,null,"",null,null,null,{"$f":"IF(B3602=\"\",\"\",IF(ISERROR(VLOOKUP(B3602,database!$A$6:$BFQ$206,3,FALSE)),\"\",VLOOKUP(B3602,database!$A$6:$BFQ$206,3,FALSE)))","v":""},null,null,null,null,null,null,""]
["",null,{"$f":"IF(B3605=\"\",\"\",IF(ISERROR(VLOOKUP(B3605,database!$A$6:$BFQ$206,4,FALSE)),\"\",VLOOKUP(B3605,database!$A$6:$BFQ$206,4,FALSE)))","v":""},null,null,null,"",null,null,null,{"$f":"IF(B3605=\"\",\"\",IF(ISERROR(VLOOKUP(B3605,database!$A$6:$BFQ$206,3,FALSE)),\"\",VLOOKUP(B3605,database!$A$6:$BFQ$206,3,FALSE)))","v":""},null,null,null,null,null,null,""]
["",null,{"$f":"IF(B3606=\"\",\"\",IF(ISERROR(VLOOKUP(B3606,database!$A$6:$BFQ$206,4,FALSE)),\"\",VLOOKUP(B3606,database!$A$6:$BFQ$206,4,FALSE)))","v":""},null,null,null,"",null,null,null,{"$f":"IF(B3606=\"\",\"\",IF(ISERROR(VLOOKUP(B3606,database!$A$6:$BFQ$206,3,FALSE)),\"\",VLOOKUP(B3606,database!$A$6:$BFQ$206,3,FALSE)))","v":""},null,null,null,null,null,null,""]
["",null,{"$f":"IF(B3608=\"\",\"\",IF(ISERROR(VLOOKUP(B3608,database!$A$6:$BFQ$206,4,FALSE)),\"\",VLOOKUP(B3608,database!$A$6:$BFQ$206,4,FALSE)))","v":""},null,null,null,"",null,null,null,{"$f":"IF(B3608=\"\",\"\",IF(ISERROR(VLOOKUP(B3608,database!$A$6:$BFQ$206,3,FALSE)),\"\",VLOOKUP(B3608,database!$A$6:$BFQ$206,3,FALSE)))","v":""},null,null,null,null,null,null,""]
["",null,{"$f":"IF(B3609=\"\",\"\",IF(ISERROR(VLOOKUP(B3609,database!$A$6:$BFQ$206,4,FALSE)),\"\",VLOOKUP(B3609,database!$A$6:$BFQ$206,4,FALSE)))","v":""},null,null,null,"",null,null,null,{"$f":"IF(B3609=\"\",\"\",IF(ISERROR(VLOOKUP(B3609,database!$A$6:$BFQ$206,3,FALSE)),\"\",VLOOKUP(B3609,database!$A$6:$BFQ$206,3,FALSE)))","v":""},null,null,null,null,null,null,""]
["",null,{"$f":"IF(B3612=\"\",\"\",IF(ISERROR(VLOOKUP(B3612,database!$A$6:$BFQ$206,4,FALSE)),\"\",VLOOKUP(B3612,database!$A$6:$BFQ$206,4,FALSE)))","v":""},null,null,null,"",null,null,null,{"$f":"IF(B3612=\"\",\"\",IF(ISERROR(VLOOKUP(B3612,database!$A$6:$BFQ$206,3,FALSE)),\"\",VLOOKUP(B3612,database!$A$6:$BFQ$206,3,FALSE)))","v":""},null,null,null,null,null,null,""]
["",null,{"$f":"IF(B3613=\"\",\"\",IF(ISERROR(VLOOKUP(B3613,database!$A$6:$BFQ$206,4,FALSE)),\"\",VLOOKUP(B3613,database!$A$6:$BFQ$206,4,FALSE)))","v":""},null,null,null,"",null,null,null,{"$f":"IF(B3613=\"\",\"\",IF(ISERROR(VLOOKUP(B3613,database!$A$6:$BFQ$206,3,FALSE)),\"\",VLOOKUP(B3613,database!$A$6:$BFQ$206,3,FALSE)))","v":""},null,null,null,null,null,null,""]
["",null,{"$f":"IF(B3615=\"\",\"\",IF(ISERROR(VLOOKUP(B3615,database!$A$6:$BFQ$206,4,FALSE)),\"\",VLOOKUP(B3615,database!$A$6:$BFQ$206,4,FALSE)))","v":""},null,null,null,"",null,null,null,{"$f":"IF(B3615=\"\",\"\",IF(ISERROR(VLOOKUP(B3615,database!$A$6:$BFQ$206,3,FALSE)),\"\",VLOOKUP(B3615,database!$A$6:$BFQ$206,3,FALSE)))","v":""},null,null,null,null,null,null,""]
["",null,{"$f":"IF(B3616=\"\",\"\",IF(ISERROR(VLOOKUP(B3616,database!$A$6:$BFQ$206,4,FALSE)),\"\",VLOOKUP(B3616,database!$A$6:$BFQ$206,4,FALSE)))","v":""},null,null,null,"",null,null,null,{"$f":"IF(B3616=\"\",\"\",IF(ISERROR(VLOOKUP(B3616,database!$A$6:$BFQ$206,3,FALSE)),\"\",VLOOKUP(B3616,database!$A$6:$BFQ$206,3,FALSE)))","v":""},null,null,null,null,null,null,""]
["",null,{"$f":"IF(B3619=\"\",\"\",IF(ISERROR(VLOOKUP(B3619,database!$A$6:$BFQ$206,4,FALSE)),\"\",VLOOKUP(B3619,database!$A$6:$BFQ$206,4,FALSE)))","v":""},null,null,null,"",null,null,null,{"$f":"IF(B3619=\"\",\"\",IF(ISERROR(VLOOKUP(B3619,database!$A$6:$BFQ$206,3,FALSE)),\"\",VLOOKUP(B3619,database!$A$6:$BFQ$206,3,FALSE)))","v":""},null,null,null,null,null,null,""]
["",null,{"$f":"IF(B3620=\"\",\"\",IF(ISERROR(VLOOKUP(B3620,database!$A$6:$BFQ$206,4,FALSE)),\"\",VLOOKUP(B3620,database!$A$6:$BFQ$206,4,FALSE)))","v":""},null,null,null,"",null,null,null,{"$f":"IF(B3620=\"\",\"\",IF(ISERROR(VLOOKUP(B3620,database!$A$6:$BFQ$206,3,FALSE)),\"\",VLOOKUP(B3620,database!$A$6:$BFQ$206,3,FALSE)))","v":""},null,null,null,null,null,null,""]
["",null,{"$f":"IF(B3622=\"\",\"\",IF(ISERROR(VLOOKUP(B3622,database!$A$6:$BFQ$206,4,FALSE)),\"\",VLOOKUP(B3622,database!$A$6:$BFQ$206,4,FALSE)))","v":""},null,null,null,"",null,null,null,{"$f":"IF(B3622=\"\",\"\",IF(ISERROR(VLOOKUP(B3622,database!$A$6:$BFQ$206,3,FALSE)),\"\",VLOOKUP(B3622,database!$A$6:$BFQ$206,3,FALSE)))","v":""},null,null,null,null,null,null,""]
["",null,{"$f":"IF(B3623=\"\",\"\",IF(ISERROR(VLOOKUP(B3623,database!$A$6:$BFQ$206,4,FALSE)),\"\",VLOOKUP(B3623,database!$A$6:$BFQ$206,4,FALSE)))","v":""},null,null,null,"",null,null,null,{"$f":"IF(B3623=\"\",\"\",IF(ISERROR(VLOOKUP(B3623,database!$A$6:$BFQ$206,3,FALSE)),\"\",VLOOKUP(B3623,database!$A$6:$BFQ$206,3,FALSE)))","v":""},null,null,null,null,null,null,""]
["",null,{"$f":"IF(B3626=\"\",\"\",IF(ISERROR(VLOOKUP(B3626,database!$A$6:$BFQ$206,4,FALSE)),\"\",VLOOKUP(B3626,database!$A$6:$BFQ$206,4,FALSE)))","v":""},null,null,null,"",null,null,null,{"$f":"IF(B3626=\"\",\"\",IF(ISERROR(VLOOKUP(B3626,database!$A$6:$BFQ$206,3,FALSE)),\"\",VLOOKUP(B3626,database!$A$6:$BFQ$206,3,FALSE)))","v":""},null,null,null,null,null,null,""]
["",null,{"$f":"IF(B3627=\"\",\"\",IF(ISERROR(VLOOKUP(B3627,database!$A$6:$BFQ$206,4,FALSE)),\"\",VLOOKUP(B3627,database!$A$6:$BFQ$206,4,FALSE)))","v":""},null,null,null,"",null,null,null,{"$f":"IF(B3627=\"\",\"\",IF(ISERROR(VLOOKUP(B3627,database!$A$6:$BFQ$206,3,FALSE)),\"\",VLOOKUP(B3627,database!$A$6:$BFQ$206,3,FALSE)))","v":""},null,null,null,null,null,null,""]
["",null,{"$f":"IF(B3629=\"\",\"\",IF(ISERROR(VLOOKUP(B3629,database!$A$6:$BFQ$206,4,FALSE)),\"\",VLOOKUP(B3629,database!$A$6:$BFQ$206,4,FALSE)))","v":""},null,null,null,"",null,null,null,{"$f":"IF(B3629=\"\",\"\",IF(ISERROR(VLOOKUP(B3629,database!$A$6:$BFQ$206,3,FALSE)),\"\",VLOOKUP(B3629,database!$A$6:$BFQ$206,3,FALSE)))","v":""},null,null,null,null,null,null,""]
["",null,{"$f":"IF(B3630=\"\",\"\",IF(ISERROR(VLOOKUP(B3630,database!$A$6:$BFQ$206,4,FALSE)),\"\",VLOOKUP(B3630,database!$A$6:$BFQ$206,4,FALSE)))","v":""},null,null,null,"",null,null,null,{"$f":"IF(B3630=\"\",\"\",IF(ISERROR(VLOOKUP(B3630,database!$A$6:$BFQ$206,3,FALSE)),\"\",VLOOKUP(B3630,database!$A$6:$BFQ$206,3,FALSE)))","v":""},null,null,null,null,null,null,""]
["",null,{"$f":"IF(B3633=\"\",\"\",IF(ISERROR(VLOOKUP(B3633,database!$A$6:$BFQ$206,4,FALSE)),\"\",VLOOKUP(B3633,database!$A$6:$BFQ$206,4,FALSE)))","v":""},null,null,null,"",null,null,null,{"$f":"IF(B3633=\"\",\"\",IF(ISERROR(VLOOKUP(B3633,database!$A$6:$BFQ$206,3,FALSE)),\"\",VLOOKUP(B3633,database!$A$6:$BFQ$206,3,FALSE)))","v":""},null,null,null,null,null,null,""]
["",null,{"$f":"IF(B3634=\"\",\"\",IF(ISERROR(VLOOKUP(B3634,database!$A$6:$BFQ$206,4,FALSE)),\"\",VLOOKUP(B3634,database!$A$6:$BFQ$206,4,FALSE)))","v":""},null,null,null,"",null,null,null,{"$f":"IF(B3634=\"\",\"\",IF(ISERROR(VLOOKUP(B3634,database!$A$6:$BFQ$206,3,FALSE)),\"\",VLOOKUP(B3634,database!$A$6:$BFQ$206,3,FALSE)))","v":""},null,null,null,null,null,null,""]
["",null,{"$f":"IF(B3636=\"\",\"\",IF(ISERROR(VLOOKUP(B3636,database!$A$6:$BFQ$206,4,FALSE)),\"\",VLOOKUP(B3636,database!$A$6:$BFQ$206,4,FALSE)))","v":""},null,null,null,"",null,null,null,{"$f":"IF(B3636=\"\",\"\",IF(ISERROR(VLOOKUP(B3636,database!$A$6:$BFQ$206,3,FALSE)),\"\",VLOOKUP(B3636,database!$A$6:$BFQ$206,3,FALSE)))","v":""},null,null,null,null,null,null,""]
["",null,{"$f":"IF(B3637=\"\",\"\",IF(ISERROR(VLOOKUP(B3637,database!$A$6:$BFQ$206,4,FALSE)),\"\",VLOOKUP(B3637,database!$A$6:$BFQ$206,4,FALSE)))","v":""},null,null,null,"",null,null,null,{"$f":"IF(B3637=\"\",\"\",IF(ISERROR(VLOOKUP(B3637,database!$A$6:$BFQ$206,3,FALSE)),\"\",VLOOKUP(B3637,database!$A$6:$BFQ$206,3,FALSE)))","v":""},null,null,null,null,null,null,""]
["",null,{"$f":"IF(B3640=\"\",\"\",IF(ISERROR(VLOOKUP(B3640,database!$A$6:$BFQ$206,4,FALSE)),\"\",VLOOKUP(B3640,database!$A$6:$BFQ$206,4,FALSE)))","v":""},null,null,null,"",null,null,null,{"$f":"IF(B3640=\"\",\"\",IF(ISERROR(VLOOKUP(B3640,database!$A$6:$BFQ$206,3,FALSE)),\"\",VLOOKUP(B3640,database!$A$6:$BFQ$206,3,FALSE)))","v":""},null,null,null,null,null,null,""]
["",null,{"$f":"IF(B3641=\"\",\"\",IF(ISERROR(VLOOKUP(B3641,database!$A$6:$BFQ$206,4,FALSE)),\"\",VLOOKUP(B3641,database!$A$6:$BFQ$206,4,FALSE)))","v":""},null,null,null,"",null,null,null,{"$f":"IF(B3641=\"\",\"\",IF(ISERROR(VLOOKUP(B3641,database!$A$6:$BFQ$206,3,FALSE)),\"\",VLOOKUP(B3641,database!$A$6:$BFQ$206,3,FALSE)))","v":""},null,null,null,null,null,null,""]
["",null,{"$f":"IF(B3643=\"\",\"\",IF(ISERROR(VLOOKUP(B3643,database!$A$6:$BFQ$206,4,FALSE)),\"\",VLOOKUP(B3643,database!$A$6:$BFQ$206,4,FALSE)))","v":""},null,null,null,"",null,null,null,{"$f":"IF(B3643=\"\",\"\",IF(ISERROR(VLOOKUP(B3643,database!$A$6:$BFQ$206,3,FALSE)),\"\",VLOOKUP(B3643,database!$A$6:$BFQ$206,3,FALSE)))","v":""},null,null,null,null,null,null,""]
["",null,{"$f":"IF(B3644=\"\",\"\",IF(ISERROR(VLOOKUP(B3644,database!$A$6:$BFQ$206,4,FALSE)),\"\",VLOOKUP(B3644,database!$A$6:$BFQ$206,4,FALSE)))","v":""},null,null,null,"",null,null,null,{"$f":"IF(B3644=\"\",\"\",IF(ISERROR(VLOOKUP(B3644,database!$A$6:$BFQ$206,3,FALSE)),\"\",VLOOKUP(B3644,database!$A$6:$BFQ$206,3,FALSE)))","v":""},null,null,null,null,null,null,""]
["",null,{"$f":"IF(B3647=\"\",\"\",IF(ISERROR(VLOOKUP(B3647,database!$A$6:$BFQ$206,4,FALSE)),\"\",VLOOKUP(B3647,database!$A$6:$BFQ$206,4,FALSE)))","v":""},null,null,null,"",null,null,null,{"$f":"IF(B3647=\"\",\"\",IF(ISERROR(VLOOKUP(B3647,database!$A$6:$BFQ$206,3,FALSE)),\"\",VLOOKUP(B3647,database!$A$6:$BFQ$206,3,FALSE)))","v":""},null,null,null,null,null,null,""]
["",null,{"$f":"IF(B3648=\"\",\"\",IF(ISERROR(VLOOKUP(B3648,database!$A$6:$BFQ$206,4,FALSE)),\"\",VLOOKUP(B3648,database!$A$6:$BFQ$206,4,FALSE)))","v":""},null,null,null,"",null,null,null,{"$f":"IF(B3648=\"\",\"\",IF(ISERROR(VLOOKUP(B3648,database!$A$6:$BFQ$206,3,FALSE)),\"\",VLOOKUP(B3648,database!$A$6:$BFQ$206,3,FALSE)))","v":""},null,null,null,null,null,null,""]
["",null,{"$f":"IF(B3650=\"\",\"\",IF(ISERROR(VLOOKUP(B3650,database!$A$6:$BFQ$206,4,FALSE)),\"\",VLOOKUP(B3650,database!$A$6:$BFQ$206,4,FALSE)))","v":""},null,null,null,"",null,null,null,{"$f":"IF(B3650=\"\",\"\",IF(ISERROR(VLOOKUP(B3650,database!$A$6:$BFQ$206,3,FALSE)),\"\",VLOOKUP(B3650,database!$A$6:$BFQ$206,3,FALSE)))","v":""},null,null,null,null,null,null,""]
["",null,{"$f":"IF(B3651=\"\",\"\",IF(ISERROR(VLOOKUP(B3651,database!$A$6:$BFQ$206,4,FALSE)),\"\",VLOOKUP(B3651,database!$A$6:$BFQ$206,4,FALSE)))","v":""},null,null,null,"",null,null,null,{"$f":"IF(B3651=\"\",\"\",IF(ISERROR(VLOOKUP(B3651,database!$A$6:$BFQ$206,3,FALSE)),\"\",VLOOKUP(B3651,database!$A$6:$BFQ$206,3,FALSE)))","v":""},null,null,null,null,null,null,""]
["",null,{"$f":"IF(B3654=\"\",\"\",IF(ISERROR(VLOOKUP(B3654,database!$A$6:$BFQ$206,4,FALSE)),\"\",VLOOKUP(B3654,database!$A$6:$BFQ$206,4,FALSE)))","v":""},null,null,null,"",null,null,null,{"$f":"IF(B3654=\"\",\"\",IF(ISERROR(VLOOKUP(B3654,database!$A$6:$BFQ$206,3,FALSE)),\"\",VLOOKUP(B3654,database!$A$6:$BFQ$206,3,FALSE)))","v":""},null,null,null,null,null,null,""]
["",null,{"$f":"IF(B3655=\"\",\"\",IF(ISERROR(VLOOKUP(B3655,database!$A$6:$BFQ$206,4,FALSE)),\"\",VLOOKUP(B3655,database!$A$6:$BFQ$206,4,FALSE)))","v":""},null,null,null,"",null,null,null,{"$f":"IF(B3655=\"\",\"\",IF(ISERROR(VLOOKUP(B3655,database!$A$6:$BFQ$206,3,FALSE)),\"\",VLOOKUP(B3655,database!$A$6:$BFQ$206,3,FALSE)))","v":""},null,null,null,null,null,null,""]
["",null,{"$f":"IF(B3657=\"\",\"\",IF(ISERROR(VLOOKUP(B3657,database!$A$6:$BFQ$206,4,FALSE)),\"\",VLOOKUP(B3657,database!$A$6:$BFQ$206,4,FALSE)))","v":""},null,null,null,"",null,null,null,{"$f":"IF(B3657=\"\",\"\",IF(ISERROR(VLOOKUP(B3657,database!$A$6:$BFQ$206,3,FALSE)),\"\",VLOOKUP(B3657,database!$A$6:$BFQ$206,3,FALSE)))","v":""},null,null,null,null,null,null,""]
["",null,{"$f":"IF(B3658=\"\",\"\",IF(ISERROR(VLOOKUP(B3658,database!$A$6:$BFQ$206,4,FALSE)),\"\",VLOOKUP(B3658,database!$A$6:$BFQ$206,4,FALSE)))","v":""},null,null,null,"",null,null,null,{"$f":"IF(B3658=\"\",\"\",IF(ISERROR(VLOOKUP(B3658,database!$A$6:$BFQ$206,3,FALSE)),\"\",VLOOKUP(B3658,database!$A$6:$BFQ$206,3,FALSE)))","v":""},null,null,null,null,null,null,""]
["",null,{"$f":"IF(B3661=\"\",\"\",IF(ISERROR(VLOOKUP(B3661,database!$A$6:$BFQ$206,4,FALSE)),\"\",VLOOKUP(B3661,database!$A$6:$BFQ$206,4,FALSE)))","v":""},null,null,null,"",null,null,null,{"$f":"IF(B3661=\"\",\"\",IF(ISERROR(VLOOKUP(B3661,database!$A$6:$BFQ$206,3,FALSE)),\"\",VLOOKUP(B3661,database!$A$6:$BFQ$206,3,FALSE)))","v":""},null,null,null,null,null,null,""]
["",null,{"$f":"IF(B3662=\"\",\"\",IF(ISERROR(VLOOKUP(B3662,database!$A$6:$BFQ$206,4,FALSE)),\"\",VLOOKUP(B3662,database!$A$6:$BFQ$206,4,FALSE)))","v":""},null,null,null,"",null,null,null,{"$f":"IF(B3662=\"\",\"\",IF(ISERROR(VLOOKUP(B3662,database!$A$6:$BFQ$206,3,FALSE)),\"\",VLOOKUP(B3662,database!$A$6:$BFQ$206,3,FALSE)))","v":""},null,null,null,null,null,null,""]
["",null,{"$f":"IF(B3664=\"\",\"\",IF(ISERROR(VLOOKUP(B3664,database!$A$6:$BFQ$206,4,FALSE)),\"\",VLOOKUP(B3664,database!$A$6:$BFQ$206,4,FALSE)))","v":""},null,null,null,"",null,null,null,{"$f":"IF(B3664=\"\",\"\",IF(ISERROR(VLOOKUP(B3664,database!$A$6:$BFQ$206,3,FALSE)),\"\",VLOOKUP(B3664,database!$A$6:$BFQ$206,3,FALSE)))","v":""},null,null,null,null,null,null,""]
["",null,{"$f":"IF(B3665=\"\",\"\",IF(ISERROR(VLOOKUP(B3665,database!$A$6:$BFQ$206,4,FALSE)),\"\",VLOOKUP(B3665,database!$A$6:$BFQ$206,4,FALSE)))","v":""},null,null,null,"",null,null,null,{"$f":"IF(B3665=\"\",\"\",IF(ISERROR(VLOOKUP(B3665,database!$A$6:$BFQ$206,3,FALSE)),\"\",VLOOKUP(B3665,database!$A$6:$BFQ$206,3,FALSE)))","v":""},null,null,null,null,null,null,""]
["",null,{"$f":"IF(B3668=\"\",\"\",IF(ISERROR(VLOOKUP(B3668,database!$A$6:$BFQ$206,4,FALSE)),\"\",VLOOKUP(B3668,database!$A$6:$BFQ$206,4,FALSE)))","v":""},null,null,null,"",null,null,null,{"$f":"IF(B3668=\"\",\"\",IF(ISERROR(VLOOKUP(B3668,database!$A$6:$BFQ$206,3,FALSE)),\"\",VLOOKUP(B3668,database!$A$6:$BFQ$206,3,FALSE)))","v":""},null,null,null,null,null,null,""]
["",null,{"$f":"IF(B3669=\"\",\"\",IF(ISERROR(VLOOKUP(B3669,database!$A$6:$BFQ$206,4,FALSE)),\"\",VLOOKUP(B3669,database!$A$6:$BFQ$206,4,FALSE)))","v":""},null,null,null,"",null,null,null,{"$f":"IF(B3669=\"\",\"\",IF(ISERROR(VLOOKUP(B3669,database!$A$6:$BFQ$206,3,FALSE)),\"\",VLOOKUP(B3669,database!$A$6:$BFQ$206,3,FALSE)))","v":""},null,null,null,null,null,null,""]
["",null,{"$f":"IF(B3671=\"\",\"\",IF(ISERROR(VLOOKUP(B3671,database!$A$6:$BFQ$206,4,FALSE)),\"\",VLOOKUP(B3671,database!$A$6:$BFQ$206,4,FALSE)))","v":""},null,null,null,"",null,null,null,{"$f":"IF(B3671=\"\",\"\",IF(ISERROR(VLOOKUP(B3671,database!$A$6:$BFQ$206,3,FALSE)),\"\",VLOOKUP(B3671,database!$A$6:$BFQ$206,3,FALSE)))","v":""},null,null,null,null,null,null,""]
["",null,{"$f":"IF(B3672=\"\",\"\",IF(ISERROR(VLOOKUP(B3672,database!$A$6:$BFQ$206,4,FALSE)),\"\",VLOOKUP(B3672,database!$A$6:$BFQ$206,4,FALSE)))","v":""},null,null,null,"",null,null,null,{"$f":"IF(B3672=\"\",\"\",IF(ISERROR(VLOOKUP(B3672,database!$A$6:$BFQ$206,3,FALSE)),\"\",VLOOKUP(B3672,database!$A$6:$BFQ$206,3,FALSE)))","v":""},null,null,null,null,null,null,""]
["",null,{"$f":"IF(B3675=\"\",\"\",IF(ISERROR(VLOOKUP(B3675,database!$A$6:$BFQ$206,4,FALSE)),\"\",VLOOKUP(B3675,database!$A$6:$BFQ$206,4,FALSE)))","v":""},null,null,null,"",null,null,null,{"$f":"IF(B3675=\"\",\"\",IF(ISERROR(VLOOKUP(B3675,database!$A$6:$BFQ$206,3,FALSE)),\"\",VLOOKUP(B3675,database!$A$6:$BFQ$206,3,FALSE)))","v":""},null,null,null,null,null,null,""]
["",null,{"$f":"IF(B3676=\"\",\"\",IF(ISERROR(VLOOKUP(B3676,database!$A$6:$BFQ$206,4,FALSE)),\"\",VLOOKUP(B3676,database!$A$6:$BFQ$206,4,FALSE)))","v":""},null,null,null,"",null,null,null,{"$f":"IF(B3676=\"\",\"\",IF(ISERROR(VLOOKUP(B3676,database!$A$6:$BFQ$206,3,FALSE)),\"\",VLOOKUP(B3676,database!$A$6:$BFQ$206,3,FALSE)))","v":""},null,null,null,null,null,null,""]
["",null,{"$f":"IF(B3678=\"\",\"\",IF(ISERROR(VLOOKUP(B3678,database!$A$6:$BFQ$206,4,FALSE)),\"\",VLOOKUP(B3678,database!$A$6:$BFQ$206,4,FALSE)))","v":""},null,null,null,"",null,null,null,{"$f":"IF(B3678=\"\",\"\",IF(ISERROR(VLOOKUP(B3678,database!$A$6:$BFQ$206,3,FALSE)),\"\",VLOOKUP(B3678,database!$A$6:$BFQ$206,3,FALSE)))","v":""},null,null,null,null,null,null,""]
["",null,{"$f":"IF(B3679=\"\",\"\",IF(ISERROR(VLOOKUP(B3679,database!$A$6:$BFQ$206,4,FALSE)),\"\",VLOOKUP(B3679,database!$A$6:$BFQ$206,4,FALSE)))","v":""},null,null,null,"",null,null,null,{"$f":"IF(B3679=\"\",\"\",IF(ISERROR(VLOOKUP(B3679,database!$A$6:$BFQ$206,3,FALSE)),\"\",VLOOKUP(B3679,database!$A$6:$BFQ$206,3,FALSE)))","v":""},null,null,null,null,null,null,""]
["",null,{"$f":"IF(B3682=\"\",\"\",IF(ISERROR(VLOOKUP(B3682,database!$A$6:$BFQ$206,4,FALSE)),\"\",VLOOKUP(B3682,database!$A$6:$BFQ$206,4,FALSE)))","v":""},null,null,null,"",null,null,null,{"$f":"IF(B3682=\"\",\"\",IF(ISERROR(VLOOKUP(B3682,database!$A$6:$BFQ$206,3,FALSE)),\"\",VLOOKUP(B3682,database!$A$6:$BFQ$206,3,FALSE)))","v":""},null,null,null,null,null,null,""]
["",null,{"$f":"IF(B3683=\"\",\"\",IF(ISERROR(VLOOKUP(B3683,database!$A$6:$BFQ$206,4,FALSE)),\"\",VLOOKUP(B3683,database!$A$6:$BFQ$206,4,FALSE)))","v":""},null,null,null,"",null,null,null,{"$f":"IF(B3683=\"\",\"\",IF(ISERROR(VLOOKUP(B3683,database!$A$6:$BFQ$206,3,FALSE)),\"\",VLOOKUP(B3683,database!$A$6:$BFQ$206,3,FALSE)))","v":""},null,null,null,null,null,null,""]
["",null,{"$f":"IF(B3685=\"\",\"\",IF(ISERROR(VLOOKUP(B3685,database!$A$6:$BFQ$206,4,FALSE)),\"\",VLOOKUP(B3685,database!$A$6:$BFQ$206,4,FALSE)))","v":""},null,null,null,"",null,null,null,{"$f":"IF(B3685=\"\",\"\",IF(ISERROR(VLOOKUP(B3685,database!$A$6:$BFQ$206,3,FALSE)),\"\",VLOOKUP(B3685,database!$A$6:$BFQ$206,3,FALSE)))","v":""},null,null,null,null,null,null,""]
["",null,{"$f":"IF(B3686=\"\",\"\",IF(ISERROR(VLOOKUP(B3686,database!$A$6:$BFQ$206,4,FALSE)),\"\",VLOOKUP(B3686,database!$A$6:$BFQ$206,4,FALSE)))","v":""},null,null,null,"",null,null,null,{"$f":"IF(B3686=\"\",\"\",IF(ISERROR(VLOOKUP(B3686,database!$A$6:$BFQ$206,3,FALSE)),\"\",VLOOKUP(B3686,database!$A$6:$BFQ$206,3,FALSE)))","v":""},null,null,null,null,null,null,""]
["",null,{"$f":"IF(B3689=\"\",\"\",IF(ISERROR(VLOOKUP(B3689,database!$A$6:$BFQ$206,4,FALSE)),\"\",VLOOKUP(B3689,database!$A$6:$BFQ$206,4,FALSE)))","v":""},null,null,null,"",null,null,null,{"$f":"IF(B3689=\"\",\"\",IF(ISERROR(VLOOKUP(B3689,database!$A$6:$BFQ$206,3,FALSE)),\"\",VLOOKUP(B3689,database!$A$6:$BFQ$206,3,FALSE)))","v":""},null,null,null,null,null,null,""]
["",null,{"$f":"IF(B3690=\"\",\"\",IF(ISERROR(VLOOKUP(B3690,database!$A$6:$BFQ$206,4,FALSE)),\"\",VLOOKUP(B3690,database!$A$6:$BFQ$206,4,FALSE)))","v":""},null,null,null,"",null,null,null,{"$f":"IF(B3690=\"\",\"\",IF(ISERROR(VLOOKUP(B3690,database!$A$6:$BFQ$206,3,FALSE)),\"\",VLOOKUP(B3690,database!$A$6:$BFQ$206,3,FALSE)))","v":""},null,null,null,null,null,null,""]
["",null,{"$f":"IF(B3692=\"\",\"\",IF(ISERROR(VLOOKUP(B3692,database!$A$6:$BFQ$206,4,FALSE)),\"\",VLOOKUP(B3692,database!$A$6:$BFQ$206,4,FALSE)))","v":""},null,null,null,"",null,null,null,{"$f":"IF(B3692=\"\",\"\",IF(ISERROR(VLOOKUP(B3692,database!$A$6:$BFQ$206,3,FALSE)),\"\",VLOOKUP(B3692,database!$A$6:$BFQ$206,3,FALSE)))","v":""},null,null,null,null,null,null,""]
["",null,{"$f":"IF(B3693=\"\",\"\",IF(ISERROR(VLOOKUP(B3693,database!$A$6:$BFQ$206,4,FALSE)),\"\",VLOOKUP(B3693,database!$A$6:$BFQ$206,4,FALSE)))","v":""},null,null,null,"",null,null,null,{"$f":"IF(B3693=\"\",\"\",IF(ISERROR(VLOOKUP(B3693,database!$A$6:$BFQ$206,3,FALSE)),\"\",VLOOKUP(B3693,database!$A$6:$BFQ$206,3,FALSE)))","v":""},null,null,null,null,null,null,""]
["",null,{"$f":"IF(B3696=\"\",\"\",IF(ISERROR(VLOOKUP(B3696,database!$A$6:$BFQ$206,4,FALSE)),\"\",VLOOKUP(B3696,database!$A$6:$BFQ$206,4,FALSE)))","v":""},null,null,null,"",null,null,null,{"$f":"IF(B3696=\"\",\"\",IF(ISERROR(VLOOKUP(B3696,database!$A$6:$BFQ$206,3,FALSE)),\"\",VLOOKUP(B3696,database!$A$6:$BFQ$206,3,FALSE)))","v":""},null,null,null,null,null,null,""]
["",null,{"$f":"IF(B3697=\"\",\"\",IF(ISERROR(VLOOKUP(B3697,database!$A$6:$BFQ$206,4,FALSE)),\"\",VLOOKUP(B3697,database!$A$6:$BFQ$206,4,FALSE)))","v":""},null,null,null,"",null,null,null,{"$f":"IF(B3697=\"\",\"\",IF(ISERROR(VLOOKUP(B3697,database!$A$6:$BFQ$206,3,FALSE)),\"\",VLOOKUP(B3697,database!$A$6:$BFQ$206,3,FALSE)))","v":""},null,null,null,null,null,null,""]
["",null,{"$f":"IF(B3699=\"\",\"\",IF(ISERROR(VLOOKUP(B3699,database!$A$6:$BFQ$206,4,FALSE)),\"\",VLOOKUP(B3699,database!$A$6:$BFQ$206,4,FALSE)))","v":""},null,null,null,"",null,null,null,{"$f":"IF(B3699=\"\",\"\",IF(ISERROR(VLOOKUP(B3699,database!$A$6:$BFQ$206,3,FALSE)),\"\",VLOOKUP(B3699,database!$A$6:$BFQ$206,3,FALSE)))","v":""},null,null,null,null,null,null,""]
["",null,{"$f":"IF(B3700=\"\",\"\",IF(ISERROR(VLOOKUP(B3700,database!$A$6:$BFQ$206,4,FALSE)),\"\",VLOOKUP(B3700,database!$A$6:$BFQ$206,4,FALSE)))","v":""},null,null,null,"",null,null,null,{"$f":"IF(B3700=\"\",\"\",IF(ISERROR(VLOOKUP(B3700,database!$A$6:$BFQ$206,3,FALSE)),\"\",VLOOKUP(B3700,database!$A$6:$BFQ$206,3,FALSE)))","v":""},null,null,null,null,null,null,""]
["",null,{"$f":"IF(B3703=\"\",\"\",IF(ISERROR(VLOOKUP(B3703,database!$A$6:$BFQ$206,4,FALSE)),\"\",VLOOKUP(B3703,database!$A$6:$BFQ$206,4,FALSE)))","v":""},null,null,null,"",null,null,null,{"$f":"IF(B3703=\"\",\"\",IF(ISERROR(VLOOKUP(B3703,database!$A$6:$BFQ$206,3,FALSE)),\"\",VLOOKUP(B3703,database!$A$6:$BFQ$206,3,FALSE)))","v":""},null,null,null,null,null,null,""]
["",null,{"$f":"IF(B3704=\"\",\"\",IF(ISERROR(VLOOKUP(B3704,database!$A$6:$BFQ$206,4,FALSE)),\"\",VLOOKUP(B3704,database!$A$6:$BFQ$206,4,FALSE)))","v":""},null,null,null,"",null,null,null,{"$f":"IF(B3704=\"\",\"\",IF(ISERROR(VLOOKUP(B3704,database!$A$6:$BFQ$206,3,FALSE)),\"\",VLOOKUP(B3704,database!$A$6:$BFQ$206,3,FALSE)))","v":""},null,null,null,null,null,null,""]
["",null,{"$f":"IF(B3707=\"\",\"\",IF(ISERROR(VLOOKUP(B3707,database!$A$6:$BFQ$206,4,FALSE)),\"\",VLOOKUP(B3707,database!$A$6:$BFQ$206,4,FALSE)))","v":""},null,null,null,"",null,null,null,{"$f":"IF(B3707=\"\",\"\",IF(ISERROR(VLOOKUP(B3707,database!$A$6:$BFQ$206,3,FALSE)),\"\",VLOOKUP(B3707,database!$A$6:$BFQ$206,3,FALSE)))","v":""},null,null,null,null,null,null,""]
["",null,{"$f":"IF(B3708=\"\",\"\",IF(ISERROR(VLOOKUP(B3708,database!$A$6:$BFQ$206,4,FALSE)),\"\",VLOOKUP(B3708,database!$A$6:$BFQ$206,4,FALSE)))","v":""},null,null,null,"",null,null,null,{"$f":"IF(B3708=\"\",\"\",IF(ISERROR(VLOOKUP(B3708,database!$A$6:$BFQ$206,3,FALSE)),\"\",VLOOKUP(B3708,database!$A$6:$BFQ$206,3,FALSE)))","v":""},null,null,null,null,null,null,""]
["",null,{"$f":"IF(B3710=\"\",\"\",IF(ISERROR(VLOOKUP(B3710,database!$A$6:$BFQ$206,4,FALSE)),\"\",VLOOKUP(B3710,database!$A$6:$BFQ$206,4,FALSE)))","v":""},null,null,null,"",null,null,null,{"$f":"IF(B3710=\"\",\"\",IF(ISERROR(VLOOKUP(B3710,database!$A$6:$BFQ$206,3,FALSE)),\"\",VLOOKUP(B3710,database!$A$6:$BFQ$206,3,FALSE)))","v":""},null,null,null,null,null,null,""]
["",null,{"$f":"IF(B3711=\"\",\"\",IF(ISERROR(VLOOKUP(B3711,database!$A$6:$BFQ$206,4,FALSE)),\"\",VLOOKUP(B3711,database!$A$6:$BFQ$206,4,FALSE)))","v":""},null,null,null,"",null,null,null,{"$f":"IF(B3711=\"\",\"\",IF(ISERROR(VLOOKUP(B3711,database!$A$6:$BFQ$206,3,FALSE)),\"\",VLOOKUP(B3711,database!$A$6:$BFQ$206,3,FALSE)))","v":""},null,null,null,null,null,null,""]
["",null,{"$f":"IF(B3714=\"\",\"\",IF(ISERROR(VLOOKUP(B3714,database!$A$6:$BFQ$206,4,FALSE)),\"\",VLOOKUP(B3714,database!$A$6:$BFQ$206,4,FALSE)))","v":""},null,null,null,"",null,null,null,{"$f":"IF(B3714=\"\",\"\",IF(ISERROR(VLOOKUP(B3714,database!$A$6:$BFQ$206,3,FALSE)),\"\",VLOOKUP(B3714,database!$A$6:$BFQ$206,3,FALSE)))","v":""},null,null,null,null,null,null,""]
["",null,{"$f":"IF(B3715=\"\",\"\",IF(ISERROR(VLOOKUP(B3715,database!$A$6:$BFQ$206,4,FALSE)),\"\",VLOOKUP(B3715,database!$A$6:$BFQ$206,4,FALSE)))","v":""},null,null,null,"",null,null,null,{"$f":"IF(B3715=\"\",\"\",IF(ISERROR(VLOOKUP(B3715,database!$A$6:$BFQ$206,3,FALSE)),\"\",VLOOKUP(B3715,database!$A$6:$BFQ$206,3,FALSE)))","v":""},null,null,null,null,null,null,""]
["",null,{"$f":"IF(B3717=\"\",\"\",IF(ISERROR(VLOOKUP(B3717,database!$A$6:$BFQ$206,4,FALSE)),\"\",VLOOKUP(B3717,database!$A$6:$BFQ$206,4,FALSE)))","v":""},null,null,null,"",null,null,null,{"$f":"IF(B3717=\"\",\"\",IF(ISERROR(VLOOKUP(B3717,database!$A$6:$BFQ$206,3,FALSE)),\"\",VLOOKUP(B3717,database!$A$6:$BFQ$206,3,FALSE)))","v":""},null,null,null,null,null,null,""]
["",null,{"$f":"IF(B3718=\"\",\"\",IF(ISERROR(VLOOKUP(B3718,database!$A$6:$BFQ$206,4,FALSE)),\"\",VLOOKUP(B3718,database!$A$6:$BFQ$206,4,FALSE)))","v":""},null,null,null,"",null,null,null,{"$f":"IF(B3718=\"\",\"\",IF(ISERROR(VLOOKUP(B3718,database!$A$6:$BFQ$206,3,FALSE)),\"\",VLOOKUP(B3718,database!$A$6:$BFQ$206,3,FALSE)))","v":""},null,null,null,null,null,null,""]
["",null,{"$f":"IF(B3721=\"\",\"\",IF(ISERROR(VLOOKUP(B3721,database!$A$6:$BFQ$206,4,FALSE)),\"\",VLOOKUP(B3721,database!$A$6:$BFQ$206,4,FALSE)))","v":""},null,null,null,"",null,null,null,{"$f":"IF(B3721=\"\",\"\",IF(ISERROR(VLOOKUP(B3721,database!$A$6:$BFQ$206,3,FALSE)),\"\",VLOOKUP(B3721,database!$A$6:$BFQ$206,3,FALSE)))","v":""},null,null,null,null,null,null,""]
["",null,{"$f":"IF(B3722=\"\",\"\",IF(ISERROR(VLOOKUP(B3722,database!$A$6:$BFQ$206,4,FALSE)),\"\",VLOOKUP(B3722,database!$A$6:$BFQ$206,4,FALSE)))","v":""},null,null,null,"",null,null,null,{"$f":"IF(B3722=\"\",\"\",IF(ISERROR(VLOOKUP(B3722,database!$A$6:$BFQ$206,3,FALSE)),\"\",VLOOKUP(B3722,database!$A$6:$BFQ$206,3,FALSE)))","v":""},null,null,null,null,null,null,""]
["",null,{"$f":"IF(B3724=\"\",\"\",IF(ISERROR(VLOOKUP(B3724,database!$A$6:$BFQ$206,4,FALSE)),\"\",VLOOKUP(B3724,database!$A$6:$BFQ$206,4,FALSE)))","v":""},null,null,null,"",null,null,null,{"$f":"IF(B3724=\"\",\"\",IF(ISERROR(VLOOKUP(B3724,database!$A$6:$BFQ$206,3,FALSE)),\"\",VLOOKUP(B3724,database!$A$6:$BFQ$206,3,FALSE)))","v":""},null,null,null,null,null,null,""]
["",null,{"$f":"IF(B3725=\"\",\"\",IF(ISERROR(VLOOKUP(B3725,database!$A$6:$BFQ$206,4,FALSE)),\"\",VLOOKUP(B3725,database!$A$6:$BFQ$206,4,FALSE)))","v":""},null,null,null,"",null,null,null,{"$f":"IF(B3725=\"\",\"\",IF(ISERROR(VLOOKUP(B3725,database!$A$6:$BFQ$206,3,FALSE)),\"\",VLOOKUP(B3725,database!$A$6:$BFQ$206,3,FALSE)))","v":""},null,null,null,null,null,null,""]
["",null,{"$f":"IF(B3728=\"\",\"\",IF(ISERROR(VLOOKUP(B3728,database!$A$6:$BFQ$206,4,FALSE)),\"\",VLOOKUP(B3728,database!$A$6:$BFQ$206,4,FALSE)))","v":""},null,null,null,"",null,null,null,{"$f":"IF(B3728=\"\",\"\",IF(ISERROR(VLOOKUP(B3728,database!$A$6:$BFQ$206,3,FALSE)),\"\",VLOOKUP(B3728,database!$A$6:$BFQ$206,3,FALSE)))","v":""},null,null,null,null,null,null,""]
["",null,{"$f":"IF(B3729=\"\",\"\",IF(ISERROR(VLOOKUP(B3729,database!$A$6:$BFQ$206,4,FALSE)),\"\",VLOOKUP(B3729,database!$A$6:$BFQ$206,4,FALSE)))","v":""},null,null,null,"",null,null,null,{"$f":"IF(B3729=\"\",\"\",IF(ISERROR(VLOOKUP(B3729,database!$A$6:$BFQ$206,3,FALSE)),\"\",VLOOKUP(B3729,database!$A$6:$BFQ$206,3,FALSE)))","v":""},null,null,null,null,null,null,""]
["",null,{"$f":"IF(B3731=\"\",\"\",IF(ISERROR(VLOOKUP(B3731,database!$A$6:$BFQ$206,4,FALSE)),\"\",VLOOKUP(B3731,database!$A$6:$BFQ$206,4,FALSE)))","v":""},null,null,null,"",null,null,null,{"$f":"IF(B3731=\"\",\"\",IF(ISERROR(VLOOKUP(B3731,database!$A$6:$BFQ$206,3,FALSE)),\"\",VLOOKUP(B3731,database!$A$6:$BFQ$206,3,FALSE)))","v":""},null,null,null,null,null,null,""]
["",null,{"$f":"IF(B3732=\"\",\"\",IF(ISERROR(VLOOKUP(B3732,database!$A$6:$BFQ$206,4,FALSE)),\"\",VLOOKUP(B3732,database!$A$6:$BFQ$206,4,FALSE)))","v":""},null,null,null,"",null,null,null,{"$f":"IF(B3732=\"\",\"\",IF(ISERROR(VLOOKUP(B3732,database!$A$6:$BFQ$206,3,FALSE)),\"\",VLOOKUP(B3732,database!$A$6:$BFQ$206,3,FALSE)))","v":""},null,null,null,null,null,null,""]
["",null,{"$f":"IF(B3735=\"\",\"\",IF(ISERROR(VLOOKUP(B3735,database!$A$6:$BFQ$206,4,FALSE)),\"\",VLOOKUP(B3735,database!$A$6:$BFQ$206,4,FALSE)))","v":""},null,null,null,"",null,null,null,{"$f":"IF(B3735=\"\",\"\",IF(ISERROR(VLOOKUP(B3735,database!$A$6:$BFQ$206,3,FALSE)),\"\",VLOOKUP(B3735,database!$A$6:$BFQ$206,3,FALSE)))","v":""},null,null,null,null,null,null,""]
["",null,{"$f":"IF(B3736=\"\",\"\",IF(ISERROR(VLOOKUP(B3736,database!$A$6:$BFQ$206,4,FALSE)),\"\",VLOOKUP(B3736,database!$A$6:$BFQ$206,4,FALSE)))","v":""},null,null,null,"",null,null,null,{"$f":"IF(B3736=\"\",\"\",IF(ISERROR(VLOOKUP(B3736,database!$A$6:$BFQ$206,3,FALSE)),\"\",VLOOKUP(B3736,database!$A$6:$BFQ$206,3,FALSE)))","v":""},null,null,null,null,null,null,""]
["",null,{"$f":"IF(B3738=\"\",\"\",IF(ISERROR(VLOOKUP(B3738,database!$A$6:$BFQ$206,4,FALSE)),\"\",VLOOKUP(B3738,database!$A$6:$BFQ$206,4,FALSE)))","v":""},null,null,null,"",null,null,null,{"$f":"IF(B3738=\"\",\"\",IF(ISERROR(VLOOKUP(B3738,database!$A$6:$BFQ$206,3,FALSE)),\"\",VLOOKUP(B3738,database!$A$6:$BFQ$206,3,FALSE)))","v":""},null,null,null,null,null,null,""]
["",null,{"$f":"IF(B3739=\"\",\"\",IF(ISERROR(VLOOKUP(B3739,database!$A$6:$BFQ$206,4,FALSE)),\"\",VLOOKUP(B3739,database!$A$6:$BFQ$206,4,FALSE)))","v":""},null,null,null,"",null,null,null,{"$f":"IF(B3739=\"\",\"\",IF(ISERROR(VLOOKUP(B3739,database!$A$6:$BFQ$206,3,FALSE)),\"\",VLOOKUP(B3739,database!$A$6:$BFQ$206,3,FALSE)))","v":""},null,null,null,null,null,null,""]
["",null,{"$f":"IF(B3742=\"\",\"\",IF(ISERROR(VLOOKUP(B3742,database!$A$6:$BFQ$206,4,FALSE)),\"\",VLOOKUP(B3742,database!$A$6:$BFQ$206,4,FALSE)))","v":""},null,null,null,"",null,null,null,{"$f":"IF(B3742=\"\",\"\",IF(ISERROR(VLOOKUP(B3742,database!$A$6:$BFQ$206,3,FALSE)),\"\",VLOOKUP(B3742,database!$A$6:$BFQ$206,3,FALSE)))","v":""},null,null,null,null,null,null,""]
["",null,{"$f":"IF(B3743=\"\",\"\",IF(ISERROR(VLOOKUP(B3743,database!$A$6:$BFQ$206,4,FALSE)),\"\",VLOOKUP(B3743,database!$A$6:$BFQ$206,4,FALSE)))","v":""},null,null,null,"",null,null,null,{"$f":"IF(B3743=\"\",\"\",IF(ISERROR(VLOOKUP(B3743,database!$A$6:$BFQ$206,3,FALSE)),\"\",VLOOKUP(B3743,database!$A$6:$BFQ$206,3,FALSE)))","v":""},null,null,null,null,null,null,""]
["",null,{"$f":"IF(B3745=\"\",\"\",IF(ISERROR(VLOOKUP(B3745,database!$A$6:$BFQ$206,4,FALSE)),\"\",VLOOKUP(B3745,database!$A$6:$BFQ$206,4,FALSE)))","v":""},null,null,null,"",null,null,null,{"$f":"IF(B3745=\"\",\"\",IF(ISERROR(VLOOKUP(B3745,database!$A$6:$BFQ$206,3,FALSE)),\"\",VLOOKUP(B3745,database!$A$6:$BFQ$206,3,FALSE)))","v":""},null,null,null,null,null,null,""]
["",null,{"$f":"IF(B3746=\"\",\"\",IF(ISERROR(VLOOKUP(B3746,database!$A$6:$BFQ$206,4,FALSE)),\"\",VLOOKUP(B3746,database!$A$6:$BFQ$206,4,FALSE)))","v":""},null,null,null,"",null,null,null,{"$f":"IF(B3746=\"\",\"\",IF(ISERROR(VLOOKUP(B3746,database!$A$6:$BFQ$206,3,FALSE)),\"\",VLOOKUP(B3746,database!$A$6:$BFQ$206,3,FALSE)))","v":""},null,null,null,null,null,null,""]
["",null,{"$f":"IF(B3749=\"\",\"\",IF(ISERROR(VLOOKUP(B3749,database!$A$6:$BFQ$206,4,FALSE)),\"\",VLOOKUP(B3749,database!$A$6:$BFQ$206,4,FALSE)))","v":""},null,null,null,"",null,null,null,{"$f":"IF(B3749=\"\",\"\",IF(ISERROR(VLOOKUP(B3749,database!$A$6:$BFQ$206,3,FALSE)),\"\",VLOOKUP(B3749,database!$A$6:$BFQ$206,3,FALSE)))","v":""},null,null,null,null,null,null,""]
["",null,{"$f":"IF(B3750=\"\",\"\",IF(ISERROR(VLOOKUP(B3750,database!$A$6:$BFQ$206,4,FALSE)),\"\",VLOOKUP(B3750,database!$A$6:$BFQ$206,4,FALSE)))","v":""},null,null,null,"",null,null,null,{"$f":"IF(B3750=\"\",\"\",IF(ISERROR(VLOOKUP(B3750,database!$A$6:$BFQ$206,3,FALSE)),\"\",VLOOKUP(B3750,database!$A$6:$BFQ$206,3,FALSE)))","v":""},null,null,null,null,null,null,""]
["",null,{"$f":"IF(B3752=\"\",\"\",IF(ISERROR(VLOOKUP(B3752,database!$A$6:$BFQ$206,4,FALSE)),\"\",VLOOKUP(B3752,database!$A$6:$BFQ$206,4,FALSE)))","v":""},null,null,null,"",null,null,null,{"$f":"IF(B3752=\"\",\"\",IF(ISERROR(VLOOKUP(B3752,database!$A$6:$BFQ$206,3,FALSE)),\"\",VLOOKUP(B3752,database!$A$6:$BFQ$206,3,FALSE)))","v":""},null,null,null,null,null,null,""]
["",null,{"$f":"IF(B3753=\"\",\"\",IF(ISERROR(VLOOKUP(B3753,database!$A$6:$BFQ$206,4,FALSE)),\"\",VLOOKUP(B3753,database!$A$6:$BFQ$206,4,FALSE)))","v":""},null,null,null,"",null,null,null,{"$f":"IF(B3753=\"\",\"\",IF(ISERROR(VLOOKUP(B3753,database!$A$6:$BFQ$206,3,FALSE)),\"\",VLOOKUP(B3753,database!$A$6:$BFQ$206,3,FALSE)))","v":""},null,null,null,null,null,null,""]
["",null,{"$f":"IF(B3756=\"\",\"\",IF(ISERROR(VLOOKUP(B3756,database!$A$6:$BFQ$206,4,FALSE)),\"\",VLOOKUP(B3756,database!$A$6:$BFQ$206,4,FALSE)))","v":""},null,null,null,"",null,null,null,{"$f":"IF(B3756=\"\",\"\",IF(ISERROR(VLOOKUP(B3756,database!$A$6:$BFQ$206,3,FALSE)),\"\",VLOOKUP(B3756,database!$A$6:$BFQ$206,3,FALSE)))","v":""},null,null,null,null,null,null,""]
["",null,{"$f":"IF(B3757=\"\",\"\",IF(ISERROR(VLOOKUP(B3757,database!$A$6:$BFQ$206,4,FALSE)),\"\",VLOOKUP(B3757,database!$A$6:$BFQ$206,4,FALSE)))","v":""},null,null,null,"",null,null,null,{"$f":"IF(B3757=\"\",\"\",IF(ISERROR(VLOOKUP(B3757,database!$A$6:$BFQ$206,3,FALSE)),\"\",VLOOKUP(B3757,database!$A$6:$BFQ$206,3,FALSE)))","v":""},null,null,null,null,null,null,""]
["",null,{"$f":"IF(B3759=\"\",\"\",IF(ISERROR(VLOOKUP(B3759,database!$A$6:$BFQ$206,4,FALSE)),\"\",VLOOKUP(B3759,database!$A$6:$BFQ$206,4,FALSE)))","v":""},null,null,null,"",null,null,null,{"$f":"IF(B3759=\"\",\"\",IF(ISERROR(VLOOKUP(B3759,database!$A$6:$BFQ$206,3,FALSE)),\"\",VLOOKUP(B3759,database!$A$6:$BFQ$206,3,FALSE)))","v":""},null,null,null,null,null,null,""]
["",null,{"$f":"IF(B3760=\"\",\"\",IF(ISERROR(VLOOKUP(B3760,database!$A$6:$BFQ$206,4,FALSE)),\"\",VLOOKUP(B3760,database!$A$6:$BFQ$206,4,FALSE)))","v":""},null,null,null,"",null,null,null,{"$f":"IF(B3760=\"\",\"\",IF(ISERROR(VLOOKUP(B3760,database!$A$6:$BFQ$206,3,FALSE)),\"\",VLOOKUP(B3760,database!$A$6:$BFQ$206,3,FALSE)))","v":""},null,null,null,null,null,null,""]
["",null,{"$f":"IF(B3763=\"\",\"\",IF(ISERROR(VLOOKUP(B3763,database!$A$6:$BFQ$206,4,FALSE)),\"\",VLOOKUP(B3763,database!$A$6:$BFQ$206,4,FALSE)))","v":""},null,null,null,"",null,null,null,{"$f":"IF(B3763=\"\",\"\",IF(ISERROR(VLOOKUP(B3763,database!$A$6:$BFQ$206,3,FALSE)),\"\",VLOOKUP(B3763,database!$A$6:$BFQ$206,3,FALSE)))","v":""},null,null,null,null,null,null,""]
["",null,{"$f":"IF(B3764=\"\",\"\",IF(ISERROR(VLOOKUP(B3764,database!$A$6:$BFQ$206,4,FALSE)),\"\",VLOOKUP(B3764,database!$A$6:$BFQ$206,4,FALSE)))","v":""},null,null,null,"",null,null,null,{"$f":"IF(B3764=\"\",\"\",IF(ISERROR(VLOOKUP(B3764,database!$A$6:$BFQ$206,3,FALSE)),\"\",VLOOKUP(B3764,database!$A$6:$BFQ$206,3,FALSE)))","v":""},null,null,null,null,null,null,""]
["",null,{"$f":"IF(B3766=\"\",\"\",IF(ISERROR(VLOOKUP(B3766,database!$A$6:$BFQ$206,4,FALSE)),\"\",VLOOKUP(B3766,database!$A$6:$BFQ$206,4,FALSE)))","v":""},null,null,null,"",null,null,null,{"$f":"IF(B3766=\"\",\"\",IF(ISERROR(VLOOKUP(B3766,database!$A$6:$BFQ$206,3,FALSE)),\"\",VLOOKUP(B3766,database!$A$6:$BFQ$206,3,FALSE)))","v":""},null,null,null,null,null,null,""]
["",null,{"$f":"IF(B3767=\"\",\"\",IF(ISERROR(VLOOKUP(B3767,database!$A$6:$BFQ$206,4,FALSE)),\"\",VLOOKUP(B3767,database!$A$6:$BFQ$206,4,FALSE)))","v":""},null,null,null,"",null,null,null,{"$f":"IF(B3767=\"\",\"\",IF(ISERROR(VLOOKUP(B3767,database!$A$6:$BFQ$206,3,FALSE)),\"\",VLOOKUP(B3767,database!$A$6:$BFQ$206,3,FALSE)))","v":""},null,null,null,null,null,null,""]
["",null,{"$f":"IF(B3770=\"\",\"\",IF(ISERROR(VLOOKUP(B3770,database!$A$6:$BFQ$206,4,FALSE)),\"\",VLOOKUP(B3770,database!$A$6:$BFQ$206,4,FALSE)))","v":""},null,null,null,"",null,null,null,{"$f":"IF(B3770=\"\",\"\",IF(ISERROR(VLOOKUP(B3770,database!$A$6:$BFQ$206,3,FALSE)),\"\",VLOOKUP(B3770,database!$A$6:$BFQ$206,3,FALSE)))","v":""},null,null,null,null,null,null,""]
["",null,{"$f":"IF(B3771=\"\",\"\",IF(ISERROR(VLOOKUP(B3771,database!$A$6:$BFQ$206,4,FALSE)),\"\",VLOOKUP(B3771,database!$A$6:$BFQ$206,4,FALSE)))","v":""},null,null,null,"",null,null,null,{"$f":"IF(B3771=\"\",\"\",IF(ISERROR(VLOOKUP(B3771,database!$A$6:$BFQ$206,3,FALSE)),\"\",VLOOKUP(B3771,database!$A$6:$BFQ$206,3,FALSE)))","v":""},null,null,null,null,null,null,""]
["",null,{"$f":"IF(B3773=\"\",\"\",IF(ISERROR(VLOOKUP(B3773,database!$A$6:$BFQ$206,4,FALSE)),\"\",VLOOKUP(B3773,database!$A$6:$BFQ$206,4,FALSE)))","v":""},null,null,null,"",null,null,null,{"$f":"IF(B3773=\"\",\"\",IF(ISERROR(VLOOKUP(B3773,database!$A$6:$BFQ$206,3,FALSE)),\"\",VLOOKUP(B3773,database!$A$6:$BFQ$206,3,FALSE)))","v":""},null,null,null,null,null,null,""]
["",null,{"$f":"IF(B3774=\"\",\"\",IF(ISERROR(VLOOKUP(B3774,database!$A$6:$BFQ$206,4,FALSE)),\"\",VLOOKUP(B3774,database!$A$6:$BFQ$206,4,FALSE)))","v":""},null,null,null,"",null,null,null,{"$f":"IF(B3774=\"\",\"\",IF(ISERROR(VLOOKUP(B3774,database!$A$6:$BFQ$206,3,FALSE)),\"\",VLOOKUP(B3774,database!$A$6:$BFQ$206,3,FALSE)))","v":""},null,null,null,null,null,null,""]
[{"$f":"IF(B3777=\"\",\"\",ROW(A3774))","v":""},null,{"$f":"IF(B3777=\"\",\"\",IF(ISERROR(VLOOKUP(B3777,database!$A$6:$BFQ$206,4,FALSE)),\"\",VLOOKUP(B3777,database!$A$6:$BFQ$206,4,FALSE)))","v":""},null,null,null,{"$f":"IF(B3777=\"\",\"\",IF(C3777=\"\",0,1))","v":""},null,null,null,{"$f":"IF(B3777=\"\",\"\",IF(ISERROR(VLOOKUP(B3777,database!$A$6:$BFQ$206,3,FALSE)),\"\",VLOOKUP(B3777,database!$A$6:$BFQ$206,3,FALSE)))","v":""},null,null,null,null,null,null,{"$f":"LEFT(C3777,2)","v":""}]
["",null,{"$f":"IF(B3778=\"\",\"\",IF(ISERROR(VLOOKUP(B3778,database!$A$6:$BFQ$206,4,FALSE)),\"\",VLOOKUP(B3778,database!$A$6:$BFQ$206,4,FALSE)))","v":""},null,null,null,"",null,null,null,{"$f":"IF(B3778=\"\",\"\",IF(ISERROR(VLOOKUP(B3778,database!$A$6:$BFQ$206,3,FALSE)),\"\",VLOOKUP(B3778,database!$A$6:$BFQ$206,3,FALSE)))","v":""},null,null,null,null,null,null,""]
["",null,{"$f":"IF(B3780=\"\",\"\",IF(ISERROR(VLOOKUP(B3780,database!$A$6:$BFQ$206,4,FALSE)),\"\",VLOOKUP(B3780,database!$A$6:$BFQ$206,4,FALSE)))","v":""},null,null,null,"",null,null,null,{"$f":"IF(B3780=\"\",\"\",IF(ISERROR(VLOOKUP(B3780,database!$A$6:$BFQ$206,3,FALSE)),\"\",VLOOKUP(B3780,database!$A$6:$BFQ$206,3,FALSE)))","v":""},null,null,null,null,null,null,""]
["",null,{"$f":"IF(B3781=\"\",\"\",IF(ISERROR(VLOOKUP(B3781,database!$A$6:$BFQ$206,4,FALSE)),\"\",VLOOKUP(B3781,database!$A$6:$BFQ$206,4,FALSE)))","v":""},null,null,null,"",null,null,null,{"$f":"IF(B3781=\"\",\"\",IF(ISERROR(VLOOKUP(B3781,database!$A$6:$BFQ$206,3,FALSE)),\"\",VLOOKUP(B3781,database!$A$6:$BFQ$206,3,FALSE)))","v":""},null,null,null,null,null,null,""]
["",null,{"$f":"IF(B3784=\"\",\"\",IF(ISERROR(VLOOKUP(B3784,database!$A$6:$BFQ$206,4,FALSE)),\"\",VLOOKUP(B3784,database!$A$6:$BFQ$206,4,FALSE)))","v":""},null,null,null,"",null,null,null,{"$f":"IF(B3784=\"\",\"\",IF(ISERROR(VLOOKUP(B3784,database!$A$6:$BFQ$206,3,FALSE)),\"\",VLOOKUP(B3784,database!$A$6:$BFQ$206,3,FALSE)))","v":""},null,null,null,null,null,null,""]
["",null,{"$f":"IF(B3785=\"\",\"\",IF(ISERROR(VLOOKUP(B3785,database!$A$6:$BFQ$206,4,FALSE)),\"\",VLOOKUP(B3785,database!$A$6:$BFQ$206,4,FALSE)))","v":""},null,null,null,"",null,null,null,{"$f":"IF(B3785=\"\",\"\",IF(ISERROR(VLOOKUP(B3785,database!$A$6:$BFQ$206,3,FALSE)),\"\",VLOOKUP(B3785,database!$A$6:$BFQ$206,3,FALSE)))","v":""},null,null,null,null,null,null,""]
["",null,{"$f":"IF(B3787=\"\",\"\",IF(ISERROR(VLOOKUP(B3787,database!$A$6:$BFQ$206,4,FALSE)),\"\",VLOOKUP(B3787,database!$A$6:$BFQ$206,4,FALSE)))","v":""},null,null,null,"",null,null,null,{"$f":"IF(B3787=\"\",\"\",IF(ISERROR(VLOOKUP(B3787,database!$A$6:$BFQ$206,3,FALSE)),\"\",VLOOKUP(B3787,database!$A$6:$BFQ$206,3,FALSE)))","v":""},null,null,null,null,null,null,""]
["",null,{"$f":"IF(B3788=\"\",\"\",IF(ISERROR(VLOOKUP(B3788,database!$A$6:$BFQ$206,4,FALSE)),\"\",VLOOKUP(B3788,database!$A$6:$BFQ$206,4,FALSE)))","v":""},null,null,null,"",null,null,null,{"$f":"IF(B3788=\"\",\"\",IF(ISERROR(VLOOKUP(B3788,database!$A$6:$BFQ$206,3,FALSE)),\"\",VLOOKUP(B3788,database!$A$6:$BFQ$206,3,FALSE)))","v":""},null,null,null,null,null,null,""]
["",null,{"$f":"IF(B3791=\"\",\"\",IF(ISERROR(VLOOKUP(B3791,database!$A$6:$BFQ$206,4,FALSE)),\"\",VLOOKUP(B3791,database!$A$6:$BFQ$206,4,FALSE)))","v":""},null,null,null,"",null,null,null,{"$f":"IF(B3791=\"\",\"\",IF(ISERROR(VLOOKUP(B3791,database!$A$6:$BFQ$206,3,FALSE)),\"\",VLOOKUP(B3791,database!$A$6:$BFQ$206,3,FALSE)))","v":""},null,null,null,null,null,null,""]
["",null,{"$f":"IF(B3792=\"\",\"\",IF(ISERROR(VLOOKUP(B3792,database!$A$6:$BFQ$206,4,FALSE)),\"\",VLOOKUP(B3792,database!$A$6:$BFQ$206,4,FALSE)))","v":""},null,null,null,"",null,null,null,{"$f":"IF(B3792=\"\",\"\",IF(ISERROR(VLOOKUP(B3792,database!$A$6:$BFQ$206,3,FALSE)),\"\",VLOOKUP(B3792,database!$A$6:$BFQ$206,3,FALSE)))","v":""},null,null,null,null,null,null,""]
["",null,{"$f":"IF(B3794=\"\",\"\",IF(ISERROR(VLOOKUP(B3794,database!$A$6:$BFQ$206,4,FALSE)),\"\",VLOOKUP(B3794,database!$A$6:$BFQ$206,4,FALSE)))","v":""},null,null,null,"",null,null,null,{"$f":"IF(B3794=\"\",\"\",IF(ISERROR(VLOOKUP(B3794,database!$A$6:$BFQ$206,3,FALSE)),\"\",VLOOKUP(B3794,database!$A$6:$BFQ$206,3,FALSE)))","v":""},null,null,null,null,null,null,""]
["",null,{"$f":"IF(B3795=\"\",\"\",IF(ISERROR(VLOOKUP(B3795,database!$A$6:$BFQ$206,4,FALSE)),\"\",VLOOKUP(B3795,database!$A$6:$BFQ$206,4,FALSE)))","v":""},null,null,null,"",null,null,null,{"$f":"IF(B3795=\"\",\"\",IF(ISERROR(VLOOKUP(B3795,database!$A$6:$BFQ$206,3,FALSE)),\"\",VLOOKUP(B3795,database!$A$6:$BFQ$206,3,FALSE)))","v":""},null,null,null,null,null,null,""]
["",null,{"$f":"IF(B3798=\"\",\"\",IF(ISERROR(VLOOKUP(B3798,database!$A$6:$BFQ$206,4,FALSE)),\"\",VLOOKUP(B3798,database!$A$6:$BFQ$206,4,FALSE)))","v":""},null,null,null,"",null,null,null,{"$f":"IF(B3798=\"\",\"\",IF(ISERROR(VLOOKUP(B3798,database!$A$6:$BFQ$206,3,FALSE)),\"\",VLOOKUP(B3798,database!$A$6:$BFQ$206,3,FALSE)))","v":""},null,null,null,null,null,null,""]
["",null,{"$f":"IF(B3799=\"\",\"\",IF(ISERROR(VLOOKUP(B3799,database!$A$6:$BFQ$206,4,FALSE)),\"\",VLOOKUP(B3799,database!$A$6:$BFQ$206,4,FALSE)))","v":""},null,null,null,"",null,null,null,{"$f":"IF(B3799=\"\",\"\",IF(ISERROR(VLOOKUP(B3799,database!$A$6:$BFQ$206,3,FALSE)),\"\",VLOOKUP(B3799,database!$A$6:$BFQ$206,3,FALSE)))","v":""},null,null,null,null,null,null,""]
["",null,{"$f":"IF(B3801=\"\",\"\",IF(ISERROR(VLOOKUP(B3801,database!$A$6:$BFQ$206,4,FALSE)),\"\",VLOOKUP(B3801,database!$A$6:$BFQ$206,4,FALSE)))","v":""},null,null,null,"",null,null,null,{"$f":"IF(B3801=\"\",\"\",IF(ISERROR(VLOOKUP(B3801,database!$A$6:$BFQ$206,3,FALSE)),\"\",VLOOKUP(B3801,database!$A$6:$BFQ$206,3,FALSE)))","v":""},null,null,null,null,null,null,""]
["",null,{"$f":"IF(B3802=\"\",\"\",IF(ISERROR(VLOOKUP(B3802,database!$A$6:$BFQ$206,4,FALSE)),\"\",VLOOKUP(B3802,database!$A$6:$BFQ$206,4,FALSE)))","v":""},null,null,null,"",null,null,null,{"$f":"IF(B3802=\"\",\"\",IF(ISERROR(VLOOKUP(B3802,database!$A$6:$BFQ$206,3,FALSE)),\"\",VLOOKUP(B3802,database!$A$6:$BFQ$206,3,FALSE)))","v":""},null,null,null,null,null,null,""]
["",null,{"$f":"IF(B3805=\"\",\"\",IF(ISERROR(VLOOKUP(B3805,database!$A$6:$BFQ$206,4,FALSE)),\"\",VLOOKUP(B3805,database!$A$6:$BFQ$206,4,FALSE)))","v":""},null,null,null,"",null,null,null,{"$f":"IF(B3805=\"\",\"\",IF(ISERROR(VLOOKUP(B3805,database!$A$6:$BFQ$206,3,FALSE)),\"\",VLOOKUP(B3805,database!$A$6:$BFQ$206,3,FALSE)))","v":""},null,null,null,null,null,null,""]
["",null,{"$f":"IF(B3806=\"\",\"\",IF(ISERROR(VLOOKUP(B3806,database!$A$6:$BFQ$206,4,FALSE)),\"\",VLOOKUP(B3806,database!$A$6:$BFQ$206,4,FALSE)))","v":""},null,null,null,"",null,null,null,{"$f":"IF(B3806=\"\",\"\",IF(ISERROR(VLOOKUP(B3806,database!$A$6:$BFQ$206,3,FALSE)),\"\",VLOOKUP(B3806,database!$A$6:$BFQ$206,3,FALSE)))","v":""},null,null,null,null,null,null,""]
["",null,{"$f":"IF(B3808=\"\",\"\",IF(ISERROR(VLOOKUP(B3808,database!$A$6:$BFQ$206,4,FALSE)),\"\",VLOOKUP(B3808,database!$A$6:$BFQ$206,4,FALSE)))","v":""},null,null,null,"",null,null,null,{"$f":"IF(B3808=\"\",\"\",IF(ISERROR(VLOOKUP(B3808,database!$A$6:$BFQ$206,3,FALSE)),\"\",VLOOKUP(B3808,database!$A$6:$BFQ$206,3,FALSE)))","v":""},null,null,null,null,null,null,""]
["",null,{"$f":"IF(B3809=\"\",\"\",IF(ISERROR(VLOOKUP(B3809,database!$A$6:$BFQ$206,4,FALSE)),\"\",VLOOKUP(B3809,database!$A$6:$BFQ$206,4,FALSE)))","v":""},null,null,null,"",null,null,null,{"$f":"IF(B3809=\"\",\"\",IF(ISERROR(VLOOKUP(B3809,database!$A$6:$BFQ$206,3,FALSE)),\"\",VLOOKUP(B3809,database!$A$6:$BFQ$206,3,FALSE)))","v":""},null,null,null,null,null,null,""]
["",null,{"$f":"IF(B3812=\"\",\"\",IF(ISERROR(VLOOKUP(B3812,database!$A$6:$BFQ$206,4,FALSE)),\"\",VLOOKUP(B3812,database!$A$6:$BFQ$206,4,FALSE)))","v":""},null,null,null,"",null,null,null,{"$f":"IF(B3812=\"\",\"\",IF(ISERROR(VLOOKUP(B3812,database!$A$6:$BFQ$206,3,FALSE)),\"\",VLOOKUP(B3812,database!$A$6:$BFQ$206,3,FALSE)))","v":""},null,null,null,null,null,null,""]
["",null,{"$f":"IF(B3813=\"\",\"\",IF(ISERROR(VLOOKUP(B3813,database!$A$6:$BFQ$206,4,FALSE)),\"\",VLOOKUP(B3813,database!$A$6:$BFQ$206,4,FALSE)))","v":""},null,null,null,"",null,null,null,{"$f":"IF(B3813=\"\",\"\",IF(ISERROR(VLOOKUP(B3813,database!$A$6:$BFQ$206,3,FALSE)),\"\",VLOOKUP(B3813,database!$A$6:$BFQ$206,3,FALSE)))","v":""},null,null,null,null,null,null,""]
["",null,{"$f":"IF(B3816=\"\",\"\",IF(ISERROR(VLOOKUP(B3816,database!$A$6:$BFQ$206,4,FALSE)),\"\",VLOOKUP(B3816,database!$A$6:$BFQ$206,4,FALSE)))","v":""},null,null,null,"",null,null,null,{"$f":"IF(B3816=\"\",\"\",IF(ISERROR(VLOOKUP(B3816,database!$A$6:$BFQ$206,3,FALSE)),\"\",VLOOKUP(B3816,database!$A$6:$BFQ$206,3,FALSE)))","v":""},null,null,null,null,null,null,""]
["",null,{"$f":"IF(B3817=\"\",\"\",IF(ISERROR(VLOOKUP(B3817,database!$A$6:$BFQ$206,4,FALSE)),\"\",VLOOKUP(B3817,database!$A$6:$BFQ$206,4,FALSE)))","v":""},null,null,null,"",null,null,null,{"$f":"IF(B3817=\"\",\"\",IF(ISERROR(VLOOKUP(B3817,database!$A$6:$BFQ$206,3,FALSE)),\"\",VLOOKUP(B3817,database!$A$6:$BFQ$206,3,FALSE)))","v":""},null,null,null,null,null,null,""]
["",null,{"$f":"IF(B3819=\"\",\"\",IF(ISERROR(VLOOKUP(B3819,database!$A$6:$BFQ$206,4,FALSE)),\"\",VLOOKUP(B3819,database!$A$6:$BFQ$206,4,FALSE)))","v":""},null,null,null,"",null,null,null,{"$f":"IF(B3819=\"\",\"\",IF(ISERROR(VLOOKUP(B3819,database!$A$6:$BFQ$206,3,FALSE)),\"\",VLOOKUP(B3819,database!$A$6:$BFQ$206,3,FALSE)))","v":""},null,null,null,null,null,null,""]
["",null,{"$f":"IF(B3820=\"\",\"\",IF(ISERROR(VLOOKUP(B3820,database!$A$6:$BFQ$206,4,FALSE)),\"\",VLOOKUP(B3820,database!$A$6:$BFQ$206,4,FALSE)))","v":""},null,null,null,"",null,null,null,{"$f":"IF(B3820=\"\",\"\",IF(ISERROR(VLOOKUP(B3820,database!$A$6:$BFQ$206,3,FALSE)),\"\",VLOOKUP(B3820,database!$A$6:$BFQ$206,3,FALSE)))","v":""},null,null,null,null,null,null,""]
["",null,{"$f":"IF(B3823=\"\",\"\",IF(ISERROR(VLOOKUP(B3823,database!$A$6:$BFQ$206,4,FALSE)),\"\",VLOOKUP(B3823,database!$A$6:$BFQ$206,4,FALSE)))","v":""},null,null,null,"",null,null,null,{"$f":"IF(B3823=\"\",\"\",IF(ISERROR(VLOOKUP(B3823,database!$A$6:$BFQ$206,3,FALSE)),\"\",VLOOKUP(B3823,database!$A$6:$BFQ$206,3,FALSE)))","v":""},null,null,null,null,null,null,""]
["",null,{"$f":"IF(B3824=\"\",\"\",IF(ISERROR(VLOOKUP(B3824,database!$A$6:$BFQ$206,4,FALSE)),\"\",VLOOKUP(B3824,database!$A$6:$BFQ$206,4,FALSE)))","v":""},null,null,null,"",null,null,null,{"$f":"IF(B3824=\"\",\"\",IF(ISERROR(VLOOKUP(B3824,database!$A$6:$BFQ$206,3,FALSE)),\"\",VLOOKUP(B3824,database!$A$6:$BFQ$206,3,FALSE)))","v":""},null,null,null,null,null,null,""]
["",null,{"$f":"IF(B3826=\"\",\"\",IF(ISERROR(VLOOKUP(B3826,database!$A$6:$BFQ$206,4,FALSE)),\"\",VLOOKUP(B3826,database!$A$6:$BFQ$206,4,FALSE)))","v":""},null,null,null,"",null,null,null,{"$f":"IF(B3826=\"\",\"\",IF(ISERROR(VLOOKUP(B3826,database!$A$6:$BFQ$206,3,FALSE)),\"\",VLOOKUP(B3826,database!$A$6:$BFQ$206,3,FALSE)))","v":""},null,null,null,null,null,null,""]
["",null,{"$f":"IF(B3827=\"\",\"\",IF(ISERROR(VLOOKUP(B3827,database!$A$6:$BFQ$206,4,FALSE)),\"\",VLOOKUP(B3827,database!$A$6:$BFQ$206,4,FALSE)))","v":""},null,null,null,"",null,null,null,{"$f":"IF(B3827=\"\",\"\",IF(ISERROR(VLOOKUP(B3827,database!$A$6:$BFQ$206,3,FALSE)),\"\",VLOOKUP(B3827,database!$A$6:$BFQ$206,3,FALSE)))","v":""},null,null,null,null,null,null,""]
["",null,{"$f":"IF(B3830=\"\",\"\",IF(ISERROR(VLOOKUP(B3830,database!$A$6:$BFQ$206,4,FALSE)),\"\",VLOOKUP(B3830,database!$A$6:$BFQ$206,4,FALSE)))","v":""},null,null,null,"",null,null,null,{"$f":"IF(B3830=\"\",\"\",IF(ISERROR(VLOOKUP(B3830,database!$A$6:$BFQ$206,3,FALSE)),\"\",VLOOKUP(B3830,database!$A$6:$BFQ$206,3,FALSE)))","v":""},null,null,null,null,null,null,""]
["",null,{"$f":"IF(B3831=\"\",\"\",IF(ISERROR(VLOOKUP(B3831,database!$A$6:$BFQ$206,4,FALSE)),\"\",VLOOKUP(B3831,database!$A$6:$BFQ$206,4,FALSE)))","v":""},null,null,null,"",null,null,null,{"$f":"IF(B3831=\"\",\"\",IF(ISERROR(VLOOKUP(B3831,database!$A$6:$BFQ$206,3,FALSE)),\"\",VLOOKUP(B3831,database!$A$6:$BFQ$206,3,FALSE)))","v":""},null,null,null,null,null,null,""]
["",null,{"$f":"IF(B3833=\"\",\"\",IF(ISERROR(VLOOKUP(B3833,database!$A$6:$BFQ$206,4,FALSE)),\"\",VLOOKUP(B3833,database!$A$6:$BFQ$206,4,FALSE)))","v":""},null,null,null,"",null,null,null,{"$f":"IF(B3833=\"\",\"\",IF(ISERROR(VLOOKUP(B3833,database!$A$6:$BFQ$206,3,FALSE)),\"\",VLOOKUP(B3833,database!$A$6:$BFQ$206,3,FALSE)))","v":""},null,null,null,null,null,null,""]
["",null,{"$f":"IF(B3834=\"\",\"\",IF(ISERROR(VLOOKUP(B3834,database!$A$6:$BFQ$206,4,FALSE)),\"\",VLOOKUP(B3834,database!$A$6:$BFQ$206,4,FALSE)))","v":""},null,null,null,"",null,null,null,{"$f":"IF(B3834=\"\",\"\",IF(ISERROR(VLOOKUP(B3834,database!$A$6:$BFQ$206,3,FALSE)),\"\",VLOOKUP(B3834,database!$A$6:$BFQ$206,3,FALSE)))","v":""},null,null,null,null,null,null,""]
["",null,{"$f":"IF(B3837=\"\",\"\",IF(ISERROR(VLOOKUP(B3837,database!$A$6:$BFQ$206,4,FALSE)),\"\",VLOOKUP(B3837,database!$A$6:$BFQ$206,4,FALSE)))","v":""},null,null,null,"",null,null,null,{"$f":"IF(B3837=\"\",\"\",IF(ISERROR(VLOOKUP(B3837,database!$A$6:$BFQ$206,3,FALSE)),\"\",VLOOKUP(B3837,database!$A$6:$BFQ$206,3,FALSE)))","v":""},null,null,null,null,null,null,""]
["",null,{"$f":"IF(B3838=\"\",\"\",IF(ISERROR(VLOOKUP(B3838,database!$A$6:$BFQ$206,4,FALSE)),\"\",VLOOKUP(B3838,database!$A$6:$BFQ$206,4,FALSE)))","v":""},null,null,null,"",null,null,null,{"$f":"IF(B3838=\"\",\"\",IF(ISERROR(VLOOKUP(B3838,database!$A$6:$BFQ$206,3,FALSE)),\"\",VLOOKUP(B3838,database!$A$6:$BFQ$206,3,FALSE)))","v":""},null,null,null,null,null,null,""]
["",null,{"$f":"IF(B3840=\"\",\"\",IF(ISERROR(VLOOKUP(B3840,database!$A$6:$BFQ$206,4,FALSE)),\"\",VLOOKUP(B3840,database!$A$6:$BFQ$206,4,FALSE)))","v":""},null,null,null,"",null,null,null,{"$f":"IF(B3840=\"\",\"\",IF(ISERROR(VLOOKUP(B3840,database!$A$6:$BFQ$206,3,FALSE)),\"\",VLOOKUP(B3840,database!$A$6:$BFQ$206,3,FALSE)))","v":""},null,null,null,null,null,null,""]
[{"$f":"IF(B3841=\"\",\"\",ROW(A3838))","v":""},null,{"$f":"IF(B3841=\"\",\"\",IF(ISERROR(VLOOKUP(B3841,database!$A$6:$BFQ$206,4,FALSE)),\"\",VLOOKUP(B3841,database!$A$6:$BFQ$206,4,FALSE)))","v":""},null,null,null,{"$f":"IF(B3841=\"\",\"\",IF(C3841=\"\",0,1))","v":""},null,null,null,{"$f":"IF(B3841=\"\",\"\",IF(ISERROR(VLOOKUP(B3841,database!$A$6:$BFQ$206,3,FALSE)),\"\",VLOOKUP(B3841,database!$A$6:$BFQ$206,3,FALSE)))","v":""},null,null,null,null,null,null,{"$f":"LEFT(C3841,2)","v":""}]
["",null,{"$f":"IF(B3844=\"\",\"\",IF(ISERROR(VLOOKUP(B3844,database!$A$6:$BFQ$206,4,FALSE)),\"\",VLOOKUP(B3844,database!$A$6:$BFQ$206,4,FALSE)))","v":""},null,null,null,"",null,null,null,{"$f":"IF(B3844=\"\",\"\",IF(ISERROR(VLOOKUP(B3844,database!$A$6:$BFQ$206,3,FALSE)),\"\",VLOOKUP(B3844,database!$A$6:$BFQ$206,3,FALSE)))","v":""},null,null,null,null,null,null,""]
["",null,{"$f":"IF(B3845=\"\",\"\",IF(ISERROR(VLOOKUP(B3845,database!$A$6:$BFQ$206,4,FALSE)),\"\",VLOOKUP(B3845,database!$A$6:$BFQ$206,4,FALSE)))","v":""},null,null,null,"",null,null,null,{"$f":"IF(B3845=\"\",\"\",IF(ISERROR(VLOOKUP(B3845,database!$A$6:$BFQ$206,3,FALSE)),\"\",VLOOKUP(B3845,database!$A$6:$BFQ$206,3,FALSE)))","v":""},null,null,null,null,null,null,""]
["",null,{"$f":"IF(B3847=\"\",\"\",IF(ISERROR(VLOOKUP(B3847,database!$A$6:$BFQ$206,4,FALSE)),\"\",VLOOKUP(B3847,database!$A$6:$BFQ$206,4,FALSE)))","v":""},null,null,null,"",null,null,null,{"$f":"IF(B3847=\"\",\"\",IF(ISERROR(VLOOKUP(B3847,database!$A$6:$BFQ$206,3,FALSE)),\"\",VLOOKUP(B3847,database!$A$6:$BFQ$206,3,FALSE)))","v":""},null,null,null,null,null,null,""]
["",null,{"$f":"IF(B3848=\"\",\"\",IF(ISERROR(VLOOKUP(B3848,database!$A$6:$BFQ$206,4,FALSE)),\"\",VLOOKUP(B3848,database!$A$6:$BFQ$206,4,FALSE)))","v":""},null,null,null,"",null,null,null,{"$f":"IF(B3848=\"\",\"\",IF(ISERROR(VLOOKUP(B3848,database!$A$6:$BFQ$206,3,FALSE)),\"\",VLOOKUP(B3848,database!$A$6:$BFQ$206,3,FALSE)))","v":""},null,null,null,null,null,null,""]
["",null,{"$f":"IF(B3851=\"\",\"\",IF(ISERROR(VLOOKUP(B3851,database!$A$6:$BFQ$206,4,FALSE)),\"\",VLOOKUP(B3851,database!$A$6:$BFQ$206,4,FALSE)))","v":""},null,null,null,"",null,null,null,{"$f":"IF(B3851=\"\",\"\",IF(ISERROR(VLOOKUP(B3851,database!$A$6:$BFQ$206,3,FALSE)),\"\",VLOOKUP(B3851,database!$A$6:$BFQ$206,3,FALSE)))","v":""},null,null,null,null,null,null,""]
["",null,{"$f":"IF(B3852=\"\",\"\",IF(ISERROR(VLOOKUP(B3852,database!$A$6:$BFQ$206,4,FALSE)),\"\",VLOOKUP(B3852,database!$A$6:$BFQ$206,4,FALSE)))","v":""},null,null,null,"",null,null,null,{"$f":"IF(B3852=\"\",\"\",IF(ISERROR(VLOOKUP(B3852,database!$A$6:$BFQ$206,3,FALSE)),\"\",VLOOKUP(B3852,database!$A$6:$BFQ$206,3,FALSE)))","v":""},null,null,null,null,null,null,""]
["",null,{"$f":"IF(B3854=\"\",\"\",IF(ISERROR(VLOOKUP(B3854,database!$A$6:$BFQ$206,4,FALSE)),\"\",VLOOKUP(B3854,database!$A$6:$BFQ$206,4,FALSE)))","v":""},null,null,null,"",null,null,null,{"$f":"IF(B3854=\"\",\"\",IF(ISERROR(VLOOKUP(B3854,database!$A$6:$BFQ$206,3,FALSE)),\"\",VLOOKUP(B3854,database!$A$6:$BFQ$206,3,FALSE)))","v":""},null,null,null,null,null,null,""]
["",null,{"$f":"IF(B3855=\"\",\"\",IF(ISERROR(VLOOKUP(B3855,database!$A$6:$BFQ$206,4,FALSE)),\"\",VLOOKUP(B3855,database!$A$6:$BFQ$206,4,FALSE)))","v":""},null,null,null,"",null,null,null,{"$f":"IF(B3855=\"\",\"\",IF(ISERROR(VLOOKUP(B3855,database!$A$6:$BFQ$206,3,FALSE)),\"\",VLOOKUP(B3855,database!$A$6:$BFQ$206,3,FALSE)))","v":""},null,null,null,null,null,null,""]
["",null,{"$f":"IF(B3858=\"\",\"\",IF(ISERROR(VLOOKUP(B3858,database!$A$6:$BFQ$206,4,FALSE)),\"\",VLOOKUP(B3858,database!$A$6:$BFQ$206,4,FALSE)))","v":""},null,null,null,"",null,null,null,{"$f":"IF(B3858=\"\",\"\",IF(ISERROR(VLOOKUP(B3858,database!$A$6:$BFQ$206,3,FALSE)),\"\",VLOOKUP(B3858,database!$A$6:$BFQ$206,3,FALSE)))","v":""},null,null,null,null,null,null,""]
["",null,{"$f":"IF(B3859=\"\",\"\",IF(ISERROR(VLOOKUP(B3859,database!$A$6:$BFQ$206,4,FALSE)),\"\",VLOOKUP(B3859,database!$A$6:$BFQ$206,4,FALSE)))","v":""},null,null,null,"",null,null,null,{"$f":"IF(B3859=\"\",\"\",IF(ISERROR(VLOOKUP(B3859,database!$A$6:$BFQ$206,3,FALSE)),\"\",VLOOKUP(B3859,database!$A$6:$BFQ$206,3,FALSE)))","v":""},null,null,null,null,null,null,""]
["",null,{"$f":"IF(B3861=\"\",\"\",IF(ISERROR(VLOOKUP(B3861,database!$A$6:$BFQ$206,4,FALSE)),\"\",VLOOKUP(B3861,database!$A$6:$BFQ$206,4,FALSE)))","v":""},null,null,null,"",null,null,null,{"$f":"IF(B3861=\"\",\"\",IF(ISERROR(VLOOKUP(B3861,database!$A$6:$BFQ$206,3,FALSE)),\"\",VLOOKUP(B3861,database!$A$6:$BFQ$206,3,FALSE)))","v":""},null,null,null,null,null,null,""]
["",null,{"$f":"IF(B3862=\"\",\"\",IF(ISERROR(VLOOKUP(B3862,database!$A$6:$BFQ$206,4,FALSE)),\"\",VLOOKUP(B3862,database!$A$6:$BFQ$206,4,FALSE)))","v":""},null,null,null,"",null,null,null,{"$f":"IF(B3862=\"\",\"\",IF(ISERROR(VLOOKUP(B3862,database!$A$6:$BFQ$206,3,FALSE)),\"\",VLOOKUP(B3862,database!$A$6:$BFQ$206,3,FALSE)))","v":""},null,null,null,null,null,null,""]
["",null,{"$f":"IF(B3865=\"\",\"\",IF(ISERROR(VLOOKUP(B3865,database!$A$6:$BFQ$206,4,FALSE)),\"\",VLOOKUP(B3865,database!$A$6:$BFQ$206,4,FALSE)))","v":""},null,null,null,"",null,null,null,{"$f":"IF(B3865=\"\",\"\",IF(ISERROR(VLOOKUP(B3865,database!$A$6:$BFQ$206,3,FALSE)),\"\",VLOOKUP(B3865,database!$A$6:$BFQ$206,3,FALSE)))","v":""},null,null,null,null,null,null,""]
["",null,{"$f":"IF(B3866=\"\",\"\",IF(ISERROR(VLOOKUP(B3866,database!$A$6:$BFQ$206,4,FALSE)),\"\",VLOOKUP(B3866,database!$A$6:$BFQ$206,4,FALSE)))","v":""},null,null,null,"",null,null,null,{"$f":"IF(B3866=\"\",\"\",IF(ISERROR(VLOOKUP(B3866,database!$A$6:$BFQ$206,3,FALSE)),\"\",VLOOKUP(B3866,database!$A$6:$BFQ$206,3,FALSE)))","v":""},null,null,null,null,null,null,""]
["",null,{"$f":"IF(B3868=\"\",\"\",IF(ISERROR(VLOOKUP(B3868,database!$A$6:$BFQ$206,4,FALSE)),\"\",VLOOKUP(B3868,database!$A$6:$BFQ$206,4,FALSE)))","v":""},null,null,null,"",null,null,null,{"$f":"IF(B3868=\"\",\"\",IF(ISERROR(VLOOKUP(B3868,database!$A$6:$BFQ$206,3,FALSE)),\"\",VLOOKUP(B3868,database!$A$6:$BFQ$206,3,FALSE)))","v":""},null,null,null,null,null,null,""]
["",null,{"$f":"IF(B3869=\"\",\"\",IF(ISERROR(VLOOKUP(B3869,database!$A$6:$BFQ$206,4,FALSE)),\"\",VLOOKUP(B3869,database!$A$6:$BFQ$206,4,FALSE)))","v":""},null,null,null,"",null,null,null,{"$f":"IF(B3869=\"\",\"\",IF(ISERROR(VLOOKUP(B3869,database!$A$6:$BFQ$206,3,FALSE)),\"\",VLOOKUP(B3869,database!$A$6:$BFQ$206,3,FALSE)))","v":""},null,null,null,null,null,null,""]
["",null,{"$f":"IF(B3872=\"\",\"\",IF(ISERROR(VLOOKUP(B3872,database!$A$6:$BFQ$206,4,FALSE)),\"\",VLOOKUP(B3872,database!$A$6:$BFQ$206,4,FALSE)))","v":""},null,null,null,"",null,null,null,{"$f":"IF(B3872=\"\",\"\",IF(ISERROR(VLOOKUP(B3872,database!$A$6:$BFQ$206,3,FALSE)),\"\",VLOOKUP(B3872,database!$A$6:$BFQ$206,3,FALSE)))","v":""},null,null,null,null,null,null,""]
["",null,{"$f":"IF(B3873=\"\",\"\",IF(ISERROR(VLOOKUP(B3873,database!$A$6:$BFQ$206,4,FALSE)),\"\",VLOOKUP(B3873,database!$A$6:$BFQ$206,4,FALSE)))","v":""},null,null,null,"",null,null,null,{"$f":"IF(B3873=\"\",\"\",IF(ISERROR(VLOOKUP(B3873,database!$A$6:$BFQ$206,3,FALSE)),\"\",VLOOKUP(B3873,database!$A$6:$BFQ$206,3,FALSE)))","v":""},null,null,null,null,null,null,""]
["",null,{"$f":"IF(B3875=\"\",\"\",IF(ISERROR(VLOOKUP(B3875,database!$A$6:$BFQ$206,4,FALSE)),\"\",VLOOKUP(B3875,database!$A$6:$BFQ$206,4,FALSE)))","v":""},null,null,null,"",null,null,null,{"$f":"IF(B3875=\"\",\"\",IF(ISERROR(VLOOKUP(B3875,database!$A$6:$BFQ$206,3,FALSE)),\"\",VLOOKUP(B3875,database!$A$6:$BFQ$206,3,FALSE)))","v":""},null,null,null,null,null,null,""]
["",null,{"$f":"IF(B3876=\"\",\"\",IF(ISERROR(VLOOKUP(B3876,database!$A$6:$BFQ$206,4,FALSE)),\"\",VLOOKUP(B3876,database!$A$6:$BFQ$206,4,FALSE)))","v":""},null,null,null,"",null,null,null,{"$f":"IF(B3876=\"\",\"\",IF(ISERROR(VLOOKUP(B3876,database!$A$6:$BFQ$206,3,FALSE)),\"\",VLOOKUP(B3876,database!$A$6:$BFQ$206,3,FALSE)))","v":""},null,null,null,null,null,null,""]
["",null,{"$f":"IF(B3879=\"\",\"\",IF(ISERROR(VLOOKUP(B3879,database!$A$6:$BFQ$206,4,FALSE)),\"\",VLOOKUP(B3879,database!$A$6:$BFQ$206,4,FALSE)))","v":""},null,null,null,"",null,null,null,{"$f":"IF(B3879=\"\",\"\",IF(ISERROR(VLOOKUP(B3879,database!$A$6:$BFQ$206,3,FALSE)),\"\",VLOOKUP(B3879,database!$A$6:$BFQ$206,3,FALSE)))","v":""},null,null,null,null,null,null,""]
["",null,{"$f":"IF(B3880=\"\",\"\",IF(ISERROR(VLOOKUP(B3880,database!$A$6:$BFQ$206,4,FALSE)),\"\",VLOOKUP(B3880,database!$A$6:$BFQ$206,4,FALSE)))","v":""},null,null,null,"",null,null,null,{"$f":"IF(B3880=\"\",\"\",IF(ISERROR(VLOOKUP(B3880,database!$A$6:$BFQ$206,3,FALSE)),\"\",VLOOKUP(B3880,database!$A$6:$BFQ$206,3,FALSE)))","v":""},null,null,null,null,null,null,""]
["",null,{"$f":"IF(B3882=\"\",\"\",IF(ISERROR(VLOOKUP(B3882,database!$A$6:$BFQ$206,4,FALSE)),\"\",VLOOKUP(B3882,database!$A$6:$BFQ$206,4,FALSE)))","v":""},null,null,null,"",null,null,null,{"$f":"IF(B3882=\"\",\"\",IF(ISERROR(VLOOKUP(B3882,database!$A$6:$BFQ$206,3,FALSE)),\"\",VLOOKUP(B3882,database!$A$6:$BFQ$206,3,FALSE)))","v":""},null,null,null,null,null,null,""]
["",null,{"$f":"IF(B3883=\"\",\"\",IF(ISERROR(VLOOKUP(B3883,database!$A$6:$BFQ$206,4,FALSE)),\"\",VLOOKUP(B3883,database!$A$6:$BFQ$206,4,FALSE)))","v":""},null,null,null,"",null,null,null,{"$f":"IF(B3883=\"\",\"\",IF(ISERROR(VLOOKUP(B3883,database!$A$6:$BFQ$206,3,FALSE)),\"\",VLOOKUP(B3883,database!$A$6:$BFQ$206,3,FALSE)))","v":""},null,null,null,null,null,null,""]
["",null,{"$f":"IF(B3886=\"\",\"\",IF(ISERROR(VLOOKUP(B3886,database!$A$6:$BFQ$206,4,FALSE)),\"\",VLOOKUP(B3886,database!$A$6:$BFQ$206,4,FALSE)))","v":""},null,null,null,"",null,null,null,{"$f":"IF(B3886=\"\",\"\",IF(ISERROR(VLOOKUP(B3886,database!$A$6:$BFQ$206,3,FALSE)),\"\",VLOOKUP(B3886,database!$A$6:$BFQ$206,3,FALSE)))","v":""},null,null,null,null,null,null,""]
["",null,{"$f":"IF(B3887=\"\",\"\",IF(ISERROR(VLOOKUP(B3887,database!$A$6:$BFQ$206,4,FALSE)),\"\",VLOOKUP(B3887,database!$A$6:$BFQ$206,4,FALSE)))","v":""},null,null,null,"",null,null,null,{"$f":"IF(B3887=\"\",\"\",IF(ISERROR(VLOOKUP(B3887,database!$A$6:$BFQ$206,3,FALSE)),\"\",VLOOKUP(B3887,database!$A$6:$BFQ$206,3,FALSE)))","v":""},null,null,null,null,null,null,""]
["",null,{"$f":"IF(B3889=\"\",\"\",IF(ISERROR(VLOOKUP(B3889,database!$A$6:$BFQ$206,4,FALSE)),\"\",VLOOKUP(B3889,database!$A$6:$BFQ$206,4,FALSE)))","v":""},null,null,null,"",null,null,null,{"$f":"IF(B3889=\"\",\"\",IF(ISERROR(VLOOKUP(B3889,database!$A$6:$BFQ$206,3,FALSE)),\"\",VLOOKUP(B3889,database!$A$6:$BFQ$206,3,FALSE)))","v":""},null,null,null,null,null,null,""]
["",null,{"$f":"IF(B3890=\"\",\"\",IF(ISERROR(VLOOKUP(B3890,database!$A$6:$BFQ$206,4,FALSE)),\"\",VLOOKUP(B3890,database!$A$6:$BFQ$206,4,FALSE)))","v":""},null,null,null,"",null,null,null,{"$f":"IF(B3890=\"\",\"\",IF(ISERROR(VLOOKUP(B3890,database!$A$6:$BFQ$206,3,FALSE)),\"\",VLOOKUP(B3890,database!$A$6:$BFQ$206,3,FALSE)))","v":""},null,null,null,null,null,null,""]
["",null,{"$f":"IF(B3893=\"\",\"\",IF(ISERROR(VLOOKUP(B3893,database!$A$6:$BFQ$206,4,FALSE)),\"\",VLOOKUP(B3893,database!$A$6:$BFQ$206,4,FALSE)))","v":""},null,null,null,"",null,null,null,{"$f":"IF(B3893=\"\",\"\",IF(ISERROR(VLOOKUP(B3893,database!$A$6:$BFQ$206,3,FALSE)),\"\",VLOOKUP(B3893,database!$A$6:$BFQ$206,3,FALSE)))","v":""},null,null,null,null,null,null,""]
["",null,{"$f":"IF(B3894=\"\",\"\",IF(ISERROR(VLOOKUP(B3894,database!$A$6:$BFQ$206,4,FALSE)),\"\",VLOOKUP(B3894,database!$A$6:$BFQ$206,4,FALSE)))","v":""},null,null,null,"",null,null,null,{"$f":"IF(B3894=\"\",\"\",IF(ISERROR(VLOOKUP(B3894,database!$A$6:$BFQ$206,3,FALSE)),\"\",VLOOKUP(B3894,database!$A$6:$BFQ$206,3,FALSE)))","v":""},null,null,null,null,null,null,""]
["",null,{"$f":"IF(B3896=\"\",\"\",IF(ISERROR(VLOOKUP(B3896,database!$A$6:$BFQ$206,4,FALSE)),\"\",VLOOKUP(B3896,database!$A$6:$BFQ$206,4,FALSE)))","v":""},null,null,null,"",null,null,null,{"$f":"IF(B3896=\"\",\"\",IF(ISERROR(VLOOKUP(B3896,database!$A$6:$BFQ$206,3,FALSE)),\"\",VLOOKUP(B3896,database!$A$6:$BFQ$206,3,FALSE)))","v":""},null,null,null,null,null,null,""]
["",null,{"$f":"IF(B3897=\"\",\"\",IF(ISERROR(VLOOKUP(B3897,database!$A$6:$BFQ$206,4,FALSE)),\"\",VLOOKUP(B3897,database!$A$6:$BFQ$206,4,FALSE)))","v":""},null,null,null,"",null,null,null,{"$f":"IF(B3897=\"\",\"\",IF(ISERROR(VLOOKUP(B3897,database!$A$6:$BFQ$206,3,FALSE)),\"\",VLOOKUP(B3897,database!$A$6:$BFQ$206,3,FALSE)))","v":""},null,null,null,null,null,null,""]
["",null,{"$f":"IF(B3900=\"\",\"\",IF(ISERROR(VLOOKUP(B3900,database!$A$6:$BFQ$206,4,FALSE)),\"\",VLOOKUP(B3900,database!$A$6:$BFQ$206,4,FALSE)))","v":""},null,null,null,"",null,null,null,{"$f":"IF(B3900=\"\",\"\",IF(ISERROR(VLOOKUP(B3900,database!$A$6:$BFQ$206,3,FALSE)),\"\",VLOOKUP(B3900,database!$A$6:$BFQ$206,3,FALSE)))","v":""},null,null,null,null,null,null,""]
["",null,{"$f":"IF(B3901=\"\",\"\",IF(ISERROR(VLOOKUP(B3901,database!$A$6:$BFQ$206,4,FALSE)),\"\",VLOOKUP(B3901,database!$A$6:$BFQ$206,4,FALSE)))","v":""},null,null,null,"",null,null,null,{"$f":"IF(B3901=\"\",\"\",IF(ISERROR(VLOOKUP(B3901,database!$A$6:$BFQ$206,3,FALSE)),\"\",VLOOKUP(B3901,database!$A$6:$BFQ$206,3,FALSE)))","v":""},null,null,null,null,null,null,""]
["",null,{"$f":"IF(B3903=\"\",\"\",IF(ISERROR(VLOOKUP(B3903,database!$A$6:$BFQ$206,4,FALSE)),\"\",VLOOKUP(B3903,database!$A$6:$BFQ$206,4,FALSE)))","v":""},null,null,null,"",null,null,null,{"$f":"IF(B3903=\"\",\"\",IF(ISERROR(VLOOKUP(B3903,database!$A$6:$BFQ$206,3,FALSE)),\"\",VLOOKUP(B3903,database!$A$6:$BFQ$206,3,FALSE)))","v":""},null,null,null,null,null,null,""]
["",null,{"$f":"IF(B3904=\"\",\"\",IF(ISERROR(VLOOKUP(B3904,database!$A$6:$BFQ$206,4,FALSE)),\"\",VLOOKUP(B3904,database!$A$6:$BFQ$206,4,FALSE)))","v":""},null,null,null,"",null,null,null,{"$f":"IF(B3904=\"\",\"\",IF(ISERROR(VLOOKUP(B3904,database!$A$6:$BFQ$206,3,FALSE)),\"\",VLOOKUP(B3904,database!$A$6:$BFQ$206,3,FALSE)))","v":""},null,null,null,null,null,null,""]
["",null,{"$f":"IF(B3907=\"\",\"\",IF(ISERROR(VLOOKUP(B3907,database!$A$6:$BFQ$206,4,FALSE)),\"\",VLOOKUP(B3907,database!$A$6:$BFQ$206,4,FALSE)))","v":""},null,null,null,"",null,null,null,{"$f":"IF(B3907=\"\",\"\",IF(ISERROR(VLOOKUP(B3907,database!$A$6:$BFQ$206,3,FALSE)),\"\",VLOOKUP(B3907,database!$A$6:$BFQ$206,3,FALSE)))","v":""},null,null,null,null,null,null,""]
["",null,{"$f":"IF(B3908=\"\",\"\",IF(ISERROR(VLOOKUP(B3908,database!$A$6:$BFQ$206,4,FALSE)),\"\",VLOOKUP(B3908,database!$A$6:$BFQ$206,4,FALSE)))","v":""},null,null,null,"",null,null,null,{"$f":"IF(B3908=\"\",\"\",IF(ISERROR(VLOOKUP(B3908,database!$A$6:$BFQ$206,3,FALSE)),\"\",VLOOKUP(B3908,database!$A$6:$BFQ$206,3,FALSE)))","v":""},null,null,null,null,null,null,""]
["",null,{"$f":"IF(B3910=\"\",\"\",IF(ISERROR(VLOOKUP(B3910,database!$A$6:$BFQ$206,4,FALSE)),\"\",VLOOKUP(B3910,database!$A$6:$BFQ$206,4,FALSE)))","v":""},null,null,null,"",null,null,null,{"$f":"IF(B3910=\"\",\"\",IF(ISERROR(VLOOKUP(B3910,database!$A$6:$BFQ$206,3,FALSE)),\"\",VLOOKUP(B3910,database!$A$6:$BFQ$206,3,FALSE)))","v":""},null,null,null,null,null,null,""]
["",null,{"$f":"IF(B3911=\"\",\"\",IF(ISERROR(VLOOKUP(B3911,database!$A$6:$BFQ$206,4,FALSE)),\"\",VLOOKUP(B3911,database!$A$6:$BFQ$206,4,FALSE)))","v":""},null,null,null,"",null,null,null,{"$f":"IF(B3911=\"\",\"\",IF(ISERROR(VLOOKUP(B3911,database!$A$6:$BFQ$206,3,FALSE)),\"\",VLOOKUP(B3911,database!$A$6:$BFQ$206,3,FALSE)))","v":""},null,null,null,null,null,null,""]
["",null,{"$f":"IF(B3914=\"\",\"\",IF(ISERROR(VLOOKUP(B3914,database!$A$6:$BFQ$206,4,FALSE)),\"\",VLOOKUP(B3914,database!$A$6:$BFQ$206,4,FALSE)))","v":""},null,null,null,"",null,null,null,{"$f":"IF(B3914=\"\",\"\",IF(ISERROR(VLOOKUP(B3914,database!$A$6:$BFQ$206,3,FALSE)),\"\",VLOOKUP(B3914,database!$A$6:$BFQ$206,3,FALSE)))","v":""},null,null,null,null,null,null,""]
["",null,{"$f":"IF(B3915=\"\",\"\",IF(ISERROR(VLOOKUP(B3915,database!$A$6:$BFQ$206,4,FALSE)),\"\",VLOOKUP(B3915,database!$A$6:$BFQ$206,4,FALSE)))","v":""},null,null,null,"",null,null,null,{"$f":"IF(B3915=\"\",\"\",IF(ISERROR(VLOOKUP(B3915,database!$A$6:$BFQ$206,3,FALSE)),\"\",VLOOKUP(B3915,database!$A$6:$BFQ$206,3,FALSE)))","v":""},null,null,null,null,null,null,""]
["",null,{"$f":"IF(B3917=\"\",\"\",IF(ISERROR(VLOOKUP(B3917,database!$A$6:$BFQ$206,4,FALSE)),\"\",VLOOKUP(B3917,database!$A$6:$BFQ$206,4,FALSE)))","v":""},null,null,null,"",null,null,null,{"$f":"IF(B3917=\"\",\"\",IF(ISERROR(VLOOKUP(B3917,database!$A$6:$BFQ$206,3,FALSE)),\"\",VLOOKUP(B3917,database!$A$6:$BFQ$206,3,FALSE)))","v":""},null,null,null,null,null,null,""]
["",null,{"$f":"IF(B3918=\"\",\"\",IF(ISERROR(VLOOKUP(B3918,database!$A$6:$BFQ$206,4,FALSE)),\"\",VLOOKUP(B3918,database!$A$6:$BFQ$206,4,FALSE)))","v":""},null,null,null,"",null,null,null,{"$f":"IF(B3918=\"\",\"\",IF(ISERROR(VLOOKUP(B3918,database!$A$6:$BFQ$206,3,FALSE)),\"\",VLOOKUP(B3918,database!$A$6:$BFQ$206,3,FALSE)))","v":""},null,null,null,null,null,null,""]
["",null,{"$f":"IF(B3921=\"\",\"\",IF(ISERROR(VLOOKUP(B3921,database!$A$6:$BFQ$206,4,FALSE)),\"\",VLOOKUP(B3921,database!$A$6:$BFQ$206,4,FALSE)))","v":""},null,null,null,"",null,null,null,{"$f":"IF(B3921=\"\",\"\",IF(ISERROR(VLOOKUP(B3921,database!$A$6:$BFQ$206,3,FALSE)),\"\",VLOOKUP(B3921,database!$A$6:$BFQ$206,3,FALSE)))","v":""},null,null,null,null,null,null,""]
["",null,{"$f":"IF(B3922=\"\",\"\",IF(ISERROR(VLOOKUP(B3922,database!$A$6:$BFQ$206,4,FALSE)),\"\",VLOOKUP(B3922,database!$A$6:$BFQ$206,4,FALSE)))","v":""},null,null,null,"",null,null,null,{"$f":"IF(B3922=\"\",\"\",IF(ISERROR(VLOOKUP(B3922,database!$A$6:$BFQ$206,3,FALSE)),\"\",VLOOKUP(B3922,database!$A$6:$BFQ$206,3,FALSE)))","v":""},null,null,null,null,null,null,""]
["",null,{"$f":"IF(B3925=\"\",\"\",IF(ISERROR(VLOOKUP(B3925,database!$A$6:$BFQ$206,4,FALSE)),\"\",VLOOKUP(B3925,database!$A$6:$BFQ$206,4,FALSE)))","v":""},null,null,null,"",null,null,null,{"$f":"IF(B3925=\"\",\"\",IF(ISERROR(VLOOKUP(B3925,database!$A$6:$BFQ$206,3,FALSE)),\"\",VLOOKUP(B3925,database!$A$6:$BFQ$206,3,FALSE)))","v":""},null,null,null,null,null,null,""]
["",null,{"$f":"IF(B3926=\"\",\"\",IF(ISERROR(VLOOKUP(B3926,database!$A$6:$BFQ$206,4,FALSE)),\"\",VLOOKUP(B3926,database!$A$6:$BFQ$206,4,FALSE)))","v":""},null,null,null,"",null,null,null,{"$f":"IF(B3926=\"\",\"\",IF(ISERROR(VLOOKUP(B3926,database!$A$6:$BFQ$206,3,FALSE)),\"\",VLOOKUP(B3926,database!$A$6:$BFQ$206,3,FALSE)))","v":""},null,null,null,null,null,null,""]
["",null,{"$f":"IF(B3928=\"\",\"\",IF(ISERROR(VLOOKUP(B3928,database!$A$6:$BFQ$206,4,FALSE)),\"\",VLOOKUP(B3928,database!$A$6:$BFQ$206,4,FALSE)))","v":""},null,null,null,"",null,null,null,{"$f":"IF(B3928=\"\",\"\",IF(ISERROR(VLOOKUP(B3928,database!$A$6:$BFQ$206,3,FALSE)),\"\",VLOOKUP(B3928,database!$A$6:$BFQ$206,3,FALSE)))","v":""},null,null,null,null,null,null,""]
["",null,{"$f":"IF(B3929=\"\",\"\",IF(ISERROR(VLOOKUP(B3929,database!$A$6:$BFQ$206,4,FALSE)),\"\",VLOOKUP(B3929,database!$A$6:$BFQ$206,4,FALSE)))","v":""},null,null,null,"",null,null,null,{"$f":"IF(B3929=\"\",\"\",IF(ISERROR(VLOOKUP(B3929,database!$A$6:$BFQ$206,3,FALSE)),\"\",VLOOKUP(B3929,database!$A$6:$BFQ$206,3,FALSE)))","v":""},null,null,null,null,null,null,""]
["",null,{"$f":"IF(B3932=\"\",\"\",IF(ISERROR(VLOOKUP(B3932,database!$A$6:$BFQ$206,4,FALSE)),\"\",VLOOKUP(B3932,database!$A$6:$BFQ$206,4,FALSE)))","v":""},null,null,null,"",null,null,null,{"$f":"IF(B3932=\"\",\"\",IF(ISERROR(VLOOKUP(B3932,database!$A$6:$BFQ$206,3,FALSE)),\"\",VLOOKUP(B3932,database!$A$6:$BFQ$206,3,FALSE)))","v":""},null,null,null,null,null,null,""]
["",null,{"$f":"IF(B3933=\"\",\"\",IF(ISERROR(VLOOKUP(B3933,database!$A$6:$BFQ$206,4,FALSE)),\"\",VLOOKUP(B3933,database!$A$6:$BFQ$206,4,FALSE)))","v":""},null,null,null,"",null,null,null,{"$f":"IF(B3933=\"\",\"\",IF(ISERROR(VLOOKUP(B3933,database!$A$6:$BFQ$206,3,FALSE)),\"\",VLOOKUP(B3933,database!$A$6:$BFQ$206,3,FALSE)))","v":""},null,null,null,null,null,null,""]
["",null,{"$f":"IF(B3935=\"\",\"\",IF(ISERROR(VLOOKUP(B3935,database!$A$6:$BFQ$206,4,FALSE)),\"\",VLOOKUP(B3935,database!$A$6:$BFQ$206,4,FALSE)))","v":""},null,null,null,"",null,null,null,{"$f":"IF(B3935=\"\",\"\",IF(ISERROR(VLOOKUP(B3935,database!$A$6:$BFQ$206,3,FALSE)),\"\",VLOOKUP(B3935,database!$A$6:$BFQ$206,3,FALSE)))","v":""},null,null,null,null,null,null,""]
["",null,{"$f":"IF(B3936=\"\",\"\",IF(ISERROR(VLOOKUP(B3936,database!$A$6:$BFQ$206,4,FALSE)),\"\",VLOOKUP(B3936,database!$A$6:$BFQ$206,4,FALSE)))","v":""},null,null,null,"",null,null,null,{"$f":"IF(B3936=\"\",\"\",IF(ISERROR(VLOOKUP(B3936,database!$A$6:$BFQ$206,3,FALSE)),\"\",VLOOKUP(B3936,database!$A$6:$BFQ$206,3,FALSE)))","v":""},null,null,null,null,null,null,""]
["",null,{"$f":"IF(B3939=\"\",\"\",IF(ISERROR(VLOOKUP(B3939,database!$A$6:$BFQ$206,4,FALSE)),\"\",VLOOKUP(B3939,database!$A$6:$BFQ$206,4,FALSE)))","v":""},null,null,null,"",null,null,null,{"$f":"IF(B3939=\"\",\"\",IF(ISERROR(VLOOKUP(B3939,database!$A$6:$BFQ$206,3,FALSE)),\"\",VLOOKUP(B3939,database!$A$6:$BFQ$206,3,FALSE)))","v":""},null,null,null,null,null,null,""]
["",null,{"$f":"IF(B3940=\"\",\"\",IF(ISERROR(VLOOKUP(B3940,database!$A$6:$BFQ$206,4,FALSE)),\"\",VLOOKUP(B3940,database!$A$6:$BFQ$206,4,FALSE)))","v":""},null,null,null,"",null,null,null,{"$f":"IF(B3940=\"\",\"\",IF(ISERROR(VLOOKUP(B3940,database!$A$6:$BFQ$206,3,FALSE)),\"\",VLOOKUP(B3940,database!$A$6:$BFQ$206,3,FALSE)))","v":""},null,null,null,null,null,null,""]
["",null,{"$f":"IF(B3942=\"\",\"\",IF(ISERROR(VLOOKUP(B3942,database!$A$6:$BFQ$206,4,FALSE)),\"\",VLOOKUP(B3942,database!$A$6:$BFQ$206,4,FALSE)))","v":""},null,null,null,"",null,null,null,{"$f":"IF(B3942=\"\",\"\",IF(ISERROR(VLOOKUP(B3942,database!$A$6:$BFQ$206,3,FALSE)),\"\",VLOOKUP(B3942,database!$A$6:$BFQ$206,3,FALSE)))","v":""},null,null,null,null,null,null,""]
["",null,{"$f":"IF(B3943=\"\",\"\",IF(ISERROR(VLOOKUP(B3943,database!$A$6:$BFQ$206,4,FALSE)),\"\",VLOOKUP(B3943,database!$A$6:$BFQ$206,4,FALSE)))","v":""},null,null,null,"",null,null,null,{"$f":"IF(B3943=\"\",\"\",IF(ISERROR(VLOOKUP(B3943,database!$A$6:$BFQ$206,3,FALSE)),\"\",VLOOKUP(B3943,database!$A$6:$BFQ$206,3,FALSE)))","v":""},null,null,null,null,null,null,""]
["",null,{"$f":"IF(B3946=\"\",\"\",IF(ISERROR(VLOOKUP(B3946,database!$A$6:$BFQ$206,4,FALSE)),\"\",VLOOKUP(B3946,database!$A$6:$BFQ$206,4,FALSE)))","v":""},null,null,null,"",null,null,null,{"$f":"IF(B3946=\"\",\"\",IF(ISERROR(VLOOKUP(B3946,database!$A$6:$BFQ$206,3,FALSE)),\"\",VLOOKUP(B3946,database!$A$6:$BFQ$206,3,FALSE)))","v":""},null,null,null,null,null,null,""]
["",null,{"$f":"IF(B3947=\"\",\"\",IF(ISERROR(VLOOKUP(B3947,database!$A$6:$BFQ$206,4,FALSE)),\"\",VLOOKUP(B3947,database!$A$6:$BFQ$206,4,FALSE)))","v":""},null,null,null,"",null,null,null,{"$f":"IF(B3947=\"\",\"\",IF(ISERROR(VLOOKUP(B3947,database!$A$6:$BFQ$206,3,FALSE)),\"\",VLOOKUP(B3947,database!$A$6:$BFQ$206,3,FALSE)))","v":""},null,null,null,null,null,null,""]
["",null,{"$f":"IF(B3949=\"\",\"\",IF(ISERROR(VLOOKUP(B3949,database!$A$6:$BFQ$206,4,FALSE)),\"\",VLOOKUP(B3949,database!$A$6:$BFQ$206,4,FALSE)))","v":""},null,null,null,"",null,null,null,{"$f":"IF(B3949=\"\",\"\",IF(ISERROR(VLOOKUP(B3949,database!$A$6:$BFQ$206,3,FALSE)),\"\",VLOOKUP(B3949,database!$A$6:$BFQ$206,3,FALSE)))","v":""},null,null,null,null,null,null,""]
["",null,{"$f":"IF(B3950=\"\",\"\",IF(ISERROR(VLOOKUP(B3950,database!$A$6:$BFQ$206,4,FALSE)),\"\",VLOOKUP(B3950,database!$A$6:$BFQ$206,4,FALSE)))","v":""},null,null,null,"",null,null,null,{"$f":"IF(B3950=\"\",\"\",IF(ISERROR(VLOOKUP(B3950,database!$A$6:$BFQ$206,3,FALSE)),\"\",VLOOKUP(B3950,database!$A$6:$BFQ$206,3,FALSE)))","v":""},null,null,null,null,null,null,""]
["",null,{"$f":"IF(B3953=\"\",\"\",IF(ISERROR(VLOOKUP(B3953,database!$A$6:$BFQ$206,4,FALSE)),\"\",VLOOKUP(B3953,database!$A$6:$BFQ$206,4,FALSE)))","v":""},null,null,null,"",null,null,null,{"$f":"IF(B3953=\"\",\"\",IF(ISERROR(VLOOKUP(B3953,database!$A$6:$BFQ$206,3,FALSE)),\"\",VLOOKUP(B3953,database!$A$6:$BFQ$206,3,FALSE)))","v":""},null,null,null,null,null,null,""]
["",null,{"$f":"IF(B3954=\"\",\"\",IF(ISERROR(VLOOKUP(B3954,database!$A$6:$BFQ$206,4,FALSE)),\"\",VLOOKUP(B3954,database!$A$6:$BFQ$206,4,FALSE)))","v":""},null,null,null,"",null,null,null,{"$f":"IF(B3954=\"\",\"\",IF(ISERROR(VLOOKUP(B3954,database!$A$6:$BFQ$206,3,FALSE)),\"\",VLOOKUP(B3954,database!$A$6:$BFQ$206,3,FALSE)))","v":""},null,null,null,null,null,null,""]
["",null,{"$f":"IF(B3956=\"\",\"\",IF(ISERROR(VLOOKUP(B3956,database!$A$6:$BFQ$206,4,FALSE)),\"\",VLOOKUP(B3956,database!$A$6:$BFQ$206,4,FALSE)))","v":""},null,null,null,"",null,null,null,{"$f":"IF(B3956=\"\",\"\",IF(ISERROR(VLOOKUP(B3956,database!$A$6:$BFQ$206,3,FALSE)),\"\",VLOOKUP(B3956,database!$A$6:$BFQ$206,3,FALSE)))","v":""},null,null,null,null,null,null,""]
["",null,{"$f":"IF(B3957=\"\",\"\",IF(ISERROR(VLOOKUP(B3957,database!$A$6:$BFQ$206,4,FALSE)),\"\",VLOOKUP(B3957,database!$A$6:$BFQ$206,4,FALSE)))","v":""},null,null,null,"",null,null,null,{"$f":"IF(B3957=\"\",\"\",IF(ISERROR(VLOOKUP(B3957,database!$A$6:$BFQ$206,3,FALSE)),\"\",VLOOKUP(B3957,database!$A$6:$BFQ$206,3,FALSE)))","v":""},null,null,null,null,null,null,""]
["",null,{"$f":"IF(B3960=\"\",\"\",IF(ISERROR(VLOOKUP(B3960,database!$A$6:$BFQ$206,4,FALSE)),\"\",VLOOKUP(B3960,database!$A$6:$BFQ$206,4,FALSE)))","v":""},null,null,null,"",null,null,null,{"$f":"IF(B3960=\"\",\"\",IF(ISERROR(VLOOKUP(B3960,database!$A$6:$BFQ$206,3,FALSE)),\"\",VLOOKUP(B3960,database!$A$6:$BFQ$206,3,FALSE)))","v":""},null,null,null,null,null,null,""]
["",null,{"$f":"IF(B3961=\"\",\"\",IF(ISERROR(VLOOKUP(B3961,database!$A$6:$BFQ$206,4,FALSE)),\"\",VLOOKUP(B3961,database!$A$6:$BFQ$206,4,FALSE)))","v":""},null,null,null,"",null,null,null,{"$f":"IF(B3961=\"\",\"\",IF(ISERROR(VLOOKUP(B3961,database!$A$6:$BFQ$206,3,FALSE)),\"\",VLOOKUP(B3961,database!$A$6:$BFQ$206,3,FALSE)))","v":""},null,null,null,null,null,null,""]
["",null,{"$f":"IF(B3963=\"\",\"\",IF(ISERROR(VLOOKUP(B3963,database!$A$6:$BFQ$206,4,FALSE)),\"\",VLOOKUP(B3963,database!$A$6:$BFQ$206,4,FALSE)))","v":""},null,null,null,"",null,null,null,{"$f":"IF(B3963=\"\",\"\",IF(ISERROR(VLOOKUP(B3963,database!$A$6:$BFQ$206,3,FALSE)),\"\",VLOOKUP(B3963,database!$A$6:$BFQ$206,3,FALSE)))","v":""},null,null,null,null,null,null,""]
["",null,{"$f":"IF(B3964=\"\",\"\",IF(ISERROR(VLOOKUP(B3964,database!$A$6:$BFQ$206,4,FALSE)),\"\",VLOOKUP(B3964,database!$A$6:$BFQ$206,4,FALSE)))","v":""},null,null,null,"",null,null,null,{"$f":"IF(B3964=\"\",\"\",IF(ISERROR(VLOOKUP(B3964,database!$A$6:$BFQ$206,3,FALSE)),\"\",VLOOKUP(B3964,database!$A$6:$BFQ$206,3,FALSE)))","v":""},null,null,null,null,null,null,""]
["",null,{"$f":"IF(B3967=\"\",\"\",IF(ISERROR(VLOOKUP(B3967,database!$A$6:$BFQ$206,4,FALSE)),\"\",VLOOKUP(B3967,database!$A$6:$BFQ$206,4,FALSE)))","v":""},null,null,null,"",null,null,null,{"$f":"IF(B3967=\"\",\"\",IF(ISERROR(VLOOKUP(B3967,database!$A$6:$BFQ$206,3,FALSE)),\"\",VLOOKUP(B3967,database!$A$6:$BFQ$206,3,FALSE)))","v":""},null,null,null,null,null,null,""]
["",null,{"$f":"IF(B3968=\"\",\"\",IF(ISERROR(VLOOKUP(B3968,database!$A$6:$BFQ$206,4,FALSE)),\"\",VLOOKUP(B3968,database!$A$6:$BFQ$206,4,FALSE)))","v":""},null,null,null,"",null,null,null,{"$f":"IF(B3968=\"\",\"\",IF(ISERROR(VLOOKUP(B3968,database!$A$6:$BFQ$206,3,FALSE)),\"\",VLOOKUP(B3968,database!$A$6:$BFQ$206,3,FALSE)))","v":""},null,null,null,null,null,null,""]
["",null,{"$f":"IF(B3970=\"\",\"\",IF(ISERROR(VLOOKUP(B3970,database!$A$6:$BFQ$206,4,FALSE)),\"\",VLOOKUP(B3970,database!$A$6:$BFQ$206,4,FALSE)))","v":""},null,null,null,"",null,null,null,{"$f":"IF(B3970=\"\",\"\",IF(ISERROR(VLOOKUP(B3970,database!$A$6:$BFQ$206,3,FALSE)),\"\",VLOOKUP(B3970,database!$A$6:$BFQ$206,3,FALSE)))","v":""},null,null,null,null,null,null,""]
["",null,{"$f":"IF(B3971=\"\",\"\",IF(ISERROR(VLOOKUP(B3971,database!$A$6:$BFQ$206,4,FALSE)),\"\",VLOOKUP(B3971,database!$A$6:$BFQ$206,4,FALSE)))","v":""},null,null,null,"",null,null,null,{"$f":"IF(B3971=\"\",\"\",IF(ISERROR(VLOOKUP(B3971,database!$A$6:$BFQ$206,3,FALSE)),\"\",VLOOKUP(B3971,database!$A$6:$BFQ$206,3,FALSE)))","v":""},null,null,null,null,null,null,""]
["",null,{"$f":"IF(B3974=\"\",\"\",IF(ISERROR(VLOOKUP(B3974,database!$A$6:$BFQ$206,4,FALSE)),\"\",VLOOKUP(B3974,database!$A$6:$BFQ$206,4,FALSE)))","v":""},null,null,null,"",null,null,null,{"$f":"IF(B3974=\"\",\"\",IF(ISERROR(VLOOKUP(B3974,database!$A$6:$BFQ$206,3,FALSE)),\"\",VLOOKUP(B3974,database!$A$6:$BFQ$206,3,FALSE)))","v":""},null,null,null,null,null,null,""]
["",null,{"$f":"IF(B3975=\"\",\"\",IF(ISERROR(VLOOKUP(B3975,database!$A$6:$BFQ$206,4,FALSE)),\"\",VLOOKUP(B3975,database!$A$6:$BFQ$206,4,FALSE)))","v":""},null,null,null,"",null,null,null,{"$f":"IF(B3975=\"\",\"\",IF(ISERROR(VLOOKUP(B3975,database!$A$6:$BFQ$206,3,FALSE)),\"\",VLOOKUP(B3975,database!$A$6:$BFQ$206,3,FALSE)))","v":""},null,null,null,null,null,null,""]
["",null,{"$f":"IF(B3977=\"\",\"\",IF(ISERROR(VLOOKUP(B3977,database!$A$6:$BFQ$206,4,FALSE)),\"\",VLOOKUP(B3977,database!$A$6:$BFQ$206,4,FALSE)))","v":""},null,null,null,"",null,null,null,{"$f":"IF(B3977=\"\",\"\",IF(ISERROR(VLOOKUP(B3977,database!$A$6:$BFQ$206,3,FALSE)),\"\",VLOOKUP(B3977,database!$A$6:$BFQ$206,3,FALSE)))","v":""},null,null,null,null,null,null,""]
["",null,{"$f":"IF(B3978=\"\",\"\",IF(ISERROR(VLOOKUP(B3978,database!$A$6:$BFQ$206,4,FALSE)),\"\",VLOOKUP(B3978,database!$A$6:$BFQ$206,4,FALSE)))","v":""},null,null,null,"",null,null,null,{"$f":"IF(B3978=\"\",\"\",IF(ISERROR(VLOOKUP(B3978,database!$A$6:$BFQ$206,3,FALSE)),\"\",VLOOKUP(B3978,database!$A$6:$BFQ$206,3,FALSE)))","v":""},null,null,null,null,null,null,""]
["",null,{"$f":"IF(B3981=\"\",\"\",IF(ISERROR(VLOOKUP(B3981,database!$A$6:$BFQ$206,4,FALSE)),\"\",VLOOKUP(B3981,database!$A$6:$BFQ$206,4,FALSE)))","v":""},null,null,null,"",null,null,null,{"$f":"IF(B3981=\"\",\"\",IF(ISERROR(VLOOKUP(B3981,database!$A$6:$BFQ$206,3,FALSE)),\"\",VLOOKUP(B3981,database!$A$6:$BFQ$206,3,FALSE)))","v":""},null,null,null,null,null,null,""]
["",null,{"$f":"IF(B3982=\"\",\"\",IF(ISERROR(VLOOKUP(B3982,database!$A$6:$BFQ$206,4,FALSE)),\"\",VLOOKUP(B3982,database!$A$6:$BFQ$206,4,FALSE)))","v":""},null,null,null,"",null,null,null,{"$f":"IF(B3982=\"\",\"\",IF(ISERROR(VLOOKUP(B3982,database!$A$6:$BFQ$206,3,FALSE)),\"\",VLOOKUP(B3982,database!$A$6:$BFQ$206,3,FALSE)))","v":""},null,null,null,null,null,null,""]
["",null,{"$f":"IF(B3984=\"\",\"\",IF(ISERROR(VLOOKUP(B3984,database!$A$6:$BFQ$206,4,FALSE)),\"\",VLOOKUP(B3984,database!$A$6:$BFQ$206,4,FALSE)))","v":""},null,null,null,"",null,null,null,{"$f":"IF(B3984=\"\",\"\",IF(ISERROR(VLOOKUP(B3984,database!$A$6:$BFQ$206,3,FALSE)),\"\",VLOOKUP(B3984,database!$A$6:$BFQ$206,3,FALSE)))","v":""},null,null,null,null,null,null,""]
["",null,{"$f":"IF(B3985=\"\",\"\",IF(ISERROR(VLOOKUP(B3985,database!$A$6:$BFQ$206,4,FALSE)),\"\",VLOOKUP(B3985,database!$A$6:$BFQ$206,4,FALSE)))","v":""},null,null,null,"",null,null,null,{"$f":"IF(B3985=\"\",\"\",IF(ISERROR(VLOOKUP(B3985,database!$A$6:$BFQ$206,3,FALSE)),\"\",VLOOKUP(B3985,database!$A$6:$BFQ$206,3,FALSE)))","v":""},null,null,null,null,null,null,""]
["",null,{"$f":"IF(B3988=\"\",\"\",IF(ISERROR(VLOOKUP(B3988,database!$A$6:$BFQ$206,4,FALSE)),\"\",VLOOKUP(B3988,database!$A$6:$BFQ$206,4,FALSE)))","v":""},null,null,null,"",null,null,null,{"$f":"IF(B3988=\"\",\"\",IF(ISERROR(VLOOKUP(B3988,database!$A$6:$BFQ$206,3,FALSE)),\"\",VLOOKUP(B3988,database!$A$6:$BFQ$206,3,FALSE)))","v":""},null,null,null,null,null,null,""]
["",null,{"$f":"IF(B3989=\"\",\"\",IF(ISERROR(VLOOKUP(B3989,database!$A$6:$BFQ$206,4,FALSE)),\"\",VLOOKUP(B3989,database!$A$6:$BFQ$206,4,FALSE)))","v":""},null,null,null,"",null,null,null,{"$f":"IF(B3989=\"\",\"\",IF(ISERROR(VLOOKUP(B3989,database!$A$6:$BFQ$206,3,FALSE)),\"\",VLOOKUP(B3989,database!$A$6:$BFQ$206,3,FALSE)))","v":""},null,null,null,null,null,null,""]
["",null,{"$f":"IF(B3991=\"\",\"\",IF(ISERROR(VLOOKUP(B3991,database!$A$6:$BFQ$206,4,FALSE)),\"\",VLOOKUP(B3991,database!$A$6:$BFQ$206,4,FALSE)))","v":""},null,null,null,"",null,null,null,{"$f":"IF(B3991=\"\",\"\",IF(ISERROR(VLOOKUP(B3991,database!$A$6:$BFQ$206,3,FALSE)),\"\",VLOOKUP(B3991,database!$A$6:$BFQ$206,3,FALSE)))","v":""},null,null,null,null,null,null,""]
["",null,{"$f":"IF(B3992=\"\",\"\",IF(ISERROR(VLOOKUP(B3992,database!$A$6:$BFQ$206,4,FALSE)),\"\",VLOOKUP(B3992,database!$A$6:$BFQ$206,4,FALSE)))","v":""},null,null,null,"",null,null,null,{"$f":"IF(B3992=\"\",\"\",IF(ISERROR(VLOOKUP(B3992,database!$A$6:$BFQ$206,3,FALSE)),\"\",VLOOKUP(B3992,database!$A$6:$BFQ$206,3,FALSE)))","v":""},null,null,null,null,null,null,""]
["",null,{"$f":"IF(B3995=\"\",\"\",IF(ISERROR(VLOOKUP(B3995,database!$A$6:$BFQ$206,4,FALSE)),\"\",VLOOKUP(B3995,database!$A$6:$BFQ$206,4,FALSE)))","v":""},null,null,null,"",null,null,null,{"$f":"IF(B3995=\"\",\"\",IF(ISERROR(VLOOKUP(B3995,database!$A$6:$BFQ$206,3,FALSE)),\"\",VLOOKUP(B3995,database!$A$6:$BFQ$206,3,FALSE)))","v":""},null,null,null,null,null,null,""]
["",null,{"$f":"IF(B3996=\"\",\"\",IF(ISERROR(VLOOKUP(B3996,database!$A$6:$BFQ$206,4,FALSE)),\"\",VLOOKUP(B3996,database!$A$6:$BFQ$206,4,FALSE)))","v":""},null,null,null,"",null,null,null,{"$f":"IF(B3996=\"\",\"\",IF(ISERROR(VLOOKUP(B3996,database!$A$6:$BFQ$206,3,FALSE)),\"\",VLOOKUP(B3996,database!$A$6:$BFQ$206,3,FALSE)))","v":""},null,null,null,null,null,null,""]
["",null,{"$f":"IF(B3998=\"\",\"\",IF(ISERROR(VLOOKUP(B3998,database!$A$6:$BFQ$206,4,FALSE)),\"\",VLOOKUP(B3998,database!$A$6:$BFQ$206,4,FALSE)))","v":""},null,null,null,"",null,null,null,{"$f":"IF(B3998=\"\",\"\",IF(ISERROR(VLOOKUP(B3998,database!$A$6:$BFQ$206,3,FALSE)),\"\",VLOOKUP(B3998,database!$A$6:$BFQ$206,3,FALSE)))","v":""},null,null,null,null,null,null,""]
["",null,{"$f":"IF(B3999=\"\",\"\",IF(ISERROR(VLOOKUP(B3999,database!$A$6:$BFQ$206,4,FALSE)),\"\",VLOOKUP(B3999,database!$A$6:$BFQ$206,4,FALSE)))","v":""},null,null,null,"",null,null,null,{"$f":"IF(B3999=\"\",\"\",IF(ISERROR(VLOOKUP(B3999,database!$A$6:$BFQ$206,3,FALSE)),\"\",VLOOKUP(B3999,database!$A$6:$BFQ$206,3,FALSE)))","v":""},null,null,null,null,null,null,""]
["",null,{"$f":"IF(B4002=\"\",\"\",IF(ISERROR(VLOOKUP(B4002,database!$A$6:$BFQ$206,4,FALSE)),\"\",VLOOKUP(B4002,database!$A$6:$BFQ$206,4,FALSE)))","v":""},null,null,null,"",null,null,null,{"$f":"IF(B4002=\"\",\"\",IF(ISERROR(VLOOKUP(B4002,database!$A$6:$BFQ$206,3,FALSE)),\"\",VLOOKUP(B4002,database!$A$6:$BFQ$206,3,FALSE)))","v":""},null,null,null,null,null,null,""]
["",null,{"$f":"IF(B4003=\"\",\"\",IF(ISERROR(VLOOKUP(B4003,database!$A$6:$BFQ$206,4,FALSE)),\"\",VLOOKUP(B4003,database!$A$6:$BFQ$206,4,FALSE)))","v":""},null,null,null,"",null,null,null,{"$f":"IF(B4003=\"\",\"\",IF(ISERROR(VLOOKUP(B4003,database!$A$6:$BFQ$206,3,FALSE)),\"\",VLOOKUP(B4003,database!$A$6:$BFQ$206,3,FALSE)))","v":""},null,null,null,null,null,null,""]
["",null,{"$f":"IF(B4005=\"\",\"\",IF(ISERROR(VLOOKUP(B4005,database!$A$6:$BFQ$206,4,FALSE)),\"\",VLOOKUP(B4005,database!$A$6:$BFQ$206,4,FALSE)))","v":""},null,null,null,"",null,null,null,{"$f":"IF(B4005=\"\",\"\",IF(ISERROR(VLOOKUP(B4005,database!$A$6:$BFQ$206,3,FALSE)),\"\",VLOOKUP(B4005,database!$A$6:$BFQ$206,3,FALSE)))","v":""},null,null,null,null,null,null,""]
["",null,{"$f":"IF(B4006=\"\",\"\",IF(ISERROR(VLOOKUP(B4006,database!$A$6:$BFQ$206,4,FALSE)),\"\",VLOOKUP(B4006,database!$A$6:$BFQ$206,4,FALSE)))","v":""},null,null,null,"",null,null,null,{"$f":"IF(B4006=\"\",\"\",IF(ISERROR(VLOOKUP(B4006,database!$A$6:$BFQ$206,3,FALSE)),\"\",VLOOKUP(B4006,database!$A$6:$BFQ$206,3,FALSE)))","v":""},null,null,null,null,null,null,""]
["",null,{"$f":"IF(B4009=\"\",\"\",IF(ISERROR(VLOOKUP(B4009,database!$A$6:$BFQ$206,4,FALSE)),\"\",VLOOKUP(B4009,database!$A$6:$BFQ$206,4,FALSE)))","v":""},null,null,null,"",null,null,null,{"$f":"IF(B4009=\"\",\"\",IF(ISERROR(VLOOKUP(B4009,database!$A$6:$BFQ$206,3,FALSE)),\"\",VLOOKUP(B4009,database!$A$6:$BFQ$206,3,FALSE)))","v":""},null,null,null,null,null,null,""]
["",null,{"$f":"IF(B4010=\"\",\"\",IF(ISERROR(VLOOKUP(B4010,database!$A$6:$BFQ$206,4,FALSE)),\"\",VLOOKUP(B4010,database!$A$6:$BFQ$206,4,FALSE)))","v":""},null,null,null,"",null,null,null,{"$f":"IF(B4010=\"\",\"\",IF(ISERROR(VLOOKUP(B4010,database!$A$6:$BFQ$206,3,FALSE)),\"\",VLOOKUP(B4010,database!$A$6:$BFQ$206,3,FALSE)))","v":""},null,null,null,null,null,null,""]
["",null,{"$f":"IF(B4012=\"\",\"\",IF(ISERROR(VLOOKUP(B4012,database!$A$6:$BFQ$206,4,FALSE)),\"\",VLOOKUP(B4012,database!$A$6:$BFQ$206,4,FALSE)))","v":""},null,null,null,"",null,null,null,{"$f":"IF(B4012=\"\",\"\",IF(ISERROR(VLOOKUP(B4012,database!$A$6:$BFQ$206,3,FALSE)),\"\",VLOOKUP(B4012,database!$A$6:$BFQ$206,3,FALSE)))","v":""},null,null,null,null,null,null,""]
["",null,{"$f":"IF(B4013=\"\",\"\",IF(ISERROR(VLOOKUP(B4013,database!$A$6:$BFQ$206,4,FALSE)),\"\",VLOOKUP(B4013,database!$A$6:$BFQ$206,4,FALSE)))","v":""},null,null,null,"",null,null,null,{"$f":"IF(B4013=\"\",\"\",IF(ISERROR(VLOOKUP(B4013,database!$A$6:$BFQ$206,3,FALSE)),\"\",VLOOKUP(B4013,database!$A$6:$BFQ$206,3,FALSE)))","v":""},null,null,null,null,null,null,""]
["",null,{"$f":"IF(B4016=\"\",\"\",IF(ISERROR(VLOOKUP(B4016,database!$A$6:$BFQ$206,4,FALSE)),\"\",VLOOKUP(B4016,database!$A$6:$BFQ$206,4,FALSE)))","v":""},null,null,null,"",null,null,null,{"$f":"IF(B4016=\"\",\"\",IF(ISERROR(VLOOKUP(B4016,database!$A$6:$BFQ$206,3,FALSE)),\"\",VLOOKUP(B4016,database!$A$6:$BFQ$206,3,FALSE)))","v":""},null,null,null,null,null,null,""]
["",null,{"$f":"IF(B4017=\"\",\"\",IF(ISERROR(VLOOKUP(B4017,database!$A$6:$BFQ$206,4,FALSE)),\"\",VLOOKUP(B4017,database!$A$6:$BFQ$206,4,FALSE)))","v":""},null,null,null,"",null,null,null,{"$f":"IF(B4017=\"\",\"\",IF(ISERROR(VLOOKUP(B4017,database!$A$6:$BFQ$206,3,FALSE)),\"\",VLOOKUP(B4017,database!$A$6:$BFQ$206,3,FALSE)))","v":""},null,null,null,null,null,null,""]
["",null,{"$f":"IF(B4019=\"\",\"\",IF(ISERROR(VLOOKUP(B4019,database!$A$6:$BFQ$206,4,FALSE)),\"\",VLOOKUP(B4019,database!$A$6:$BFQ$206,4,FALSE)))","v":""},null,null,null,"",null,null,null,{"$f":"IF(B4019=\"\",\"\",IF(ISERROR(VLOOKUP(B4019,database!$A$6:$BFQ$206,3,FALSE)),\"\",VLOOKUP(B4019,database!$A$6:$BFQ$206,3,FALSE)))","v":""},null,null,null,null,null,null,""]
["",null,{"$f":"IF(B4020=\"\",\"\",IF(ISERROR(VLOOKUP(B4020,database!$A$6:$BFQ$206,4,FALSE)),\"\",VLOOKUP(B4020,database!$A$6:$BFQ$206,4,FALSE)))","v":""},null,null,null,"",null,null,null,{"$f":"IF(B4020=\"\",\"\",IF(ISERROR(VLOOKUP(B4020,database!$A$6:$BFQ$206,3,FALSE)),\"\",VLOOKUP(B4020,database!$A$6:$BFQ$206,3,FALSE)))","v":""},null,null,null,null,null,null,""]
["",null,{"$f":"IF(B4023=\"\",\"\",IF(ISERROR(VLOOKUP(B4023,database!$A$6:$BFQ$206,4,FALSE)),\"\",VLOOKUP(B4023,database!$A$6:$BFQ$206,4,FALSE)))","v":""},null,null,null,"",null,null,null,{"$f":"IF(B4023=\"\",\"\",IF(ISERROR(VLOOKUP(B4023,database!$A$6:$BFQ$206,3,FALSE)),\"\",VLOOKUP(B4023,database!$A$6:$BFQ$206,3,FALSE)))","v":""},null,null,null,null,null,null,""]
["",null,{"$f":"IF(B4024=\"\",\"\",IF(ISERROR(VLOOKUP(B4024,database!$A$6:$BFQ$206,4,FALSE)),\"\",VLOOKUP(B4024,database!$A$6:$BFQ$206,4,FALSE)))","v":""},null,null,null,"",null,null,null,{"$f":"IF(B4024=\"\",\"\",IF(ISERROR(VLOOKUP(B4024,database!$A$6:$BFQ$206,3,FALSE)),\"\",VLOOKUP(B4024,database!$A$6:$BFQ$206,3,FALSE)))","v":""},null,null,null,null,null,null,""]
["",null,{"$f":"IF(B4026=\"\",\"\",IF(ISERROR(VLOOKUP(B4026,database!$A$6:$BFQ$206,4,FALSE)),\"\",VLOOKUP(B4026,database!$A$6:$BFQ$206,4,FALSE)))","v":""},null,null,null,"",null,null,null,{"$f":"IF(B4026=\"\",\"\",IF(ISERROR(VLOOKUP(B4026,database!$A$6:$BFQ$206,3,FALSE)),\"\",VLOOKUP(B4026,database!$A$6:$BFQ$206,3,FALSE)))","v":""},null,null,null,null,null,null,""]
["",null,{"$f":"IF(B4027=\"\",\"\",IF(ISERROR(VLOOKUP(B4027,database!$A$6:$BFQ$206,4,FALSE)),\"\",VLOOKUP(B4027,database!$A$6:$BFQ$206,4,FALSE)))","v":""},null,null,null,"",null,null,null,{"$f":"IF(B4027=\"\",\"\",IF(ISERROR(VLOOKUP(B4027,database!$A$6:$BFQ$206,3,FALSE)),\"\",VLOOKUP(B4027,database!$A$6:$BFQ$206,3,FALSE)))","v":""},null,null,null,null,null,null,""]
["",null,{"$f":"IF(B4030=\"\",\"\",IF(ISERROR(VLOOKUP(B4030,database!$A$6:$BFQ$206,4,FALSE)),\"\",VLOOKUP(B4030,database!$A$6:$BFQ$206,4,FALSE)))","v":""},null,null,null,"",null,null,null,{"$f":"IF(B4030=\"\",\"\",IF(ISERROR(VLOOKUP(B4030,database!$A$6:$BFQ$206,3,FALSE)),\"\",VLOOKUP(B4030,database!$A$6:$BFQ$206,3,FALSE)))","v":""},null,null,null,null,null,null,""]
["",null,{"$f":"IF(B4031=\"\",\"\",IF(ISERROR(VLOOKUP(B4031,database!$A$6:$BFQ$206,4,FALSE)),\"\",VLOOKUP(B4031,database!$A$6:$BFQ$206,4,FALSE)))","v":""},null,null,null,"",null,null,null,{"$f":"IF(B4031=\"\",\"\",IF(ISERROR(VLOOKUP(B4031,database!$A$6:$BFQ$206,3,FALSE)),\"\",VLOOKUP(B4031,database!$A$6:$BFQ$206,3,FALSE)))","v":""},null,null,null,null,null,null,""]
["",null,{"$f":"IF(B4034=\"\",\"\",IF(ISERROR(VLOOKUP(B4034,database!$A$6:$BFQ$206,4,FALSE)),\"\",VLOOKUP(B4034,database!$A$6:$BFQ$206,4,FALSE)))","v":""},null,null,null,"",null,null,null,{"$f":"IF(B4034=\"\",\"\",IF(ISERROR(VLOOKUP(B4034,database!$A$6:$BFQ$206,3,FALSE)),\"\",VLOOKUP(B4034,database!$A$6:$BFQ$206,3,FALSE)))","v":""},null,null,null,null,null,null,""]
["",null,{"$f":"IF(B4035=\"\",\"\",IF(ISERROR(VLOOKUP(B4035,database!$A$6:$BFQ$206,4,FALSE)),\"\",VLOOKUP(B4035,database!$A$6:$BFQ$206,4,FALSE)))","v":""},null,null,null,"",null,null,null,{"$f":"IF(B4035=\"\",\"\",IF(ISERROR(VLOOKUP(B4035,database!$A$6:$BFQ$206,3,FALSE)),\"\",VLOOKUP(B4035,database!$A$6:$BFQ$206,3,FALSE)))","v":""},null,null,null,null,null,null,""]
["",null,{"$f":"IF(B4037=\"\",\"\",IF(ISERROR(VLOOKUP(B4037,database!$A$6:$BFQ$206,4,FALSE)),\"\",VLOOKUP(B4037,database!$A$6:$BFQ$206,4,FALSE)))","v":""},null,null,null,"",null,null,null,{"$f":"IF(B4037=\"\",\"\",IF(ISERROR(VLOOKUP(B4037,database!$A$6:$BFQ$206,3,FALSE)),\"\",VLOOKUP(B4037,database!$A$6:$BFQ$206,3,FALSE)))","v":""},null,null,null,null,null,null,""]
["",null,{"$f":"IF(B4038=\"\",\"\",IF(ISERROR(VLOOKUP(B4038,database!$A$6:$BFQ$206,4,FALSE)),\"\",VLOOKUP(B4038,database!$A$6:$BFQ$206,4,FALSE)))","v":""},null,null,null,"",null,null,null,{"$f":"IF(B4038=\"\",\"\",IF(ISERROR(VLOOKUP(B4038,database!$A$6:$BFQ$206,3,FALSE)),\"\",VLOOKUP(B4038,database!$A$6:$BFQ$206,3,FALSE)))","v":""},null,null,null,null,null,null,""]
["",null,{"$f":"IF(B4041=\"\",\"\",IF(ISERROR(VLOOKUP(B4041,database!$A$6:$BFQ$206,4,FALSE)),\"\",VLOOKUP(B4041,database!$A$6:$BFQ$206,4,FALSE)))","v":""},null,null,null,"",null,null,null,{"$f":"IF(B4041=\"\",\"\",IF(ISERROR(VLOOKUP(B4041,database!$A$6:$BFQ$206,3,FALSE)),\"\",VLOOKUP(B4041,database!$A$6:$BFQ$206,3,FALSE)))","v":""},null,null,null,null,null,null,""]
["",null,{"$f":"IF(B4042=\"\",\"\",IF(ISERROR(VLOOKUP(B4042,database!$A$6:$BFQ$206,4,FALSE)),\"\",VLOOKUP(B4042,database!$A$6:$BFQ$206,4,FALSE)))","v":""},null,null,null,"",null,null,null,{"$f":"IF(B4042=\"\",\"\",IF(ISERROR(VLOOKUP(B4042,database!$A$6:$BFQ$206,3,FALSE)),\"\",VLOOKUP(B4042,database!$A$6:$BFQ$206,3,FALSE)))","v":""},null,null,null,null,null,null,""]
["",null,{"$f":"IF(B4044=\"\",\"\",IF(ISERROR(VLOOKUP(B4044,database!$A$6:$BFQ$206,4,FALSE)),\"\",VLOOKUP(B4044,database!$A$6:$BFQ$206,4,FALSE)))","v":""},null,null,null,"",null,null,null,{"$f":"IF(B4044=\"\",\"\",IF(ISERROR(VLOOKUP(B4044,database!$A$6:$BFQ$206,3,FALSE)),\"\",VLOOKUP(B4044,database!$A$6:$BFQ$206,3,FALSE)))","v":""},null,null,null,null,null,null,""]
["",null,{"$f":"IF(B4045=\"\",\"\",IF(ISERROR(VLOOKUP(B4045,database!$A$6:$BFQ$206,4,FALSE)),\"\",VLOOKUP(B4045,database!$A$6:$BFQ$206,4,FALSE)))","v":""},null,null,null,"",null,null,null,{"$f":"IF(B4045=\"\",\"\",IF(ISERROR(VLOOKUP(B4045,database!$A$6:$BFQ$206,3,FALSE)),\"\",VLOOKUP(B4045,database!$A$6:$BFQ$206,3,FALSE)))","v":""},null,null,null,null,null,null,""]
["",null,{"$f":"IF(B4048=\"\",\"\",IF(ISERROR(VLOOKUP(B4048,database!$A$6:$BFQ$206,4,FALSE)),\"\",VLOOKUP(B4048,database!$A$6:$BFQ$206,4,FALSE)))","v":""},null,null,null,"",null,null,null,{"$f":"IF(B4048=\"\",\"\",IF(ISERROR(VLOOKUP(B4048,database!$A$6:$BFQ$206,3,FALSE)),\"\",VLOOKUP(B4048,database!$A$6:$BFQ$206,3,FALSE)))","v":""},null,null,null,null,null,null,""]
["",null,{"$f":"IF(B4049=\"\",\"\",IF(ISERROR(VLOOKUP(B4049,database!$A$6:$BFQ$206,4,FALSE)),\"\",VLOOKUP(B4049,database!$A$6:$BFQ$206,4,FALSE)))","v":""},null,null,null,"",null,null,null,{"$f":"IF(B4049=\"\",\"\",IF(ISERROR(VLOOKUP(B4049,database!$A$6:$BFQ$206,3,FALSE)),\"\",VLOOKUP(B4049,database!$A$6:$BFQ$206,3,FALSE)))","v":""},null,null,null,null,null,null,""]
["",null,{"$f":"IF(B4051=\"\",\"\",IF(ISERROR(VLOOKUP(B4051,database!$A$6:$BFQ$206,4,FALSE)),\"\",VLOOKUP(B4051,database!$A$6:$BFQ$206,4,FALSE)))","v":""},null,null,null,"",null,null,null,{"$f":"IF(B4051=\"\",\"\",IF(ISERROR(VLOOKUP(B4051,database!$A$6:$BFQ$206,3,FALSE)),\"\",VLOOKUP(B4051,database!$A$6:$BFQ$206,3,FALSE)))","v":""},null,null,null,null,null,null,""]
["",null,{"$f":"IF(B4052=\"\",\"\",IF(ISERROR(VLOOKUP(B4052,database!$A$6:$BFQ$206,4,FALSE)),\"\",VLOOKUP(B4052,database!$A$6:$BFQ$206,4,FALSE)))","v":""},null,null,null,"",null,null,null,{"$f":"IF(B4052=\"\",\"\",IF(ISERROR(VLOOKUP(B4052,database!$A$6:$BFQ$206,3,FALSE)),\"\",VLOOKUP(B4052,database!$A$6:$BFQ$206,3,FALSE)))","v":""},null,null,null,null,null,null,""]
["",null,{"$f":"IF(B4055=\"\",\"\",IF(ISERROR(VLOOKUP(B4055,database!$A$6:$BFQ$206,4,FALSE)),\"\",VLOOKUP(B4055,database!$A$6:$BFQ$206,4,FALSE)))","v":""},null,null,null,"",null,null,null,{"$f":"IF(B4055=\"\",\"\",IF(ISERROR(VLOOKUP(B4055,database!$A$6:$BFQ$206,3,FALSE)),\"\",VLOOKUP(B4055,database!$A$6:$BFQ$206,3,FALSE)))","v":""},null,null,null,null,null,null,""]
["",null,{"$f":"IF(B4056=\"\",\"\",IF(ISERROR(VLOOKUP(B4056,database!$A$6:$BFQ$206,4,FALSE)),\"\",VLOOKUP(B4056,database!$A$6:$BFQ$206,4,FALSE)))","v":""},null,null,null,"",null,null,null,{"$f":"IF(B4056=\"\",\"\",IF(ISERROR(VLOOKUP(B4056,database!$A$6:$BFQ$206,3,FALSE)),\"\",VLOOKUP(B4056,database!$A$6:$BFQ$206,3,FALSE)))","v":""},null,null,null,null,null,null,""]
["",null,{"$f":"IF(B4058=\"\",\"\",IF(ISERROR(VLOOKUP(B4058,database!$A$6:$BFQ$206,4,FALSE)),\"\",VLOOKUP(B4058,database!$A$6:$BFQ$206,4,FALSE)))","v":""},null,null,null,"",null,null,null,{"$f":"IF(B4058=\"\",\"\",IF(ISERROR(VLOOKUP(B4058,database!$A$6:$BFQ$206,3,FALSE)),\"\",VLOOKUP(B4058,database!$A$6:$BFQ$206,3,FALSE)))","v":""},null,null,null,null,null,null,""]
["",null,{"$f":"IF(B4059=\"\",\"\",IF(ISERROR(VLOOKUP(B4059,database!$A$6:$BFQ$206,4,FALSE)),\"\",VLOOKUP(B4059,database!$A$6:$BFQ$206,4,FALSE)))","v":""},null,null,null,"",null,null,null,{"$f":"IF(B4059=\"\",\"\",IF(ISERROR(VLOOKUP(B4059,database!$A$6:$BFQ$206,3,FALSE)),\"\",VLOOKUP(B4059,database!$A$6:$BFQ$206,3,FALSE)))","v":""},null,null,null,null,null,null,""]
["",null,{"$f":"IF(B4062=\"\",\"\",IF(ISERROR(VLOOKUP(B4062,database!$A$6:$BFQ$206,4,FALSE)),\"\",VLOOKUP(B4062,database!$A$6:$BFQ$206,4,FALSE)))","v":""},null,null,null,"",null,null,null,{"$f":"IF(B4062=\"\",\"\",IF(ISERROR(VLOOKUP(B4062,database!$A$6:$BFQ$206,3,FALSE)),\"\",VLOOKUP(B4062,database!$A$6:$BFQ$206,3,FALSE)))","v":""},null,null,null,null,null,null,""]
["",null,{"$f":"IF(B4063=\"\",\"\",IF(ISERROR(VLOOKUP(B4063,database!$A$6:$BFQ$206,4,FALSE)),\"\",VLOOKUP(B4063,database!$A$6:$BFQ$206,4,FALSE)))","v":""},null,null,null,"",null,null,null,{"$f":"IF(B4063=\"\",\"\",IF(ISERROR(VLOOKUP(B4063,database!$A$6:$BFQ$206,3,FALSE)),\"\",VLOOKUP(B4063,database!$A$6:$BFQ$206,3,FALSE)))","v":""},null,null,null,null,null,null,""]
["",null,{"$f":"IF(B4065=\"\",\"\",IF(ISERROR(VLOOKUP(B4065,database!$A$6:$BFQ$206,4,FALSE)),\"\",VLOOKUP(B4065,database!$A$6:$BFQ$206,4,FALSE)))","v":""},null,null,null,"",null,null,null,{"$f":"IF(B4065=\"\",\"\",IF(ISERROR(VLOOKUP(B4065,database!$A$6:$BFQ$206,3,FALSE)),\"\",VLOOKUP(B4065,database!$A$6:$BFQ$206,3,FALSE)))","v":""},null,null,null,null,null,null,""]
["",null,{"$f":"IF(B4066=\"\",\"\",IF(ISERROR(VLOOKUP(B4066,database!$A$6:$BFQ$206,4,FALSE)),\"\",VLOOKUP(B4066,database!$A$6:$BFQ$206,4,FALSE)))","v":""},null,null,null,"",null,null,null,{"$f":"IF(B4066=\"\",\"\",IF(ISERROR(VLOOKUP(B4066,database!$A$6:$BFQ$206,3,FALSE)),\"\",VLOOKUP(B4066,database!$A$6:$BFQ$206,3,FALSE)))","v":""},null,null,null,null,null,null,""]
["",null,{"$f":"IF(B4069=\"\",\"\",IF(ISERROR(VLOOKUP(B4069,database!$A$6:$BFQ$206,4,FALSE)),\"\",VLOOKUP(B4069,database!$A$6:$BFQ$206,4,FALSE)))","v":""},null,null,null,"",null,null,null,{"$f":"IF(B4069=\"\",\"\",IF(ISERROR(VLOOKUP(B4069,database!$A$6:$BFQ$206,3,FALSE)),\"\",VLOOKUP(B4069,database!$A$6:$BFQ$206,3,FALSE)))","v":""},null,null,null,null,null,null,""]
["",null,{"$f":"IF(B4070=\"\",\"\",IF(ISERROR(VLOOKUP(B4070,database!$A$6:$BFQ$206,4,FALSE)),\"\",VLOOKUP(B4070,database!$A$6:$BFQ$206,4,FALSE)))","v":""},null,null,null,"",null,null,null,{"$f":"IF(B4070=\"\",\"\",IF(ISERROR(VLOOKUP(B4070,database!$A$6:$BFQ$206,3,FALSE)),\"\",VLOOKUP(B4070,database!$A$6:$BFQ$206,3,FALSE)))","v":""},null,null,null,null,null,null,""]
["",null,{"$f":"IF(B4072=\"\",\"\",IF(ISERROR(VLOOKUP(B4072,database!$A$6:$BFQ$206,4,FALSE)),\"\",VLOOKUP(B4072,database!$A$6:$BFQ$206,4,FALSE)))","v":""},null,null,null,"",null,null,null,{"$f":"IF(B4072=\"\",\"\",IF(ISERROR(VLOOKUP(B4072,database!$A$6:$BFQ$206,3,FALSE)),\"\",VLOOKUP(B4072,database!$A$6:$BFQ$206,3,FALSE)))","v":""},null,null,null,null,null,null,""]
["",null,{"$f":"IF(B4073=\"\",\"\",IF(ISERROR(VLOOKUP(B4073,database!$A$6:$BFQ$206,4,FALSE)),\"\",VLOOKUP(B4073,database!$A$6:$BFQ$206,4,FALSE)))","v":""},null,null,null,"",null,null,null,{"$f":"IF(B4073=\"\",\"\",IF(ISERROR(VLOOKUP(B4073,database!$A$6:$BFQ$206,3,FALSE)),\"\",VLOOKUP(B4073,database!$A$6:$BFQ$206,3,FALSE)))","v":""},null,null,null,null,null,null,""]
["",null,{"$f":"IF(B4076=\"\",\"\",IF(ISERROR(VLOOKUP(B4076,database!$A$6:$BFQ$206,4,FALSE)),\"\",VLOOKUP(B4076,database!$A$6:$BFQ$206,4,FALSE)))","v":""},null,null,null,"",null,null,null,{"$f":"IF(B4076=\"\",\"\",IF(ISERROR(VLOOKUP(B4076,database!$A$6:$BFQ$206,3,FALSE)),\"\",VLOOKUP(B4076,database!$A$6:$BFQ$206,3,FALSE)))","v":""},null,null,null,null,null,null,""]
["",null,{"$f":"IF(B4077=\"\",\"\",IF(ISERROR(VLOOKUP(B4077,database!$A$6:$BFQ$206,4,FALSE)),\"\",VLOOKUP(B4077,database!$A$6:$BFQ$206,4,FALSE)))","v":""},null,null,null,"",null,null,null,{"$f":"IF(B4077=\"\",\"\",IF(ISERROR(VLOOKUP(B4077,database!$A$6:$BFQ$206,3,FALSE)),\"\",VLOOKUP(B4077,database!$A$6:$BFQ$206,3,FALSE)))","v":""},null,null,null,null,null,null,""]
["",null,{"$f":"IF(B4079=\"\",\"\",IF(ISERROR(VLOOKUP(B4079,database!$A$6:$BFQ$206,4,FALSE)),\"\",VLOOKUP(B4079,database!$A$6:$BFQ$206,4,FALSE)))","v":""},null,null,null,"",null,null,null,{"$f":"IF(B4079=\"\",\"\",IF(ISERROR(VLOOKUP(B4079,database!$A$6:$BFQ$206,3,FALSE)),\"\",VLOOKUP(B4079,database!$A$6:$BFQ$206,3,FALSE)))","v":""},null,null,null,null,null,null,""]
["",null,{"$f":"IF(B4080=\"\",\"\",IF(ISERROR(VLOOKUP(B4080,database!$A$6:$BFQ$206,4,FALSE)),\"\",VLOOKUP(B4080,database!$A$6:$BFQ$206,4,FALSE)))","v":""},null,null,null,"",null,null,null,{"$f":"IF(B4080=\"\",\"\",IF(ISERROR(VLOOKUP(B4080,database!$A$6:$BFQ$206,3,FALSE)),\"\",VLOOKUP(B4080,database!$A$6:$BFQ$206,3,FALSE)))","v":""},null,null,null,null,null,null,""]
["",null,{"$f":"IF(B4083=\"\",\"\",IF(ISERROR(VLOOKUP(B4083,database!$A$6:$BFQ$206,4,FALSE)),\"\",VLOOKUP(B4083,database!$A$6:$BFQ$206,4,FALSE)))","v":""},null,null,null,"",null,null,null,{"$f":"IF(B4083=\"\",\"\",IF(ISERROR(VLOOKUP(B4083,database!$A$6:$BFQ$206,3,FALSE)),\"\",VLOOKUP(B4083,database!$A$6:$BFQ$206,3,FALSE)))","v":""},null,null,null,null,null,null,""]
["",null,{"$f":"IF(B4084=\"\",\"\",IF(ISERROR(VLOOKUP(B4084,database!$A$6:$BFQ$206,4,FALSE)),\"\",VLOOKUP(B4084,database!$A$6:$BFQ$206,4,FALSE)))","v":""},null,null,null,"",null,null,null,{"$f":"IF(B4084=\"\",\"\",IF(ISERROR(VLOOKUP(B4084,database!$A$6:$BFQ$206,3,FALSE)),\"\",VLOOKUP(B4084,database!$A$6:$BFQ$206,3,FALSE)))","v":""},null,null,null,null,null,null,""]
["",null,{"$f":"IF(B4086=\"\",\"\",IF(ISERROR(VLOOKUP(B4086,database!$A$6:$BFQ$206,4,FALSE)),\"\",VLOOKUP(B4086,database!$A$6:$BFQ$206,4,FALSE)))","v":""},null,null,null,"",null,null,null,{"$f":"IF(B4086=\"\",\"\",IF(ISERROR(VLOOKUP(B4086,database!$A$6:$BFQ$206,3,FALSE)),\"\",VLOOKUP(B4086,database!$A$6:$BFQ$206,3,FALSE)))","v":""},null,null,null,null,null,null,""]
["",null,{"$f":"IF(B4087=\"\",\"\",IF(ISERROR(VLOOKUP(B4087,database!$A$6:$BFQ$206,4,FALSE)),\"\",VLOOKUP(B4087,database!$A$6:$BFQ$206,4,FALSE)))","v":""},null,null,null,"",null,null,null,{"$f":"IF(B4087=\"\",\"\",IF(ISERROR(VLOOKUP(B4087,database!$A$6:$BFQ$206,3,FALSE)),\"\",VLOOKUP(B4087,database!$A$6:$BFQ$206,3,FALSE)))","v":""},null,null,null,null,null,null,""]
["",null,{"$f":"IF(B4090=\"\",\"\",IF(ISERROR(VLOOKUP(B4090,database!$A$6:$BFQ$206,4,FALSE)),\"\",VLOOKUP(B4090,database!$A$6:$BFQ$206,4,FALSE)))","v":""},null,null,null,"",null,null,null,{"$f":"IF(B4090=\"\",\"\",IF(ISERROR(VLOOKUP(B4090,database!$A$6:$BFQ$206,3,FALSE)),\"\",VLOOKUP(B4090,database!$A$6:$BFQ$206,3,FALSE)))","v":""},null,null,null,null,null,null,""]
["",null,{"$f":"IF(B4091=\"\",\"\",IF(ISERROR(VLOOKUP(B4091,database!$A$6:$BFQ$206,4,FALSE)),\"\",VLOOKUP(B4091,database!$A$6:$BFQ$206,4,FALSE)))","v":""},null,null,null,"",null,null,null,{"$f":"IF(B4091=\"\",\"\",IF(ISERROR(VLOOKUP(B4091,database!$A$6:$BFQ$206,3,FALSE)),\"\",VLOOKUP(B4091,database!$A$6:$BFQ$206,3,FALSE)))","v":""},null,null,null,null,null,null,""]
["",null,{"$f":"IF(B4093=\"\",\"\",IF(ISERROR(VLOOKUP(B4093,database!$A$6:$BFQ$206,4,FALSE)),\"\",VLOOKUP(B4093,database!$A$6:$BFQ$206,4,FALSE)))","v":""},null,null,null,"",null,null,null,{"$f":"IF(B4093=\"\",\"\",IF(ISERROR(VLOOKUP(B4093,database!$A$6:$BFQ$206,3,FALSE)),\"\",VLOOKUP(B4093,database!$A$6:$BFQ$206,3,FALSE)))","v":""},null,null,null,null,null,null,""]
["",null,{"$f":"IF(B4094=\"\",\"\",IF(ISERROR(VLOOKUP(B4094,database!$A$6:$BFQ$206,4,FALSE)),\"\",VLOOKUP(B4094,database!$A$6:$BFQ$206,4,FALSE)))","v":""},null,null,null,"",null,null,null,{"$f":"IF(B4094=\"\",\"\",IF(ISERROR(VLOOKUP(B4094,database!$A$6:$BFQ$206,3,FALSE)),\"\",VLOOKUP(B4094,database!$A$6:$BFQ$206,3,FALSE)))","v":""},null,null,null,null,null,null,""]
[{"$f":"IF(B4097=\"\",\"\",ROW(A4094))","v":""},null,{"$f":"IF(B4097=\"\",\"\",IF(ISERROR(VLOOKUP(B4097,database!$A$6:$BFQ$206,4,FALSE)),\"\",VLOOKUP(B4097,database!$A$6:$BFQ$206,4,FALSE)))","v":""},null,null,null,{"$f":"IF(B4097=\"\",\"\",IF(C4097=\"\",0,1))","v":""},null,null,null,{"$f":"IF(B4097=\"\",\"\",IF(ISERROR(VLOOKUP(B4097,database!$A$6:$BFQ$206,3,FALSE)),\"\",VLOOKUP(B4097,database!$A$6:$BFQ$206,3,FALSE)))","v":""},null,null,null,null,null,null,{"$f":"LEFT(C4097,2)","v":""}]
["",null,{"$f":"IF(B4098=\"\",\"\",IF(ISERROR(VLOOKUP(B4098,database!$A$6:$BFQ$206,4,FALSE)),\"\",VLOOKUP(B4098,database!$A$6:$BFQ$206,4,FALSE)))","v":""},null,null,null,"",null,null,null,{"$f":"IF(B4098=\"\",\"\",IF(ISERROR(VLOOKUP(B4098,database!$A$6:$BFQ$206,3,FALSE)),\"\",VLOOKUP(B4098,database!$A$6:$BFQ$206,3,FALSE)))","v":""},null,null,null,null,null,null,""]
["",null,{"$f":"IF(B4100=\"\",\"\",IF(ISERROR(VLOOKUP(B4100,database!$A$6:$BFQ$206,4,FALSE)),\"\",VLOOKUP(B4100,database!$A$6:$BFQ$206,4,FALSE)))","v":""},null,null,null,"",null,null,null,{"$f":"IF(B4100=\"\",\"\",IF(ISERROR(VLOOKUP(B4100,database!$A$6:$BFQ$206,3,FALSE)),\"\",VLOOKUP(B4100,database!$A$6:$BFQ$206,3,FALSE)))","v":""},null,null,null,null,null,null,""]
["",null,{"$f":"IF(B4101=\"\",\"\",IF(ISERROR(VLOOKUP(B4101,database!$A$6:$BFQ$206,4,FALSE)),\"\",VLOOKUP(B4101,database!$A$6:$BFQ$206,4,FALSE)))","v":""},null,null,null,"",null,null,null,{"$f":"IF(B4101=\"\",\"\",IF(ISERROR(VLOOKUP(B4101,database!$A$6:$BFQ$206,3,FALSE)),\"\",VLOOKUP(B4101,database!$A$6:$BFQ$206,3,FALSE)))","v":""},null,null,null,null,null,null,""]
["",null,{"$f":"IF(B4104=\"\",\"\",IF(ISERROR(VLOOKUP(B4104,database!$A$6:$BFQ$206,4,FALSE)),\"\",VLOOKUP(B4104,database!$A$6:$BFQ$206,4,FALSE)))","v":""},null,null,null,"",null,null,null,{"$f":"IF(B4104=\"\",\"\",IF(ISERROR(VLOOKUP(B4104,database!$A$6:$BFQ$206,3,FALSE)),\"\",VLOOKUP(B4104,database!$A$6:$BFQ$206,3,FALSE)))","v":""},null,null,null,null,null,null,""]
["",null,{"$f":"IF(B4105=\"\",\"\",IF(ISERROR(VLOOKUP(B4105,database!$A$6:$BFQ$206,4,FALSE)),\"\",VLOOKUP(B4105,database!$A$6:$BFQ$206,4,FALSE)))","v":""},null,null,null,"",null,null,null,{"$f":"IF(B4105=\"\",\"\",IF(ISERROR(VLOOKUP(B4105,database!$A$6:$BFQ$206,3,FALSE)),\"\",VLOOKUP(B4105,database!$A$6:$BFQ$206,3,FALSE)))","v":""},null,null,null,null,null,null,""]
["",null,{"$f":"IF(B4107=\"\",\"\",IF(ISERROR(VLOOKUP(B4107,database!$A$6:$BFQ$206,4,FALSE)),\"\",VLOOKUP(B4107,database!$A$6:$BFQ$206,4,FALSE)))","v":""},null,null,null,"",null,null,null,{"$f":"IF(B4107=\"\",\"\",IF(ISERROR(VLOOKUP(B4107,database!$A$6:$BFQ$206,3,FALSE)),\"\",VLOOKUP(B4107,database!$A$6:$BFQ$206,3,FALSE)))","v":""},null,null,null,null,null,null,""]
["",null,{"$f":"IF(B4108=\"\",\"\",IF(ISERROR(VLOOKUP(B4108,database!$A$6:$BFQ$206,4,FALSE)),\"\",VLOOKUP(B4108,database!$A$6:$BFQ$206,4,FALSE)))","v":""},null,null,null,"",null,null,null,{"$f":"IF(B4108=\"\",\"\",IF(ISERROR(VLOOKUP(B4108,database!$A$6:$BFQ$206,3,FALSE)),\"\",VLOOKUP(B4108,database!$A$6:$BFQ$206,3,FALSE)))","v":""},null,null,null,null,null,null,""]
["",null,{"$f":"IF(B4111=\"\",\"\",IF(ISERROR(VLOOKUP(B4111,database!$A$6:$BFQ$206,4,FALSE)),\"\",VLOOKUP(B4111,database!$A$6:$BFQ$206,4,FALSE)))","v":""},null,null,null,"",null,null,null,{"$f":"IF(B4111=\"\",\"\",IF(ISERROR(VLOOKUP(B4111,database!$A$6:$BFQ$206,3,FALSE)),\"\",VLOOKUP(B4111,database!$A$6:$BFQ$206,3,FALSE)))","v":""},null,null,null,null,null,null,""]
["",null,{"$f":"IF(B4112=\"\",\"\",IF(ISERROR(VLOOKUP(B4112,database!$A$6:$BFQ$206,4,FALSE)),\"\",VLOOKUP(B4112,database!$A$6:$BFQ$206,4,FALSE)))","v":""},null,null,null,"",null,null,null,{"$f":"IF(B4112=\"\",\"\",IF(ISERROR(VLOOKUP(B4112,database!$A$6:$BFQ$206,3,FALSE)),\"\",VLOOKUP(B4112,database!$A$6:$BFQ$206,3,FALSE)))","v":""},null,null,null,null,null,null,""]
["",null,{"$f":"IF(B4114=\"\",\"\",IF(ISERROR(VLOOKUP(B4114,database!$A$6:$BFQ$206,4,FALSE)),\"\",VLOOKUP(B4114,database!$A$6:$BFQ$206,4,FALSE)))","v":""},null,null,null,"",null,null,null,{"$f":"IF(B4114=\"\",\"\",IF(ISERROR(VLOOKUP(B4114,database!$A$6:$BFQ$206,3,FALSE)),\"\",VLOOKUP(B4114,database!$A$6:$BFQ$206,3,FALSE)))","v":""},null,null,null,null,null,null,""]
["",null,{"$f":"IF(B4115=\"\",\"\",IF(ISERROR(VLOOKUP(B4115,database!$A$6:$BFQ$206,4,FALSE)),\"\",VLOOKUP(B4115,database!$A$6:$BFQ$206,4,FALSE)))","v":""},null,null,null,"",null,null,null,{"$f":"IF(B4115=\"\",\"\",IF(ISERROR(VLOOKUP(B4115,database!$A$6:$BFQ$206,3,FALSE)),\"\",VLOOKUP(B4115,database!$A$6:$BFQ$206,3,FALSE)))","v":""},null,null,null,null,null,null,""]
["",null,{"$f":"IF(B4118=\"\",\"\",IF(ISERROR(VLOOKUP(B4118,database!$A$6:$BFQ$206,4,FALSE)),\"\",VLOOKUP(B4118,database!$A$6:$BFQ$206,4,FALSE)))","v":""},null,null,null,"",null,null,null,{"$f":"IF(B4118=\"\",\"\",IF(ISERROR(VLOOKUP(B4118,database!$A$6:$BFQ$206,3,FALSE)),\"\",VLOOKUP(B4118,database!$A$6:$BFQ$206,3,FALSE)))","v":""},null,null,null,null,null,null,""]
["",null,{"$f":"IF(B4119=\"\",\"\",IF(ISERROR(VLOOKUP(B4119,database!$A$6:$BFQ$206,4,FALSE)),\"\",VLOOKUP(B4119,database!$A$6:$BFQ$206,4,FALSE)))","v":""},null,null,null,"",null,null,null,{"$f":"IF(B4119=\"\",\"\",IF(ISERROR(VLOOKUP(B4119,database!$A$6:$BFQ$206,3,FALSE)),\"\",VLOOKUP(B4119,database!$A$6:$BFQ$206,3,FALSE)))","v":""},null,null,null,null,null,null,""]
["",null,{"$f":"IF(B4121=\"\",\"\",IF(ISERROR(VLOOKUP(B4121,database!$A$6:$BFQ$206,4,FALSE)),\"\",VLOOKUP(B4121,database!$A$6:$BFQ$206,4,FALSE)))","v":""},null,null,null,"",null,null,null,{"$f":"IF(B4121=\"\",\"\",IF(ISERROR(VLOOKUP(B4121,database!$A$6:$BFQ$206,3,FALSE)),\"\",VLOOKUP(B4121,database!$A$6:$BFQ$206,3,FALSE)))","v":""},null,null,null,null,null,null,""]
["",null,{"$f":"IF(B4122=\"\",\"\",IF(ISERROR(VLOOKUP(B4122,database!$A$6:$BFQ$206,4,FALSE)),\"\",VLOOKUP(B4122,database!$A$6:$BFQ$206,4,FALSE)))","v":""},null,null,null,"",null,null,null,{"$f":"IF(B4122=\"\",\"\",IF(ISERROR(VLOOKUP(B4122,database!$A$6:$BFQ$206,3,FALSE)),\"\",VLOOKUP(B4122,database!$A$6:$BFQ$206,3,FALSE)))","v":""},null,null,null,null,null,null,""]
["",null,{"$f":"IF(B4125=\"\",\"\",IF(ISERROR(VLOOKUP(B4125,database!$A$6:$BFQ$206,4,FALSE)),\"\",VLOOKUP(B4125,database!$A$6:$BFQ$206,4,FALSE)))","v":""},null,null,null,"",null,null,null,{"$f":"IF(B4125=\"\",\"\",IF(ISERROR(VLOOKUP(B4125,database!$A$6:$BFQ$206,3,FALSE)),\"\",VLOOKUP(B4125,database!$A$6:$BFQ$206,3,FALSE)))","v":""},null,null,null,null,null,null,""]
["",null,{"$f":"IF(B4126=\"\",\"\",IF(ISERROR(VLOOKUP(B4126,database!$A$6:$BFQ$206,4,FALSE)),\"\",VLOOKUP(B4126,database!$A$6:$BFQ$206,4,FALSE)))","v":""},null,null,null,"",null,null,null,{"$f":"IF(B4126=\"\",\"\",IF(ISERROR(VLOOKUP(B4126,database!$A$6:$BFQ$206,3,FALSE)),\"\",VLOOKUP(B4126,database!$A$6:$BFQ$206,3,FALSE)))","v":""},null,null,null,null,null,null,""]
["",null,{"$f":"IF(B4128=\"\",\"\",IF(ISERROR(VLOOKUP(B4128,database!$A$6:$BFQ$206,4,FALSE)),\"\",VLOOKUP(B4128,database!$A$6:$BFQ$206,4,FALSE)))","v":""},null,null,null,"",null,null,null,{"$f":"IF(B4128=\"\",\"\",IF(ISERROR(VLOOKUP(B4128,database!$A$6:$BFQ$206,3,FALSE)),\"\",VLOOKUP(B4128,database!$A$6:$BFQ$206,3,FALSE)))","v":""},null,null,null,null,null,null,""]
["",null,{"$f":"IF(B4129=\"\",\"\",IF(ISERROR(VLOOKUP(B4129,database!$A$6:$BFQ$206,4,FALSE)),\"\",VLOOKUP(B4129,database!$A$6:$BFQ$206,4,FALSE)))","v":""},null,null,null,"",null,null,null,{"$f":"IF(B4129=\"\",\"\",IF(ISERROR(VLOOKUP(B4129,database!$A$6:$BFQ$206,3,FALSE)),\"\",VLOOKUP(B4129,database!$A$6:$BFQ$206,3,FALSE)))","v":""},null,null,null,null,null,null,""]
["",null,{"$f":"IF(B4132=\"\",\"\",IF(ISERROR(VLOOKUP(B4132,database!$A$6:$BFQ$206,4,FALSE)),\"\",VLOOKUP(B4132,database!$A$6:$BFQ$206,4,FALSE)))","v":""},null,null,null,"",null,null,null,{"$f":"IF(B4132=\"\",\"\",IF(ISERROR(VLOOKUP(B4132,database!$A$6:$BFQ$206,3,FALSE)),\"\",VLOOKUP(B4132,database!$A$6:$BFQ$206,3,FALSE)))","v":""},null,null,null,null,null,null,""]
["",null,{"$f":"IF(B4133=\"\",\"\",IF(ISERROR(VLOOKUP(B4133,database!$A$6:$BFQ$206,4,FALSE)),\"\",VLOOKUP(B4133,database!$A$6:$BFQ$206,4,FALSE)))","v":""},null,null,null,"",null,null,null,{"$f":"IF(B4133=\"\",\"\",IF(ISERROR(VLOOKUP(B4133,database!$A$6:$BFQ$206,3,FALSE)),\"\",VLOOKUP(B4133,database!$A$6:$BFQ$206,3,FALSE)))","v":""},null,null,null,null,null,null,""]
["",null,{"$f":"IF(B4135=\"\",\"\",IF(ISERROR(VLOOKUP(B4135,database!$A$6:$BFQ$206,4,FALSE)),\"\",VLOOKUP(B4135,database!$A$6:$BFQ$206,4,FALSE)))","v":""},null,null,null,"",null,null,null,{"$f":"IF(B4135=\"\",\"\",IF(ISERROR(VLOOKUP(B4135,database!$A$6:$BFQ$206,3,FALSE)),\"\",VLOOKUP(B4135,database!$A$6:$BFQ$206,3,FALSE)))","v":""},null,null,null,null,null,null,""]
["",null,{"$f":"IF(B4136=\"\",\"\",IF(ISERROR(VLOOKUP(B4136,database!$A$6:$BFQ$206,4,FALSE)),\"\",VLOOKUP(B4136,database!$A$6:$BFQ$206,4,FALSE)))","v":""},null,null,null,"",null,null,null,{"$f":"IF(B4136=\"\",\"\",IF(ISERROR(VLOOKUP(B4136,database!$A$6:$BFQ$206,3,FALSE)),\"\",VLOOKUP(B4136,database!$A$6:$BFQ$206,3,FALSE)))","v":""},null,null,null,null,null,null,""]
["",null,{"$f":"IF(B4139=\"\",\"\",IF(ISERROR(VLOOKUP(B4139,database!$A$6:$BFQ$206,4,FALSE)),\"\",VLOOKUP(B4139,database!$A$6:$BFQ$206,4,FALSE)))","v":""},null,null,null,"",null,null,null,{"$f":"IF(B4139=\"\",\"\",IF(ISERROR(VLOOKUP(B4139,database!$A$6:$BFQ$206,3,FALSE)),\"\",VLOOKUP(B4139,database!$A$6:$BFQ$206,3,FALSE)))","v":""},null,null,null,null,null,null,""]
["",null,{"$f":"IF(B4140=\"\",\"\",IF(ISERROR(VLOOKUP(B4140,database!$A$6:$BFQ$206,4,FALSE)),\"\",VLOOKUP(B4140,database!$A$6:$BFQ$206,4,FALSE)))","v":""},null,null,null,"",null,null,null,{"$f":"IF(B4140=\"\",\"\",IF(ISERROR(VLOOKUP(B4140,database!$A$6:$BFQ$206,3,FALSE)),\"\",VLOOKUP(B4140,database!$A$6:$BFQ$206,3,FALSE)))","v":""},null,null,null,null,null,null,""]
["",null,{"$f":"IF(B4143=\"\",\"\",IF(ISERROR(VLOOKUP(B4143,database!$A$6:$BFQ$206,4,FALSE)),\"\",VLOOKUP(B4143,database!$A$6:$BFQ$206,4,FALSE)))","v":""},null,null,null,"",null,null,null,{"$f":"IF(B4143=\"\",\"\",IF(ISERROR(VLOOKUP(B4143,database!$A$6:$BFQ$206,3,FALSE)),\"\",VLOOKUP(B4143,database!$A$6:$BFQ$206,3,FALSE)))","v":""},null,null,null,null,null,null,""]
["",null,{"$f":"IF(B4144=\"\",\"\",IF(ISERROR(VLOOKUP(B4144,database!$A$6:$BFQ$206,4,FALSE)),\"\",VLOOKUP(B4144,database!$A$6:$BFQ$206,4,FALSE)))","v":""},null,null,null,"",null,null,null,{"$f":"IF(B4144=\"\",\"\",IF(ISERROR(VLOOKUP(B4144,database!$A$6:$BFQ$206,3,FALSE)),\"\",VLOOKUP(B4144,database!$A$6:$BFQ$206,3,FALSE)))","v":""},null,null,null,null,null,null,""]
["",null,{"$f":"IF(B4146=\"\",\"\",IF(ISERROR(VLOOKUP(B4146,database!$A$6:$BFQ$206,4,FALSE)),\"\",VLOOKUP(B4146,database!$A$6:$BFQ$206,4,FALSE)))","v":""},null,null,null,"",null,null,null,{"$f":"IF(B4146=\"\",\"\",IF(ISERROR(VLOOKUP(B4146,database!$A$6:$BFQ$206,3,FALSE)),\"\",VLOOKUP(B4146,database!$A$6:$BFQ$206,3,FALSE)))","v":""},null,null,null,null,null,null,""]
["",null,{"$f":"IF(B4147=\"\",\"\",IF(ISERROR(VLOOKUP(B4147,database!$A$6:$BFQ$206,4,FALSE)),\"\",VLOOKUP(B4147,database!$A$6:$BFQ$206,4,FALSE)))","v":""},null,null,null,"",null,null,null,{"$f":"IF(B4147=\"\",\"\",IF(ISERROR(VLOOKUP(B4147,database!$A$6:$BFQ$206,3,FALSE)),\"\",VLOOKUP(B4147,database!$A$6:$BFQ$206,3,FALSE)))","v":""},null,null,null,null,null,null,""]
["",null,{"$f":"IF(B4150=\"\",\"\",IF(ISERROR(VLOOKUP(B4150,database!$A$6:$BFQ$206,4,FALSE)),\"\",VLOOKUP(B4150,database!$A$6:$BFQ$206,4,FALSE)))","v":""},null,null,null,"",null,null,null,{"$f":"IF(B4150=\"\",\"\",IF(ISERROR(VLOOKUP(B4150,database!$A$6:$BFQ$206,3,FALSE)),\"\",VLOOKUP(B4150,database!$A$6:$BFQ$206,3,FALSE)))","v":""},null,null,null,null,null,null,""]
["",null,{"$f":"IF(B4151=\"\",\"\",IF(ISERROR(VLOOKUP(B4151,database!$A$6:$BFQ$206,4,FALSE)),\"\",VLOOKUP(B4151,database!$A$6:$BFQ$206,4,FALSE)))","v":""},null,null,null,"",null,null,null,{"$f":"IF(B4151=\"\",\"\",IF(ISERROR(VLOOKUP(B4151,database!$A$6:$BFQ$206,3,FALSE)),\"\",VLOOKUP(B4151,database!$A$6:$BFQ$206,3,FALSE)))","v":""},null,null,null,null,null,null,""]
["",null,{"$f":"IF(B4153=\"\",\"\",IF(ISERROR(VLOOKUP(B4153,database!$A$6:$BFQ$206,4,FALSE)),\"\",VLOOKUP(B4153,database!$A$6:$BFQ$206,4,FALSE)))","v":""},null,null,null,"",null,null,null,{"$f":"IF(B4153=\"\",\"\",IF(ISERROR(VLOOKUP(B4153,database!$A$6:$BFQ$206,3,FALSE)),\"\",VLOOKUP(B4153,database!$A$6:$BFQ$206,3,FALSE)))","v":""},null,null,null,null,null,null,""]
["",null,{"$f":"IF(B4154=\"\",\"\",IF(ISERROR(VLOOKUP(B4154,database!$A$6:$BFQ$206,4,FALSE)),\"\",VLOOKUP(B4154,database!$A$6:$BFQ$206,4,FALSE)))","v":""},null,null,null,"",null,null,null,{"$f":"IF(B4154=\"\",\"\",IF(ISERROR(VLOOKUP(B4154,database!$A$6:$BFQ$206,3,FALSE)),\"\",VLOOKUP(B4154,database!$A$6:$BFQ$206,3,FALSE)))","v":""},null,null,null,null,null,null,""]
["",null,{"$f":"IF(B4157=\"\",\"\",IF(ISERROR(VLOOKUP(B4157,database!$A$6:$BFQ$206,4,FALSE)),\"\",VLOOKUP(B4157,database!$A$6:$BFQ$206,4,FALSE)))","v":""},null,null,null,"",null,null,null,{"$f":"IF(B4157=\"\",\"\",IF(ISERROR(VLOOKUP(B4157,database!$A$6:$BFQ$206,3,FALSE)),\"\",VLOOKUP(B4157,database!$A$6:$BFQ$206,3,FALSE)))","v":""},null,null,null,null,null,null,""]
["",null,{"$f":"IF(B4158=\"\",\"\",IF(ISERROR(VLOOKUP(B4158,database!$A$6:$BFQ$206,4,FALSE)),\"\",VLOOKUP(B4158,database!$A$6:$BFQ$206,4,FALSE)))","v":""},null,null,null,"",null,null,null,{"$f":"IF(B4158=\"\",\"\",IF(ISERROR(VLOOKUP(B4158,database!$A$6:$BFQ$206,3,FALSE)),\"\",VLOOKUP(B4158,database!$A$6:$BFQ$206,3,FALSE)))","v":""},null,null,null,null,null,null,""]
["",null,{"$f":"IF(B4160=\"\",\"\",IF(ISERROR(VLOOKUP(B4160,database!$A$6:$BFQ$206,4,FALSE)),\"\",VLOOKUP(B4160,database!$A$6:$BFQ$206,4,FALSE)))","v":""},null,null,null,"",null,null,null,{"$f":"IF(B4160=\"\",\"\",IF(ISERROR(VLOOKUP(B4160,database!$A$6:$BFQ$206,3,FALSE)),\"\",VLOOKUP(B4160,database!$A$6:$BFQ$206,3,FALSE)))","v":""},null,null,null,null,null,null,""]
[{"$f":"IF(B4161=\"\",\"\",ROW(A4158))","v":""},null,{"$f":"IF(B4161=\"\",\"\",IF(ISERROR(VLOOKUP(B4161,database!$A$6:$BFQ$206,4,FALSE)),\"\",VLOOKUP(B4161,database!$A$6:$BFQ$206,4,FALSE)))","v":""},null,null,null,{"$f":"IF(B4161=\"\",\"\",IF(C4161=\"\",0,1))","v":""},null,null,null,{"$f":"IF(B4161=\"\",\"\",IF(ISERROR(VLOOKUP(B4161,database!$A$6:$BFQ$206,3,FALSE)),\"\",VLOOKUP(B4161,database!$A$6:$BFQ$206,3,FALSE)))","v":""},null,null,null,null,null,null,{"$f":"LEFT(C4161,2)","v":""}]
["",null,{"$f":"IF(B4164=\"\",\"\",IF(ISERROR(VLOOKUP(B4164,database!$A$6:$BFQ$206,4,FALSE)),\"\",VLOOKUP(B4164,database!$A$6:$BFQ$206,4,FALSE)))","v":""},null,null,null,"",null,null,null,{"$f":"IF(B4164=\"\",\"\",IF(ISERROR(VLOOKUP(B4164,database!$A$6:$BFQ$206,3,FALSE)),\"\",VLOOKUP(B4164,database!$A$6:$BFQ$206,3,FALSE)))","v":""},null,null,null,null,null,null,""]
["",null,{"$f":"IF(B4165=\"\",\"\",IF(ISERROR(VLOOKUP(B4165,database!$A$6:$BFQ$206,4,FALSE)),\"\",VLOOKUP(B4165,database!$A$6:$BFQ$206,4,FALSE)))","v":""},null,null,null,"",null,null,null,{"$f":"IF(B4165=\"\",\"\",IF(ISERROR(VLOOKUP(B4165,database!$A$6:$BFQ$206,3,FALSE)),\"\",VLOOKUP(B4165,database!$A$6:$BFQ$206,3,FALSE)))","v":""},null,null,null,null,null,null,""]
["",null,{"$f":"IF(B4167=\"\",\"\",IF(ISERROR(VLOOKUP(B4167,database!$A$6:$BFQ$206,4,FALSE)),\"\",VLOOKUP(B4167,database!$A$6:$BFQ$206,4,FALSE)))","v":""},null,null,null,"",null,null,null,{"$f":"IF(B4167=\"\",\"\",IF(ISERROR(VLOOKUP(B4167,database!$A$6:$BFQ$206,3,FALSE)),\"\",VLOOKUP(B4167,database!$A$6:$BFQ$206,3,FALSE)))","v":""},null,null,null,null,null,null,""]
["",null,{"$f":"IF(B4168=\"\",\"\",IF(ISERROR(VLOOKUP(B4168,database!$A$6:$BFQ$206,4,FALSE)),\"\",VLOOKUP(B4168,database!$A$6:$BFQ$206,4,FALSE)))","v":""},null,null,null,"",null,null,null,{"$f":"IF(B4168=\"\",\"\",IF(ISERROR(VLOOKUP(B4168,database!$A$6:$BFQ$206,3,FALSE)),\"\",VLOOKUP(B4168,database!$A$6:$BFQ$206,3,FALSE)))","v":""},null,null,null,null,null,null,""]
["",null,{"$f":"IF(B4171=\"\",\"\",IF(ISERROR(VLOOKUP(B4171,database!$A$6:$BFQ$206,4,FALSE)),\"\",VLOOKUP(B4171,database!$A$6:$BFQ$206,4,FALSE)))","v":""},null,null,null,"",null,null,null,{"$f":"IF(B4171=\"\",\"\",IF(ISERROR(VLOOKUP(B4171,database!$A$6:$BFQ$206,3,FALSE)),\"\",VLOOKUP(B4171,database!$A$6:$BFQ$206,3,FALSE)))","v":""},null,null,null,null,null,null,""]
["",null,{"$f":"IF(B4172=\"\",\"\",IF(ISERROR(VLOOKUP(B4172,database!$A$6:$BFQ$206,4,FALSE)),\"\",VLOOKUP(B4172,database!$A$6:$BFQ$206,4,FALSE)))","v":""},null,null,null,"",null,null,null,{"$f":"IF(B4172=\"\",\"\",IF(ISERROR(VLOOKUP(B4172,database!$A$6:$BFQ$206,3,FALSE)),\"\",VLOOKUP(B4172,database!$A$6:$BFQ$206,3,FALSE)))","v":""},null,null,null,null,null,null,""]
["",null,{"$f":"IF(B4174=\"\",\"\",IF(ISERROR(VLOOKUP(B4174,database!$A$6:$BFQ$206,4,FALSE)),\"\",VLOOKUP(B4174,database!$A$6:$BFQ$206,4,FALSE)))","v":""},null,null,null,"",null,null,null,{"$f":"IF(B4174=\"\",\"\",IF(ISERROR(VLOOKUP(B4174,database!$A$6:$BFQ$206,3,FALSE)),\"\",VLOOKUP(B4174,database!$A$6:$BFQ$206,3,FALSE)))","v":""},null,null,null,null,null,null,""]
["",null,{"$f":"IF(B4175=\"\",\"\",IF(ISERROR(VLOOKUP(B4175,database!$A$6:$BFQ$206,4,FALSE)),\"\",VLOOKUP(B4175,database!$A$6:$BFQ$206,4,FALSE)))","v":""},null,null,null,"",null,null,null,{"$f":"IF(B4175=\"\",\"\",IF(ISERROR(VLOOKUP(B4175,database!$A$6:$BFQ$206,3,FALSE)),\"\",VLOOKUP(B4175,database!$A$6:$BFQ$206,3,FALSE)))","v":""},null,null,null,null,null,null,""]
["",null,{"$f":"IF(B4178=\"\",\"\",IF(ISERROR(VLOOKUP(B4178,database!$A$6:$BFQ$206,4,FALSE)),\"\",VLOOKUP(B4178,database!$A$6:$BFQ$206,4,FALSE)))","v":""},null,null,null,"",null,null,null,{"$f":"IF(B4178=\"\",\"\",IF(ISERROR(VLOOKUP(B4178,database!$A$6:$BFQ$206,3,FALSE)),\"\",VLOOKUP(B4178,database!$A$6:$BFQ$206,3,FALSE)))","v":""},null,null,null,null,null,null,""]
["",null,{"$f":"IF(B4179=\"\",\"\",IF(ISERROR(VLOOKUP(B4179,database!$A$6:$BFQ$206,4,FALSE)),\"\",VLOOKUP(B4179,database!$A$6:$BFQ$206,4,FALSE)))","v":""},null,null,null,"",null,null,null,{"$f":"IF(B4179=\"\",\"\",IF(ISERROR(VLOOKUP(B4179,database!$A$6:$BFQ$206,3,FALSE)),\"\",VLOOKUP(B4179,database!$A$6:$BFQ$206,3,FALSE)))","v":""},null,null,null,null,null,null,""]
["",null,{"$f":"IF(B4181=\"\",\"\",IF(ISERROR(VLOOKUP(B4181,database!$A$6:$BFQ$206,4,FALSE)),\"\",VLOOKUP(B4181,database!$A$6:$BFQ$206,4,FALSE)))","v":""},null,null,null,"",null,null,null,{"$f":"IF(B4181=\"\",\"\",IF(ISERROR(VLOOKUP(B4181,database!$A$6:$BFQ$206,3,FALSE)),\"\",VLOOKUP(B4181,database!$A$6:$BFQ$206,3,FALSE)))","v":""},null,null,null,null,null,null,""]
["",null,{"$f":"IF(B4182=\"\",\"\",IF(ISERROR(VLOOKUP(B4182,database!$A$6:$BFQ$206,4,FALSE)),\"\",VLOOKUP(B4182,database!$A$6:$BFQ$206,4,FALSE)))","v":""},null,null,null,"",null,null,null,{"$f":"IF(B4182=\"\",\"\",IF(ISERROR(VLOOKUP(B4182,database!$A$6:$BFQ$206,3,FALSE)),\"\",VLOOKUP(B4182,database!$A$6:$BFQ$206,3,FALSE)))","v":""},null,null,null,null,null,null,""]
["",null,{"$f":"IF(B4185=\"\",\"\",IF(ISERROR(VLOOKUP(B4185,database!$A$6:$BFQ$206,4,FALSE)),\"\",VLOOKUP(B4185,database!$A$6:$BFQ$206,4,FALSE)))","v":""},null,null,null,"",null,null,null,{"$f":"IF(B4185=\"\",\"\",IF(ISERROR(VLOOKUP(B4185,database!$A$6:$BFQ$206,3,FALSE)),\"\",VLOOKUP(B4185,database!$A$6:$BFQ$206,3,FALSE)))","v":""},null,null,null,null,null,null,""]
["",null,{"$f":"IF(B4186=\"\",\"\",IF(ISERROR(VLOOKUP(B4186,database!$A$6:$BFQ$206,4,FALSE)),\"\",VLOOKUP(B4186,database!$A$6:$BFQ$206,4,FALSE)))","v":""},null,null,null,"",null,null,null,{"$f":"IF(B4186=\"\",\"\",IF(ISERROR(VLOOKUP(B4186,database!$A$6:$BFQ$206,3,FALSE)),\"\",VLOOKUP(B4186,database!$A$6:$BFQ$206,3,FALSE)))","v":""},null,null,null,null,null,null,""]
["",null,{"$f":"IF(B4188=\"\",\"\",IF(ISERROR(VLOOKUP(B4188,database!$A$6:$BFQ$206,4,FALSE)),\"\",VLOOKUP(B4188,database!$A$6:$BFQ$206,4,FALSE)))","v":""},null,null,null,"",null,null,null,{"$f":"IF(B4188=\"\",\"\",IF(ISERROR(VLOOKUP(B4188,database!$A$6:$BFQ$206,3,FALSE)),\"\",VLOOKUP(B4188,database!$A$6:$BFQ$206,3,FALSE)))","v":""},null,null,null,null,null,null,""]
["",null,{"$f":"IF(B4189=\"\",\"\",IF(ISERROR(VLOOKUP(B4189,database!$A$6:$BFQ$206,4,FALSE)),\"\",VLOOKUP(B4189,database!$A$6:$BFQ$206,4,FALSE)))","v":""},null,null,null,"",null,null,null,{"$f":"IF(B4189=\"\",\"\",IF(ISERROR(VLOOKUP(B4189,database!$A$6:$BFQ$206,3,FALSE)),\"\",VLOOKUP(B4189,database!$A$6:$BFQ$206,3,FALSE)))","v":""},null,null,null,null,null,null,""]
["",null,{"$f":"IF(B4192=\"\",\"\",IF(ISERROR(VLOOKUP(B4192,database!$A$6:$BFQ$206,4,FALSE)),\"\",VLOOKUP(B4192,database!$A$6:$BFQ$206,4,FALSE)))","v":""},null,null,null,"",null,null,null,{"$f":"IF(B4192=\"\",\"\",IF(ISERROR(VLOOKUP(B4192,database!$A$6:$BFQ$206,3,FALSE)),\"\",VLOOKUP(B4192,database!$A$6:$BFQ$206,3,FALSE)))","v":""},null,null,null,null,null,null,""]
["",null,{"$f":"IF(B4193=\"\",\"\",IF(ISERROR(VLOOKUP(B4193,database!$A$6:$BFQ$206,4,FALSE)),\"\",VLOOKUP(B4193,database!$A$6:$BFQ$206,4,FALSE)))","v":""},null,null,null,"",null,null,null,{"$f":"IF(B4193=\"\",\"\",IF(ISERROR(VLOOKUP(B4193,database!$A$6:$BFQ$206,3,FALSE)),\"\",VLOOKUP(B4193,database!$A$6:$BFQ$206,3,FALSE)))","v":""},null,null,null,null,null,null,""]
["",null,{"$f":"IF(B4195=\"\",\"\",IF(ISERROR(VLOOKUP(B4195,database!$A$6:$BFQ$206,4,FALSE)),\"\",VLOOKUP(B4195,database!$A$6:$BFQ$206,4,FALSE)))","v":""},null,null,null,"",null,null,null,{"$f":"IF(B4195=\"\",\"\",IF(ISERROR(VLOOKUP(B4195,database!$A$6:$BFQ$206,3,FALSE)),\"\",VLOOKUP(B4195,database!$A$6:$BFQ$206,3,FALSE)))","v":""},null,null,null,null,null,null,""]
["",null,{"$f":"IF(B4196=\"\",\"\",IF(ISERROR(VLOOKUP(B4196,database!$A$6:$BFQ$206,4,FALSE)),\"\",VLOOKUP(B4196,database!$A$6:$BFQ$206,4,FALSE)))","v":""},null,null,null,"",null,null,null,{"$f":"IF(B4196=\"\",\"\",IF(ISERROR(VLOOKUP(B4196,database!$A$6:$BFQ$206,3,FALSE)),\"\",VLOOKUP(B4196,database!$A$6:$BFQ$206,3,FALSE)))","v":""},null,null,null,null,null,null,""]
["",null,{"$f":"IF(B4199=\"\",\"\",IF(ISERROR(VLOOKUP(B4199,database!$A$6:$BFQ$206,4,FALSE)),\"\",VLOOKUP(B4199,database!$A$6:$BFQ$206,4,FALSE)))","v":""},null,null,null,"",null,null,null,{"$f":"IF(B4199=\"\",\"\",IF(ISERROR(VLOOKUP(B4199,database!$A$6:$BFQ$206,3,FALSE)),\"\",VLOOKUP(B4199,database!$A$6:$BFQ$206,3,FALSE)))","v":""},null,null,null,null,null,null,""]
["",null,{"$f":"IF(B4200=\"\",\"\",IF(ISERROR(VLOOKUP(B4200,database!$A$6:$BFQ$206,4,FALSE)),\"\",VLOOKUP(B4200,database!$A$6:$BFQ$206,4,FALSE)))","v":""},null,null,null,"",null,null,null,{"$f":"IF(B4200=\"\",\"\",IF(ISERROR(VLOOKUP(B4200,database!$A$6:$BFQ$206,3,FALSE)),\"\",VLOOKUP(B4200,database!$A$6:$BFQ$206,3,FALSE)))","v":""},null,null,null,null,null,null,""]
["",null,{"$f":"IF(B4202=\"\",\"\",IF(ISERROR(VLOOKUP(B4202,database!$A$6:$BFQ$206,4,FALSE)),\"\",VLOOKUP(B4202,database!$A$6:$BFQ$206,4,FALSE)))","v":""},null,null,null,"",null,null,null,{"$f":"IF(B4202=\"\",\"\",IF(ISERROR(VLOOKUP(B4202,database!$A$6:$BFQ$206,3,FALSE)),\"\",VLOOKUP(B4202,database!$A$6:$BFQ$206,3,FALSE)))","v":""},null,null,null,null,null,null,""]
["",null,{"$f":"IF(B4203=\"\",\"\",IF(ISERROR(VLOOKUP(B4203,database!$A$6:$BFQ$206,4,FALSE)),\"\",VLOOKUP(B4203,database!$A$6:$BFQ$206,4,FALSE)))","v":""},null,null,null,"",null,null,null,{"$f":"IF(B4203=\"\",\"\",IF(ISERROR(VLOOKUP(B4203,database!$A$6:$BFQ$206,3,FALSE)),\"\",VLOOKUP(B4203,database!$A$6:$BFQ$206,3,FALSE)))","v":""},null,null,null,null,null,null,""]
["",null,{"$f":"IF(B4206=\"\",\"\",IF(ISERROR(VLOOKUP(B4206,database!$A$6:$BFQ$206,4,FALSE)),\"\",VLOOKUP(B4206,database!$A$6:$BFQ$206,4,FALSE)))","v":""},null,null,null,"",null,null,null,{"$f":"IF(B4206=\"\",\"\",IF(ISERROR(VLOOKUP(B4206,database!$A$6:$BFQ$206,3,FALSE)),\"\",VLOOKUP(B4206,database!$A$6:$BFQ$206,3,FALSE)))","v":""},null,null,null,null,null,null,""]
["",null,{"$f":"IF(B4207=\"\",\"\",IF(ISERROR(VLOOKUP(B4207,database!$A$6:$BFQ$206,4,FALSE)),\"\",VLOOKUP(B4207,database!$A$6:$BFQ$206,4,FALSE)))","v":""},null,null,null,"",null,null,null,{"$f":"IF(B4207=\"\",\"\",IF(ISERROR(VLOOKUP(B4207,database!$A$6:$BFQ$206,3,FALSE)),\"\",VLOOKUP(B4207,database!$A$6:$BFQ$206,3,FALSE)))","v":""},null,null,null,null,null,null,""]
["",null,{"$f":"IF(B4209=\"\",\"\",IF(ISERROR(VLOOKUP(B4209,database!$A$6:$BFQ$206,4,FALSE)),\"\",VLOOKUP(B4209,database!$A$6:$BFQ$206,4,FALSE)))","v":""},null,null,null,"",null,null,null,{"$f":"IF(B4209=\"\",\"\",IF(ISERROR(VLOOKUP(B4209,database!$A$6:$BFQ$206,3,FALSE)),\"\",VLOOKUP(B4209,database!$A$6:$BFQ$206,3,FALSE)))","v":""},null,null,null,null,null,null,""]
["",null,{"$f":"IF(B4210=\"\",\"\",IF(ISERROR(VLOOKUP(B4210,database!$A$6:$BFQ$206,4,FALSE)),\"\",VLOOKUP(B4210,database!$A$6:$BFQ$206,4,FALSE)))","v":""},null,null,null,"",null,null,null,{"$f":"IF(B4210=\"\",\"\",IF(ISERROR(VLOOKUP(B4210,database!$A$6:$BFQ$206,3,FALSE)),\"\",VLOOKUP(B4210,database!$A$6:$BFQ$206,3,FALSE)))","v":""},null,null,null,null,null,null,""]
["",null,{"$f":"IF(B4213=\"\",\"\",IF(ISERROR(VLOOKUP(B4213,database!$A$6:$BFQ$206,4,FALSE)),\"\",VLOOKUP(B4213,database!$A$6:$BFQ$206,4,FALSE)))","v":""},null,null,null,"",null,null,null,{"$f":"IF(B4213=\"\",\"\",IF(ISERROR(VLOOKUP(B4213,database!$A$6:$BFQ$206,3,FALSE)),\"\",VLOOKUP(B4213,database!$A$6:$BFQ$206,3,FALSE)))","v":""},null,null,null,null,null,null,""]
["",null,{"$f":"IF(B4214=\"\",\"\",IF(ISERROR(VLOOKUP(B4214,database!$A$6:$BFQ$206,4,FALSE)),\"\",VLOOKUP(B4214,database!$A$6:$BFQ$206,4,FALSE)))","v":""},null,null,null,"",null,null,null,{"$f":"IF(B4214=\"\",\"\",IF(ISERROR(VLOOKUP(B4214,database!$A$6:$BFQ$206,3,FALSE)),\"\",VLOOKUP(B4214,database!$A$6:$BFQ$206,3,FALSE)))","v":""},null,null,null,null,null,null,""]
["",null,{"$f":"IF(B4216=\"\",\"\",IF(ISERROR(VLOOKUP(B4216,database!$A$6:$BFQ$206,4,FALSE)),\"\",VLOOKUP(B4216,database!$A$6:$BFQ$206,4,FALSE)))","v":""},null,null,null,"",null,null,null,{"$f":"IF(B4216=\"\",\"\",IF(ISERROR(VLOOKUP(B4216,database!$A$6:$BFQ$206,3,FALSE)),\"\",VLOOKUP(B4216,database!$A$6:$BFQ$206,3,FALSE)))","v":""},null,null,null,null,null,null,""]
["",null,{"$f":"IF(B4217=\"\",\"\",IF(ISERROR(VLOOKUP(B4217,database!$A$6:$BFQ$206,4,FALSE)),\"\",VLOOKUP(B4217,database!$A$6:$BFQ$206,4,FALSE)))","v":""},null,null,null,"",null,null,null,{"$f":"IF(B4217=\"\",\"\",IF(ISERROR(VLOOKUP(B4217,database!$A$6:$BFQ$206,3,FALSE)),\"\",VLOOKUP(B4217,database!$A$6:$BFQ$206,3,FALSE)))","v":""},null,null,null,null,null,null,""]
["",null,{"$f":"IF(B4220=\"\",\"\",IF(ISERROR(VLOOKUP(B4220,database!$A$6:$BFQ$206,4,FALSE)),\"\",VLOOKUP(B4220,database!$A$6:$BFQ$206,4,FALSE)))","v":""},null,null,null,"",null,null,null,{"$f":"IF(B4220=\"\",\"\",IF(ISERROR(VLOOKUP(B4220,database!$A$6:$BFQ$206,3,FALSE)),\"\",VLOOKUP(B4220,database!$A$6:$BFQ$206,3,FALSE)))","v":""},null,null,null,null,null,null,""]
["",null,{"$f":"IF(B4221=\"\",\"\",IF(ISERROR(VLOOKUP(B4221,database!$A$6:$BFQ$206,4,FALSE)),\"\",VLOOKUP(B4221,database!$A$6:$BFQ$206,4,FALSE)))","v":""},null,null,null,"",null,null,null,{"$f":"IF(B4221=\"\",\"\",IF(ISERROR(VLOOKUP(B4221,database!$A$6:$BFQ$206,3,FALSE)),\"\",VLOOKUP(B4221,database!$A$6:$BFQ$206,3,FALSE)))","v":""},null,null,null,null,null,null,""]
["",null,{"$f":"IF(B4223=\"\",\"\",IF(ISERROR(VLOOKUP(B4223,database!$A$6:$BFQ$206,4,FALSE)),\"\",VLOOKUP(B4223,database!$A$6:$BFQ$206,4,FALSE)))","v":""},null,null,null,"",null,null,null,{"$f":"IF(B4223=\"\",\"\",IF(ISERROR(VLOOKUP(B4223,database!$A$6:$BFQ$206,3,FALSE)),\"\",VLOOKUP(B4223,database!$A$6:$BFQ$206,3,FALSE)))","v":""},null,null,null,null,null,null,""]
["",null,{"$f":"IF(B4224=\"\",\"\",IF(ISERROR(VLOOKUP(B4224,database!$A$6:$BFQ$206,4,FALSE)),\"\",VLOOKUP(B4224,database!$A$6:$BFQ$206,4,FALSE)))","v":""},null,null,null,"",null,null,null,{"$f":"IF(B4224=\"\",\"\",IF(ISERROR(VLOOKUP(B4224,database!$A$6:$BFQ$206,3,FALSE)),\"\",VLOOKUP(B4224,database!$A$6:$BFQ$206,3,FALSE)))","v":""},null,null,null,null,null,null,""]
["",null,{"$f":"IF(B4227=\"\",\"\",IF(ISERROR(VLOOKUP(B4227,database!$A$6:$BFQ$206,4,FALSE)),\"\",VLOOKUP(B4227,database!$A$6:$BFQ$206,4,FALSE)))","v":""},null,null,null,"",null,null,null,{"$f":"IF(B4227=\"\",\"\",IF(ISERROR(VLOOKUP(B4227,database!$A$6:$BFQ$206,3,FALSE)),\"\",VLOOKUP(B4227,database!$A$6:$BFQ$206,3,FALSE)))","v":""},null,null,null,null,null,null,""]
["",null,{"$f":"IF(B4228=\"\",\"\",IF(ISERROR(VLOOKUP(B4228,database!$A$6:$BFQ$206,4,FALSE)),\"\",VLOOKUP(B4228,database!$A$6:$BFQ$206,4,FALSE)))","v":""},null,null,null,"",null,null,null,{"$f":"IF(B4228=\"\",\"\",IF(ISERROR(VLOOKUP(B4228,database!$A$6:$BFQ$206,3,FALSE)),\"\",VLOOKUP(B4228,database!$A$6:$BFQ$206,3,FALSE)))","v":""},null,null,null,null,null,null,""]
["",null,{"$f":"IF(B4230=\"\",\"\",IF(ISERROR(VLOOKUP(B4230,database!$A$6:$BFQ$206,4,FALSE)),\"\",VLOOKUP(B4230,database!$A$6:$BFQ$206,4,FALSE)))","v":""},null,null,null,"",null,null,null,{"$f":"IF(B4230=\"\",\"\",IF(ISERROR(VLOOKUP(B4230,database!$A$6:$BFQ$206,3,FALSE)),\"\",VLOOKUP(B4230,database!$A$6:$BFQ$206,3,FALSE)))","v":""},null,null,null,null,null,null,""]
["",null,{"$f":"IF(B4231=\"\",\"\",IF(ISERROR(VLOOKUP(B4231,database!$A$6:$BFQ$206,4,FALSE)),\"\",VLOOKUP(B4231,database!$A$6:$BFQ$206,4,FALSE)))","v":""},null,null,null,"",null,null,null,{"$f":"IF(B4231=\"\",\"\",IF(ISERROR(VLOOKUP(B4231,database!$A$6:$BFQ$206,3,FALSE)),\"\",VLOOKUP(B4231,database!$A$6:$BFQ$206,3,FALSE)))","v":""},null,null,null,null,null,null,""]
["",null,{"$f":"IF(B4234=\"\",\"\",IF(ISERROR(VLOOKUP(B4234,database!$A$6:$BFQ$206,4,FALSE)),\"\",VLOOKUP(B4234,database!$A$6:$BFQ$206,4,FALSE)))","v":""},null,null,null,"",null,null,null,{"$f":"IF(B4234=\"\",\"\",IF(ISERROR(VLOOKUP(B4234,database!$A$6:$BFQ$206,3,FALSE)),\"\",VLOOKUP(B4234,database!$A$6:$BFQ$206,3,FALSE)))","v":""},null,null,null,null,null,null,""]
["",null,{"$f":"IF(B4235=\"\",\"\",IF(ISERROR(VLOOKUP(B4235,database!$A$6:$BFQ$206,4,FALSE)),\"\",VLOOKUP(B4235,database!$A$6:$BFQ$206,4,FALSE)))","v":""},null,null,null,"",null,null,null,{"$f":"IF(B4235=\"\",\"\",IF(ISERROR(VLOOKUP(B4235,database!$A$6:$BFQ$206,3,FALSE)),\"\",VLOOKUP(B4235,database!$A$6:$BFQ$206,3,FALSE)))","v":""},null,null,null,null,null,null,""]
["",null,{"$f":"IF(B4237=\"\",\"\",IF(ISERROR(VLOOKUP(B4237,database!$A$6:$BFQ$206,4,FALSE)),\"\",VLOOKUP(B4237,database!$A$6:$BFQ$206,4,FALSE)))","v":""},null,null,null,"",null,null,null,{"$f":"IF(B4237=\"\",\"\",IF(ISERROR(VLOOKUP(B4237,database!$A$6:$BFQ$206,3,FALSE)),\"\",VLOOKUP(B4237,database!$A$6:$BFQ$206,3,FALSE)))","v":""},null,null,null,null,null,null,""]
["",null,{"$f":"IF(B4238=\"\",\"\",IF(ISERROR(VLOOKUP(B4238,database!$A$6:$BFQ$206,4,FALSE)),\"\",VLOOKUP(B4238,database!$A$6:$BFQ$206,4,FALSE)))","v":""},null,null,null,"",null,null,null,{"$f":"IF(B4238=\"\",\"\",IF(ISERROR(VLOOKUP(B4238,database!$A$6:$BFQ$206,3,FALSE)),\"\",VLOOKUP(B4238,database!$A$6:$BFQ$206,3,FALSE)))","v":""},null,null,null,null,null,null,""]
["",null,{"$f":"IF(B4241=\"\",\"\",IF(ISERROR(VLOOKUP(B4241,database!$A$6:$BFQ$206,4,FALSE)),\"\",VLOOKUP(B4241,database!$A$6:$BFQ$206,4,FALSE)))","v":""},null,null,null,"",null,null,null,{"$f":"IF(B4241=\"\",\"\",IF(ISERROR(VLOOKUP(B4241,database!$A$6:$BFQ$206,3,FALSE)),\"\",VLOOKUP(B4241,database!$A$6:$BFQ$206,3,FALSE)))","v":""},null,null,null,null,null,null,""]
["",null,{"$f":"IF(B4242=\"\",\"\",IF(ISERROR(VLOOKUP(B4242,database!$A$6:$BFQ$206,4,FALSE)),\"\",VLOOKUP(B4242,database!$A$6:$BFQ$206,4,FALSE)))","v":""},null,null,null,"",null,null,null,{"$f":"IF(B4242=\"\",\"\",IF(ISERROR(VLOOKUP(B4242,database!$A$6:$BFQ$206,3,FALSE)),\"\",VLOOKUP(B4242,database!$A$6:$BFQ$206,3,FALSE)))","v":""},null,null,null,null,null,null,""]
["",null,{"$f":"IF(B4244=\"\",\"\",IF(ISERROR(VLOOKUP(B4244,database!$A$6:$BFQ$206,4,FALSE)),\"\",VLOOKUP(B4244,database!$A$6:$BFQ$206,4,FALSE)))","v":""},null,null,null,"",null,null,null,{"$f":"IF(B4244=\"\",\"\",IF(ISERROR(VLOOKUP(B4244,database!$A$6:$BFQ$206,3,FALSE)),\"\",VLOOKUP(B4244,database!$A$6:$BFQ$206,3,FALSE)))","v":""},null,null,null,null,null,null,""]
["",null,{"$f":"IF(B4245=\"\",\"\",IF(ISERROR(VLOOKUP(B4245,database!$A$6:$BFQ$206,4,FALSE)),\"\",VLOOKUP(B4245,database!$A$6:$BFQ$206,4,FALSE)))","v":""},null,null,null,"",null,null,null,{"$f":"IF(B4245=\"\",\"\",IF(ISERROR(VLOOKUP(B4245,database!$A$6:$BFQ$206,3,FALSE)),\"\",VLOOKUP(B4245,database!$A$6:$BFQ$206,3,FALSE)))","v":""},null,null,null,null,null,null,""]
["",null,{"$f":"IF(B4248=\"\",\"\",IF(ISERROR(VLOOKUP(B4248,database!$A$6:$BFQ$206,4,FALSE)),\"\",VLOOKUP(B4248,database!$A$6:$BFQ$206,4,FALSE)))","v":""},null,null,null,"",null,null,null,{"$f":"IF(B4248=\"\",\"\",IF(ISERROR(VLOOKUP(B4248,database!$A$6:$BFQ$206,3,FALSE)),\"\",VLOOKUP(B4248,database!$A$6:$BFQ$206,3,FALSE)))","v":""},null,null,null,null,null,null,""]
["",null,{"$f":"IF(B4249=\"\",\"\",IF(ISERROR(VLOOKUP(B4249,database!$A$6:$BFQ$206,4,FALSE)),\"\",VLOOKUP(B4249,database!$A$6:$BFQ$206,4,FALSE)))","v":""},null,null,null,"",null,null,null,{"$f":"IF(B4249=\"\",\"\",IF(ISERROR(VLOOKUP(B4249,database!$A$6:$BFQ$206,3,FALSE)),\"\",VLOOKUP(B4249,database!$A$6:$BFQ$206,3,FALSE)))","v":""},null,null,null,null,null,null,""]
["",null,{"$f":"IF(B4251=\"\",\"\",IF(ISERROR(VLOOKUP(B4251,database!$A$6:$BFQ$206,4,FALSE)),\"\",VLOOKUP(B4251,database!$A$6:$BFQ$206,4,FALSE)))","v":""},null,null,null,"",null,null,null,{"$f":"IF(B4251=\"\",\"\",IF(ISERROR(VLOOKUP(B4251,database!$A$6:$BFQ$206,3,FALSE)),\"\",VLOOKUP(B4251,database!$A$6:$BFQ$206,3,FALSE)))","v":""},null,null,null,null,null,null,""]
["",null,{"$f":"IF(B4252=\"\",\"\",IF(ISERROR(VLOOKUP(B4252,database!$A$6:$BFQ$206,4,FALSE)),\"\",VLOOKUP(B4252,database!$A$6:$BFQ$206,4,FALSE)))","v":""},null,null,null,"",null,null,null,{"$f":"IF(B4252=\"\",\"\",IF(ISERROR(VLOOKUP(B4252,database!$A$6:$BFQ$206,3,FALSE)),\"\",VLOOKUP(B4252,database!$A$6:$BFQ$206,3,FALSE)))","v":""},null,null,null,null,null,null,""]
["",null,{"$f":"IF(B4255=\"\",\"\",IF(ISERROR(VLOOKUP(B4255,database!$A$6:$BFQ$206,4,FALSE)),\"\",VLOOKUP(B4255,database!$A$6:$BFQ$206,4,FALSE)))","v":""},null,null,null,"",null,null,null,{"$f":"IF(B4255=\"\",\"\",IF(ISERROR(VLOOKUP(B4255,database!$A$6:$BFQ$206,3,FALSE)),\"\",VLOOKUP(B4255,database!$A$6:$BFQ$206,3,FALSE)))","v":""},null,null,null,null,null,null,""]
["",null,{"$f":"IF(B4256=\"\",\"\",IF(ISERROR(VLOOKUP(B4256,database!$A$6:$BFQ$206,4,FALSE)),\"\",VLOOKUP(B4256,database!$A$6:$BFQ$206,4,FALSE)))","v":""},null,null,null,"",null,null,null,{"$f":"IF(B4256=\"\",\"\",IF(ISERROR(VLOOKUP(B4256,database!$A$6:$BFQ$206,3,FALSE)),\"\",VLOOKUP(B4256,database!$A$6:$BFQ$206,3,FALSE)))","v":""},null,null,null,null,null,null,""]
["",null,{"$f":"IF(B4259=\"\",\"\",IF(ISERROR(VLOOKUP(B4259,database!$A$6:$BFQ$206,4,FALSE)),\"\",VLOOKUP(B4259,database!$A$6:$BFQ$206,4,FALSE)))","v":""},null,null,null,"",null,null,null,{"$f":"IF(B4259=\"\",\"\",IF(ISERROR(VLOOKUP(B4259,database!$A$6:$BFQ$206,3,FALSE)),\"\",VLOOKUP(B4259,database!$A$6:$BFQ$206,3,FALSE)))","v":""},null,null,null,null,null,null,""]
["",null,{"$f":"IF(B4260=\"\",\"\",IF(ISERROR(VLOOKUP(B4260,database!$A$6:$BFQ$206,4,FALSE)),\"\",VLOOKUP(B4260,database!$A$6:$BFQ$206,4,FALSE)))","v":""},null,null,null,"",null,null,null,{"$f":"IF(B4260=\"\",\"\",IF(ISERROR(VLOOKUP(B4260,database!$A$6:$BFQ$206,3,FALSE)),\"\",VLOOKUP(B4260,database!$A$6:$BFQ$206,3,FALSE)))","v":""},null,null,null,null,null,null,""]
["",null,{"$f":"IF(B4262=\"\",\"\",IF(ISERROR(VLOOKUP(B4262,database!$A$6:$BFQ$206,4,FALSE)),\"\",VLOOKUP(B4262,database!$A$6:$BFQ$206,4,FALSE)))","v":""},null,null,null,"",null,null,null,{"$f":"IF(B4262=\"\",\"\",IF(ISERROR(VLOOKUP(B4262,database!$A$6:$BFQ$206,3,FALSE)),\"\",VLOOKUP(B4262,database!$A$6:$BFQ$206,3,FALSE)))","v":""},null,null,null,null,null,null,""]
["",null,{"$f":"IF(B4263=\"\",\"\",IF(ISERROR(VLOOKUP(B4263,database!$A$6:$BFQ$206,4,FALSE)),\"\",VLOOKUP(B4263,database!$A$6:$BFQ$206,4,FALSE)))","v":""},null,null,null,"",null,null,null,{"$f":"IF(B4263=\"\",\"\",IF(ISERROR(VLOOKUP(B4263,database!$A$6:$BFQ$206,3,FALSE)),\"\",VLOOKUP(B4263,database!$A$6:$BFQ$206,3,FALSE)))","v":""},null,null,null,null,null,null,""]
["",null,{"$f":"IF(B4266=\"\",\"\",IF(ISERROR(VLOOKUP(B4266,database!$A$6:$BFQ$206,4,FALSE)),\"\",VLOOKUP(B4266,database!$A$6:$BFQ$206,4,FALSE)))","v":""},null,null,null,"",null,null,null,{"$f":"IF(B4266=\"\",\"\",IF(ISERROR(VLOOKUP(B4266,database!$A$6:$BFQ$206,3,FALSE)),\"\",VLOOKUP(B4266,database!$A$6:$BFQ$206,3,FALSE)))","v":""},null,null,null,null,null,null,""]
["",null,{"$f":"IF(B4267=\"\",\"\",IF(ISERROR(VLOOKUP(B4267,database!$A$6:$BFQ$206,4,FALSE)),\"\",VLOOKUP(B4267,database!$A$6:$BFQ$206,4,FALSE)))","v":""},null,null,null,"",null,null,null,{"$f":"IF(B4267=\"\",\"\",IF(ISERROR(VLOOKUP(B4267,database!$A$6:$BFQ$206,3,FALSE)),\"\",VLOOKUP(B4267,database!$A$6:$BFQ$206,3,FALSE)))","v":""},null,null,null,null,null,null,""]
["",null,{"$f":"IF(B4269=\"\",\"\",IF(ISERROR(VLOOKUP(B4269,database!$A$6:$BFQ$206,4,FALSE)),\"\",VLOOKUP(B4269,database!$A$6:$BFQ$206,4,FALSE)))","v":""},null,null,null,"",null,null,null,{"$f":"IF(B4269=\"\",\"\",IF(ISERROR(VLOOKUP(B4269,database!$A$6:$BFQ$206,3,FALSE)),\"\",VLOOKUP(B4269,database!$A$6:$BFQ$206,3,FALSE)))","v":""},null,null,null,null,null,null,""]
["",null,{"$f":"IF(B4270=\"\",\"\",IF(ISERROR(VLOOKUP(B4270,database!$A$6:$BFQ$206,4,FALSE)),\"\",VLOOKUP(B4270,database!$A$6:$BFQ$206,4,FALSE)))","v":""},null,null,null,"",null,null,null,{"$f":"IF(B4270=\"\",\"\",IF(ISERROR(VLOOKUP(B4270,database!$A$6:$BFQ$206,3,FALSE)),\"\",VLOOKUP(B4270,database!$A$6:$BFQ$206,3,FALSE)))","v":""},null,null,null,null,null,null,""]
["",null,{"$f":"IF(B4273=\"\",\"\",IF(ISERROR(VLOOKUP(B4273,database!$A$6:$BFQ$206,4,FALSE)),\"\",VLOOKUP(B4273,database!$A$6:$BFQ$206,4,FALSE)))","v":""},null,null,null,"",null,null,null,{"$f":"IF(B4273=\"\",\"\",IF(ISERROR(VLOOKUP(B4273,database!$A$6:$BFQ$206,3,FALSE)),\"\",VLOOKUP(B4273,database!$A$6:$BFQ$206,3,FALSE)))","v":""},null,null,null,null,null,null,""]
["",null,{"$f":"IF(B4274=\"\",\"\",IF(ISERROR(VLOOKUP(B4274,database!$A$6:$BFQ$206,4,FALSE)),\"\",VLOOKUP(B4274,database!$A$6:$BFQ$206,4,FALSE)))","v":""},null,null,null,"",null,null,null,{"$f":"IF(B4274=\"\",\"\",IF(ISERROR(VLOOKUP(B4274,database!$A$6:$BFQ$206,3,FALSE)),\"\",VLOOKUP(B4274,database!$A$6:$BFQ$206,3,FALSE)))","v":""},null,null,null,null,null,null,""]
["",null,{"$f":"IF(B4276=\"\",\"\",IF(ISERROR(VLOOKUP(B4276,database!$A$6:$BFQ$206,4,FALSE)),\"\",VLOOKUP(B4276,database!$A$6:$BFQ$206,4,FALSE)))","v":""},null,null,null,"",null,null,null,{"$f":"IF(B4276=\"\",\"\",IF(ISERROR(VLOOKUP(B4276,database!$A$6:$BFQ$206,3,FALSE)),\"\",VLOOKUP(B4276,database!$A$6:$BFQ$206,3,FALSE)))","v":""},null,null,null,null,null,null,""]
["",null,{"$f":"IF(B4277=\"\",\"\",IF(ISERROR(VLOOKUP(B4277,database!$A$6:$BFQ$206,4,FALSE)),\"\",VLOOKUP(B4277,database!$A$6:$BFQ$206,4,FALSE)))","v":""},null,null,null,"",null,null,null,{"$f":"IF(B4277=\"\",\"\",IF(ISERROR(VLOOKUP(B4277,database!$A$6:$BFQ$206,3,FALSE)),\"\",VLOOKUP(B4277,database!$A$6:$BFQ$206,3,FALSE)))","v":""},null,null,null,null,null,null,""]
["",null,{"$f":"IF(B4280=\"\",\"\",IF(ISERROR(VLOOKUP(B4280,database!$A$6:$BFQ$206,4,FALSE)),\"\",VLOOKUP(B4280,database!$A$6:$BFQ$206,4,FALSE)))","v":""},null,null,null,"",null,null,null,{"$f":"IF(B4280=\"\",\"\",IF(ISERROR(VLOOKUP(B4280,database!$A$6:$BFQ$206,3,FALSE)),\"\",VLOOKUP(B4280,database!$A$6:$BFQ$206,3,FALSE)))","v":""},null,null,null,null,null,null,""]
["",null,{"$f":"IF(B4281=\"\",\"\",IF(ISERROR(VLOOKUP(B4281,database!$A$6:$BFQ$206,4,FALSE)),\"\",VLOOKUP(B4281,database!$A$6:$BFQ$206,4,FALSE)))","v":""},null,null,null,"",null,null,null,{"$f":"IF(B4281=\"\",\"\",IF(ISERROR(VLOOKUP(B4281,database!$A$6:$BFQ$206,3,FALSE)),\"\",VLOOKUP(B4281,database!$A$6:$BFQ$206,3,FALSE)))","v":""},null,null,null,null,null,null,""]
["",null,{"$f":"IF(B4283=\"\",\"\",IF(ISERROR(VLOOKUP(B4283,database!$A$6:$BFQ$206,4,FALSE)),\"\",VLOOKUP(B4283,database!$A$6:$BFQ$206,4,FALSE)))","v":""},null,null,null,"",null,null,null,{"$f":"IF(B4283=\"\",\"\",IF(ISERROR(VLOOKUP(B4283,database!$A$6:$BFQ$206,3,FALSE)),\"\",VLOOKUP(B4283,database!$A$6:$BFQ$206,3,FALSE)))","v":""},null,null,null,null,null,null,""]
["",null,{"$f":"IF(B4284=\"\",\"\",IF(ISERROR(VLOOKUP(B4284,database!$A$6:$BFQ$206,4,FALSE)),\"\",VLOOKUP(B4284,database!$A$6:$BFQ$206,4,FALSE)))","v":""},null,null,null,"",null,null,null,{"$f":"IF(B4284=\"\",\"\",IF(ISERROR(VLOOKUP(B4284,database!$A$6:$BFQ$206,3,FALSE)),\"\",VLOOKUP(B4284,database!$A$6:$BFQ$206,3,FALSE)))","v":""},null,null,null,null,null,null,""]
["",null,{"$f":"IF(B4287=\"\",\"\",IF(ISERROR(VLOOKUP(B4287,database!$A$6:$BFQ$206,4,FALSE)),\"\",VLOOKUP(B4287,database!$A$6:$BFQ$206,4,FALSE)))","v":""},null,null,null,"",null,null,null,{"$f":"IF(B4287=\"\",\"\",IF(ISERROR(VLOOKUP(B4287,database!$A$6:$BFQ$206,3,FALSE)),\"\",VLOOKUP(B4287,database!$A$6:$BFQ$206,3,FALSE)))","v":""},null,null,null,null,null,null,""]
["",null,{"$f":"IF(B4288=\"\",\"\",IF(ISERROR(VLOOKUP(B4288,database!$A$6:$BFQ$206,4,FALSE)),\"\",VLOOKUP(B4288,database!$A$6:$BFQ$206,4,FALSE)))","v":""},null,null,null,"",null,null,null,{"$f":"IF(B4288=\"\",\"\",IF(ISERROR(VLOOKUP(B4288,database!$A$6:$BFQ$206,3,FALSE)),\"\",VLOOKUP(B4288,database!$A$6:$BFQ$206,3,FALSE)))","v":""},null,null,null,null,null,null,""]
["",null,{"$f":"IF(B4290=\"\",\"\",IF(ISERROR(VLOOKUP(B4290,database!$A$6:$BFQ$206,4,FALSE)),\"\",VLOOKUP(B4290,database!$A$6:$BFQ$206,4,FALSE)))","v":""},null,null,null,"",null,null,null,{"$f":"IF(B4290=\"\",\"\",IF(ISERROR(VLOOKUP(B4290,database!$A$6:$BFQ$206,3,FALSE)),\"\",VLOOKUP(B4290,database!$A$6:$BFQ$206,3,FALSE)))","v":""},null,null,null,null,null,null,""]
["",null,{"$f":"IF(B4291=\"\",\"\",IF(ISERROR(VLOOKUP(B4291,database!$A$6:$BFQ$206,4,FALSE)),\"\",VLOOKUP(B4291,database!$A$6:$BFQ$206,4,FALSE)))","v":""},null,null,null,"",null,null,null,{"$f":"IF(B4291=\"\",\"\",IF(ISERROR(VLOOKUP(B4291,database!$A$6:$BFQ$206,3,FALSE)),\"\",VLOOKUP(B4291,database!$A$6:$BFQ$206,3,FALSE)))","v":""},null,null,null,null,null,null,""]
["",null,{"$f":"IF(B4294=\"\",\"\",IF(ISERROR(VLOOKUP(B4294,database!$A$6:$BFQ$206,4,FALSE)),\"\",VLOOKUP(B4294,database!$A$6:$BFQ$206,4,FALSE)))","v":""},null,null,null,"",null,null,null,{"$f":"IF(B4294=\"\",\"\",IF(ISERROR(VLOOKUP(B4294,database!$A$6:$BFQ$206,3,FALSE)),\"\",VLOOKUP(B4294,database!$A$6:$BFQ$206,3,FALSE)))","v":""},null,null,null,null,null,null,""]
["",null,{"$f":"IF(B4295=\"\",\"\",IF(ISERROR(VLOOKUP(B4295,database!$A$6:$BFQ$206,4,FALSE)),\"\",VLOOKUP(B4295,database!$A$6:$BFQ$206,4,FALSE)))","v":""},null,null,null,"",null,null,null,{"$f":"IF(B4295=\"\",\"\",IF(ISERROR(VLOOKUP(B4295,database!$A$6:$BFQ$206,3,FALSE)),\"\",VLOOKUP(B4295,database!$A$6:$BFQ$206,3,FALSE)))","v":""},null,null,null,null,null,null,""]
["",null,{"$f":"IF(B4297=\"\",\"\",IF(ISERROR(VLOOKUP(B4297,database!$A$6:$BFQ$206,4,FALSE)),\"\",VLOOKUP(B4297,database!$A$6:$BFQ$206,4,FALSE)))","v":""},null,null,null,"",null,null,null,{"$f":"IF(B4297=\"\",\"\",IF(ISERROR(VLOOKUP(B4297,database!$A$6:$BFQ$206,3,FALSE)),\"\",VLOOKUP(B4297,database!$A$6:$BFQ$206,3,FALSE)))","v":""},null,null,null,null,null,null,""]
["",null,{"$f":"IF(B4298=\"\",\"\",IF(ISERROR(VLOOKUP(B4298,database!$A$6:$BFQ$206,4,FALSE)),\"\",VLOOKUP(B4298,database!$A$6:$BFQ$206,4,FALSE)))","v":""},null,null,null,"",null,null,null,{"$f":"IF(B4298=\"\",\"\",IF(ISERROR(VLOOKUP(B4298,database!$A$6:$BFQ$206,3,FALSE)),\"\",VLOOKUP(B4298,database!$A$6:$BFQ$206,3,FALSE)))","v":""},null,null,null,null,null,null,""]
["",null,{"$f":"IF(B4301=\"\",\"\",IF(ISERROR(VLOOKUP(B4301,database!$A$6:$BFQ$206,4,FALSE)),\"\",VLOOKUP(B4301,database!$A$6:$BFQ$206,4,FALSE)))","v":""},null,null,null,"",null,null,null,{"$f":"IF(B4301=\"\",\"\",IF(ISERROR(VLOOKUP(B4301,database!$A$6:$BFQ$206,3,FALSE)),\"\",VLOOKUP(B4301,database!$A$6:$BFQ$206,3,FALSE)))","v":""},null,null,null,null,null,null,""]
["",null,{"$f":"IF(B4302=\"\",\"\",IF(ISERROR(VLOOKUP(B4302,database!$A$6:$BFQ$206,4,FALSE)),\"\",VLOOKUP(B4302,database!$A$6:$BFQ$206,4,FALSE)))","v":""},null,null,null,"",null,null,null,{"$f":"IF(B4302=\"\",\"\",IF(ISERROR(VLOOKUP(B4302,database!$A$6:$BFQ$206,3,FALSE)),\"\",VLOOKUP(B4302,database!$A$6:$BFQ$206,3,FALSE)))","v":""},null,null,null,null,null,null,""]
["",null,{"$f":"IF(B4304=\"\",\"\",IF(ISERROR(VLOOKUP(B4304,database!$A$6:$BFQ$206,4,FALSE)),\"\",VLOOKUP(B4304,database!$A$6:$BFQ$206,4,FALSE)))","v":""},null,null,null,"",null,null,null,{"$f":"IF(B4304=\"\",\"\",IF(ISERROR(VLOOKUP(B4304,database!$A$6:$BFQ$206,3,FALSE)),\"\",VLOOKUP(B4304,database!$A$6:$BFQ$206,3,FALSE)))","v":""},null,null,null,null,null,null,""]
["",null,{"$f":"IF(B4305=\"\",\"\",IF(ISERROR(VLOOKUP(B4305,database!$A$6:$BFQ$206,4,FALSE)),\"\",VLOOKUP(B4305,database!$A$6:$BFQ$206,4,FALSE)))","v":""},null,null,null,"",null,null,null,{"$f":"IF(B4305=\"\",\"\",IF(ISERROR(VLOOKUP(B4305,database!$A$6:$BFQ$206,3,FALSE)),\"\",VLOOKUP(B4305,database!$A$6:$BFQ$206,3,FALSE)))","v":""},null,null,null,null,null,null,""]
["",null,{"$f":"IF(B4308=\"\",\"\",IF(ISERROR(VLOOKUP(B4308,database!$A$6:$BFQ$206,4,FALSE)),\"\",VLOOKUP(B4308,database!$A$6:$BFQ$206,4,FALSE)))","v":""},null,null,null,"",null,null,null,{"$f":"IF(B4308=\"\",\"\",IF(ISERROR(VLOOKUP(B4308,database!$A$6:$BFQ$206,3,FALSE)),\"\",VLOOKUP(B4308,database!$A$6:$BFQ$206,3,FALSE)))","v":""},null,null,null,null,null,null,""]
["",null,{"$f":"IF(B4309=\"\",\"\",IF(ISERROR(VLOOKUP(B4309,database!$A$6:$BFQ$206,4,FALSE)),\"\",VLOOKUP(B4309,database!$A$6:$BFQ$206,4,FALSE)))","v":""},null,null,null,"",null,null,null,{"$f":"IF(B4309=\"\",\"\",IF(ISERROR(VLOOKUP(B4309,database!$A$6:$BFQ$206,3,FALSE)),\"\",VLOOKUP(B4309,database!$A$6:$BFQ$206,3,FALSE)))","v":""},null,null,null,null,null,null,""]
["",null,{"$f":"IF(B4311=\"\",\"\",IF(ISERROR(VLOOKUP(B4311,database!$A$6:$BFQ$206,4,FALSE)),\"\",VLOOKUP(B4311,database!$A$6:$BFQ$206,4,FALSE)))","v":""},null,null,null,"",null,null,null,{"$f":"IF(B4311=\"\",\"\",IF(ISERROR(VLOOKUP(B4311,database!$A$6:$BFQ$206,3,FALSE)),\"\",VLOOKUP(B4311,database!$A$6:$BFQ$206,3,FALSE)))","v":""},null,null,null,null,null,null,""]
["",null,{"$f":"IF(B4312=\"\",\"\",IF(ISERROR(VLOOKUP(B4312,database!$A$6:$BFQ$206,4,FALSE)),\"\",VLOOKUP(B4312,database!$A$6:$BFQ$206,4,FALSE)))","v":""},null,null,null,"",null,null,null,{"$f":"IF(B4312=\"\",\"\",IF(ISERROR(VLOOKUP(B4312,database!$A$6:$BFQ$206,3,FALSE)),\"\",VLOOKUP(B4312,database!$A$6:$BFQ$206,3,FALSE)))","v":""},null,null,null,null,null,null,""]
["",null,{"$f":"IF(B4315=\"\",\"\",IF(ISERROR(VLOOKUP(B4315,database!$A$6:$BFQ$206,4,FALSE)),\"\",VLOOKUP(B4315,database!$A$6:$BFQ$206,4,FALSE)))","v":""},null,null,null,"",null,null,null,{"$f":"IF(B4315=\"\",\"\",IF(ISERROR(VLOOKUP(B4315,database!$A$6:$BFQ$206,3,FALSE)),\"\",VLOOKUP(B4315,database!$A$6:$BFQ$206,3,FALSE)))","v":""},null,null,null,null,null,null,""]
["",null,{"$f":"IF(B4316=\"\",\"\",IF(ISERROR(VLOOKUP(B4316,database!$A$6:$BFQ$206,4,FALSE)),\"\",VLOOKUP(B4316,database!$A$6:$BFQ$206,4,FALSE)))","v":""},null,null,null,"",null,null,null,{"$f":"IF(B4316=\"\",\"\",IF(ISERROR(VLOOKUP(B4316,database!$A$6:$BFQ$206,3,FALSE)),\"\",VLOOKUP(B4316,database!$A$6:$BFQ$206,3,FALSE)))","v":""},null,null,null,null,null,null,""]
["",null,{"$f":"IF(B4318=\"\",\"\",IF(ISERROR(VLOOKUP(B4318,database!$A$6:$BFQ$206,4,FALSE)),\"\",VLOOKUP(B4318,database!$A$6:$BFQ$206,4,FALSE)))","v":""},null,null,null,"",null,null,null,{"$f":"IF(B4318=\"\",\"\",IF(ISERROR(VLOOKUP(B4318,database!$A$6:$BFQ$206,3,FALSE)),\"\",VLOOKUP(B4318,database!$A$6:$BFQ$206,3,FALSE)))","v":""},null,null,null,null,null,null,""]
["",null,{"$f":"IF(B4319=\"\",\"\",IF(ISERROR(VLOOKUP(B4319,database!$A$6:$BFQ$206,4,FALSE)),\"\",VLOOKUP(B4319,database!$A$6:$BFQ$206,4,FALSE)))","v":""},null,null,null,"",null,null,null,{"$f":"IF(B4319=\"\",\"\",IF(ISERROR(VLOOKUP(B4319,database!$A$6:$BFQ$206,3,FALSE)),\"\",VLOOKUP(B4319,database!$A$6:$BFQ$206,3,FALSE)))","v":""},null,null,null,null,null,null,""]
["",null,{"$f":"IF(B4322=\"\",\"\",IF(ISERROR(VLOOKUP(B4322,database!$A$6:$BFQ$206,4,FALSE)),\"\",VLOOKUP(B4322,database!$A$6:$BFQ$206,4,FALSE)))","v":""},null,null,null,"",null,null,null,{"$f":"IF(B4322=\"\",\"\",IF(ISERROR(VLOOKUP(B4322,database!$A$6:$BFQ$206,3,FALSE)),\"\",VLOOKUP(B4322,database!$A$6:$BFQ$206,3,FALSE)))","v":""},null,null,null,null,null,null,""]
["",null,{"$f":"IF(B4323=\"\",\"\",IF(ISERROR(VLOOKUP(B4323,database!$A$6:$BFQ$206,4,FALSE)),\"\",VLOOKUP(B4323,database!$A$6:$BFQ$206,4,FALSE)))","v":""},null,null,null,"",null,null,null,{"$f":"IF(B4323=\"\",\"\",IF(ISERROR(VLOOKUP(B4323,database!$A$6:$BFQ$206,3,FALSE)),\"\",VLOOKUP(B4323,database!$A$6:$BFQ$206,3,FALSE)))","v":""},null,null,null,null,null,null,""]
["",null,{"$f":"IF(B4325=\"\",\"\",IF(ISERROR(VLOOKUP(B4325,database!$A$6:$BFQ$206,4,FALSE)),\"\",VLOOKUP(B4325,database!$A$6:$BFQ$206,4,FALSE)))","v":""},null,null,null,"",null,null,null,{"$f":"IF(B4325=\"\",\"\",IF(ISERROR(VLOOKUP(B4325,database!$A$6:$BFQ$206,3,FALSE)),\"\",VLOOKUP(B4325,database!$A$6:$BFQ$206,3,FALSE)))","v":""},null,null,null,null,null,null,""]
["",null,{"$f":"IF(B4326=\"\",\"\",IF(ISERROR(VLOOKUP(B4326,database!$A$6:$BFQ$206,4,FALSE)),\"\",VLOOKUP(B4326,database!$A$6:$BFQ$206,4,FALSE)))","v":""},null,null,null,"",null,null,null,{"$f":"IF(B4326=\"\",\"\",IF(ISERROR(VLOOKUP(B4326,database!$A$6:$BFQ$206,3,FALSE)),\"\",VLOOKUP(B4326,database!$A$6:$BFQ$206,3,FALSE)))","v":""},null,null,null,null,null,null,""]
["",null,{"$f":"IF(B4329=\"\",\"\",IF(ISERROR(VLOOKUP(B4329,database!$A$6:$BFQ$206,4,FALSE)),\"\",VLOOKUP(B4329,database!$A$6:$BFQ$206,4,FALSE)))","v":""},null,null,null,"",null,null,null,{"$f":"IF(B4329=\"\",\"\",IF(ISERROR(VLOOKUP(B4329,database!$A$6:$BFQ$206,3,FALSE)),\"\",VLOOKUP(B4329,database!$A$6:$BFQ$206,3,FALSE)))","v":""},null,null,null,null,null,null,""]
["",null,{"$f":"IF(B4330=\"\",\"\",IF(ISERROR(VLOOKUP(B4330,database!$A$6:$BFQ$206,4,FALSE)),\"\",VLOOKUP(B4330,database!$A$6:$BFQ$206,4,FALSE)))","v":""},null,null,null,"",null,null,null,{"$f":"IF(B4330=\"\",\"\",IF(ISERROR(VLOOKUP(B4330,database!$A$6:$BFQ$206,3,FALSE)),\"\",VLOOKUP(B4330,database!$A$6:$BFQ$206,3,FALSE)))","v":""},null,null,null,null,null,null,""]
["",null,{"$f":"IF(B4332=\"\",\"\",IF(ISERROR(VLOOKUP(B4332,database!$A$6:$BFQ$206,4,FALSE)),\"\",VLOOKUP(B4332,database!$A$6:$BFQ$206,4,FALSE)))","v":""},null,null,null,"",null,null,null,{"$f":"IF(B4332=\"\",\"\",IF(ISERROR(VLOOKUP(B4332,database!$A$6:$BFQ$206,3,FALSE)),\"\",VLOOKUP(B4332,database!$A$6:$BFQ$206,3,FALSE)))","v":""},null,null,null,null,null,null,""]
["",null,{"$f":"IF(B4333=\"\",\"\",IF(ISERROR(VLOOKUP(B4333,database!$A$6:$BFQ$206,4,FALSE)),\"\",VLOOKUP(B4333,database!$A$6:$BFQ$206,4,FALSE)))","v":""},null,null,null,"",null,null,null,{"$f":"IF(B4333=\"\",\"\",IF(ISERROR(VLOOKUP(B4333,database!$A$6:$BFQ$206,3,FALSE)),\"\",VLOOKUP(B4333,database!$A$6:$BFQ$206,3,FALSE)))","v":""},null,null,null,null,null,null,""]
["",null,{"$f":"IF(B4336=\"\",\"\",IF(ISERROR(VLOOKUP(B4336,database!$A$6:$BFQ$206,4,FALSE)),\"\",VLOOKUP(B4336,database!$A$6:$BFQ$206,4,FALSE)))","v":""},null,null,null,"",null,null,null,{"$f":"IF(B4336=\"\",\"\",IF(ISERROR(VLOOKUP(B4336,database!$A$6:$BFQ$206,3,FALSE)),\"\",VLOOKUP(B4336,database!$A$6:$BFQ$206,3,FALSE)))","v":""},null,null,null,null,null,null,""]
["",null,{"$f":"IF(B4337=\"\",\"\",IF(ISERROR(VLOOKUP(B4337,database!$A$6:$BFQ$206,4,FALSE)),\"\",VLOOKUP(B4337,database!$A$6:$BFQ$206,4,FALSE)))","v":""},null,null,null,"",null,null,null,{"$f":"IF(B4337=\"\",\"\",IF(ISERROR(VLOOKUP(B4337,database!$A$6:$BFQ$206,3,FALSE)),\"\",VLOOKUP(B4337,database!$A$6:$BFQ$206,3,FALSE)))","v":""},null,null,null,null,null,null,""]
["",null,{"$f":"IF(B4339=\"\",\"\",IF(ISERROR(VLOOKUP(B4339,database!$A$6:$BFQ$206,4,FALSE)),\"\",VLOOKUP(B4339,database!$A$6:$BFQ$206,4,FALSE)))","v":""},null,null,null,"",null,null,null,{"$f":"IF(B4339=\"\",\"\",IF(ISERROR(VLOOKUP(B4339,database!$A$6:$BFQ$206,3,FALSE)),\"\",VLOOKUP(B4339,database!$A$6:$BFQ$206,3,FALSE)))","v":""},null,null,null,null,null,null,""]
["",null,{"$f":"IF(B4340=\"\",\"\",IF(ISERROR(VLOOKUP(B4340,database!$A$6:$BFQ$206,4,FALSE)),\"\",VLOOKUP(B4340,database!$A$6:$BFQ$206,4,FALSE)))","v":""},null,null,null,"",null,null,null,{"$f":"IF(B4340=\"\",\"\",IF(ISERROR(VLOOKUP(B4340,database!$A$6:$BFQ$206,3,FALSE)),\"\",VLOOKUP(B4340,database!$A$6:$BFQ$206,3,FALSE)))","v":""},null,null,null,null,null,null,""]
["",null,{"$f":"IF(B4343=\"\",\"\",IF(ISERROR(VLOOKUP(B4343,database!$A$6:$BFQ$206,4,FALSE)),\"\",VLOOKUP(B4343,database!$A$6:$BFQ$206,4,FALSE)))","v":""},null,null,null,"",null,null,null,{"$f":"IF(B4343=\"\",\"\",IF(ISERROR(VLOOKUP(B4343,database!$A$6:$BFQ$206,3,FALSE)),\"\",VLOOKUP(B4343,database!$A$6:$BFQ$206,3,FALSE)))","v":""},null,null,null,null,null,null,""]
["",null,{"$f":"IF(B4344=\"\",\"\",IF(ISERROR(VLOOKUP(B4344,database!$A$6:$BFQ$206,4,FALSE)),\"\",VLOOKUP(B4344,database!$A$6:$BFQ$206,4,FALSE)))","v":""},null,null,null,"",null,null,null,{"$f":"IF(B4344=\"\",\"\",IF(ISERROR(VLOOKUP(B4344,database!$A$6:$BFQ$206,3,FALSE)),\"\",VLOOKUP(B4344,database!$A$6:$BFQ$206,3,FALSE)))","v":""},null,null,null,null,null,null,""]
["",null,{"$f":"IF(B4346=\"\",\"\",IF(ISERROR(VLOOKUP(B4346,database!$A$6:$BFQ$206,4,FALSE)),\"\",VLOOKUP(B4346,database!$A$6:$BFQ$206,4,FALSE)))","v":""},null,null,null,"",null,null,null,{"$f":"IF(B4346=\"\",\"\",IF(ISERROR(VLOOKUP(B4346,database!$A$6:$BFQ$206,3,FALSE)),\"\",VLOOKUP(B4346,database!$A$6:$BFQ$206,3,FALSE)))","v":""},null,null,null,null,null,null,""]
["",null,{"$f":"IF(B4347=\"\",\"\",IF(ISERROR(VLOOKUP(B4347,database!$A$6:$BFQ$206,4,FALSE)),\"\",VLOOKUP(B4347,database!$A$6:$BFQ$206,4,FALSE)))","v":""},null,null,null,"",null,null,null,{"$f":"IF(B4347=\"\",\"\",IF(ISERROR(VLOOKUP(B4347,database!$A$6:$BFQ$206,3,FALSE)),\"\",VLOOKUP(B4347,database!$A$6:$BFQ$206,3,FALSE)))","v":""},null,null,null,null,null,null,""]
["",null,{"$f":"IF(B4350=\"\",\"\",IF(ISERROR(VLOOKUP(B4350,database!$A$6:$BFQ$206,4,FALSE)),\"\",VLOOKUP(B4350,database!$A$6:$BFQ$206,4,FALSE)))","v":""},null,null,null,"",null,null,null,{"$f":"IF(B4350=\"\",\"\",IF(ISERROR(VLOOKUP(B4350,database!$A$6:$BFQ$206,3,FALSE)),\"\",VLOOKUP(B4350,database!$A$6:$BFQ$206,3,FALSE)))","v":""},null,null,null,null,null,null,""]
["",null,{"$f":"IF(B4351=\"\",\"\",IF(ISERROR(VLOOKUP(B4351,database!$A$6:$BFQ$206,4,FALSE)),\"\",VLOOKUP(B4351,database!$A$6:$BFQ$206,4,FALSE)))","v":""},null,null,null,"",null,null,null,{"$f":"IF(B4351=\"\",\"\",IF(ISERROR(VLOOKUP(B4351,database!$A$6:$BFQ$206,3,FALSE)),\"\",VLOOKUP(B4351,database!$A$6:$BFQ$206,3,FALSE)))","v":""},null,null,null,null,null,null,""]
[{"$f":"IF(B4353=\"\",\"\",ROW(A4350))","v":""},null,{"$f":"IF(B4353=\"\",\"\",IF(ISERROR(VLOOKUP(B4353,database!$A$6:$BFQ$206,4,FALSE)),\"\",VLOOKUP(B4353,database!$A$6:$BFQ$206,4,FALSE)))","v":""},null,null,null,{"$f":"IF(B4353=\"\",\"\",IF(C4353=\"\",0,1))","v":""},null,null,null,{"$f":"IF(B4353=\"\",\"\",IF(ISERROR(VLOOKUP(B4353,database!$A$6:$BFQ$206,3,FALSE)),\"\",VLOOKUP(B4353,database!$A$6:$BFQ$206,3,FALSE)))","v":""},null,null,null,null,null,null,{"$f":"LEFT(C4353,2)","v":""}]
["",null,{"$f":"IF(B4354=\"\",\"\",IF(ISERROR(VLOOKUP(B4354,database!$A$6:$BFQ$206,4,FALSE)),\"\",VLOOKUP(B4354,database!$A$6:$BFQ$206,4,FALSE)))","v":""},null,null,null,"",null,null,null,{"$f":"IF(B4354=\"\",\"\",IF(ISERROR(VLOOKUP(B4354,database!$A$6:$BFQ$206,3,FALSE)),\"\",VLOOKUP(B4354,database!$A$6:$BFQ$206,3,FALSE)))","v":""},null,null,null,null,null,null,""]
["",null,{"$f":"IF(B4357=\"\",\"\",IF(ISERROR(VLOOKUP(B4357,database!$A$6:$BFQ$206,4,FALSE)),\"\",VLOOKUP(B4357,database!$A$6:$BFQ$206,4,FALSE)))","v":""},null,null,null,"",null,null,null,{"$f":"IF(B4357=\"\",\"\",IF(ISERROR(VLOOKUP(B4357,database!$A$6:$BFQ$206,3,FALSE)),\"\",VLOOKUP(B4357,database!$A$6:$BFQ$206,3,FALSE)))","v":""},null,null,null,null,null,null,""]
["",null,{"$f":"IF(B4358=\"\",\"\",IF(ISERROR(VLOOKUP(B4358,database!$A$6:$BFQ$206,4,FALSE)),\"\",VLOOKUP(B4358,database!$A$6:$BFQ$206,4,FALSE)))","v":""},null,null,null,"",null,null,null,{"$f":"IF(B4358=\"\",\"\",IF(ISERROR(VLOOKUP(B4358,database!$A$6:$BFQ$206,3,FALSE)),\"\",VLOOKUP(B4358,database!$A$6:$BFQ$206,3,FALSE)))","v":""},null,null,null,null,null,null,""]
["",null,{"$f":"IF(B4360=\"\",\"\",IF(ISERROR(VLOOKUP(B4360,database!$A$6:$BFQ$206,4,FALSE)),\"\",VLOOKUP(B4360,database!$A$6:$BFQ$206,4,FALSE)))","v":""},null,null,null,"",null,null,null,{"$f":"IF(B4360=\"\",\"\",IF(ISERROR(VLOOKUP(B4360,database!$A$6:$BFQ$206,3,FALSE)),\"\",VLOOKUP(B4360,database!$A$6:$BFQ$206,3,FALSE)))","v":""},null,null,null,null,null,null,""]
["",null,{"$f":"IF(B4361=\"\",\"\",IF(ISERROR(VLOOKUP(B4361,database!$A$6:$BFQ$206,4,FALSE)),\"\",VLOOKUP(B4361,database!$A$6:$BFQ$206,4,FALSE)))","v":""},null,null,null,"",null,null,null,{"$f":"IF(B4361=\"\",\"\",IF(ISERROR(VLOOKUP(B4361,database!$A$6:$BFQ$206,3,FALSE)),\"\",VLOOKUP(B4361,database!$A$6:$BFQ$206,3,FALSE)))","v":""},null,null,null,null,null,null,""]
["",null,{"$f":"IF(B4364=\"\",\"\",IF(ISERROR(VLOOKUP(B4364,database!$A$6:$BFQ$206,4,FALSE)),\"\",VLOOKUP(B4364,database!$A$6:$BFQ$206,4,FALSE)))","v":""},null,null,null,"",null,null,null,{"$f":"IF(B4364=\"\",\"\",IF(ISERROR(VLOOKUP(B4364,database!$A$6:$BFQ$206,3,FALSE)),\"\",VLOOKUP(B4364,database!$A$6:$BFQ$206,3,FALSE)))","v":""},null,null,null,null,null,null,""]
["",null,{"$f":"IF(B4365=\"\",\"\",IF(ISERROR(VLOOKUP(B4365,database!$A$6:$BFQ$206,4,FALSE)),\"\",VLOOKUP(B4365,database!$A$6:$BFQ$206,4,FALSE)))","v":""},null,null,null,"",null,null,null,{"$f":"IF(B4365=\"\",\"\",IF(ISERROR(VLOOKUP(B4365,database!$A$6:$BFQ$206,3,FALSE)),\"\",VLOOKUP(B4365,database!$A$6:$BFQ$206,3,FALSE)))","v":""},null,null,null,null,null,null,""]
["",null,{"$f":"IF(B4368=\"\",\"\",IF(ISERROR(VLOOKUP(B4368,database!$A$6:$BFQ$206,4,FALSE)),\"\",VLOOKUP(B4368,database!$A$6:$BFQ$206,4,FALSE)))","v":""},null,null,null,"",null,null,null,{"$f":"IF(B4368=\"\",\"\",IF(ISERROR(VLOOKUP(B4368,database!$A$6:$BFQ$206,3,FALSE)),\"\",VLOOKUP(B4368,database!$A$6:$BFQ$206,3,FALSE)))","v":""},null,null,null,null,null,null,""]
["",null,{"$f":"IF(B4369=\"\",\"\",IF(ISERROR(VLOOKUP(B4369,database!$A$6:$BFQ$206,4,FALSE)),\"\",VLOOKUP(B4369,database!$A$6:$BFQ$206,4,FALSE)))","v":""},null,null,null,"",null,null,null,{"$f":"IF(B4369=\"\",\"\",IF(ISERROR(VLOOKUP(B4369,database!$A$6:$BFQ$206,3,FALSE)),\"\",VLOOKUP(B4369,database!$A$6:$BFQ$206,3,FALSE)))","v":""},null,null,null,null,null,null,""]
["",null,{"$f":"IF(B4371=\"\",\"\",IF(ISERROR(VLOOKUP(B4371,database!$A$6:$BFQ$206,4,FALSE)),\"\",VLOOKUP(B4371,database!$A$6:$BFQ$206,4,FALSE)))","v":""},null,null,null,"",null,null,null,{"$f":"IF(B4371=\"\",\"\",IF(ISERROR(VLOOKUP(B4371,database!$A$6:$BFQ$206,3,FALSE)),\"\",VLOOKUP(B4371,database!$A$6:$BFQ$206,3,FALSE)))","v":""},null,null,null,null,null,null,""]
["",null,{"$f":"IF(B4372=\"\",\"\",IF(ISERROR(VLOOKUP(B4372,database!$A$6:$BFQ$206,4,FALSE)),\"\",VLOOKUP(B4372,database!$A$6:$BFQ$206,4,FALSE)))","v":""},null,null,null,"",null,null,null,{"$f":"IF(B4372=\"\",\"\",IF(ISERROR(VLOOKUP(B4372,database!$A$6:$BFQ$206,3,FALSE)),\"\",VLOOKUP(B4372,database!$A$6:$BFQ$206,3,FALSE)))","v":""},null,null,null,null,null,null,""]
["",null,{"$f":"IF(B4375=\"\",\"\",IF(ISERROR(VLOOKUP(B4375,database!$A$6:$BFQ$206,4,FALSE)),\"\",VLOOKUP(B4375,database!$A$6:$BFQ$206,4,FALSE)))","v":""},null,null,null,"",null,null,null,{"$f":"IF(B4375=\"\",\"\",IF(ISERROR(VLOOKUP(B4375,database!$A$6:$BFQ$206,3,FALSE)),\"\",VLOOKUP(B4375,database!$A$6:$BFQ$206,3,FALSE)))","v":""},null,null,null,null,null,null,""]
["",null,{"$f":"IF(B4376=\"\",\"\",IF(ISERROR(VLOOKUP(B4376,database!$A$6:$BFQ$206,4,FALSE)),\"\",VLOOKUP(B4376,database!$A$6:$BFQ$206,4,FALSE)))","v":""},null,null,null,"",null,null,null,{"$f":"IF(B4376=\"\",\"\",IF(ISERROR(VLOOKUP(B4376,database!$A$6:$BFQ$206,3,FALSE)),\"\",VLOOKUP(B4376,database!$A$6:$BFQ$206,3,FALSE)))","v":""},null,null,null,null,null,null,""]
["",null,{"$f":"IF(B4378=\"\",\"\",IF(ISERROR(VLOOKUP(B4378,database!$A$6:$BFQ$206,4,FALSE)),\"\",VLOOKUP(B4378,database!$A$6:$BFQ$206,4,FALSE)))","v":""},null,null,null,"",null,null,null,{"$f":"IF(B4378=\"\",\"\",IF(ISERROR(VLOOKUP(B4378,database!$A$6:$BFQ$206,3,FALSE)),\"\",VLOOKUP(B4378,database!$A$6:$BFQ$206,3,FALSE)))","v":""},null,null,null,null,null,null,""]
["",null,{"$f":"IF(B4379=\"\",\"\",IF(ISERROR(VLOOKUP(B4379,database!$A$6:$BFQ$206,4,FALSE)),\"\",VLOOKUP(B4379,database!$A$6:$BFQ$206,4,FALSE)))","v":""},null,null,null,"",null,null,null,{"$f":"IF(B4379=\"\",\"\",IF(ISERROR(VLOOKUP(B4379,database!$A$6:$BFQ$206,3,FALSE)),\"\",VLOOKUP(B4379,database!$A$6:$BFQ$206,3,FALSE)))","v":""},null,null,null,null,null,null,""]
["",null,{"$f":"IF(B4382=\"\",\"\",IF(ISERROR(VLOOKUP(B4382,database!$A$6:$BFQ$206,4,FALSE)),\"\",VLOOKUP(B4382,database!$A$6:$BFQ$206,4,FALSE)))","v":""},null,null,null,"",null,null,null,{"$f":"IF(B4382=\"\",\"\",IF(ISERROR(VLOOKUP(B4382,database!$A$6:$BFQ$206,3,FALSE)),\"\",VLOOKUP(B4382,database!$A$6:$BFQ$206,3,FALSE)))","v":""},null,null,null,null,null,null,""]
["",null,{"$f":"IF(B4383=\"\",\"\",IF(ISERROR(VLOOKUP(B4383,database!$A$6:$BFQ$206,4,FALSE)),\"\",VLOOKUP(B4383,database!$A$6:$BFQ$206,4,FALSE)))","v":""},null,null,null,"",null,null,null,{"$f":"IF(B4383=\"\",\"\",IF(ISERROR(VLOOKUP(B4383,database!$A$6:$BFQ$206,3,FALSE)),\"\",VLOOKUP(B4383,database!$A$6:$BFQ$206,3,FALSE)))","v":""},null,null,null,null,null,null,""]
["",null,{"$f":"IF(B4385=\"\",\"\",IF(ISERROR(VLOOKUP(B4385,database!$A$6:$BFQ$206,4,FALSE)),\"\",VLOOKUP(B4385,database!$A$6:$BFQ$206,4,FALSE)))","v":""},null,null,null,"",null,null,null,{"$f":"IF(B4385=\"\",\"\",IF(ISERROR(VLOOKUP(B4385,database!$A$6:$BFQ$206,3,FALSE)),\"\",VLOOKUP(B4385,database!$A$6:$BFQ$206,3,FALSE)))","v":""},null,null,null,null,null,null,""]
["",null,{"$f":"IF(B4386=\"\",\"\",IF(ISERROR(VLOOKUP(B4386,database!$A$6:$BFQ$206,4,FALSE)),\"\",VLOOKUP(B4386,database!$A$6:$BFQ$206,4,FALSE)))","v":""},null,null,null,"",null,null,null,{"$f":"IF(B4386=\"\",\"\",IF(ISERROR(VLOOKUP(B4386,database!$A$6:$BFQ$206,3,FALSE)),\"\",VLOOKUP(B4386,database!$A$6:$BFQ$206,3,FALSE)))","v":""},null,null,null,null,null,null,""]
["",null,{"$f":"IF(B4389=\"\",\"\",IF(ISERROR(VLOOKUP(B4389,database!$A$6:$BFQ$206,4,FALSE)),\"\",VLOOKUP(B4389,database!$A$6:$BFQ$206,4,FALSE)))","v":""},null,null,null,"",null,null,null,{"$f":"IF(B4389=\"\",\"\",IF(ISERROR(VLOOKUP(B4389,database!$A$6:$BFQ$206,3,FALSE)),\"\",VLOOKUP(B4389,database!$A$6:$BFQ$206,3,FALSE)))","v":""},null,null,null,null,null,null,""]
["",null,{"$f":"IF(B4390=\"\",\"\",IF(ISERROR(VLOOKUP(B4390,database!$A$6:$BFQ$206,4,FALSE)),\"\",VLOOKUP(B4390,database!$A$6:$BFQ$206,4,FALSE)))","v":""},null,null,null,"",null,null,null,{"$f":"IF(B4390=\"\",\"\",IF(ISERROR(VLOOKUP(B4390,database!$A$6:$BFQ$206,3,FALSE)),\"\",VLOOKUP(B4390,database!$A$6:$BFQ$206,3,FALSE)))","v":""},null,null,null,null,null,null,""]
["",null,{"$f":"IF(B4392=\"\",\"\",IF(ISERROR(VLOOKUP(B4392,database!$A$6:$BFQ$206,4,FALSE)),\"\",VLOOKUP(B4392,database!$A$6:$BFQ$206,4,FALSE)))","v":""},null,null,null,"",null,null,null,{"$f":"IF(B4392=\"\",\"\",IF(ISERROR(VLOOKUP(B4392,database!$A$6:$BFQ$206,3,FALSE)),\"\",VLOOKUP(B4392,database!$A$6:$BFQ$206,3,FALSE)))","v":""},null,null,null,null,null,null,""]
["",null,{"$f":"IF(B4393=\"\",\"\",IF(ISERROR(VLOOKUP(B4393,database!$A$6:$BFQ$206,4,FALSE)),\"\",VLOOKUP(B4393,database!$A$6:$BFQ$206,4,FALSE)))","v":""},null,null,null,"",null,null,null,{"$f":"IF(B4393=\"\",\"\",IF(ISERROR(VLOOKUP(B4393,database!$A$6:$BFQ$206,3,FALSE)),\"\",VLOOKUP(B4393,database!$A$6:$BFQ$206,3,FALSE)))","v":""},null,null,null,null,null,null,""]
["",null,{"$f":"IF(B4396=\"\",\"\",IF(ISERROR(VLOOKUP(B4396,database!$A$6:$BFQ$206,4,FALSE)),\"\",VLOOKUP(B4396,database!$A$6:$BFQ$206,4,FALSE)))","v":""},null,null,null,"",null,null,null,{"$f":"IF(B4396=\"\",\"\",IF(ISERROR(VLOOKUP(B4396,database!$A$6:$BFQ$206,3,FALSE)),\"\",VLOOKUP(B4396,database!$A$6:$BFQ$206,3,FALSE)))","v":""},null,null,null,null,null,null,""]
["",null,{"$f":"IF(B4397=\"\",\"\",IF(ISERROR(VLOOKUP(B4397,database!$A$6:$BFQ$206,4,FALSE)),\"\",VLOOKUP(B4397,database!$A$6:$BFQ$206,4,FALSE)))","v":""},null,null,null,"",null,null,null,{"$f":"IF(B4397=\"\",\"\",IF(ISERROR(VLOOKUP(B4397,database!$A$6:$BFQ$206,3,FALSE)),\"\",VLOOKUP(B4397,database!$A$6:$BFQ$206,3,FALSE)))","v":""},null,null,null,null,null,null,""]
["",null,{"$f":"IF(B4399=\"\",\"\",IF(ISERROR(VLOOKUP(B4399,database!$A$6:$BFQ$206,4,FALSE)),\"\",VLOOKUP(B4399,database!$A$6:$BFQ$206,4,FALSE)))","v":""},null,null,null,"",null,null,null,{"$f":"IF(B4399=\"\",\"\",IF(ISERROR(VLOOKUP(B4399,database!$A$6:$BFQ$206,3,FALSE)),\"\",VLOOKUP(B4399,database!$A$6:$BFQ$206,3,FALSE)))","v":""},null,null,null,null,null,null,""]
["",null,{"$f":"IF(B4400=\"\",\"\",IF(ISERROR(VLOOKUP(B4400,database!$A$6:$BFQ$206,4,FALSE)),\"\",VLOOKUP(B4400,database!$A$6:$BFQ$206,4,FALSE)))","v":""},null,null,null,"",null,null,null,{"$f":"IF(B4400=\"\",\"\",IF(ISERROR(VLOOKUP(B4400,database!$A$6:$BFQ$206,3,FALSE)),\"\",VLOOKUP(B4400,database!$A$6:$BFQ$206,3,FALSE)))","v":""},null,null,null,null,null,null,""]
["",null,{"$f":"IF(B4403=\"\",\"\",IF(ISERROR(VLOOKUP(B4403,database!$A$6:$BFQ$206,4,FALSE)),\"\",VLOOKUP(B4403,database!$A$6:$BFQ$206,4,FALSE)))","v":""},null,null,null,"",null,null,null,{"$f":"IF(B4403=\"\",\"\",IF(ISERROR(VLOOKUP(B4403,database!$A$6:$BFQ$206,3,FALSE)),\"\",VLOOKUP(B4403,database!$A$6:$BFQ$206,3,FALSE)))","v":""},null,null,null,null,null,null,""]
["",null,{"$f":"IF(B4404=\"\",\"\",IF(ISERROR(VLOOKUP(B4404,database!$A$6:$BFQ$206,4,FALSE)),\"\",VLOOKUP(B4404,database!$A$6:$BFQ$206,4,FALSE)))","v":""},null,null,null,"",null,null,null,{"$f":"IF(B4404=\"\",\"\",IF(ISERROR(VLOOKUP(B4404,database!$A$6:$BFQ$206,3,FALSE)),\"\",VLOOKUP(B4404,database!$A$6:$BFQ$206,3,FALSE)))","v":""},null,null,null,null,null,null,""]
["",null,{"$f":"IF(B4406=\"\",\"\",IF(ISERROR(VLOOKUP(B4406,database!$A$6:$BFQ$206,4,FALSE)),\"\",VLOOKUP(B4406,database!$A$6:$BFQ$206,4,FALSE)))","v":""},null,null,null,"",null,null,null,{"$f":"IF(B4406=\"\",\"\",IF(ISERROR(VLOOKUP(B4406,database!$A$6:$BFQ$206,3,FALSE)),\"\",VLOOKUP(B4406,database!$A$6:$BFQ$206,3,FALSE)))","v":""},null,null,null,null,null,null,""]
["",null,{"$f":"IF(B4407=\"\",\"\",IF(ISERROR(VLOOKUP(B4407,database!$A$6:$BFQ$206,4,FALSE)),\"\",VLOOKUP(B4407,database!$A$6:$BFQ$206,4,FALSE)))","v":""},null,null,null,"",null,null,null,{"$f":"IF(B4407=\"\",\"\",IF(ISERROR(VLOOKUP(B4407,database!$A$6:$BFQ$206,3,FALSE)),\"\",VLOOKUP(B4407,database!$A$6:$BFQ$206,3,FALSE)))","v":""},null,null,null,null,null,null,""]
["",null,{"$f":"IF(B4410=\"\",\"\",IF(ISERROR(VLOOKUP(B4410,database!$A$6:$BFQ$206,4,FALSE)),\"\",VLOOKUP(B4410,database!$A$6:$BFQ$206,4,FALSE)))","v":""},null,null,null,"",null,null,null,{"$f":"IF(B4410=\"\",\"\",IF(ISERROR(VLOOKUP(B4410,database!$A$6:$BFQ$206,3,FALSE)),\"\",VLOOKUP(B4410,database!$A$6:$BFQ$206,3,FALSE)))","v":""},null,null,null,null,null,null,""]
["",null,{"$f":"IF(B4411=\"\",\"\",IF(ISERROR(VLOOKUP(B4411,database!$A$6:$BFQ$206,4,FALSE)),\"\",VLOOKUP(B4411,database!$A$6:$BFQ$206,4,FALSE)))","v":""},null,null,null,"",null,null,null,{"$f":"IF(B4411=\"\",\"\",IF(ISERROR(VLOOKUP(B4411,database!$A$6:$BFQ$206,3,FALSE)),\"\",VLOOKUP(B4411,database!$A$6:$BFQ$206,3,FALSE)))","v":""},null,null,null,null,null,null,""]
["",null,{"$f":"IF(B4413=\"\",\"\",IF(ISERROR(VLOOKUP(B4413,database!$A$6:$BFQ$206,4,FALSE)),\"\",VLOOKUP(B4413,database!$A$6:$BFQ$206,4,FALSE)))","v":""},null,null,null,"",null,null,null,{"$f":"IF(B4413=\"\",\"\",IF(ISERROR(VLOOKUP(B4413,database!$A$6:$BFQ$206,3,FALSE)),\"\",VLOOKUP(B4413,database!$A$6:$BFQ$206,3,FALSE)))","v":""},null,null,null,null,null,null,""]
["",null,{"$f":"IF(B4414=\"\",\"\",IF(ISERROR(VLOOKUP(B4414,database!$A$6:$BFQ$206,4,FALSE)),\"\",VLOOKUP(B4414,database!$A$6:$BFQ$206,4,FALSE)))","v":""},null,null,null,"",null,null,null,{"$f":"IF(B4414=\"\",\"\",IF(ISERROR(VLOOKUP(B4414,database!$A$6:$BFQ$206,3,FALSE)),\"\",VLOOKUP(B4414,database!$A$6:$BFQ$206,3,FALSE)))","v":""},null,null,null,null,null,null,""]
[{"$f":"IF(B4417=\"\",\"\",ROW(A4414))","v":""},null,{"$f":"IF(B4417=\"\",\"\",IF(ISERROR(VLOOKUP(B4417,database!$A$6:$BFQ$206,4,FALSE)),\"\",VLOOKUP(B4417,database!$A$6:$BFQ$206,4,FALSE)))","v":""},null,null,null,{"$f":"IF(B4417=\"\",\"\",IF(C4417=\"\",0,1))","v":""},null,null,null,{"$f":"IF(B4417=\"\",\"\",IF(ISERROR(VLOOKUP(B4417,database!$A$6:$BFQ$206,3,FALSE)),\"\",VLOOKUP(B4417,database!$A$6:$BFQ$206,3,FALSE)))","v":""},null,null,null,null,null,null,{"$f":"LEFT(C4417,2)","v":""}]
["",null,{"$f":"IF(B4418=\"\",\"\",IF(ISERROR(VLOOKUP(B4418,database!$A$6:$BFQ$206,4,FALSE)),\"\",VLOOKUP(B4418,database!$A$6:$BFQ$206,4,FALSE)))","v":""},null,null,null,"",null,null,null,{"$f":"IF(B4418=\"\",\"\",IF(ISERROR(VLOOKUP(B4418,database!$A$6:$BFQ$206,3,FALSE)),\"\",VLOOKUP(B4418,database!$A$6:$BFQ$206,3,FALSE)))","v":""},null,null,null,null,null,null,""]
["",null,{"$f":"IF(B4420=\"\",\"\",IF(ISERROR(VLOOKUP(B4420,database!$A$6:$BFQ$206,4,FALSE)),\"\",VLOOKUP(B4420,database!$A$6:$BFQ$206,4,FALSE)))","v":""},null,null,null,"",null,null,null,{"$f":"IF(B4420=\"\",\"\",IF(ISERROR(VLOOKUP(B4420,database!$A$6:$BFQ$206,3,FALSE)),\"\",VLOOKUP(B4420,database!$A$6:$BFQ$206,3,FALSE)))","v":""},null,null,null,null,null,null,""]
["",null,{"$f":"IF(B4421=\"\",\"\",IF(ISERROR(VLOOKUP(B4421,database!$A$6:$BFQ$206,4,FALSE)),\"\",VLOOKUP(B4421,database!$A$6:$BFQ$206,4,FALSE)))","v":""},null,null,null,"",null,null,null,{"$f":"IF(B4421=\"\",\"\",IF(ISERROR(VLOOKUP(B4421,database!$A$6:$BFQ$206,3,FALSE)),\"\",VLOOKUP(B4421,database!$A$6:$BFQ$206,3,FALSE)))","v":""},null,null,null,null,null,null,""]
["",null,{"$f":"IF(B4424=\"\",\"\",IF(ISERROR(VLOOKUP(B4424,database!$A$6:$BFQ$206,4,FALSE)),\"\",VLOOKUP(B4424,database!$A$6:$BFQ$206,4,FALSE)))","v":""},null,null,null,"",null,null,null,{"$f":"IF(B4424=\"\",\"\",IF(ISERROR(VLOOKUP(B4424,database!$A$6:$BFQ$206,3,FALSE)),\"\",VLOOKUP(B4424,database!$A$6:$BFQ$206,3,FALSE)))","v":""},null,null,null,null,null,null,""]
["",null,{"$f":"IF(B4425=\"\",\"\",IF(ISERROR(VLOOKUP(B4425,database!$A$6:$BFQ$206,4,FALSE)),\"\",VLOOKUP(B4425,database!$A$6:$BFQ$206,4,FALSE)))","v":""},null,null,null,"",null,null,null,{"$f":"IF(B4425=\"\",\"\",IF(ISERROR(VLOOKUP(B4425,database!$A$6:$BFQ$206,3,FALSE)),\"\",VLOOKUP(B4425,database!$A$6:$BFQ$206,3,FALSE)))","v":""},null,null,null,null,null,null,""]
["",null,{"$f":"IF(B4427=\"\",\"\",IF(ISERROR(VLOOKUP(B4427,database!$A$6:$BFQ$206,4,FALSE)),\"\",VLOOKUP(B4427,database!$A$6:$BFQ$206,4,FALSE)))","v":""},null,null,null,"",null,null,null,{"$f":"IF(B4427=\"\",\"\",IF(ISERROR(VLOOKUP(B4427,database!$A$6:$BFQ$206,3,FALSE)),\"\",VLOOKUP(B4427,database!$A$6:$BFQ$206,3,FALSE)))","v":""},null,null,null,null,null,null,""]
["",null,{"$f":"IF(B4428=\"\",\"\",IF(ISERROR(VLOOKUP(B4428,database!$A$6:$BFQ$206,4,FALSE)),\"\",VLOOKUP(B4428,database!$A$6:$BFQ$206,4,FALSE)))","v":""},null,null,null,"",null,null,null,{"$f":"IF(B4428=\"\",\"\",IF(ISERROR(VLOOKUP(B4428,database!$A$6:$BFQ$206,3,FALSE)),\"\",VLOOKUP(B4428,database!$A$6:$BFQ$206,3,FALSE)))","v":""},null,null,null,null,null,null,""]
["",null,{"$f":"IF(B4431=\"\",\"\",IF(ISERROR(VLOOKUP(B4431,database!$A$6:$BFQ$206,4,FALSE)),\"\",VLOOKUP(B4431,database!$A$6:$BFQ$206,4,FALSE)))","v":""},null,null,null,"",null,null,null,{"$f":"IF(B4431=\"\",\"\",IF(ISERROR(VLOOKUP(B4431,database!$A$6:$BFQ$206,3,FALSE)),\"\",VLOOKUP(B4431,database!$A$6:$BFQ$206,3,FALSE)))","v":""},null,null,null,null,null,null,""]
["",null,{"$f":"IF(B4432=\"\",\"\",IF(ISERROR(VLOOKUP(B4432,database!$A$6:$BFQ$206,4,FALSE)),\"\",VLOOKUP(B4432,database!$A$6:$BFQ$206,4,FALSE)))","v":""},null,null,null,"",null,null,null,{"$f":"IF(B4432=\"\",\"\",IF(ISERROR(VLOOKUP(B4432,database!$A$6:$BFQ$206,3,FALSE)),\"\",VLOOKUP(B4432,database!$A$6:$BFQ$206,3,FALSE)))","v":""},null,null,null,null,null,null,""]
["",null,{"$f":"IF(B4434=\"\",\"\",IF(ISERROR(VLOOKUP(B4434,database!$A$6:$BFQ$206,4,FALSE)),\"\",VLOOKUP(B4434,database!$A$6:$BFQ$206,4,FALSE)))","v":""},null,null,null,"",null,null,null,{"$f":"IF(B4434=\"\",\"\",IF(ISERROR(VLOOKUP(B4434,database!$A$6:$BFQ$206,3,FALSE)),\"\",VLOOKUP(B4434,database!$A$6:$BFQ$206,3,FALSE)))","v":""},null,null,null,null,null,null,""]
["",null,{"$f":"IF(B4435=\"\",\"\",IF(ISERROR(VLOOKUP(B4435,database!$A$6:$BFQ$206,4,FALSE)),\"\",VLOOKUP(B4435,database!$A$6:$BFQ$206,4,FALSE)))","v":""},null,null,null,"",null,null,null,{"$f":"IF(B4435=\"\",\"\",IF(ISERROR(VLOOKUP(B4435,database!$A$6:$BFQ$206,3,FALSE)),\"\",VLOOKUP(B4435,database!$A$6:$BFQ$206,3,FALSE)))","v":""},null,null,null,null,null,null,""]
["",null,{"$f":"IF(B4438=\"\",\"\",IF(ISERROR(VLOOKUP(B4438,database!$A$6:$BFQ$206,4,FALSE)),\"\",VLOOKUP(B4438,database!$A$6:$BFQ$206,4,FALSE)))","v":""},null,null,null,"",null,null,null,{"$f":"IF(B4438=\"\",\"\",IF(ISERROR(VLOOKUP(B4438,database!$A$6:$BFQ$206,3,FALSE)),\"\",VLOOKUP(B4438,database!$A$6:$BFQ$206,3,FALSE)))","v":""},null,null,null,null,null,null,""]
["",null,{"$f":"IF(B4439=\"\",\"\",IF(ISERROR(VLOOKUP(B4439,database!$A$6:$BFQ$206,4,FALSE)),\"\",VLOOKUP(B4439,database!$A$6:$BFQ$206,4,FALSE)))","v":""},null,null,null,"",null,null,null,{"$f":"IF(B4439=\"\",\"\",IF(ISERROR(VLOOKUP(B4439,database!$A$6:$BFQ$206,3,FALSE)),\"\",VLOOKUP(B4439,database!$A$6:$BFQ$206,3,FALSE)))","v":""},null,null,null,null,null,null,""]
["",null,{"$f":"IF(B4441=\"\",\"\",IF(ISERROR(VLOOKUP(B4441,database!$A$6:$BFQ$206,4,FALSE)),\"\",VLOOKUP(B4441,database!$A$6:$BFQ$206,4,FALSE)))","v":""},null,null,null,"",null,null,null,{"$f":"IF(B4441=\"\",\"\",IF(ISERROR(VLOOKUP(B4441,database!$A$6:$BFQ$206,3,FALSE)),\"\",VLOOKUP(B4441,database!$A$6:$BFQ$206,3,FALSE)))","v":""},null,null,null,null,null,null,""]
["",null,{"$f":"IF(B4442=\"\",\"\",IF(ISERROR(VLOOKUP(B4442,database!$A$6:$BFQ$206,4,FALSE)),\"\",VLOOKUP(B4442,database!$A$6:$BFQ$206,4,FALSE)))","v":""},null,null,null,"",null,null,null,{"$f":"IF(B4442=\"\",\"\",IF(ISERROR(VLOOKUP(B4442,database!$A$6:$BFQ$206,3,FALSE)),\"\",VLOOKUP(B4442,database!$A$6:$BFQ$206,3,FALSE)))","v":""},null,null,null,null,null,null,""]
["",null,{"$f":"IF(B4445=\"\",\"\",IF(ISERROR(VLOOKUP(B4445,database!$A$6:$BFQ$206,4,FALSE)),\"\",VLOOKUP(B4445,database!$A$6:$BFQ$206,4,FALSE)))","v":""},null,null,null,"",null,null,null,{"$f":"IF(B4445=\"\",\"\",IF(ISERROR(VLOOKUP(B4445,database!$A$6:$BFQ$206,3,FALSE)),\"\",VLOOKUP(B4445,database!$A$6:$BFQ$206,3,FALSE)))","v":""},null,null,null,null,null,null,""]
["",null,{"$f":"IF(B4446=\"\",\"\",IF(ISERROR(VLOOKUP(B4446,database!$A$6:$BFQ$206,4,FALSE)),\"\",VLOOKUP(B4446,database!$A$6:$BFQ$206,4,FALSE)))","v":""},null,null,null,"",null,null,null,{"$f":"IF(B4446=\"\",\"\",IF(ISERROR(VLOOKUP(B4446,database!$A$6:$BFQ$206,3,FALSE)),\"\",VLOOKUP(B4446,database!$A$6:$BFQ$206,3,FALSE)))","v":""},null,null,null,null,null,null,""]
["",null,{"$f":"IF(B4448=\"\",\"\",IF(ISERROR(VLOOKUP(B4448,database!$A$6:$BFQ$206,4,FALSE)),\"\",VLOOKUP(B4448,database!$A$6:$BFQ$206,4,FALSE)))","v":""},null,null,null,"",null,null,null,{"$f":"IF(B4448=\"\",\"\",IF(ISERROR(VLOOKUP(B4448,database!$A$6:$BFQ$206,3,FALSE)),\"\",VLOOKUP(B4448,database!$A$6:$BFQ$206,3,FALSE)))","v":""},null,null,null,null,null,null,""]
["",null,{"$f":"IF(B4449=\"\",\"\",IF(ISERROR(VLOOKUP(B4449,database!$A$6:$BFQ$206,4,FALSE)),\"\",VLOOKUP(B4449,database!$A$6:$BFQ$206,4,FALSE)))","v":""},null,null,null,"",null,null,null,{"$f":"IF(B4449=\"\",\"\",IF(ISERROR(VLOOKUP(B4449,database!$A$6:$BFQ$206,3,FALSE)),\"\",VLOOKUP(B4449,database!$A$6:$BFQ$206,3,FALSE)))","v":""},null,null,null,null,null,null,""]
["",null,{"$f":"IF(B4452=\"\",\"\",IF(ISERROR(VLOOKUP(B4452,database!$A$6:$BFQ$206,4,FALSE)),\"\",VLOOKUP(B4452,database!$A$6:$BFQ$206,4,FALSE)))","v":""},null,null,null,"",null,null,null,{"$f":"IF(B4452=\"\",\"\",IF(ISERROR(VLOOKUP(B4452,database!$A$6:$BFQ$206,3,FALSE)),\"\",VLOOKUP(B4452,database!$A$6:$BFQ$206,3,FALSE)))","v":""},null,null,null,null,null,null,""]
["",null,{"$f":"IF(B4453=\"\",\"\",IF(ISERROR(VLOOKUP(B4453,database!$A$6:$BFQ$206,4,FALSE)),\"\",VLOOKUP(B4453,database!$A$6:$BFQ$206,4,FALSE)))","v":""},null,null,null,"",null,null,null,{"$f":"IF(B4453=\"\",\"\",IF(ISERROR(VLOOKUP(B4453,database!$A$6:$BFQ$206,3,FALSE)),\"\",VLOOKUP(B4453,database!$A$6:$BFQ$206,3,FALSE)))","v":""},null,null,null,null,null,null,""]
["",null,{"$f":"IF(B4455=\"\",\"\",IF(ISERROR(VLOOKUP(B4455,database!$A$6:$BFQ$206,4,FALSE)),\"\",VLOOKUP(B4455,database!$A$6:$BFQ$206,4,FALSE)))","v":""},null,null,null,"",null,null,null,{"$f":"IF(B4455=\"\",\"\",IF(ISERROR(VLOOKUP(B4455,database!$A$6:$BFQ$206,3,FALSE)),\"\",VLOOKUP(B4455,database!$A$6:$BFQ$206,3,FALSE)))","v":""},null,null,null,null,null,null,""]
["",null,{"$f":"IF(B4456=\"\",\"\",IF(ISERROR(VLOOKUP(B4456,database!$A$6:$BFQ$206,4,FALSE)),\"\",VLOOKUP(B4456,database!$A$6:$BFQ$206,4,FALSE)))","v":""},null,null,null,"",null,null,null,{"$f":"IF(B4456=\"\",\"\",IF(ISERROR(VLOOKUP(B4456,database!$A$6:$BFQ$206,3,FALSE)),\"\",VLOOKUP(B4456,database!$A$6:$BFQ$206,3,FALSE)))","v":""},null,null,null,null,null,null,""]
["",null,{"$f":"IF(B4459=\"\",\"\",IF(ISERROR(VLOOKUP(B4459,database!$A$6:$BFQ$206,4,FALSE)),\"\",VLOOKUP(B4459,database!$A$6:$BFQ$206,4,FALSE)))","v":""},null,null,null,"",null,null,null,{"$f":"IF(B4459=\"\",\"\",IF(ISERROR(VLOOKUP(B4459,database!$A$6:$BFQ$206,3,FALSE)),\"\",VLOOKUP(B4459,database!$A$6:$BFQ$206,3,FALSE)))","v":""},null,null,null,null,null,null,""]
["",null,{"$f":"IF(B4460=\"\",\"\",IF(ISERROR(VLOOKUP(B4460,database!$A$6:$BFQ$206,4,FALSE)),\"\",VLOOKUP(B4460,database!$A$6:$BFQ$206,4,FALSE)))","v":""},null,null,null,"",null,null,null,{"$f":"IF(B4460=\"\",\"\",IF(ISERROR(VLOOKUP(B4460,database!$A$6:$BFQ$206,3,FALSE)),\"\",VLOOKUP(B4460,database!$A$6:$BFQ$206,3,FALSE)))","v":""},null,null,null,null,null,null,""]
["",null,{"$f":"IF(B4462=\"\",\"\",IF(ISERROR(VLOOKUP(B4462,database!$A$6:$BFQ$206,4,FALSE)),\"\",VLOOKUP(B4462,database!$A$6:$BFQ$206,4,FALSE)))","v":""},null,null,null,"",null,null,null,{"$f":"IF(B4462=\"\",\"\",IF(ISERROR(VLOOKUP(B4462,database!$A$6:$BFQ$206,3,FALSE)),\"\",VLOOKUP(B4462,database!$A$6:$BFQ$206,3,FALSE)))","v":""},null,null,null,null,null,null,""]
["",null,{"$f":"IF(B4463=\"\",\"\",IF(ISERROR(VLOOKUP(B4463,database!$A$6:$BFQ$206,4,FALSE)),\"\",VLOOKUP(B4463,database!$A$6:$BFQ$206,4,FALSE)))","v":""},null,null,null,"",null,null,null,{"$f":"IF(B4463=\"\",\"\",IF(ISERROR(VLOOKUP(B4463,database!$A$6:$BFQ$206,3,FALSE)),\"\",VLOOKUP(B4463,database!$A$6:$BFQ$206,3,FALSE)))","v":""},null,null,null,null,null,null,""]
["",null,{"$f":"IF(B4466=\"\",\"\",IF(ISERROR(VLOOKUP(B4466,database!$A$6:$BFQ$206,4,FALSE)),\"\",VLOOKUP(B4466,database!$A$6:$BFQ$206,4,FALSE)))","v":""},null,null,null,"",null,null,null,{"$f":"IF(B4466=\"\",\"\",IF(ISERROR(VLOOKUP(B4466,database!$A$6:$BFQ$206,3,FALSE)),\"\",VLOOKUP(B4466,database!$A$6:$BFQ$206,3,FALSE)))","v":""},null,null,null,null,null,null,""]
["",null,{"$f":"IF(B4467=\"\",\"\",IF(ISERROR(VLOOKUP(B4467,database!$A$6:$BFQ$206,4,FALSE)),\"\",VLOOKUP(B4467,database!$A$6:$BFQ$206,4,FALSE)))","v":""},null,null,null,"",null,null,null,{"$f":"IF(B4467=\"\",\"\",IF(ISERROR(VLOOKUP(B4467,database!$A$6:$BFQ$206,3,FALSE)),\"\",VLOOKUP(B4467,database!$A$6:$BFQ$206,3,FALSE)))","v":""},null,null,null,null,null,null,""]
["",null,{"$f":"IF(B4469=\"\",\"\",IF(ISERROR(VLOOKUP(B4469,database!$A$6:$BFQ$206,4,FALSE)),\"\",VLOOKUP(B4469,database!$A$6:$BFQ$206,4,FALSE)))","v":""},null,null,null,"",null,null,null,{"$f":"IF(B4469=\"\",\"\",IF(ISERROR(VLOOKUP(B4469,database!$A$6:$BFQ$206,3,FALSE)),\"\",VLOOKUP(B4469,database!$A$6:$BFQ$206,3,FALSE)))","v":""},null,null,null,null,null,null,""]
["",null,{"$f":"IF(B4470=\"\",\"\",IF(ISERROR(VLOOKUP(B4470,database!$A$6:$BFQ$206,4,FALSE)),\"\",VLOOKUP(B4470,database!$A$6:$BFQ$206,4,FALSE)))","v":""},null,null,null,"",null,null,null,{"$f":"IF(B4470=\"\",\"\",IF(ISERROR(VLOOKUP(B4470,database!$A$6:$BFQ$206,3,FALSE)),\"\",VLOOKUP(B4470,database!$A$6:$BFQ$206,3,FALSE)))","v":""},null,null,null,null,null,null,""]
["",null,{"$f":"IF(B4473=\"\",\"\",IF(ISERROR(VLOOKUP(B4473,database!$A$6:$BFQ$206,4,FALSE)),\"\",VLOOKUP(B4473,database!$A$6:$BFQ$206,4,FALSE)))","v":""},null,null,null,"",null,null,null,{"$f":"IF(B4473=\"\",\"\",IF(ISERROR(VLOOKUP(B4473,database!$A$6:$BFQ$206,3,FALSE)),\"\",VLOOKUP(B4473,database!$A$6:$BFQ$206,3,FALSE)))","v":""},null,null,null,null,null,null,""]
["",null,{"$f":"IF(B4474=\"\",\"\",IF(ISERROR(VLOOKUP(B4474,database!$A$6:$BFQ$206,4,FALSE)),\"\",VLOOKUP(B4474,database!$A$6:$BFQ$206,4,FALSE)))","v":""},null,null,null,"",null,null,null,{"$f":"IF(B4474=\"\",\"\",IF(ISERROR(VLOOKUP(B4474,database!$A$6:$BFQ$206,3,FALSE)),\"\",VLOOKUP(B4474,database!$A$6:$BFQ$206,3,FALSE)))","v":""},null,null,null,null,null,null,""]
["",null,{"$f":"IF(B4477=\"\",\"\",IF(ISERROR(VLOOKUP(B4477,database!$A$6:$BFQ$206,4,FALSE)),\"\",VLOOKUP(B4477,database!$A$6:$BFQ$206,4,FALSE)))","v":""},null,null,null,"",null,null,null,{"$f":"IF(B4477=\"\",\"\",IF(ISERROR(VLOOKUP(B4477,database!$A$6:$BFQ$206,3,FALSE)),\"\",VLOOKUP(B4477,database!$A$6:$BFQ$206,3,FALSE)))","v":""},null,null,null,null,null,null,""]
["",null,{"$f":"IF(B4478=\"\",\"\",IF(ISERROR(VLOOKUP(B4478,database!$A$6:$BFQ$206,4,FALSE)),\"\",VLOOKUP(B4478,database!$A$6:$BFQ$206,4,FALSE)))","v":""},null,null,null,"",null,null,null,{"$f":"IF(B4478=\"\",\"\",IF(ISERROR(VLOOKUP(B4478,database!$A$6:$BFQ$206,3,FALSE)),\"\",VLOOKUP(B4478,database!$A$6:$BFQ$206,3,FALSE)))","v":""},null,null,null,null,null,null,""]
["",null,{"$f":"IF(B4480=\"\",\"\",IF(ISERROR(VLOOKUP(B4480,database!$A$6:$BFQ$206,4,FALSE)),\"\",VLOOKUP(B4480,database!$A$6:$BFQ$206,4,FALSE)))","v":""},null,null,null,"",null,null,null,{"$f":"IF(B4480=\"\",\"\",IF(ISERROR(VLOOKUP(B4480,database!$A$6:$BFQ$206,3,FALSE)),\"\",VLOOKUP(B4480,database!$A$6:$BFQ$206,3,FALSE)))","v":""},null,null,null,null,null,null,""]
[{"$f":"IF(B4481=\"\",\"\",ROW(A4478))","v":""},null,{"$f":"IF(B4481=\"\",\"\",IF(ISERROR(VLOOKUP(B4481,database!$A$6:$BFQ$206,4,FALSE)),\"\",VLOOKUP(B4481,database!$A$6:$BFQ$206,4,FALSE)))","v":""},null,null,null,{"$f":"IF(B4481=\"\",\"\",IF(C4481=\"\",0,1))","v":""},null,null,null,{"$f":"IF(B4481=\"\",\"\",IF(ISERROR(VLOOKUP(B4481,database!$A$6:$BFQ$206,3,FALSE)),\"\",VLOOKUP(B4481,database!$A$6:$BFQ$206,3,FALSE)))","v":""},null,null,null,null,null,null,{"$f":"LEFT(C4481,2)","v":""}]
["",null,{"$f":"IF(B4484=\"\",\"\",IF(ISERROR(VLOOKUP(B4484,database!$A$6:$BFQ$206,4,FALSE)),\"\",VLOOKUP(B4484,database!$A$6:$BFQ$206,4,FALSE)))","v":""},null,null,null,"",null,null,null,{"$f":"IF(B4484=\"\",\"\",IF(ISERROR(VLOOKUP(B4484,database!$A$6:$BFQ$206,3,FALSE)),\"\",VLOOKUP(B4484,database!$A$6:$BFQ$206,3,FALSE)))","v":""},null,null,null,null,null,null,""]
["",null,{"$f":"IF(B4485=\"\",\"\",IF(ISERROR(VLOOKUP(B4485,database!$A$6:$BFQ$206,4,FALSE)),\"\",VLOOKUP(B4485,database!$A$6:$BFQ$206,4,FALSE)))","v":""},null,null,null,"",null,null,null,{"$f":"IF(B4485=\"\",\"\",IF(ISERROR(VLOOKUP(B4485,database!$A$6:$BFQ$206,3,FALSE)),\"\",VLOOKUP(B4485,database!$A$6:$BFQ$206,3,FALSE)))","v":""},null,null,null,null,null,null,""]
["",null,{"$f":"IF(B4487=\"\",\"\",IF(ISERROR(VLOOKUP(B4487,database!$A$6:$BFQ$206,4,FALSE)),\"\",VLOOKUP(B4487,database!$A$6:$BFQ$206,4,FALSE)))","v":""},null,null,null,"",null,null,null,{"$f":"IF(B4487=\"\",\"\",IF(ISERROR(VLOOKUP(B4487,database!$A$6:$BFQ$206,3,FALSE)),\"\",VLOOKUP(B4487,database!$A$6:$BFQ$206,3,FALSE)))","v":""},null,null,null,null,null,null,""]
["",null,{"$f":"IF(B4488=\"\",\"\",IF(ISERROR(VLOOKUP(B4488,database!$A$6:$BFQ$206,4,FALSE)),\"\",VLOOKUP(B4488,database!$A$6:$BFQ$206,4,FALSE)))","v":""},null,null,null,"",null,null,null,{"$f":"IF(B4488=\"\",\"\",IF(ISERROR(VLOOKUP(B4488,database!$A$6:$BFQ$206,3,FALSE)),\"\",VLOOKUP(B4488,database!$A$6:$BFQ$206,3,FALSE)))","v":""},null,null,null,null,null,null,""]
["",null,{"$f":"IF(B4491=\"\",\"\",IF(ISERROR(VLOOKUP(B4491,database!$A$6:$BFQ$206,4,FALSE)),\"\",VLOOKUP(B4491,database!$A$6:$BFQ$206,4,FALSE)))","v":""},null,null,null,"",null,null,null,{"$f":"IF(B4491=\"\",\"\",IF(ISERROR(VLOOKUP(B4491,database!$A$6:$BFQ$206,3,FALSE)),\"\",VLOOKUP(B4491,database!$A$6:$BFQ$206,3,FALSE)))","v":""},null,null,null,null,null,null,""]
["",null,{"$f":"IF(B4492=\"\",\"\",IF(ISERROR(VLOOKUP(B4492,database!$A$6:$BFQ$206,4,FALSE)),\"\",VLOOKUP(B4492,database!$A$6:$BFQ$206,4,FALSE)))","v":""},null,null,null,"",null,null,null,{"$f":"IF(B4492=\"\",\"\",IF(ISERROR(VLOOKUP(B4492,database!$A$6:$BFQ$206,3,FALSE)),\"\",VLOOKUP(B4492,database!$A$6:$BFQ$206,3,FALSE)))","v":""},null,null,null,null,null,null,""]
["",null,{"$f":"IF(B4494=\"\",\"\",IF(ISERROR(VLOOKUP(B4494,database!$A$6:$BFQ$206,4,FALSE)),\"\",VLOOKUP(B4494,database!$A$6:$BFQ$206,4,FALSE)))","v":""},null,null,null,"",null,null,null,{"$f":"IF(B4494=\"\",\"\",IF(ISERROR(VLOOKUP(B4494,database!$A$6:$BFQ$206,3,FALSE)),\"\",VLOOKUP(B4494,database!$A$6:$BFQ$206,3,FALSE)))","v":""},null,null,null,null,null,null,""]
["",null,{"$f":"IF(B4495=\"\",\"\",IF(ISERROR(VLOOKUP(B4495,database!$A$6:$BFQ$206,4,FALSE)),\"\",VLOOKUP(B4495,database!$A$6:$BFQ$206,4,FALSE)))","v":""},null,null,null,"",null,null,null,{"$f":"IF(B4495=\"\",\"\",IF(ISERROR(VLOOKUP(B4495,database!$A$6:$BFQ$206,3,FALSE)),\"\",VLOOKUP(B4495,database!$A$6:$BFQ$206,3,FALSE)))","v":""},null,null,null,null,null,null,""]
["",null,{"$f":"IF(B4498=\"\",\"\",IF(ISERROR(VLOOKUP(B4498,database!$A$6:$BFQ$206,4,FALSE)),\"\",VLOOKUP(B4498,database!$A$6:$BFQ$206,4,FALSE)))","v":""},null,null,null,"",null,null,null,{"$f":"IF(B4498=\"\",\"\",IF(ISERROR(VLOOKUP(B4498,database!$A$6:$BFQ$206,3,FALSE)),\"\",VLOOKUP(B4498,database!$A$6:$BFQ$206,3,FALSE)))","v":""},null,null,null,null,null,null,""]
["",null,{"$f":"IF(B4499=\"\",\"\",IF(ISERROR(VLOOKUP(B4499,database!$A$6:$BFQ$206,4,FALSE)),\"\",VLOOKUP(B4499,database!$A$6:$BFQ$206,4,FALSE)))","v":""},null,null,null,"",null,null,null,{"$f":"IF(B4499=\"\",\"\",IF(ISERROR(VLOOKUP(B4499,database!$A$6:$BFQ$206,3,FALSE)),\"\",VLOOKUP(B4499,database!$A$6:$BFQ$206,3,FALSE)))","v":""},null,null,null,null,null,null,""]
["",null,{"$f":"IF(B4501=\"\",\"\",IF(ISERROR(VLOOKUP(B4501,database!$A$6:$BFQ$206,4,FALSE)),\"\",VLOOKUP(B4501,database!$A$6:$BFQ$206,4,FALSE)))","v":""},null,null,null,"",null,null,null,{"$f":"IF(B4501=\"\",\"\",IF(ISERROR(VLOOKUP(B4501,database!$A$6:$BFQ$206,3,FALSE)),\"\",VLOOKUP(B4501,database!$A$6:$BFQ$206,3,FALSE)))","v":""},null,null,null,null,null,null,""]
["",null,{"$f":"IF(B4502=\"\",\"\",IF(ISERROR(VLOOKUP(B4502,database!$A$6:$BFQ$206,4,FALSE)),\"\",VLOOKUP(B4502,database!$A$6:$BFQ$206,4,FALSE)))","v":""},null,null,null,"",null,null,null,{"$f":"IF(B4502=\"\",\"\",IF(ISERROR(VLOOKUP(B4502,database!$A$6:$BFQ$206,3,FALSE)),\"\",VLOOKUP(B4502,database!$A$6:$BFQ$206,3,FALSE)))","v":""},null,null,null,null,null,null,""]
["",null,{"$f":"IF(B4505=\"\",\"\",IF(ISERROR(VLOOKUP(B4505,database!$A$6:$BFQ$206,4,FALSE)),\"\",VLOOKUP(B4505,database!$A$6:$BFQ$206,4,FALSE)))","v":""},null,null,null,"",null,null,null,{"$f":"IF(B4505=\"\",\"\",IF(ISERROR(VLOOKUP(B4505,database!$A$6:$BFQ$206,3,FALSE)),\"\",VLOOKUP(B4505,database!$A$6:$BFQ$206,3,FALSE)))","v":""},null,null,null,null,null,null,""]
["",null,{"$f":"IF(B4506=\"\",\"\",IF(ISERROR(VLOOKUP(B4506,database!$A$6:$BFQ$206,4,FALSE)),\"\",VLOOKUP(B4506,database!$A$6:$BFQ$206,4,FALSE)))","v":""},null,null,null,"",null,null,null,{"$f":"IF(B4506=\"\",\"\",IF(ISERROR(VLOOKUP(B4506,database!$A$6:$BFQ$206,3,FALSE)),\"\",VLOOKUP(B4506,database!$A$6:$BFQ$206,3,FALSE)))","v":""},null,null,null,null,null,null,""]
["",null,{"$f":"IF(B4508=\"\",\"\",IF(ISERROR(VLOOKUP(B4508,database!$A$6:$BFQ$206,4,FALSE)),\"\",VLOOKUP(B4508,database!$A$6:$BFQ$206,4,FALSE)))","v":""},null,null,null,"",null,null,null,{"$f":"IF(B4508=\"\",\"\",IF(ISERROR(VLOOKUP(B4508,database!$A$6:$BFQ$206,3,FALSE)),\"\",VLOOKUP(B4508,database!$A$6:$BFQ$206,3,FALSE)))","v":""},null,null,null,null,null,null,""]
["",null,{"$f":"IF(B4509=\"\",\"\",IF(ISERROR(VLOOKUP(B4509,database!$A$6:$BFQ$206,4,FALSE)),\"\",VLOOKUP(B4509,database!$A$6:$BFQ$206,4,FALSE)))","v":""},null,null,null,"",null,null,null,{"$f":"IF(B4509=\"\",\"\",IF(ISERROR(VLOOKUP(B4509,database!$A$6:$BFQ$206,3,FALSE)),\"\",VLOOKUP(B4509,database!$A$6:$BFQ$206,3,FALSE)))","v":""},null,null,null,null,null,null,""]
["",null,{"$f":"IF(B4512=\"\",\"\",IF(ISERROR(VLOOKUP(B4512,database!$A$6:$BFQ$206,4,FALSE)),\"\",VLOOKUP(B4512,database!$A$6:$BFQ$206,4,FALSE)))","v":""},null,null,null,"",null,null,null,{"$f":"IF(B4512=\"\",\"\",IF(ISERROR(VLOOKUP(B4512,database!$A$6:$BFQ$206,3,FALSE)),\"\",VLOOKUP(B4512,database!$A$6:$BFQ$206,3,FALSE)))","v":""},null,null,null,null,null,null,""]
["",null,{"$f":"IF(B4513=\"\",\"\",IF(ISERROR(VLOOKUP(B4513,database!$A$6:$BFQ$206,4,FALSE)),\"\",VLOOKUP(B4513,database!$A$6:$BFQ$206,4,FALSE)))","v":""},null,null,null,"",null,null,null,{"$f":"IF(B4513=\"\",\"\",IF(ISERROR(VLOOKUP(B4513,database!$A$6:$BFQ$206,3,FALSE)),\"\",VLOOKUP(B4513,database!$A$6:$BFQ$206,3,FALSE)))","v":""},null,null,null,null,null,null,""]
["",null,{"$f":"IF(B4515=\"\",\"\",IF(ISERROR(VLOOKUP(B4515,database!$A$6:$BFQ$206,4,FALSE)),\"\",VLOOKUP(B4515,database!$A$6:$BFQ$206,4,FALSE)))","v":""},null,null,null,"",null,null,null,{"$f":"IF(B4515=\"\",\"\",IF(ISERROR(VLOOKUP(B4515,database!$A$6:$BFQ$206,3,FALSE)),\"\",VLOOKUP(B4515,database!$A$6:$BFQ$206,3,FALSE)))","v":""},null,null,null,null,null,null,""]
["",null,{"$f":"IF(B4516=\"\",\"\",IF(ISERROR(VLOOKUP(B4516,database!$A$6:$BFQ$206,4,FALSE)),\"\",VLOOKUP(B4516,database!$A$6:$BFQ$206,4,FALSE)))","v":""},null,null,null,"",null,null,null,{"$f":"IF(B4516=\"\",\"\",IF(ISERROR(VLOOKUP(B4516,database!$A$6:$BFQ$206,3,FALSE)),\"\",VLOOKUP(B4516,database!$A$6:$BFQ$206,3,FALSE)))","v":""},null,null,null,null,null,null,""]
["",null,{"$f":"IF(B4519=\"\",\"\",IF(ISERROR(VLOOKUP(B4519,database!$A$6:$BFQ$206,4,FALSE)),\"\",VLOOKUP(B4519,database!$A$6:$BFQ$206,4,FALSE)))","v":""},null,null,null,"",null,null,null,{"$f":"IF(B4519=\"\",\"\",IF(ISERROR(VLOOKUP(B4519,database!$A$6:$BFQ$206,3,FALSE)),\"\",VLOOKUP(B4519,database!$A$6:$BFQ$206,3,FALSE)))","v":""},null,null,null,null,null,null,""]
["",null,{"$f":"IF(B4520=\"\",\"\",IF(ISERROR(VLOOKUP(B4520,database!$A$6:$BFQ$206,4,FALSE)),\"\",VLOOKUP(B4520,database!$A$6:$BFQ$206,4,FALSE)))","v":""},null,null,null,"",null,null,null,{"$f":"IF(B4520=\"\",\"\",IF(ISERROR(VLOOKUP(B4520,database!$A$6:$BFQ$206,3,FALSE)),\"\",VLOOKUP(B4520,database!$A$6:$BFQ$206,3,FALSE)))","v":""},null,null,null,null,null,null,""]
["",null,{"$f":"IF(B4522=\"\",\"\",IF(ISERROR(VLOOKUP(B4522,database!$A$6:$BFQ$206,4,FALSE)),\"\",VLOOKUP(B4522,database!$A$6:$BFQ$206,4,FALSE)))","v":""},null,null,null,"",null,null,null,{"$f":"IF(B4522=\"\",\"\",IF(ISERROR(VLOOKUP(B4522,database!$A$6:$BFQ$206,3,FALSE)),\"\",VLOOKUP(B4522,database!$A$6:$BFQ$206,3,FALSE)))","v":""},null,null,null,null,null,null,""]
["",null,{"$f":"IF(B4523=\"\",\"\",IF(ISERROR(VLOOKUP(B4523,database!$A$6:$BFQ$206,4,FALSE)),\"\",VLOOKUP(B4523,database!$A$6:$BFQ$206,4,FALSE)))","v":""},null,null,null,"",null,null,null,{"$f":"IF(B4523=\"\",\"\",IF(ISERROR(VLOOKUP(B4523,database!$A$6:$BFQ$206,3,FALSE)),\"\",VLOOKUP(B4523,database!$A$6:$BFQ$206,3,FALSE)))","v":""},null,null,null,null,null,null,""]
["",null,{"$f":"IF(B4526=\"\",\"\",IF(ISERROR(VLOOKUP(B4526,database!$A$6:$BFQ$206,4,FALSE)),\"\",VLOOKUP(B4526,database!$A$6:$BFQ$206,4,FALSE)))","v":""},null,null,null,"",null,null,null,{"$f":"IF(B4526=\"\",\"\",IF(ISERROR(VLOOKUP(B4526,database!$A$6:$BFQ$206,3,FALSE)),\"\",VLOOKUP(B4526,database!$A$6:$BFQ$206,3,FALSE)))","v":""},null,null,null,null,null,null,""]
["",null,{"$f":"IF(B4527=\"\",\"\",IF(ISERROR(VLOOKUP(B4527,database!$A$6:$BFQ$206,4,FALSE)),\"\",VLOOKUP(B4527,database!$A$6:$BFQ$206,4,FALSE)))","v":""},null,null,null,"",null,null,null,{"$f":"IF(B4527=\"\",\"\",IF(ISERROR(VLOOKUP(B4527,database!$A$6:$BFQ$206,3,FALSE)),\"\",VLOOKUP(B4527,database!$A$6:$BFQ$206,3,FALSE)))","v":""},null,null,null,null,null,null,""]
["",null,{"$f":"IF(B4529=\"\",\"\",IF(ISERROR(VLOOKUP(B4529,database!$A$6:$BFQ$206,4,FALSE)),\"\",VLOOKUP(B4529,database!$A$6:$BFQ$206,4,FALSE)))","v":""},null,null,null,"",null,null,null,{"$f":"IF(B4529=\"\",\"\",IF(ISERROR(VLOOKUP(B4529,database!$A$6:$BFQ$206,3,FALSE)),\"\",VLOOKUP(B4529,database!$A$6:$BFQ$206,3,FALSE)))","v":""},null,null,null,null,null,null,""]
["",null,{"$f":"IF(B4530=\"\",\"\",IF(ISERROR(VLOOKUP(B4530,database!$A$6:$BFQ$206,4,FALSE)),\"\",VLOOKUP(B4530,database!$A$6:$BFQ$206,4,FALSE)))","v":""},null,null,null,"",null,null,null,{"$f":"IF(B4530=\"\",\"\",IF(ISERROR(VLOOKUP(B4530,database!$A$6:$BFQ$206,3,FALSE)),\"\",VLOOKUP(B4530,database!$A$6:$BFQ$206,3,FALSE)))","v":""},null,null,null,null,null,null,""]
["",null,{"$f":"IF(B4533=\"\",\"\",IF(ISERROR(VLOOKUP(B4533,database!$A$6:$BFQ$206,4,FALSE)),\"\",VLOOKUP(B4533,database!$A$6:$BFQ$206,4,FALSE)))","v":""},null,null,null,"",null,null,null,{"$f":"IF(B4533=\"\",\"\",IF(ISERROR(VLOOKUP(B4533,database!$A$6:$BFQ$206,3,FALSE)),\"\",VLOOKUP(B4533,database!$A$6:$BFQ$206,3,FALSE)))","v":""},null,null,null,null,null,null,""]
["",null,{"$f":"IF(B4534=\"\",\"\",IF(ISERROR(VLOOKUP(B4534,database!$A$6:$BFQ$206,4,FALSE)),\"\",VLOOKUP(B4534,database!$A$6:$BFQ$206,4,FALSE)))","v":""},null,null,null,"",null,null,null,{"$f":"IF(B4534=\"\",\"\",IF(ISERROR(VLOOKUP(B4534,database!$A$6:$BFQ$206,3,FALSE)),\"\",VLOOKUP(B4534,database!$A$6:$BFQ$206,3,FALSE)))","v":""},null,null,null,null,null,null,""]
["",null,{"$f":"IF(B4536=\"\",\"\",IF(ISERROR(VLOOKUP(B4536,database!$A$6:$BFQ$206,4,FALSE)),\"\",VLOOKUP(B4536,database!$A$6:$BFQ$206,4,FALSE)))","v":""},null,null,null,"",null,null,null,{"$f":"IF(B4536=\"\",\"\",IF(ISERROR(VLOOKUP(B4536,database!$A$6:$BFQ$206,3,FALSE)),\"\",VLOOKUP(B4536,database!$A$6:$BFQ$206,3,FALSE)))","v":""},null,null,null,null,null,null,""]
["",null,{"$f":"IF(B4537=\"\",\"\",IF(ISERROR(VLOOKUP(B4537,database!$A$6:$BFQ$206,4,FALSE)),\"\",VLOOKUP(B4537,database!$A$6:$BFQ$206,4,FALSE)))","v":""},null,null,null,"",null,null,null,{"$f":"IF(B4537=\"\",\"\",IF(ISERROR(VLOOKUP(B4537,database!$A$6:$BFQ$206,3,FALSE)),\"\",VLOOKUP(B4537,database!$A$6:$BFQ$206,3,FALSE)))","v":""},null,null,null,null,null,null,""]
["",null,{"$f":"IF(B4540=\"\",\"\",IF(ISERROR(VLOOKUP(B4540,database!$A$6:$BFQ$206,4,FALSE)),\"\",VLOOKUP(B4540,database!$A$6:$BFQ$206,4,FALSE)))","v":""},null,null,null,"",null,null,null,{"$f":"IF(B4540=\"\",\"\",IF(ISERROR(VLOOKUP(B4540,database!$A$6:$BFQ$206,3,FALSE)),\"\",VLOOKUP(B4540,database!$A$6:$BFQ$206,3,FALSE)))","v":""},null,null,null,null,null,null,""]
["",null,{"$f":"IF(B4541=\"\",\"\",IF(ISERROR(VLOOKUP(B4541,database!$A$6:$BFQ$206,4,FALSE)),\"\",VLOOKUP(B4541,database!$A$6:$BFQ$206,4,FALSE)))","v":""},null,null,null,"",null,null,null,{"$f":"IF(B4541=\"\",\"\",IF(ISERROR(VLOOKUP(B4541,database!$A$6:$BFQ$206,3,FALSE)),\"\",VLOOKUP(B4541,database!$A$6:$BFQ$206,3,FALSE)))","v":""},null,null,null,null,null,null,""]
["",null,{"$f":"IF(B4543=\"\",\"\",IF(ISERROR(VLOOKUP(B4543,database!$A$6:$BFQ$206,4,FALSE)),\"\",VLOOKUP(B4543,database!$A$6:$BFQ$206,4,FALSE)))","v":""},null,null,null,"",null,null,null,{"$f":"IF(B4543=\"\",\"\",IF(ISERROR(VLOOKUP(B4543,database!$A$6:$BFQ$206,3,FALSE)),\"\",VLOOKUP(B4543,database!$A$6:$BFQ$206,3,FALSE)))","v":""},null,null,null,null,null,null,""]
["",null,{"$f":"IF(B4544=\"\",\"\",IF(ISERROR(VLOOKUP(B4544,database!$A$6:$BFQ$206,4,FALSE)),\"\",VLOOKUP(B4544,database!$A$6:$BFQ$206,4,FALSE)))","v":""},null,null,null,"",null,null,null,{"$f":"IF(B4544=\"\",\"\",IF(ISERROR(VLOOKUP(B4544,database!$A$6:$BFQ$206,3,FALSE)),\"\",VLOOKUP(B4544,database!$A$6:$BFQ$206,3,FALSE)))","v":""},null,null,null,null,null,null,""]
["",null,{"$f":"IF(B4547=\"\",\"\",IF(ISERROR(VLOOKUP(B4547,database!$A$6:$BFQ$206,4,FALSE)),\"\",VLOOKUP(B4547,database!$A$6:$BFQ$206,4,FALSE)))","v":""},null,null,null,"",null,null,null,{"$f":"IF(B4547=\"\",\"\",IF(ISERROR(VLOOKUP(B4547,database!$A$6:$BFQ$206,3,FALSE)),\"\",VLOOKUP(B4547,database!$A$6:$BFQ$206,3,FALSE)))","v":""},null,null,null,null,null,null,""]
["",null,{"$f":"IF(B4548=\"\",\"\",IF(ISERROR(VLOOKUP(B4548,database!$A$6:$BFQ$206,4,FALSE)),\"\",VLOOKUP(B4548,database!$A$6:$BFQ$206,4,FALSE)))","v":""},null,null,null,"",null,null,null,{"$f":"IF(B4548=\"\",\"\",IF(ISERROR(VLOOKUP(B4548,database!$A$6:$BFQ$206,3,FALSE)),\"\",VLOOKUP(B4548,database!$A$6:$BFQ$206,3,FALSE)))","v":""},null,null,null,null,null,null,""]
["",null,{"$f":"IF(B4550=\"\",\"\",IF(ISERROR(VLOOKUP(B4550,database!$A$6:$BFQ$206,4,FALSE)),\"\",VLOOKUP(B4550,database!$A$6:$BFQ$206,4,FALSE)))","v":""},null,null,null,"",null,null,null,{"$f":"IF(B4550=\"\",\"\",IF(ISERROR(VLOOKUP(B4550,database!$A$6:$BFQ$206,3,FALSE)),\"\",VLOOKUP(B4550,database!$A$6:$BFQ$206,3,FALSE)))","v":""},null,null,null,null,null,null,""]
["",null,{"$f":"IF(B4551=\"\",\"\",IF(ISERROR(VLOOKUP(B4551,database!$A$6:$BFQ$206,4,FALSE)),\"\",VLOOKUP(B4551,database!$A$6:$BFQ$206,4,FALSE)))","v":""},null,null,null,"",null,null,null,{"$f":"IF(B4551=\"\",\"\",IF(ISERROR(VLOOKUP(B4551,database!$A$6:$BFQ$206,3,FALSE)),\"\",VLOOKUP(B4551,database!$A$6:$BFQ$206,3,FALSE)))","v":""},null,null,null,null,null,null,""]
["",null,{"$f":"IF(B4554=\"\",\"\",IF(ISERROR(VLOOKUP(B4554,database!$A$6:$BFQ$206,4,FALSE)),\"\",VLOOKUP(B4554,database!$A$6:$BFQ$206,4,FALSE)))","v":""},null,null,null,"",null,null,null,{"$f":"IF(B4554=\"\",\"\",IF(ISERROR(VLOOKUP(B4554,database!$A$6:$BFQ$206,3,FALSE)),\"\",VLOOKUP(B4554,database!$A$6:$BFQ$206,3,FALSE)))","v":""},null,null,null,null,null,null,""]
["",null,{"$f":"IF(B4555=\"\",\"\",IF(ISERROR(VLOOKUP(B4555,database!$A$6:$BFQ$206,4,FALSE)),\"\",VLOOKUP(B4555,database!$A$6:$BFQ$206,4,FALSE)))","v":""},null,null,null,"",null,null,null,{"$f":"IF(B4555=\"\",\"\",IF(ISERROR(VLOOKUP(B4555,database!$A$6:$BFQ$206,3,FALSE)),\"\",VLOOKUP(B4555,database!$A$6:$BFQ$206,3,FALSE)))","v":""},null,null,null,null,null,null,""]
["",null,{"$f":"IF(B4557=\"\",\"\",IF(ISERROR(VLOOKUP(B4557,database!$A$6:$BFQ$206,4,FALSE)),\"\",VLOOKUP(B4557,database!$A$6:$BFQ$206,4,FALSE)))","v":""},null,null,null,"",null,null,null,{"$f":"IF(B4557=\"\",\"\",IF(ISERROR(VLOOKUP(B4557,database!$A$6:$BFQ$206,3,FALSE)),\"\",VLOOKUP(B4557,database!$A$6:$BFQ$206,3,FALSE)))","v":""},null,null,null,null,null,null,""]
["",null,{"$f":"IF(B4558=\"\",\"\",IF(ISERROR(VLOOKUP(B4558,database!$A$6:$BFQ$206,4,FALSE)),\"\",VLOOKUP(B4558,database!$A$6:$BFQ$206,4,FALSE)))","v":""},null,null,null,"",null,null,null,{"$f":"IF(B4558=\"\",\"\",IF(ISERROR(VLOOKUP(B4558,database!$A$6:$BFQ$206,3,FALSE)),\"\",VLOOKUP(B4558,database!$A$6:$BFQ$206,3,FALSE)))","v":""},null,null,null,null,null,null,""]
["",null,{"$f":"IF(B4561=\"\",\"\",IF(ISERROR(VLOOKUP(B4561,database!$A$6:$BFQ$206,4,FALSE)),\"\",VLOOKUP(B4561,database!$A$6:$BFQ$206,4,FALSE)))","v":""},null,null,null,"",null,null,null,{"$f":"IF(B4561=\"\",\"\",IF(ISERROR(VLOOKUP(B4561,database!$A$6:$BFQ$206,3,FALSE)),\"\",VLOOKUP(B4561,database!$A$6:$BFQ$206,3,FALSE)))","v":""},null,null,null,null,null,null,""]
["",null,{"$f":"IF(B4562=\"\",\"\",IF(ISERROR(VLOOKUP(B4562,database!$A$6:$BFQ$206,4,FALSE)),\"\",VLOOKUP(B4562,database!$A$6:$BFQ$206,4,FALSE)))","v":""},null,null,null,"",null,null,null,{"$f":"IF(B4562=\"\",\"\",IF(ISERROR(VLOOKUP(B4562,database!$A$6:$BFQ$206,3,FALSE)),\"\",VLOOKUP(B4562,database!$A$6:$BFQ$206,3,FALSE)))","v":""},null,null,null,null,null,null,""]
["",null,{"$f":"IF(B4564=\"\",\"\",IF(ISERROR(VLOOKUP(B4564,database!$A$6:$BFQ$206,4,FALSE)),\"\",VLOOKUP(B4564,database!$A$6:$BFQ$206,4,FALSE)))","v":""},null,null,null,"",null,null,null,{"$f":"IF(B4564=\"\",\"\",IF(ISERROR(VLOOKUP(B4564,database!$A$6:$BFQ$206,3,FALSE)),\"\",VLOOKUP(B4564,database!$A$6:$BFQ$206,3,FALSE)))","v":""},null,null,null,null,null,null,""]
["",null,{"$f":"IF(B4565=\"\",\"\",IF(ISERROR(VLOOKUP(B4565,database!$A$6:$BFQ$206,4,FALSE)),\"\",VLOOKUP(B4565,database!$A$6:$BFQ$206,4,FALSE)))","v":""},null,null,null,"",null,null,null,{"$f":"IF(B4565=\"\",\"\",IF(ISERROR(VLOOKUP(B4565,database!$A$6:$BFQ$206,3,FALSE)),\"\",VLOOKUP(B4565,database!$A$6:$BFQ$206,3,FALSE)))","v":""},null,null,null,null,null,null,""]
["",null,{"$f":"IF(B4568=\"\",\"\",IF(ISERROR(VLOOKUP(B4568,database!$A$6:$BFQ$206,4,FALSE)),\"\",VLOOKUP(B4568,database!$A$6:$BFQ$206,4,FALSE)))","v":""},null,null,null,"",null,null,null,{"$f":"IF(B4568=\"\",\"\",IF(ISERROR(VLOOKUP(B4568,database!$A$6:$BFQ$206,3,FALSE)),\"\",VLOOKUP(B4568,database!$A$6:$BFQ$206,3,FALSE)))","v":""},null,null,null,null,null,null,""]
["",null,{"$f":"IF(B4569=\"\",\"\",IF(ISERROR(VLOOKUP(B4569,database!$A$6:$BFQ$206,4,FALSE)),\"\",VLOOKUP(B4569,database!$A$6:$BFQ$206,4,FALSE)))","v":""},null,null,null,"",null,null,null,{"$f":"IF(B4569=\"\",\"\",IF(ISERROR(VLOOKUP(B4569,database!$A$6:$BFQ$206,3,FALSE)),\"\",VLOOKUP(B4569,database!$A$6:$BFQ$206,3,FALSE)))","v":""},null,null,null,null,null,null,""]
["",null,{"$f":"IF(B4571=\"\",\"\",IF(ISERROR(VLOOKUP(B4571,database!$A$6:$BFQ$206,4,FALSE)),\"\",VLOOKUP(B4571,database!$A$6:$BFQ$206,4,FALSE)))","v":""},null,null,null,"",null,null,null,{"$f":"IF(B4571=\"\",\"\",IF(ISERROR(VLOOKUP(B4571,database!$A$6:$BFQ$206,3,FALSE)),\"\",VLOOKUP(B4571,database!$A$6:$BFQ$206,3,FALSE)))","v":""},null,null,null,null,null,null,""]
["",null,{"$f":"IF(B4572=\"\",\"\",IF(ISERROR(VLOOKUP(B4572,database!$A$6:$BFQ$206,4,FALSE)),\"\",VLOOKUP(B4572,database!$A$6:$BFQ$206,4,FALSE)))","v":""},null,null,null,"",null,null,null,{"$f":"IF(B4572=\"\",\"\",IF(ISERROR(VLOOKUP(B4572,database!$A$6:$BFQ$206,3,FALSE)),\"\",VLOOKUP(B4572,database!$A$6:$BFQ$206,3,FALSE)))","v":""},null,null,null,null,null,null,""]
["",null,{"$f":"IF(B4575=\"\",\"\",IF(ISERROR(VLOOKUP(B4575,database!$A$6:$BFQ$206,4,FALSE)),\"\",VLOOKUP(B4575,database!$A$6:$BFQ$206,4,FALSE)))","v":""},null,null,null,"",null,null,null,{"$f":"IF(B4575=\"\",\"\",IF(ISERROR(VLOOKUP(B4575,database!$A$6:$BFQ$206,3,FALSE)),\"\",VLOOKUP(B4575,database!$A$6:$BFQ$206,3,FALSE)))","v":""},null,null,null,null,null,null,""]
["",null,{"$f":"IF(B4576=\"\",\"\",IF(ISERROR(VLOOKUP(B4576,database!$A$6:$BFQ$206,4,FALSE)),\"\",VLOOKUP(B4576,database!$A$6:$BFQ$206,4,FALSE)))","v":""},null,null,null,"",null,null,null,{"$f":"IF(B4576=\"\",\"\",IF(ISERROR(VLOOKUP(B4576,database!$A$6:$BFQ$206,3,FALSE)),\"\",VLOOKUP(B4576,database!$A$6:$BFQ$206,3,FALSE)))","v":""},null,null,null,null,null,null,""]
["",null,{"$f":"IF(B4578=\"\",\"\",IF(ISERROR(VLOOKUP(B4578,database!$A$6:$BFQ$206,4,FALSE)),\"\",VLOOKUP(B4578,database!$A$6:$BFQ$206,4,FALSE)))","v":""},null,null,null,"",null,null,null,{"$f":"IF(B4578=\"\",\"\",IF(ISERROR(VLOOKUP(B4578,database!$A$6:$BFQ$206,3,FALSE)),\"\",VLOOKUP(B4578,database!$A$6:$BFQ$206,3,FALSE)))","v":""},null,null,null,null,null,null,""]
["",null,{"$f":"IF(B4579=\"\",\"\",IF(ISERROR(VLOOKUP(B4579,database!$A$6:$BFQ$206,4,FALSE)),\"\",VLOOKUP(B4579,database!$A$6:$BFQ$206,4,FALSE)))","v":""},null,null,null,"",null,null,null,{"$f":"IF(B4579=\"\",\"\",IF(ISERROR(VLOOKUP(B4579,database!$A$6:$BFQ$206,3,FALSE)),\"\",VLOOKUP(B4579,database!$A$6:$BFQ$206,3,FALSE)))","v":""},null,null,null,null,null,null,""]
["",null,{"$f":"IF(B4582=\"\",\"\",IF(ISERROR(VLOOKUP(B4582,database!$A$6:$BFQ$206,4,FALSE)),\"\",VLOOKUP(B4582,database!$A$6:$BFQ$206,4,FALSE)))","v":""},null,null,null,"",null,null,null,{"$f":"IF(B4582=\"\",\"\",IF(ISERROR(VLOOKUP(B4582,database!$A$6:$BFQ$206,3,FALSE)),\"\",VLOOKUP(B4582,database!$A$6:$BFQ$206,3,FALSE)))","v":""},null,null,null,null,null,null,""]
["",null,{"$f":"IF(B4583=\"\",\"\",IF(ISERROR(VLOOKUP(B4583,database!$A$6:$BFQ$206,4,FALSE)),\"\",VLOOKUP(B4583,database!$A$6:$BFQ$206,4,FALSE)))","v":""},null,null,null,"",null,null,null,{"$f":"IF(B4583=\"\",\"\",IF(ISERROR(VLOOKUP(B4583,database!$A$6:$BFQ$206,3,FALSE)),\"\",VLOOKUP(B4583,database!$A$6:$BFQ$206,3,FALSE)))","v":""},null,null,null,null,null,null,""]
["",null,{"$f":"IF(B4586=\"\",\"\",IF(ISERROR(VLOOKUP(B4586,database!$A$6:$BFQ$206,4,FALSE)),\"\",VLOOKUP(B4586,database!$A$6:$BFQ$206,4,FALSE)))","v":""},null,null,null,"",null,null,null,{"$f":"IF(B4586=\"\",\"\",IF(ISERROR(VLOOKUP(B4586,database!$A$6:$BFQ$206,3,FALSE)),\"\",VLOOKUP(B4586,database!$A$6:$BFQ$206,3,FALSE)))","v":""},null,null,null,null,null,null,""]
["",null,{"$f":"IF(B4587=\"\",\"\",IF(ISERROR(VLOOKUP(B4587,database!$A$6:$BFQ$206,4,FALSE)),\"\",VLOOKUP(B4587,database!$A$6:$BFQ$206,4,FALSE)))","v":""},null,null,null,"",null,null,null,{"$f":"IF(B4587=\"\",\"\",IF(ISERROR(VLOOKUP(B4587,database!$A$6:$BFQ$206,3,FALSE)),\"\",VLOOKUP(B4587,database!$A$6:$BFQ$206,3,FALSE)))","v":""},null,null,null,null,null,null,""]
["",null,{"$f":"IF(B4589=\"\",\"\",IF(ISERROR(VLOOKUP(B4589,database!$A$6:$BFQ$206,4,FALSE)),\"\",VLOOKUP(B4589,database!$A$6:$BFQ$206,4,FALSE)))","v":""},null,null,null,"",null,null,null,{"$f":"IF(B4589=\"\",\"\",IF(ISERROR(VLOOKUP(B4589,database!$A$6:$BFQ$206,3,FALSE)),\"\",VLOOKUP(B4589,database!$A$6:$BFQ$206,3,FALSE)))","v":""},null,null,null,null,null,null,""]
["",null,{"$f":"IF(B4590=\"\",\"\",IF(ISERROR(VLOOKUP(B4590,database!$A$6:$BFQ$206,4,FALSE)),\"\",VLOOKUP(B4590,database!$A$6:$BFQ$206,4,FALSE)))","v":""},null,null,null,"",null,null,null,{"$f":"IF(B4590=\"\",\"\",IF(ISERROR(VLOOKUP(B4590,database!$A$6:$BFQ$206,3,FALSE)),\"\",VLOOKUP(B4590,database!$A$6:$BFQ$206,3,FALSE)))","v":""},null,null,null,null,null,null,""]
["",null,{"$f":"IF(B4593=\"\",\"\",IF(ISERROR(VLOOKUP(B4593,database!$A$6:$BFQ$206,4,FALSE)),\"\",VLOOKUP(B4593,database!$A$6:$BFQ$206,4,FALSE)))","v":""},null,null,null,"",null,null,null,{"$f":"IF(B4593=\"\",\"\",IF(ISERROR(VLOOKUP(B4593,database!$A$6:$BFQ$206,3,FALSE)),\"\",VLOOKUP(B4593,database!$A$6:$BFQ$206,3,FALSE)))","v":""},null,null,null,null,null,null,""]
["",null,{"$f":"IF(B4594=\"\",\"\",IF(ISERROR(VLOOKUP(B4594,database!$A$6:$BFQ$206,4,FALSE)),\"\",VLOOKUP(B4594,database!$A$6:$BFQ$206,4,FALSE)))","v":""},null,null,null,"",null,null,null,{"$f":"IF(B4594=\"\",\"\",IF(ISERROR(VLOOKUP(B4594,database!$A$6:$BFQ$206,3,FALSE)),\"\",VLOOKUP(B4594,database!$A$6:$BFQ$206,3,FALSE)))","v":""},null,null,null,null,null,null,""]
["",null,{"$f":"IF(B4596=\"\",\"\",IF(ISERROR(VLOOKUP(B4596,database!$A$6:$BFQ$206,4,FALSE)),\"\",VLOOKUP(B4596,database!$A$6:$BFQ$206,4,FALSE)))","v":""},null,null,null,"",null,null,null,{"$f":"IF(B4596=\"\",\"\",IF(ISERROR(VLOOKUP(B4596,database!$A$6:$BFQ$206,3,FALSE)),\"\",VLOOKUP(B4596,database!$A$6:$BFQ$206,3,FALSE)))","v":""},null,null,null,null,null,null,""]
["",null,{"$f":"IF(B4597=\"\",\"\",IF(ISERROR(VLOOKUP(B4597,database!$A$6:$BFQ$206,4,FALSE)),\"\",VLOOKUP(B4597,database!$A$6:$BFQ$206,4,FALSE)))","v":""},null,null,null,"",null,null,null,{"$f":"IF(B4597=\"\",\"\",IF(ISERROR(VLOOKUP(B4597,database!$A$6:$BFQ$206,3,FALSE)),\"\",VLOOKUP(B4597,database!$A$6:$BFQ$206,3,FALSE)))","v":""},null,null,null,null,null,null,""]
["",null,{"$f":"IF(B4600=\"\",\"\",IF(ISERROR(VLOOKUP(B4600,database!$A$6:$BFQ$206,4,FALSE)),\"\",VLOOKUP(B4600,database!$A$6:$BFQ$206,4,FALSE)))","v":""},null,null,null,"",null,null,null,{"$f":"IF(B4600=\"\",\"\",IF(ISERROR(VLOOKUP(B4600,database!$A$6:$BFQ$206,3,FALSE)),\"\",VLOOKUP(B4600,database!$A$6:$BFQ$206,3,FALSE)))","v":""},null,null,null,null,null,null,""]
["",null,{"$f":"IF(B4601=\"\",\"\",IF(ISERROR(VLOOKUP(B4601,database!$A$6:$BFQ$206,4,FALSE)),\"\",VLOOKUP(B4601,database!$A$6:$BFQ$206,4,FALSE)))","v":""},null,null,null,"",null,null,null,{"$f":"IF(B4601=\"\",\"\",IF(ISERROR(VLOOKUP(B4601,database!$A$6:$BFQ$206,3,FALSE)),\"\",VLOOKUP(B4601,database!$A$6:$BFQ$206,3,FALSE)))","v":""},null,null,null,null,null,null,""]
["",null,{"$f":"IF(B4603=\"\",\"\",IF(ISERROR(VLOOKUP(B4603,database!$A$6:$BFQ$206,4,FALSE)),\"\",VLOOKUP(B4603,database!$A$6:$BFQ$206,4,FALSE)))","v":""},null,null,null,"",null,null,null,{"$f":"IF(B4603=\"\",\"\",IF(ISERROR(VLOOKUP(B4603,database!$A$6:$BFQ$206,3,FALSE)),\"\",VLOOKUP(B4603,database!$A$6:$BFQ$206,3,FALSE)))","v":""},null,null,null,null,null,null,""]
["",null,{"$f":"IF(B4604=\"\",\"\",IF(ISERROR(VLOOKUP(B4604,database!$A$6:$BFQ$206,4,FALSE)),\"\",VLOOKUP(B4604,database!$A$6:$BFQ$206,4,FALSE)))","v":""},null,null,null,"",null,null,null,{"$f":"IF(B4604=\"\",\"\",IF(ISERROR(VLOOKUP(B4604,database!$A$6:$BFQ$206,3,FALSE)),\"\",VLOOKUP(B4604,database!$A$6:$BFQ$206,3,FALSE)))","v":""},null,null,null,null,null,null,""]
["",null,{"$f":"IF(B4607=\"\",\"\",IF(ISERROR(VLOOKUP(B4607,database!$A$6:$BFQ$206,4,FALSE)),\"\",VLOOKUP(B4607,database!$A$6:$BFQ$206,4,FALSE)))","v":""},null,null,null,"",null,null,null,{"$f":"IF(B4607=\"\",\"\",IF(ISERROR(VLOOKUP(B4607,database!$A$6:$BFQ$206,3,FALSE)),\"\",VLOOKUP(B4607,database!$A$6:$BFQ$206,3,FALSE)))","v":""},null,null,null,null,null,null,""]
["",null,{"$f":"IF(B4608=\"\",\"\",IF(ISERROR(VLOOKUP(B4608,database!$A$6:$BFQ$206,4,FALSE)),\"\",VLOOKUP(B4608,database!$A$6:$BFQ$206,4,FALSE)))","v":""},null,null,null,"",null,null,null,{"$f":"IF(B4608=\"\",\"\",IF(ISERROR(VLOOKUP(B4608,database!$A$6:$BFQ$206,3,FALSE)),\"\",VLOOKUP(B4608,database!$A$6:$BFQ$206,3,FALSE)))","v":""},null,null,null,null,null,null,""]
["",null,{"$f":"IF(B4610=\"\",\"\",IF(ISERROR(VLOOKUP(B4610,database!$A$6:$BFQ$206,4,FALSE)),\"\",VLOOKUP(B4610,database!$A$6:$BFQ$206,4,FALSE)))","v":""},null,null,null,"",null,null,null,{"$f":"IF(B4610=\"\",\"\",IF(ISERROR(VLOOKUP(B4610,database!$A$6:$BFQ$206,3,FALSE)),\"\",VLOOKUP(B4610,database!$A$6:$BFQ$206,3,FALSE)))","v":""},null,null,null,null,null,null,""]
["",null,{"$f":"IF(B4611=\"\",\"\",IF(ISERROR(VLOOKUP(B4611,database!$A$6:$BFQ$206,4,FALSE)),\"\",VLOOKUP(B4611,database!$A$6:$BFQ$206,4,FALSE)))","v":""},null,null,null,"",null,null,null,{"$f":"IF(B4611=\"\",\"\",IF(ISERROR(VLOOKUP(B4611,database!$A$6:$BFQ$206,3,FALSE)),\"\",VLOOKUP(B4611,database!$A$6:$BFQ$206,3,FALSE)))","v":""},null,null,null,null,null,null,""]
["",null,{"$f":"IF(B4614=\"\",\"\",IF(ISERROR(VLOOKUP(B4614,database!$A$6:$BFQ$206,4,FALSE)),\"\",VLOOKUP(B4614,database!$A$6:$BFQ$206,4,FALSE)))","v":""},null,null,null,"",null,null,null,{"$f":"IF(B4614=\"\",\"\",IF(ISERROR(VLOOKUP(B4614,database!$A$6:$BFQ$206,3,FALSE)),\"\",VLOOKUP(B4614,database!$A$6:$BFQ$206,3,FALSE)))","v":""},null,null,null,null,null,null,""]
["",null,{"$f":"IF(B4615=\"\",\"\",IF(ISERROR(VLOOKUP(B4615,database!$A$6:$BFQ$206,4,FALSE)),\"\",VLOOKUP(B4615,database!$A$6:$BFQ$206,4,FALSE)))","v":""},null,null,null,"",null,null,null,{"$f":"IF(B4615=\"\",\"\",IF(ISERROR(VLOOKUP(B4615,database!$A$6:$BFQ$206,3,FALSE)),\"\",VLOOKUP(B4615,database!$A$6:$BFQ$206,3,FALSE)))","v":""},null,null,null,null,null,null,""]
["",null,{"$f":"IF(B4617=\"\",\"\",IF(ISERROR(VLOOKUP(B4617,database!$A$6:$BFQ$206,4,FALSE)),\"\",VLOOKUP(B4617,database!$A$6:$BFQ$206,4,FALSE)))","v":""},null,null,null,"",null,null,null,{"$f":"IF(B4617=\"\",\"\",IF(ISERROR(VLOOKUP(B4617,database!$A$6:$BFQ$206,3,FALSE)),\"\",VLOOKUP(B4617,database!$A$6:$BFQ$206,3,FALSE)))","v":""},null,null,null,null,null,null,""]
["",null,{"$f":"IF(B4618=\"\",\"\",IF(ISERROR(VLOOKUP(B4618,database!$A$6:$BFQ$206,4,FALSE)),\"\",VLOOKUP(B4618,database!$A$6:$BFQ$206,4,FALSE)))","v":""},null,null,null,"",null,null,null,{"$f":"IF(B4618=\"\",\"\",IF(ISERROR(VLOOKUP(B4618,database!$A$6:$BFQ$206,3,FALSE)),\"\",VLOOKUP(B4618,database!$A$6:$BFQ$206,3,FALSE)))","v":""},null,null,null,null,null,null,""]
["",null,{"$f":"IF(B4621=\"\",\"\",IF(ISERROR(VLOOKUP(B4621,database!$A$6:$BFQ$206,4,FALSE)),\"\",VLOOKUP(B4621,database!$A$6:$BFQ$206,4,FALSE)))","v":""},null,null,null,"",null,null,null,{"$f":"IF(B4621=\"\",\"\",IF(ISERROR(VLOOKUP(B4621,database!$A$6:$BFQ$206,3,FALSE)),\"\",VLOOKUP(B4621,database!$A$6:$BFQ$206,3,FALSE)))","v":""},null,null,null,null,null,null,""]
["",null,{"$f":"IF(B4622=\"\",\"\",IF(ISERROR(VLOOKUP(B4622,database!$A$6:$BFQ$206,4,FALSE)),\"\",VLOOKUP(B4622,database!$A$6:$BFQ$206,4,FALSE)))","v":""},null,null,null,"",null,null,null,{"$f":"IF(B4622=\"\",\"\",IF(ISERROR(VLOOKUP(B4622,database!$A$6:$BFQ$206,3,FALSE)),\"\",VLOOKUP(B4622,database!$A$6:$BFQ$206,3,FALSE)))","v":""},null,null,null,null,null,null,""]
["",null,{"$f":"IF(B4624=\"\",\"\",IF(ISERROR(VLOOKUP(B4624,database!$A$6:$BFQ$206,4,FALSE)),\"\",VLOOKUP(B4624,database!$A$6:$BFQ$206,4,FALSE)))","v":""},null,null,null,"",null,null,null,{"$f":"IF(B4624=\"\",\"\",IF(ISERROR(VLOOKUP(B4624,database!$A$6:$BFQ$206,3,FALSE)),\"\",VLOOKUP(B4624,database!$A$6:$BFQ$206,3,FALSE)))","v":""},null,null,null,null,null,null,""]
["",null,{"$f":"IF(B4625=\"\",\"\",IF(ISERROR(VLOOKUP(B4625,database!$A$6:$BFQ$206,4,FALSE)),\"\",VLOOKUP(B4625,database!$A$6:$BFQ$206,4,FALSE)))","v":""},null,null,null,"",null,null,null,{"$f":"IF(B4625=\"\",\"\",IF(ISERROR(VLOOKUP(B4625,database!$A$6:$BFQ$206,3,FALSE)),\"\",VLOOKUP(B4625,database!$A$6:$BFQ$206,3,FALSE)))","v":""},null,null,null,null,null,null,""]
["",null,{"$f":"IF(B4628=\"\",\"\",IF(ISERROR(VLOOKUP(B4628,database!$A$6:$BFQ$206,4,FALSE)),\"\",VLOOKUP(B4628,database!$A$6:$BFQ$206,4,FALSE)))","v":""},null,null,null,"",null,null,null,{"$f":"IF(B4628=\"\",\"\",IF(ISERROR(VLOOKUP(B4628,database!$A$6:$BFQ$206,3,FALSE)),\"\",VLOOKUP(B4628,database!$A$6:$BFQ$206,3,FALSE)))","v":""},null,null,null,null,null,null,""]
["",null,{"$f":"IF(B4629=\"\",\"\",IF(ISERROR(VLOOKUP(B4629,database!$A$6:$BFQ$206,4,FALSE)),\"\",VLOOKUP(B4629,database!$A$6:$BFQ$206,4,FALSE)))","v":""},null,null,null,"",null,null,null,{"$f":"IF(B4629=\"\",\"\",IF(ISERROR(VLOOKUP(B4629,database!$A$6:$BFQ$206,3,FALSE)),\"\",VLOOKUP(B4629,database!$A$6:$BFQ$206,3,FALSE)))","v":""},null,null,null,null,null,null,""]
["",null,{"$f":"IF(B4631=\"\",\"\",IF(ISERROR(VLOOKUP(B4631,database!$A$6:$BFQ$206,4,FALSE)),\"\",VLOOKUP(B4631,database!$A$6:$BFQ$206,4,FALSE)))","v":""},null,null,null,"",null,null,null,{"$f":"IF(B4631=\"\",\"\",IF(ISERROR(VLOOKUP(B4631,database!$A$6:$BFQ$206,3,FALSE)),\"\",VLOOKUP(B4631,database!$A$6:$BFQ$206,3,FALSE)))","v":""},null,null,null,null,null,null,""]
["",null,{"$f":"IF(B4632=\"\",\"\",IF(ISERROR(VLOOKUP(B4632,database!$A$6:$BFQ$206,4,FALSE)),\"\",VLOOKUP(B4632,database!$A$6:$BFQ$206,4,FALSE)))","v":""},null,null,null,"",null,null,null,{"$f":"IF(B4632=\"\",\"\",IF(ISERROR(VLOOKUP(B4632,database!$A$6:$BFQ$206,3,FALSE)),\"\",VLOOKUP(B4632,database!$A$6:$BFQ$206,3,FALSE)))","v":""},null,null,null,null,null,null,""]
["",null,{"$f":"IF(B4635=\"\",\"\",IF(ISERROR(VLOOKUP(B4635,database!$A$6:$BFQ$206,4,FALSE)),\"\",VLOOKUP(B4635,database!$A$6:$BFQ$206,4,FALSE)))","v":""},null,null,null,"",null,null,null,{"$f":"IF(B4635=\"\",\"\",IF(ISERROR(VLOOKUP(B4635,database!$A$6:$BFQ$206,3,FALSE)),\"\",VLOOKUP(B4635,database!$A$6:$BFQ$206,3,FALSE)))","v":""},null,null,null,null,null,null,""]
["",null,{"$f":"IF(B4636=\"\",\"\",IF(ISERROR(VLOOKUP(B4636,database!$A$6:$BFQ$206,4,FALSE)),\"\",VLOOKUP(B4636,database!$A$6:$BFQ$206,4,FALSE)))","v":""},null,null,null,"",null,null,null,{"$f":"IF(B4636=\"\",\"\",IF(ISERROR(VLOOKUP(B4636,database!$A$6:$BFQ$206,3,FALSE)),\"\",VLOOKUP(B4636,database!$A$6:$BFQ$206,3,FALSE)))","v":""},null,null,null,null,null,null,""]
["",null,{"$f":"IF(B4638=\"\",\"\",IF(ISERROR(VLOOKUP(B4638,database!$A$6:$BFQ$206,4,FALSE)),\"\",VLOOKUP(B4638,database!$A$6:$BFQ$206,4,FALSE)))","v":""},null,null,null,"",null,null,null,{"$f":"IF(B4638=\"\",\"\",IF(ISERROR(VLOOKUP(B4638,database!$A$6:$BFQ$206,3,FALSE)),\"\",VLOOKUP(B4638,database!$A$6:$BFQ$206,3,FALSE)))","v":""},null,null,null,null,null,null,""]
["",null,{"$f":"IF(B4639=\"\",\"\",IF(ISERROR(VLOOKUP(B4639,database!$A$6:$BFQ$206,4,FALSE)),\"\",VLOOKUP(B4639,database!$A$6:$BFQ$206,4,FALSE)))","v":""},null,null,null,"",null,null,null,{"$f":"IF(B4639=\"\",\"\",IF(ISERROR(VLOOKUP(B4639,database!$A$6:$BFQ$206,3,FALSE)),\"\",VLOOKUP(B4639,database!$A$6:$BFQ$206,3,FALSE)))","v":""},null,null,null,null,null,null,""]
["",null,{"$f":"IF(B4642=\"\",\"\",IF(ISERROR(VLOOKUP(B4642,database!$A$6:$BFQ$206,4,FALSE)),\"\",VLOOKUP(B4642,database!$A$6:$BFQ$206,4,FALSE)))","v":""},null,null,null,"",null,null,null,{"$f":"IF(B4642=\"\",\"\",IF(ISERROR(VLOOKUP(B4642,database!$A$6:$BFQ$206,3,FALSE)),\"\",VLOOKUP(B4642,database!$A$6:$BFQ$206,3,FALSE)))","v":""},null,null,null,null,null,null,""]
["",null,{"$f":"IF(B4643=\"\",\"\",IF(ISERROR(VLOOKUP(B4643,database!$A$6:$BFQ$206,4,FALSE)),\"\",VLOOKUP(B4643,database!$A$6:$BFQ$206,4,FALSE)))","v":""},null,null,null,"",null,null,null,{"$f":"IF(B4643=\"\",\"\",IF(ISERROR(VLOOKUP(B4643,database!$A$6:$BFQ$206,3,FALSE)),\"\",VLOOKUP(B4643,database!$A$6:$BFQ$206,3,FALSE)))","v":""},null,null,null,null,null,null,""]
["",null,{"$f":"IF(B4645=\"\",\"\",IF(ISERROR(VLOOKUP(B4645,database!$A$6:$BFQ$206,4,FALSE)),\"\",VLOOKUP(B4645,database!$A$6:$BFQ$206,4,FALSE)))","v":""},null,null,null,"",null,null,null,{"$f":"IF(B4645=\"\",\"\",IF(ISERROR(VLOOKUP(B4645,database!$A$6:$BFQ$206,3,FALSE)),\"\",VLOOKUP(B4645,database!$A$6:$BFQ$206,3,FALSE)))","v":""},null,null,null,null,null,null,""]
["",null,{"$f":"IF(B4646=\"\",\"\",IF(ISERROR(VLOOKUP(B4646,database!$A$6:$BFQ$206,4,FALSE)),\"\",VLOOKUP(B4646,database!$A$6:$BFQ$206,4,FALSE)))","v":""},null,null,null,"",null,null,null,{"$f":"IF(B4646=\"\",\"\",IF(ISERROR(VLOOKUP(B4646,database!$A$6:$BFQ$206,3,FALSE)),\"\",VLOOKUP(B4646,database!$A$6:$BFQ$206,3,FALSE)))","v":""},null,null,null,null,null,null,""]
["",null,{"$f":"IF(B4649=\"\",\"\",IF(ISERROR(VLOOKUP(B4649,database!$A$6:$BFQ$206,4,FALSE)),\"\",VLOOKUP(B4649,database!$A$6:$BFQ$206,4,FALSE)))","v":""},null,null,null,"",null,null,null,{"$f":"IF(B4649=\"\",\"\",IF(ISERROR(VLOOKUP(B4649,database!$A$6:$BFQ$206,3,FALSE)),\"\",VLOOKUP(B4649,database!$A$6:$BFQ$206,3,FALSE)))","v":""},null,null,null,null,null,null,""]
["",null,{"$f":"IF(B4650=\"\",\"\",IF(ISERROR(VLOOKUP(B4650,database!$A$6:$BFQ$206,4,FALSE)),\"\",VLOOKUP(B4650,database!$A$6:$BFQ$206,4,FALSE)))","v":""},null,null,null,"",null,null,null,{"$f":"IF(B4650=\"\",\"\",IF(ISERROR(VLOOKUP(B4650,database!$A$6:$BFQ$206,3,FALSE)),\"\",VLOOKUP(B4650,database!$A$6:$BFQ$206,3,FALSE)))","v":""},null,null,null,null,null,null,""]
["",null,{"$f":"IF(B4652=\"\",\"\",IF(ISERROR(VLOOKUP(B4652,database!$A$6:$BFQ$206,4,FALSE)),\"\",VLOOKUP(B4652,database!$A$6:$BFQ$206,4,FALSE)))","v":""},null,null,null,"",null,null,null,{"$f":"IF(B4652=\"\",\"\",IF(ISERROR(VLOOKUP(B4652,database!$A$6:$BFQ$206,3,FALSE)),\"\",VLOOKUP(B4652,database!$A$6:$BFQ$206,3,FALSE)))","v":""},null,null,null,null,null,null,""]
["",null,{"$f":"IF(B4653=\"\",\"\",IF(ISERROR(VLOOKUP(B4653,database!$A$6:$BFQ$206,4,FALSE)),\"\",VLOOKUP(B4653,database!$A$6:$BFQ$206,4,FALSE)))","v":""},null,null,null,"",null,null,null,{"$f":"IF(B4653=\"\",\"\",IF(ISERROR(VLOOKUP(B4653,database!$A$6:$BFQ$206,3,FALSE)),\"\",VLOOKUP(B4653,database!$A$6:$BFQ$206,3,FALSE)))","v":""},null,null,null,null,null,null,""]
["",null,{"$f":"IF(B4656=\"\",\"\",IF(ISERROR(VLOOKUP(B4656,database!$A$6:$BFQ$206,4,FALSE)),\"\",VLOOKUP(B4656,database!$A$6:$BFQ$206,4,FALSE)))","v":""},null,null,null,"",null,null,null,{"$f":"IF(B4656=\"\",\"\",IF(ISERROR(VLOOKUP(B4656,database!$A$6:$BFQ$206,3,FALSE)),\"\",VLOOKUP(B4656,database!$A$6:$BFQ$206,3,FALSE)))","v":""},null,null,null,null,null,null,""]
["",null,{"$f":"IF(B4657=\"\",\"\",IF(ISERROR(VLOOKUP(B4657,database!$A$6:$BFQ$206,4,FALSE)),\"\",VLOOKUP(B4657,database!$A$6:$BFQ$206,4,FALSE)))","v":""},null,null,null,"",null,null,null,{"$f":"IF(B4657=\"\",\"\",IF(ISERROR(VLOOKUP(B4657,database!$A$6:$BFQ$206,3,FALSE)),\"\",VLOOKUP(B4657,database!$A$6:$BFQ$206,3,FALSE)))","v":""},null,null,null,null,null,null,""]
["",null,{"$f":"IF(B4659=\"\",\"\",IF(ISERROR(VLOOKUP(B4659,database!$A$6:$BFQ$206,4,FALSE)),\"\",VLOOKUP(B4659,database!$A$6:$BFQ$206,4,FALSE)))","v":""},null,null,null,"",null,null,null,{"$f":"IF(B4659=\"\",\"\",IF(ISERROR(VLOOKUP(B4659,database!$A$6:$BFQ$206,3,FALSE)),\"\",VLOOKUP(B4659,database!$A$6:$BFQ$206,3,FALSE)))","v":""},null,null,null,null,null,null,""]
["",null,{"$f":"IF(B4660=\"\",\"\",IF(ISERROR(VLOOKUP(B4660,database!$A$6:$BFQ$206,4,FALSE)),\"\",VLOOKUP(B4660,database!$A$6:$BFQ$206,4,FALSE)))","v":""},null,null,null,"",null,null,null,{"$f":"IF(B4660=\"\",\"\",IF(ISERROR(VLOOKUP(B4660,database!$A$6:$BFQ$206,3,FALSE)),\"\",VLOOKUP(B4660,database!$A$6:$BFQ$206,3,FALSE)))","v":""},null,null,null,null,null,null,""]
["",null,{"$f":"IF(B4663=\"\",\"\",IF(ISERROR(VLOOKUP(B4663,database!$A$6:$BFQ$206,4,FALSE)),\"\",VLOOKUP(B4663,database!$A$6:$BFQ$206,4,FALSE)))","v":""},null,null,null,"",null,null,null,{"$f":"IF(B4663=\"\",\"\",IF(ISERROR(VLOOKUP(B4663,database!$A$6:$BFQ$206,3,FALSE)),\"\",VLOOKUP(B4663,database!$A$6:$BFQ$206,3,FALSE)))","v":""},null,null,null,null,null,null,""]
["",null,{"$f":"IF(B4664=\"\",\"\",IF(ISERROR(VLOOKUP(B4664,database!$A$6:$BFQ$206,4,FALSE)),\"\",VLOOKUP(B4664,database!$A$6:$BFQ$206,4,FALSE)))","v":""},null,null,null,"",null,null,null,{"$f":"IF(B4664=\"\",\"\",IF(ISERROR(VLOOKUP(B4664,database!$A$6:$BFQ$206,3,FALSE)),\"\",VLOOKUP(B4664,database!$A$6:$BFQ$206,3,FALSE)))","v":""},null,null,null,null,null,null,""]
["",null,{"$f":"IF(B4666=\"\",\"\",IF(ISERROR(VLOOKUP(B4666,database!$A$6:$BFQ$206,4,FALSE)),\"\",VLOOKUP(B4666,database!$A$6:$BFQ$206,4,FALSE)))","v":""},null,null,null,"",null,null,null,{"$f":"IF(B4666=\"\",\"\",IF(ISERROR(VLOOKUP(B4666,database!$A$6:$BFQ$206,3,FALSE)),\"\",VLOOKUP(B4666,database!$A$6:$BFQ$206,3,FALSE)))","v":""},null,null,null,null,null,null,""]
["",null,{"$f":"IF(B4667=\"\",\"\",IF(ISERROR(VLOOKUP(B4667,database!$A$6:$BFQ$206,4,FALSE)),\"\",VLOOKUP(B4667,database!$A$6:$BFQ$206,4,FALSE)))","v":""},null,null,null,"",null,null,null,{"$f":"IF(B4667=\"\",\"\",IF(ISERROR(VLOOKUP(B4667,database!$A$6:$BFQ$206,3,FALSE)),\"\",VLOOKUP(B4667,database!$A$6:$BFQ$206,3,FALSE)))","v":""},null,null,null,null,null,null,""]
["",null,{"$f":"IF(B4670=\"\",\"\",IF(ISERROR(VLOOKUP(B4670,database!$A$6:$BFQ$206,4,FALSE)),\"\",VLOOKUP(B4670,database!$A$6:$BFQ$206,4,FALSE)))","v":""},null,null,null,"",null,null,null,{"$f":"IF(B4670=\"\",\"\",IF(ISERROR(VLOOKUP(B4670,database!$A$6:$BFQ$206,3,FALSE)),\"\",VLOOKUP(B4670,database!$A$6:$BFQ$206,3,FALSE)))","v":""},null,null,null,null,null,null,""]
["",null,{"$f":"IF(B4671=\"\",\"\",IF(ISERROR(VLOOKUP(B4671,database!$A$6:$BFQ$206,4,FALSE)),\"\",VLOOKUP(B4671,database!$A$6:$BFQ$206,4,FALSE)))","v":""},null,null,null,"",null,null,null,{"$f":"IF(B4671=\"\",\"\",IF(ISERROR(VLOOKUP(B4671,database!$A$6:$BFQ$206,3,FALSE)),\"\",VLOOKUP(B4671,database!$A$6:$BFQ$206,3,FALSE)))","v":""},null,null,null,null,null,null,""]
[{"$f":"IF(B4673=\"\",\"\",ROW(A4670))","v":""},null,{"$f":"IF(B4673=\"\",\"\",IF(ISERROR(VLOOKUP(B4673,database!$A$6:$BFQ$206,4,FALSE)),\"\",VLOOKUP(B4673,database!$A$6:$BFQ$206,4,FALSE)))","v":""},null,null,null,{"$f":"IF(B4673=\"\",\"\",IF(C4673=\"\",0,1))","v":""},null,null,null,{"$f":"IF(B4673=\"\",\"\",IF(ISERROR(VLOOKUP(B4673,database!$A$6:$BFQ$206,3,FALSE)),\"\",VLOOKUP(B4673,database!$A$6:$BFQ$206,3,FALSE)))","v":""},null,null,null,null,null,null,{"$f":"LEFT(C4673,2)","v":""}]
["",null,{"$f":"IF(B4674=\"\",\"\",IF(ISERROR(VLOOKUP(B4674,database!$A$6:$BFQ$206,4,FALSE)),\"\",VLOOKUP(B4674,database!$A$6:$BFQ$206,4,FALSE)))","v":""},null,null,null,"",null,null,null,{"$f":"IF(B4674=\"\",\"\",IF(ISERROR(VLOOKUP(B4674,database!$A$6:$BFQ$206,3,FALSE)),\"\",VLOOKUP(B4674,database!$A$6:$BFQ$206,3,FALSE)))","v":""},null,null,null,null,null,null,""]
["",null,{"$f":"IF(B4677=\"\",\"\",IF(ISERROR(VLOOKUP(B4677,database!$A$6:$BFQ$206,4,FALSE)),\"\",VLOOKUP(B4677,database!$A$6:$BFQ$206,4,FALSE)))","v":""},null,null,null,"",null,null,null,{"$f":"IF(B4677=\"\",\"\",IF(ISERROR(VLOOKUP(B4677,database!$A$6:$BFQ$206,3,FALSE)),\"\",VLOOKUP(B4677,database!$A$6:$BFQ$206,3,FALSE)))","v":""},null,null,null,null,null,null,""]
["",null,{"$f":"IF(B4678=\"\",\"\",IF(ISERROR(VLOOKUP(B4678,database!$A$6:$BFQ$206,4,FALSE)),\"\",VLOOKUP(B4678,database!$A$6:$BFQ$206,4,FALSE)))","v":""},null,null,null,"",null,null,null,{"$f":"IF(B4678=\"\",\"\",IF(ISERROR(VLOOKUP(B4678,database!$A$6:$BFQ$206,3,FALSE)),\"\",VLOOKUP(B4678,database!$A$6:$BFQ$206,3,FALSE)))","v":""},null,null,null,null,null,null,""]
["",null,{"$f":"IF(B4680=\"\",\"\",IF(ISERROR(VLOOKUP(B4680,database!$A$6:$BFQ$206,4,FALSE)),\"\",VLOOKUP(B4680,database!$A$6:$BFQ$206,4,FALSE)))","v":""},null,null,null,"",null,null,null,{"$f":"IF(B4680=\"\",\"\",IF(ISERROR(VLOOKUP(B4680,database!$A$6:$BFQ$206,3,FALSE)),\"\",VLOOKUP(B4680,database!$A$6:$BFQ$206,3,FALSE)))","v":""},null,null,null,null,null,null,""]
["",null,{"$f":"IF(B4681=\"\",\"\",IF(ISERROR(VLOOKUP(B4681,database!$A$6:$BFQ$206,4,FALSE)),\"\",VLOOKUP(B4681,database!$A$6:$BFQ$206,4,FALSE)))","v":""},null,null,null,"",null,null,null,{"$f":"IF(B4681=\"\",\"\",IF(ISERROR(VLOOKUP(B4681,database!$A$6:$BFQ$206,3,FALSE)),\"\",VLOOKUP(B4681,database!$A$6:$BFQ$206,3,FALSE)))","v":""},null,null,null,null,null,null,""]
["",null,{"$f":"IF(B4684=\"\",\"\",IF(ISERROR(VLOOKUP(B4684,database!$A$6:$BFQ$206,4,FALSE)),\"\",VLOOKUP(B4684,database!$A$6:$BFQ$206,4,FALSE)))","v":""},null,null,null,"",null,null,null,{"$f":"IF(B4684=\"\",\"\",IF(ISERROR(VLOOKUP(B4684,database!$A$6:$BFQ$206,3,FALSE)),\"\",VLOOKUP(B4684,database!$A$6:$BFQ$206,3,FALSE)))","v":""},null,null,null,null,null,null,""]
["",null,{"$f":"IF(B4685=\"\",\"\",IF(ISERROR(VLOOKUP(B4685,database!$A$6:$BFQ$206,4,FALSE)),\"\",VLOOKUP(B4685,database!$A$6:$BFQ$206,4,FALSE)))","v":""},null,null,null,"",null,null,null,{"$f":"IF(B4685=\"\",\"\",IF(ISERROR(VLOOKUP(B4685,database!$A$6:$BFQ$206,3,FALSE)),\"\",VLOOKUP(B4685,database!$A$6:$BFQ$206,3,FALSE)))","v":""},null,null,null,null,null,null,""]
["",null,{"$f":"IF(B4687=\"\",\"\",IF(ISERROR(VLOOKUP(B4687,database!$A$6:$BFQ$206,4,FALSE)),\"\",VLOOKUP(B4687,database!$A$6:$BFQ$206,4,FALSE)))","v":""},null,null,null,"",null,null,null,{"$f":"IF(B4687=\"\",\"\",IF(ISERROR(VLOOKUP(B4687,database!$A$6:$BFQ$206,3,FALSE)),\"\",VLOOKUP(B4687,database!$A$6:$BFQ$206,3,FALSE)))","v":""},null,null,null,null,null,null,""]
["",null,{"$f":"IF(B4688=\"\",\"\",IF(ISERROR(VLOOKUP(B4688,database!$A$6:$BFQ$206,4,FALSE)),\"\",VLOOKUP(B4688,database!$A$6:$BFQ$206,4,FALSE)))","v":""},null,null,null,"",null,null,null,{"$f":"IF(B4688=\"\",\"\",IF(ISERROR(VLOOKUP(B4688,database!$A$6:$BFQ$206,3,FALSE)),\"\",VLOOKUP(B4688,database!$A$6:$BFQ$206,3,FALSE)))","v":""},null,null,null,null,null,null,""]
["",null,{"$f":"IF(B4691=\"\",\"\",IF(ISERROR(VLOOKUP(B4691,database!$A$6:$BFQ$206,4,FALSE)),\"\",VLOOKUP(B4691,database!$A$6:$BFQ$206,4,FALSE)))","v":""},null,null,null,"",null,null,null,{"$f":"IF(B4691=\"\",\"\",IF(ISERROR(VLOOKUP(B4691,database!$A$6:$BFQ$206,3,FALSE)),\"\",VLOOKUP(B4691,database!$A$6:$BFQ$206,3,FALSE)))","v":""},null,null,null,null,null,null,""]
["",null,{"$f":"IF(B4692=\"\",\"\",IF(ISERROR(VLOOKUP(B4692,database!$A$6:$BFQ$206,4,FALSE)),\"\",VLOOKUP(B4692,database!$A$6:$BFQ$206,4,FALSE)))","v":""},null,null,null,"",null,null,null,{"$f":"IF(B4692=\"\",\"\",IF(ISERROR(VLOOKUP(B4692,database!$A$6:$BFQ$206,3,FALSE)),\"\",VLOOKUP(B4692,database!$A$6:$BFQ$206,3,FALSE)))","v":""},null,null,null,null,null,null,""]
["",null,{"$f":"IF(B4695=\"\",\"\",IF(ISERROR(VLOOKUP(B4695,database!$A$6:$BFQ$206,4,FALSE)),\"\",VLOOKUP(B4695,database!$A$6:$BFQ$206,4,FALSE)))","v":""},null,null,null,"",null,null,null,{"$f":"IF(B4695=\"\",\"\",IF(ISERROR(VLOOKUP(B4695,database!$A$6:$BFQ$206,3,FALSE)),\"\",VLOOKUP(B4695,database!$A$6:$BFQ$206,3,FALSE)))","v":""},null,null,null,null,null,null,""]
["",null,{"$f":"IF(B4696=\"\",\"\",IF(ISERROR(VLOOKUP(B4696,database!$A$6:$BFQ$206,4,FALSE)),\"\",VLOOKUP(B4696,database!$A$6:$BFQ$206,4,FALSE)))","v":""},null,null,null,"",null,null,null,{"$f":"IF(B4696=\"\",\"\",IF(ISERROR(VLOOKUP(B4696,database!$A$6:$BFQ$206,3,FALSE)),\"\",VLOOKUP(B4696,database!$A$6:$BFQ$206,3,FALSE)))","v":""},null,null,null,null,null,null,""]
["",null,{"$f":"IF(B4698=\"\",\"\",IF(ISERROR(VLOOKUP(B4698,database!$A$6:$BFQ$206,4,FALSE)),\"\",VLOOKUP(B4698,database!$A$6:$BFQ$206,4,FALSE)))","v":""},null,null,null,"",null,null,null,{"$f":"IF(B4698=\"\",\"\",IF(ISERROR(VLOOKUP(B4698,database!$A$6:$BFQ$206,3,FALSE)),\"\",VLOOKUP(B4698,database!$A$6:$BFQ$206,3,FALSE)))","v":""},null,null,null,null,null,null,""]
["",null,{"$f":"IF(B4699=\"\",\"\",IF(ISERROR(VLOOKUP(B4699,database!$A$6:$BFQ$206,4,FALSE)),\"\",VLOOKUP(B4699,database!$A$6:$BFQ$206,4,FALSE)))","v":""},null,null,null,"",null,null,null,{"$f":"IF(B4699=\"\",\"\",IF(ISERROR(VLOOKUP(B4699,database!$A$6:$BFQ$206,3,FALSE)),\"\",VLOOKUP(B4699,database!$A$6:$BFQ$206,3,FALSE)))","v":""},null,null,null,null,null,null,""]
["",null,{"$f":"IF(B4702=\"\",\"\",IF(ISERROR(VLOOKUP(B4702,database!$A$6:$BFQ$206,4,FALSE)),\"\",VLOOKUP(B4702,database!$A$6:$BFQ$206,4,FALSE)))","v":""},null,null,null,"",null,null,null,{"$f":"IF(B4702=\"\",\"\",IF(ISERROR(VLOOKUP(B4702,database!$A$6:$BFQ$206,3,FALSE)),\"\",VLOOKUP(B4702,database!$A$6:$BFQ$206,3,FALSE)))","v":""},null,null,null,null,null,null,""]
["",null,{"$f":"IF(B4703=\"\",\"\",IF(ISERROR(VLOOKUP(B4703,database!$A$6:$BFQ$206,4,FALSE)),\"\",VLOOKUP(B4703,database!$A$6:$BFQ$206,4,FALSE)))","v":""},null,null,null,"",null,null,null,{"$f":"IF(B4703=\"\",\"\",IF(ISERROR(VLOOKUP(B4703,database!$A$6:$BFQ$206,3,FALSE)),\"\",VLOOKUP(B4703,database!$A$6:$BFQ$206,3,FALSE)))","v":""},null,null,null,null,null,null,""]
["",null,{"$f":"IF(B4705=\"\",\"\",IF(ISERROR(VLOOKUP(B4705,database!$A$6:$BFQ$206,4,FALSE)),\"\",VLOOKUP(B4705,database!$A$6:$BFQ$206,4,FALSE)))","v":""},null,null,null,"",null,null,null,{"$f":"IF(B4705=\"\",\"\",IF(ISERROR(VLOOKUP(B4705,database!$A$6:$BFQ$206,3,FALSE)),\"\",VLOOKUP(B4705,database!$A$6:$BFQ$206,3,FALSE)))","v":""},null,null,null,null,null,null,""]
["",null,{"$f":"IF(B4706=\"\",\"\",IF(ISERROR(VLOOKUP(B4706,database!$A$6:$BFQ$206,4,FALSE)),\"\",VLOOKUP(B4706,database!$A$6:$BFQ$206,4,FALSE)))","v":""},null,null,null,"",null,null,null,{"$f":"IF(B4706=\"\",\"\",IF(ISERROR(VLOOKUP(B4706,database!$A$6:$BFQ$206,3,FALSE)),\"\",VLOOKUP(B4706,database!$A$6:$BFQ$206,3,FALSE)))","v":""},null,null,null,null,null,null,""]
["",null,{"$f":"IF(B4709=\"\",\"\",IF(ISERROR(VLOOKUP(B4709,database!$A$6:$BFQ$206,4,FALSE)),\"\",VLOOKUP(B4709,database!$A$6:$BFQ$206,4,FALSE)))","v":""},null,null,null,"",null,null,null,{"$f":"IF(B4709=\"\",\"\",IF(ISERROR(VLOOKUP(B4709,database!$A$6:$BFQ$206,3,FALSE)),\"\",VLOOKUP(B4709,database!$A$6:$BFQ$206,3,FALSE)))","v":""},null,null,null,null,null,null,""]
["",null,{"$f":"IF(B4710=\"\",\"\",IF(ISERROR(VLOOKUP(B4710,database!$A$6:$BFQ$206,4,FALSE)),\"\",VLOOKUP(B4710,database!$A$6:$BFQ$206,4,FALSE)))","v":""},null,null,null,"",null,null,null,{"$f":"IF(B4710=\"\",\"\",IF(ISERROR(VLOOKUP(B4710,database!$A$6:$BFQ$206,3,FALSE)),\"\",VLOOKUP(B4710,database!$A$6:$BFQ$206,3,FALSE)))","v":""},null,null,null,null,null,null,""]
["",null,{"$f":"IF(B4712=\"\",\"\",IF(ISERROR(VLOOKUP(B4712,database!$A$6:$BFQ$206,4,FALSE)),\"\",VLOOKUP(B4712,database!$A$6:$BFQ$206,4,FALSE)))","v":""},null,null,null,"",null,null,null,{"$f":"IF(B4712=\"\",\"\",IF(ISERROR(VLOOKUP(B4712,database!$A$6:$BFQ$206,3,FALSE)),\"\",VLOOKUP(B4712,database!$A$6:$BFQ$206,3,FALSE)))","v":""},null,null,null,null,null,null,""]
["",null,{"$f":"IF(B4713=\"\",\"\",IF(ISERROR(VLOOKUP(B4713,database!$A$6:$BFQ$206,4,FALSE)),\"\",VLOOKUP(B4713,database!$A$6:$BFQ$206,4,FALSE)))","v":""},null,null,null,"",null,null,null,{"$f":"IF(B4713=\"\",\"\",IF(ISERROR(VLOOKUP(B4713,database!$A$6:$BFQ$206,3,FALSE)),\"\",VLOOKUP(B4713,database!$A$6:$BFQ$206,3,FALSE)))","v":""},null,null,null,null,null,null,""]
["",null,{"$f":"IF(B4716=\"\",\"\",IF(ISERROR(VLOOKUP(B4716,database!$A$6:$BFQ$206,4,FALSE)),\"\",VLOOKUP(B4716,database!$A$6:$BFQ$206,4,FALSE)))","v":""},null,null,null,"",null,null,null,{"$f":"IF(B4716=\"\",\"\",IF(ISERROR(VLOOKUP(B4716,database!$A$6:$BFQ$206,3,FALSE)),\"\",VLOOKUP(B4716,database!$A$6:$BFQ$206,3,FALSE)))","v":""},null,null,null,null,null,null,""]
["",null,{"$f":"IF(B4717=\"\",\"\",IF(ISERROR(VLOOKUP(B4717,database!$A$6:$BFQ$206,4,FALSE)),\"\",VLOOKUP(B4717,database!$A$6:$BFQ$206,4,FALSE)))","v":""},null,null,null,"",null,null,null,{"$f":"IF(B4717=\"\",\"\",IF(ISERROR(VLOOKUP(B4717,database!$A$6:$BFQ$206,3,FALSE)),\"\",VLOOKUP(B4717,database!$A$6:$BFQ$206,3,FALSE)))","v":""},null,null,null,null,null,null,""]
["",null,{"$f":"IF(B4719=\"\",\"\",IF(ISERROR(VLOOKUP(B4719,database!$A$6:$BFQ$206,4,FALSE)),\"\",VLOOKUP(B4719,database!$A$6:$BFQ$206,4,FALSE)))","v":""},null,null,null,"",null,null,null,{"$f":"IF(B4719=\"\",\"\",IF(ISERROR(VLOOKUP(B4719,database!$A$6:$BFQ$206,3,FALSE)),\"\",VLOOKUP(B4719,database!$A$6:$BFQ$206,3,FALSE)))","v":""},null,null,null,null,null,null,""]
["",null,{"$f":"IF(B4720=\"\",\"\",IF(ISERROR(VLOOKUP(B4720,database!$A$6:$BFQ$206,4,FALSE)),\"\",VLOOKUP(B4720,database!$A$6:$BFQ$206,4,FALSE)))","v":""},null,null,null,"",null,null,null,{"$f":"IF(B4720=\"\",\"\",IF(ISERROR(VLOOKUP(B4720,database!$A$6:$BFQ$206,3,FALSE)),\"\",VLOOKUP(B4720,database!$A$6:$BFQ$206,3,FALSE)))","v":""},null,null,null,null,null,null,""]
["",null,{"$f":"IF(B4723=\"\",\"\",IF(ISERROR(VLOOKUP(B4723,database!$A$6:$BFQ$206,4,FALSE)),\"\",VLOOKUP(B4723,database!$A$6:$BFQ$206,4,FALSE)))","v":""},null,null,null,"",null,null,null,{"$f":"IF(B4723=\"\",\"\",IF(ISERROR(VLOOKUP(B4723,database!$A$6:$BFQ$206,3,FALSE)),\"\",VLOOKUP(B4723,database!$A$6:$BFQ$206,3,FALSE)))","v":""},null,null,null,null,null,null,""]
["",null,{"$f":"IF(B4724=\"\",\"\",IF(ISERROR(VLOOKUP(B4724,database!$A$6:$BFQ$206,4,FALSE)),\"\",VLOOKUP(B4724,database!$A$6:$BFQ$206,4,FALSE)))","v":""},null,null,null,"",null,null,null,{"$f":"IF(B4724=\"\",\"\",IF(ISERROR(VLOOKUP(B4724,database!$A$6:$BFQ$206,3,FALSE)),\"\",VLOOKUP(B4724,database!$A$6:$BFQ$206,3,FALSE)))","v":""},null,null,null,null,null,null,""]
["",null,{"$f":"IF(B4726=\"\",\"\",IF(ISERROR(VLOOKUP(B4726,database!$A$6:$BFQ$206,4,FALSE)),\"\",VLOOKUP(B4726,database!$A$6:$BFQ$206,4,FALSE)))","v":""},null,null,null,"",null,null,null,{"$f":"IF(B4726=\"\",\"\",IF(ISERROR(VLOOKUP(B4726,database!$A$6:$BFQ$206,3,FALSE)),\"\",VLOOKUP(B4726,database!$A$6:$BFQ$206,3,FALSE)))","v":""},null,null,null,null,null,null,""]
["",null,{"$f":"IF(B4727=\"\",\"\",IF(ISERROR(VLOOKUP(B4727,database!$A$6:$BFQ$206,4,FALSE)),\"\",VLOOKUP(B4727,database!$A$6:$BFQ$206,4,FALSE)))","v":""},null,null,null,"",null,null,null,{"$f":"IF(B4727=\"\",\"\",IF(ISERROR(VLOOKUP(B4727,database!$A$6:$BFQ$206,3,FALSE)),\"\",VLOOKUP(B4727,database!$A$6:$BFQ$206,3,FALSE)))","v":""},null,null,null,null,null,null,""]
["",null,{"$f":"IF(B4730=\"\",\"\",IF(ISERROR(VLOOKUP(B4730,database!$A$6:$BFQ$206,4,FALSE)),\"\",VLOOKUP(B4730,database!$A$6:$BFQ$206,4,FALSE)))","v":""},null,null,null,"",null,null,null,{"$f":"IF(B4730=\"\",\"\",IF(ISERROR(VLOOKUP(B4730,database!$A$6:$BFQ$206,3,FALSE)),\"\",VLOOKUP(B4730,database!$A$6:$BFQ$206,3,FALSE)))","v":""},null,null,null,null,null,null,""]
["",null,{"$f":"IF(B4731=\"\",\"\",IF(ISERROR(VLOOKUP(B4731,database!$A$6:$BFQ$206,4,FALSE)),\"\",VLOOKUP(B4731,database!$A$6:$BFQ$206,4,FALSE)))","v":""},null,null,null,"",null,null,null,{"$f":"IF(B4731=\"\",\"\",IF(ISERROR(VLOOKUP(B4731,database!$A$6:$BFQ$206,3,FALSE)),\"\",VLOOKUP(B4731,database!$A$6:$BFQ$206,3,FALSE)))","v":""},null,null,null,null,null,null,""]
["",null,{"$f":"IF(B4733=\"\",\"\",IF(ISERROR(VLOOKUP(B4733,database!$A$6:$BFQ$206,4,FALSE)),\"\",VLOOKUP(B4733,database!$A$6:$BFQ$206,4,FALSE)))","v":""},null,null,null,"",null,null,null,{"$f":"IF(B4733=\"\",\"\",IF(ISERROR(VLOOKUP(B4733,database!$A$6:$BFQ$206,3,FALSE)),\"\",VLOOKUP(B4733,database!$A$6:$BFQ$206,3,FALSE)))","v":""},null,null,null,null,null,null,""]
["",null,{"$f":"IF(B4734=\"\",\"\",IF(ISERROR(VLOOKUP(B4734,database!$A$6:$BFQ$206,4,FALSE)),\"\",VLOOKUP(B4734,database!$A$6:$BFQ$206,4,FALSE)))","v":""},null,null,null,"",null,null,null,{"$f":"IF(B4734=\"\",\"\",IF(ISERROR(VLOOKUP(B4734,database!$A$6:$BFQ$206,3,FALSE)),\"\",VLOOKUP(B4734,database!$A$6:$BFQ$206,3,FALSE)))","v":""},null,null,null,null,null,null,""]
[{"$f":"IF(B4737=\"\",\"\",ROW(A4734))","v":""},null,{"$f":"IF(B4737=\"\",\"\",IF(ISERROR(VLOOKUP(B4737,database!$A$6:$BFQ$206,4,FALSE)),\"\",VLOOKUP(B4737,database!$A$6:$BFQ$206,4,FALSE)))","v":""},null,null,null,{"$f":"IF(B4737=\"\",\"\",IF(C4737=\"\",0,1))","v":""},null,null,null,{"$f":"IF(B4737=\"\",\"\",IF(ISERROR(VLOOKUP(B4737,database!$A$6:$BFQ$206,3,FALSE)),\"\",VLOOKUP(B4737,database!$A$6:$BFQ$206,3,FALSE)))","v":""},null,null,null,null,null,null,{"$f":"LEFT(C4737,2)","v":""}]
["",null,{"$f":"IF(B4738=\"\",\"\",IF(ISERROR(VLOOKUP(B4738,database!$A$6:$BFQ$206,4,FALSE)),\"\",VLOOKUP(B4738,database!$A$6:$BFQ$206,4,FALSE)))","v":""},null,null,null,"",null,null,null,{"$f":"IF(B4738=\"\",\"\",IF(ISERROR(VLOOKUP(B4738,database!$A$6:$BFQ$206,3,FALSE)),\"\",VLOOKUP(B4738,database!$A$6:$BFQ$206,3,FALSE)))","v":""},null,null,null,null,null,null,""]
["",null,{"$f":"IF(B4740=\"\",\"\",IF(ISERROR(VLOOKUP(B4740,database!$A$6:$BFQ$206,4,FALSE)),\"\",VLOOKUP(B4740,database!$A$6:$BFQ$206,4,FALSE)))","v":""},null,null,null,"",null,null,null,{"$f":"IF(B4740=\"\",\"\",IF(ISERROR(VLOOKUP(B4740,database!$A$6:$BFQ$206,3,FALSE)),\"\",VLOOKUP(B4740,database!$A$6:$BFQ$206,3,FALSE)))","v":""},null,null,null,null,null,null,""]
["",null,{"$f":"IF(B4741=\"\",\"\",IF(ISERROR(VLOOKUP(B4741,database!$A$6:$BFQ$206,4,FALSE)),\"\",VLOOKUP(B4741,database!$A$6:$BFQ$206,4,FALSE)))","v":""},null,null,null,"",null,null,null,{"$f":"IF(B4741=\"\",\"\",IF(ISERROR(VLOOKUP(B4741,database!$A$6:$BFQ$206,3,FALSE)),\"\",VLOOKUP(B4741,database!$A$6:$BFQ$206,3,FALSE)))","v":""},null,null,null,null,null,null,""]
["",null,{"$f":"IF(B4744=\"\",\"\",IF(ISERROR(VLOOKUP(B4744,database!$A$6:$BFQ$206,4,FALSE)),\"\",VLOOKUP(B4744,database!$A$6:$BFQ$206,4,FALSE)))","v":""},null,null,null,"",null,null,null,{"$f":"IF(B4744=\"\",\"\",IF(ISERROR(VLOOKUP(B4744,database!$A$6:$BFQ$206,3,FALSE)),\"\",VLOOKUP(B4744,database!$A$6:$BFQ$206,3,FALSE)))","v":""},null,null,null,null,null,null,""]
["",null,{"$f":"IF(B4745=\"\",\"\",IF(ISERROR(VLOOKUP(B4745,database!$A$6:$BFQ$206,4,FALSE)),\"\",VLOOKUP(B4745,database!$A$6:$BFQ$206,4,FALSE)))","v":""},null,null,null,"",null,null,null,{"$f":"IF(B4745=\"\",\"\",IF(ISERROR(VLOOKUP(B4745,database!$A$6:$BFQ$206,3,FALSE)),\"\",VLOOKUP(B4745,database!$A$6:$BFQ$206,3,FALSE)))","v":""},null,null,null,null,null,null,""]
["",null,{"$f":"IF(B4747=\"\",\"\",IF(ISERROR(VLOOKUP(B4747,database!$A$6:$BFQ$206,4,FALSE)),\"\",VLOOKUP(B4747,database!$A$6:$BFQ$206,4,FALSE)))","v":""},null,null,null,"",null,null,null,{"$f":"IF(B4747=\"\",\"\",IF(ISERROR(VLOOKUP(B4747,database!$A$6:$BFQ$206,3,FALSE)),\"\",VLOOKUP(B4747,database!$A$6:$BFQ$206,3,FALSE)))","v":""},null,null,null,null,null,null,""]
["",null,{"$f":"IF(B4748=\"\",\"\",IF(ISERROR(VLOOKUP(B4748,database!$A$6:$BFQ$206,4,FALSE)),\"\",VLOOKUP(B4748,database!$A$6:$BFQ$206,4,FALSE)))","v":""},null,null,null,"",null,null,null,{"$f":"IF(B4748=\"\",\"\",IF(ISERROR(VLOOKUP(B4748,database!$A$6:$BFQ$206,3,FALSE)),\"\",VLOOKUP(B4748,database!$A$6:$BFQ$206,3,FALSE)))","v":""},null,null,null,null,null,null,""]
["",null,{"$f":"IF(B4751=\"\",\"\",IF(ISERROR(VLOOKUP(B4751,database!$A$6:$BFQ$206,4,FALSE)),\"\",VLOOKUP(B4751,database!$A$6:$BFQ$206,4,FALSE)))","v":""},null,null,null,"",null,null,null,{"$f":"IF(B4751=\"\",\"\",IF(ISERROR(VLOOKUP(B4751,database!$A$6:$BFQ$206,3,FALSE)),\"\",VLOOKUP(B4751,database!$A$6:$BFQ$206,3,FALSE)))","v":""},null,null,null,null,null,null,""]
["",null,{"$f":"IF(B4752=\"\",\"\",IF(ISERROR(VLOOKUP(B4752,database!$A$6:$BFQ$206,4,FALSE)),\"\",VLOOKUP(B4752,database!$A$6:$BFQ$206,4,FALSE)))","v":""},null,null,null,"",null,null,null,{"$f":"IF(B4752=\"\",\"\",IF(ISERROR(VLOOKUP(B4752,database!$A$6:$BFQ$206,3,FALSE)),\"\",VLOOKUP(B4752,database!$A$6:$BFQ$206,3,FALSE)))","v":""},null,null,null,null,null,null,""]
["",null,{"$f":"IF(B4754=\"\",\"\",IF(ISERROR(VLOOKUP(B4754,database!$A$6:$BFQ$206,4,FALSE)),\"\",VLOOKUP(B4754,database!$A$6:$BFQ$206,4,FALSE)))","v":""},null,null,null,"",null,null,null,{"$f":"IF(B4754=\"\",\"\",IF(ISERROR(VLOOKUP(B4754,database!$A$6:$BFQ$206,3,FALSE)),\"\",VLOOKUP(B4754,database!$A$6:$BFQ$206,3,FALSE)))","v":""},null,null,null,null,null,null,""]
["",null,{"$f":"IF(B4755=\"\",\"\",IF(ISERROR(VLOOKUP(B4755,database!$A$6:$BFQ$206,4,FALSE)),\"\",VLOOKUP(B4755,database!$A$6:$BFQ$206,4,FALSE)))","v":""},null,null,null,"",null,null,null,{"$f":"IF(B4755=\"\",\"\",IF(ISERROR(VLOOKUP(B4755,database!$A$6:$BFQ$206,3,FALSE)),\"\",VLOOKUP(B4755,database!$A$6:$BFQ$206,3,FALSE)))","v":""},null,null,null,null,null,null,""]
["",null,{"$f":"IF(B4758=\"\",\"\",IF(ISERROR(VLOOKUP(B4758,database!$A$6:$BFQ$206,4,FALSE)),\"\",VLOOKUP(B4758,database!$A$6:$BFQ$206,4,FALSE)))","v":""},null,null,null,"",null,null,null,{"$f":"IF(B4758=\"\",\"\",IF(ISERROR(VLOOKUP(B4758,database!$A$6:$BFQ$206,3,FALSE)),\"\",VLOOKUP(B4758,database!$A$6:$BFQ$206,3,FALSE)))","v":""},null,null,null,null,null,null,""]
["",null,{"$f":"IF(B4759=\"\",\"\",IF(ISERROR(VLOOKUP(B4759,database!$A$6:$BFQ$206,4,FALSE)),\"\",VLOOKUP(B4759,database!$A$6:$BFQ$206,4,FALSE)))","v":""},null,null,null,"",null,null,null,{"$f":"IF(B4759=\"\",\"\",IF(ISERROR(VLOOKUP(B4759,database!$A$6:$BFQ$206,3,FALSE)),\"\",VLOOKUP(B4759,database!$A$6:$BFQ$206,3,FALSE)))","v":""},null,null,null,null,null,null,""]
["",null,{"$f":"IF(B4761=\"\",\"\",IF(ISERROR(VLOOKUP(B4761,database!$A$6:$BFQ$206,4,FALSE)),\"\",VLOOKUP(B4761,database!$A$6:$BFQ$206,4,FALSE)))","v":""},null,null,null,"",null,null,null,{"$f":"IF(B4761=\"\",\"\",IF(ISERROR(VLOOKUP(B4761,database!$A$6:$BFQ$206,3,FALSE)),\"\",VLOOKUP(B4761,database!$A$6:$BFQ$206,3,FALSE)))","v":""},null,null,null,null,null,null,""]
["",null,{"$f":"IF(B4762=\"\",\"\",IF(ISERROR(VLOOKUP(B4762,database!$A$6:$BFQ$206,4,FALSE)),\"\",VLOOKUP(B4762,database!$A$6:$BFQ$206,4,FALSE)))","v":""},null,null,null,"",null,null,null,{"$f":"IF(B4762=\"\",\"\",IF(ISERROR(VLOOKUP(B4762,database!$A$6:$BFQ$206,3,FALSE)),\"\",VLOOKUP(B4762,database!$A$6:$BFQ$206,3,FALSE)))","v":""},null,null,null,null,null,null,""]
["",null,{"$f":"IF(B4765=\"\",\"\",IF(ISERROR(VLOOKUP(B4765,database!$A$6:$BFQ$206,4,FALSE)),\"\",VLOOKUP(B4765,database!$A$6:$BFQ$206,4,FALSE)))","v":""},null,null,null,"",null,null,null,{"$f":"IF(B4765=\"\",\"\",IF(ISERROR(VLOOKUP(B4765,database!$A$6:$BFQ$206,3,FALSE)),\"\",VLOOKUP(B4765,database!$A$6:$BFQ$206,3,FALSE)))","v":""},null,null,null,null,null,null,""]
["",null,{"$f":"IF(B4766=\"\",\"\",IF(ISERROR(VLOOKUP(B4766,database!$A$6:$BFQ$206,4,FALSE)),\"\",VLOOKUP(B4766,database!$A$6:$BFQ$206,4,FALSE)))","v":""},null,null,null,"",null,null,null,{"$f":"IF(B4766=\"\",\"\",IF(ISERROR(VLOOKUP(B4766,database!$A$6:$BFQ$206,3,FALSE)),\"\",VLOOKUP(B4766,database!$A$6:$BFQ$206,3,FALSE)))","v":""},null,null,null,null,null,null,""]
["",null,{"$f":"IF(B4768=\"\",\"\",IF(ISERROR(VLOOKUP(B4768,database!$A$6:$BFQ$206,4,FALSE)),\"\",VLOOKUP(B4768,database!$A$6:$BFQ$206,4,FALSE)))","v":""},null,null,null,"",null,null,null,{"$f":"IF(B4768=\"\",\"\",IF(ISERROR(VLOOKUP(B4768,database!$A$6:$BFQ$206,3,FALSE)),\"\",VLOOKUP(B4768,database!$A$6:$BFQ$206,3,FALSE)))","v":""},null,null,null,null,null,null,""]
["",null,{"$f":"IF(B4769=\"\",\"\",IF(ISERROR(VLOOKUP(B4769,database!$A$6:$BFQ$206,4,FALSE)),\"\",VLOOKUP(B4769,database!$A$6:$BFQ$206,4,FALSE)))","v":""},null,null,null,"",null,null,null,{"$f":"IF(B4769=\"\",\"\",IF(ISERROR(VLOOKUP(B4769,database!$A$6:$BFQ$206,3,FALSE)),\"\",VLOOKUP(B4769,database!$A$6:$BFQ$206,3,FALSE)))","v":""},null,null,null,null,null,null,""]
["",null,{"$f":"IF(B4772=\"\",\"\",IF(ISERROR(VLOOKUP(B4772,database!$A$6:$BFQ$206,4,FALSE)),\"\",VLOOKUP(B4772,database!$A$6:$BFQ$206,4,FALSE)))","v":""},null,null,null,"",null,null,null,{"$f":"IF(B4772=\"\",\"\",IF(ISERROR(VLOOKUP(B4772,database!$A$6:$BFQ$206,3,FALSE)),\"\",VLOOKUP(B4772,database!$A$6:$BFQ$206,3,FALSE)))","v":""},null,null,null,null,null,null,""]
["",null,{"$f":"IF(B4773=\"\",\"\",IF(ISERROR(VLOOKUP(B4773,database!$A$6:$BFQ$206,4,FALSE)),\"\",VLOOKUP(B4773,database!$A$6:$BFQ$206,4,FALSE)))","v":""},null,null,null,"",null,null,null,{"$f":"IF(B4773=\"\",\"\",IF(ISERROR(VLOOKUP(B4773,database!$A$6:$BFQ$206,3,FALSE)),\"\",VLOOKUP(B4773,database!$A$6:$BFQ$206,3,FALSE)))","v":""},null,null,null,null,null,null,""]
["",null,{"$f":"IF(B4775=\"\",\"\",IF(ISERROR(VLOOKUP(B4775,database!$A$6:$BFQ$206,4,FALSE)),\"\",VLOOKUP(B4775,database!$A$6:$BFQ$206,4,FALSE)))","v":""},null,null,null,"",null,null,null,{"$f":"IF(B4775=\"\",\"\",IF(ISERROR(VLOOKUP(B4775,database!$A$6:$BFQ$206,3,FALSE)),\"\",VLOOKUP(B4775,database!$A$6:$BFQ$206,3,FALSE)))","v":""},null,null,null,null,null,null,""]
["",null,{"$f":"IF(B4776=\"\",\"\",IF(ISERROR(VLOOKUP(B4776,database!$A$6:$BFQ$206,4,FALSE)),\"\",VLOOKUP(B4776,database!$A$6:$BFQ$206,4,FALSE)))","v":""},null,null,null,"",null,null,null,{"$f":"IF(B4776=\"\",\"\",IF(ISERROR(VLOOKUP(B4776,database!$A$6:$BFQ$206,3,FALSE)),\"\",VLOOKUP(B4776,database!$A$6:$BFQ$206,3,FALSE)))","v":""},null,null,null,null,null,null,""]
["",null,{"$f":"IF(B4779=\"\",\"\",IF(ISERROR(VLOOKUP(B4779,database!$A$6:$BFQ$206,4,FALSE)),\"\",VLOOKUP(B4779,database!$A$6:$BFQ$206,4,FALSE)))","v":""},null,null,null,"",null,null,null,{"$f":"IF(B4779=\"\",\"\",IF(ISERROR(VLOOKUP(B4779,database!$A$6:$BFQ$206,3,FALSE)),\"\",VLOOKUP(B4779,database!$A$6:$BFQ$206,3,FALSE)))","v":""},null,null,null,null,null,null,""]
["",null,{"$f":"IF(B4780=\"\",\"\",IF(ISERROR(VLOOKUP(B4780,database!$A$6:$BFQ$206,4,FALSE)),\"\",VLOOKUP(B4780,database!$A$6:$BFQ$206,4,FALSE)))","v":""},null,null,null,"",null,null,null,{"$f":"IF(B4780=\"\",\"\",IF(ISERROR(VLOOKUP(B4780,database!$A$6:$BFQ$206,3,FALSE)),\"\",VLOOKUP(B4780,database!$A$6:$BFQ$206,3,FALSE)))","v":""},null,null,null,null,null,null,""]
["",null,{"$f":"IF(B4782=\"\",\"\",IF(ISERROR(VLOOKUP(B4782,database!$A$6:$BFQ$206,4,FALSE)),\"\",VLOOKUP(B4782,database!$A$6:$BFQ$206,4,FALSE)))","v":""},null,null,null,"",null,null,null,{"$f":"IF(B4782=\"\",\"\",IF(ISERROR(VLOOKUP(B4782,database!$A$6:$BFQ$206,3,FALSE)),\"\",VLOOKUP(B4782,database!$A$6:$BFQ$206,3,FALSE)))","v":""},null,null,null,null,null,null,""]
["",null,{"$f":"IF(B4783=\"\",\"\",IF(ISERROR(VLOOKUP(B4783,database!$A$6:$BFQ$206,4,FALSE)),\"\",VLOOKUP(B4783,database!$A$6:$BFQ$206,4,FALSE)))","v":""},null,null,null,"",null,null,null,{"$f":"IF(B4783=\"\",\"\",IF(ISERROR(VLOOKUP(B4783,database!$A$6:$BFQ$206,3,FALSE)),\"\",VLOOKUP(B4783,database!$A$6:$BFQ$206,3,FALSE)))","v":""},null,null,null,null,null,null,""]
["",null,{"$f":"IF(B4786=\"\",\"\",IF(ISERROR(VLOOKUP(B4786,database!$A$6:$BFQ$206,4,FALSE)),\"\",VLOOKUP(B4786,database!$A$6:$BFQ$206,4,FALSE)))","v":""},null,null,null,"",null,null,null,{"$f":"IF(B4786=\"\",\"\",IF(ISERROR(VLOOKUP(B4786,database!$A$6:$BFQ$206,3,FALSE)),\"\",VLOOKUP(B4786,database!$A$6:$BFQ$206,3,FALSE)))","v":""},null,null,null,null,null,null,""]
["",null,{"$f":"IF(B4787=\"\",\"\",IF(ISERROR(VLOOKUP(B4787,database!$A$6:$BFQ$206,4,FALSE)),\"\",VLOOKUP(B4787,database!$A$6:$BFQ$206,4,FALSE)))","v":""},null,null,null,"",null,null,null,{"$f":"IF(B4787=\"\",\"\",IF(ISERROR(VLOOKUP(B4787,database!$A$6:$BFQ$206,3,FALSE)),\"\",VLOOKUP(B4787,database!$A$6:$BFQ$206,3,FALSE)))","v":""},null,null,null,null,null,null,""]
["",null,{"$f":"IF(B4789=\"\",\"\",IF(ISERROR(VLOOKUP(B4789,database!$A$6:$BFQ$206,4,FALSE)),\"\",VLOOKUP(B4789,database!$A$6:$BFQ$206,4,FALSE)))","v":""},null,null,null,"",null,null,null,{"$f":"IF(B4789=\"\",\"\",IF(ISERROR(VLOOKUP(B4789,database!$A$6:$BFQ$206,3,FALSE)),\"\",VLOOKUP(B4789,database!$A$6:$BFQ$206,3,FALSE)))","v":""},null,null,null,null,null,null,""]
["",null,{"$f":"IF(B4790=\"\",\"\",IF(ISERROR(VLOOKUP(B4790,database!$A$6:$BFQ$206,4,FALSE)),\"\",VLOOKUP(B4790,database!$A$6:$BFQ$206,4,FALSE)))","v":""},null,null,null,"",null,null,null,{"$f":"IF(B4790=\"\",\"\",IF(ISERROR(VLOOKUP(B4790,database!$A$6:$BFQ$206,3,FALSE)),\"\",VLOOKUP(B4790,database!$A$6:$BFQ$206,3,FALSE)))","v":""},null,null,null,null,null,null,""]
["",null,{"$f":"IF(B4793=\"\",\"\",IF(ISERROR(VLOOKUP(B4793,database!$A$6:$BFQ$206,4,FALSE)),\"\",VLOOKUP(B4793,database!$A$6:$BFQ$206,4,FALSE)))","v":""},null,null,null,"",null,null,null,{"$f":"IF(B4793=\"\",\"\",IF(ISERROR(VLOOKUP(B4793,database!$A$6:$BFQ$206,3,FALSE)),\"\",VLOOKUP(B4793,database!$A$6:$BFQ$206,3,FALSE)))","v":""},null,null,null,null,null,null,""]
["",null,{"$f":"IF(B4794=\"\",\"\",IF(ISERROR(VLOOKUP(B4794,database!$A$6:$BFQ$206,4,FALSE)),\"\",VLOOKUP(B4794,database!$A$6:$BFQ$206,4,FALSE)))","v":""},null,null,null,"",null,null,null,{"$f":"IF(B4794=\"\",\"\",IF(ISERROR(VLOOKUP(B4794,database!$A$6:$BFQ$206,3,FALSE)),\"\",VLOOKUP(B4794,database!$A$6:$BFQ$206,3,FALSE)))","v":""},null,null,null,null,null,null,""]
["",null,{"$f":"IF(B4796=\"\",\"\",IF(ISERROR(VLOOKUP(B4796,database!$A$6:$BFQ$206,4,FALSE)),\"\",VLOOKUP(B4796,database!$A$6:$BFQ$206,4,FALSE)))","v":""},null,null,null,"",null,null,null,{"$f":"IF(B4796=\"\",\"\",IF(ISERROR(VLOOKUP(B4796,database!$A$6:$BFQ$206,3,FALSE)),\"\",VLOOKUP(B4796,database!$A$6:$BFQ$206,3,FALSE)))","v":""},null,null,null,null,null,null,""]
["",null,{"$f":"IF(B4797=\"\",\"\",IF(ISERROR(VLOOKUP(B4797,database!$A$6:$BFQ$206,4,FALSE)),\"\",VLOOKUP(B4797,database!$A$6:$BFQ$206,4,FALSE)))","v":""},null,null,null,"",null,null,null,{"$f":"IF(B4797=\"\",\"\",IF(ISERROR(VLOOKUP(B4797,database!$A$6:$BFQ$206,3,FALSE)),\"\",VLOOKUP(B4797,database!$A$6:$BFQ$206,3,FALSE)))","v":""},null,null,null,null,null,null,""]
["",null,{"$f":"IF(B4800=\"\",\"\",IF(ISERROR(VLOOKUP(B4800,database!$A$6:$BFQ$206,4,FALSE)),\"\",VLOOKUP(B4800,database!$A$6:$BFQ$206,4,FALSE)))","v":""},null,null,null,"",null,null,null,{"$f":"IF(B4800=\"\",\"\",IF(ISERROR(VLOOKUP(B4800,database!$A$6:$BFQ$206,3,FALSE)),\"\",VLOOKUP(B4800,database!$A$6:$BFQ$206,3,FALSE)))","v":""},null,null,null,null,null,null,""]
[{"$f":"IF(B4801=\"\",\"\",ROW(A4798))","v":""},null,{"$f":"IF(B4801=\"\",\"\",IF(ISERROR(VLOOKUP(B4801,database!$A$6:$BFQ$206,4,FALSE)),\"\",VLOOKUP(B4801,database!$A$6:$BFQ$206,4,FALSE)))","v":""},null,null,null,{"$f":"IF(B4801=\"\",\"\",IF(C4801=\"\",0,1))","v":""},null,null,null,{"$f":"IF(B4801=\"\",\"\",IF(ISERROR(VLOOKUP(B4801,database!$A$6:$BFQ$206,3,FALSE)),\"\",VLOOKUP(B4801,database!$A$6:$BFQ$206,3,FALSE)))","v":""},null,null,null,null,null,null,{"$f":"LEFT(C4801,2)","v":""}]
["",null,{"$f":"IF(B4804=\"\",\"\",IF(ISERROR(VLOOKUP(B4804,database!$A$6:$BFQ$206,4,FALSE)),\"\",VLOOKUP(B4804,database!$A$6:$BFQ$206,4,FALSE)))","v":""},null,null,null,"",null,null,null,{"$f":"IF(B4804=\"\",\"\",IF(ISERROR(VLOOKUP(B4804,database!$A$6:$BFQ$206,3,FALSE)),\"\",VLOOKUP(B4804,database!$A$6:$BFQ$206,3,FALSE)))","v":""},null,null,null,null,null,null,""]
["",null,{"$f":"IF(B4805=\"\",\"\",IF(ISERROR(VLOOKUP(B4805,database!$A$6:$BFQ$206,4,FALSE)),\"\",VLOOKUP(B4805,database!$A$6:$BFQ$206,4,FALSE)))","v":""},null,null,null,"",null,null,null,{"$f":"IF(B4805=\"\",\"\",IF(ISERROR(VLOOKUP(B4805,database!$A$6:$BFQ$206,3,FALSE)),\"\",VLOOKUP(B4805,database!$A$6:$BFQ$206,3,FALSE)))","v":""},null,null,null,null,null,null,""]
["",null,{"$f":"IF(B4807=\"\",\"\",IF(ISERROR(VLOOKUP(B4807,database!$A$6:$BFQ$206,4,FALSE)),\"\",VLOOKUP(B4807,database!$A$6:$BFQ$206,4,FALSE)))","v":""},null,null,null,"",null,null,null,{"$f":"IF(B4807=\"\",\"\",IF(ISERROR(VLOOKUP(B4807,database!$A$6:$BFQ$206,3,FALSE)),\"\",VLOOKUP(B4807,database!$A$6:$BFQ$206,3,FALSE)))","v":""},null,null,null,null,null,null,""]
["",null,{"$f":"IF(B4808=\"\",\"\",IF(ISERROR(VLOOKUP(B4808,database!$A$6:$BFQ$206,4,FALSE)),\"\",VLOOKUP(B4808,database!$A$6:$BFQ$206,4,FALSE)))","v":""},null,null,null,"",null,null,null,{"$f":"IF(B4808=\"\",\"\",IF(ISERROR(VLOOKUP(B4808,database!$A$6:$BFQ$206,3,FALSE)),\"\",VLOOKUP(B4808,database!$A$6:$BFQ$206,3,FALSE)))","v":""},null,null,null,null,null,null,""]
["",null,{"$f":"IF(B4811=\"\",\"\",IF(ISERROR(VLOOKUP(B4811,database!$A$6:$BFQ$206,4,FALSE)),\"\",VLOOKUP(B4811,database!$A$6:$BFQ$206,4,FALSE)))","v":""},null,null,null,"",null,null,null,{"$f":"IF(B4811=\"\",\"\",IF(ISERROR(VLOOKUP(B4811,database!$A$6:$BFQ$206,3,FALSE)),\"\",VLOOKUP(B4811,database!$A$6:$BFQ$206,3,FALSE)))","v":""},null,null,null,null,null,null,""]
["",null,{"$f":"IF(B4812=\"\",\"\",IF(ISERROR(VLOOKUP(B4812,database!$A$6:$BFQ$206,4,FALSE)),\"\",VLOOKUP(B4812,database!$A$6:$BFQ$206,4,FALSE)))","v":""},null,null,null,"",null,null,null,{"$f":"IF(B4812=\"\",\"\",IF(ISERROR(VLOOKUP(B4812,database!$A$6:$BFQ$206,3,FALSE)),\"\",VLOOKUP(B4812,database!$A$6:$BFQ$206,3,FALSE)))","v":""},null,null,null,null,null,null,""]
["",null,{"$f":"IF(B4814=\"\",\"\",IF(ISERROR(VLOOKUP(B4814,database!$A$6:$BFQ$206,4,FALSE)),\"\",VLOOKUP(B4814,database!$A$6:$BFQ$206,4,FALSE)))","v":""},null,null,null,"",null,null,null,{"$f":"IF(B4814=\"\",\"\",IF(ISERROR(VLOOKUP(B4814,database!$A$6:$BFQ$206,3,FALSE)),\"\",VLOOKUP(B4814,database!$A$6:$BFQ$206,3,FALSE)))","v":""},null,null,null,null,null,null,""]
["",null,{"$f":"IF(B4815=\"\",\"\",IF(ISERROR(VLOOKUP(B4815,database!$A$6:$BFQ$206,4,FALSE)),\"\",VLOOKUP(B4815,database!$A$6:$BFQ$206,4,FALSE)))","v":""},null,null,null,"",null,null,null,{"$f":"IF(B4815=\"\",\"\",IF(ISERROR(VLOOKUP(B4815,database!$A$6:$BFQ$206,3,FALSE)),\"\",VLOOKUP(B4815,database!$A$6:$BFQ$206,3,FALSE)))","v":""},null,null,null,null,null,null,""]
["",null,{"$f":"IF(B4818=\"\",\"\",IF(ISERROR(VLOOKUP(B4818,database!$A$6:$BFQ$206,4,FALSE)),\"\",VLOOKUP(B4818,database!$A$6:$BFQ$206,4,FALSE)))","v":""},null,null,null,"",null,null,null,{"$f":"IF(B4818=\"\",\"\",IF(ISERROR(VLOOKUP(B4818,database!$A$6:$BFQ$206,3,FALSE)),\"\",VLOOKUP(B4818,database!$A$6:$BFQ$206,3,FALSE)))","v":""},null,null,null,null,null,null,""]
["",null,{"$f":"IF(B4819=\"\",\"\",IF(ISERROR(VLOOKUP(B4819,database!$A$6:$BFQ$206,4,FALSE)),\"\",VLOOKUP(B4819,database!$A$6:$BFQ$206,4,FALSE)))","v":""},null,null,null,"",null,null,null,{"$f":"IF(B4819=\"\",\"\",IF(ISERROR(VLOOKUP(B4819,database!$A$6:$BFQ$206,3,FALSE)),\"\",VLOOKUP(B4819,database!$A$6:$BFQ$206,3,FALSE)))","v":""},null,null,null,null,null,null,""]
["",null,{"$f":"IF(B4821=\"\",\"\",IF(ISERROR(VLOOKUP(B4821,database!$A$6:$BFQ$206,4,FALSE)),\"\",VLOOKUP(B4821,database!$A$6:$BFQ$206,4,FALSE)))","v":""},null,null,null,"",null,null,null,{"$f":"IF(B4821=\"\",\"\",IF(ISERROR(VLOOKUP(B4821,database!$A$6:$BFQ$206,3,FALSE)),\"\",VLOOKUP(B4821,database!$A$6:$BFQ$206,3,FALSE)))","v":""},null,null,null,null,null,null,""]
["",null,{"$f":"IF(B4822=\"\",\"\",IF(ISERROR(VLOOKUP(B4822,database!$A$6:$BFQ$206,4,FALSE)),\"\",VLOOKUP(B4822,database!$A$6:$BFQ$206,4,FALSE)))","v":""},null,null,null,"",null,null,null,{"$f":"IF(B4822=\"\",\"\",IF(ISERROR(VLOOKUP(B4822,database!$A$6:$BFQ$206,3,FALSE)),\"\",VLOOKUP(B4822,database!$A$6:$BFQ$206,3,FALSE)))","v":""},null,null,null,null,null,null,""]
["",null,{"$f":"IF(B4825=\"\",\"\",IF(ISERROR(VLOOKUP(B4825,database!$A$6:$BFQ$206,4,FALSE)),\"\",VLOOKUP(B4825,database!$A$6:$BFQ$206,4,FALSE)))","v":""},null,null,null,"",null,null,null,{"$f":"IF(B4825=\"\",\"\",IF(ISERROR(VLOOKUP(B4825,database!$A$6:$BFQ$206,3,FALSE)),\"\",VLOOKUP(B4825,database!$A$6:$BFQ$206,3,FALSE)))","v":""},null,null,null,null,null,null,""]
["",null,{"$f":"IF(B4826=\"\",\"\",IF(ISERROR(VLOOKUP(B4826,database!$A$6:$BFQ$206,4,FALSE)),\"\",VLOOKUP(B4826,database!$A$6:$BFQ$206,4,FALSE)))","v":""},null,null,null,"",null,null,null,{"$f":"IF(B4826=\"\",\"\",IF(ISERROR(VLOOKUP(B4826,database!$A$6:$BFQ$206,3,FALSE)),\"\",VLOOKUP(B4826,database!$A$6:$BFQ$206,3,FALSE)))","v":""},null,null,null,null,null,null,""]
["",null,{"$f":"IF(B4828=\"\",\"\",IF(ISERROR(VLOOKUP(B4828,database!$A$6:$BFQ$206,4,FALSE)),\"\",VLOOKUP(B4828,database!$A$6:$BFQ$206,4,FALSE)))","v":""},null,null,null,"",null,null,null,{"$f":"IF(B4828=\"\",\"\",IF(ISERROR(VLOOKUP(B4828,database!$A$6:$BFQ$206,3,FALSE)),\"\",VLOOKUP(B4828,database!$A$6:$BFQ$206,3,FALSE)))","v":""},null,null,null,null,null,null,""]
["",null,{"$f":"IF(B4829=\"\",\"\",IF(ISERROR(VLOOKUP(B4829,database!$A$6:$BFQ$206,4,FALSE)),\"\",VLOOKUP(B4829,database!$A$6:$BFQ$206,4,FALSE)))","v":""},null,null,null,"",null,null,null,{"$f":"IF(B4829=\"\",\"\",IF(ISERROR(VLOOKUP(B4829,database!$A$6:$BFQ$206,3,FALSE)),\"\",VLOOKUP(B4829,database!$A$6:$BFQ$206,3,FALSE)))","v":""},null,null,null,null,null,null,""]
["",null,{"$f":"IF(B4832=\"\",\"\",IF(ISERROR(VLOOKUP(B4832,database!$A$6:$BFQ$206,4,FALSE)),\"\",VLOOKUP(B4832,database!$A$6:$BFQ$206,4,FALSE)))","v":""},null,null,null,"",null,null,null,{"$f":"IF(B4832=\"\",\"\",IF(ISERROR(VLOOKUP(B4832,database!$A$6:$BFQ$206,3,FALSE)),\"\",VLOOKUP(B4832,database!$A$6:$BFQ$206,3,FALSE)))","v":""},null,null,null,null,null,null,""]
["",null,{"$f":"IF(B4833=\"\",\"\",IF(ISERROR(VLOOKUP(B4833,database!$A$6:$BFQ$206,4,FALSE)),\"\",VLOOKUP(B4833,database!$A$6:$BFQ$206,4,FALSE)))","v":""},null,null,null,"",null,null,null,{"$f":"IF(B4833=\"\",\"\",IF(ISERROR(VLOOKUP(B4833,database!$A$6:$BFQ$206,3,FALSE)),\"\",VLOOKUP(B4833,database!$A$6:$BFQ$206,3,FALSE)))","v":""},null,null,null,null,null,null,""]
["",null,{"$f":"IF(B4835=\"\",\"\",IF(ISERROR(VLOOKUP(B4835,database!$A$6:$BFQ$206,4,FALSE)),\"\",VLOOKUP(B4835,database!$A$6:$BFQ$206,4,FALSE)))","v":""},null,null,null,"",null,null,null,{"$f":"IF(B4835=\"\",\"\",IF(ISERROR(VLOOKUP(B4835,database!$A$6:$BFQ$206,3,FALSE)),\"\",VLOOKUP(B4835,database!$A$6:$BFQ$206,3,FALSE)))","v":""},null,null,null,null,null,null,""]
["",null,{"$f":"IF(B4836=\"\",\"\",IF(ISERROR(VLOOKUP(B4836,database!$A$6:$BFQ$206,4,FALSE)),\"\",VLOOKUP(B4836,database!$A$6:$BFQ$206,4,FALSE)))","v":""},null,null,null,"",null,null,null,{"$f":"IF(B4836=\"\",\"\",IF(ISERROR(VLOOKUP(B4836,database!$A$6:$BFQ$206,3,FALSE)),\"\",VLOOKUP(B4836,database!$A$6:$BFQ$206,3,FALSE)))","v":""},null,null,null,null,null,null,""]
["",null,{"$f":"IF(B4839=\"\",\"\",IF(ISERROR(VLOOKUP(B4839,database!$A$6:$BFQ$206,4,FALSE)),\"\",VLOOKUP(B4839,database!$A$6:$BFQ$206,4,FALSE)))","v":""},null,null,null,"",null,null,null,{"$f":"IF(B4839=\"\",\"\",IF(ISERROR(VLOOKUP(B4839,database!$A$6:$BFQ$206,3,FALSE)),\"\",VLOOKUP(B4839,database!$A$6:$BFQ$206,3,FALSE)))","v":""},null,null,null,null,null,null,""]
["",null,{"$f":"IF(B4840=\"\",\"\",IF(ISERROR(VLOOKUP(B4840,database!$A$6:$BFQ$206,4,FALSE)),\"\",VLOOKUP(B4840,database!$A$6:$BFQ$206,4,FALSE)))","v":""},null,null,null,"",null,null,null,{"$f":"IF(B4840=\"\",\"\",IF(ISERROR(VLOOKUP(B4840,database!$A$6:$BFQ$206,3,FALSE)),\"\",VLOOKUP(B4840,database!$A$6:$BFQ$206,3,FALSE)))","v":""},null,null,null,null,null,null,""]
["",null,{"$f":"IF(B4842=\"\",\"\",IF(ISERROR(VLOOKUP(B4842,database!$A$6:$BFQ$206,4,FALSE)),\"\",VLOOKUP(B4842,database!$A$6:$BFQ$206,4,FALSE)))","v":""},null,null,null,"",null,null,null,{"$f":"IF(B4842=\"\",\"\",IF(ISERROR(VLOOKUP(B4842,database!$A$6:$BFQ$206,3,FALSE)),\"\",VLOOKUP(B4842,database!$A$6:$BFQ$206,3,FALSE)))","v":""},null,null,null,null,null,null,""]
["",null,{"$f":"IF(B4843=\"\",\"\",IF(ISERROR(VLOOKUP(B4843,database!$A$6:$BFQ$206,4,FALSE)),\"\",VLOOKUP(B4843,database!$A$6:$BFQ$206,4,FALSE)))","v":""},null,null,null,"",null,null,null,{"$f":"IF(B4843=\"\",\"\",IF(ISERROR(VLOOKUP(B4843,database!$A$6:$BFQ$206,3,FALSE)),\"\",VLOOKUP(B4843,database!$A$6:$BFQ$206,3,FALSE)))","v":""},null,null,null,null,null,null,""]
["",null,{"$f":"IF(B4846=\"\",\"\",IF(ISERROR(VLOOKUP(B4846,database!$A$6:$BFQ$206,4,FALSE)),\"\",VLOOKUP(B4846,database!$A$6:$BFQ$206,4,FALSE)))","v":""},null,null,null,"",null,null,null,{"$f":"IF(B4846=\"\",\"\",IF(ISERROR(VLOOKUP(B4846,database!$A$6:$BFQ$206,3,FALSE)),\"\",VLOOKUP(B4846,database!$A$6:$BFQ$206,3,FALSE)))","v":""},null,null,null,null,null,null,""]
["",null,{"$f":"IF(B4847=\"\",\"\",IF(ISERROR(VLOOKUP(B4847,database!$A$6:$BFQ$206,4,FALSE)),\"\",VLOOKUP(B4847,database!$A$6:$BFQ$206,4,FALSE)))","v":""},null,null,null,"",null,null,null,{"$f":"IF(B4847=\"\",\"\",IF(ISERROR(VLOOKUP(B4847,database!$A$6:$BFQ$206,3,FALSE)),\"\",VLOOKUP(B4847,database!$A$6:$BFQ$206,3,FALSE)))","v":""},null,null,null,null,null,null,""]
["",null,{"$f":"IF(B4849=\"\",\"\",IF(ISERROR(VLOOKUP(B4849,database!$A$6:$BFQ$206,4,FALSE)),\"\",VLOOKUP(B4849,database!$A$6:$BFQ$206,4,FALSE)))","v":""},null,null,null,"",null,null,null,{"$f":"IF(B4849=\"\",\"\",IF(ISERROR(VLOOKUP(B4849,database!$A$6:$BFQ$206,3,FALSE)),\"\",VLOOKUP(B4849,database!$A$6:$BFQ$206,3,FALSE)))","v":""},null,null,null,null,null,null,""]
["",null,{"$f":"IF(B4850=\"\",\"\",IF(ISERROR(VLOOKUP(B4850,database!$A$6:$BFQ$206,4,FALSE)),\"\",VLOOKUP(B4850,database!$A$6:$BFQ$206,4,FALSE)))","v":""},null,null,null,"",null,null,null,{"$f":"IF(B4850=\"\",\"\",IF(ISERROR(VLOOKUP(B4850,database!$A$6:$BFQ$206,3,FALSE)),\"\",VLOOKUP(B4850,database!$A$6:$BFQ$206,3,FALSE)))","v":""},null,null,null,null,null,null,""]
["",null,{"$f":"IF(B4853=\"\",\"\",IF(ISERROR(VLOOKUP(B4853,database!$A$6:$BFQ$206,4,FALSE)),\"\",VLOOKUP(B4853,database!$A$6:$BFQ$206,4,FALSE)))","v":""},null,null,null,"",null,null,null,{"$f":"IF(B4853=\"\",\"\",IF(ISERROR(VLOOKUP(B4853,database!$A$6:$BFQ$206,3,FALSE)),\"\",VLOOKUP(B4853,database!$A$6:$BFQ$206,3,FALSE)))","v":""},null,null,null,null,null,null,""]
["",null,{"$f":"IF(B4854=\"\",\"\",IF(ISERROR(VLOOKUP(B4854,database!$A$6:$BFQ$206,4,FALSE)),\"\",VLOOKUP(B4854,database!$A$6:$BFQ$206,4,FALSE)))","v":""},null,null,null,"",null,null,null,{"$f":"IF(B4854=\"\",\"\",IF(ISERROR(VLOOKUP(B4854,database!$A$6:$BFQ$206,3,FALSE)),\"\",VLOOKUP(B4854,database!$A$6:$BFQ$206,3,FALSE)))","v":""},null,null,null,null,null,null,""]
["",null,{"$f":"IF(B4856=\"\",\"\",IF(ISERROR(VLOOKUP(B4856,database!$A$6:$BFQ$206,4,FALSE)),\"\",VLOOKUP(B4856,database!$A$6:$BFQ$206,4,FALSE)))","v":""},null,null,null,"",null,null,null,{"$f":"IF(B4856=\"\",\"\",IF(ISERROR(VLOOKUP(B4856,database!$A$6:$BFQ$206,3,FALSE)),\"\",VLOOKUP(B4856,database!$A$6:$BFQ$206,3,FALSE)))","v":""},null,null,null,null,null,null,""]
["",null,{"$f":"IF(B4857=\"\",\"\",IF(ISERROR(VLOOKUP(B4857,database!$A$6:$BFQ$206,4,FALSE)),\"\",VLOOKUP(B4857,database!$A$6:$BFQ$206,4,FALSE)))","v":""},null,null,null,"",null,null,null,{"$f":"IF(B4857=\"\",\"\",IF(ISERROR(VLOOKUP(B4857,database!$A$6:$BFQ$206,3,FALSE)),\"\",VLOOKUP(B4857,database!$A$6:$BFQ$206,3,FALSE)))","v":""},null,null,null,null,null,null,""]
["",null,{"$f":"IF(B4860=\"\",\"\",IF(ISERROR(VLOOKUP(B4860,database!$A$6:$BFQ$206,4,FALSE)),\"\",VLOOKUP(B4860,database!$A$6:$BFQ$206,4,FALSE)))","v":""},null,null,null,"",null,null,null,{"$f":"IF(B4860=\"\",\"\",IF(ISERROR(VLOOKUP(B4860,database!$A$6:$BFQ$206,3,FALSE)),\"\",VLOOKUP(B4860,database!$A$6:$BFQ$206,3,FALSE)))","v":""},null,null,null,null,null,null,""]
["",null,{"$f":"IF(B4861=\"\",\"\",IF(ISERROR(VLOOKUP(B4861,database!$A$6:$BFQ$206,4,FALSE)),\"\",VLOOKUP(B4861,database!$A$6:$BFQ$206,4,FALSE)))","v":""},null,null,null,"",null,null,null,{"$f":"IF(B4861=\"\",\"\",IF(ISERROR(VLOOKUP(B4861,database!$A$6:$BFQ$206,3,FALSE)),\"\",VLOOKUP(B4861,database!$A$6:$BFQ$206,3,FALSE)))","v":""},null,null,null,null,null,null,""]
["",null,{"$f":"IF(B4863=\"\",\"\",IF(ISERROR(VLOOKUP(B4863,database!$A$6:$BFQ$206,4,FALSE)),\"\",VLOOKUP(B4863,database!$A$6:$BFQ$206,4,FALSE)))","v":""},null,null,null,"",null,null,null,{"$f":"IF(B4863=\"\",\"\",IF(ISERROR(VLOOKUP(B4863,database!$A$6:$BFQ$206,3,FALSE)),\"\",VLOOKUP(B4863,database!$A$6:$BFQ$206,3,FALSE)))","v":""},null,null,null,null,null,null,""]
["",null,{"$f":"IF(B4864=\"\",\"\",IF(ISERROR(VLOOKUP(B4864,database!$A$6:$BFQ$206,4,FALSE)),\"\",VLOOKUP(B4864,database!$A$6:$BFQ$206,4,FALSE)))","v":""},null,null,null,"",null,null,null,{"$f":"IF(B4864=\"\",\"\",IF(ISERROR(VLOOKUP(B4864,database!$A$6:$BFQ$206,3,FALSE)),\"\",VLOOKUP(B4864,database!$A$6:$BFQ$206,3,FALSE)))","v":""},null,null,null,null,null,null,""]
["",null,{"$f":"IF(B4867=\"\",\"\",IF(ISERROR(VLOOKUP(B4867,database!$A$6:$BFQ$206,4,FALSE)),\"\",VLOOKUP(B4867,database!$A$6:$BFQ$206,4,FALSE)))","v":""},null,null,null,"",null,null,null,{"$f":"IF(B4867=\"\",\"\",IF(ISERROR(VLOOKUP(B4867,database!$A$6:$BFQ$206,3,FALSE)),\"\",VLOOKUP(B4867,database!$A$6:$BFQ$206,3,FALSE)))","v":""},null,null,null,null,null,null,""]
["",null,{"$f":"IF(B4868=\"\",\"\",IF(ISERROR(VLOOKUP(B4868,database!$A$6:$BFQ$206,4,FALSE)),\"\",VLOOKUP(B4868,database!$A$6:$BFQ$206,4,FALSE)))","v":""},null,null,null,"",null,null,null,{"$f":"IF(B4868=\"\",\"\",IF(ISERROR(VLOOKUP(B4868,database!$A$6:$BFQ$206,3,FALSE)),\"\",VLOOKUP(B4868,database!$A$6:$BFQ$206,3,FALSE)))","v":""},null,null,null,null,null,null,""]
["",null,{"$f":"IF(B4870=\"\",\"\",IF(ISERROR(VLOOKUP(B4870,database!$A$6:$BFQ$206,4,FALSE)),\"\",VLOOKUP(B4870,database!$A$6:$BFQ$206,4,FALSE)))","v":""},null,null,null,"",null,null,null,{"$f":"IF(B4870=\"\",\"\",IF(ISERROR(VLOOKUP(B4870,database!$A$6:$BFQ$206,3,FALSE)),\"\",VLOOKUP(B4870,database!$A$6:$BFQ$206,3,FALSE)))","v":""},null,null,null,null,null,null,""]
["",null,{"$f":"IF(B4871=\"\",\"\",IF(ISERROR(VLOOKUP(B4871,database!$A$6:$BFQ$206,4,FALSE)),\"\",VLOOKUP(B4871,database!$A$6:$BFQ$206,4,FALSE)))","v":""},null,null,null,"",null,null,null,{"$f":"IF(B4871=\"\",\"\",IF(ISERROR(VLOOKUP(B4871,database!$A$6:$BFQ$206,3,FALSE)),\"\",VLOOKUP(B4871,database!$A$6:$BFQ$206,3,FALSE)))","v":""},null,null,null,null,null,null,""]
["",null,{"$f":"IF(B4874=\"\",\"\",IF(ISERROR(VLOOKUP(B4874,database!$A$6:$BFQ$206,4,FALSE)),\"\",VLOOKUP(B4874,database!$A$6:$BFQ$206,4,FALSE)))","v":""},null,null,null,"",null,null,null,{"$f":"IF(B4874=\"\",\"\",IF(ISERROR(VLOOKUP(B4874,database!$A$6:$BFQ$206,3,FALSE)),\"\",VLOOKUP(B4874,database!$A$6:$BFQ$206,3,FALSE)))","v":""},null,null,null,null,null,null,""]
["",null,{"$f":"IF(B4875=\"\",\"\",IF(ISERROR(VLOOKUP(B4875,database!$A$6:$BFQ$206,4,FALSE)),\"\",VLOOKUP(B4875,database!$A$6:$BFQ$206,4,FALSE)))","v":""},null,null,null,"",null,null,null,{"$f":"IF(B4875=\"\",\"\",IF(ISERROR(VLOOKUP(B4875,database!$A$6:$BFQ$206,3,FALSE)),\"\",VLOOKUP(B4875,database!$A$6:$BFQ$206,3,FALSE)))","v":""},null,null,null,null,null,null,""]
["",null,{"$f":"IF(B4877=\"\",\"\",IF(ISERROR(VLOOKUP(B4877,database!$A$6:$BFQ$206,4,FALSE)),\"\",VLOOKUP(B4877,database!$A$6:$BFQ$206,4,FALSE)))","v":""},null,null,null,"",null,null,null,{"$f":"IF(B4877=\"\",\"\",IF(ISERROR(VLOOKUP(B4877,database!$A$6:$BFQ$206,3,FALSE)),\"\",VLOOKUP(B4877,database!$A$6:$BFQ$206,3,FALSE)))","v":""},null,null,null,null,null,null,""]
["",null,{"$f":"IF(B4878=\"\",\"\",IF(ISERROR(VLOOKUP(B4878,database!$A$6:$BFQ$206,4,FALSE)),\"\",VLOOKUP(B4878,database!$A$6:$BFQ$206,4,FALSE)))","v":""},null,null,null,"",null,null,null,{"$f":"IF(B4878=\"\",\"\",IF(ISERROR(VLOOKUP(B4878,database!$A$6:$BFQ$206,3,FALSE)),\"\",VLOOKUP(B4878,database!$A$6:$BFQ$206,3,FALSE)))","v":""},null,null,null,null,null,null,""]
["",null,{"$f":"IF(B4881=\"\",\"\",IF(ISERROR(VLOOKUP(B4881,database!$A$6:$BFQ$206,4,FALSE)),\"\",VLOOKUP(B4881,database!$A$6:$BFQ$206,4,FALSE)))","v":""},null,null,null,"",null,null,null,{"$f":"IF(B4881=\"\",\"\",IF(ISERROR(VLOOKUP(B4881,database!$A$6:$BFQ$206,3,FALSE)),\"\",VLOOKUP(B4881,database!$A$6:$BFQ$206,3,FALSE)))","v":""},null,null,null,null,null,null,""]
["",null,{"$f":"IF(B4882=\"\",\"\",IF(ISERROR(VLOOKUP(B4882,database!$A$6:$BFQ$206,4,FALSE)),\"\",VLOOKUP(B4882,database!$A$6:$BFQ$206,4,FALSE)))","v":""},null,null,null,"",null,null,null,{"$f":"IF(B4882=\"\",\"\",IF(ISERROR(VLOOKUP(B4882,database!$A$6:$BFQ$206,3,FALSE)),\"\",VLOOKUP(B4882,database!$A$6:$BFQ$206,3,FALSE)))","v":""},null,null,null,null,null,null,""]
["",null,{"$f":"IF(B4884=\"\",\"\",IF(ISERROR(VLOOKUP(B4884,database!$A$6:$BFQ$206,4,FALSE)),\"\",VLOOKUP(B4884,database!$A$6:$BFQ$206,4,FALSE)))","v":""},null,null,null,"",null,null,null,{"$f":"IF(B4884=\"\",\"\",IF(ISERROR(VLOOKUP(B4884,database!$A$6:$BFQ$206,3,FALSE)),\"\",VLOOKUP(B4884,database!$A$6:$BFQ$206,3,FALSE)))","v":""},null,null,null,null,null,null,""]
["",null,{"$f":"IF(B4885=\"\",\"\",IF(ISERROR(VLOOKUP(B4885,database!$A$6:$BFQ$206,4,FALSE)),\"\",VLOOKUP(B4885,database!$A$6:$BFQ$206,4,FALSE)))","v":""},null,null,null,"",null,null,null,{"$f":"IF(B4885=\"\",\"\",IF(ISERROR(VLOOKUP(B4885,database!$A$6:$BFQ$206,3,FALSE)),\"\",VLOOKUP(B4885,database!$A$6:$BFQ$206,3,FALSE)))","v":""},null,null,null,null,null,null,""]
["",null,{"$f":"IF(B4888=\"\",\"\",IF(ISERROR(VLOOKUP(B4888,database!$A$6:$BFQ$206,4,FALSE)),\"\",VLOOKUP(B4888,database!$A$6:$BFQ$206,4,FALSE)))","v":""},null,null,null,"",null,null,null,{"$f":"IF(B4888=\"\",\"\",IF(ISERROR(VLOOKUP(B4888,database!$A$6:$BFQ$206,3,FALSE)),\"\",VLOOKUP(B4888,database!$A$6:$BFQ$206,3,FALSE)))","v":""},null,null,null,null,null,null,""]
["",null,{"$f":"IF(B4889=\"\",\"\",IF(ISERROR(VLOOKUP(B4889,database!$A$6:$BFQ$206,4,FALSE)),\"\",VLOOKUP(B4889,database!$A$6:$BFQ$206,4,FALSE)))","v":""},null,null,null,"",null,null,null,{"$f":"IF(B4889=\"\",\"\",IF(ISERROR(VLOOKUP(B4889,database!$A$6:$BFQ$206,3,FALSE)),\"\",VLOOKUP(B4889,database!$A$6:$BFQ$206,3,FALSE)))","v":""},null,null,null,null,null,null,""]
["",null,{"$f":"IF(B4891=\"\",\"\",IF(ISERROR(VLOOKUP(B4891,database!$A$6:$BFQ$206,4,FALSE)),\"\",VLOOKUP(B4891,database!$A$6:$BFQ$206,4,FALSE)))","v":""},null,null,null,"",null,null,null,{"$f":"IF(B4891=\"\",\"\",IF(ISERROR(VLOOKUP(B4891,database!$A$6:$BFQ$206,3,FALSE)),\"\",VLOOKUP(B4891,database!$A$6:$BFQ$206,3,FALSE)))","v":""},null,null,null,null,null,null,""]
["",null,{"$f":"IF(B4892=\"\",\"\",IF(ISERROR(VLOOKUP(B4892,database!$A$6:$BFQ$206,4,FALSE)),\"\",VLOOKUP(B4892,database!$A$6:$BFQ$206,4,FALSE)))","v":""},null,null,null,"",null,null,null,{"$f":"IF(B4892=\"\",\"\",IF(ISERROR(VLOOKUP(B4892,database!$A$6:$BFQ$206,3,FALSE)),\"\",VLOOKUP(B4892,database!$A$6:$BFQ$206,3,FALSE)))","v":""},null,null,null,null,null,null,""]
["",null,{"$f":"IF(B4895=\"\",\"\",IF(ISERROR(VLOOKUP(B4895,database!$A$6:$BFQ$206,4,FALSE)),\"\",VLOOKUP(B4895,database!$A$6:$BFQ$206,4,FALSE)))","v":""},null,null,null,"",null,null,null,{"$f":"IF(B4895=\"\",\"\",IF(ISERROR(VLOOKUP(B4895,database!$A$6:$BFQ$206,3,FALSE)),\"\",VLOOKUP(B4895,database!$A$6:$BFQ$206,3,FALSE)))","v":""},null,null,null,null,null,null,""]
["",null,{"$f":"IF(B4896=\"\",\"\",IF(ISERROR(VLOOKUP(B4896,database!$A$6:$BFQ$206,4,FALSE)),\"\",VLOOKUP(B4896,database!$A$6:$BFQ$206,4,FALSE)))","v":""},null,null,null,"",null,null,null,{"$f":"IF(B4896=\"\",\"\",IF(ISERROR(VLOOKUP(B4896,database!$A$6:$BFQ$206,3,FALSE)),\"\",VLOOKUP(B4896,database!$A$6:$BFQ$206,3,FALSE)))","v":""},null,null,null,null,null,null,""]
["",null,{"$f":"IF(B4898=\"\",\"\",IF(ISERROR(VLOOKUP(B4898,database!$A$6:$BFQ$206,4,FALSE)),\"\",VLOOKUP(B4898,database!$A$6:$BFQ$206,4,FALSE)))","v":""},null,null,null,"",null,null,null,{"$f":"IF(B4898=\"\",\"\",IF(ISERROR(VLOOKUP(B4898,database!$A$6:$BFQ$206,3,FALSE)),\"\",VLOOKUP(B4898,database!$A$6:$BFQ$206,3,FALSE)))","v":""},null,null,null,null,null,null,""]
["",null,{"$f":"IF(B4899=\"\",\"\",IF(ISERROR(VLOOKUP(B4899,database!$A$6:$BFQ$206,4,FALSE)),\"\",VLOOKUP(B4899,database!$A$6:$BFQ$206,4,FALSE)))","v":""},null,null,null,"",null,null,null,{"$f":"IF(B4899=\"\",\"\",IF(ISERROR(VLOOKUP(B4899,database!$A$6:$BFQ$206,3,FALSE)),\"\",VLOOKUP(B4899,database!$A$6:$BFQ$206,3,FALSE)))","v":""},null,null,null,null,null,null,""]
["",null,{"$f":"IF(B4902=\"\",\"\",IF(ISERROR(VLOOKUP(B4902,database!$A$6:$BFQ$206,4,FALSE)),\"\",VLOOKUP(B4902,database!$A$6:$BFQ$206,4,FALSE)))","v":""},null,null,null,"",null,null,null,{"$f":"IF(B4902=\"\",\"\",IF(ISERROR(VLOOKUP(B4902,database!$A$6:$BFQ$206,3,FALSE)),\"\",VLOOKUP(B4902,database!$A$6:$BFQ$206,3,FALSE)))","v":""},null,null,null,null,null,null,""]
["",null,{"$f":"IF(B4903=\"\",\"\",IF(ISERROR(VLOOKUP(B4903,database!$A$6:$BFQ$206,4,FALSE)),\"\",VLOOKUP(B4903,database!$A$6:$BFQ$206,4,FALSE)))","v":""},null,null,null,"",null,null,null,{"$f":"IF(B4903=\"\",\"\",IF(ISERROR(VLOOKUP(B4903,database!$A$6:$BFQ$206,3,FALSE)),\"\",VLOOKUP(B4903,database!$A$6:$BFQ$206,3,FALSE)))","v":""},null,null,null,null,null,null,""]
["",null,{"$f":"IF(B4905=\"\",\"\",IF(ISERROR(VLOOKUP(B4905,database!$A$6:$BFQ$206,4,FALSE)),\"\",VLOOKUP(B4905,database!$A$6:$BFQ$206,4,FALSE)))","v":""},null,null,null,"",null,null,null,{"$f":"IF(B4905=\"\",\"\",IF(ISERROR(VLOOKUP(B4905,database!$A$6:$BFQ$206,3,FALSE)),\"\",VLOOKUP(B4905,database!$A$6:$BFQ$206,3,FALSE)))","v":""},null,null,null,null,null,null,""]
["",null,{"$f":"IF(B4906=\"\",\"\",IF(ISERROR(VLOOKUP(B4906,database!$A$6:$BFQ$206,4,FALSE)),\"\",VLOOKUP(B4906,database!$A$6:$BFQ$206,4,FALSE)))","v":""},null,null,null,"",null,null,null,{"$f":"IF(B4906=\"\",\"\",IF(ISERROR(VLOOKUP(B4906,database!$A$6:$BFQ$206,3,FALSE)),\"\",VLOOKUP(B4906,database!$A$6:$BFQ$206,3,FALSE)))","v":""},null,null,null,null,null,null,""]
["",null,{"$f":"IF(B4909=\"\",\"\",IF(ISERROR(VLOOKUP(B4909,database!$A$6:$BFQ$206,4,FALSE)),\"\",VLOOKUP(B4909,database!$A$6:$BFQ$206,4,FALSE)))","v":""},null,null,null,"",null,null,null,{"$f":"IF(B4909=\"\",\"\",IF(ISERROR(VLOOKUP(B4909,database!$A$6:$BFQ$206,3,FALSE)),\"\",VLOOKUP(B4909,database!$A$6:$BFQ$206,3,FALSE)))","v":""},null,null,null,null,null,null,""]
["",null,{"$f":"IF(B4910=\"\",\"\",IF(ISERROR(VLOOKUP(B4910,database!$A$6:$BFQ$206,4,FALSE)),\"\",VLOOKUP(B4910,database!$A$6:$BFQ$206,4,FALSE)))","v":""},null,null,null,"",null,null,null,{"$f":"IF(B4910=\"\",\"\",IF(ISERROR(VLOOKUP(B4910,database!$A$6:$BFQ$206,3,FALSE)),\"\",VLOOKUP(B4910,database!$A$6:$BFQ$206,3,FALSE)))","v":""},null,null,null,null,null,null,""]
["",null,{"$f":"IF(B4913=\"\",\"\",IF(ISERROR(VLOOKUP(B4913,database!$A$6:$BFQ$206,4,FALSE)),\"\",VLOOKUP(B4913,database!$A$6:$BFQ$206,4,FALSE)))","v":""},null,null,null,"",null,null,null,{"$f":"IF(B4913=\"\",\"\",IF(ISERROR(VLOOKUP(B4913,database!$A$6:$BFQ$206,3,FALSE)),\"\",VLOOKUP(B4913,database!$A$6:$BFQ$206,3,FALSE)))","v":""},null,null,null,null,null,null,""]
["",null,{"$f":"IF(B4914=\"\",\"\",IF(ISERROR(VLOOKUP(B4914,database!$A$6:$BFQ$206,4,FALSE)),\"\",VLOOKUP(B4914,database!$A$6:$BFQ$206,4,FALSE)))","v":""},null,null,null,"",null,null,null,{"$f":"IF(B4914=\"\",\"\",IF(ISERROR(VLOOKUP(B4914,database!$A$6:$BFQ$206,3,FALSE)),\"\",VLOOKUP(B4914,database!$A$6:$BFQ$206,3,FALSE)))","v":""},null,null,null,null,null,null,""]
["",null,{"$f":"IF(B4916=\"\",\"\",IF(ISERROR(VLOOKUP(B4916,database!$A$6:$BFQ$206,4,FALSE)),\"\",VLOOKUP(B4916,database!$A$6:$BFQ$206,4,FALSE)))","v":""},null,null,null,"",null,null,null,{"$f":"IF(B4916=\"\",\"\",IF(ISERROR(VLOOKUP(B4916,database!$A$6:$BFQ$206,3,FALSE)),\"\",VLOOKUP(B4916,database!$A$6:$BFQ$206,3,FALSE)))","v":""},null,null,null,null,null,null,""]
["",null,{"$f":"IF(B4917=\"\",\"\",IF(ISERROR(VLOOKUP(B4917,database!$A$6:$BFQ$206,4,FALSE)),\"\",VLOOKUP(B4917,database!$A$6:$BFQ$206,4,FALSE)))","v":""},null,null,null,"",null,null,null,{"$f":"IF(B4917=\"\",\"\",IF(ISERROR(VLOOKUP(B4917,database!$A$6:$BFQ$206,3,FALSE)),\"\",VLOOKUP(B4917,database!$A$6:$BFQ$206,3,FALSE)))","v":""},null,null,null,null,null,null,""]
["",null,{"$f":"IF(B4920=\"\",\"\",IF(ISERROR(VLOOKUP(B4920,database!$A$6:$BFQ$206,4,FALSE)),\"\",VLOOKUP(B4920,database!$A$6:$BFQ$206,4,FALSE)))","v":""},null,null,null,"",null,null,null,{"$f":"IF(B4920=\"\",\"\",IF(ISERROR(VLOOKUP(B4920,database!$A$6:$BFQ$206,3,FALSE)),\"\",VLOOKUP(B4920,database!$A$6:$BFQ$206,3,FALSE)))","v":""},null,null,null,null,null,null,""]
["",null,{"$f":"IF(B4921=\"\",\"\",IF(ISERROR(VLOOKUP(B4921,database!$A$6:$BFQ$206,4,FALSE)),\"\",VLOOKUP(B4921,database!$A$6:$BFQ$206,4,FALSE)))","v":""},null,null,null,"",null,null,null,{"$f":"IF(B4921=\"\",\"\",IF(ISERROR(VLOOKUP(B4921,database!$A$6:$BFQ$206,3,FALSE)),\"\",VLOOKUP(B4921,database!$A$6:$BFQ$206,3,FALSE)))","v":""},null,null,null,null,null,null,""]
["",null,{"$f":"IF(B4923=\"\",\"\",IF(ISERROR(VLOOKUP(B4923,database!$A$6:$BFQ$206,4,FALSE)),\"\",VLOOKUP(B4923,database!$A$6:$BFQ$206,4,FALSE)))","v":""},null,null,null,"",null,null,null,{"$f":"IF(B4923=\"\",\"\",IF(ISERROR(VLOOKUP(B4923,database!$A$6:$BFQ$206,3,FALSE)),\"\",VLOOKUP(B4923,database!$A$6:$BFQ$206,3,FALSE)))","v":""},null,null,null,null,null,null,""]
["",null,{"$f":"IF(B4924=\"\",\"\",IF(ISERROR(VLOOKUP(B4924,database!$A$6:$BFQ$206,4,FALSE)),\"\",VLOOKUP(B4924,database!$A$6:$BFQ$206,4,FALSE)))","v":""},null,null,null,"",null,null,null,{"$f":"IF(B4924=\"\",\"\",IF(ISERROR(VLOOKUP(B4924,database!$A$6:$BFQ$206,3,FALSE)),\"\",VLOOKUP(B4924,database!$A$6:$BFQ$206,3,FALSE)))","v":""},null,null,null,null,null,null,""]
["",null,{"$f":"IF(B4927=\"\",\"\",IF(ISERROR(VLOOKUP(B4927,database!$A$6:$BFQ$206,4,FALSE)),\"\",VLOOKUP(B4927,database!$A$6:$BFQ$206,4,FALSE)))","v":""},null,null,null,"",null,null,null,{"$f":"IF(B4927=\"\",\"\",IF(ISERROR(VLOOKUP(B4927,database!$A$6:$BFQ$206,3,FALSE)),\"\",VLOOKUP(B4927,database!$A$6:$BFQ$206,3,FALSE)))","v":""},null,null,null,null,null,null,""]
["",null,{"$f":"IF(B4928=\"\",\"\",IF(ISERROR(VLOOKUP(B4928,database!$A$6:$BFQ$206,4,FALSE)),\"\",VLOOKUP(B4928,database!$A$6:$BFQ$206,4,FALSE)))","v":""},null,null,null,"",null,null,null,{"$f":"IF(B4928=\"\",\"\",IF(ISERROR(VLOOKUP(B4928,database!$A$6:$BFQ$206,3,FALSE)),\"\",VLOOKUP(B4928,database!$A$6:$BFQ$206,3,FALSE)))","v":""},null,null,null,null,null,null,""]
["",null,{"$f":"IF(B4930=\"\",\"\",IF(ISERROR(VLOOKUP(B4930,database!$A$6:$BFQ$206,4,FALSE)),\"\",VLOOKUP(B4930,database!$A$6:$BFQ$206,4,FALSE)))","v":""},null,null,null,"",null,null,null,{"$f":"IF(B4930=\"\",\"\",IF(ISERROR(VLOOKUP(B4930,database!$A$6:$BFQ$206,3,FALSE)),\"\",VLOOKUP(B4930,database!$A$6:$BFQ$206,3,FALSE)))","v":""},null,null,null,null,null,null,""]
["",null,{"$f":"IF(B4931=\"\",\"\",IF(ISERROR(VLOOKUP(B4931,database!$A$6:$BFQ$206,4,FALSE)),\"\",VLOOKUP(B4931,database!$A$6:$BFQ$206,4,FALSE)))","v":""},null,null,null,"",null,null,null,{"$f":"IF(B4931=\"\",\"\",IF(ISERROR(VLOOKUP(B4931,database!$A$6:$BFQ$206,3,FALSE)),\"\",VLOOKUP(B4931,database!$A$6:$BFQ$206,3,FALSE)))","v":""},null,null,null,null,null,null,""]
["",null,{"$f":"IF(B4934=\"\",\"\",IF(ISERROR(VLOOKUP(B4934,database!$A$6:$BFQ$206,4,FALSE)),\"\",VLOOKUP(B4934,database!$A$6:$BFQ$206,4,FALSE)))","v":""},null,null,null,"",null,null,null,{"$f":"IF(B4934=\"\",\"\",IF(ISERROR(VLOOKUP(B4934,database!$A$6:$BFQ$206,3,FALSE)),\"\",VLOOKUP(B4934,database!$A$6:$BFQ$206,3,FALSE)))","v":""},null,null,null,null,null,null,""]
["",null,{"$f":"IF(B4935=\"\",\"\",IF(ISERROR(VLOOKUP(B4935,database!$A$6:$BFQ$206,4,FALSE)),\"\",VLOOKUP(B4935,database!$A$6:$BFQ$206,4,FALSE)))","v":""},null,null,null,"",null,null,null,{"$f":"IF(B4935=\"\",\"\",IF(ISERROR(VLOOKUP(B4935,database!$A$6:$BFQ$206,3,FALSE)),\"\",VLOOKUP(B4935,database!$A$6:$BFQ$206,3,FALSE)))","v":""},null,null,null,null,null,null,""]
["",null,{"$f":"IF(B4937=\"\",\"\",IF(ISERROR(VLOOKUP(B4937,database!$A$6:$BFQ$206,4,FALSE)),\"\",VLOOKUP(B4937,database!$A$6:$BFQ$206,4,FALSE)))","v":""},null,null,null,"",null,null,null,{"$f":"IF(B4937=\"\",\"\",IF(ISERROR(VLOOKUP(B4937,database!$A$6:$BFQ$206,3,FALSE)),\"\",VLOOKUP(B4937,database!$A$6:$BFQ$206,3,FALSE)))","v":""},null,null,null,null,null,null,""]
["",null,{"$f":"IF(B4938=\"\",\"\",IF(ISERROR(VLOOKUP(B4938,database!$A$6:$BFQ$206,4,FALSE)),\"\",VLOOKUP(B4938,database!$A$6:$BFQ$206,4,FALSE)))","v":""},null,null,null,"",null,null,null,{"$f":"IF(B4938=\"\",\"\",IF(ISERROR(VLOOKUP(B4938,database!$A$6:$BFQ$206,3,FALSE)),\"\",VLOOKUP(B4938,database!$A$6:$BFQ$206,3,FALSE)))","v":""},null,null,null,null,null,null,""]
["",null,{"$f":"IF(B4941=\"\",\"\",IF(ISERROR(VLOOKUP(B4941,database!$A$6:$BFQ$206,4,FALSE)),\"\",VLOOKUP(B4941,database!$A$6:$BFQ$206,4,FALSE)))","v":""},null,null,null,"",null,null,null,{"$f":"IF(B4941=\"\",\"\",IF(ISERROR(VLOOKUP(B4941,database!$A$6:$BFQ$206,3,FALSE)),\"\",VLOOKUP(B4941,database!$A$6:$BFQ$206,3,FALSE)))","v":""},null,null,null,null,null,null,""]
["",null,{"$f":"IF(B4942=\"\",\"\",IF(ISERROR(VLOOKUP(B4942,database!$A$6:$BFQ$206,4,FALSE)),\"\",VLOOKUP(B4942,database!$A$6:$BFQ$206,4,FALSE)))","v":""},null,null,null,"",null,null,null,{"$f":"IF(B4942=\"\",\"\",IF(ISERROR(VLOOKUP(B4942,database!$A$6:$BFQ$206,3,FALSE)),\"\",VLOOKUP(B4942,database!$A$6:$BFQ$206,3,FALSE)))","v":""},null,null,null,null,null,null,""]
["",null,{"$f":"IF(B4944=\"\",\"\",IF(ISERROR(VLOOKUP(B4944,database!$A$6:$BFQ$206,4,FALSE)),\"\",VLOOKUP(B4944,database!$A$6:$BFQ$206,4,FALSE)))","v":""},null,null,null,"",null,null,null,{"$f":"IF(B4944=\"\",\"\",IF(ISERROR(VLOOKUP(B4944,database!$A$6:$BFQ$206,3,FALSE)),\"\",VLOOKUP(B4944,database!$A$6:$BFQ$206,3,FALSE)))","v":""},null,null,null,null,null,null,""]
["",null,{"$f":"IF(B4945=\"\",\"\",IF(ISERROR(VLOOKUP(B4945,database!$A$6:$BFQ$206,4,FALSE)),\"\",VLOOKUP(B4945,database!$A$6:$BFQ$206,4,FALSE)))","v":""},null,null,null,"",null,null,null,{"$f":"IF(B4945=\"\",\"\",IF(ISERROR(VLOOKUP(B4945,database!$A$6:$BFQ$206,3,FALSE)),\"\",VLOOKUP(B4945,database!$A$6:$BFQ$206,3,FALSE)))","v":""},null,null,null,null,null,null,""]
["",null,{"$f":"IF(B4948=\"\",\"\",IF(ISERROR(VLOOKUP(B4948,database!$A$6:$BFQ$206,4,FALSE)),\"\",VLOOKUP(B4948,database!$A$6:$BFQ$206,4,FALSE)))","v":""},null,null,null,"",null,null,null,{"$f":"IF(B4948=\"\",\"\",IF(ISERROR(VLOOKUP(B4948,database!$A$6:$BFQ$206,3,FALSE)),\"\",VLOOKUP(B4948,database!$A$6:$BFQ$206,3,FALSE)))","v":""},null,null,null,null,null,null,""]
["",null,{"$f":"IF(B4949=\"\",\"\",IF(ISERROR(VLOOKUP(B4949,database!$A$6:$BFQ$206,4,FALSE)),\"\",VLOOKUP(B4949,database!$A$6:$BFQ$206,4,FALSE)))","v":""},null,null,null,"",null,null,null,{"$f":"IF(B4949=\"\",\"\",IF(ISERROR(VLOOKUP(B4949,database!$A$6:$BFQ$206,3,FALSE)),\"\",VLOOKUP(B4949,database!$A$6:$BFQ$206,3,FALSE)))","v":""},null,null,null,null,null,null,""]
["",null,{"$f":"IF(B4951=\"\",\"\",IF(ISERROR(VLOOKUP(B4951,database!$A$6:$BFQ$206,4,FALSE)),\"\",VLOOKUP(B4951,database!$A$6:$BFQ$206,4,FALSE)))","v":""},null,null,null,"",null,null,null,{"$f":"IF(B4951=\"\",\"\",IF(ISERROR(VLOOKUP(B4951,database!$A$6:$BFQ$206,3,FALSE)),\"\",VLOOKUP(B4951,database!$A$6:$BFQ$206,3,FALSE)))","v":""},null,null,null,null,null,null,""]
["",null,{"$f":"IF(B4952=\"\",\"\",IF(ISERROR(VLOOKUP(B4952,database!$A$6:$BFQ$206,4,FALSE)),\"\",VLOOKUP(B4952,database!$A$6:$BFQ$206,4,FALSE)))","v":""},null,null,null,"",null,null,null,{"$f":"IF(B4952=\"\",\"\",IF(ISERROR(VLOOKUP(B4952,database!$A$6:$BFQ$206,3,FALSE)),\"\",VLOOKUP(B4952,database!$A$6:$BFQ$206,3,FALSE)))","v":""},null,null,null,null,null,null,""]
["",null,{"$f":"IF(B4955=\"\",\"\",IF(ISERROR(VLOOKUP(B4955,database!$A$6:$BFQ$206,4,FALSE)),\"\",VLOOKUP(B4955,database!$A$6:$BFQ$206,4,FALSE)))","v":""},null,null,null,"",null,null,null,{"$f":"IF(B4955=\"\",\"\",IF(ISERROR(VLOOKUP(B4955,database!$A$6:$BFQ$206,3,FALSE)),\"\",VLOOKUP(B4955,database!$A$6:$BFQ$206,3,FALSE)))","v":""},null,null,null,null,null,null,""]
["",null,{"$f":"IF(B4956=\"\",\"\",IF(ISERROR(VLOOKUP(B4956,database!$A$6:$BFQ$206,4,FALSE)),\"\",VLOOKUP(B4956,database!$A$6:$BFQ$206,4,FALSE)))","v":""},null,null,null,"",null,null,null,{"$f":"IF(B4956=\"\",\"\",IF(ISERROR(VLOOKUP(B4956,database!$A$6:$BFQ$206,3,FALSE)),\"\",VLOOKUP(B4956,database!$A$6:$BFQ$206,3,FALSE)))","v":""},null,null,null,null,null,null,""]
["",null,{"$f":"IF(B4958=\"\",\"\",IF(ISERROR(VLOOKUP(B4958,database!$A$6:$BFQ$206,4,FALSE)),\"\",VLOOKUP(B4958,database!$A$6:$BFQ$206,4,FALSE)))","v":""},null,null,null,"",null,null,null,{"$f":"IF(B4958=\"\",\"\",IF(ISERROR(VLOOKUP(B4958,database!$A$6:$BFQ$206,3,FALSE)),\"\",VLOOKUP(B4958,database!$A$6:$BFQ$206,3,FALSE)))","v":""},null,null,null,null,null,null,""]
["",null,{"$f":"IF(B4959=\"\",\"\",IF(ISERROR(VLOOKUP(B4959,database!$A$6:$BFQ$206,4,FALSE)),\"\",VLOOKUP(B4959,database!$A$6:$BFQ$206,4,FALSE)))","v":""},null,null,null,"",null,null,null,{"$f":"IF(B4959=\"\",\"\",IF(ISERROR(VLOOKUP(B4959,database!$A$6:$BFQ$206,3,FALSE)),\"\",VLOOKUP(B4959,database!$A$6:$BFQ$206,3,FALSE)))","v":""},null,null,null,null,null,null,""]
["",null,{"$f":"IF(B4962=\"\",\"\",IF(ISERROR(VLOOKUP(B4962,database!$A$6:$BFQ$206,4,FALSE)),\"\",VLOOKUP(B4962,database!$A$6:$BFQ$206,4,FALSE)))","v":""},null,null,null,"",null,null,null,{"$f":"IF(B4962=\"\",\"\",IF(ISERROR(VLOOKUP(B4962,database!$A$6:$BFQ$206,3,FALSE)),\"\",VLOOKUP(B4962,database!$A$6:$BFQ$206,3,FALSE)))","v":""},null,null,null,null,null,null,""]
["",null,{"$f":"IF(B4963=\"\",\"\",IF(ISERROR(VLOOKUP(B4963,database!$A$6:$BFQ$206,4,FALSE)),\"\",VLOOKUP(B4963,database!$A$6:$BFQ$206,4,FALSE)))","v":""},null,null,null,"",null,null,null,{"$f":"IF(B4963=\"\",\"\",IF(ISERROR(VLOOKUP(B4963,database!$A$6:$BFQ$206,3,FALSE)),\"\",VLOOKUP(B4963,database!$A$6:$BFQ$206,3,FALSE)))","v":""},null,null,null,null,null,null,""]
["",null,{"$f":"IF(B4965=\"\",\"\",IF(ISERROR(VLOOKUP(B4965,database!$A$6:$BFQ$206,4,FALSE)),\"\",VLOOKUP(B4965,database!$A$6:$BFQ$206,4,FALSE)))","v":""},null,null,null,"",null,null,null,{"$f":"IF(B4965=\"\",\"\",IF(ISERROR(VLOOKUP(B4965,database!$A$6:$BFQ$206,3,FALSE)),\"\",VLOOKUP(B4965,database!$A$6:$BFQ$206,3,FALSE)))","v":""},null,null,null,null,null,null,""]
["",null,{"$f":"IF(B4966=\"\",\"\",IF(ISERROR(VLOOKUP(B4966,database!$A$6:$BFQ$206,4,FALSE)),\"\",VLOOKUP(B4966,database!$A$6:$BFQ$206,4,FALSE)))","v":""},null,null,null,"",null,null,null,{"$f":"IF(B4966=\"\",\"\",IF(ISERROR(VLOOKUP(B4966,database!$A$6:$BFQ$206,3,FALSE)),\"\",VLOOKUP(B4966,database!$A$6:$BFQ$206,3,FALSE)))","v":""},null,null,null,null,null,null,""]
["",null,{"$f":"IF(B4969=\"\",\"\",IF(ISERROR(VLOOKUP(B4969,database!$A$6:$BFQ$206,4,FALSE)),\"\",VLOOKUP(B4969,database!$A$6:$BFQ$206,4,FALSE)))","v":""},null,null,null,"",null,null,null,{"$f":"IF(B4969=\"\",\"\",IF(ISERROR(VLOOKUP(B4969,database!$A$6:$BFQ$206,3,FALSE)),\"\",VLOOKUP(B4969,database!$A$6:$BFQ$206,3,FALSE)))","v":""},null,null,null,null,null,null,""]
["",null,{"$f":"IF(B4970=\"\",\"\",IF(ISERROR(VLOOKUP(B4970,database!$A$6:$BFQ$206,4,FALSE)),\"\",VLOOKUP(B4970,database!$A$6:$BFQ$206,4,FALSE)))","v":""},null,null,null,"",null,null,null,{"$f":"IF(B4970=\"\",\"\",IF(ISERROR(VLOOKUP(B4970,database!$A$6:$BFQ$206,3,FALSE)),\"\",VLOOKUP(B4970,database!$A$6:$BFQ$206,3,FALSE)))","v":""},null,null,null,null,null,null,""]
["",null,{"$f":"IF(B4972=\"\",\"\",IF(ISERROR(VLOOKUP(B4972,database!$A$6:$BFQ$206,4,FALSE)),\"\",VLOOKUP(B4972,database!$A$6:$BFQ$206,4,FALSE)))","v":""},null,null,null,"",null,null,null,{"$f":"IF(B4972=\"\",\"\",IF(ISERROR(VLOOKUP(B4972,database!$A$6:$BFQ$206,3,FALSE)),\"\",VLOOKUP(B4972,database!$A$6:$BFQ$206,3,FALSE)))","v":""},null,null,null,null,null,null,""]
["",null,{"$f":"IF(B4973=\"\",\"\",IF(ISERROR(VLOOKUP(B4973,database!$A$6:$BFQ$206,4,FALSE)),\"\",VLOOKUP(B4973,database!$A$6:$BFQ$206,4,FALSE)))","v":""},null,null,null,"",null,null,null,{"$f":"IF(B4973=\"\",\"\",IF(ISERROR(VLOOKUP(B4973,database!$A$6:$BFQ$206,3,FALSE)),\"\",VLOOKUP(B4973,database!$A$6:$BFQ$206,3,FALSE)))","v":""},null,null,null,null,null,null,""]
["",null,{"$f":"IF(B4976=\"\",\"\",IF(ISERROR(VLOOKUP(B4976,database!$A$6:$BFQ$206,4,FALSE)),\"\",VLOOKUP(B4976,database!$A$6:$BFQ$206,4,FALSE)))","v":""},null,null,null,"",null,null,null,{"$f":"IF(B4976=\"\",\"\",IF(ISERROR(VLOOKUP(B4976,database!$A$6:$BFQ$206,3,FALSE)),\"\",VLOOKUP(B4976,database!$A$6:$BFQ$206,3,FALSE)))","v":""},null,null,null,null,null,null,""]
["",null,{"$f":"IF(B4977=\"\",\"\",IF(ISERROR(VLOOKUP(B4977,database!$A$6:$BFQ$206,4,FALSE)),\"\",VLOOKUP(B4977,database!$A$6:$BFQ$206,4,FALSE)))","v":""},null,null,null,"",null,null,null,{"$f":"IF(B4977=\"\",\"\",IF(ISERROR(VLOOKUP(B4977,database!$A$6:$BFQ$206,3,FALSE)),\"\",VLOOKUP(B4977,database!$A$6:$BFQ$206,3,FALSE)))","v":""},null,null,null,null,null,null,""]
["",null,{"$f":"IF(B4979=\"\",\"\",IF(ISERROR(VLOOKUP(B4979,database!$A$6:$BFQ$206,4,FALSE)),\"\",VLOOKUP(B4979,database!$A$6:$BFQ$206,4,FALSE)))","v":""},null,null,null,"",null,null,null,{"$f":"IF(B4979=\"\",\"\",IF(ISERROR(VLOOKUP(B4979,database!$A$6:$BFQ$206,3,FALSE)),\"\",VLOOKUP(B4979,database!$A$6:$BFQ$206,3,FALSE)))","v":""},null,null,null,null,null,null,""]
["",null,{"$f":"IF(B4980=\"\",\"\",IF(ISERROR(VLOOKUP(B4980,database!$A$6:$BFQ$206,4,FALSE)),\"\",VLOOKUP(B4980,database!$A$6:$BFQ$206,4,FALSE)))","v":""},null,null,null,"",null,null,null,{"$f":"IF(B4980=\"\",\"\",IF(ISERROR(VLOOKUP(B4980,database!$A$6:$BFQ$206,3,FALSE)),\"\",VLOOKUP(B4980,database!$A$6:$BFQ$206,3,FALSE)))","v":""},null,null,null,null,null,null,""]
["",null,{"$f":"IF(B4983=\"\",\"\",IF(ISERROR(VLOOKUP(B4983,database!$A$6:$BFQ$206,4,FALSE)),\"\",VLOOKUP(B4983,database!$A$6:$BFQ$206,4,FALSE)))","v":""},null,null,null,"",null,null,null,{"$f":"IF(B4983=\"\",\"\",IF(ISERROR(VLOOKUP(B4983,database!$A$6:$BFQ$206,3,FALSE)),\"\",VLOOKUP(B4983,database!$A$6:$BFQ$206,3,FALSE)))","v":""},null,null,null,null,null,null,""]
["",null,{"$f":"IF(B4984=\"\",\"\",IF(ISERROR(VLOOKUP(B4984,database!$A$6:$BFQ$206,4,FALSE)),\"\",VLOOKUP(B4984,database!$A$6:$BFQ$206,4,FALSE)))","v":""},null,null,null,"",null,null,null,{"$f":"IF(B4984=\"\",\"\",IF(ISERROR(VLOOKUP(B4984,database!$A$6:$BFQ$206,3,FALSE)),\"\",VLOOKUP(B4984,database!$A$6:$BFQ$206,3,FALSE)))","v":""},null,null,null,null,null,null,""]
["",null,{"$f":"IF(B4986=\"\",\"\",IF(ISERROR(VLOOKUP(B4986,database!$A$6:$BFQ$206,4,FALSE)),\"\",VLOOKUP(B4986,database!$A$6:$BFQ$206,4,FALSE)))","v":""},null,null,null,"",null,null,null,{"$f":"IF(B4986=\"\",\"\",IF(ISERROR(VLOOKUP(B4986,database!$A$6:$BFQ$206,3,FALSE)),\"\",VLOOKUP(B4986,database!$A$6:$BFQ$206,3,FALSE)))","v":""},null,null,null,null,null,null,""]
["",null,{"$f":"IF(B4987=\"\",\"\",IF(ISERROR(VLOOKUP(B4987,database!$A$6:$BFQ$206,4,FALSE)),\"\",VLOOKUP(B4987,database!$A$6:$BFQ$206,4,FALSE)))","v":""},null,null,null,"",null,null,null,{"$f":"IF(B4987=\"\",\"\",IF(ISERROR(VLOOKUP(B4987,database!$A$6:$BFQ$206,3,FALSE)),\"\",VLOOKUP(B4987,database!$A$6:$BFQ$206,3,FALSE)))","v":""},null,null,null,null,null,null,""]
["",null,{"$f":"IF(B4990=\"\",\"\",IF(ISERROR(VLOOKUP(B4990,database!$A$6:$BFQ$206,4,FALSE)),\"\",VLOOKUP(B4990,database!$A$6:$BFQ$206,4,FALSE)))","v":""},null,null,null,"",null,null,null,{"$f":"IF(B4990=\"\",\"\",IF(ISERROR(VLOOKUP(B4990,database!$A$6:$BFQ$206,3,FALSE)),\"\",VLOOKUP(B4990,database!$A$6:$BFQ$206,3,FALSE)))","v":""},null,null,null,null,null,null,""]
["",null,{"$f":"IF(B4991=\"\",\"\",IF(ISERROR(VLOOKUP(B4991,database!$A$6:$BFQ$206,4,FALSE)),\"\",VLOOKUP(B4991,database!$A$6:$BFQ$206,4,FALSE)))","v":""},null,null,null,"",null,null,null,{"$f":"IF(B4991=\"\",\"\",IF(ISERROR(VLOOKUP(B4991,database!$A$6:$BFQ$206,3,FALSE)),\"\",VLOOKUP(B4991,database!$A$6:$BFQ$206,3,FALSE)))","v":""},null,null,null,null,null,null,""]
[{"$f":"IF(B4993=\"\",\"\",ROW(A4990))","v":""},null,{"$f":"IF(B4993=\"\",\"\",IF(ISERROR(VLOOKUP(B4993,database!$A$6:$BFQ$206,4,FALSE)),\"\",VLOOKUP(B4993,database!$A$6:$BFQ$206,4,FALSE)))","v":""},null,null,null,{"$f":"IF(B4993=\"\",\"\",IF(C4993=\"\",0,1))","v":""},null,null,null,{"$f":"IF(B4993=\"\",\"\",IF(ISERROR(VLOOKUP(B4993,database!$A$6:$BFQ$206,3,FALSE)),\"\",VLOOKUP(B4993,database!$A$6:$BFQ$206,3,FALSE)))","v":""},null,null,null,null,null,null,{"$f":"LEFT(C4993,2)","v":""}]
["",null,{"$f":"IF(B4994=\"\",\"\",IF(ISERROR(VLOOKUP(B4994,database!$A$6:$BFQ$206,4,FALSE)),\"\",VLOOKUP(B4994,database!$A$6:$BFQ$206,4,FALSE)))","v":""},null,null,null,"",null,null,null,{"$f":"IF(B4994=\"\",\"\",IF(ISERROR(VLOOKUP(B4994,database!$A$6:$BFQ$206,3,FALSE)),\"\",VLOOKUP(B4994,database!$A$6:$BFQ$206,3,FALSE)))","v":""},null,null,null,null,null,null,""]
["",null,{"$f":"IF(B4997=\"\",\"\",IF(ISERROR(VLOOKUP(B4997,database!$A$6:$BFQ$206,4,FALSE)),\"\",VLOOKUP(B4997,database!$A$6:$BFQ$206,4,FALSE)))","v":""},null,null,null,"",null,null,null,{"$f":"IF(B4997=\"\",\"\",IF(ISERROR(VLOOKUP(B4997,database!$A$6:$BFQ$206,3,FALSE)),\"\",VLOOKUP(B4997,database!$A$6:$BFQ$206,3,FALSE)))","v":""},null,null,null,null,null,null,""]
["",null,{"$f":"IF(B4998=\"\",\"\",IF(ISERROR(VLOOKUP(B4998,database!$A$6:$BFQ$206,4,FALSE)),\"\",VLOOKUP(B4998,database!$A$6:$BFQ$206,4,FALSE)))","v":""},null,null,null,"",null,null,null,{"$f":"IF(B4998=\"\",\"\",IF(ISERROR(VLOOKUP(B4998,database!$A$6:$BFQ$206,3,FALSE)),\"\",VLOOKUP(B4998,database!$A$6:$BFQ$206,3,FALSE)))","v":""},null,null,null,null,null,null,""]
["",null,{"$f":"IF(B5000=\"\",\"\",IF(ISERROR(VLOOKUP(B5000,database!$A$6:$BFQ$206,4,FALSE)),\"\",VLOOKUP(B5000,database!$A$6:$BFQ$206,4,FALSE)))","v":""},null,null,null,"",null,null,null,{"$f":"IF(B5000=\"\",\"\",IF(ISERROR(VLOOKUP(B5000,database!$A$6:$BFQ$206,3,FALSE)),\"\",VLOOKUP(B5000,database!$A$6:$BFQ$206,3,FALSE)))","v":""},null,null,null,null,null,null,""]
["",null,{"$f":"IF(B5001=\"\",\"\",IF(ISERROR(VLOOKUP(B5001,database!$A$6:$BFQ$206,4,FALSE)),\"\",VLOOKUP(B5001,database!$A$6:$BFQ$206,4,FALSE)))","v":""},null,null,null,"",null,null,null,{"$f":"IF(B5001=\"\",\"\",IF(ISERROR(VLOOKUP(B5001,database!$A$6:$BFQ$206,3,FALSE)),\"\",VLOOKUP(B5001,database!$A$6:$BFQ$206,3,FALSE)))","v":""},null,null,null,null,null,null,""]
["",null,{"$f":"IF(B5004=\"\",\"\",IF(ISERROR(VLOOKUP(B5004,database!$A$6:$BFQ$206,4,FALSE)),\"\",VLOOKUP(B5004,database!$A$6:$BFQ$206,4,FALSE)))","v":""},null,null,null,"",null,null,null,{"$f":"IF(B5004=\"\",\"\",IF(ISERROR(VLOOKUP(B5004,database!$A$6:$BFQ$206,3,FALSE)),\"\",VLOOKUP(B5004,database!$A$6:$BFQ$206,3,FALSE)))","v":""},null,null,null,null,null,null,""]
["",null,{"$f":"IF(B5005=\"\",\"\",IF(ISERROR(VLOOKUP(B5005,database!$A$6:$BFQ$206,4,FALSE)),\"\",VLOOKUP(B5005,database!$A$6:$BFQ$206,4,FALSE)))","v":""},null,null,null,"",null,null,null,{"$f":"IF(B5005=\"\",\"\",IF(ISERROR(VLOOKUP(B5005,database!$A$6:$BFQ$206,3,FALSE)),\"\",VLOOKUP(B5005,database!$A$6:$BFQ$206,3,FALSE)))","v":""},null,null,null,null,null,null,""]
["",null,{"$f":"IF(B5007=\"\",\"\",IF(ISERROR(VLOOKUP(B5007,database!$A$6:$BFQ$206,4,FALSE)),\"\",VLOOKUP(B5007,database!$A$6:$BFQ$206,4,FALSE)))","v":""},null,null,null,"",null,null,null,{"$f":"IF(B5007=\"\",\"\",IF(ISERROR(VLOOKUP(B5007,database!$A$6:$BFQ$206,3,FALSE)),\"\",VLOOKUP(B5007,database!$A$6:$BFQ$206,3,FALSE)))","v":""},null,null,null,null,null,null,""]
["",null,{"$f":"IF(B5008=\"\",\"\",IF(ISERROR(VLOOKUP(B5008,database!$A$6:$BFQ$206,4,FALSE)),\"\",VLOOKUP(B5008,database!$A$6:$BFQ$206,4,FALSE)))","v":""},null,null,null,"",null,null,null,{"$f":"IF(B5008=\"\",\"\",IF(ISERROR(VLOOKUP(B5008,database!$A$6:$BFQ$206,3,FALSE)),\"\",VLOOKUP(B5008,database!$A$6:$BFQ$206,3,FALSE)))","v":""},null,null,null,null,null,null,""]
["",null,{"$f":"IF(B5011=\"\",\"\",IF(ISERROR(VLOOKUP(B5011,database!$A$6:$BFQ$206,4,FALSE)),\"\",VLOOKUP(B5011,database!$A$6:$BFQ$206,4,FALSE)))","v":""},null,null,null,"",null,null,null,{"$f":"IF(B5011=\"\",\"\",IF(ISERROR(VLOOKUP(B5011,database!$A$6:$BFQ$206,3,FALSE)),\"\",VLOOKUP(B5011,database!$A$6:$BFQ$206,3,FALSE)))","v":""},null,null,null,null,null,null,""]
["",null,{"$f":"IF(B5012=\"\",\"\",IF(ISERROR(VLOOKUP(B5012,database!$A$6:$BFQ$206,4,FALSE)),\"\",VLOOKUP(B5012,database!$A$6:$BFQ$206,4,FALSE)))","v":""},null,null,null,"",null,null,null,{"$f":"IF(B5012=\"\",\"\",IF(ISERROR(VLOOKUP(B5012,database!$A$6:$BFQ$206,3,FALSE)),\"\",VLOOKUP(B5012,database!$A$6:$BFQ$206,3,FALSE)))","v":""},null,null,null,null,null,null,""]
["",null,{"$f":"IF(B5014=\"\",\"\",IF(ISERROR(VLOOKUP(B5014,database!$A$6:$BFQ$206,4,FALSE)),\"\",VLOOKUP(B5014,database!$A$6:$BFQ$206,4,FALSE)))","v":""},null,null,null,"",null,null,null,{"$f":"IF(B5014=\"\",\"\",IF(ISERROR(VLOOKUP(B5014,database!$A$6:$BFQ$206,3,FALSE)),\"\",VLOOKUP(B5014,database!$A$6:$BFQ$206,3,FALSE)))","v":""},null,null,null,null,null,null,""]
["",null,{"$f":"IF(B5015=\"\",\"\",IF(ISERROR(VLOOKUP(B5015,database!$A$6:$BFQ$206,4,FALSE)),\"\",VLOOKUP(B5015,database!$A$6:$BFQ$206,4,FALSE)))","v":""},null,null,null,"",null,null,null,{"$f":"IF(B5015=\"\",\"\",IF(ISERROR(VLOOKUP(B5015,database!$A$6:$BFQ$206,3,FALSE)),\"\",VLOOKUP(B5015,database!$A$6:$BFQ$206,3,FALSE)))","v":""},null,null,null,null,null,null,""]
["",null,{"$f":"IF(B5018=\"\",\"\",IF(ISERROR(VLOOKUP(B5018,database!$A$6:$BFQ$206,4,FALSE)),\"\",VLOOKUP(B5018,database!$A$6:$BFQ$206,4,FALSE)))","v":""},null,null,null,"",null,null,null,{"$f":"IF(B5018=\"\",\"\",IF(ISERROR(VLOOKUP(B5018,database!$A$6:$BFQ$206,3,FALSE)),\"\",VLOOKUP(B5018,database!$A$6:$BFQ$206,3,FALSE)))","v":""},null,null,null,null,null,null,""]
["",null,{"$f":"IF(B5019=\"\",\"\",IF(ISERROR(VLOOKUP(B5019,database!$A$6:$BFQ$206,4,FALSE)),\"\",VLOOKUP(B5019,database!$A$6:$BFQ$206,4,FALSE)))","v":""},null,null,null,"",null,null,null,{"$f":"IF(B5019=\"\",\"\",IF(ISERROR(VLOOKUP(B5019,database!$A$6:$BFQ$206,3,FALSE)),\"\",VLOOKUP(B5019,database!$A$6:$BFQ$206,3,FALSE)))","v":""},null,null,null,null,null,null,""]
["",null,{"$f":"IF(B5022=\"\",\"\",IF(ISERROR(VLOOKUP(B5022,database!$A$6:$BFQ$206,4,FALSE)),\"\",VLOOKUP(B5022,database!$A$6:$BFQ$206,4,FALSE)))","v":""},null,null,null,"",null,null,null,{"$f":"IF(B5022=\"\",\"\",IF(ISERROR(VLOOKUP(B5022,database!$A$6:$BFQ$206,3,FALSE)),\"\",VLOOKUP(B5022,database!$A$6:$BFQ$206,3,FALSE)))","v":""},null,null,null,null,null,null,""]
["",null,{"$f":"IF(B5023=\"\",\"\",IF(ISERROR(VLOOKUP(B5023,database!$A$6:$BFQ$206,4,FALSE)),\"\",VLOOKUP(B5023,database!$A$6:$BFQ$206,4,FALSE)))","v":""},null,null,null,"",null,null,null,{"$f":"IF(B5023=\"\",\"\",IF(ISERROR(VLOOKUP(B5023,database!$A$6:$BFQ$206,3,FALSE)),\"\",VLOOKUP(B5023,database!$A$6:$BFQ$206,3,FALSE)))","v":""},null,null,null,null,null,null,""]
["",null,{"$f":"IF(B5025=\"\",\"\",IF(ISERROR(VLOOKUP(B5025,database!$A$6:$BFQ$206,4,FALSE)),\"\",VLOOKUP(B5025,database!$A$6:$BFQ$206,4,FALSE)))","v":""},null,null,null,"",null,null,null,{"$f":"IF(B5025=\"\",\"\",IF(ISERROR(VLOOKUP(B5025,database!$A$6:$BFQ$206,3,FALSE)),\"\",VLOOKUP(B5025,database!$A$6:$BFQ$206,3,FALSE)))","v":""},null,null,null,null,null,null,""]
["",null,{"$f":"IF(B5026=\"\",\"\",IF(ISERROR(VLOOKUP(B5026,database!$A$6:$BFQ$206,4,FALSE)),\"\",VLOOKUP(B5026,database!$A$6:$BFQ$206,4,FALSE)))","v":""},null,null,null,"",null,null,null,{"$f":"IF(B5026=\"\",\"\",IF(ISERROR(VLOOKUP(B5026,database!$A$6:$BFQ$206,3,FALSE)),\"\",VLOOKUP(B5026,database!$A$6:$BFQ$206,3,FALSE)))","v":""},null,null,null,null,null,null,""]
["",null,{"$f":"IF(B5029=\"\",\"\",IF(ISERROR(VLOOKUP(B5029,database!$A$6:$BFQ$206,4,FALSE)),\"\",VLOOKUP(B5029,database!$A$6:$BFQ$206,4,FALSE)))","v":""},null,null,null,"",null,null,null,{"$f":"IF(B5029=\"\",\"\",IF(ISERROR(VLOOKUP(B5029,database!$A$6:$BFQ$206,3,FALSE)),\"\",VLOOKUP(B5029,database!$A$6:$BFQ$206,3,FALSE)))","v":""},null,null,null,null,null,null,""]
["",null,{"$f":"IF(B5030=\"\",\"\",IF(ISERROR(VLOOKUP(B5030,database!$A$6:$BFQ$206,4,FALSE)),\"\",VLOOKUP(B5030,database!$A$6:$BFQ$206,4,FALSE)))","v":""},null,null,null,"",null,null,null,{"$f":"IF(B5030=\"\",\"\",IF(ISERROR(VLOOKUP(B5030,database!$A$6:$BFQ$206,3,FALSE)),\"\",VLOOKUP(B5030,database!$A$6:$BFQ$206,3,FALSE)))","v":""},null,null,null,null,null,null,""]
["",null,{"$f":"IF(B5032=\"\",\"\",IF(ISERROR(VLOOKUP(B5032,database!$A$6:$BFQ$206,4,FALSE)),\"\",VLOOKUP(B5032,database!$A$6:$BFQ$206,4,FALSE)))","v":""},null,null,null,"",null,null,null,{"$f":"IF(B5032=\"\",\"\",IF(ISERROR(VLOOKUP(B5032,database!$A$6:$BFQ$206,3,FALSE)),\"\",VLOOKUP(B5032,database!$A$6:$BFQ$206,3,FALSE)))","v":""},null,null,null,null,null,null,""]
["",null,{"$f":"IF(B5033=\"\",\"\",IF(ISERROR(VLOOKUP(B5033,database!$A$6:$BFQ$206,4,FALSE)),\"\",VLOOKUP(B5033,database!$A$6:$BFQ$206,4,FALSE)))","v":""},null,null,null,"",null,null,null,{"$f":"IF(B5033=\"\",\"\",IF(ISERROR(VLOOKUP(B5033,database!$A$6:$BFQ$206,3,FALSE)),\"\",VLOOKUP(B5033,database!$A$6:$BFQ$206,3,FALSE)))","v":""},null,null,null,null,null,null,""]
["",null,{"$f":"IF(B5036=\"\",\"\",IF(ISERROR(VLOOKUP(B5036,database!$A$6:$BFQ$206,4,FALSE)),\"\",VLOOKUP(B5036,database!$A$6:$BFQ$206,4,FALSE)))","v":""},null,null,null,"",null,null,null,{"$f":"IF(B5036=\"\",\"\",IF(ISERROR(VLOOKUP(B5036,database!$A$6:$BFQ$206,3,FALSE)),\"\",VLOOKUP(B5036,database!$A$6:$BFQ$206,3,FALSE)))","v":""},null,null,null,null,null,null,""]
["",null,{"$f":"IF(B5037=\"\",\"\",IF(ISERROR(VLOOKUP(B5037,database!$A$6:$BFQ$206,4,FALSE)),\"\",VLOOKUP(B5037,database!$A$6:$BFQ$206,4,FALSE)))","v":""},null,null,null,"",null,null,null,{"$f":"IF(B5037=\"\",\"\",IF(ISERROR(VLOOKUP(B5037,database!$A$6:$BFQ$206,3,FALSE)),\"\",VLOOKUP(B5037,database!$A$6:$BFQ$206,3,FALSE)))","v":""},null,null,null,null,null,null,""]
["",null,{"$f":"IF(B5039=\"\",\"\",IF(ISERROR(VLOOKUP(B5039,database!$A$6:$BFQ$206,4,FALSE)),\"\",VLOOKUP(B5039,database!$A$6:$BFQ$206,4,FALSE)))","v":""},null,null,null,"",null,null,null,{"$f":"IF(B5039=\"\",\"\",IF(ISERROR(VLOOKUP(B5039,database!$A$6:$BFQ$206,3,FALSE)),\"\",VLOOKUP(B5039,database!$A$6:$BFQ$206,3,FALSE)))","v":""},null,null,null,null,null,null,""]
["",null,{"$f":"IF(B5040=\"\",\"\",IF(ISERROR(VLOOKUP(B5040,database!$A$6:$BFQ$206,4,FALSE)),\"\",VLOOKUP(B5040,database!$A$6:$BFQ$206,4,FALSE)))","v":""},null,null,null,"",null,null,null,{"$f":"IF(B5040=\"\",\"\",IF(ISERROR(VLOOKUP(B5040,database!$A$6:$BFQ$206,3,FALSE)),\"\",VLOOKUP(B5040,database!$A$6:$BFQ$206,3,FALSE)))","v":""},null,null,null,null,null,null,""]
["",null,{"$f":"IF(B5043=\"\",\"\",IF(ISERROR(VLOOKUP(B5043,database!$A$6:$BFQ$206,4,FALSE)),\"\",VLOOKUP(B5043,database!$A$6:$BFQ$206,4,FALSE)))","v":""},null,null,null,"",null,null,null,{"$f":"IF(B5043=\"\",\"\",IF(ISERROR(VLOOKUP(B5043,database!$A$6:$BFQ$206,3,FALSE)),\"\",VLOOKUP(B5043,database!$A$6:$BFQ$206,3,FALSE)))","v":""},null,null,null,null,null,null,""]
["",null,{"$f":"IF(B5044=\"\",\"\",IF(ISERROR(VLOOKUP(B5044,database!$A$6:$BFQ$206,4,FALSE)),\"\",VLOOKUP(B5044,database!$A$6:$BFQ$206,4,FALSE)))","v":""},null,null,null,"",null,null,null,{"$f":"IF(B5044=\"\",\"\",IF(ISERROR(VLOOKUP(B5044,database!$A$6:$BFQ$206,3,FALSE)),\"\",VLOOKUP(B5044,database!$A$6:$BFQ$206,3,FALSE)))","v":""},null,null,null,null,null,null,""]
["",null,{"$f":"IF(B5046=\"\",\"\",IF(ISERROR(VLOOKUP(B5046,database!$A$6:$BFQ$206,4,FALSE)),\"\",VLOOKUP(B5046,database!$A$6:$BFQ$206,4,FALSE)))","v":""},null,null,null,"",null,null,null,{"$f":"IF(B5046=\"\",\"\",IF(ISERROR(VLOOKUP(B5046,database!$A$6:$BFQ$206,3,FALSE)),\"\",VLOOKUP(B5046,database!$A$6:$BFQ$206,3,FALSE)))","v":""},null,null,null,null,null,null,""]
["",null,{"$f":"IF(B5047=\"\",\"\",IF(ISERROR(VLOOKUP(B5047,database!$A$6:$BFQ$206,4,FALSE)),\"\",VLOOKUP(B5047,database!$A$6:$BFQ$206,4,FALSE)))","v":""},null,null,null,"",null,null,null,{"$f":"IF(B5047=\"\",\"\",IF(ISERROR(VLOOKUP(B5047,database!$A$6:$BFQ$206,3,FALSE)),\"\",VLOOKUP(B5047,database!$A$6:$BFQ$206,3,FALSE)))","v":""},null,null,null,null,null,null,""]
["",null,{"$f":"IF(B5050=\"\",\"\",IF(ISERROR(VLOOKUP(B5050,database!$A$6:$BFQ$206,4,FALSE)),\"\",VLOOKUP(B5050,database!$A$6:$BFQ$206,4,FALSE)))","v":""},null,null,null,"",null,null,null,{"$f":"IF(B5050=\"\",\"\",IF(ISERROR(VLOOKUP(B5050,database!$A$6:$BFQ$206,3,FALSE)),\"\",VLOOKUP(B5050,database!$A$6:$BFQ$206,3,FALSE)))","v":""},null,null,null,null,null,null,""]
["",null,{"$f":"IF(B5051=\"\",\"\",IF(ISERROR(VLOOKUP(B5051,database!$A$6:$BFQ$206,4,FALSE)),\"\",VLOOKUP(B5051,database!$A$6:$BFQ$206,4,FALSE)))","v":""},null,null,null,"",null,null,null,{"$f":"IF(B5051=\"\",\"\",IF(ISERROR(VLOOKUP(B5051,database!$A$6:$BFQ$206,3,FALSE)),\"\",VLOOKUP(B5051,database!$A$6:$BFQ$206,3,FALSE)))","v":""},null,null,null,null,null,null,""]
["",null,{"$f":"IF(B5053=\"\",\"\",IF(ISERROR(VLOOKUP(B5053,database!$A$6:$BFQ$206,4,FALSE)),\"\",VLOOKUP(B5053,database!$A$6:$BFQ$206,4,FALSE)))","v":""},null,null,null,"",null,null,null,{"$f":"IF(B5053=\"\",\"\",IF(ISERROR(VLOOKUP(B5053,database!$A$6:$BFQ$206,3,FALSE)),\"\",VLOOKUP(B5053,database!$A$6:$BFQ$206,3,FALSE)))","v":""},null,null,null,null,null,null,""]
["",null,{"$f":"IF(B5054=\"\",\"\",IF(ISERROR(VLOOKUP(B5054,database!$A$6:$BFQ$206,4,FALSE)),\"\",VLOOKUP(B5054,database!$A$6:$BFQ$206,4,FALSE)))","v":""},null,null,null,"",null,null,null,{"$f":"IF(B5054=\"\",\"\",IF(ISERROR(VLOOKUP(B5054,database!$A$6:$BFQ$206,3,FALSE)),\"\",VLOOKUP(B5054,database!$A$6:$BFQ$206,3,FALSE)))","v":""},null,null,null,null,null,null,""]
[{"$f":"IF(B5057=\"\",\"\",ROW(A5054))","v":""},null,{"$f":"IF(B5057=\"\",\"\",IF(ISERROR(VLOOKUP(B5057,database!$A$6:$BFQ$206,4,FALSE)),\"\",VLOOKUP(B5057,database!$A$6:$BFQ$206,4,FALSE)))","v":""},null,null,null,{"$f":"IF(B5057=\"\",\"\",IF(C5057=\"\",0,1))","v":""},null,null,null,{"$f":"IF(B5057=\"\",\"\",IF(ISERROR(VLOOKUP(B5057,database!$A$6:$BFQ$206,3,FALSE)),\"\",VLOOKUP(B5057,database!$A$6:$BFQ$206,3,FALSE)))","v":""},null,null,null,null,null,null,{"$f":"LEFT(C5057,2)","v":""}]
["",null,{"$f":"IF(B5058=\"\",\"\",IF(ISERROR(VLOOKUP(B5058,database!$A$6:$BFQ$206,4,FALSE)),\"\",VLOOKUP(B5058,database!$A$6:$BFQ$206,4,FALSE)))","v":""},null,null,null,"",null,null,null,{"$f":"IF(B5058=\"\",\"\",IF(ISERROR(VLOOKUP(B5058,database!$A$6:$BFQ$206,3,FALSE)),\"\",VLOOKUP(B5058,database!$A$6:$BFQ$206,3,FALSE)))","v":""},null,null,null,null,null,null,""]
["",null,{"$f":"IF(B5060=\"\",\"\",IF(ISERROR(VLOOKUP(B5060,database!$A$6:$BFQ$206,4,FALSE)),\"\",VLOOKUP(B5060,database!$A$6:$BFQ$206,4,FALSE)))","v":""},null,null,null,"",null,null,null,{"$f":"IF(B5060=\"\",\"\",IF(ISERROR(VLOOKUP(B5060,database!$A$6:$BFQ$206,3,FALSE)),\"\",VLOOKUP(B5060,database!$A$6:$BFQ$206,3,FALSE)))","v":""},null,null,null,null,null,null,""]
["",null,{"$f":"IF(B5061=\"\",\"\",IF(ISERROR(VLOOKUP(B5061,database!$A$6:$BFQ$206,4,FALSE)),\"\",VLOOKUP(B5061,database!$A$6:$BFQ$206,4,FALSE)))","v":""},null,null,null,"",null,null,null,{"$f":"IF(B5061=\"\",\"\",IF(ISERROR(VLOOKUP(B5061,database!$A$6:$BFQ$206,3,FALSE)),\"\",VLOOKUP(B5061,database!$A$6:$BFQ$206,3,FALSE)))","v":""},null,null,null,null,null,null,""]
["",null,{"$f":"IF(B5064=\"\",\"\",IF(ISERROR(VLOOKUP(B5064,database!$A$6:$BFQ$206,4,FALSE)),\"\",VLOOKUP(B5064,database!$A$6:$BFQ$206,4,FALSE)))","v":""},null,null,null,"",null,null,null,{"$f":"IF(B5064=\"\",\"\",IF(ISERROR(VLOOKUP(B5064,database!$A$6:$BFQ$206,3,FALSE)),\"\",VLOOKUP(B5064,database!$A$6:$BFQ$206,3,FALSE)))","v":""},null,null,null,null,null,null,""]
["",null,{"$f":"IF(B5065=\"\",\"\",IF(ISERROR(VLOOKUP(B5065,database!$A$6:$BFQ$206,4,FALSE)),\"\",VLOOKUP(B5065,database!$A$6:$BFQ$206,4,FALSE)))","v":""},null,null,null,"",null,null,null,{"$f":"IF(B5065=\"\",\"\",IF(ISERROR(VLOOKUP(B5065,database!$A$6:$BFQ$206,3,FALSE)),\"\",VLOOKUP(B5065,database!$A$6:$BFQ$206,3,FALSE)))","v":""},null,null,null,null,null,null,""]
["",null,{"$f":"IF(B5067=\"\",\"\",IF(ISERROR(VLOOKUP(B5067,database!$A$6:$BFQ$206,4,FALSE)),\"\",VLOOKUP(B5067,database!$A$6:$BFQ$206,4,FALSE)))","v":""},null,null,null,"",null,null,null,{"$f":"IF(B5067=\"\",\"\",IF(ISERROR(VLOOKUP(B5067,database!$A$6:$BFQ$206,3,FALSE)),\"\",VLOOKUP(B5067,database!$A$6:$BFQ$206,3,FALSE)))","v":""},null,null,null,null,null,null,""]
["",null,{"$f":"IF(B5068=\"\",\"\",IF(ISERROR(VLOOKUP(B5068,database!$A$6:$BFQ$206,4,FALSE)),\"\",VLOOKUP(B5068,database!$A$6:$BFQ$206,4,FALSE)))","v":""},null,null,null,"",null,null,null,{"$f":"IF(B5068=\"\",\"\",IF(ISERROR(VLOOKUP(B5068,database!$A$6:$BFQ$206,3,FALSE)),\"\",VLOOKUP(B5068,database!$A$6:$BFQ$206,3,FALSE)))","v":""},null,null,null,null,null,null,""]
["",null,{"$f":"IF(B5071=\"\",\"\",IF(ISERROR(VLOOKUP(B5071,database!$A$6:$BFQ$206,4,FALSE)),\"\",VLOOKUP(B5071,database!$A$6:$BFQ$206,4,FALSE)))","v":""},null,null,null,"",null,null,null,{"$f":"IF(B5071=\"\",\"\",IF(ISERROR(VLOOKUP(B5071,database!$A$6:$BFQ$206,3,FALSE)),\"\",VLOOKUP(B5071,database!$A$6:$BFQ$206,3,FALSE)))","v":""},null,null,null,null,null,null,""]
["",null,{"$f":"IF(B5072=\"\",\"\",IF(ISERROR(VLOOKUP(B5072,database!$A$6:$BFQ$206,4,FALSE)),\"\",VLOOKUP(B5072,database!$A$6:$BFQ$206,4,FALSE)))","v":""},null,null,null,"",null,null,null,{"$f":"IF(B5072=\"\",\"\",IF(ISERROR(VLOOKUP(B5072,database!$A$6:$BFQ$206,3,FALSE)),\"\",VLOOKUP(B5072,database!$A$6:$BFQ$206,3,FALSE)))","v":""},null,null,null,null,null,null,""]
["",null,{"$f":"IF(B5074=\"\",\"\",IF(ISERROR(VLOOKUP(B5074,database!$A$6:$BFQ$206,4,FALSE)),\"\",VLOOKUP(B5074,database!$A$6:$BFQ$206,4,FALSE)))","v":""},null,null,null,"",null,null,null,{"$f":"IF(B5074=\"\",\"\",IF(ISERROR(VLOOKUP(B5074,database!$A$6:$BFQ$206,3,FALSE)),\"\",VLOOKUP(B5074,database!$A$6:$BFQ$206,3,FALSE)))","v":""},null,null,null,null,null,null,""]
["",null,{"$f":"IF(B5075=\"\",\"\",IF(ISERROR(VLOOKUP(B5075,database!$A$6:$BFQ$206,4,FALSE)),\"\",VLOOKUP(B5075,database!$A$6:$BFQ$206,4,FALSE)))","v":""},null,null,null,"",null,null,null,{"$f":"IF(B5075=\"\",\"\",IF(ISERROR(VLOOKUP(B5075,database!$A$6:$BFQ$206,3,FALSE)),\"\",VLOOKUP(B5075,database!$A$6:$BFQ$206,3,FALSE)))","v":""},null,null,null,null,null,null,""]
["",null,{"$f":"IF(B5078=\"\",\"\",IF(ISERROR(VLOOKUP(B5078,database!$A$6:$BFQ$206,4,FALSE)),\"\",VLOOKUP(B5078,database!$A$6:$BFQ$206,4,FALSE)))","v":""},null,null,null,"",null,null,null,{"$f":"IF(B5078=\"\",\"\",IF(ISERROR(VLOOKUP(B5078,database!$A$6:$BFQ$206,3,FALSE)),\"\",VLOOKUP(B5078,database!$A$6:$BFQ$206,3,FALSE)))","v":""},null,null,null,null,null,null,""]
["",null,{"$f":"IF(B5079=\"\",\"\",IF(ISERROR(VLOOKUP(B5079,database!$A$6:$BFQ$206,4,FALSE)),\"\",VLOOKUP(B5079,database!$A$6:$BFQ$206,4,FALSE)))","v":""},null,null,null,"",null,null,null,{"$f":"IF(B5079=\"\",\"\",IF(ISERROR(VLOOKUP(B5079,database!$A$6:$BFQ$206,3,FALSE)),\"\",VLOOKUP(B5079,database!$A$6:$BFQ$206,3,FALSE)))","v":""},null,null,null,null,null,null,""]
["",null,{"$f":"IF(B5081=\"\",\"\",IF(ISERROR(VLOOKUP(B5081,database!$A$6:$BFQ$206,4,FALSE)),\"\",VLOOKUP(B5081,database!$A$6:$BFQ$206,4,FALSE)))","v":""},null,null,null,"",null,null,null,{"$f":"IF(B5081=\"\",\"\",IF(ISERROR(VLOOKUP(B5081,database!$A$6:$BFQ$206,3,FALSE)),\"\",VLOOKUP(B5081,database!$A$6:$BFQ$206,3,FALSE)))","v":""},null,null,null,null,null,null,""]
["",null,{"$f":"IF(B5082=\"\",\"\",IF(ISERROR(VLOOKUP(B5082,database!$A$6:$BFQ$206,4,FALSE)),\"\",VLOOKUP(B5082,database!$A$6:$BFQ$206,4,FALSE)))","v":""},null,null,null,"",null,null,null,{"$f":"IF(B5082=\"\",\"\",IF(ISERROR(VLOOKUP(B5082,database!$A$6:$BFQ$206,3,FALSE)),\"\",VLOOKUP(B5082,database!$A$6:$BFQ$206,3,FALSE)))","v":""},null,null,null,null,null,null,""]
["",null,{"$f":"IF(B5085=\"\",\"\",IF(ISERROR(VLOOKUP(B5085,database!$A$6:$BFQ$206,4,FALSE)),\"\",VLOOKUP(B5085,database!$A$6:$BFQ$206,4,FALSE)))","v":""},null,null,null,"",null,null,null,{"$f":"IF(B5085=\"\",\"\",IF(ISERROR(VLOOKUP(B5085,database!$A$6:$BFQ$206,3,FALSE)),\"\",VLOOKUP(B5085,database!$A$6:$BFQ$206,3,FALSE)))","v":""},null,null,null,null,null,null,""]
["",null,{"$f":"IF(B5086=\"\",\"\",IF(ISERROR(VLOOKUP(B5086,database!$A$6:$BFQ$206,4,FALSE)),\"\",VLOOKUP(B5086,database!$A$6:$BFQ$206,4,FALSE)))","v":""},null,null,null,"",null,null,null,{"$f":"IF(B5086=\"\",\"\",IF(ISERROR(VLOOKUP(B5086,database!$A$6:$BFQ$206,3,FALSE)),\"\",VLOOKUP(B5086,database!$A$6:$BFQ$206,3,FALSE)))","v":""},null,null,null,null,null,null,""]
["",null,{"$f":"IF(B5088=\"\",\"\",IF(ISERROR(VLOOKUP(B5088,database!$A$6:$BFQ$206,4,FALSE)),\"\",VLOOKUP(B5088,database!$A$6:$BFQ$206,4,FALSE)))","v":""},null,null,null,"",null,null,null,{"$f":"IF(B5088=\"\",\"\",IF(ISERROR(VLOOKUP(B5088,database!$A$6:$BFQ$206,3,FALSE)),\"\",VLOOKUP(B5088,database!$A$6:$BFQ$206,3,FALSE)))","v":""},null,null,null,null,null,null,""]
["",null,{"$f":"IF(B5089=\"\",\"\",IF(ISERROR(VLOOKUP(B5089,database!$A$6:$BFQ$206,4,FALSE)),\"\",VLOOKUP(B5089,database!$A$6:$BFQ$206,4,FALSE)))","v":""},null,null,null,"",null,null,null,{"$f":"IF(B5089=\"\",\"\",IF(ISERROR(VLOOKUP(B5089,database!$A$6:$BFQ$206,3,FALSE)),\"\",VLOOKUP(B5089,database!$A$6:$BFQ$206,3,FALSE)))","v":""},null,null,null,null,null,null,""]
["",null,{"$f":"IF(B5092=\"\",\"\",IF(ISERROR(VLOOKUP(B5092,database!$A$6:$BFQ$206,4,FALSE)),\"\",VLOOKUP(B5092,database!$A$6:$BFQ$206,4,FALSE)))","v":""},null,null,null,"",null,null,null,{"$f":"IF(B5092=\"\",\"\",IF(ISERROR(VLOOKUP(B5092,database!$A$6:$BFQ$206,3,FALSE)),\"\",VLOOKUP(B5092,database!$A$6:$BFQ$206,3,FALSE)))","v":""},null,null,null,null,null,null,""]
["",null,{"$f":"IF(B5093=\"\",\"\",IF(ISERROR(VLOOKUP(B5093,database!$A$6:$BFQ$206,4,FALSE)),\"\",VLOOKUP(B5093,database!$A$6:$BFQ$206,4,FALSE)))","v":""},null,null,null,"",null,null,null,{"$f":"IF(B5093=\"\",\"\",IF(ISERROR(VLOOKUP(B5093,database!$A$6:$BFQ$206,3,FALSE)),\"\",VLOOKUP(B5093,database!$A$6:$BFQ$206,3,FALSE)))","v":""},null,null,null,null,null,null,""]
["",null,{"$f":"IF(B5095=\"\",\"\",IF(ISERROR(VLOOKUP(B5095,database!$A$6:$BFQ$206,4,FALSE)),\"\",VLOOKUP(B5095,database!$A$6:$BFQ$206,4,FALSE)))","v":""},null,null,null,"",null,null,null,{"$f":"IF(B5095=\"\",\"\",IF(ISERROR(VLOOKUP(B5095,database!$A$6:$BFQ$206,3,FALSE)),\"\",VLOOKUP(B5095,database!$A$6:$BFQ$206,3,FALSE)))","v":""},null,null,null,null,null,null,""]
["",null,{"$f":"IF(B5096=\"\",\"\",IF(ISERROR(VLOOKUP(B5096,database!$A$6:$BFQ$206,4,FALSE)),\"\",VLOOKUP(B5096,database!$A$6:$BFQ$206,4,FALSE)))","v":""},null,null,null,"",null,null,null,{"$f":"IF(B5096=\"\",\"\",IF(ISERROR(VLOOKUP(B5096,database!$A$6:$BFQ$206,3,FALSE)),\"\",VLOOKUP(B5096,database!$A$6:$BFQ$206,3,FALSE)))","v":""},null,null,null,null,null,null,""]
["",null,{"$f":"IF(B5099=\"\",\"\",IF(ISERROR(VLOOKUP(B5099,database!$A$6:$BFQ$206,4,FALSE)),\"\",VLOOKUP(B5099,database!$A$6:$BFQ$206,4,FALSE)))","v":""},null,null,null,"",null,null,null,{"$f":"IF(B5099=\"\",\"\",IF(ISERROR(VLOOKUP(B5099,database!$A$6:$BFQ$206,3,FALSE)),\"\",VLOOKUP(B5099,database!$A$6:$BFQ$206,3,FALSE)))","v":""},null,null,null,null,null,null,""]
["",null,{"$f":"IF(B5100=\"\",\"\",IF(ISERROR(VLOOKUP(B5100,database!$A$6:$BFQ$206,4,FALSE)),\"\",VLOOKUP(B5100,database!$A$6:$BFQ$206,4,FALSE)))","v":""},null,null,null,"",null,null,null,{"$f":"IF(B5100=\"\",\"\",IF(ISERROR(VLOOKUP(B5100,database!$A$6:$BFQ$206,3,FALSE)),\"\",VLOOKUP(B5100,database!$A$6:$BFQ$206,3,FALSE)))","v":""},null,null,null,null,null,null,""]
["",null,{"$f":"IF(B5102=\"\",\"\",IF(ISERROR(VLOOKUP(B5102,database!$A$6:$BFQ$206,4,FALSE)),\"\",VLOOKUP(B5102,database!$A$6:$BFQ$206,4,FALSE)))","v":""},null,null,null,"",null,null,null,{"$f":"IF(B5102=\"\",\"\",IF(ISERROR(VLOOKUP(B5102,database!$A$6:$BFQ$206,3,FALSE)),\"\",VLOOKUP(B5102,database!$A$6:$BFQ$206,3,FALSE)))","v":""},null,null,null,null,null,null,""]
["",null,{"$f":"IF(B5103=\"\",\"\",IF(ISERROR(VLOOKUP(B5103,database!$A$6:$BFQ$206,4,FALSE)),\"\",VLOOKUP(B5103,database!$A$6:$BFQ$206,4,FALSE)))","v":""},null,null,null,"",null,null,null,{"$f":"IF(B5103=\"\",\"\",IF(ISERROR(VLOOKUP(B5103,database!$A$6:$BFQ$206,3,FALSE)),\"\",VLOOKUP(B5103,database!$A$6:$BFQ$206,3,FALSE)))","v":""},null,null,null,null,null,null,""]
["",null,{"$f":"IF(B5106=\"\",\"\",IF(ISERROR(VLOOKUP(B5106,database!$A$6:$BFQ$206,4,FALSE)),\"\",VLOOKUP(B5106,database!$A$6:$BFQ$206,4,FALSE)))","v":""},null,null,null,"",null,null,null,{"$f":"IF(B5106=\"\",\"\",IF(ISERROR(VLOOKUP(B5106,database!$A$6:$BFQ$206,3,FALSE)),\"\",VLOOKUP(B5106,database!$A$6:$BFQ$206,3,FALSE)))","v":""},null,null,null,null,null,null,""]
["",null,{"$f":"IF(B5107=\"\",\"\",IF(ISERROR(VLOOKUP(B5107,database!$A$6:$BFQ$206,4,FALSE)),\"\",VLOOKUP(B5107,database!$A$6:$BFQ$206,4,FALSE)))","v":""},null,null,null,"",null,null,null,{"$f":"IF(B5107=\"\",\"\",IF(ISERROR(VLOOKUP(B5107,database!$A$6:$BFQ$206,3,FALSE)),\"\",VLOOKUP(B5107,database!$A$6:$BFQ$206,3,FALSE)))","v":""},null,null,null,null,null,null,""]
["",null,{"$f":"IF(B5109=\"\",\"\",IF(ISERROR(VLOOKUP(B5109,database!$A$6:$BFQ$206,4,FALSE)),\"\",VLOOKUP(B5109,database!$A$6:$BFQ$206,4,FALSE)))","v":""},null,null,null,"",null,null,null,{"$f":"IF(B5109=\"\",\"\",IF(ISERROR(VLOOKUP(B5109,database!$A$6:$BFQ$206,3,FALSE)),\"\",VLOOKUP(B5109,database!$A$6:$BFQ$206,3,FALSE)))","v":""},null,null,null,null,null,null,""]
["",null,{"$f":"IF(B5110=\"\",\"\",IF(ISERROR(VLOOKUP(B5110,database!$A$6:$BFQ$206,4,FALSE)),\"\",VLOOKUP(B5110,database!$A$6:$BFQ$206,4,FALSE)))","v":""},null,null,null,"",null,null,null,{"$f":"IF(B5110=\"\",\"\",IF(ISERROR(VLOOKUP(B5110,database!$A$6:$BFQ$206,3,FALSE)),\"\",VLOOKUP(B5110,database!$A$6:$BFQ$206,3,FALSE)))","v":""},null,null,null,null,null,null,""]
["",null,{"$f":"IF(B5113=\"\",\"\",IF(ISERROR(VLOOKUP(B5113,database!$A$6:$BFQ$206,4,FALSE)),\"\",VLOOKUP(B5113,database!$A$6:$BFQ$206,4,FALSE)))","v":""},null,null,null,"",null,null,null,{"$f":"IF(B5113=\"\",\"\",IF(ISERROR(VLOOKUP(B5113,database!$A$6:$BFQ$206,3,FALSE)),\"\",VLOOKUP(B5113,database!$A$6:$BFQ$206,3,FALSE)))","v":""},null,null,null,null,null,null,""]
["",null,{"$f":"IF(B5114=\"\",\"\",IF(ISERROR(VLOOKUP(B5114,database!$A$6:$BFQ$206,4,FALSE)),\"\",VLOOKUP(B5114,database!$A$6:$BFQ$206,4,FALSE)))","v":""},null,null,null,"",null,null,null,{"$f":"IF(B5114=\"\",\"\",IF(ISERROR(VLOOKUP(B5114,database!$A$6:$BFQ$206,3,FALSE)),\"\",VLOOKUP(B5114,database!$A$6:$BFQ$206,3,FALSE)))","v":""},null,null,null,null,null,null,""]
["",null,{"$f":"IF(B5116=\"\",\"\",IF(ISERROR(VLOOKUP(B5116,database!$A$6:$BFQ$206,4,FALSE)),\"\",VLOOKUP(B5116,database!$A$6:$BFQ$206,4,FALSE)))","v":""},null,null,null,"",null,null,null,{"$f":"IF(B5116=\"\",\"\",IF(ISERROR(VLOOKUP(B5116,database!$A$6:$BFQ$206,3,FALSE)),\"\",VLOOKUP(B5116,database!$A$6:$BFQ$206,3,FALSE)))","v":""},null,null,null,null,null,null,""]
["",null,{"$f":"IF(B5117=\"\",\"\",IF(ISERROR(VLOOKUP(B5117,database!$A$6:$BFQ$206,4,FALSE)),\"\",VLOOKUP(B5117,database!$A$6:$BFQ$206,4,FALSE)))","v":""},null,null,null,"",null,null,null,{"$f":"IF(B5117=\"\",\"\",IF(ISERROR(VLOOKUP(B5117,database!$A$6:$BFQ$206,3,FALSE)),\"\",VLOOKUP(B5117,database!$A$6:$BFQ$206,3,FALSE)))","v":""},null,null,null,null,null,null,""]
["",null,{"$f":"IF(B5120=\"\",\"\",IF(ISERROR(VLOOKUP(B5120,database!$A$6:$BFQ$206,4,FALSE)),\"\",VLOOKUP(B5120,database!$A$6:$BFQ$206,4,FALSE)))","v":""},null,null,null,"",null,null,null,{"$f":"IF(B5120=\"\",\"\",IF(ISERROR(VLOOKUP(B5120,database!$A$6:$BFQ$206,3,FALSE)),\"\",VLOOKUP(B5120,database!$A$6:$BFQ$206,3,FALSE)))","v":""},null,null,null,null,null,null,""]
[{"$f":"IF(B5121=\"\",\"\",ROW(A5118))","v":""},null,{"$f":"IF(B5121=\"\",\"\",IF(ISERROR(VLOOKUP(B5121,database!$A$6:$BFQ$206,4,FALSE)),\"\",VLOOKUP(B5121,database!$A$6:$BFQ$206,4,FALSE)))","v":""},null,null,null,{"$f":"IF(B5121=\"\",\"\",IF(C5121=\"\",0,1))","v":""},null,null,null,{"$f":"IF(B5121=\"\",\"\",IF(ISERROR(VLOOKUP(B5121,database!$A$6:$BFQ$206,3,FALSE)),\"\",VLOOKUP(B5121,database!$A$6:$BFQ$206,3,FALSE)))","v":""},null,null,null,null,null,null,{"$f":"LEFT(C5121,2)","v":""}]
["",null,{"$f":"IF(B5123=\"\",\"\",IF(ISERROR(VLOOKUP(B5123,database!$A$6:$BFQ$206,4,FALSE)),\"\",VLOOKUP(B5123,database!$A$6:$BFQ$206,4,FALSE)))","v":""},null,null,null,"",null,null,null,{"$f":"IF(B5123=\"\",\"\",IF(ISERROR(VLOOKUP(B5123,database!$A$6:$BFQ$206,3,FALSE)),\"\",VLOOKUP(B5123,database!$A$6:$BFQ$206,3,FALSE)))","v":""},null,null,null,null,null,null,""]
["",null,{"$f":"IF(B5124=\"\",\"\",IF(ISERROR(VLOOKUP(B5124,database!$A$6:$BFQ$206,4,FALSE)),\"\",VLOOKUP(B5124,database!$A$6:$BFQ$206,4,FALSE)))","v":""},null,null,null,"",null,null,null,{"$f":"IF(B5124=\"\",\"\",IF(ISERROR(VLOOKUP(B5124,database!$A$6:$BFQ$206,3,FALSE)),\"\",VLOOKUP(B5124,database!$A$6:$BFQ$206,3,FALSE)))","v":""},null,null,null,null,null,null,""]
["",null,{"$f":"IF(B5127=\"\",\"\",IF(ISERROR(VLOOKUP(B5127,database!$A$6:$BFQ$206,4,FALSE)),\"\",VLOOKUP(B5127,database!$A$6:$BFQ$206,4,FALSE)))","v":""},null,null,null,"",null,null,null,{"$f":"IF(B5127=\"\",\"\",IF(ISERROR(VLOOKUP(B5127,database!$A$6:$BFQ$206,3,FALSE)),\"\",VLOOKUP(B5127,database!$A$6:$BFQ$206,3,FALSE)))","v":""},null,null,null,null,null,null,""]
["",null,{"$f":"IF(B5128=\"\",\"\",IF(ISERROR(VLOOKUP(B5128,database!$A$6:$BFQ$206,4,FALSE)),\"\",VLOOKUP(B5128,database!$A$6:$BFQ$206,4,FALSE)))","v":""},null,null,null,"",null,null,null,{"$f":"IF(B5128=\"\",\"\",IF(ISERROR(VLOOKUP(B5128,database!$A$6:$BFQ$206,3,FALSE)),\"\",VLOOKUP(B5128,database!$A$6:$BFQ$206,3,FALSE)))","v":""},null,null,null,null,null,null,""]
["",null,{"$f":"IF(B5130=\"\",\"\",IF(ISERROR(VLOOKUP(B5130,database!$A$6:$BFQ$206,4,FALSE)),\"\",VLOOKUP(B5130,database!$A$6:$BFQ$206,4,FALSE)))","v":""},null,null,null,"",null,null,null,{"$f":"IF(B5130=\"\",\"\",IF(ISERROR(VLOOKUP(B5130,database!$A$6:$BFQ$206,3,FALSE)),\"\",VLOOKUP(B5130,database!$A$6:$BFQ$206,3,FALSE)))","v":""},null,null,null,null,null,null,""]
["",null,{"$f":"IF(B5131=\"\",\"\",IF(ISERROR(VLOOKUP(B5131,database!$A$6:$BFQ$206,4,FALSE)),\"\",VLOOKUP(B5131,database!$A$6:$BFQ$206,4,FALSE)))","v":""},null,null,null,"",null,null,null,{"$f":"IF(B5131=\"\",\"\",IF(ISERROR(VLOOKUP(B5131,database!$A$6:$BFQ$206,3,FALSE)),\"\",VLOOKUP(B5131,database!$A$6:$BFQ$206,3,FALSE)))","v":""},null,null,null,null,null,null,""]
["",null,{"$f":"IF(B5134=\"\",\"\",IF(ISERROR(VLOOKUP(B5134,database!$A$6:$BFQ$206,4,FALSE)),\"\",VLOOKUP(B5134,database!$A$6:$BFQ$206,4,FALSE)))","v":""},null,null,null,"",null,null,null,{"$f":"IF(B5134=\"\",\"\",IF(ISERROR(VLOOKUP(B5134,database!$A$6:$BFQ$206,3,FALSE)),\"\",VLOOKUP(B5134,database!$A$6:$BFQ$206,3,FALSE)))","v":""},null,null,null,null,null,null,""]
["",null,{"$f":"IF(B5135=\"\",\"\",IF(ISERROR(VLOOKUP(B5135,database!$A$6:$BFQ$206,4,FALSE)),\"\",VLOOKUP(B5135,database!$A$6:$BFQ$206,4,FALSE)))","v":""},null,null,null,"",null,null,null,{"$f":"IF(B5135=\"\",\"\",IF(ISERROR(VLOOKUP(B5135,database!$A$6:$BFQ$206,3,FALSE)),\"\",VLOOKUP(B5135,database!$A$6:$BFQ$206,3,FALSE)))","v":""},null,null,null,null,null,null,""]
["",null,{"$f":"IF(B5138=\"\",\"\",IF(ISERROR(VLOOKUP(B5138,database!$A$6:$BFQ$206,4,FALSE)),\"\",VLOOKUP(B5138,database!$A$6:$BFQ$206,4,FALSE)))","v":""},null,null,null,"",null,null,null,{"$f":"IF(B5138=\"\",\"\",IF(ISERROR(VLOOKUP(B5138,database!$A$6:$BFQ$206,3,FALSE)),\"\",VLOOKUP(B5138,database!$A$6:$BFQ$206,3,FALSE)))","v":""},null,null,null,null,null,null,""]
["",null,{"$f":"IF(B5139=\"\",\"\",IF(ISERROR(VLOOKUP(B5139,database!$A$6:$BFQ$206,4,FALSE)),\"\",VLOOKUP(B5139,database!$A$6:$BFQ$206,4,FALSE)))","v":""},null,null,null,"",null,null,null,{"$f":"IF(B5139=\"\",\"\",IF(ISERROR(VLOOKUP(B5139,database!$A$6:$BFQ$206,3,FALSE)),\"\",VLOOKUP(B5139,database!$A$6:$BFQ$206,3,FALSE)))","v":""},null,null,null,null,null,null,""]
["",null,{"$f":"IF(B5141=\"\",\"\",IF(ISERROR(VLOOKUP(B5141,database!$A$6:$BFQ$206,4,FALSE)),\"\",VLOOKUP(B5141,database!$A$6:$BFQ$206,4,FALSE)))","v":""},null,null,null,"",null,null,null,{"$f":"IF(B5141=\"\",\"\",IF(ISERROR(VLOOKUP(B5141,database!$A$6:$BFQ$206,3,FALSE)),\"\",VLOOKUP(B5141,database!$A$6:$BFQ$206,3,FALSE)))","v":""},null,null,null,null,null,null,""]
["",null,{"$f":"IF(B5142=\"\",\"\",IF(ISERROR(VLOOKUP(B5142,database!$A$6:$BFQ$206,4,FALSE)),\"\",VLOOKUP(B5142,database!$A$6:$BFQ$206,4,FALSE)))","v":""},null,null,null,"",null,null,null,{"$f":"IF(B5142=\"\",\"\",IF(ISERROR(VLOOKUP(B5142,database!$A$6:$BFQ$206,3,FALSE)),\"\",VLOOKUP(B5142,database!$A$6:$BFQ$206,3,FALSE)))","v":""},null,null,null,null,null,null,""]
["",null,{"$f":"IF(B5145=\"\",\"\",IF(ISERROR(VLOOKUP(B5145,database!$A$6:$BFQ$206,4,FALSE)),\"\",VLOOKUP(B5145,database!$A$6:$BFQ$206,4,FALSE)))","v":""},null,null,null,"",null,null,null,{"$f":"IF(B5145=\"\",\"\",IF(ISERROR(VLOOKUP(B5145,database!$A$6:$BFQ$206,3,FALSE)),\"\",VLOOKUP(B5145,database!$A$6:$BFQ$206,3,FALSE)))","v":""},null,null,null,null,null,null,""]
["",null,{"$f":"IF(B5146=\"\",\"\",IF(ISERROR(VLOOKUP(B5146,database!$A$6:$BFQ$206,4,FALSE)),\"\",VLOOKUP(B5146,database!$A$6:$BFQ$206,4,FALSE)))","v":""},null,null,null,"",null,null,null,{"$f":"IF(B5146=\"\",\"\",IF(ISERROR(VLOOKUP(B5146,database!$A$6:$BFQ$206,3,FALSE)),\"\",VLOOKUP(B5146,database!$A$6:$BFQ$206,3,FALSE)))","v":""},null,null,null,null,null,null,""]
["",null,{"$f":"IF(B5148=\"\",\"\",IF(ISERROR(VLOOKUP(B5148,database!$A$6:$BFQ$206,4,FALSE)),\"\",VLOOKUP(B5148,database!$A$6:$BFQ$206,4,FALSE)))","v":""},null,null,null,"",null,null,null,{"$f":"IF(B5148=\"\",\"\",IF(ISERROR(VLOOKUP(B5148,database!$A$6:$BFQ$206,3,FALSE)),\"\",VLOOKUP(B5148,database!$A$6:$BFQ$206,3,FALSE)))","v":""},null,null,null,null,null,null,""]
["",null,{"$f":"IF(B5149=\"\",\"\",IF(ISERROR(VLOOKUP(B5149,database!$A$6:$BFQ$206,4,FALSE)),\"\",VLOOKUP(B5149,database!$A$6:$BFQ$206,4,FALSE)))","v":""},null,null,null,"",null,null,null,{"$f":"IF(B5149=\"\",\"\",IF(ISERROR(VLOOKUP(B5149,database!$A$6:$BFQ$206,3,FALSE)),\"\",VLOOKUP(B5149,database!$A$6:$BFQ$206,3,FALSE)))","v":""},null,null,null,null,null,null,""]
["",null,{"$f":"IF(B5152=\"\",\"\",IF(ISERROR(VLOOKUP(B5152,database!$A$6:$BFQ$206,4,FALSE)),\"\",VLOOKUP(B5152,database!$A$6:$BFQ$206,4,FALSE)))","v":""},null,null,null,"",null,null,null,{"$f":"IF(B5152=\"\",\"\",IF(ISERROR(VLOOKUP(B5152,database!$A$6:$BFQ$206,3,FALSE)),\"\",VLOOKUP(B5152,database!$A$6:$BFQ$206,3,FALSE)))","v":""},null,null,null,null,null,null,""]
["",null,{"$f":"IF(B5153=\"\",\"\",IF(ISERROR(VLOOKUP(B5153,database!$A$6:$BFQ$206,4,FALSE)),\"\",VLOOKUP(B5153,database!$A$6:$BFQ$206,4,FALSE)))","v":""},null,null,null,"",null,null,null,{"$f":"IF(B5153=\"\",\"\",IF(ISERROR(VLOOKUP(B5153,database!$A$6:$BFQ$206,3,FALSE)),\"\",VLOOKUP(B5153,database!$A$6:$BFQ$206,3,FALSE)))","v":""},null,null,null,null,null,null,""]
["",null,{"$f":"IF(B5155=\"\",\"\",IF(ISERROR(VLOOKUP(B5155,database!$A$6:$BFQ$206,4,FALSE)),\"\",VLOOKUP(B5155,database!$A$6:$BFQ$206,4,FALSE)))","v":""},null,null,null,"",null,null,null,{"$f":"IF(B5155=\"\",\"\",IF(ISERROR(VLOOKUP(B5155,database!$A$6:$BFQ$206,3,FALSE)),\"\",VLOOKUP(B5155,database!$A$6:$BFQ$206,3,FALSE)))","v":""},null,null,null,null,null,null,""]
["",null,{"$f":"IF(B5156=\"\",\"\",IF(ISERROR(VLOOKUP(B5156,database!$A$6:$BFQ$206,4,FALSE)),\"\",VLOOKUP(B5156,database!$A$6:$BFQ$206,4,FALSE)))","v":""},null,null,null,"",null,null,null,{"$f":"IF(B5156=\"\",\"\",IF(ISERROR(VLOOKUP(B5156,database!$A$6:$BFQ$206,3,FALSE)),\"\",VLOOKUP(B5156,database!$A$6:$BFQ$206,3,FALSE)))","v":""},null,null,null,null,null,null,""]
["",null,{"$f":"IF(B5159=\"\",\"\",IF(ISERROR(VLOOKUP(B5159,database!$A$6:$BFQ$206,4,FALSE)),\"\",VLOOKUP(B5159,database!$A$6:$BFQ$206,4,FALSE)))","v":""},null,null,null,"",null,null,null,{"$f":"IF(B5159=\"\",\"\",IF(ISERROR(VLOOKUP(B5159,database!$A$6:$BFQ$206,3,FALSE)),\"\",VLOOKUP(B5159,database!$A$6:$BFQ$206,3,FALSE)))","v":""},null,null,null,null,null,null,""]
["",null,{"$f":"IF(B5160=\"\",\"\",IF(ISERROR(VLOOKUP(B5160,database!$A$6:$BFQ$206,4,FALSE)),\"\",VLOOKUP(B5160,database!$A$6:$BFQ$206,4,FALSE)))","v":""},null,null,null,"",null,null,null,{"$f":"IF(B5160=\"\",\"\",IF(ISERROR(VLOOKUP(B5160,database!$A$6:$BFQ$206,3,FALSE)),\"\",VLOOKUP(B5160,database!$A$6:$BFQ$206,3,FALSE)))","v":""},null,null,null,null,null,null,""]
["",null,{"$f":"IF(B5162=\"\",\"\",IF(ISERROR(VLOOKUP(B5162,database!$A$6:$BFQ$206,4,FALSE)),\"\",VLOOKUP(B5162,database!$A$6:$BFQ$206,4,FALSE)))","v":""},null,null,null,"",null,null,null,{"$f":"IF(B5162=\"\",\"\",IF(ISERROR(VLOOKUP(B5162,database!$A$6:$BFQ$206,3,FALSE)),\"\",VLOOKUP(B5162,database!$A$6:$BFQ$206,3,FALSE)))","v":""},null,null,null,null,null,null,""]
["",null,{"$f":"IF(B5163=\"\",\"\",IF(ISERROR(VLOOKUP(B5163,database!$A$6:$BFQ$206,4,FALSE)),\"\",VLOOKUP(B5163,database!$A$6:$BFQ$206,4,FALSE)))","v":""},null,null,null,"",null,null,null,{"$f":"IF(B5163=\"\",\"\",IF(ISERROR(VLOOKUP(B5163,database!$A$6:$BFQ$206,3,FALSE)),\"\",VLOOKUP(B5163,database!$A$6:$BFQ$206,3,FALSE)))","v":""},null,null,null,null,null,null,""]
["",null,{"$f":"IF(B5166=\"\",\"\",IF(ISERROR(VLOOKUP(B5166,database!$A$6:$BFQ$206,4,FALSE)),\"\",VLOOKUP(B5166,database!$A$6:$BFQ$206,4,FALSE)))","v":""},null,null,null,"",null,null,null,{"$f":"IF(B5166=\"\",\"\",IF(ISERROR(VLOOKUP(B5166,database!$A$6:$BFQ$206,3,FALSE)),\"\",VLOOKUP(B5166,database!$A$6:$BFQ$206,3,FALSE)))","v":""},null,null,null,null,null,null,""]
["",null,{"$f":"IF(B5167=\"\",\"\",IF(ISERROR(VLOOKUP(B5167,database!$A$6:$BFQ$206,4,FALSE)),\"\",VLOOKUP(B5167,database!$A$6:$BFQ$206,4,FALSE)))","v":""},null,null,null,"",null,null,null,{"$f":"IF(B5167=\"\",\"\",IF(ISERROR(VLOOKUP(B5167,database!$A$6:$BFQ$206,3,FALSE)),\"\",VLOOKUP(B5167,database!$A$6:$BFQ$206,3,FALSE)))","v":""},null,null,null,null,null,null,""]
["",null,{"$f":"IF(B5169=\"\",\"\",IF(ISERROR(VLOOKUP(B5169,database!$A$6:$BFQ$206,4,FALSE)),\"\",VLOOKUP(B5169,database!$A$6:$BFQ$206,4,FALSE)))","v":""},null,null,null,"",null,null,null,{"$f":"IF(B5169=\"\",\"\",IF(ISERROR(VLOOKUP(B5169,database!$A$6:$BFQ$206,3,FALSE)),\"\",VLOOKUP(B5169,database!$A$6:$BFQ$206,3,FALSE)))","v":""},null,null,null,null,null,null,""]
["",null,{"$f":"IF(B5170=\"\",\"\",IF(ISERROR(VLOOKUP(B5170,database!$A$6:$BFQ$206,4,FALSE)),\"\",VLOOKUP(B5170,database!$A$6:$BFQ$206,4,FALSE)))","v":""},null,null,null,"",null,null,null,{"$f":"IF(B5170=\"\",\"\",IF(ISERROR(VLOOKUP(B5170,database!$A$6:$BFQ$206,3,FALSE)),\"\",VLOOKUP(B5170,database!$A$6:$BFQ$206,3,FALSE)))","v":""},null,null,null,null,null,null,""]
["",null,{"$f":"IF(B5173=\"\",\"\",IF(ISERROR(VLOOKUP(B5173,database!$A$6:$BFQ$206,4,FALSE)),\"\",VLOOKUP(B5173,database!$A$6:$BFQ$206,4,FALSE)))","v":""},null,null,null,"",null,null,null,{"$f":"IF(B5173=\"\",\"\",IF(ISERROR(VLOOKUP(B5173,database!$A$6:$BFQ$206,3,FALSE)),\"\",VLOOKUP(B5173,database!$A$6:$BFQ$206,3,FALSE)))","v":""},null,null,null,null,null,null,""]
["",null,{"$f":"IF(B5174=\"\",\"\",IF(ISERROR(VLOOKUP(B5174,database!$A$6:$BFQ$206,4,FALSE)),\"\",VLOOKUP(B5174,database!$A$6:$BFQ$206,4,FALSE)))","v":""},null,null,null,"",null,null,null,{"$f":"IF(B5174=\"\",\"\",IF(ISERROR(VLOOKUP(B5174,database!$A$6:$BFQ$206,3,FALSE)),\"\",VLOOKUP(B5174,database!$A$6:$BFQ$206,3,FALSE)))","v":""},null,null,null,null,null,null,""]
["",null,{"$f":"IF(B5176=\"\",\"\",IF(ISERROR(VLOOKUP(B5176,database!$A$6:$BFQ$206,4,FALSE)),\"\",VLOOKUP(B5176,database!$A$6:$BFQ$206,4,FALSE)))","v":""},null,null,null,"",null,null,null,{"$f":"IF(B5176=\"\",\"\",IF(ISERROR(VLOOKUP(B5176,database!$A$6:$BFQ$206,3,FALSE)),\"\",VLOOKUP(B5176,database!$A$6:$BFQ$206,3,FALSE)))","v":""},null,null,null,null,null,null,""]
["",null,{"$f":"IF(B5177=\"\",\"\",IF(ISERROR(VLOOKUP(B5177,database!$A$6:$BFQ$206,4,FALSE)),\"\",VLOOKUP(B5177,database!$A$6:$BFQ$206,4,FALSE)))","v":""},null,null,null,"",null,null,null,{"$f":"IF(B5177=\"\",\"\",IF(ISERROR(VLOOKUP(B5177,database!$A$6:$BFQ$206,3,FALSE)),\"\",VLOOKUP(B5177,database!$A$6:$BFQ$206,3,FALSE)))","v":""},null,null,null,null,null,null,""]
["",null,{"$f":"IF(B5180=\"\",\"\",IF(ISERROR(VLOOKUP(B5180,database!$A$6:$BFQ$206,4,FALSE)),\"\",VLOOKUP(B5180,database!$A$6:$BFQ$206,4,FALSE)))","v":""},null,null,null,"",null,null,null,{"$f":"IF(B5180=\"\",\"\",IF(ISERROR(VLOOKUP(B5180,database!$A$6:$BFQ$206,3,FALSE)),\"\",VLOOKUP(B5180,database!$A$6:$BFQ$206,3,FALSE)))","v":""},null,null,null,null,null,null,""]
["",null,{"$f":"IF(B5181=\"\",\"\",IF(ISERROR(VLOOKUP(B5181,database!$A$6:$BFQ$206,4,FALSE)),\"\",VLOOKUP(B5181,database!$A$6:$BFQ$206,4,FALSE)))","v":""},null,null,null,"",null,null,null,{"$f":"IF(B5181=\"\",\"\",IF(ISERROR(VLOOKUP(B5181,database!$A$6:$BFQ$206,3,FALSE)),\"\",VLOOKUP(B5181,database!$A$6:$BFQ$206,3,FALSE)))","v":""},null,null,null,null,null,null,""]
["",null,{"$f":"IF(B5183=\"\",\"\",IF(ISERROR(VLOOKUP(B5183,database!$A$6:$BFQ$206,4,FALSE)),\"\",VLOOKUP(B5183,database!$A$6:$BFQ$206,4,FALSE)))","v":""},null,null,null,"",null,null,null,{"$f":"IF(B5183=\"\",\"\",IF(ISERROR(VLOOKUP(B5183,database!$A$6:$BFQ$206,3,FALSE)),\"\",VLOOKUP(B5183,database!$A$6:$BFQ$206,3,FALSE)))","v":""},null,null,null,null,null,null,""]
["",null,{"$f":"IF(B5184=\"\",\"\",IF(ISERROR(VLOOKUP(B5184,database!$A$6:$BFQ$206,4,FALSE)),\"\",VLOOKUP(B5184,database!$A$6:$BFQ$206,4,FALSE)))","v":""},null,null,null,"",null,null,null,{"$f":"IF(B5184=\"\",\"\",IF(ISERROR(VLOOKUP(B5184,database!$A$6:$BFQ$206,3,FALSE)),\"\",VLOOKUP(B5184,database!$A$6:$BFQ$206,3,FALSE)))","v":""},null,null,null,null,null,null,""]
["",null,{"$f":"IF(B5187=\"\",\"\",IF(ISERROR(VLOOKUP(B5187,database!$A$6:$BFQ$206,4,FALSE)),\"\",VLOOKUP(B5187,database!$A$6:$BFQ$206,4,FALSE)))","v":""},null,null,null,"",null,null,null,{"$f":"IF(B5187=\"\",\"\",IF(ISERROR(VLOOKUP(B5187,database!$A$6:$BFQ$206,3,FALSE)),\"\",VLOOKUP(B5187,database!$A$6:$BFQ$206,3,FALSE)))","v":""},null,null,null,null,null,null,""]
["",null,{"$f":"IF(B5188=\"\",\"\",IF(ISERROR(VLOOKUP(B5188,database!$A$6:$BFQ$206,4,FALSE)),\"\",VLOOKUP(B5188,database!$A$6:$BFQ$206,4,FALSE)))","v":""},null,null,null,"",null,null,null,{"$f":"IF(B5188=\"\",\"\",IF(ISERROR(VLOOKUP(B5188,database!$A$6:$BFQ$206,3,FALSE)),\"\",VLOOKUP(B5188,database!$A$6:$BFQ$206,3,FALSE)))","v":""},null,null,null,null,null,null,""]
["",null,{"$f":"IF(B5190=\"\",\"\",IF(ISERROR(VLOOKUP(B5190,database!$A$6:$BFQ$206,4,FALSE)),\"\",VLOOKUP(B5190,database!$A$6:$BFQ$206,4,FALSE)))","v":""},null,null,null,"",null,null,null,{"$f":"IF(B5190=\"\",\"\",IF(ISERROR(VLOOKUP(B5190,database!$A$6:$BFQ$206,3,FALSE)),\"\",VLOOKUP(B5190,database!$A$6:$BFQ$206,3,FALSE)))","v":""},null,null,null,null,null,null,""]
["",null,{"$f":"IF(B5191=\"\",\"\",IF(ISERROR(VLOOKUP(B5191,database!$A$6:$BFQ$206,4,FALSE)),\"\",VLOOKUP(B5191,database!$A$6:$BFQ$206,4,FALSE)))","v":""},null,null,null,"",null,null,null,{"$f":"IF(B5191=\"\",\"\",IF(ISERROR(VLOOKUP(B5191,database!$A$6:$BFQ$206,3,FALSE)),\"\",VLOOKUP(B5191,database!$A$6:$BFQ$206,3,FALSE)))","v":""},null,null,null,null,null,null,""]
["",null,{"$f":"IF(B5194=\"\",\"\",IF(ISERROR(VLOOKUP(B5194,database!$A$6:$BFQ$206,4,FALSE)),\"\",VLOOKUP(B5194,database!$A$6:$BFQ$206,4,FALSE)))","v":""},null,null,null,"",null,null,null,{"$f":"IF(B5194=\"\",\"\",IF(ISERROR(VLOOKUP(B5194,database!$A$6:$BFQ$206,3,FALSE)),\"\",VLOOKUP(B5194,database!$A$6:$BFQ$206,3,FALSE)))","v":""},null,null,null,null,null,null,""]
["",null,{"$f":"IF(B5195=\"\",\"\",IF(ISERROR(VLOOKUP(B5195,database!$A$6:$BFQ$206,4,FALSE)),\"\",VLOOKUP(B5195,database!$A$6:$BFQ$206,4,FALSE)))","v":""},null,null,null,"",null,null,null,{"$f":"IF(B5195=\"\",\"\",IF(ISERROR(VLOOKUP(B5195,database!$A$6:$BFQ$206,3,FALSE)),\"\",VLOOKUP(B5195,database!$A$6:$BFQ$206,3,FALSE)))","v":""},null,null,null,null,null,null,""]
["",null,{"$f":"IF(B5197=\"\",\"\",IF(ISERROR(VLOOKUP(B5197,database!$A$6:$BFQ$206,4,FALSE)),\"\",VLOOKUP(B5197,database!$A$6:$BFQ$206,4,FALSE)))","v":""},null,null,null,"",null,null,null,{"$f":"IF(B5197=\"\",\"\",IF(ISERROR(VLOOKUP(B5197,database!$A$6:$BFQ$206,3,FALSE)),\"\",VLOOKUP(B5197,database!$A$6:$BFQ$206,3,FALSE)))","v":""},null,null,null,null,null,null,""]
["",null,{"$f":"IF(B5198=\"\",\"\",IF(ISERROR(VLOOKUP(B5198,database!$A$6:$BFQ$206,4,FALSE)),\"\",VLOOKUP(B5198,database!$A$6:$BFQ$206,4,FALSE)))","v":""},null,null,null,"",null,null,null,{"$f":"IF(B5198=\"\",\"\",IF(ISERROR(VLOOKUP(B5198,database!$A$6:$BFQ$206,3,FALSE)),\"\",VLOOKUP(B5198,database!$A$6:$BFQ$206,3,FALSE)))","v":""},null,null,null,null,null,null,""]
["",null,{"$f":"IF(B5201=\"\",\"\",IF(ISERROR(VLOOKUP(B5201,database!$A$6:$BFQ$206,4,FALSE)),\"\",VLOOKUP(B5201,database!$A$6:$BFQ$206,4,FALSE)))","v":""},null,null,null,"",null,null,null,{"$f":"IF(B5201=\"\",\"\",IF(ISERROR(VLOOKUP(B5201,database!$A$6:$BFQ$206,3,FALSE)),\"\",VLOOKUP(B5201,database!$A$6:$BFQ$206,3,FALSE)))","v":""},null,null,null,null,null,null,""]
["",null,{"$f":"IF(B5202=\"\",\"\",IF(ISERROR(VLOOKUP(B5202,database!$A$6:$BFQ$206,4,FALSE)),\"\",VLOOKUP(B5202,database!$A$6:$BFQ$206,4,FALSE)))","v":""},null,null,null,"",null,null,null,{"$f":"IF(B5202=\"\",\"\",IF(ISERROR(VLOOKUP(B5202,database!$A$6:$BFQ$206,3,FALSE)),\"\",VLOOKUP(B5202,database!$A$6:$BFQ$206,3,FALSE)))","v":""},null,null,null,null,null,null,""]
["",null,{"$f":"IF(B5204=\"\",\"\",IF(ISERROR(VLOOKUP(B5204,database!$A$6:$BFQ$206,4,FALSE)),\"\",VLOOKUP(B5204,database!$A$6:$BFQ$206,4,FALSE)))","v":""},null,null,null,"",null,null,null,{"$f":"IF(B5204=\"\",\"\",IF(ISERROR(VLOOKUP(B5204,database!$A$6:$BFQ$206,3,FALSE)),\"\",VLOOKUP(B5204,database!$A$6:$BFQ$206,3,FALSE)))","v":""},null,null,null,null,null,null,""]
["",null,{"$f":"IF(B5205=\"\",\"\",IF(ISERROR(VLOOKUP(B5205,database!$A$6:$BFQ$206,4,FALSE)),\"\",VLOOKUP(B5205,database!$A$6:$BFQ$206,4,FALSE)))","v":""},null,null,null,"",null,null,null,{"$f":"IF(B5205=\"\",\"\",IF(ISERROR(VLOOKUP(B5205,database!$A$6:$BFQ$206,3,FALSE)),\"\",VLOOKUP(B5205,database!$A$6:$BFQ$206,3,FALSE)))","v":""},null,null,null,null,null,null,""]
["",null,{"$f":"IF(B5208=\"\",\"\",IF(ISERROR(VLOOKUP(B5208,database!$A$6:$BFQ$206,4,FALSE)),\"\",VLOOKUP(B5208,database!$A$6:$BFQ$206,4,FALSE)))","v":""},null,null,null,"",null,null,null,{"$f":"IF(B5208=\"\",\"\",IF(ISERROR(VLOOKUP(B5208,database!$A$6:$BFQ$206,3,FALSE)),\"\",VLOOKUP(B5208,database!$A$6:$BFQ$206,3,FALSE)))","v":""},null,null,null,null,null,null,""]
["",null,{"$f":"IF(B5209=\"\",\"\",IF(ISERROR(VLOOKUP(B5209,database!$A$6:$BFQ$206,4,FALSE)),\"\",VLOOKUP(B5209,database!$A$6:$BFQ$206,4,FALSE)))","v":""},null,null,null,"",null,null,null,{"$f":"IF(B5209=\"\",\"\",IF(ISERROR(VLOOKUP(B5209,database!$A$6:$BFQ$206,3,FALSE)),\"\",VLOOKUP(B5209,database!$A$6:$BFQ$206,3,FALSE)))","v":""},null,null,null,null,null,null,""]
["",null,{"$f":"IF(B5211=\"\",\"\",IF(ISERROR(VLOOKUP(B5211,database!$A$6:$BFQ$206,4,FALSE)),\"\",VLOOKUP(B5211,database!$A$6:$BFQ$206,4,FALSE)))","v":""},null,null,null,"",null,null,null,{"$f":"IF(B5211=\"\",\"\",IF(ISERROR(VLOOKUP(B5211,database!$A$6:$BFQ$206,3,FALSE)),\"\",VLOOKUP(B5211,database!$A$6:$BFQ$206,3,FALSE)))","v":""},null,null,null,null,null,null,""]
["",null,{"$f":"IF(B5212=\"\",\"\",IF(ISERROR(VLOOKUP(B5212,database!$A$6:$BFQ$206,4,FALSE)),\"\",VLOOKUP(B5212,database!$A$6:$BFQ$206,4,FALSE)))","v":""},null,null,null,"",null,null,null,{"$f":"IF(B5212=\"\",\"\",IF(ISERROR(VLOOKUP(B5212,database!$A$6:$BFQ$206,3,FALSE)),\"\",VLOOKUP(B5212,database!$A$6:$BFQ$206,3,FALSE)))","v":""},null,null,null,null,null,null,""]
["",null,{"$f":"IF(B5215=\"\",\"\",IF(ISERROR(VLOOKUP(B5215,database!$A$6:$BFQ$206,4,FALSE)),\"\",VLOOKUP(B5215,database!$A$6:$BFQ$206,4,FALSE)))","v":""},null,null,null,"",null,null,null,{"$f":"IF(B5215=\"\",\"\",IF(ISERROR(VLOOKUP(B5215,database!$A$6:$BFQ$206,3,FALSE)),\"\",VLOOKUP(B5215,database!$A$6:$BFQ$206,3,FALSE)))","v":""},null,null,null,null,null,null,""]
["",null,{"$f":"IF(B5216=\"\",\"\",IF(ISERROR(VLOOKUP(B5216,database!$A$6:$BFQ$206,4,FALSE)),\"\",VLOOKUP(B5216,database!$A$6:$BFQ$206,4,FALSE)))","v":""},null,null,null,"",null,null,null,{"$f":"IF(B5216=\"\",\"\",IF(ISERROR(VLOOKUP(B5216,database!$A$6:$BFQ$206,3,FALSE)),\"\",VLOOKUP(B5216,database!$A$6:$BFQ$206,3,FALSE)))","v":""},null,null,null,null,null,null,""]
["",null,{"$f":"IF(B5218=\"\",\"\",IF(ISERROR(VLOOKUP(B5218,database!$A$6:$BFQ$206,4,FALSE)),\"\",VLOOKUP(B5218,database!$A$6:$BFQ$206,4,FALSE)))","v":""},null,null,null,"",null,null,null,{"$f":"IF(B5218=\"\",\"\",IF(ISERROR(VLOOKUP(B5218,database!$A$6:$BFQ$206,3,FALSE)),\"\",VLOOKUP(B5218,database!$A$6:$BFQ$206,3,FALSE)))","v":""},null,null,null,null,null,null,""]
["",null,{"$f":"IF(B5219=\"\",\"\",IF(ISERROR(VLOOKUP(B5219,database!$A$6:$BFQ$206,4,FALSE)),\"\",VLOOKUP(B5219,database!$A$6:$BFQ$206,4,FALSE)))","v":""},null,null,null,"",null,null,null,{"$f":"IF(B5219=\"\",\"\",IF(ISERROR(VLOOKUP(B5219,database!$A$6:$BFQ$206,3,FALSE)),\"\",VLOOKUP(B5219,database!$A$6:$BFQ$206,3,FALSE)))","v":""},null,null,null,null,null,null,""]
["",null,{"$f":"IF(B5222=\"\",\"\",IF(ISERROR(VLOOKUP(B5222,database!$A$6:$BFQ$206,4,FALSE)),\"\",VLOOKUP(B5222,database!$A$6:$BFQ$206,4,FALSE)))","v":""},null,null,null,"",null,null,null,{"$f":"IF(B5222=\"\",\"\",IF(ISERROR(VLOOKUP(B5222,database!$A$6:$BFQ$206,3,FALSE)),\"\",VLOOKUP(B5222,database!$A$6:$BFQ$206,3,FALSE)))","v":""},null,null,null,null,null,null,""]
["",null,{"$f":"IF(B5223=\"\",\"\",IF(ISERROR(VLOOKUP(B5223,database!$A$6:$BFQ$206,4,FALSE)),\"\",VLOOKUP(B5223,database!$A$6:$BFQ$206,4,FALSE)))","v":""},null,null,null,"",null,null,null,{"$f":"IF(B5223=\"\",\"\",IF(ISERROR(VLOOKUP(B5223,database!$A$6:$BFQ$206,3,FALSE)),\"\",VLOOKUP(B5223,database!$A$6:$BFQ$206,3,FALSE)))","v":""},null,null,null,null,null,null,""]
["",null,{"$f":"IF(B5225=\"\",\"\",IF(ISERROR(VLOOKUP(B5225,database!$A$6:$BFQ$206,4,FALSE)),\"\",VLOOKUP(B5225,database!$A$6:$BFQ$206,4,FALSE)))","v":""},null,null,null,"",null,null,null,{"$f":"IF(B5225=\"\",\"\",IF(ISERROR(VLOOKUP(B5225,database!$A$6:$BFQ$206,3,FALSE)),\"\",VLOOKUP(B5225,database!$A$6:$BFQ$206,3,FALSE)))","v":""},null,null,null,null,null,null,""]
["",null,{"$f":"IF(B5226=\"\",\"\",IF(ISERROR(VLOOKUP(B5226,database!$A$6:$BFQ$206,4,FALSE)),\"\",VLOOKUP(B5226,database!$A$6:$BFQ$206,4,FALSE)))","v":""},null,null,null,"",null,null,null,{"$f":"IF(B5226=\"\",\"\",IF(ISERROR(VLOOKUP(B5226,database!$A$6:$BFQ$206,3,FALSE)),\"\",VLOOKUP(B5226,database!$A$6:$BFQ$206,3,FALSE)))","v":""},null,null,null,null,null,null,""]
["",null,{"$f":"IF(B5229=\"\",\"\",IF(ISERROR(VLOOKUP(B5229,database!$A$6:$BFQ$206,4,FALSE)),\"\",VLOOKUP(B5229,database!$A$6:$BFQ$206,4,FALSE)))","v":""},null,null,null,"",null,null,null,{"$f":"IF(B5229=\"\",\"\",IF(ISERROR(VLOOKUP(B5229,database!$A$6:$BFQ$206,3,FALSE)),\"\",VLOOKUP(B5229,database!$A$6:$BFQ$206,3,FALSE)))","v":""},null,null,null,null,null,null,""]
["",null,{"$f":"IF(B5230=\"\",\"\",IF(ISERROR(VLOOKUP(B5230,database!$A$6:$BFQ$206,4,FALSE)),\"\",VLOOKUP(B5230,database!$A$6:$BFQ$206,4,FALSE)))","v":""},null,null,null,"",null,null,null,{"$f":"IF(B5230=\"\",\"\",IF(ISERROR(VLOOKUP(B5230,database!$A$6:$BFQ$206,3,FALSE)),\"\",VLOOKUP(B5230,database!$A$6:$BFQ$206,3,FALSE)))","v":""},null,null,null,null,null,null,""]
["",null,{"$f":"IF(B5232=\"\",\"\",IF(ISERROR(VLOOKUP(B5232,database!$A$6:$BFQ$206,4,FALSE)),\"\",VLOOKUP(B5232,database!$A$6:$BFQ$206,4,FALSE)))","v":""},null,null,null,"",null,null,null,{"$f":"IF(B5232=\"\",\"\",IF(ISERROR(VLOOKUP(B5232,database!$A$6:$BFQ$206,3,FALSE)),\"\",VLOOKUP(B5232,database!$A$6:$BFQ$206,3,FALSE)))","v":""},null,null,null,null,null,null,""]
["",null,{"$f":"IF(B5233=\"\",\"\",IF(ISERROR(VLOOKUP(B5233,database!$A$6:$BFQ$206,4,FALSE)),\"\",VLOOKUP(B5233,database!$A$6:$BFQ$206,4,FALSE)))","v":""},null,null,null,"",null,null,null,{"$f":"IF(B5233=\"\",\"\",IF(ISERROR(VLOOKUP(B5233,database!$A$6:$BFQ$206,3,FALSE)),\"\",VLOOKUP(B5233,database!$A$6:$BFQ$206,3,FALSE)))","v":""},null,null,null,null,null,null,""]
["",null,{"$f":"IF(B5236=\"\",\"\",IF(ISERROR(VLOOKUP(B5236,database!$A$6:$BFQ$206,4,FALSE)),\"\",VLOOKUP(B5236,database!$A$6:$BFQ$206,4,FALSE)))","v":""},null,null,null,"",null,null,null,{"$f":"IF(B5236=\"\",\"\",IF(ISERROR(VLOOKUP(B5236,database!$A$6:$BFQ$206,3,FALSE)),\"\",VLOOKUP(B5236,database!$A$6:$BFQ$206,3,FALSE)))","v":""},null,null,null,null,null,null,""]
["",null,{"$f":"IF(B5237=\"\",\"\",IF(ISERROR(VLOOKUP(B5237,database!$A$6:$BFQ$206,4,FALSE)),\"\",VLOOKUP(B5237,database!$A$6:$BFQ$206,4,FALSE)))","v":""},null,null,null,"",null,null,null,{"$f":"IF(B5237=\"\",\"\",IF(ISERROR(VLOOKUP(B5237,database!$A$6:$BFQ$206,3,FALSE)),\"\",VLOOKUP(B5237,database!$A$6:$BFQ$206,3,FALSE)))","v":""},null,null,null,null,null,null,""]
["",null,{"$f":"IF(B5239=\"\",\"\",IF(ISERROR(VLOOKUP(B5239,database!$A$6:$BFQ$206,4,FALSE)),\"\",VLOOKUP(B5239,database!$A$6:$BFQ$206,4,FALSE)))","v":""},null,null,null,"",null,null,null,{"$f":"IF(B5239=\"\",\"\",IF(ISERROR(VLOOKUP(B5239,database!$A$6:$BFQ$206,3,FALSE)),\"\",VLOOKUP(B5239,database!$A$6:$BFQ$206,3,FALSE)))","v":""},null,null,null,null,null,null,""]
["",null,{"$f":"IF(B5240=\"\",\"\",IF(ISERROR(VLOOKUP(B5240,database!$A$6:$BFQ$206,4,FALSE)),\"\",VLOOKUP(B5240,database!$A$6:$BFQ$206,4,FALSE)))","v":""},null,null,null,"",null,null,null,{"$f":"IF(B5240=\"\",\"\",IF(ISERROR(VLOOKUP(B5240,database!$A$6:$BFQ$206,3,FALSE)),\"\",VLOOKUP(B5240,database!$A$6:$BFQ$206,3,FALSE)))","v":""},null,null,null,null,null,null,""]
["",null,{"$f":"IF(B5243=\"\",\"\",IF(ISERROR(VLOOKUP(B5243,database!$A$6:$BFQ$206,4,FALSE)),\"\",VLOOKUP(B5243,database!$A$6:$BFQ$206,4,FALSE)))","v":""},null,null,null,"",null,null,null,{"$f":"IF(B5243=\"\",\"\",IF(ISERROR(VLOOKUP(B5243,database!$A$6:$BFQ$206,3,FALSE)),\"\",VLOOKUP(B5243,database!$A$6:$BFQ$206,3,FALSE)))","v":""},null,null,null,null,null,null,""]
["",null,{"$f":"IF(B5244=\"\",\"\",IF(ISERROR(VLOOKUP(B5244,database!$A$6:$BFQ$206,4,FALSE)),\"\",VLOOKUP(B5244,database!$A$6:$BFQ$206,4,FALSE)))","v":""},null,null,null,"",null,null,null,{"$f":"IF(B5244=\"\",\"\",IF(ISERROR(VLOOKUP(B5244,database!$A$6:$BFQ$206,3,FALSE)),\"\",VLOOKUP(B5244,database!$A$6:$BFQ$206,3,FALSE)))","v":""},null,null,null,null,null,null,""]
["",null,{"$f":"IF(B5247=\"\",\"\",IF(ISERROR(VLOOKUP(B5247,database!$A$6:$BFQ$206,4,FALSE)),\"\",VLOOKUP(B5247,database!$A$6:$BFQ$206,4,FALSE)))","v":""},null,null,null,"",null,null,null,{"$f":"IF(B5247=\"\",\"\",IF(ISERROR(VLOOKUP(B5247,database!$A$6:$BFQ$206,3,FALSE)),\"\",VLOOKUP(B5247,database!$A$6:$BFQ$206,3,FALSE)))","v":""},null,null,null,null,null,null,""]
["",null,{"$f":"IF(B5248=\"\",\"\",IF(ISERROR(VLOOKUP(B5248,database!$A$6:$BFQ$206,4,FALSE)),\"\",VLOOKUP(B5248,database!$A$6:$BFQ$206,4,FALSE)))","v":""},null,null,null,"",null,null,null,{"$f":"IF(B5248=\"\",\"\",IF(ISERROR(VLOOKUP(B5248,database!$A$6:$BFQ$206,3,FALSE)),\"\",VLOOKUP(B5248,database!$A$6:$BFQ$206,3,FALSE)))","v":""},null,null,null,null,null,null,""]
["",null,{"$f":"IF(B5250=\"\",\"\",IF(ISERROR(VLOOKUP(B5250,database!$A$6:$BFQ$206,4,FALSE)),\"\",VLOOKUP(B5250,database!$A$6:$BFQ$206,4,FALSE)))","v":""},null,null,null,"",null,null,null,{"$f":"IF(B5250=\"\",\"\",IF(ISERROR(VLOOKUP(B5250,database!$A$6:$BFQ$206,3,FALSE)),\"\",VLOOKUP(B5250,database!$A$6:$BFQ$206,3,FALSE)))","v":""},null,null,null,null,null,null,""]
["",null,{"$f":"IF(B5251=\"\",\"\",IF(ISERROR(VLOOKUP(B5251,database!$A$6:$BFQ$206,4,FALSE)),\"\",VLOOKUP(B5251,database!$A$6:$BFQ$206,4,FALSE)))","v":""},null,null,null,"",null,null,null,{"$f":"IF(B5251=\"\",\"\",IF(ISERROR(VLOOKUP(B5251,database!$A$6:$BFQ$206,3,FALSE)),\"\",VLOOKUP(B5251,database!$A$6:$BFQ$206,3,FALSE)))","v":""},null,null,null,null,null,null,""]
["",null,{"$f":"IF(B5254=\"\",\"\",IF(ISERROR(VLOOKUP(B5254,database!$A$6:$BFQ$206,4,FALSE)),\"\",VLOOKUP(B5254,database!$A$6:$BFQ$206,4,FALSE)))","v":""},null,null,null,"",null,null,null,{"$f":"IF(B5254=\"\",\"\",IF(ISERROR(VLOOKUP(B5254,database!$A$6:$BFQ$206,3,FALSE)),\"\",VLOOKUP(B5254,database!$A$6:$BFQ$206,3,FALSE)))","v":""},null,null,null,null,null,null,""]
["",null,{"$f":"IF(B5255=\"\",\"\",IF(ISERROR(VLOOKUP(B5255,database!$A$6:$BFQ$206,4,FALSE)),\"\",VLOOKUP(B5255,database!$A$6:$BFQ$206,4,FALSE)))","v":""},null,null,null,"",null,null,null,{"$f":"IF(B5255=\"\",\"\",IF(ISERROR(VLOOKUP(B5255,database!$A$6:$BFQ$206,3,FALSE)),\"\",VLOOKUP(B5255,database!$A$6:$BFQ$206,3,FALSE)))","v":""},null,null,null,null,null,null,""]
["",null,{"$f":"IF(B5257=\"\",\"\",IF(ISERROR(VLOOKUP(B5257,database!$A$6:$BFQ$206,4,FALSE)),\"\",VLOOKUP(B5257,database!$A$6:$BFQ$206,4,FALSE)))","v":""},null,null,null,"",null,null,null,{"$f":"IF(B5257=\"\",\"\",IF(ISERROR(VLOOKUP(B5257,database!$A$6:$BFQ$206,3,FALSE)),\"\",VLOOKUP(B5257,database!$A$6:$BFQ$206,3,FALSE)))","v":""},null,null,null,null,null,null,""]
["",null,{"$f":"IF(B5258=\"\",\"\",IF(ISERROR(VLOOKUP(B5258,database!$A$6:$BFQ$206,4,FALSE)),\"\",VLOOKUP(B5258,database!$A$6:$BFQ$206,4,FALSE)))","v":""},null,null,null,"",null,null,null,{"$f":"IF(B5258=\"\",\"\",IF(ISERROR(VLOOKUP(B5258,database!$A$6:$BFQ$206,3,FALSE)),\"\",VLOOKUP(B5258,database!$A$6:$BFQ$206,3,FALSE)))","v":""},null,null,null,null,null,null,""]
["",null,{"$f":"IF(B5261=\"\",\"\",IF(ISERROR(VLOOKUP(B5261,database!$A$6:$BFQ$206,4,FALSE)),\"\",VLOOKUP(B5261,database!$A$6:$BFQ$206,4,FALSE)))","v":""},null,null,null,"",null,null,null,{"$f":"IF(B5261=\"\",\"\",IF(ISERROR(VLOOKUP(B5261,database!$A$6:$BFQ$206,3,FALSE)),\"\",VLOOKUP(B5261,database!$A$6:$BFQ$206,3,FALSE)))","v":""},null,null,null,null,null,null,""]
["",null,{"$f":"IF(B5262=\"\",\"\",IF(ISERROR(VLOOKUP(B5262,database!$A$6:$BFQ$206,4,FALSE)),\"\",VLOOKUP(B5262,database!$A$6:$BFQ$206,4,FALSE)))","v":""},null,null,null,"",null,null,null,{"$f":"IF(B5262=\"\",\"\",IF(ISERROR(VLOOKUP(B5262,database!$A$6:$BFQ$206,3,FALSE)),\"\",VLOOKUP(B5262,database!$A$6:$BFQ$206,3,FALSE)))","v":""},null,null,null,null,null,null,""]
["",null,{"$f":"IF(B5264=\"\",\"\",IF(ISERROR(VLOOKUP(B5264,database!$A$6:$BFQ$206,4,FALSE)),\"\",VLOOKUP(B5264,database!$A$6:$BFQ$206,4,FALSE)))","v":""},null,null,null,"",null,null,null,{"$f":"IF(B5264=\"\",\"\",IF(ISERROR(VLOOKUP(B5264,database!$A$6:$BFQ$206,3,FALSE)),\"\",VLOOKUP(B5264,database!$A$6:$BFQ$206,3,FALSE)))","v":""},null,null,null,null,null,null,""]
["",null,{"$f":"IF(B5265=\"\",\"\",IF(ISERROR(VLOOKUP(B5265,database!$A$6:$BFQ$206,4,FALSE)),\"\",VLOOKUP(B5265,database!$A$6:$BFQ$206,4,FALSE)))","v":""},null,null,null,"",null,null,null,{"$f":"IF(B5265=\"\",\"\",IF(ISERROR(VLOOKUP(B5265,database!$A$6:$BFQ$206,3,FALSE)),\"\",VLOOKUP(B5265,database!$A$6:$BFQ$206,3,FALSE)))","v":""},null,null,null,null,null,null,""]
["",null,{"$f":"IF(B5268=\"\",\"\",IF(ISERROR(VLOOKUP(B5268,database!$A$6:$BFQ$206,4,FALSE)),\"\",VLOOKUP(B5268,database!$A$6:$BFQ$206,4,FALSE)))","v":""},null,null,null,"",null,null,null,{"$f":"IF(B5268=\"\",\"\",IF(ISERROR(VLOOKUP(B5268,database!$A$6:$BFQ$206,3,FALSE)),\"\",VLOOKUP(B5268,database!$A$6:$BFQ$206,3,FALSE)))","v":""},null,null,null,null,null,null,""]
["",null,{"$f":"IF(B5269=\"\",\"\",IF(ISERROR(VLOOKUP(B5269,database!$A$6:$BFQ$206,4,FALSE)),\"\",VLOOKUP(B5269,database!$A$6:$BFQ$206,4,FALSE)))","v":""},null,null,null,"",null,null,null,{"$f":"IF(B5269=\"\",\"\",IF(ISERROR(VLOOKUP(B5269,database!$A$6:$BFQ$206,3,FALSE)),\"\",VLOOKUP(B5269,database!$A$6:$BFQ$206,3,FALSE)))","v":""},null,null,null,null,null,null,""]
["",null,{"$f":"IF(B5271=\"\",\"\",IF(ISERROR(VLOOKUP(B5271,database!$A$6:$BFQ$206,4,FALSE)),\"\",VLOOKUP(B5271,database!$A$6:$BFQ$206,4,FALSE)))","v":""},null,null,null,"",null,null,null,{"$f":"IF(B5271=\"\",\"\",IF(ISERROR(VLOOKUP(B5271,database!$A$6:$BFQ$206,3,FALSE)),\"\",VLOOKUP(B5271,database!$A$6:$BFQ$206,3,FALSE)))","v":""},null,null,null,null,null,null,""]
["",null,{"$f":"IF(B5272=\"\",\"\",IF(ISERROR(VLOOKUP(B5272,database!$A$6:$BFQ$206,4,FALSE)),\"\",VLOOKUP(B5272,database!$A$6:$BFQ$206,4,FALSE)))","v":""},null,null,null,"",null,null,null,{"$f":"IF(B5272=\"\",\"\",IF(ISERROR(VLOOKUP(B5272,database!$A$6:$BFQ$206,3,FALSE)),\"\",VLOOKUP(B5272,database!$A$6:$BFQ$206,3,FALSE)))","v":""},null,null,null,null,null,null,""]
["",null,{"$f":"IF(B5275=\"\",\"\",IF(ISERROR(VLOOKUP(B5275,database!$A$6:$BFQ$206,4,FALSE)),\"\",VLOOKUP(B5275,database!$A$6:$BFQ$206,4,FALSE)))","v":""},null,null,null,"",null,null,null,{"$f":"IF(B5275=\"\",\"\",IF(ISERROR(VLOOKUP(B5275,database!$A$6:$BFQ$206,3,FALSE)),\"\",VLOOKUP(B5275,database!$A$6:$BFQ$206,3,FALSE)))","v":""},null,null,null,null,null,null,""]
["",null,{"$f":"IF(B5276=\"\",\"\",IF(ISERROR(VLOOKUP(B5276,database!$A$6:$BFQ$206,4,FALSE)),\"\",VLOOKUP(B5276,database!$A$6:$BFQ$206,4,FALSE)))","v":""},null,null,null,"",null,null,null,{"$f":"IF(B5276=\"\",\"\",IF(ISERROR(VLOOKUP(B5276,database!$A$6:$BFQ$206,3,FALSE)),\"\",VLOOKUP(B5276,database!$A$6:$BFQ$206,3,FALSE)))","v":""},null,null,null,null,null,null,""]
["",null,{"$f":"IF(B5278=\"\",\"\",IF(ISERROR(VLOOKUP(B5278,database!$A$6:$BFQ$206,4,FALSE)),\"\",VLOOKUP(B5278,database!$A$6:$BFQ$206,4,FALSE)))","v":""},null,null,null,"",null,null,null,{"$f":"IF(B5278=\"\",\"\",IF(ISERROR(VLOOKUP(B5278,database!$A$6:$BFQ$206,3,FALSE)),\"\",VLOOKUP(B5278,database!$A$6:$BFQ$206,3,FALSE)))","v":""},null,null,null,null,null,null,""]
["",null,{"$f":"IF(B5279=\"\",\"\",IF(ISERROR(VLOOKUP(B5279,database!$A$6:$BFQ$206,4,FALSE)),\"\",VLOOKUP(B5279,database!$A$6:$BFQ$206,4,FALSE)))","v":""},null,null,null,"",null,null,null,{"$f":"IF(B5279=\"\",\"\",IF(ISERROR(VLOOKUP(B5279,database!$A$6:$BFQ$206,3,FALSE)),\"\",VLOOKUP(B5279,database!$A$6:$BFQ$206,3,FALSE)))","v":""},null,null,null,null,null,null,""]
["",null,{"$f":"IF(B5282=\"\",\"\",IF(ISERROR(VLOOKUP(B5282,database!$A$6:$BFQ$206,4,FALSE)),\"\",VLOOKUP(B5282,database!$A$6:$BFQ$206,4,FALSE)))","v":""},null,null,null,"",null,null,null,{"$f":"IF(B5282=\"\",\"\",IF(ISERROR(VLOOKUP(B5282,database!$A$6:$BFQ$206,3,FALSE)),\"\",VLOOKUP(B5282,database!$A$6:$BFQ$206,3,FALSE)))","v":""},null,null,null,null,null,null,""]
["",null,{"$f":"IF(B5283=\"\",\"\",IF(ISERROR(VLOOKUP(B5283,database!$A$6:$BFQ$206,4,FALSE)),\"\",VLOOKUP(B5283,database!$A$6:$BFQ$206,4,FALSE)))","v":""},null,null,null,"",null,null,null,{"$f":"IF(B5283=\"\",\"\",IF(ISERROR(VLOOKUP(B5283,database!$A$6:$BFQ$206,3,FALSE)),\"\",VLOOKUP(B5283,database!$A$6:$BFQ$206,3,FALSE)))","v":""},null,null,null,null,null,null,""]
["",null,{"$f":"IF(B5285=\"\",\"\",IF(ISERROR(VLOOKUP(B5285,database!$A$6:$BFQ$206,4,FALSE)),\"\",VLOOKUP(B5285,database!$A$6:$BFQ$206,4,FALSE)))","v":""},null,null,null,"",null,null,null,{"$f":"IF(B5285=\"\",\"\",IF(ISERROR(VLOOKUP(B5285,database!$A$6:$BFQ$206,3,FALSE)),\"\",VLOOKUP(B5285,database!$A$6:$BFQ$206,3,FALSE)))","v":""},null,null,null,null,null,null,""]
["",null,{"$f":"IF(B5286=\"\",\"\",IF(ISERROR(VLOOKUP(B5286,database!$A$6:$BFQ$206,4,FALSE)),\"\",VLOOKUP(B5286,database!$A$6:$BFQ$206,4,FALSE)))","v":""},null,null,null,"",null,null,null,{"$f":"IF(B5286=\"\",\"\",IF(ISERROR(VLOOKUP(B5286,database!$A$6:$BFQ$206,3,FALSE)),\"\",VLOOKUP(B5286,database!$A$6:$BFQ$206,3,FALSE)))","v":""},null,null,null,null,null,null,""]
["",null,{"$f":"IF(B5289=\"\",\"\",IF(ISERROR(VLOOKUP(B5289,database!$A$6:$BFQ$206,4,FALSE)),\"\",VLOOKUP(B5289,database!$A$6:$BFQ$206,4,FALSE)))","v":""},null,null,null,"",null,null,null,{"$f":"IF(B5289=\"\",\"\",IF(ISERROR(VLOOKUP(B5289,database!$A$6:$BFQ$206,3,FALSE)),\"\",VLOOKUP(B5289,database!$A$6:$BFQ$206,3,FALSE)))","v":""},null,null,null,null,null,null,""]
["",null,{"$f":"IF(B5290=\"\",\"\",IF(ISERROR(VLOOKUP(B5290,database!$A$6:$BFQ$206,4,FALSE)),\"\",VLOOKUP(B5290,database!$A$6:$BFQ$206,4,FALSE)))","v":""},null,null,null,"",null,null,null,{"$f":"IF(B5290=\"\",\"\",IF(ISERROR(VLOOKUP(B5290,database!$A$6:$BFQ$206,3,FALSE)),\"\",VLOOKUP(B5290,database!$A$6:$BFQ$206,3,FALSE)))","v":""},null,null,null,null,null,null,""]
["",null,{"$f":"IF(B5292=\"\",\"\",IF(ISERROR(VLOOKUP(B5292,database!$A$6:$BFQ$206,4,FALSE)),\"\",VLOOKUP(B5292,database!$A$6:$BFQ$206,4,FALSE)))","v":""},null,null,null,"",null,null,null,{"$f":"IF(B5292=\"\",\"\",IF(ISERROR(VLOOKUP(B5292,database!$A$6:$BFQ$206,3,FALSE)),\"\",VLOOKUP(B5292,database!$A$6:$BFQ$206,3,FALSE)))","v":""},null,null,null,null,null,null,""]
["",null,{"$f":"IF(B5293=\"\",\"\",IF(ISERROR(VLOOKUP(B5293,database!$A$6:$BFQ$206,4,FALSE)),\"\",VLOOKUP(B5293,database!$A$6:$BFQ$206,4,FALSE)))","v":""},null,null,null,"",null,null,null,{"$f":"IF(B5293=\"\",\"\",IF(ISERROR(VLOOKUP(B5293,database!$A$6:$BFQ$206,3,FALSE)),\"\",VLOOKUP(B5293,database!$A$6:$BFQ$206,3,FALSE)))","v":""},null,null,null,null,null,null,""]
["",null,{"$f":"IF(B5296=\"\",\"\",IF(ISERROR(VLOOKUP(B5296,database!$A$6:$BFQ$206,4,FALSE)),\"\",VLOOKUP(B5296,database!$A$6:$BFQ$206,4,FALSE)))","v":""},null,null,null,"",null,null,null,{"$f":"IF(B5296=\"\",\"\",IF(ISERROR(VLOOKUP(B5296,database!$A$6:$BFQ$206,3,FALSE)),\"\",VLOOKUP(B5296,database!$A$6:$BFQ$206,3,FALSE)))","v":""},null,null,null,null,null,null,""]
["",null,{"$f":"IF(B5297=\"\",\"\",IF(ISERROR(VLOOKUP(B5297,database!$A$6:$BFQ$206,4,FALSE)),\"\",VLOOKUP(B5297,database!$A$6:$BFQ$206,4,FALSE)))","v":""},null,null,null,"",null,null,null,{"$f":"IF(B5297=\"\",\"\",IF(ISERROR(VLOOKUP(B5297,database!$A$6:$BFQ$206,3,FALSE)),\"\",VLOOKUP(B5297,database!$A$6:$BFQ$206,3,FALSE)))","v":""},null,null,null,null,null,null,""]
["",null,{"$f":"IF(B5299=\"\",\"\",IF(ISERROR(VLOOKUP(B5299,database!$A$6:$BFQ$206,4,FALSE)),\"\",VLOOKUP(B5299,database!$A$6:$BFQ$206,4,FALSE)))","v":""},null,null,null,"",null,null,null,{"$f":"IF(B5299=\"\",\"\",IF(ISERROR(VLOOKUP(B5299,database!$A$6:$BFQ$206,3,FALSE)),\"\",VLOOKUP(B5299,database!$A$6:$BFQ$206,3,FALSE)))","v":""},null,null,null,null,null,null,""]
["",null,{"$f":"IF(B5300=\"\",\"\",IF(ISERROR(VLOOKUP(B5300,database!$A$6:$BFQ$206,4,FALSE)),\"\",VLOOKUP(B5300,database!$A$6:$BFQ$206,4,FALSE)))","v":""},null,null,null,"",null,null,null,{"$f":"IF(B5300=\"\",\"\",IF(ISERROR(VLOOKUP(B5300,database!$A$6:$BFQ$206,3,FALSE)),\"\",VLOOKUP(B5300,database!$A$6:$BFQ$206,3,FALSE)))","v":""},null,null,null,null,null,null,""]
["",null,{"$f":"IF(B5303=\"\",\"\",IF(ISERROR(VLOOKUP(B5303,database!$A$6:$BFQ$206,4,FALSE)),\"\",VLOOKUP(B5303,database!$A$6:$BFQ$206,4,FALSE)))","v":""},null,null,null,"",null,null,null,{"$f":"IF(B5303=\"\",\"\",IF(ISERROR(VLOOKUP(B5303,database!$A$6:$BFQ$206,3,FALSE)),\"\",VLOOKUP(B5303,database!$A$6:$BFQ$206,3,FALSE)))","v":""},null,null,null,null,null,null,""]
["",null,{"$f":"IF(B5304=\"\",\"\",IF(ISERROR(VLOOKUP(B5304,database!$A$6:$BFQ$206,4,FALSE)),\"\",VLOOKUP(B5304,database!$A$6:$BFQ$206,4,FALSE)))","v":""},null,null,null,"",null,null,null,{"$f":"IF(B5304=\"\",\"\",IF(ISERROR(VLOOKUP(B5304,database!$A$6:$BFQ$206,3,FALSE)),\"\",VLOOKUP(B5304,database!$A$6:$BFQ$206,3,FALSE)))","v":""},null,null,null,null,null,null,""]
["",null,{"$f":"IF(B5306=\"\",\"\",IF(ISERROR(VLOOKUP(B5306,database!$A$6:$BFQ$206,4,FALSE)),\"\",VLOOKUP(B5306,database!$A$6:$BFQ$206,4,FALSE)))","v":""},null,null,null,"",null,null,null,{"$f":"IF(B5306=\"\",\"\",IF(ISERROR(VLOOKUP(B5306,database!$A$6:$BFQ$206,3,FALSE)),\"\",VLOOKUP(B5306,database!$A$6:$BFQ$206,3,FALSE)))","v":""},null,null,null,null,null,null,""]
["",null,{"$f":"IF(B5307=\"\",\"\",IF(ISERROR(VLOOKUP(B5307,database!$A$6:$BFQ$206,4,FALSE)),\"\",VLOOKUP(B5307,database!$A$6:$BFQ$206,4,FALSE)))","v":""},null,null,null,"",null,null,null,{"$f":"IF(B5307=\"\",\"\",IF(ISERROR(VLOOKUP(B5307,database!$A$6:$BFQ$206,3,FALSE)),\"\",VLOOKUP(B5307,database!$A$6:$BFQ$206,3,FALSE)))","v":""},null,null,null,null,null,null,""]
["",null,{"$f":"IF(B5310=\"\",\"\",IF(ISERROR(VLOOKUP(B5310,database!$A$6:$BFQ$206,4,FALSE)),\"\",VLOOKUP(B5310,database!$A$6:$BFQ$206,4,FALSE)))","v":""},null,null,null,"",null,null,null,{"$f":"IF(B5310=\"\",\"\",IF(ISERROR(VLOOKUP(B5310,database!$A$6:$BFQ$206,3,FALSE)),\"\",VLOOKUP(B5310,database!$A$6:$BFQ$206,3,FALSE)))","v":""},null,null,null,null,null,null,""]
["",null,{"$f":"IF(B5311=\"\",\"\",IF(ISERROR(VLOOKUP(B5311,database!$A$6:$BFQ$206,4,FALSE)),\"\",VLOOKUP(B5311,database!$A$6:$BFQ$206,4,FALSE)))","v":""},null,null,null,"",null,null,null,{"$f":"IF(B5311=\"\",\"\",IF(ISERROR(VLOOKUP(B5311,database!$A$6:$BFQ$206,3,FALSE)),\"\",VLOOKUP(B5311,database!$A$6:$BFQ$206,3,FALSE)))","v":""},null,null,null,null,null,null,""]
[{"$f":"IF(B5313=\"\",\"\",ROW(A5310))","v":""},null,{"$f":"IF(B5313=\"\",\"\",IF(ISERROR(VLOOKUP(B5313,database!$A$6:$BFQ$206,4,FALSE)),\"\",VLOOKUP(B5313,database!$A$6:$BFQ$206,4,FALSE)))","v":""},null,null,null,{"$f":"IF(B5313=\"\",\"\",IF(C5313=\"\",0,1))","v":""},null,null,null,{"$f":"IF(B5313=\"\",\"\",IF(ISERROR(VLOOKUP(B5313,database!$A$6:$BFQ$206,3,FALSE)),\"\",VLOOKUP(B5313,database!$A$6:$BFQ$206,3,FALSE)))","v":""},null,null,null,null,null,null,{"$f":"LEFT(C5313,2)","v":""}]
["",null,{"$f":"IF(B5314=\"\",\"\",IF(ISERROR(VLOOKUP(B5314,database!$A$6:$BFQ$206,4,FALSE)),\"\",VLOOKUP(B5314,database!$A$6:$BFQ$206,4,FALSE)))","v":""},null,null,null,"",null,null,null,{"$f":"IF(B5314=\"\",\"\",IF(ISERROR(VLOOKUP(B5314,database!$A$6:$BFQ$206,3,FALSE)),\"\",VLOOKUP(B5314,database!$A$6:$BFQ$206,3,FALSE)))","v":""},null,null,null,null,null,null,""]
["",null,{"$f":"IF(B5317=\"\",\"\",IF(ISERROR(VLOOKUP(B5317,database!$A$6:$BFQ$206,4,FALSE)),\"\",VLOOKUP(B5317,database!$A$6:$BFQ$206,4,FALSE)))","v":""},null,null,null,"",null,null,null,{"$f":"IF(B5317=\"\",\"\",IF(ISERROR(VLOOKUP(B5317,database!$A$6:$BFQ$206,3,FALSE)),\"\",VLOOKUP(B5317,database!$A$6:$BFQ$206,3,FALSE)))","v":""},null,null,null,null,null,null,""]
["",null,{"$f":"IF(B5318=\"\",\"\",IF(ISERROR(VLOOKUP(B5318,database!$A$6:$BFQ$206,4,FALSE)),\"\",VLOOKUP(B5318,database!$A$6:$BFQ$206,4,FALSE)))","v":""},null,null,null,"",null,null,null,{"$f":"IF(B5318=\"\",\"\",IF(ISERROR(VLOOKUP(B5318,database!$A$6:$BFQ$206,3,FALSE)),\"\",VLOOKUP(B5318,database!$A$6:$BFQ$206,3,FALSE)))","v":""},null,null,null,null,null,null,""]
["",null,{"$f":"IF(B5320=\"\",\"\",IF(ISERROR(VLOOKUP(B5320,database!$A$6:$BFQ$206,4,FALSE)),\"\",VLOOKUP(B5320,database!$A$6:$BFQ$206,4,FALSE)))","v":""},null,null,null,"",null,null,null,{"$f":"IF(B5320=\"\",\"\",IF(ISERROR(VLOOKUP(B5320,database!$A$6:$BFQ$206,3,FALSE)),\"\",VLOOKUP(B5320,database!$A$6:$BFQ$206,3,FALSE)))","v":""},null,null,null,null,null,null,""]
["",null,{"$f":"IF(B5321=\"\",\"\",IF(ISERROR(VLOOKUP(B5321,database!$A$6:$BFQ$206,4,FALSE)),\"\",VLOOKUP(B5321,database!$A$6:$BFQ$206,4,FALSE)))","v":""},null,null,null,"",null,null,null,{"$f":"IF(B5321=\"\",\"\",IF(ISERROR(VLOOKUP(B5321,database!$A$6:$BFQ$206,3,FALSE)),\"\",VLOOKUP(B5321,database!$A$6:$BFQ$206,3,FALSE)))","v":""},null,null,null,null,null,null,""]
["",null,{"$f":"IF(B5324=\"\",\"\",IF(ISERROR(VLOOKUP(B5324,database!$A$6:$BFQ$206,4,FALSE)),\"\",VLOOKUP(B5324,database!$A$6:$BFQ$206,4,FALSE)))","v":""},null,null,null,"",null,null,null,{"$f":"IF(B5324=\"\",\"\",IF(ISERROR(VLOOKUP(B5324,database!$A$6:$BFQ$206,3,FALSE)),\"\",VLOOKUP(B5324,database!$A$6:$BFQ$206,3,FALSE)))","v":""},null,null,null,null,null,null,""]
["",null,{"$f":"IF(B5325=\"\",\"\",IF(ISERROR(VLOOKUP(B5325,database!$A$6:$BFQ$206,4,FALSE)),\"\",VLOOKUP(B5325,database!$A$6:$BFQ$206,4,FALSE)))","v":""},null,null,null,"",null,null,null,{"$f":"IF(B5325=\"\",\"\",IF(ISERROR(VLOOKUP(B5325,database!$A$6:$BFQ$206,3,FALSE)),\"\",VLOOKUP(B5325,database!$A$6:$BFQ$206,3,FALSE)))","v":""},null,null,null,null,null,null,""]
["",null,{"$f":"IF(B5327=\"\",\"\",IF(ISERROR(VLOOKUP(B5327,database!$A$6:$BFQ$206,4,FALSE)),\"\",VLOOKUP(B5327,database!$A$6:$BFQ$206,4,FALSE)))","v":""},null,null,null,"",null,null,null,{"$f":"IF(B5327=\"\",\"\",IF(ISERROR(VLOOKUP(B5327,database!$A$6:$BFQ$206,3,FALSE)),\"\",VLOOKUP(B5327,database!$A$6:$BFQ$206,3,FALSE)))","v":""},null,null,null,null,null,null,""]
["",null,{"$f":"IF(B5328=\"\",\"\",IF(ISERROR(VLOOKUP(B5328,database!$A$6:$BFQ$206,4,FALSE)),\"\",VLOOKUP(B5328,database!$A$6:$BFQ$206,4,FALSE)))","v":""},null,null,null,"",null,null,null,{"$f":"IF(B5328=\"\",\"\",IF(ISERROR(VLOOKUP(B5328,database!$A$6:$BFQ$206,3,FALSE)),\"\",VLOOKUP(B5328,database!$A$6:$BFQ$206,3,FALSE)))","v":""},null,null,null,null,null,null,""]
["",null,{"$f":"IF(B5331=\"\",\"\",IF(ISERROR(VLOOKUP(B5331,database!$A$6:$BFQ$206,4,FALSE)),\"\",VLOOKUP(B5331,database!$A$6:$BFQ$206,4,FALSE)))","v":""},null,null,null,"",null,null,null,{"$f":"IF(B5331=\"\",\"\",IF(ISERROR(VLOOKUP(B5331,database!$A$6:$BFQ$206,3,FALSE)),\"\",VLOOKUP(B5331,database!$A$6:$BFQ$206,3,FALSE)))","v":""},null,null,null,null,null,null,""]
["",null,{"$f":"IF(B5332=\"\",\"\",IF(ISERROR(VLOOKUP(B5332,database!$A$6:$BFQ$206,4,FALSE)),\"\",VLOOKUP(B5332,database!$A$6:$BFQ$206,4,FALSE)))","v":""},null,null,null,"",null,null,null,{"$f":"IF(B5332=\"\",\"\",IF(ISERROR(VLOOKUP(B5332,database!$A$6:$BFQ$206,3,FALSE)),\"\",VLOOKUP(B5332,database!$A$6:$BFQ$206,3,FALSE)))","v":""},null,null,null,null,null,null,""]
["",null,{"$f":"IF(B5334=\"\",\"\",IF(ISERROR(VLOOKUP(B5334,database!$A$6:$BFQ$206,4,FALSE)),\"\",VLOOKUP(B5334,database!$A$6:$BFQ$206,4,FALSE)))","v":""},null,null,null,"",null,null,null,{"$f":"IF(B5334=\"\",\"\",IF(ISERROR(VLOOKUP(B5334,database!$A$6:$BFQ$206,3,FALSE)),\"\",VLOOKUP(B5334,database!$A$6:$BFQ$206,3,FALSE)))","v":""},null,null,null,null,null,null,""]
["",null,{"$f":"IF(B5335=\"\",\"\",IF(ISERROR(VLOOKUP(B5335,database!$A$6:$BFQ$206,4,FALSE)),\"\",VLOOKUP(B5335,database!$A$6:$BFQ$206,4,FALSE)))","v":""},null,null,null,"",null,null,null,{"$f":"IF(B5335=\"\",\"\",IF(ISERROR(VLOOKUP(B5335,database!$A$6:$BFQ$206,3,FALSE)),\"\",VLOOKUP(B5335,database!$A$6:$BFQ$206,3,FALSE)))","v":""},null,null,null,null,null,null,""]
["",null,{"$f":"IF(B5338=\"\",\"\",IF(ISERROR(VLOOKUP(B5338,database!$A$6:$BFQ$206,4,FALSE)),\"\",VLOOKUP(B5338,database!$A$6:$BFQ$206,4,FALSE)))","v":""},null,null,null,"",null,null,null,{"$f":"IF(B5338=\"\",\"\",IF(ISERROR(VLOOKUP(B5338,database!$A$6:$BFQ$206,3,FALSE)),\"\",VLOOKUP(B5338,database!$A$6:$BFQ$206,3,FALSE)))","v":""},null,null,null,null,null,null,""]
["",null,{"$f":"IF(B5339=\"\",\"\",IF(ISERROR(VLOOKUP(B5339,database!$A$6:$BFQ$206,4,FALSE)),\"\",VLOOKUP(B5339,database!$A$6:$BFQ$206,4,FALSE)))","v":""},null,null,null,"",null,null,null,{"$f":"IF(B5339=\"\",\"\",IF(ISERROR(VLOOKUP(B5339,database!$A$6:$BFQ$206,3,FALSE)),\"\",VLOOKUP(B5339,database!$A$6:$BFQ$206,3,FALSE)))","v":""},null,null,null,null,null,null,""]
["",null,{"$f":"IF(B5341=\"\",\"\",IF(ISERROR(VLOOKUP(B5341,database!$A$6:$BFQ$206,4,FALSE)),\"\",VLOOKUP(B5341,database!$A$6:$BFQ$206,4,FALSE)))","v":""},null,null,null,"",null,null,null,{"$f":"IF(B5341=\"\",\"\",IF(ISERROR(VLOOKUP(B5341,database!$A$6:$BFQ$206,3,FALSE)),\"\",VLOOKUP(B5341,database!$A$6:$BFQ$206,3,FALSE)))","v":""},null,null,null,null,null,null,""]
["",null,{"$f":"IF(B5342=\"\",\"\",IF(ISERROR(VLOOKUP(B5342,database!$A$6:$BFQ$206,4,FALSE)),\"\",VLOOKUP(B5342,database!$A$6:$BFQ$206,4,FALSE)))","v":""},null,null,null,"",null,null,null,{"$f":"IF(B5342=\"\",\"\",IF(ISERROR(VLOOKUP(B5342,database!$A$6:$BFQ$206,3,FALSE)),\"\",VLOOKUP(B5342,database!$A$6:$BFQ$206,3,FALSE)))","v":""},null,null,null,null,null,null,""]
["",null,{"$f":"IF(B5345=\"\",\"\",IF(ISERROR(VLOOKUP(B5345,database!$A$6:$BFQ$206,4,FALSE)),\"\",VLOOKUP(B5345,database!$A$6:$BFQ$206,4,FALSE)))","v":""},null,null,null,"",null,null,null,{"$f":"IF(B5345=\"\",\"\",IF(ISERROR(VLOOKUP(B5345,database!$A$6:$BFQ$206,3,FALSE)),\"\",VLOOKUP(B5345,database!$A$6:$BFQ$206,3,FALSE)))","v":""},null,null,null,null,null,null,""]
["",null,{"$f":"IF(B5346=\"\",\"\",IF(ISERROR(VLOOKUP(B5346,database!$A$6:$BFQ$206,4,FALSE)),\"\",VLOOKUP(B5346,database!$A$6:$BFQ$206,4,FALSE)))","v":""},null,null,null,"",null,null,null,{"$f":"IF(B5346=\"\",\"\",IF(ISERROR(VLOOKUP(B5346,database!$A$6:$BFQ$206,3,FALSE)),\"\",VLOOKUP(B5346,database!$A$6:$BFQ$206,3,FALSE)))","v":""},null,null,null,null,null,null,""]
["",null,{"$f":"IF(B5348=\"\",\"\",IF(ISERROR(VLOOKUP(B5348,database!$A$6:$BFQ$206,4,FALSE)),\"\",VLOOKUP(B5348,database!$A$6:$BFQ$206,4,FALSE)))","v":""},null,null,null,"",null,null,null,{"$f":"IF(B5348=\"\",\"\",IF(ISERROR(VLOOKUP(B5348,database!$A$6:$BFQ$206,3,FALSE)),\"\",VLOOKUP(B5348,database!$A$6:$BFQ$206,3,FALSE)))","v":""},null,null,null,null,null,null,""]
["",null,{"$f":"IF(B5349=\"\",\"\",IF(ISERROR(VLOOKUP(B5349,database!$A$6:$BFQ$206,4,FALSE)),\"\",VLOOKUP(B5349,database!$A$6:$BFQ$206,4,FALSE)))","v":""},null,null,null,"",null,null,null,{"$f":"IF(B5349=\"\",\"\",IF(ISERROR(VLOOKUP(B5349,database!$A$6:$BFQ$206,3,FALSE)),\"\",VLOOKUP(B5349,database!$A$6:$BFQ$206,3,FALSE)))","v":""},null,null,null,null,null,null,""]
["",null,{"$f":"IF(B5352=\"\",\"\",IF(ISERROR(VLOOKUP(B5352,database!$A$6:$BFQ$206,4,FALSE)),\"\",VLOOKUP(B5352,database!$A$6:$BFQ$206,4,FALSE)))","v":""},null,null,null,"",null,null,null,{"$f":"IF(B5352=\"\",\"\",IF(ISERROR(VLOOKUP(B5352,database!$A$6:$BFQ$206,3,FALSE)),\"\",VLOOKUP(B5352,database!$A$6:$BFQ$206,3,FALSE)))","v":""},null,null,null,null,null,null,""]
["",null,{"$f":"IF(B5353=\"\",\"\",IF(ISERROR(VLOOKUP(B5353,database!$A$6:$BFQ$206,4,FALSE)),\"\",VLOOKUP(B5353,database!$A$6:$BFQ$206,4,FALSE)))","v":""},null,null,null,"",null,null,null,{"$f":"IF(B5353=\"\",\"\",IF(ISERROR(VLOOKUP(B5353,database!$A$6:$BFQ$206,3,FALSE)),\"\",VLOOKUP(B5353,database!$A$6:$BFQ$206,3,FALSE)))","v":""},null,null,null,null,null,null,""]
["",null,{"$f":"IF(B5356=\"\",\"\",IF(ISERROR(VLOOKUP(B5356,database!$A$6:$BFQ$206,4,FALSE)),\"\",VLOOKUP(B5356,database!$A$6:$BFQ$206,4,FALSE)))","v":""},null,null,null,"",null,null,null,{"$f":"IF(B5356=\"\",\"\",IF(ISERROR(VLOOKUP(B5356,database!$A$6:$BFQ$206,3,FALSE)),\"\",VLOOKUP(B5356,database!$A$6:$BFQ$206,3,FALSE)))","v":""},null,null,null,null,null,null,""]
["",null,{"$f":"IF(B5357=\"\",\"\",IF(ISERROR(VLOOKUP(B5357,database!$A$6:$BFQ$206,4,FALSE)),\"\",VLOOKUP(B5357,database!$A$6:$BFQ$206,4,FALSE)))","v":""},null,null,null,"",null,null,null,{"$f":"IF(B5357=\"\",\"\",IF(ISERROR(VLOOKUP(B5357,database!$A$6:$BFQ$206,3,FALSE)),\"\",VLOOKUP(B5357,database!$A$6:$BFQ$206,3,FALSE)))","v":""},null,null,null,null,null,null,""]
["",null,{"$f":"IF(B5359=\"\",\"\",IF(ISERROR(VLOOKUP(B5359,database!$A$6:$BFQ$206,4,FALSE)),\"\",VLOOKUP(B5359,database!$A$6:$BFQ$206,4,FALSE)))","v":""},null,null,null,"",null,null,null,{"$f":"IF(B5359=\"\",\"\",IF(ISERROR(VLOOKUP(B5359,database!$A$6:$BFQ$206,3,FALSE)),\"\",VLOOKUP(B5359,database!$A$6:$BFQ$206,3,FALSE)))","v":""},null,null,null,null,null,null,""]
["",null,{"$f":"IF(B5360=\"\",\"\",IF(ISERROR(VLOOKUP(B5360,database!$A$6:$BFQ$206,4,FALSE)),\"\",VLOOKUP(B5360,database!$A$6:$BFQ$206,4,FALSE)))","v":""},null,null,null,"",null,null,null,{"$f":"IF(B5360=\"\",\"\",IF(ISERROR(VLOOKUP(B5360,database!$A$6:$BFQ$206,3,FALSE)),\"\",VLOOKUP(B5360,database!$A$6:$BFQ$206,3,FALSE)))","v":""},null,null,null,null,null,null,""]
["",null,{"$f":"IF(B5363=\"\",\"\",IF(ISERROR(VLOOKUP(B5363,database!$A$6:$BFQ$206,4,FALSE)),\"\",VLOOKUP(B5363,database!$A$6:$BFQ$206,4,FALSE)))","v":""},null,null,null,"",null,null,null,{"$f":"IF(B5363=\"\",\"\",IF(ISERROR(VLOOKUP(B5363,database!$A$6:$BFQ$206,3,FALSE)),\"\",VLOOKUP(B5363,database!$A$6:$BFQ$206,3,FALSE)))","v":""},null,null,null,null,null,null,""]
["",null,{"$f":"IF(B5364=\"\",\"\",IF(ISERROR(VLOOKUP(B5364,database!$A$6:$BFQ$206,4,FALSE)),\"\",VLOOKUP(B5364,database!$A$6:$BFQ$206,4,FALSE)))","v":""},null,null,null,"",null,null,null,{"$f":"IF(B5364=\"\",\"\",IF(ISERROR(VLOOKUP(B5364,database!$A$6:$BFQ$206,3,FALSE)),\"\",VLOOKUP(B5364,database!$A$6:$BFQ$206,3,FALSE)))","v":""},null,null,null,null,null,null,""]
["",null,{"$f":"IF(B5366=\"\",\"\",IF(ISERROR(VLOOKUP(B5366,database!$A$6:$BFQ$206,4,FALSE)),\"\",VLOOKUP(B5366,database!$A$6:$BFQ$206,4,FALSE)))","v":""},null,null,null,"",null,null,null,{"$f":"IF(B5366=\"\",\"\",IF(ISERROR(VLOOKUP(B5366,database!$A$6:$BFQ$206,3,FALSE)),\"\",VLOOKUP(B5366,database!$A$6:$BFQ$206,3,FALSE)))","v":""},null,null,null,null,null,null,""]
["",null,{"$f":"IF(B5367=\"\",\"\",IF(ISERROR(VLOOKUP(B5367,database!$A$6:$BFQ$206,4,FALSE)),\"\",VLOOKUP(B5367,database!$A$6:$BFQ$206,4,FALSE)))","v":""},null,null,null,"",null,null,null,{"$f":"IF(B5367=\"\",\"\",IF(ISERROR(VLOOKUP(B5367,database!$A$6:$BFQ$206,3,FALSE)),\"\",VLOOKUP(B5367,database!$A$6:$BFQ$206,3,FALSE)))","v":""},null,null,null,null,null,null,""]
["",null,{"$f":"IF(B5370=\"\",\"\",IF(ISERROR(VLOOKUP(B5370,database!$A$6:$BFQ$206,4,FALSE)),\"\",VLOOKUP(B5370,database!$A$6:$BFQ$206,4,FALSE)))","v":""},null,null,null,"",null,null,null,{"$f":"IF(B5370=\"\",\"\",IF(ISERROR(VLOOKUP(B5370,database!$A$6:$BFQ$206,3,FALSE)),\"\",VLOOKUP(B5370,database!$A$6:$BFQ$206,3,FALSE)))","v":""},null,null,null,null,null,null,""]
["",null,{"$f":"IF(B5371=\"\",\"\",IF(ISERROR(VLOOKUP(B5371,database!$A$6:$BFQ$206,4,FALSE)),\"\",VLOOKUP(B5371,database!$A$6:$BFQ$206,4,FALSE)))","v":""},null,null,null,"",null,null,null,{"$f":"IF(B5371=\"\",\"\",IF(ISERROR(VLOOKUP(B5371,database!$A$6:$BFQ$206,3,FALSE)),\"\",VLOOKUP(B5371,database!$A$6:$BFQ$206,3,FALSE)))","v":""},null,null,null,null,null,null,""]
["",null,{"$f":"IF(B5373=\"\",\"\",IF(ISERROR(VLOOKUP(B5373,database!$A$6:$BFQ$206,4,FALSE)),\"\",VLOOKUP(B5373,database!$A$6:$BFQ$206,4,FALSE)))","v":""},null,null,null,"",null,null,null,{"$f":"IF(B5373=\"\",\"\",IF(ISERROR(VLOOKUP(B5373,database!$A$6:$BFQ$206,3,FALSE)),\"\",VLOOKUP(B5373,database!$A$6:$BFQ$206,3,FALSE)))","v":""},null,null,null,null,null,null,""]
["",null,{"$f":"IF(B5374=\"\",\"\",IF(ISERROR(VLOOKUP(B5374,database!$A$6:$BFQ$206,4,FALSE)),\"\",VLOOKUP(B5374,database!$A$6:$BFQ$206,4,FALSE)))","v":""},null,null,null,"",null,null,null,{"$f":"IF(B5374=\"\",\"\",IF(ISERROR(VLOOKUP(B5374,database!$A$6:$BFQ$206,3,FALSE)),\"\",VLOOKUP(B5374,database!$A$6:$BFQ$206,3,FALSE)))","v":""},null,null,null,null,null,null,""]
[{"$f":"IF(B5377=\"\",\"\",ROW(A5374))","v":""},null,{"$f":"IF(B5377=\"\",\"\",IF(ISERROR(VLOOKUP(B5377,database!$A$6:$BFQ$206,4,FALSE)),\"\",VLOOKUP(B5377,database!$A$6:$BFQ$206,4,FALSE)))","v":""},null,null,null,{"$f":"IF(B5377=\"\",\"\",IF(C5377=\"\",0,1))","v":""},null,null,null,{"$f":"IF(B5377=\"\",\"\",IF(ISERROR(VLOOKUP(B5377,database!$A$6:$BFQ$206,3,FALSE)),\"\",VLOOKUP(B5377,database!$A$6:$BFQ$206,3,FALSE)))","v":""},null,null,null,null,null,null,{"$f":"LEFT(C5377,2)","v":""}]
["",null,{"$f":"IF(B5378=\"\",\"\",IF(ISERROR(VLOOKUP(B5378,database!$A$6:$BFQ$206,4,FALSE)),\"\",VLOOKUP(B5378,database!$A$6:$BFQ$206,4,FALSE)))","v":""},null,null,null,"",null,null,null,{"$f":"IF(B5378=\"\",\"\",IF(ISERROR(VLOOKUP(B5378,database!$A$6:$BFQ$206,3,FALSE)),\"\",VLOOKUP(B5378,database!$A$6:$BFQ$206,3,FALSE)))","v":""},null,null,null,null,null,null,""]
["",null,{"$f":"IF(B5380=\"\",\"\",IF(ISERROR(VLOOKUP(B5380,database!$A$6:$BFQ$206,4,FALSE)),\"\",VLOOKUP(B5380,database!$A$6:$BFQ$206,4,FALSE)))","v":""},null,null,null,"",null,null,null,{"$f":"IF(B5380=\"\",\"\",IF(ISERROR(VLOOKUP(B5380,database!$A$6:$BFQ$206,3,FALSE)),\"\",VLOOKUP(B5380,database!$A$6:$BFQ$206,3,FALSE)))","v":""},null,null,null,null,null,null,""]
["",null,{"$f":"IF(B5381=\"\",\"\",IF(ISERROR(VLOOKUP(B5381,database!$A$6:$BFQ$206,4,FALSE)),\"\",VLOOKUP(B5381,database!$A$6:$BFQ$206,4,FALSE)))","v":""},null,null,null,"",null,null,null,{"$f":"IF(B5381=\"\",\"\",IF(ISERROR(VLOOKUP(B5381,database!$A$6:$BFQ$206,3,FALSE)),\"\",VLOOKUP(B5381,database!$A$6:$BFQ$206,3,FALSE)))","v":""},null,null,null,null,null,null,""]
["",null,{"$f":"IF(B5384=\"\",\"\",IF(ISERROR(VLOOKUP(B5384,database!$A$6:$BFQ$206,4,FALSE)),\"\",VLOOKUP(B5384,database!$A$6:$BFQ$206,4,FALSE)))","v":""},null,null,null,"",null,null,null,{"$f":"IF(B5384=\"\",\"\",IF(ISERROR(VLOOKUP(B5384,database!$A$6:$BFQ$206,3,FALSE)),\"\",VLOOKUP(B5384,database!$A$6:$BFQ$206,3,FALSE)))","v":""},null,null,null,null,null,null,""]
["",null,{"$f":"IF(B5385=\"\",\"\",IF(ISERROR(VLOOKUP(B5385,database!$A$6:$BFQ$206,4,FALSE)),\"\",VLOOKUP(B5385,database!$A$6:$BFQ$206,4,FALSE)))","v":""},null,null,null,"",null,null,null,{"$f":"IF(B5385=\"\",\"\",IF(ISERROR(VLOOKUP(B5385,database!$A$6:$BFQ$206,3,FALSE)),\"\",VLOOKUP(B5385,database!$A$6:$BFQ$206,3,FALSE)))","v":""},null,null,null,null,null,null,""]
["",null,{"$f":"IF(B5387=\"\",\"\",IF(ISERROR(VLOOKUP(B5387,database!$A$6:$BFQ$206,4,FALSE)),\"\",VLOOKUP(B5387,database!$A$6:$BFQ$206,4,FALSE)))","v":""},null,null,null,"",null,null,null,{"$f":"IF(B5387=\"\",\"\",IF(ISERROR(VLOOKUP(B5387,database!$A$6:$BFQ$206,3,FALSE)),\"\",VLOOKUP(B5387,database!$A$6:$BFQ$206,3,FALSE)))","v":""},null,null,null,null,null,null,""]
["",null,{"$f":"IF(B5388=\"\",\"\",IF(ISERROR(VLOOKUP(B5388,database!$A$6:$BFQ$206,4,FALSE)),\"\",VLOOKUP(B5388,database!$A$6:$BFQ$206,4,FALSE)))","v":""},null,null,null,"",null,null,null,{"$f":"IF(B5388=\"\",\"\",IF(ISERROR(VLOOKUP(B5388,database!$A$6:$BFQ$206,3,FALSE)),\"\",VLOOKUP(B5388,database!$A$6:$BFQ$206,3,FALSE)))","v":""},null,null,null,null,null,null,""]
["",null,{"$f":"IF(B5391=\"\",\"\",IF(ISERROR(VLOOKUP(B5391,database!$A$6:$BFQ$206,4,FALSE)),\"\",VLOOKUP(B5391,database!$A$6:$BFQ$206,4,FALSE)))","v":""},null,null,null,"",null,null,null,{"$f":"IF(B5391=\"\",\"\",IF(ISERROR(VLOOKUP(B5391,database!$A$6:$BFQ$206,3,FALSE)),\"\",VLOOKUP(B5391,database!$A$6:$BFQ$206,3,FALSE)))","v":""},null,null,null,null,null,null,""]
["",null,{"$f":"IF(B5392=\"\",\"\",IF(ISERROR(VLOOKUP(B5392,database!$A$6:$BFQ$206,4,FALSE)),\"\",VLOOKUP(B5392,database!$A$6:$BFQ$206,4,FALSE)))","v":""},null,null,null,"",null,null,null,{"$f":"IF(B5392=\"\",\"\",IF(ISERROR(VLOOKUP(B5392,database!$A$6:$BFQ$206,3,FALSE)),\"\",VLOOKUP(B5392,database!$A$6:$BFQ$206,3,FALSE)))","v":""},null,null,null,null,null,null,""]
["",null,{"$f":"IF(B5394=\"\",\"\",IF(ISERROR(VLOOKUP(B5394,database!$A$6:$BFQ$206,4,FALSE)),\"\",VLOOKUP(B5394,database!$A$6:$BFQ$206,4,FALSE)))","v":""},null,null,null,"",null,null,null,{"$f":"IF(B5394=\"\",\"\",IF(ISERROR(VLOOKUP(B5394,database!$A$6:$BFQ$206,3,FALSE)),\"\",VLOOKUP(B5394,database!$A$6:$BFQ$206,3,FALSE)))","v":""},null,null,null,null,null,null,""]
["",null,{"$f":"IF(B5395=\"\",\"\",IF(ISERROR(VLOOKUP(B5395,database!$A$6:$BFQ$206,4,FALSE)),\"\",VLOOKUP(B5395,database!$A$6:$BFQ$206,4,FALSE)))","v":""},null,null,null,"",null,null,null,{"$f":"IF(B5395=\"\",\"\",IF(ISERROR(VLOOKUP(B5395,database!$A$6:$BFQ$206,3,FALSE)),\"\",VLOOKUP(B5395,database!$A$6:$BFQ$206,3,FALSE)))","v":""},null,null,null,null,null,null,""]
["",null,{"$f":"IF(B5398=\"\",\"\",IF(ISERROR(VLOOKUP(B5398,database!$A$6:$BFQ$206,4,FALSE)),\"\",VLOOKUP(B5398,database!$A$6:$BFQ$206,4,FALSE)))","v":""},null,null,null,"",null,null,null,{"$f":"IF(B5398=\"\",\"\",IF(ISERROR(VLOOKUP(B5398,database!$A$6:$BFQ$206,3,FALSE)),\"\",VLOOKUP(B5398,database!$A$6:$BFQ$206,3,FALSE)))","v":""},null,null,null,null,null,null,""]
["",null,{"$f":"IF(B5399=\"\",\"\",IF(ISERROR(VLOOKUP(B5399,database!$A$6:$BFQ$206,4,FALSE)),\"\",VLOOKUP(B5399,database!$A$6:$BFQ$206,4,FALSE)))","v":""},null,null,null,"",null,null,null,{"$f":"IF(B5399=\"\",\"\",IF(ISERROR(VLOOKUP(B5399,database!$A$6:$BFQ$206,3,FALSE)),\"\",VLOOKUP(B5399,database!$A$6:$BFQ$206,3,FALSE)))","v":""},null,null,null,null,null,null,""]
["",null,{"$f":"IF(B5401=\"\",\"\",IF(ISERROR(VLOOKUP(B5401,database!$A$6:$BFQ$206,4,FALSE)),\"\",VLOOKUP(B5401,database!$A$6:$BFQ$206,4,FALSE)))","v":""},null,null,null,"",null,null,null,{"$f":"IF(B5401=\"\",\"\",IF(ISERROR(VLOOKUP(B5401,database!$A$6:$BFQ$206,3,FALSE)),\"\",VLOOKUP(B5401,database!$A$6:$BFQ$206,3,FALSE)))","v":""},null,null,null,null,null,null,""]
["",null,{"$f":"IF(B5402=\"\",\"\",IF(ISERROR(VLOOKUP(B5402,database!$A$6:$BFQ$206,4,FALSE)),\"\",VLOOKUP(B5402,database!$A$6:$BFQ$206,4,FALSE)))","v":""},null,null,null,"",null,null,null,{"$f":"IF(B5402=\"\",\"\",IF(ISERROR(VLOOKUP(B5402,database!$A$6:$BFQ$206,3,FALSE)),\"\",VLOOKUP(B5402,database!$A$6:$BFQ$206,3,FALSE)))","v":""},null,null,null,null,null,null,""]
["",null,{"$f":"IF(B5405=\"\",\"\",IF(ISERROR(VLOOKUP(B5405,database!$A$6:$BFQ$206,4,FALSE)),\"\",VLOOKUP(B5405,database!$A$6:$BFQ$206,4,FALSE)))","v":""},null,null,null,"",null,null,null,{"$f":"IF(B5405=\"\",\"\",IF(ISERROR(VLOOKUP(B5405,database!$A$6:$BFQ$206,3,FALSE)),\"\",VLOOKUP(B5405,database!$A$6:$BFQ$206,3,FALSE)))","v":""},null,null,null,null,null,null,""]
["",null,{"$f":"IF(B5406=\"\",\"\",IF(ISERROR(VLOOKUP(B5406,database!$A$6:$BFQ$206,4,FALSE)),\"\",VLOOKUP(B5406,database!$A$6:$BFQ$206,4,FALSE)))","v":""},null,null,null,"",null,null,null,{"$f":"IF(B5406=\"\",\"\",IF(ISERROR(VLOOKUP(B5406,database!$A$6:$BFQ$206,3,FALSE)),\"\",VLOOKUP(B5406,database!$A$6:$BFQ$206,3,FALSE)))","v":""},null,null,null,null,null,null,""]
["",null,{"$f":"IF(B5408=\"\",\"\",IF(ISERROR(VLOOKUP(B5408,database!$A$6:$BFQ$206,4,FALSE)),\"\",VLOOKUP(B5408,database!$A$6:$BFQ$206,4,FALSE)))","v":""},null,null,null,"",null,null,null,{"$f":"IF(B5408=\"\",\"\",IF(ISERROR(VLOOKUP(B5408,database!$A$6:$BFQ$206,3,FALSE)),\"\",VLOOKUP(B5408,database!$A$6:$BFQ$206,3,FALSE)))","v":""},null,null,null,null,null,null,""]
["",null,{"$f":"IF(B5409=\"\",\"\",IF(ISERROR(VLOOKUP(B5409,database!$A$6:$BFQ$206,4,FALSE)),\"\",VLOOKUP(B5409,database!$A$6:$BFQ$206,4,FALSE)))","v":""},null,null,null,"",null,null,null,{"$f":"IF(B5409=\"\",\"\",IF(ISERROR(VLOOKUP(B5409,database!$A$6:$BFQ$206,3,FALSE)),\"\",VLOOKUP(B5409,database!$A$6:$BFQ$206,3,FALSE)))","v":""},null,null,null,null,null,null,""]
["",null,{"$f":"IF(B5412=\"\",\"\",IF(ISERROR(VLOOKUP(B5412,database!$A$6:$BFQ$206,4,FALSE)),\"\",VLOOKUP(B5412,database!$A$6:$BFQ$206,4,FALSE)))","v":""},null,null,null,"",null,null,null,{"$f":"IF(B5412=\"\",\"\",IF(ISERROR(VLOOKUP(B5412,database!$A$6:$BFQ$206,3,FALSE)),\"\",VLOOKUP(B5412,database!$A$6:$BFQ$206,3,FALSE)))","v":""},null,null,null,null,null,null,""]
["",null,{"$f":"IF(B5413=\"\",\"\",IF(ISERROR(VLOOKUP(B5413,database!$A$6:$BFQ$206,4,FALSE)),\"\",VLOOKUP(B5413,database!$A$6:$BFQ$206,4,FALSE)))","v":""},null,null,null,"",null,null,null,{"$f":"IF(B5413=\"\",\"\",IF(ISERROR(VLOOKUP(B5413,database!$A$6:$BFQ$206,3,FALSE)),\"\",VLOOKUP(B5413,database!$A$6:$BFQ$206,3,FALSE)))","v":""},null,null,null,null,null,null,""]
["",null,{"$f":"IF(B5415=\"\",\"\",IF(ISERROR(VLOOKUP(B5415,database!$A$6:$BFQ$206,4,FALSE)),\"\",VLOOKUP(B5415,database!$A$6:$BFQ$206,4,FALSE)))","v":""},null,null,null,"",null,null,null,{"$f":"IF(B5415=\"\",\"\",IF(ISERROR(VLOOKUP(B5415,database!$A$6:$BFQ$206,3,FALSE)),\"\",VLOOKUP(B5415,database!$A$6:$BFQ$206,3,FALSE)))","v":""},null,null,null,null,null,null,""]
["",null,{"$f":"IF(B5416=\"\",\"\",IF(ISERROR(VLOOKUP(B5416,database!$A$6:$BFQ$206,4,FALSE)),\"\",VLOOKUP(B5416,database!$A$6:$BFQ$206,4,FALSE)))","v":""},null,null,null,"",null,null,null,{"$f":"IF(B5416=\"\",\"\",IF(ISERROR(VLOOKUP(B5416,database!$A$6:$BFQ$206,3,FALSE)),\"\",VLOOKUP(B5416,database!$A$6:$BFQ$206,3,FALSE)))","v":""},null,null,null,null,null,null,""]
["",null,{"$f":"IF(B5419=\"\",\"\",IF(ISERROR(VLOOKUP(B5419,database!$A$6:$BFQ$206,4,FALSE)),\"\",VLOOKUP(B5419,database!$A$6:$BFQ$206,4,FALSE)))","v":""},null,null,null,"",null,null,null,{"$f":"IF(B5419=\"\",\"\",IF(ISERROR(VLOOKUP(B5419,database!$A$6:$BFQ$206,3,FALSE)),\"\",VLOOKUP(B5419,database!$A$6:$BFQ$206,3,FALSE)))","v":""},null,null,null,null,null,null,""]
["",null,{"$f":"IF(B5420=\"\",\"\",IF(ISERROR(VLOOKUP(B5420,database!$A$6:$BFQ$206,4,FALSE)),\"\",VLOOKUP(B5420,database!$A$6:$BFQ$206,4,FALSE)))","v":""},null,null,null,"",null,null,null,{"$f":"IF(B5420=\"\",\"\",IF(ISERROR(VLOOKUP(B5420,database!$A$6:$BFQ$206,3,FALSE)),\"\",VLOOKUP(B5420,database!$A$6:$BFQ$206,3,FALSE)))","v":""},null,null,null,null,null,null,""]
["",null,{"$f":"IF(B5422=\"\",\"\",IF(ISERROR(VLOOKUP(B5422,database!$A$6:$BFQ$206,4,FALSE)),\"\",VLOOKUP(B5422,database!$A$6:$BFQ$206,4,FALSE)))","v":""},null,null,null,"",null,null,null,{"$f":"IF(B5422=\"\",\"\",IF(ISERROR(VLOOKUP(B5422,database!$A$6:$BFQ$206,3,FALSE)),\"\",VLOOKUP(B5422,database!$A$6:$BFQ$206,3,FALSE)))","v":""},null,null,null,null,null,null,""]
["",null,{"$f":"IF(B5423=\"\",\"\",IF(ISERROR(VLOOKUP(B5423,database!$A$6:$BFQ$206,4,FALSE)),\"\",VLOOKUP(B5423,database!$A$6:$BFQ$206,4,FALSE)))","v":""},null,null,null,"",null,null,null,{"$f":"IF(B5423=\"\",\"\",IF(ISERROR(VLOOKUP(B5423,database!$A$6:$BFQ$206,3,FALSE)),\"\",VLOOKUP(B5423,database!$A$6:$BFQ$206,3,FALSE)))","v":""},null,null,null,null,null,null,""]
["",null,{"$f":"IF(B5426=\"\",\"\",IF(ISERROR(VLOOKUP(B5426,database!$A$6:$BFQ$206,4,FALSE)),\"\",VLOOKUP(B5426,database!$A$6:$BFQ$206,4,FALSE)))","v":""},null,null,null,"",null,null,null,{"$f":"IF(B5426=\"\",\"\",IF(ISERROR(VLOOKUP(B5426,database!$A$6:$BFQ$206,3,FALSE)),\"\",VLOOKUP(B5426,database!$A$6:$BFQ$206,3,FALSE)))","v":""},null,null,null,null,null,null,""]
["",null,{"$f":"IF(B5427=\"\",\"\",IF(ISERROR(VLOOKUP(B5427,database!$A$6:$BFQ$206,4,FALSE)),\"\",VLOOKUP(B5427,database!$A$6:$BFQ$206,4,FALSE)))","v":""},null,null,null,"",null,null,null,{"$f":"IF(B5427=\"\",\"\",IF(ISERROR(VLOOKUP(B5427,database!$A$6:$BFQ$206,3,FALSE)),\"\",VLOOKUP(B5427,database!$A$6:$BFQ$206,3,FALSE)))","v":""},null,null,null,null,null,null,""]
["",null,{"$f":"IF(B5429=\"\",\"\",IF(ISERROR(VLOOKUP(B5429,database!$A$6:$BFQ$206,4,FALSE)),\"\",VLOOKUP(B5429,database!$A$6:$BFQ$206,4,FALSE)))","v":""},null,null,null,"",null,null,null,{"$f":"IF(B5429=\"\",\"\",IF(ISERROR(VLOOKUP(B5429,database!$A$6:$BFQ$206,3,FALSE)),\"\",VLOOKUP(B5429,database!$A$6:$BFQ$206,3,FALSE)))","v":""},null,null,null,null,null,null,""]
["",null,{"$f":"IF(B5430=\"\",\"\",IF(ISERROR(VLOOKUP(B5430,database!$A$6:$BFQ$206,4,FALSE)),\"\",VLOOKUP(B5430,database!$A$6:$BFQ$206,4,FALSE)))","v":""},null,null,null,"",null,null,null,{"$f":"IF(B5430=\"\",\"\",IF(ISERROR(VLOOKUP(B5430,database!$A$6:$BFQ$206,3,FALSE)),\"\",VLOOKUP(B5430,database!$A$6:$BFQ$206,3,FALSE)))","v":""},null,null,null,null,null,null,""]
["",null,{"$f":"IF(B5433=\"\",\"\",IF(ISERROR(VLOOKUP(B5433,database!$A$6:$BFQ$206,4,FALSE)),\"\",VLOOKUP(B5433,database!$A$6:$BFQ$206,4,FALSE)))","v":""},null,null,null,"",null,null,null,{"$f":"IF(B5433=\"\",\"\",IF(ISERROR(VLOOKUP(B5433,database!$A$6:$BFQ$206,3,FALSE)),\"\",VLOOKUP(B5433,database!$A$6:$BFQ$206,3,FALSE)))","v":""},null,null,null,null,null,null,""]
["",null,{"$f":"IF(B5434=\"\",\"\",IF(ISERROR(VLOOKUP(B5434,database!$A$6:$BFQ$206,4,FALSE)),\"\",VLOOKUP(B5434,database!$A$6:$BFQ$206,4,FALSE)))","v":""},null,null,null,"",null,null,null,{"$f":"IF(B5434=\"\",\"\",IF(ISERROR(VLOOKUP(B5434,database!$A$6:$BFQ$206,3,FALSE)),\"\",VLOOKUP(B5434,database!$A$6:$BFQ$206,3,FALSE)))","v":""},null,null,null,null,null,null,""]
["",null,{"$f":"IF(B5436=\"\",\"\",IF(ISERROR(VLOOKUP(B5436,database!$A$6:$BFQ$206,4,FALSE)),\"\",VLOOKUP(B5436,database!$A$6:$BFQ$206,4,FALSE)))","v":""},null,null,null,"",null,null,null,{"$f":"IF(B5436=\"\",\"\",IF(ISERROR(VLOOKUP(B5436,database!$A$6:$BFQ$206,3,FALSE)),\"\",VLOOKUP(B5436,database!$A$6:$BFQ$206,3,FALSE)))","v":""},null,null,null,null,null,null,""]
["",null,{"$f":"IF(B5437=\"\",\"\",IF(ISERROR(VLOOKUP(B5437,database!$A$6:$BFQ$206,4,FALSE)),\"\",VLOOKUP(B5437,database!$A$6:$BFQ$206,4,FALSE)))","v":""},null,null,null,"",null,null,null,{"$f":"IF(B5437=\"\",\"\",IF(ISERROR(VLOOKUP(B5437,database!$A$6:$BFQ$206,3,FALSE)),\"\",VLOOKUP(B5437,database!$A$6:$BFQ$206,3,FALSE)))","v":""},null,null,null,null,null,null,""]
["",null,{"$f":"IF(B5440=\"\",\"\",IF(ISERROR(VLOOKUP(B5440,database!$A$6:$BFQ$206,4,FALSE)),\"\",VLOOKUP(B5440,database!$A$6:$BFQ$206,4,FALSE)))","v":""},null,null,null,"",null,null,null,{"$f":"IF(B5440=\"\",\"\",IF(ISERROR(VLOOKUP(B5440,database!$A$6:$BFQ$206,3,FALSE)),\"\",VLOOKUP(B5440,database!$A$6:$BFQ$206,3,FALSE)))","v":""},null,null,null,null,null,null,""]
[{"$f":"IF(B5441=\"\",\"\",ROW(A5438))","v":""},null,{"$f":"IF(B5441=\"\",\"\",IF(ISERROR(VLOOKUP(B5441,database!$A$6:$BFQ$206,4,FALSE)),\"\",VLOOKUP(B5441,database!$A$6:$BFQ$206,4,FALSE)))","v":""},null,null,null,{"$f":"IF(B5441=\"\",\"\",IF(C5441=\"\",0,1))","v":""},null,null,null,{"$f":"IF(B5441=\"\",\"\",IF(ISERROR(VLOOKUP(B5441,database!$A$6:$BFQ$206,3,FALSE)),\"\",VLOOKUP(B5441,database!$A$6:$BFQ$206,3,FALSE)))","v":""},null,null,null,null,null,null,{"$f":"LEFT(C5441,2)","v":""}]
["",null,{"$f":"IF(B5443=\"\",\"\",IF(ISERROR(VLOOKUP(B5443,database!$A$6:$BFQ$206,4,FALSE)),\"\",VLOOKUP(B5443,database!$A$6:$BFQ$206,4,FALSE)))","v":""},null,null,null,"",null,null,null,{"$f":"IF(B5443=\"\",\"\",IF(ISERROR(VLOOKUP(B5443,database!$A$6:$BFQ$206,3,FALSE)),\"\",VLOOKUP(B5443,database!$A$6:$BFQ$206,3,FALSE)))","v":""},null,null,null,null,null,null,""]
["",null,{"$f":"IF(B5444=\"\",\"\",IF(ISERROR(VLOOKUP(B5444,database!$A$6:$BFQ$206,4,FALSE)),\"\",VLOOKUP(B5444,database!$A$6:$BFQ$206,4,FALSE)))","v":""},null,null,null,"",null,null,null,{"$f":"IF(B5444=\"\",\"\",IF(ISERROR(VLOOKUP(B5444,database!$A$6:$BFQ$206,3,FALSE)),\"\",VLOOKUP(B5444,database!$A$6:$BFQ$206,3,FALSE)))","v":""},null,null,null,null,null,null,""]
["",null,{"$f":"IF(B5447=\"\",\"\",IF(ISERROR(VLOOKUP(B5447,database!$A$6:$BFQ$206,4,FALSE)),\"\",VLOOKUP(B5447,database!$A$6:$BFQ$206,4,FALSE)))","v":""},null,null,null,"",null,null,null,{"$f":"IF(B5447=\"\",\"\",IF(ISERROR(VLOOKUP(B5447,database!$A$6:$BFQ$206,3,FALSE)),\"\",VLOOKUP(B5447,database!$A$6:$BFQ$206,3,FALSE)))","v":""},null,null,null,null,null,null,""]
["",null,{"$f":"IF(B5448=\"\",\"\",IF(ISERROR(VLOOKUP(B5448,database!$A$6:$BFQ$206,4,FALSE)),\"\",VLOOKUP(B5448,database!$A$6:$BFQ$206,4,FALSE)))","v":""},null,null,null,"",null,null,null,{"$f":"IF(B5448=\"\",\"\",IF(ISERROR(VLOOKUP(B5448,database!$A$6:$BFQ$206,3,FALSE)),\"\",VLOOKUP(B5448,database!$A$6:$BFQ$206,3,FALSE)))","v":""},null,null,null,null,null,null,""]
["",null,{"$f":"IF(B5450=\"\",\"\",IF(ISERROR(VLOOKUP(B5450,database!$A$6:$BFQ$206,4,FALSE)),\"\",VLOOKUP(B5450,database!$A$6:$BFQ$206,4,FALSE)))","v":""},null,null,null,"",null,null,null,{"$f":"IF(B5450=\"\",\"\",IF(ISERROR(VLOOKUP(B5450,database!$A$6:$BFQ$206,3,FALSE)),\"\",VLOOKUP(B5450,database!$A$6:$BFQ$206,3,FALSE)))","v":""},null,null,null,null,null,null,""]
["",null,{"$f":"IF(B5451=\"\",\"\",IF(ISERROR(VLOOKUP(B5451,database!$A$6:$BFQ$206,4,FALSE)),\"\",VLOOKUP(B5451,database!$A$6:$BFQ$206,4,FALSE)))","v":""},null,null,null,"",null,null,null,{"$f":"IF(B5451=\"\",\"\",IF(ISERROR(VLOOKUP(B5451,database!$A$6:$BFQ$206,3,FALSE)),\"\",VLOOKUP(B5451,database!$A$6:$BFQ$206,3,FALSE)))","v":""},null,null,null,null,null,null,""]
["",null,{"$f":"IF(B5454=\"\",\"\",IF(ISERROR(VLOOKUP(B5454,database!$A$6:$BFQ$206,4,FALSE)),\"\",VLOOKUP(B5454,database!$A$6:$BFQ$206,4,FALSE)))","v":""},null,null,null,"",null,null,null,{"$f":"IF(B5454=\"\",\"\",IF(ISERROR(VLOOKUP(B5454,database!$A$6:$BFQ$206,3,FALSE)),\"\",VLOOKUP(B5454,database!$A$6:$BFQ$206,3,FALSE)))","v":""},null,null,null,null,null,null,""]
["",null,{"$f":"IF(B5455=\"\",\"\",IF(ISERROR(VLOOKUP(B5455,database!$A$6:$BFQ$206,4,FALSE)),\"\",VLOOKUP(B5455,database!$A$6:$BFQ$206,4,FALSE)))","v":""},null,null,null,"",null,null,null,{"$f":"IF(B5455=\"\",\"\",IF(ISERROR(VLOOKUP(B5455,database!$A$6:$BFQ$206,3,FALSE)),\"\",VLOOKUP(B5455,database!$A$6:$BFQ$206,3,FALSE)))","v":""},null,null,null,null,null,null,""]
["",null,{"$f":"IF(B5457=\"\",\"\",IF(ISERROR(VLOOKUP(B5457,database!$A$6:$BFQ$206,4,FALSE)),\"\",VLOOKUP(B5457,database!$A$6:$BFQ$206,4,FALSE)))","v":""},null,null,null,"",null,null,null,{"$f":"IF(B5457=\"\",\"\",IF(ISERROR(VLOOKUP(B5457,database!$A$6:$BFQ$206,3,FALSE)),\"\",VLOOKUP(B5457,database!$A$6:$BFQ$206,3,FALSE)))","v":""},null,null,null,null,null,null,""]
["",null,{"$f":"IF(B5458=\"\",\"\",IF(ISERROR(VLOOKUP(B5458,database!$A$6:$BFQ$206,4,FALSE)),\"\",VLOOKUP(B5458,database!$A$6:$BFQ$206,4,FALSE)))","v":""},null,null,null,"",null,null,null,{"$f":"IF(B5458=\"\",\"\",IF(ISERROR(VLOOKUP(B5458,database!$A$6:$BFQ$206,3,FALSE)),\"\",VLOOKUP(B5458,database!$A$6:$BFQ$206,3,FALSE)))","v":""},null,null,null,null,null,null,""]
["",null,{"$f":"IF(B5461=\"\",\"\",IF(ISERROR(VLOOKUP(B5461,database!$A$6:$BFQ$206,4,FALSE)),\"\",VLOOKUP(B5461,database!$A$6:$BFQ$206,4,FALSE)))","v":""},null,null,null,"",null,null,null,{"$f":"IF(B5461=\"\",\"\",IF(ISERROR(VLOOKUP(B5461,database!$A$6:$BFQ$206,3,FALSE)),\"\",VLOOKUP(B5461,database!$A$6:$BFQ$206,3,FALSE)))","v":""},null,null,null,null,null,null,""]
["",null,{"$f":"IF(B5462=\"\",\"\",IF(ISERROR(VLOOKUP(B5462,database!$A$6:$BFQ$206,4,FALSE)),\"\",VLOOKUP(B5462,database!$A$6:$BFQ$206,4,FALSE)))","v":""},null,null,null,"",null,null,null,{"$f":"IF(B5462=\"\",\"\",IF(ISERROR(VLOOKUP(B5462,database!$A$6:$BFQ$206,3,FALSE)),\"\",VLOOKUP(B5462,database!$A$6:$BFQ$206,3,FALSE)))","v":""},null,null,null,null,null,null,""]
["",null,{"$f":"IF(B5465=\"\",\"\",IF(ISERROR(VLOOKUP(B5465,database!$A$6:$BFQ$206,4,FALSE)),\"\",VLOOKUP(B5465,database!$A$6:$BFQ$206,4,FALSE)))","v":""},null,null,null,"",null,null,null,{"$f":"IF(B5465=\"\",\"\",IF(ISERROR(VLOOKUP(B5465,database!$A$6:$BFQ$206,3,FALSE)),\"\",VLOOKUP(B5465,database!$A$6:$BFQ$206,3,FALSE)))","v":""},null,null,null,null,null,null,""]
["",null,{"$f":"IF(B5466=\"\",\"\",IF(ISERROR(VLOOKUP(B5466,database!$A$6:$BFQ$206,4,FALSE)),\"\",VLOOKUP(B5466,database!$A$6:$BFQ$206,4,FALSE)))","v":""},null,null,null,"",null,null,null,{"$f":"IF(B5466=\"\",\"\",IF(ISERROR(VLOOKUP(B5466,database!$A$6:$BFQ$206,3,FALSE)),\"\",VLOOKUP(B5466,database!$A$6:$BFQ$206,3,FALSE)))","v":""},null,null,null,null,null,null,""]
["",null,{"$f":"IF(B5468=\"\",\"\",IF(ISERROR(VLOOKUP(B5468,database!$A$6:$BFQ$206,4,FALSE)),\"\",VLOOKUP(B5468,database!$A$6:$BFQ$206,4,FALSE)))","v":""},null,null,null,"",null,null,null,{"$f":"IF(B5468=\"\",\"\",IF(ISERROR(VLOOKUP(B5468,database!$A$6:$BFQ$206,3,FALSE)),\"\",VLOOKUP(B5468,database!$A$6:$BFQ$206,3,FALSE)))","v":""},null,null,null,null,null,null,""]
["",null,{"$f":"IF(B5469=\"\",\"\",IF(ISERROR(VLOOKUP(B5469,database!$A$6:$BFQ$206,4,FALSE)),\"\",VLOOKUP(B5469,database!$A$6:$BFQ$206,4,FALSE)))","v":""},null,null,null,"",null,null,null,{"$f":"IF(B5469=\"\",\"\",IF(ISERROR(VLOOKUP(B5469,database!$A$6:$BFQ$206,3,FALSE)),\"\",VLOOKUP(B5469,database!$A$6:$BFQ$206,3,FALSE)))","v":""},null,null,null,null,null,null,""]
["",null,{"$f":"IF(B5472=\"\",\"\",IF(ISERROR(VLOOKUP(B5472,database!$A$6:$BFQ$206,4,FALSE)),\"\",VLOOKUP(B5472,database!$A$6:$BFQ$206,4,FALSE)))","v":""},null,null,null,"",null,null,null,{"$f":"IF(B5472=\"\",\"\",IF(ISERROR(VLOOKUP(B5472,database!$A$6:$BFQ$206,3,FALSE)),\"\",VLOOKUP(B5472,database!$A$6:$BFQ$206,3,FALSE)))","v":""},null,null,null,null,null,null,""]
["",null,{"$f":"IF(B5473=\"\",\"\",IF(ISERROR(VLOOKUP(B5473,database!$A$6:$BFQ$206,4,FALSE)),\"\",VLOOKUP(B5473,database!$A$6:$BFQ$206,4,FALSE)))","v":""},null,null,null,"",null,null,null,{"$f":"IF(B5473=\"\",\"\",IF(ISERROR(VLOOKUP(B5473,database!$A$6:$BFQ$206,3,FALSE)),\"\",VLOOKUP(B5473,database!$A$6:$BFQ$206,3,FALSE)))","v":""},null,null,null,null,null,null,""]
["",null,{"$f":"IF(B5475=\"\",\"\",IF(ISERROR(VLOOKUP(B5475,database!$A$6:$BFQ$206,4,FALSE)),\"\",VLOOKUP(B5475,database!$A$6:$BFQ$206,4,FALSE)))","v":""},null,null,null,"",null,null,null,{"$f":"IF(B5475=\"\",\"\",IF(ISERROR(VLOOKUP(B5475,database!$A$6:$BFQ$206,3,FALSE)),\"\",VLOOKUP(B5475,database!$A$6:$BFQ$206,3,FALSE)))","v":""},null,null,null,null,null,null,""]
["",null,{"$f":"IF(B5476=\"\",\"\",IF(ISERROR(VLOOKUP(B5476,database!$A$6:$BFQ$206,4,FALSE)),\"\",VLOOKUP(B5476,database!$A$6:$BFQ$206,4,FALSE)))","v":""},null,null,null,"",null,null,null,{"$f":"IF(B5476=\"\",\"\",IF(ISERROR(VLOOKUP(B5476,database!$A$6:$BFQ$206,3,FALSE)),\"\",VLOOKUP(B5476,database!$A$6:$BFQ$206,3,FALSE)))","v":""},null,null,null,null,null,null,""]
["",null,{"$f":"IF(B5479=\"\",\"\",IF(ISERROR(VLOOKUP(B5479,database!$A$6:$BFQ$206,4,FALSE)),\"\",VLOOKUP(B5479,database!$A$6:$BFQ$206,4,FALSE)))","v":""},null,null,null,"",null,null,null,{"$f":"IF(B5479=\"\",\"\",IF(ISERROR(VLOOKUP(B5479,database!$A$6:$BFQ$206,3,FALSE)),\"\",VLOOKUP(B5479,database!$A$6:$BFQ$206,3,FALSE)))","v":""},null,null,null,null,null,null,""]
["",null,{"$f":"IF(B5480=\"\",\"\",IF(ISERROR(VLOOKUP(B5480,database!$A$6:$BFQ$206,4,FALSE)),\"\",VLOOKUP(B5480,database!$A$6:$BFQ$206,4,FALSE)))","v":""},null,null,null,"",null,null,null,{"$f":"IF(B5480=\"\",\"\",IF(ISERROR(VLOOKUP(B5480,database!$A$6:$BFQ$206,3,FALSE)),\"\",VLOOKUP(B5480,database!$A$6:$BFQ$206,3,FALSE)))","v":""},null,null,null,null,null,null,""]
["",null,{"$f":"IF(B5482=\"\",\"\",IF(ISERROR(VLOOKUP(B5482,database!$A$6:$BFQ$206,4,FALSE)),\"\",VLOOKUP(B5482,database!$A$6:$BFQ$206,4,FALSE)))","v":""},null,null,null,"",null,null,null,{"$f":"IF(B5482=\"\",\"\",IF(ISERROR(VLOOKUP(B5482,database!$A$6:$BFQ$206,3,FALSE)),\"\",VLOOKUP(B5482,database!$A$6:$BFQ$206,3,FALSE)))","v":""},null,null,null,null,null,null,""]
["",null,{"$f":"IF(B5483=\"\",\"\",IF(ISERROR(VLOOKUP(B5483,database!$A$6:$BFQ$206,4,FALSE)),\"\",VLOOKUP(B5483,database!$A$6:$BFQ$206,4,FALSE)))","v":""},null,null,null,"",null,null,null,{"$f":"IF(B5483=\"\",\"\",IF(ISERROR(VLOOKUP(B5483,database!$A$6:$BFQ$206,3,FALSE)),\"\",VLOOKUP(B5483,database!$A$6:$BFQ$206,3,FALSE)))","v":""},null,null,null,null,null,null,""]
["",null,{"$f":"IF(B5486=\"\",\"\",IF(ISERROR(VLOOKUP(B5486,database!$A$6:$BFQ$206,4,FALSE)),\"\",VLOOKUP(B5486,database!$A$6:$BFQ$206,4,FALSE)))","v":""},null,null,null,"",null,null,null,{"$f":"IF(B5486=\"\",\"\",IF(ISERROR(VLOOKUP(B5486,database!$A$6:$BFQ$206,3,FALSE)),\"\",VLOOKUP(B5486,database!$A$6:$BFQ$206,3,FALSE)))","v":""},null,null,null,null,null,null,""]
["",null,{"$f":"IF(B5487=\"\",\"\",IF(ISERROR(VLOOKUP(B5487,database!$A$6:$BFQ$206,4,FALSE)),\"\",VLOOKUP(B5487,database!$A$6:$BFQ$206,4,FALSE)))","v":""},null,null,null,"",null,null,null,{"$f":"IF(B5487=\"\",\"\",IF(ISERROR(VLOOKUP(B5487,database!$A$6:$BFQ$206,3,FALSE)),\"\",VLOOKUP(B5487,database!$A$6:$BFQ$206,3,FALSE)))","v":""},null,null,null,null,null,null,""]
["",null,{"$f":"IF(B5489=\"\",\"\",IF(ISERROR(VLOOKUP(B5489,database!$A$6:$BFQ$206,4,FALSE)),\"\",VLOOKUP(B5489,database!$A$6:$BFQ$206,4,FALSE)))","v":""},null,null,null,"",null,null,null,{"$f":"IF(B5489=\"\",\"\",IF(ISERROR(VLOOKUP(B5489,database!$A$6:$BFQ$206,3,FALSE)),\"\",VLOOKUP(B5489,database!$A$6:$BFQ$206,3,FALSE)))","v":""},null,null,null,null,null,null,""]
["",null,{"$f":"IF(B5490=\"\",\"\",IF(ISERROR(VLOOKUP(B5490,database!$A$6:$BFQ$206,4,FALSE)),\"\",VLOOKUP(B5490,database!$A$6:$BFQ$206,4,FALSE)))","v":""},null,null,null,"",null,null,null,{"$f":"IF(B5490=\"\",\"\",IF(ISERROR(VLOOKUP(B5490,database!$A$6:$BFQ$206,3,FALSE)),\"\",VLOOKUP(B5490,database!$A$6:$BFQ$206,3,FALSE)))","v":""},null,null,null,null,null,null,""]
["",null,{"$f":"IF(B5493=\"\",\"\",IF(ISERROR(VLOOKUP(B5493,database!$A$6:$BFQ$206,4,FALSE)),\"\",VLOOKUP(B5493,database!$A$6:$BFQ$206,4,FALSE)))","v":""},null,null,null,"",null,null,null,{"$f":"IF(B5493=\"\",\"\",IF(ISERROR(VLOOKUP(B5493,database!$A$6:$BFQ$206,3,FALSE)),\"\",VLOOKUP(B5493,database!$A$6:$BFQ$206,3,FALSE)))","v":""},null,null,null,null,null,null,""]
["",null,{"$f":"IF(B5494=\"\",\"\",IF(ISERROR(VLOOKUP(B5494,database!$A$6:$BFQ$206,4,FALSE)),\"\",VLOOKUP(B5494,database!$A$6:$BFQ$206,4,FALSE)))","v":""},null,null,null,"",null,null,null,{"$f":"IF(B5494=\"\",\"\",IF(ISERROR(VLOOKUP(B5494,database!$A$6:$BFQ$206,3,FALSE)),\"\",VLOOKUP(B5494,database!$A$6:$BFQ$206,3,FALSE)))","v":""},null,null,null,null,null,null,""]
["",null,{"$f":"IF(B5496=\"\",\"\",IF(ISERROR(VLOOKUP(B5496,database!$A$6:$BFQ$206,4,FALSE)),\"\",VLOOKUP(B5496,database!$A$6:$BFQ$206,4,FALSE)))","v":""},null,null,null,"",null,null,null,{"$f":"IF(B5496=\"\",\"\",IF(ISERROR(VLOOKUP(B5496,database!$A$6:$BFQ$206,3,FALSE)),\"\",VLOOKUP(B5496,database!$A$6:$BFQ$206,3,FALSE)))","v":""},null,null,null,null,null,null,""]
["",null,{"$f":"IF(B5497=\"\",\"\",IF(ISERROR(VLOOKUP(B5497,database!$A$6:$BFQ$206,4,FALSE)),\"\",VLOOKUP(B5497,database!$A$6:$BFQ$206,4,FALSE)))","v":""},null,null,null,"",null,null,null,{"$f":"IF(B5497=\"\",\"\",IF(ISERROR(VLOOKUP(B5497,database!$A$6:$BFQ$206,3,FALSE)),\"\",VLOOKUP(B5497,database!$A$6:$BFQ$206,3,FALSE)))","v":""},null,null,null,null,null,null,""]
["",null,{"$f":"IF(B5500=\"\",\"\",IF(ISERROR(VLOOKUP(B5500,database!$A$6:$BFQ$206,4,FALSE)),\"\",VLOOKUP(B5500,database!$A$6:$BFQ$206,4,FALSE)))","v":""},null,null,null,"",null,null,null,{"$f":"IF(B5500=\"\",\"\",IF(ISERROR(VLOOKUP(B5500,database!$A$6:$BFQ$206,3,FALSE)),\"\",VLOOKUP(B5500,database!$A$6:$BFQ$206,3,FALSE)))","v":""},null,null,null,null,null,null,""]
["",null,{"$f":"IF(B5501=\"\",\"\",IF(ISERROR(VLOOKUP(B5501,database!$A$6:$BFQ$206,4,FALSE)),\"\",VLOOKUP(B5501,database!$A$6:$BFQ$206,4,FALSE)))","v":""},null,null,null,"",null,null,null,{"$f":"IF(B5501=\"\",\"\",IF(ISERROR(VLOOKUP(B5501,database!$A$6:$BFQ$206,3,FALSE)),\"\",VLOOKUP(B5501,database!$A$6:$BFQ$206,3,FALSE)))","v":""},null,null,null,null,null,null,""]
["",null,{"$f":"IF(B5503=\"\",\"\",IF(ISERROR(VLOOKUP(B5503,database!$A$6:$BFQ$206,4,FALSE)),\"\",VLOOKUP(B5503,database!$A$6:$BFQ$206,4,FALSE)))","v":""},null,null,null,"",null,null,null,{"$f":"IF(B5503=\"\",\"\",IF(ISERROR(VLOOKUP(B5503,database!$A$6:$BFQ$206,3,FALSE)),\"\",VLOOKUP(B5503,database!$A$6:$BFQ$206,3,FALSE)))","v":""},null,null,null,null,null,null,""]
["",null,{"$f":"IF(B5504=\"\",\"\",IF(ISERROR(VLOOKUP(B5504,database!$A$6:$BFQ$206,4,FALSE)),\"\",VLOOKUP(B5504,database!$A$6:$BFQ$206,4,FALSE)))","v":""},null,null,null,"",null,null,null,{"$f":"IF(B5504=\"\",\"\",IF(ISERROR(VLOOKUP(B5504,database!$A$6:$BFQ$206,3,FALSE)),\"\",VLOOKUP(B5504,database!$A$6:$BFQ$206,3,FALSE)))","v":""},null,null,null,null,null,null,""]
["",null,{"$f":"IF(B5507=\"\",\"\",IF(ISERROR(VLOOKUP(B5507,database!$A$6:$BFQ$206,4,FALSE)),\"\",VLOOKUP(B5507,database!$A$6:$BFQ$206,4,FALSE)))","v":""},null,null,null,"",null,null,null,{"$f":"IF(B5507=\"\",\"\",IF(ISERROR(VLOOKUP(B5507,database!$A$6:$BFQ$206,3,FALSE)),\"\",VLOOKUP(B5507,database!$A$6:$BFQ$206,3,FALSE)))","v":""},null,null,null,null,null,null,""]
["",null,{"$f":"IF(B5508=\"\",\"\",IF(ISERROR(VLOOKUP(B5508,database!$A$6:$BFQ$206,4,FALSE)),\"\",VLOOKUP(B5508,database!$A$6:$BFQ$206,4,FALSE)))","v":""},null,null,null,"",null,null,null,{"$f":"IF(B5508=\"\",\"\",IF(ISERROR(VLOOKUP(B5508,database!$A$6:$BFQ$206,3,FALSE)),\"\",VLOOKUP(B5508,database!$A$6:$BFQ$206,3,FALSE)))","v":""},null,null,null,null,null,null,""]
["",null,{"$f":"IF(B5510=\"\",\"\",IF(ISERROR(VLOOKUP(B5510,database!$A$6:$BFQ$206,4,FALSE)),\"\",VLOOKUP(B5510,database!$A$6:$BFQ$206,4,FALSE)))","v":""},null,null,null,"",null,null,null,{"$f":"IF(B5510=\"\",\"\",IF(ISERROR(VLOOKUP(B5510,database!$A$6:$BFQ$206,3,FALSE)),\"\",VLOOKUP(B5510,database!$A$6:$BFQ$206,3,FALSE)))","v":""},null,null,null,null,null,null,""]
["",null,{"$f":"IF(B5511=\"\",\"\",IF(ISERROR(VLOOKUP(B5511,database!$A$6:$BFQ$206,4,FALSE)),\"\",VLOOKUP(B5511,database!$A$6:$BFQ$206,4,FALSE)))","v":""},null,null,null,"",null,null,null,{"$f":"IF(B5511=\"\",\"\",IF(ISERROR(VLOOKUP(B5511,database!$A$6:$BFQ$206,3,FALSE)),\"\",VLOOKUP(B5511,database!$A$6:$BFQ$206,3,FALSE)))","v":""},null,null,null,null,null,null,""]
["",null,{"$f":"IF(B5514=\"\",\"\",IF(ISERROR(VLOOKUP(B5514,database!$A$6:$BFQ$206,4,FALSE)),\"\",VLOOKUP(B5514,database!$A$6:$BFQ$206,4,FALSE)))","v":""},null,null,null,"",null,null,null,{"$f":"IF(B5514=\"\",\"\",IF(ISERROR(VLOOKUP(B5514,database!$A$6:$BFQ$206,3,FALSE)),\"\",VLOOKUP(B5514,database!$A$6:$BFQ$206,3,FALSE)))","v":""},null,null,null,null,null,null,""]
["",null,{"$f":"IF(B5515=\"\",\"\",IF(ISERROR(VLOOKUP(B5515,database!$A$6:$BFQ$206,4,FALSE)),\"\",VLOOKUP(B5515,database!$A$6:$BFQ$206,4,FALSE)))","v":""},null,null,null,"",null,null,null,{"$f":"IF(B5515=\"\",\"\",IF(ISERROR(VLOOKUP(B5515,database!$A$6:$BFQ$206,3,FALSE)),\"\",VLOOKUP(B5515,database!$A$6:$BFQ$206,3,FALSE)))","v":""},null,null,null,null,null,null,""]
["",null,{"$f":"IF(B5517=\"\",\"\",IF(ISERROR(VLOOKUP(B5517,database!$A$6:$BFQ$206,4,FALSE)),\"\",VLOOKUP(B5517,database!$A$6:$BFQ$206,4,FALSE)))","v":""},null,null,null,"",null,null,null,{"$f":"IF(B5517=\"\",\"\",IF(ISERROR(VLOOKUP(B5517,database!$A$6:$BFQ$206,3,FALSE)),\"\",VLOOKUP(B5517,database!$A$6:$BFQ$206,3,FALSE)))","v":""},null,null,null,null,null,null,""]
["",null,{"$f":"IF(B5518=\"\",\"\",IF(ISERROR(VLOOKUP(B5518,database!$A$6:$BFQ$206,4,FALSE)),\"\",VLOOKUP(B5518,database!$A$6:$BFQ$206,4,FALSE)))","v":""},null,null,null,"",null,null,null,{"$f":"IF(B5518=\"\",\"\",IF(ISERROR(VLOOKUP(B5518,database!$A$6:$BFQ$206,3,FALSE)),\"\",VLOOKUP(B5518,database!$A$6:$BFQ$206,3,FALSE)))","v":""},null,null,null,null,null,null,""]
["",null,{"$f":"IF(B5519=\"\",\"\",IF(ISERROR(VLOOKUP(B5519,database!$A$6:$BFQ$206,4,FALSE)),\"\",VLOOKUP(B5519,database!$A$6:$BFQ$206,4,FALSE)))","v":""},null,null,null,"",null,null,null,{"$f":"IF(B5519=\"\",\"\",IF(ISERROR(VLOOKUP(B5519,database!$A$6:$BFQ$206,3,FALSE)),\"\",VLOOKUP(B5519,database!$A$6:$BFQ$206,3,FALSE)))","v":""},null,null,null,null,null,null,""]
["",null,{"$f":"IF(B5520=\"\",\"\",IF(ISERROR(VLOOKUP(B5520,database!$A$6:$BFQ$206,4,FALSE)),\"\",VLOOKUP(B5520,database!$A$6:$BFQ$206,4,FALSE)))","v":""},null,null,null,"",null,null,null,{"$f":"IF(B5520=\"\",\"\",IF(ISERROR(VLOOKUP(B5520,database!$A$6:$BFQ$206,3,FALSE)),\"\",VLOOKUP(B5520,database!$A$6:$BFQ$206,3,FALSE)))","v":""},null,null,null,null,null,null,""]
["",null,{"$f":"IF(B5521=\"\",\"\",IF(ISERROR(VLOOKUP(B5521,database!$A$6:$BFQ$206,4,FALSE)),\"\",VLOOKUP(B5521,database!$A$6:$BFQ$206,4,FALSE)))","v":""},null,null,null,"",null,null,null,{"$f":"IF(B5521=\"\",\"\",IF(ISERROR(VLOOKUP(B5521,database!$A$6:$BFQ$206,3,FALSE)),\"\",VLOOKUP(B5521,database!$A$6:$BFQ$206,3,FALSE)))","v":""},null,null,null,null,null,null,""]
["",null,{"$f":"IF(B5522=\"\",\"\",IF(ISERROR(VLOOKUP(B5522,database!$A$6:$BFQ$206,4,FALSE)),\"\",VLOOKUP(B5522,database!$A$6:$BFQ$206,4,FALSE)))","v":""},null,null,null,"",null,null,null,{"$f":"IF(B5522=\"\",\"\",IF(ISERROR(VLOOKUP(B5522,database!$A$6:$BFQ$206,3,FALSE)),\"\",VLOOKUP(B5522,database!$A$6:$BFQ$206,3,FALSE)))","v":""},null,null,null,null,null,null,""]
["",null,{"$f":"IF(B5523=\"\",\"\",IF(ISERROR(VLOOKUP(B5523,database!$A$6:$BFQ$206,4,FALSE)),\"\",VLOOKUP(B5523,database!$A$6:$BFQ$206,4,FALSE)))","v":""},null,null,null,"",null,null,null,{"$f":"IF(B5523=\"\",\"\",IF(ISERROR(VLOOKUP(B5523,database!$A$6:$BFQ$206,3,FALSE)),\"\",VLOOKUP(B5523,database!$A$6:$BFQ$206,3,FALSE)))","v":""},null,null,null,null,null,null,""]
["",null,{"$f":"IF(B5524=\"\",\"\",IF(ISERROR(VLOOKUP(B5524,database!$A$6:$BFQ$206,4,FALSE)),\"\",VLOOKUP(B5524,database!$A$6:$BFQ$206,4,FALSE)))","v":""},null,null,null,"",null,null,null,{"$f":"IF(B5524=\"\",\"\",IF(ISERROR(VLOOKUP(B5524,database!$A$6:$BFQ$206,3,FALSE)),\"\",VLOOKUP(B5524,database!$A$6:$BFQ$206,3,FALSE)))","v":""},null,null,null,null,null,null,""]
["",null,{"$f":"IF(B5525=\"\",\"\",IF(ISERROR(VLOOKUP(B5525,database!$A$6:$BFQ$206,4,FALSE)),\"\",VLOOKUP(B5525,database!$A$6:$BFQ$206,4,FALSE)))","v":""},null,null,null,"",null,null,null,{"$f":"IF(B5525=\"\",\"\",IF(ISERROR(VLOOKUP(B5525,database!$A$6:$BFQ$206,3,FALSE)),\"\",VLOOKUP(B5525,database!$A$6:$BFQ$206,3,FALSE)))","v":""},null,null,null,null,null,null,""]
["",null,{"$f":"IF(B5526=\"\",\"\",IF(ISERROR(VLOOKUP(B5526,database!$A$6:$BFQ$206,4,FALSE)),\"\",VLOOKUP(B5526,database!$A$6:$BFQ$206,4,FALSE)))","v":""},null,null,null,"",null,null,null,{"$f":"IF(B5526=\"\",\"\",IF(ISERROR(VLOOKUP(B5526,database!$A$6:$BFQ$206,3,FALSE)),\"\",VLOOKUP(B5526,database!$A$6:$BFQ$206,3,FALSE)))","v":""},null,null,null,null,null,null,""]
["",null,{"$f":"IF(B5527=\"\",\"\",IF(ISERROR(VLOOKUP(B5527,database!$A$6:$BFQ$206,4,FALSE)),\"\",VLOOKUP(B5527,database!$A$6:$BFQ$206,4,FALSE)))","v":""},null,null,null,"",null,null,null,{"$f":"IF(B5527=\"\",\"\",IF(ISERROR(VLOOKUP(B5527,database!$A$6:$BFQ$206,3,FALSE)),\"\",VLOOKUP(B5527,database!$A$6:$BFQ$206,3,FALSE)))","v":""},null,null,null,null,null,null,""]
["",null,{"$f":"IF(B5528=\"\",\"\",IF(ISERROR(VLOOKUP(B5528,database!$A$6:$BFQ$206,4,FALSE)),\"\",VLOOKUP(B5528,database!$A$6:$BFQ$206,4,FALSE)))","v":""},null,null,null,"",null,null,null,{"$f":"IF(B5528=\"\",\"\",IF(ISERROR(VLOOKUP(B5528,database!$A$6:$BFQ$206,3,FALSE)),\"\",VLOOKUP(B5528,database!$A$6:$BFQ$206,3,FALSE)))","v":""},null,null,null,null,null,null,""]
["",null,{"$f":"IF(B5529=\"\",\"\",IF(ISERROR(VLOOKUP(B5529,database!$A$6:$BFQ$206,4,FALSE)),\"\",VLOOKUP(B5529,database!$A$6:$BFQ$206,4,FALSE)))","v":""},null,null,null,"",null,null,null,{"$f":"IF(B5529=\"\",\"\",IF(ISERROR(VLOOKUP(B5529,database!$A$6:$BFQ$206,3,FALSE)),\"\",VLOOKUP(B5529,database!$A$6:$BFQ$206,3,FALSE)))","v":""},null,null,null,null,null,null,""]
["",null,{"$f":"IF(B5530=\"\",\"\",IF(ISERROR(VLOOKUP(B5530,database!$A$6:$BFQ$206,4,FALSE)),\"\",VLOOKUP(B5530,database!$A$6:$BFQ$206,4,FALSE)))","v":""},null,null,null,"",null,null,null,{"$f":"IF(B5530=\"\",\"\",IF(ISERROR(VLOOKUP(B5530,database!$A$6:$BFQ$206,3,FALSE)),\"\",VLOOKUP(B5530,database!$A$6:$BFQ$206,3,FALSE)))","v":""},null,null,null,null,null,null,""]
["",null,{"$f":"IF(B5531=\"\",\"\",IF(ISERROR(VLOOKUP(B5531,database!$A$6:$BFQ$206,4,FALSE)),\"\",VLOOKUP(B5531,database!$A$6:$BFQ$206,4,FALSE)))","v":""},null,null,null,"",null,null,null,{"$f":"IF(B5531=\"\",\"\",IF(ISERROR(VLOOKUP(B5531,database!$A$6:$BFQ$206,3,FALSE)),\"\",VLOOKUP(B5531,database!$A$6:$BFQ$206,3,FALSE)))","v":""},null,null,null,null,null,null,""]
["",null,{"$f":"IF(B5532=\"\",\"\",IF(ISERROR(VLOOKUP(B5532,database!$A$6:$BFQ$206,4,FALSE)),\"\",VLOOKUP(B5532,database!$A$6:$BFQ$206,4,FALSE)))","v":""},null,null,null,"",null,null,null,{"$f":"IF(B5532=\"\",\"\",IF(ISERROR(VLOOKUP(B5532,database!$A$6:$BFQ$206,3,FALSE)),\"\",VLOOKUP(B5532,database!$A$6:$BFQ$206,3,FALSE)))","v":""},null,null,null,null,null,null,""]
["",null,{"$f":"IF(B5533=\"\",\"\",IF(ISERROR(VLOOKUP(B5533,database!$A$6:$BFQ$206,4,FALSE)),\"\",VLOOKUP(B5533,database!$A$6:$BFQ$206,4,FALSE)))","v":""},null,null,null,"",null,null,null,{"$f":"IF(B5533=\"\",\"\",IF(ISERROR(VLOOKUP(B5533,database!$A$6:$BFQ$206,3,FALSE)),\"\",VLOOKUP(B5533,database!$A$6:$BFQ$206,3,FALSE)))","v":""},null,null,null,null,null,null,""]
["",null,{"$f":"IF(B5534=\"\",\"\",IF(ISERROR(VLOOKUP(B5534,database!$A$6:$BFQ$206,4,FALSE)),\"\",VLOOKUP(B5534,database!$A$6:$BFQ$206,4,FALSE)))","v":""},null,null,null,"",null,null,null,{"$f":"IF(B5534=\"\",\"\",IF(ISERROR(VLOOKUP(B5534,database!$A$6:$BFQ$206,3,FALSE)),\"\",VLOOKUP(B5534,database!$A$6:$BFQ$206,3,FALSE)))","v":""},null,null,null,null,null,null,""]
["",null,{"$f":"IF(B5535=\"\",\"\",IF(ISERROR(VLOOKUP(B5535,database!$A$6:$BFQ$206,4,FALSE)),\"\",VLOOKUP(B5535,database!$A$6:$BFQ$206,4,FALSE)))","v":""},null,null,null,"",null,null,null,{"$f":"IF(B5535=\"\",\"\",IF(ISERROR(VLOOKUP(B5535,database!$A$6:$BFQ$206,3,FALSE)),\"\",VLOOKUP(B5535,database!$A$6:$BFQ$206,3,FALSE)))","v":""},null,null,null,null,null,null,""]
["",null,{"$f":"IF(B5536=\"\",\"\",IF(ISERROR(VLOOKUP(B5536,database!$A$6:$BFQ$206,4,FALSE)),\"\",VLOOKUP(B5536,database!$A$6:$BFQ$206,4,FALSE)))","v":""},null,null,null,"",null,null,null,{"$f":"IF(B5536=\"\",\"\",IF(ISERROR(VLOOKUP(B5536,database!$A$6:$BFQ$206,3,FALSE)),\"\",VLOOKUP(B5536,database!$A$6:$BFQ$206,3,FALSE)))","v":""},null,null,null,null,null,null,""]
["",null,{"$f":"IF(B5537=\"\",\"\",IF(ISERROR(VLOOKUP(B5537,database!$A$6:$BFQ$206,4,FALSE)),\"\",VLOOKUP(B5537,database!$A$6:$BFQ$206,4,FALSE)))","v":""},null,null,null,"",null,null,null,{"$f":"IF(B5537=\"\",\"\",IF(ISERROR(VLOOKUP(B5537,database!$A$6:$BFQ$206,3,FALSE)),\"\",VLOOKUP(B5537,database!$A$6:$BFQ$206,3,FALSE)))","v":""},null,null,null,null,null,null,""]
["",null,{"$f":"IF(B5538=\"\",\"\",IF(ISERROR(VLOOKUP(B5538,database!$A$6:$BFQ$206,4,FALSE)),\"\",VLOOKUP(B5538,database!$A$6:$BFQ$206,4,FALSE)))","v":""},null,null,null,"",null,null,null,{"$f":"IF(B5538=\"\",\"\",IF(ISERROR(VLOOKUP(B5538,database!$A$6:$BFQ$206,3,FALSE)),\"\",VLOOKUP(B5538,database!$A$6:$BFQ$206,3,FALSE)))","v":""},null,null,null,null,null,null,""]
["",null,{"$f":"IF(B5539=\"\",\"\",IF(ISERROR(VLOOKUP(B5539,database!$A$6:$BFQ$206,4,FALSE)),\"\",VLOOKUP(B5539,database!$A$6:$BFQ$206,4,FALSE)))","v":""},null,null,null,"",null,null,null,{"$f":"IF(B5539=\"\",\"\",IF(ISERROR(VLOOKUP(B5539,database!$A$6:$BFQ$206,3,FALSE)),\"\",VLOOKUP(B5539,database!$A$6:$BFQ$206,3,FALSE)))","v":""},null,null,null,null,null,null,""]
["",null,{"$f":"IF(B5540=\"\",\"\",IF(ISERROR(VLOOKUP(B5540,database!$A$6:$BFQ$206,4,FALSE)),\"\",VLOOKUP(B5540,database!$A$6:$BFQ$206,4,FALSE)))","v":""},null,null,null,"",null,null,null,{"$f":"IF(B5540=\"\",\"\",IF(ISERROR(VLOOKUP(B5540,database!$A$6:$BFQ$206,3,FALSE)),\"\",VLOOKUP(B5540,database!$A$6:$BFQ$206,3,FALSE)))","v":""},null,null,null,null,null,null,""]
["",null,{"$f":"IF(B5541=\"\",\"\",IF(ISERROR(VLOOKUP(B5541,database!$A$6:$BFQ$206,4,FALSE)),\"\",VLOOKUP(B5541,database!$A$6:$BFQ$206,4,FALSE)))","v":""},null,null,null,"",null,null,null,{"$f":"IF(B5541=\"\",\"\",IF(ISERROR(VLOOKUP(B5541,database!$A$6:$BFQ$206,3,FALSE)),\"\",VLOOKUP(B5541,database!$A$6:$BFQ$206,3,FALSE)))","v":""},null,null,null,null,null,null,""]
["",null,{"$f":"IF(B5542=\"\",\"\",IF(ISERROR(VLOOKUP(B5542,database!$A$6:$BFQ$206,4,FALSE)),\"\",VLOOKUP(B5542,database!$A$6:$BFQ$206,4,FALSE)))","v":""},null,null,null,"",null,null,null,{"$f":"IF(B5542=\"\",\"\",IF(ISERROR(VLOOKUP(B5542,database!$A$6:$BFQ$206,3,FALSE)),\"\",VLOOKUP(B5542,database!$A$6:$BFQ$206,3,FALSE)))","v":""},null,null,null,null,null,null,""]
["",null,{"$f":"IF(B5543=\"\",\"\",IF(ISERROR(VLOOKUP(B5543,database!$A$6:$BFQ$206,4,FALSE)),\"\",VLOOKUP(B5543,database!$A$6:$BFQ$206,4,FALSE)))","v":""},null,null,null,"",null,null,null,{"$f":"IF(B5543=\"\",\"\",IF(ISERROR(VLOOKUP(B5543,database!$A$6:$BFQ$206,3,FALSE)),\"\",VLOOKUP(B5543,database!$A$6:$BFQ$206,3,FALSE)))","v":""},null,null,null,null,null,null,""]
["",null,{"$f":"IF(B5544=\"\",\"\",IF(ISERROR(VLOOKUP(B5544,database!$A$6:$BFQ$206,4,FALSE)),\"\",VLOOKUP(B5544,database!$A$6:$BFQ$206,4,FALSE)))","v":""},null,null,null,"",null,null,null,{"$f":"IF(B5544=\"\",\"\",IF(ISERROR(VLOOKUP(B5544,database!$A$6:$BFQ$206,3,FALSE)),\"\",VLOOKUP(B5544,database!$A$6:$BFQ$206,3,FALSE)))","v":""},null,null,null,null,null,null,""]
["",null,{"$f":"IF(B5545=\"\",\"\",IF(ISERROR(VLOOKUP(B5545,database!$A$6:$BFQ$206,4,FALSE)),\"\",VLOOKUP(B5545,database!$A$6:$BFQ$206,4,FALSE)))","v":""},null,null,null,"",null,null,null,{"$f":"IF(B5545=\"\",\"\",IF(ISERROR(VLOOKUP(B5545,database!$A$6:$BFQ$206,3,FALSE)),\"\",VLOOKUP(B5545,database!$A$6:$BFQ$206,3,FALSE)))","v":""},null,null,null,null,null,null,""]
["",null,{"$f":"IF(B5546=\"\",\"\",IF(ISERROR(VLOOKUP(B5546,database!$A$6:$BFQ$206,4,FALSE)),\"\",VLOOKUP(B5546,database!$A$6:$BFQ$206,4,FALSE)))","v":""},null,null,null,"",null,null,null,{"$f":"IF(B5546=\"\",\"\",IF(ISERROR(VLOOKUP(B5546,database!$A$6:$BFQ$206,3,FALSE)),\"\",VLOOKUP(B5546,database!$A$6:$BFQ$206,3,FALSE)))","v":""},null,null,null,null,null,null,""]
["",null,{"$f":"IF(B5547=\"\",\"\",IF(ISERROR(VLOOKUP(B5547,database!$A$6:$BFQ$206,4,FALSE)),\"\",VLOOKUP(B5547,database!$A$6:$BFQ$206,4,FALSE)))","v":""},null,null,null,"",null,null,null,{"$f":"IF(B5547=\"\",\"\",IF(ISERROR(VLOOKUP(B5547,database!$A$6:$BFQ$206,3,FALSE)),\"\",VLOOKUP(B5547,database!$A$6:$BFQ$206,3,FALSE)))","v":""},null,null,null,null,null,null,""]
["",null,{"$f":"IF(B5548=\"\",\"\",IF(ISERROR(VLOOKUP(B5548,database!$A$6:$BFQ$206,4,FALSE)),\"\",VLOOKUP(B5548,database!$A$6:$BFQ$206,4,FALSE)))","v":""},null,null,null,"",null,null,null,{"$f":"IF(B5548=\"\",\"\",IF(ISERROR(VLOOKUP(B5548,database!$A$6:$BFQ$206,3,FALSE)),\"\",VLOOKUP(B5548,database!$A$6:$BFQ$206,3,FALSE)))","v":""},null,null,null,null,null,null,""]
["",null,{"$f":"IF(B5549=\"\",\"\",IF(ISERROR(VLOOKUP(B5549,database!$A$6:$BFQ$206,4,FALSE)),\"\",VLOOKUP(B5549,database!$A$6:$BFQ$206,4,FALSE)))","v":""},null,null,null,"",null,null,null,{"$f":"IF(B5549=\"\",\"\",IF(ISERROR(VLOOKUP(B5549,database!$A$6:$BFQ$206,3,FALSE)),\"\",VLOOKUP(B5549,database!$A$6:$BFQ$206,3,FALSE)))","v":""},null,null,null,null,null,null,""]
["",null,{"$f":"IF(B5550=\"\",\"\",IF(ISERROR(VLOOKUP(B5550,database!$A$6:$BFQ$206,4,FALSE)),\"\",VLOOKUP(B5550,database!$A$6:$BFQ$206,4,FALSE)))","v":""},null,null,null,"",null,null,null,{"$f":"IF(B5550=\"\",\"\",IF(ISERROR(VLOOKUP(B5550,database!$A$6:$BFQ$206,3,FALSE)),\"\",VLOOKUP(B5550,database!$A$6:$BFQ$206,3,FALSE)))","v":""},null,null,null,null,null,null,""]
["",null,{"$f":"IF(B5551=\"\",\"\",IF(ISERROR(VLOOKUP(B5551,database!$A$6:$BFQ$206,4,FALSE)),\"\",VLOOKUP(B5551,database!$A$6:$BFQ$206,4,FALSE)))","v":""},null,null,null,"",null,null,null,{"$f":"IF(B5551=\"\",\"\",IF(ISERROR(VLOOKUP(B5551,database!$A$6:$BFQ$206,3,FALSE)),\"\",VLOOKUP(B5551,database!$A$6:$BFQ$206,3,FALSE)))","v":""},null,null,null,null,null,null,""]
["",null,{"$f":"IF(B5552=\"\",\"\",IF(ISERROR(VLOOKUP(B5552,database!$A$6:$BFQ$206,4,FALSE)),\"\",VLOOKUP(B5552,database!$A$6:$BFQ$206,4,FALSE)))","v":""},null,null,null,"",null,null,null,{"$f":"IF(B5552=\"\",\"\",IF(ISERROR(VLOOKUP(B5552,database!$A$6:$BFQ$206,3,FALSE)),\"\",VLOOKUP(B5552,database!$A$6:$BFQ$206,3,FALSE)))","v":""},null,null,null,null,null,null,""]
["",null,{"$f":"IF(B5553=\"\",\"\",IF(ISERROR(VLOOKUP(B5553,database!$A$6:$BFQ$206,4,FALSE)),\"\",VLOOKUP(B5553,database!$A$6:$BFQ$206,4,FALSE)))","v":""},null,null,null,"",null,null,null,{"$f":"IF(B5553=\"\",\"\",IF(ISERROR(VLOOKUP(B5553,database!$A$6:$BFQ$206,3,FALSE)),\"\",VLOOKUP(B5553,database!$A$6:$BFQ$206,3,FALSE)))","v":""},null,null,null,null,null,null,""]
["",null,{"$f":"IF(B5554=\"\",\"\",IF(ISERROR(VLOOKUP(B5554,database!$A$6:$BFQ$206,4,FALSE)),\"\",VLOOKUP(B5554,database!$A$6:$BFQ$206,4,FALSE)))","v":""},null,null,null,"",null,null,null,{"$f":"IF(B5554=\"\",\"\",IF(ISERROR(VLOOKUP(B5554,database!$A$6:$BFQ$206,3,FALSE)),\"\",VLOOKUP(B5554,database!$A$6:$BFQ$206,3,FALSE)))","v":""},null,null,null,null,null,null,""]
["",null,{"$f":"IF(B5555=\"\",\"\",IF(ISERROR(VLOOKUP(B5555,database!$A$6:$BFQ$206,4,FALSE)),\"\",VLOOKUP(B5555,database!$A$6:$BFQ$206,4,FALSE)))","v":""},null,null,null,"",null,null,null,{"$f":"IF(B5555=\"\",\"\",IF(ISERROR(VLOOKUP(B5555,database!$A$6:$BFQ$206,3,FALSE)),\"\",VLOOKUP(B5555,database!$A$6:$BFQ$206,3,FALSE)))","v":""},null,null,null,null,null,null,""]
["",null,{"$f":"IF(B5556=\"\",\"\",IF(ISERROR(VLOOKUP(B5556,database!$A$6:$BFQ$206,4,FALSE)),\"\",VLOOKUP(B5556,database!$A$6:$BFQ$206,4,FALSE)))","v":""},null,null,null,"",null,null,null,{"$f":"IF(B5556=\"\",\"\",IF(ISERROR(VLOOKUP(B5556,database!$A$6:$BFQ$206,3,FALSE)),\"\",VLOOKUP(B5556,database!$A$6:$BFQ$206,3,FALSE)))","v":""},null,null,null,null,null,null,""]
["",null,{"$f":"IF(B5557=\"\",\"\",IF(ISERROR(VLOOKUP(B5557,database!$A$6:$BFQ$206,4,FALSE)),\"\",VLOOKUP(B5557,database!$A$6:$BFQ$206,4,FALSE)))","v":""},null,null,null,"",null,null,null,{"$f":"IF(B5557=\"\",\"\",IF(ISERROR(VLOOKUP(B5557,database!$A$6:$BFQ$206,3,FALSE)),\"\",VLOOKUP(B5557,database!$A$6:$BFQ$206,3,FALSE)))","v":""},null,null,null,null,null,null,""]
["",null,{"$f":"IF(B5558=\"\",\"\",IF(ISERROR(VLOOKUP(B5558,database!$A$6:$BFQ$206,4,FALSE)),\"\",VLOOKUP(B5558,database!$A$6:$BFQ$206,4,FALSE)))","v":""},null,null,null,"",null,null,null,{"$f":"IF(B5558=\"\",\"\",IF(ISERROR(VLOOKUP(B5558,database!$A$6:$BFQ$206,3,FALSE)),\"\",VLOOKUP(B5558,database!$A$6:$BFQ$206,3,FALSE)))","v":""},null,null,null,null,null,null,""]
["",null,{"$f":"IF(B5559=\"\",\"\",IF(ISERROR(VLOOKUP(B5559,database!$A$6:$BFQ$206,4,FALSE)),\"\",VLOOKUP(B5559,database!$A$6:$BFQ$206,4,FALSE)))","v":""},null,null,null,"",null,null,null,{"$f":"IF(B5559=\"\",\"\",IF(ISERROR(VLOOKUP(B5559,database!$A$6:$BFQ$206,3,FALSE)),\"\",VLOOKUP(B5559,database!$A$6:$BFQ$206,3,FALSE)))","v":""},null,null,null,null,null,null,""]
["",null,{"$f":"IF(B5560=\"\",\"\",IF(ISERROR(VLOOKUP(B5560,database!$A$6:$BFQ$206,4,FALSE)),\"\",VLOOKUP(B5560,database!$A$6:$BFQ$206,4,FALSE)))","v":""},null,null,null,"",null,null,null,{"$f":"IF(B5560=\"\",\"\",IF(ISERROR(VLOOKUP(B5560,database!$A$6:$BFQ$206,3,FALSE)),\"\",VLOOKUP(B5560,database!$A$6:$BFQ$206,3,FALSE)))","v":""},null,null,null,null,null,null,""]
["",null,{"$f":"IF(B5561=\"\",\"\",IF(ISERROR(VLOOKUP(B5561,database!$A$6:$BFQ$206,4,FALSE)),\"\",VLOOKUP(B5561,database!$A$6:$BFQ$206,4,FALSE)))","v":""},null,null,null,"",null,null,null,{"$f":"IF(B5561=\"\",\"\",IF(ISERROR(VLOOKUP(B5561,database!$A$6:$BFQ$206,3,FALSE)),\"\",VLOOKUP(B5561,database!$A$6:$BFQ$206,3,FALSE)))","v":""},null,null,null,null,null,null,""]
["",null,{"$f":"IF(B5562=\"\",\"\",IF(ISERROR(VLOOKUP(B5562,database!$A$6:$BFQ$206,4,FALSE)),\"\",VLOOKUP(B5562,database!$A$6:$BFQ$206,4,FALSE)))","v":""},null,null,null,"",null,null,null,{"$f":"IF(B5562=\"\",\"\",IF(ISERROR(VLOOKUP(B5562,database!$A$6:$BFQ$206,3,FALSE)),\"\",VLOOKUP(B5562,database!$A$6:$BFQ$206,3,FALSE)))","v":""},null,null,null,null,null,null,""]
["",null,{"$f":"IF(B5563=\"\",\"\",IF(ISERROR(VLOOKUP(B5563,database!$A$6:$BFQ$206,4,FALSE)),\"\",VLOOKUP(B5563,database!$A$6:$BFQ$206,4,FALSE)))","v":""},null,null,null,"",null,null,null,{"$f":"IF(B5563=\"\",\"\",IF(ISERROR(VLOOKUP(B5563,database!$A$6:$BFQ$206,3,FALSE)),\"\",VLOOKUP(B5563,database!$A$6:$BFQ$206,3,FALSE)))","v":""},null,null,null,null,null,null,""]
["",null,{"$f":"IF(B5564=\"\",\"\",IF(ISERROR(VLOOKUP(B5564,database!$A$6:$BFQ$206,4,FALSE)),\"\",VLOOKUP(B5564,database!$A$6:$BFQ$206,4,FALSE)))","v":""},null,null,null,"",null,null,null,{"$f":"IF(B5564=\"\",\"\",IF(ISERROR(VLOOKUP(B5564,database!$A$6:$BFQ$206,3,FALSE)),\"\",VLOOKUP(B5564,database!$A$6:$BFQ$206,3,FALSE)))","v":""},null,null,null,null,null,null,""]
["",null,{"$f":"IF(B5565=\"\",\"\",IF(ISERROR(VLOOKUP(B5565,database!$A$6:$BFQ$206,4,FALSE)),\"\",VLOOKUP(B5565,database!$A$6:$BFQ$206,4,FALSE)))","v":""},null,null,null,"",null,null,null,{"$f":"IF(B5565=\"\",\"\",IF(ISERROR(VLOOKUP(B5565,database!$A$6:$BFQ$206,3,FALSE)),\"\",VLOOKUP(B5565,database!$A$6:$BFQ$206,3,FALSE)))","v":""},null,null,null,null,null,null,""]
["",null,{"$f":"IF(B5566=\"\",\"\",IF(ISERROR(VLOOKUP(B5566,database!$A$6:$BFQ$206,4,FALSE)),\"\",VLOOKUP(B5566,database!$A$6:$BFQ$206,4,FALSE)))","v":""},null,null,null,"",null,null,null,{"$f":"IF(B5566=\"\",\"\",IF(ISERROR(VLOOKUP(B5566,database!$A$6:$BFQ$206,3,FALSE)),\"\",VLOOKUP(B5566,database!$A$6:$BFQ$206,3,FALSE)))","v":""},null,null,null,null,null,null,""]
["",null,{"$f":"IF(B5567=\"\",\"\",IF(ISERROR(VLOOKUP(B5567,database!$A$6:$BFQ$206,4,FALSE)),\"\",VLOOKUP(B5567,database!$A$6:$BFQ$206,4,FALSE)))","v":""},null,null,null,"",null,null,null,{"$f":"IF(B5567=\"\",\"\",IF(ISERROR(VLOOKUP(B5567,database!$A$6:$BFQ$206,3,FALSE)),\"\",VLOOKUP(B5567,database!$A$6:$BFQ$206,3,FALSE)))","v":""},null,null,null,null,null,null,""]
["",null,{"$f":"IF(B5568=\"\",\"\",IF(ISERROR(VLOOKUP(B5568,database!$A$6:$BFQ$206,4,FALSE)),\"\",VLOOKUP(B5568,database!$A$6:$BFQ$206,4,FALSE)))","v":""},null,null,null,"",null,null,null,{"$f":"IF(B5568=\"\",\"\",IF(ISERROR(VLOOKUP(B5568,database!$A$6:$BFQ$206,3,FALSE)),\"\",VLOOKUP(B5568,database!$A$6:$BFQ$206,3,FALSE)))","v":""},null,null,null,null,null,null,""]
[{"$f":"IF(B5569=\"\",\"\",ROW(A5566))","v":""},null,{"$f":"IF(B5569=\"\",\"\",IF(ISERROR(VLOOKUP(B5569,database!$A$6:$BFQ$206,4,FALSE)),\"\",VLOOKUP(B5569,database!$A$6:$BFQ$206,4,FALSE)))","v":""},null,null,null,{"$f":"IF(B5569=\"\",\"\",IF(C5569=\"\",0,1))","v":""},null,null,null,{"$f":"IF(B5569=\"\",\"\",IF(ISERROR(VLOOKUP(B5569,database!$A$6:$BFQ$206,3,FALSE)),\"\",VLOOKUP(B5569,database!$A$6:$BFQ$206,3,FALSE)))","v":""},null,null,null,null,null,null,{"$f":"LEFT(C5569,2)","v":""}]
["",null,{"$f":"IF(B5570=\"\",\"\",IF(ISERROR(VLOOKUP(B5570,database!$A$6:$BFQ$206,4,FALSE)),\"\",VLOOKUP(B5570,database!$A$6:$BFQ$206,4,FALSE)))","v":""},null,null,null,"",null,null,null,{"$f":"IF(B5570=\"\",\"\",IF(ISERROR(VLOOKUP(B5570,database!$A$6:$BFQ$206,3,FALSE)),\"\",VLOOKUP(B5570,database!$A$6:$BFQ$206,3,FALSE)))","v":""},null,null,null,null,null,null,""]
["",null,{"$f":"IF(B5571=\"\",\"\",IF(ISERROR(VLOOKUP(B5571,database!$A$6:$BFQ$206,4,FALSE)),\"\",VLOOKUP(B5571,database!$A$6:$BFQ$206,4,FALSE)))","v":""},null,null,null,"",null,null,null,{"$f":"IF(B5571=\"\",\"\",IF(ISERROR(VLOOKUP(B5571,database!$A$6:$BFQ$206,3,FALSE)),\"\",VLOOKUP(B5571,database!$A$6:$BFQ$206,3,FALSE)))","v":""},null,null,null,null,null,null,""]
["",null,{"$f":"IF(B5572=\"\",\"\",IF(ISERROR(VLOOKUP(B5572,database!$A$6:$BFQ$206,4,FALSE)),\"\",VLOOKUP(B5572,database!$A$6:$BFQ$206,4,FALSE)))","v":""},null,null,null,"",null,null,null,{"$f":"IF(B5572=\"\",\"\",IF(ISERROR(VLOOKUP(B5572,database!$A$6:$BFQ$206,3,FALSE)),\"\",VLOOKUP(B5572,database!$A$6:$BFQ$206,3,FALSE)))","v":""},null,null,null,null,null,null,""]
["",null,{"$f":"IF(B5573=\"\",\"\",IF(ISERROR(VLOOKUP(B5573,database!$A$6:$BFQ$206,4,FALSE)),\"\",VLOOKUP(B5573,database!$A$6:$BFQ$206,4,FALSE)))","v":""},null,null,null,"",null,null,null,{"$f":"IF(B5573=\"\",\"\",IF(ISERROR(VLOOKUP(B5573,database!$A$6:$BFQ$206,3,FALSE)),\"\",VLOOKUP(B5573,database!$A$6:$BFQ$206,3,FALSE)))","v":""},null,null,null,null,null,null,""]
["",null,{"$f":"IF(B5574=\"\",\"\",IF(ISERROR(VLOOKUP(B5574,database!$A$6:$BFQ$206,4,FALSE)),\"\",VLOOKUP(B5574,database!$A$6:$BFQ$206,4,FALSE)))","v":""},null,null,null,"",null,null,null,{"$f":"IF(B5574=\"\",\"\",IF(ISERROR(VLOOKUP(B5574,database!$A$6:$BFQ$206,3,FALSE)),\"\",VLOOKUP(B5574,database!$A$6:$BFQ$206,3,FALSE)))","v":""},null,null,null,null,null,null,""]
["",null,{"$f":"IF(B5575=\"\",\"\",IF(ISERROR(VLOOKUP(B5575,database!$A$6:$BFQ$206,4,FALSE)),\"\",VLOOKUP(B5575,database!$A$6:$BFQ$206,4,FALSE)))","v":""},null,null,null,"",null,null,null,{"$f":"IF(B5575=\"\",\"\",IF(ISERROR(VLOOKUP(B5575,database!$A$6:$BFQ$206,3,FALSE)),\"\",VLOOKUP(B5575,database!$A$6:$BFQ$206,3,FALSE)))","v":""},null,null,null,null,null,null,""]
["",null,{"$f":"IF(B5576=\"\",\"\",IF(ISERROR(VLOOKUP(B5576,database!$A$6:$BFQ$206,4,FALSE)),\"\",VLOOKUP(B5576,database!$A$6:$BFQ$206,4,FALSE)))","v":""},null,null,null,"",null,null,null,{"$f":"IF(B5576=\"\",\"\",IF(ISERROR(VLOOKUP(B5576,database!$A$6:$BFQ$206,3,FALSE)),\"\",VLOOKUP(B5576,database!$A$6:$BFQ$206,3,FALSE)))","v":""},null,null,null,null,null,null,""]
["",null,{"$f":"IF(B5577=\"\",\"\",IF(ISERROR(VLOOKUP(B5577,database!$A$6:$BFQ$206,4,FALSE)),\"\",VLOOKUP(B5577,database!$A$6:$BFQ$206,4,FALSE)))","v":""},null,null,null,"",null,null,null,{"$f":"IF(B5577=\"\",\"\",IF(ISERROR(VLOOKUP(B5577,database!$A$6:$BFQ$206,3,FALSE)),\"\",VLOOKUP(B5577,database!$A$6:$BFQ$206,3,FALSE)))","v":""},null,null,null,null,null,null,""]
["",null,{"$f":"IF(B5578=\"\",\"\",IF(ISERROR(VLOOKUP(B5578,database!$A$6:$BFQ$206,4,FALSE)),\"\",VLOOKUP(B5578,database!$A$6:$BFQ$206,4,FALSE)))","v":""},null,null,null,"",null,null,null,{"$f":"IF(B5578=\"\",\"\",IF(ISERROR(VLOOKUP(B5578,database!$A$6:$BFQ$206,3,FALSE)),\"\",VLOOKUP(B5578,database!$A$6:$BFQ$206,3,FALSE)))","v":""},null,null,null,null,null,null,""]
["",null,{"$f":"IF(B5579=\"\",\"\",IF(ISERROR(VLOOKUP(B5579,database!$A$6:$BFQ$206,4,FALSE)),\"\",VLOOKUP(B5579,database!$A$6:$BFQ$206,4,FALSE)))","v":""},null,null,null,"",null,null,null,{"$f":"IF(B5579=\"\",\"\",IF(ISERROR(VLOOKUP(B5579,database!$A$6:$BFQ$206,3,FALSE)),\"\",VLOOKUP(B5579,database!$A$6:$BFQ$206,3,FALSE)))","v":""},null,null,null,null,null,null,""]
["",null,{"$f":"IF(B5580=\"\",\"\",IF(ISERROR(VLOOKUP(B5580,database!$A$6:$BFQ$206,4,FALSE)),\"\",VLOOKUP(B5580,database!$A$6:$BFQ$206,4,FALSE)))","v":""},null,null,null,"",null,null,null,{"$f":"IF(B5580=\"\",\"\",IF(ISERROR(VLOOKUP(B5580,database!$A$6:$BFQ$206,3,FALSE)),\"\",VLOOKUP(B5580,database!$A$6:$BFQ$206,3,FALSE)))","v":""},null,null,null,null,null,null,""]
["",null,{"$f":"IF(B5581=\"\",\"\",IF(ISERROR(VLOOKUP(B5581,database!$A$6:$BFQ$206,4,FALSE)),\"\",VLOOKUP(B5581,database!$A$6:$BFQ$206,4,FALSE)))","v":""},null,null,null,"",null,null,null,{"$f":"IF(B5581=\"\",\"\",IF(ISERROR(VLOOKUP(B5581,database!$A$6:$BFQ$206,3,FALSE)),\"\",VLOOKUP(B5581,database!$A$6:$BFQ$206,3,FALSE)))","v":""},null,null,null,null,null,null,""]
["",null,{"$f":"IF(B5582=\"\",\"\",IF(ISERROR(VLOOKUP(B5582,database!$A$6:$BFQ$206,4,FALSE)),\"\",VLOOKUP(B5582,database!$A$6:$BFQ$206,4,FALSE)))","v":""},null,null,null,"",null,null,null,{"$f":"IF(B5582=\"\",\"\",IF(ISERROR(VLOOKUP(B5582,database!$A$6:$BFQ$206,3,FALSE)),\"\",VLOOKUP(B5582,database!$A$6:$BFQ$206,3,FALSE)))","v":""},null,null,null,null,null,null,""]
["",null,{"$f":"IF(B5583=\"\",\"\",IF(ISERROR(VLOOKUP(B5583,database!$A$6:$BFQ$206,4,FALSE)),\"\",VLOOKUP(B5583,database!$A$6:$BFQ$206,4,FALSE)))","v":""},null,null,null,"",null,null,null,{"$f":"IF(B5583=\"\",\"\",IF(ISERROR(VLOOKUP(B5583,database!$A$6:$BFQ$206,3,FALSE)),\"\",VLOOKUP(B5583,database!$A$6:$BFQ$206,3,FALSE)))","v":""},null,null,null,null,null,null,""]
["",null,{"$f":"IF(B5584=\"\",\"\",IF(ISERROR(VLOOKUP(B5584,database!$A$6:$BFQ$206,4,FALSE)),\"\",VLOOKUP(B5584,database!$A$6:$BFQ$206,4,FALSE)))","v":""},null,null,null,"",null,null,null,{"$f":"IF(B5584=\"\",\"\",IF(ISERROR(VLOOKUP(B5584,database!$A$6:$BFQ$206,3,FALSE)),\"\",VLOOKUP(B5584,database!$A$6:$BFQ$206,3,FALSE)))","v":""},null,null,null,null,null,null,""]
["",null,{"$f":"IF(B5585=\"\",\"\",IF(ISERROR(VLOOKUP(B5585,database!$A$6:$BFQ$206,4,FALSE)),\"\",VLOOKUP(B5585,database!$A$6:$BFQ$206,4,FALSE)))","v":""},null,null,null,"",null,null,null,{"$f":"IF(B5585=\"\",\"\",IF(ISERROR(VLOOKUP(B5585,database!$A$6:$BFQ$206,3,FALSE)),\"\",VLOOKUP(B5585,database!$A$6:$BFQ$206,3,FALSE)))","v":""},null,null,null,null,null,null,""]
["",null,{"$f":"IF(B5586=\"\",\"\",IF(ISERROR(VLOOKUP(B5586,database!$A$6:$BFQ$206,4,FALSE)),\"\",VLOOKUP(B5586,database!$A$6:$BFQ$206,4,FALSE)))","v":""},null,null,null,"",null,null,null,{"$f":"IF(B5586=\"\",\"\",IF(ISERROR(VLOOKUP(B5586,database!$A$6:$BFQ$206,3,FALSE)),\"\",VLOOKUP(B5586,database!$A$6:$BFQ$206,3,FALSE)))","v":""},null,null,null,null,null,null,""]
["",null,{"$f":"IF(B5587=\"\",\"\",IF(ISERROR(VLOOKUP(B5587,database!$A$6:$BFQ$206,4,FALSE)),\"\",VLOOKUP(B5587,database!$A$6:$BFQ$206,4,FALSE)))","v":""},null,null,null,"",null,null,null,{"$f":"IF(B5587=\"\",\"\",IF(ISERROR(VLOOKUP(B5587,database!$A$6:$BFQ$206,3,FALSE)),\"\",VLOOKUP(B5587,database!$A$6:$BFQ$206,3,FALSE)))","v":""},null,null,null,null,null,null,""]
["",null,{"$f":"IF(B5588=\"\",\"\",IF(ISERROR(VLOOKUP(B5588,database!$A$6:$BFQ$206,4,FALSE)),\"\",VLOOKUP(B5588,database!$A$6:$BFQ$206,4,FALSE)))","v":""},null,null,null,"",null,null,null,{"$f":"IF(B5588=\"\",\"\",IF(ISERROR(VLOOKUP(B5588,database!$A$6:$BFQ$206,3,FALSE)),\"\",VLOOKUP(B5588,database!$A$6:$BFQ$206,3,FALSE)))","v":""},null,null,null,null,null,null,""]
["",null,{"$f":"IF(B5589=\"\",\"\",IF(ISERROR(VLOOKUP(B5589,database!$A$6:$BFQ$206,4,FALSE)),\"\",VLOOKUP(B5589,database!$A$6:$BFQ$206,4,FALSE)))","v":""},null,null,null,"",null,null,null,{"$f":"IF(B5589=\"\",\"\",IF(ISERROR(VLOOKUP(B5589,database!$A$6:$BFQ$206,3,FALSE)),\"\",VLOOKUP(B5589,database!$A$6:$BFQ$206,3,FALSE)))","v":""},null,null,null,null,null,null,""]
["",null,{"$f":"IF(B5590=\"\",\"\",IF(ISERROR(VLOOKUP(B5590,database!$A$6:$BFQ$206,4,FALSE)),\"\",VLOOKUP(B5590,database!$A$6:$BFQ$206,4,FALSE)))","v":""},null,null,null,"",null,null,null,{"$f":"IF(B5590=\"\",\"\",IF(ISERROR(VLOOKUP(B5590,database!$A$6:$BFQ$206,3,FALSE)),\"\",VLOOKUP(B5590,database!$A$6:$BFQ$206,3,FALSE)))","v":""},null,null,null,null,null,null,""]
["",null,{"$f":"IF(B5591=\"\",\"\",IF(ISERROR(VLOOKUP(B5591,database!$A$6:$BFQ$206,4,FALSE)),\"\",VLOOKUP(B5591,database!$A$6:$BFQ$206,4,FALSE)))","v":""},null,null,null,"",null,null,null,{"$f":"IF(B5591=\"\",\"\",IF(ISERROR(VLOOKUP(B5591,database!$A$6:$BFQ$206,3,FALSE)),\"\",VLOOKUP(B5591,database!$A$6:$BFQ$206,3,FALSE)))","v":""},null,null,null,null,null,null,""]
["",null,{"$f":"IF(B5592=\"\",\"\",IF(ISERROR(VLOOKUP(B5592,database!$A$6:$BFQ$206,4,FALSE)),\"\",VLOOKUP(B5592,database!$A$6:$BFQ$206,4,FALSE)))","v":""},null,null,null,"",null,null,null,{"$f":"IF(B5592=\"\",\"\",IF(ISERROR(VLOOKUP(B5592,database!$A$6:$BFQ$206,3,FALSE)),\"\",VLOOKUP(B5592,database!$A$6:$BFQ$206,3,FALSE)))","v":""},null,null,null,null,null,null,""]
["",null,{"$f":"IF(B5593=\"\",\"\",IF(ISERROR(VLOOKUP(B5593,database!$A$6:$BFQ$206,4,FALSE)),\"\",VLOOKUP(B5593,database!$A$6:$BFQ$206,4,FALSE)))","v":""},null,null,null,"",null,null,null,{"$f":"IF(B5593=\"\",\"\",IF(ISERROR(VLOOKUP(B5593,database!$A$6:$BFQ$206,3,FALSE)),\"\",VLOOKUP(B5593,database!$A$6:$BFQ$206,3,FALSE)))","v":""},null,null,null,null,null,null,""]
["",null,{"$f":"IF(B5594=\"\",\"\",IF(ISERROR(VLOOKUP(B5594,database!$A$6:$BFQ$206,4,FALSE)),\"\",VLOOKUP(B5594,database!$A$6:$BFQ$206,4,FALSE)))","v":""},null,null,null,"",null,null,null,{"$f":"IF(B5594=\"\",\"\",IF(ISERROR(VLOOKUP(B5594,database!$A$6:$BFQ$206,3,FALSE)),\"\",VLOOKUP(B5594,database!$A$6:$BFQ$206,3,FALSE)))","v":""},null,null,null,null,null,null,""]
["",null,{"$f":"IF(B5595=\"\",\"\",IF(ISERROR(VLOOKUP(B5595,database!$A$6:$BFQ$206,4,FALSE)),\"\",VLOOKUP(B5595,database!$A$6:$BFQ$206,4,FALSE)))","v":""},null,null,null,"",null,null,null,{"$f":"IF(B5595=\"\",\"\",IF(ISERROR(VLOOKUP(B5595,database!$A$6:$BFQ$206,3,FALSE)),\"\",VLOOKUP(B5595,database!$A$6:$BFQ$206,3,FALSE)))","v":""},null,null,null,null,null,null,""]
["",null,{"$f":"IF(B5596=\"\",\"\",IF(ISERROR(VLOOKUP(B5596,database!$A$6:$BFQ$206,4,FALSE)),\"\",VLOOKUP(B5596,database!$A$6:$BFQ$206,4,FALSE)))","v":""},null,null,null,"",null,null,null,{"$f":"IF(B5596=\"\",\"\",IF(ISERROR(VLOOKUP(B5596,database!$A$6:$BFQ$206,3,FALSE)),\"\",VLOOKUP(B5596,database!$A$6:$BFQ$206,3,FALSE)))","v":""},null,null,null,null,null,null,""]
["",null,{"$f":"IF(B5597=\"\",\"\",IF(ISERROR(VLOOKUP(B5597,database!$A$6:$BFQ$206,4,FALSE)),\"\",VLOOKUP(B5597,database!$A$6:$BFQ$206,4,FALSE)))","v":""},null,null,null,"",null,null,null,{"$f":"IF(B5597=\"\",\"\",IF(ISERROR(VLOOKUP(B5597,database!$A$6:$BFQ$206,3,FALSE)),\"\",VLOOKUP(B5597,database!$A$6:$BFQ$206,3,FALSE)))","v":""},null,null,null,null,null,null,""]
["",null,{"$f":"IF(B5598=\"\",\"\",IF(ISERROR(VLOOKUP(B5598,database!$A$6:$BFQ$206,4,FALSE)),\"\",VLOOKUP(B5598,database!$A$6:$BFQ$206,4,FALSE)))","v":""},null,null,null,"",null,null,null,{"$f":"IF(B5598=\"\",\"\",IF(ISERROR(VLOOKUP(B5598,database!$A$6:$BFQ$206,3,FALSE)),\"\",VLOOKUP(B5598,database!$A$6:$BFQ$206,3,FALSE)))","v":""},null,null,null,null,null,null,""]
["",null,{"$f":"IF(B5599=\"\",\"\",IF(ISERROR(VLOOKUP(B5599,database!$A$6:$BFQ$206,4,FALSE)),\"\",VLOOKUP(B5599,database!$A$6:$BFQ$206,4,FALSE)))","v":""},null,null,null,"",null,null,null,{"$f":"IF(B5599=\"\",\"\",IF(ISERROR(VLOOKUP(B5599,database!$A$6:$BFQ$206,3,FALSE)),\"\",VLOOKUP(B5599,database!$A$6:$BFQ$206,3,FALSE)))","v":""},null,null,null,null,null,null,""]
["",null,{"$f":"IF(B5600=\"\",\"\",IF(ISERROR(VLOOKUP(B5600,database!$A$6:$BFQ$206,4,FALSE)),\"\",VLOOKUP(B5600,database!$A$6:$BFQ$206,4,FALSE)))","v":""},null,null,null,"",null,null,null,{"$f":"IF(B5600=\"\",\"\",IF(ISERROR(VLOOKUP(B5600,database!$A$6:$BFQ$206,3,FALSE)),\"\",VLOOKUP(B5600,database!$A$6:$BFQ$206,3,FALSE)))","v":""},null,null,null,null,null,null,""]
["",null,{"$f":"IF(B5601=\"\",\"\",IF(ISERROR(VLOOKUP(B5601,database!$A$6:$BFQ$206,4,FALSE)),\"\",VLOOKUP(B5601,database!$A$6:$BFQ$206,4,FALSE)))","v":""},null,null,null,"",null,null,null,{"$f":"IF(B5601=\"\",\"\",IF(ISERROR(VLOOKUP(B5601,database!$A$6:$BFQ$206,3,FALSE)),\"\",VLOOKUP(B5601,database!$A$6:$BFQ$206,3,FALSE)))","v":""},null,null,null,null,null,null,""]
["",null,{"$f":"IF(B5602=\"\",\"\",IF(ISERROR(VLOOKUP(B5602,database!$A$6:$BFQ$206,4,FALSE)),\"\",VLOOKUP(B5602,database!$A$6:$BFQ$206,4,FALSE)))","v":""},null,null,null,"",null,null,null,{"$f":"IF(B5602=\"\",\"\",IF(ISERROR(VLOOKUP(B5602,database!$A$6:$BFQ$206,3,FALSE)),\"\",VLOOKUP(B5602,database!$A$6:$BFQ$206,3,FALSE)))","v":""},null,null,null,null,null,null,""]
["",null,{"$f":"IF(B5603=\"\",\"\",IF(ISERROR(VLOOKUP(B5603,database!$A$6:$BFQ$206,4,FALSE)),\"\",VLOOKUP(B5603,database!$A$6:$BFQ$206,4,FALSE)))","v":""},null,null,null,"",null,null,null,{"$f":"IF(B5603=\"\",\"\",IF(ISERROR(VLOOKUP(B5603,database!$A$6:$BFQ$206,3,FALSE)),\"\",VLOOKUP(B5603,database!$A$6:$BFQ$206,3,FALSE)))","v":""},null,null,null,null,null,null,""]
["",null,{"$f":"IF(B5604=\"\",\"\",IF(ISERROR(VLOOKUP(B5604,database!$A$6:$BFQ$206,4,FALSE)),\"\",VLOOKUP(B5604,database!$A$6:$BFQ$206,4,FALSE)))","v":""},null,null,null,"",null,null,null,{"$f":"IF(B5604=\"\",\"\",IF(ISERROR(VLOOKUP(B5604,database!$A$6:$BFQ$206,3,FALSE)),\"\",VLOOKUP(B5604,database!$A$6:$BFQ$206,3,FALSE)))","v":""},null,null,null,null,null,null,""]
["",null,{"$f":"IF(B5605=\"\",\"\",IF(ISERROR(VLOOKUP(B5605,database!$A$6:$BFQ$206,4,FALSE)),\"\",VLOOKUP(B5605,database!$A$6:$BFQ$206,4,FALSE)))","v":""},null,null,null,"",null,null,null,{"$f":"IF(B5605=\"\",\"\",IF(ISERROR(VLOOKUP(B5605,database!$A$6:$BFQ$206,3,FALSE)),\"\",VLOOKUP(B5605,database!$A$6:$BFQ$206,3,FALSE)))","v":""},null,null,null,null,null,null,""]
["",null,{"$f":"IF(B5606=\"\",\"\",IF(ISERROR(VLOOKUP(B5606,database!$A$6:$BFQ$206,4,FALSE)),\"\",VLOOKUP(B5606,database!$A$6:$BFQ$206,4,FALSE)))","v":""},null,null,null,"",null,null,null,{"$f":"IF(B5606=\"\",\"\",IF(ISERROR(VLOOKUP(B5606,database!$A$6:$BFQ$206,3,FALSE)),\"\",VLOOKUP(B5606,database!$A$6:$BFQ$206,3,FALSE)))","v":""},null,null,null,null,null,null,""]
["",null,{"$f":"IF(B5607=\"\",\"\",IF(ISERROR(VLOOKUP(B5607,database!$A$6:$BFQ$206,4,FALSE)),\"\",VLOOKUP(B5607,database!$A$6:$BFQ$206,4,FALSE)))","v":""},null,null,null,"",null,null,null,{"$f":"IF(B5607=\"\",\"\",IF(ISERROR(VLOOKUP(B5607,database!$A$6:$BFQ$206,3,FALSE)),\"\",VLOOKUP(B5607,database!$A$6:$BFQ$206,3,FALSE)))","v":""},null,null,null,null,null,null,""]
["",null,{"$f":"IF(B5608=\"\",\"\",IF(ISERROR(VLOOKUP(B5608,database!$A$6:$BFQ$206,4,FALSE)),\"\",VLOOKUP(B5608,database!$A$6:$BFQ$206,4,FALSE)))","v":""},null,null,null,"",null,null,null,{"$f":"IF(B5608=\"\",\"\",IF(ISERROR(VLOOKUP(B5608,database!$A$6:$BFQ$206,3,FALSE)),\"\",VLOOKUP(B5608,database!$A$6:$BFQ$206,3,FALSE)))","v":""},null,null,null,null,null,null,""]
["",null,{"$f":"IF(B5609=\"\",\"\",IF(ISERROR(VLOOKUP(B5609,database!$A$6:$BFQ$206,4,FALSE)),\"\",VLOOKUP(B5609,database!$A$6:$BFQ$206,4,FALSE)))","v":""},null,null,null,"",null,null,null,{"$f":"IF(B5609=\"\",\"\",IF(ISERROR(VLOOKUP(B5609,database!$A$6:$BFQ$206,3,FALSE)),\"\",VLOOKUP(B5609,database!$A$6:$BFQ$206,3,FALSE)))","v":""},null,null,null,null,null,null,""]
["",null,{"$f":"IF(B5610=\"\",\"\",IF(ISERROR(VLOOKUP(B5610,database!$A$6:$BFQ$206,4,FALSE)),\"\",VLOOKUP(B5610,database!$A$6:$BFQ$206,4,FALSE)))","v":""},null,null,null,"",null,null,null,{"$f":"IF(B5610=\"\",\"\",IF(ISERROR(VLOOKUP(B5610,database!$A$6:$BFQ$206,3,FALSE)),\"\",VLOOKUP(B5610,database!$A$6:$BFQ$206,3,FALSE)))","v":""},null,null,null,null,null,null,""]
["",null,{"$f":"IF(B5611=\"\",\"\",IF(ISERROR(VLOOKUP(B5611,database!$A$6:$BFQ$206,4,FALSE)),\"\",VLOOKUP(B5611,database!$A$6:$BFQ$206,4,FALSE)))","v":""},null,null,null,"",null,null,null,{"$f":"IF(B5611=\"\",\"\",IF(ISERROR(VLOOKUP(B5611,database!$A$6:$BFQ$206,3,FALSE)),\"\",VLOOKUP(B5611,database!$A$6:$BFQ$206,3,FALSE)))","v":""},null,null,null,null,null,null,""]
["",null,{"$f":"IF(B5612=\"\",\"\",IF(ISERROR(VLOOKUP(B5612,database!$A$6:$BFQ$206,4,FALSE)),\"\",VLOOKUP(B5612,database!$A$6:$BFQ$206,4,FALSE)))","v":""},null,null,null,"",null,null,null,{"$f":"IF(B5612=\"\",\"\",IF(ISERROR(VLOOKUP(B5612,database!$A$6:$BFQ$206,3,FALSE)),\"\",VLOOKUP(B5612,database!$A$6:$BFQ$206,3,FALSE)))","v":""},null,null,null,null,null,null,""]
["",null,{"$f":"IF(B5613=\"\",\"\",IF(ISERROR(VLOOKUP(B5613,database!$A$6:$BFQ$206,4,FALSE)),\"\",VLOOKUP(B5613,database!$A$6:$BFQ$206,4,FALSE)))","v":""},null,null,null,"",null,null,null,{"$f":"IF(B5613=\"\",\"\",IF(ISERROR(VLOOKUP(B5613,database!$A$6:$BFQ$206,3,FALSE)),\"\",VLOOKUP(B5613,database!$A$6:$BFQ$206,3,FALSE)))","v":""},null,null,null,null,null,null,""]
["",null,{"$f":"IF(B5614=\"\",\"\",IF(ISERROR(VLOOKUP(B5614,database!$A$6:$BFQ$206,4,FALSE)),\"\",VLOOKUP(B5614,database!$A$6:$BFQ$206,4,FALSE)))","v":""},null,null,null,"",null,null,null,{"$f":"IF(B5614=\"\",\"\",IF(ISERROR(VLOOKUP(B5614,database!$A$6:$BFQ$206,3,FALSE)),\"\",VLOOKUP(B5614,database!$A$6:$BFQ$206,3,FALSE)))","v":""},null,null,null,null,null,null,""]
["",null,{"$f":"IF(B5615=\"\",\"\",IF(ISERROR(VLOOKUP(B5615,database!$A$6:$BFQ$206,4,FALSE)),\"\",VLOOKUP(B5615,database!$A$6:$BFQ$206,4,FALSE)))","v":""},null,null,null,"",null,null,null,{"$f":"IF(B5615=\"\",\"\",IF(ISERROR(VLOOKUP(B5615,database!$A$6:$BFQ$206,3,FALSE)),\"\",VLOOKUP(B5615,database!$A$6:$BFQ$206,3,FALSE)))","v":""},null,null,null,null,null,null,""]
["",null,{"$f":"IF(B5616=\"\",\"\",IF(ISERROR(VLOOKUP(B5616,database!$A$6:$BFQ$206,4,FALSE)),\"\",VLOOKUP(B5616,database!$A$6:$BFQ$206,4,FALSE)))","v":""},null,null,null,"",null,null,null,{"$f":"IF(B5616=\"\",\"\",IF(ISERROR(VLOOKUP(B5616,database!$A$6:$BFQ$206,3,FALSE)),\"\",VLOOKUP(B5616,database!$A$6:$BFQ$206,3,FALSE)))","v":""},null,null,null,null,null,null,""]
["",null,{"$f":"IF(B5617=\"\",\"\",IF(ISERROR(VLOOKUP(B5617,database!$A$6:$BFQ$206,4,FALSE)),\"\",VLOOKUP(B5617,database!$A$6:$BFQ$206,4,FALSE)))","v":""},null,null,null,"",null,null,null,{"$f":"IF(B5617=\"\",\"\",IF(ISERROR(VLOOKUP(B5617,database!$A$6:$BFQ$206,3,FALSE)),\"\",VLOOKUP(B5617,database!$A$6:$BFQ$206,3,FALSE)))","v":""},null,null,null,null,null,null,""]
["",null,{"$f":"IF(B5618=\"\",\"\",IF(ISERROR(VLOOKUP(B5618,database!$A$6:$BFQ$206,4,FALSE)),\"\",VLOOKUP(B5618,database!$A$6:$BFQ$206,4,FALSE)))","v":""},null,null,null,"",null,null,null,{"$f":"IF(B5618=\"\",\"\",IF(ISERROR(VLOOKUP(B5618,database!$A$6:$BFQ$206,3,FALSE)),\"\",VLOOKUP(B5618,database!$A$6:$BFQ$206,3,FALSE)))","v":""},null,null,null,null,null,null,""]
["",null,{"$f":"IF(B5619=\"\",\"\",IF(ISERROR(VLOOKUP(B5619,database!$A$6:$BFQ$206,4,FALSE)),\"\",VLOOKUP(B5619,database!$A$6:$BFQ$206,4,FALSE)))","v":""},null,null,null,"",null,null,null,{"$f":"IF(B5619=\"\",\"\",IF(ISERROR(VLOOKUP(B5619,database!$A$6:$BFQ$206,3,FALSE)),\"\",VLOOKUP(B5619,database!$A$6:$BFQ$206,3,FALSE)))","v":""},null,null,null,null,null,null,""]
["",null,{"$f":"IF(B5620=\"\",\"\",IF(ISERROR(VLOOKUP(B5620,database!$A$6:$BFQ$206,4,FALSE)),\"\",VLOOKUP(B5620,database!$A$6:$BFQ$206,4,FALSE)))","v":""},null,null,null,"",null,null,null,{"$f":"IF(B5620=\"\",\"\",IF(ISERROR(VLOOKUP(B5620,database!$A$6:$BFQ$206,3,FALSE)),\"\",VLOOKUP(B5620,database!$A$6:$BFQ$206,3,FALSE)))","v":""},null,null,null,null,null,null,""]
["",null,{"$f":"IF(B5621=\"\",\"\",IF(ISERROR(VLOOKUP(B5621,database!$A$6:$BFQ$206,4,FALSE)),\"\",VLOOKUP(B5621,database!$A$6:$BFQ$206,4,FALSE)))","v":""},null,null,null,"",null,null,null,{"$f":"IF(B5621=\"\",\"\",IF(ISERROR(VLOOKUP(B5621,database!$A$6:$BFQ$206,3,FALSE)),\"\",VLOOKUP(B5621,database!$A$6:$BFQ$206,3,FALSE)))","v":""},null,null,null,null,null,null,""]
["",null,{"$f":"IF(B5622=\"\",\"\",IF(ISERROR(VLOOKUP(B5622,database!$A$6:$BFQ$206,4,FALSE)),\"\",VLOOKUP(B5622,database!$A$6:$BFQ$206,4,FALSE)))","v":""},null,null,null,"",null,null,null,{"$f":"IF(B5622=\"\",\"\",IF(ISERROR(VLOOKUP(B5622,database!$A$6:$BFQ$206,3,FALSE)),\"\",VLOOKUP(B5622,database!$A$6:$BFQ$206,3,FALSE)))","v":""},null,null,null,null,null,null,""]
["",null,{"$f":"IF(B5623=\"\",\"\",IF(ISERROR(VLOOKUP(B5623,database!$A$6:$BFQ$206,4,FALSE)),\"\",VLOOKUP(B5623,database!$A$6:$BFQ$206,4,FALSE)))","v":""},null,null,null,"",null,null,null,{"$f":"IF(B5623=\"\",\"\",IF(ISERROR(VLOOKUP(B5623,database!$A$6:$BFQ$206,3,FALSE)),\"\",VLOOKUP(B5623,database!$A$6:$BFQ$206,3,FALSE)))","v":""},null,null,null,null,null,null,""]
["",null,{"$f":"IF(B5624=\"\",\"\",IF(ISERROR(VLOOKUP(B5624,database!$A$6:$BFQ$206,4,FALSE)),\"\",VLOOKUP(B5624,database!$A$6:$BFQ$206,4,FALSE)))","v":""},null,null,null,"",null,null,null,{"$f":"IF(B5624=\"\",\"\",IF(ISERROR(VLOOKUP(B5624,database!$A$6:$BFQ$206,3,FALSE)),\"\",VLOOKUP(B5624,database!$A$6:$BFQ$206,3,FALSE)))","v":""},null,null,null,null,null,null,""]
["",null,{"$f":"IF(B5625=\"\",\"\",IF(ISERROR(VLOOKUP(B5625,database!$A$6:$BFQ$206,4,FALSE)),\"\",VLOOKUP(B5625,database!$A$6:$BFQ$206,4,FALSE)))","v":""},null,null,null,"",null,null,null,{"$f":"IF(B5625=\"\",\"\",IF(ISERROR(VLOOKUP(B5625,database!$A$6:$BFQ$206,3,FALSE)),\"\",VLOOKUP(B5625,database!$A$6:$BFQ$206,3,FALSE)))","v":""},null,null,null,null,null,null,""]
["",null,{"$f":"IF(B5626=\"\",\"\",IF(ISERROR(VLOOKUP(B5626,database!$A$6:$BFQ$206,4,FALSE)),\"\",VLOOKUP(B5626,database!$A$6:$BFQ$206,4,FALSE)))","v":""},null,null,null,"",null,null,null,{"$f":"IF(B5626=\"\",\"\",IF(ISERROR(VLOOKUP(B5626,database!$A$6:$BFQ$206,3,FALSE)),\"\",VLOOKUP(B5626,database!$A$6:$BFQ$206,3,FALSE)))","v":""},null,null,null,null,null,null,""]
["",null,{"$f":"IF(B5627=\"\",\"\",IF(ISERROR(VLOOKUP(B5627,database!$A$6:$BFQ$206,4,FALSE)),\"\",VLOOKUP(B5627,database!$A$6:$BFQ$206,4,FALSE)))","v":""},null,null,null,"",null,null,null,{"$f":"IF(B5627=\"\",\"\",IF(ISERROR(VLOOKUP(B5627,database!$A$6:$BFQ$206,3,FALSE)),\"\",VLOOKUP(B5627,database!$A$6:$BFQ$206,3,FALSE)))","v":""},null,null,null,null,null,null,""]
["",null,{"$f":"IF(B5628=\"\",\"\",IF(ISERROR(VLOOKUP(B5628,database!$A$6:$BFQ$206,4,FALSE)),\"\",VLOOKUP(B5628,database!$A$6:$BFQ$206,4,FALSE)))","v":""},null,null,null,"",null,null,null,{"$f":"IF(B5628=\"\",\"\",IF(ISERROR(VLOOKUP(B5628,database!$A$6:$BFQ$206,3,FALSE)),\"\",VLOOKUP(B5628,database!$A$6:$BFQ$206,3,FALSE)))","v":""},null,null,null,null,null,null,""]
["",null,{"$f":"IF(B5629=\"\",\"\",IF(ISERROR(VLOOKUP(B5629,database!$A$6:$BFQ$206,4,FALSE)),\"\",VLOOKUP(B5629,database!$A$6:$BFQ$206,4,FALSE)))","v":""},null,null,null,"",null,null,null,{"$f":"IF(B5629=\"\",\"\",IF(ISERROR(VLOOKUP(B5629,database!$A$6:$BFQ$206,3,FALSE)),\"\",VLOOKUP(B5629,database!$A$6:$BFQ$206,3,FALSE)))","v":""},null,null,null,null,null,null,""]
["",null,{"$f":"IF(B5630=\"\",\"\",IF(ISERROR(VLOOKUP(B5630,database!$A$6:$BFQ$206,4,FALSE)),\"\",VLOOKUP(B5630,database!$A$6:$BFQ$206,4,FALSE)))","v":""},null,null,null,"",null,null,null,{"$f":"IF(B5630=\"\",\"\",IF(ISERROR(VLOOKUP(B5630,database!$A$6:$BFQ$206,3,FALSE)),\"\",VLOOKUP(B5630,database!$A$6:$BFQ$206,3,FALSE)))","v":""},null,null,null,null,null,null,""]
["",null,{"$f":"IF(B5631=\"\",\"\",IF(ISERROR(VLOOKUP(B5631,database!$A$6:$BFQ$206,4,FALSE)),\"\",VLOOKUP(B5631,database!$A$6:$BFQ$206,4,FALSE)))","v":""},null,null,null,"",null,null,null,{"$f":"IF(B5631=\"\",\"\",IF(ISERROR(VLOOKUP(B5631,database!$A$6:$BFQ$206,3,FALSE)),\"\",VLOOKUP(B5631,database!$A$6:$BFQ$206,3,FALSE)))","v":""},null,null,null,null,null,null,""]
["",null,{"$f":"IF(B5632=\"\",\"\",IF(ISERROR(VLOOKUP(B5632,database!$A$6:$BFQ$206,4,FALSE)),\"\",VLOOKUP(B5632,database!$A$6:$BFQ$206,4,FALSE)))","v":""},null,null,null,"",null,null,null,{"$f":"IF(B5632=\"\",\"\",IF(ISERROR(VLOOKUP(B5632,database!$A$6:$BFQ$206,3,FALSE)),\"\",VLOOKUP(B5632,database!$A$6:$BFQ$206,3,FALSE)))","v":""},null,null,null,null,null,null,""]
[{"$f":"IF(B5633=\"\",\"\",ROW(A5630))","v":""},null,{"$f":"IF(B5633=\"\",\"\",IF(ISERROR(VLOOKUP(B5633,database!$A$6:$BFQ$206,4,FALSE)),\"\",VLOOKUP(B5633,database!$A$6:$BFQ$206,4,FALSE)))","v":""},null,null,null,{"$f":"IF(B5633=\"\",\"\",IF(C5633=\"\",0,1))","v":""},null,null,null,{"$f":"IF(B5633=\"\",\"\",IF(ISERROR(VLOOKUP(B5633,database!$A$6:$BFQ$206,3,FALSE)),\"\",VLOOKUP(B5633,database!$A$6:$BFQ$206,3,FALSE)))","v":""},null,null,null,null,null,null,{"$f":"LEFT(C5633,2)","v":""}]
["",null,{"$f":"IF(B5634=\"\",\"\",IF(ISERROR(VLOOKUP(B5634,database!$A$6:$BFQ$206,4,FALSE)),\"\",VLOOKUP(B5634,database!$A$6:$BFQ$206,4,FALSE)))","v":""},null,null,null,"",null,null,null,{"$f":"IF(B5634=\"\",\"\",IF(ISERROR(VLOOKUP(B5634,database!$A$6:$BFQ$206,3,FALSE)),\"\",VLOOKUP(B5634,database!$A$6:$BFQ$206,3,FALSE)))","v":""},null,null,null,null,null,null,""]
["",null,{"$f":"IF(B5635=\"\",\"\",IF(ISERROR(VLOOKUP(B5635,database!$A$6:$BFQ$206,4,FALSE)),\"\",VLOOKUP(B5635,database!$A$6:$BFQ$206,4,FALSE)))","v":""},null,null,null,"",null,null,null,{"$f":"IF(B5635=\"\",\"\",IF(ISERROR(VLOOKUP(B5635,database!$A$6:$BFQ$206,3,FALSE)),\"\",VLOOKUP(B5635,database!$A$6:$BFQ$206,3,FALSE)))","v":""},null,null,null,null,null,null,""]
["",null,{"$f":"IF(B5636=\"\",\"\",IF(ISERROR(VLOOKUP(B5636,database!$A$6:$BFQ$206,4,FALSE)),\"\",VLOOKUP(B5636,database!$A$6:$BFQ$206,4,FALSE)))","v":""},null,null,null,"",null,null,null,{"$f":"IF(B5636=\"\",\"\",IF(ISERROR(VLOOKUP(B5636,database!$A$6:$BFQ$206,3,FALSE)),\"\",VLOOKUP(B5636,database!$A$6:$BFQ$206,3,FALSE)))","v":""},null,null,null,null,null,null,""]
["",null,{"$f":"IF(B5637=\"\",\"\",IF(ISERROR(VLOOKUP(B5637,database!$A$6:$BFQ$206,4,FALSE)),\"\",VLOOKUP(B5637,database!$A$6:$BFQ$206,4,FALSE)))","v":""},null,null,null,"",null,null,null,{"$f":"IF(B5637=\"\",\"\",IF(ISERROR(VLOOKUP(B5637,database!$A$6:$BFQ$206,3,FALSE)),\"\",VLOOKUP(B5637,database!$A$6:$BFQ$206,3,FALSE)))","v":""},null,null,null,null,null,null,""]
["",null,{"$f":"IF(B5638=\"\",\"\",IF(ISERROR(VLOOKUP(B5638,database!$A$6:$BFQ$206,4,FALSE)),\"\",VLOOKUP(B5638,database!$A$6:$BFQ$206,4,FALSE)))","v":""},null,null,null,"",null,null,null,{"$f":"IF(B5638=\"\",\"\",IF(ISERROR(VLOOKUP(B5638,database!$A$6:$BFQ$206,3,FALSE)),\"\",VLOOKUP(B5638,database!$A$6:$BFQ$206,3,FALSE)))","v":""},null,null,null,null,null,null,""]
["",null,{"$f":"IF(B5639=\"\",\"\",IF(ISERROR(VLOOKUP(B5639,database!$A$6:$BFQ$206,4,FALSE)),\"\",VLOOKUP(B5639,database!$A$6:$BFQ$206,4,FALSE)))","v":""},null,null,null,"",null,null,null,{"$f":"IF(B5639=\"\",\"\",IF(ISERROR(VLOOKUP(B5639,database!$A$6:$BFQ$206,3,FALSE)),\"\",VLOOKUP(B5639,database!$A$6:$BFQ$206,3,FALSE)))","v":""},null,null,null,null,null,null,""]
["",null,{"$f":"IF(B5640=\"\",\"\",IF(ISERROR(VLOOKUP(B5640,database!$A$6:$BFQ$206,4,FALSE)),\"\",VLOOKUP(B5640,database!$A$6:$BFQ$206,4,FALSE)))","v":""},null,null,null,"",null,null,null,{"$f":"IF(B5640=\"\",\"\",IF(ISERROR(VLOOKUP(B5640,database!$A$6:$BFQ$206,3,FALSE)),\"\",VLOOKUP(B5640,database!$A$6:$BFQ$206,3,FALSE)))","v":""},null,null,null,null,null,null,""]
["",null,{"$f":"IF(B5641=\"\",\"\",IF(ISERROR(VLOOKUP(B5641,database!$A$6:$BFQ$206,4,FALSE)),\"\",VLOOKUP(B5641,database!$A$6:$BFQ$206,4,FALSE)))","v":""},null,null,null,"",null,null,null,{"$f":"IF(B5641=\"\",\"\",IF(ISERROR(VLOOKUP(B5641,database!$A$6:$BFQ$206,3,FALSE)),\"\",VLOOKUP(B5641,database!$A$6:$BFQ$206,3,FALSE)))","v":""},null,null,null,null,null,null,""]
["",null,{"$f":"IF(B5642=\"\",\"\",IF(ISERROR(VLOOKUP(B5642,database!$A$6:$BFQ$206,4,FALSE)),\"\",VLOOKUP(B5642,database!$A$6:$BFQ$206,4,FALSE)))","v":""},null,null,null,"",null,null,null,{"$f":"IF(B5642=\"\",\"\",IF(ISERROR(VLOOKUP(B5642,database!$A$6:$BFQ$206,3,FALSE)),\"\",VLOOKUP(B5642,database!$A$6:$BFQ$206,3,FALSE)))","v":""},null,null,null,null,null,null,""]
["",null,{"$f":"IF(B5643=\"\",\"\",IF(ISERROR(VLOOKUP(B5643,database!$A$6:$BFQ$206,4,FALSE)),\"\",VLOOKUP(B5643,database!$A$6:$BFQ$206,4,FALSE)))","v":""},null,null,null,"",null,null,null,{"$f":"IF(B5643=\"\",\"\",IF(ISERROR(VLOOKUP(B5643,database!$A$6:$BFQ$206,3,FALSE)),\"\",VLOOKUP(B5643,database!$A$6:$BFQ$206,3,FALSE)))","v":""},null,null,null,null,null,null,""]
["",null,{"$f":"IF(B5644=\"\",\"\",IF(ISERROR(VLOOKUP(B5644,database!$A$6:$BFQ$206,4,FALSE)),\"\",VLOOKUP(B5644,database!$A$6:$BFQ$206,4,FALSE)))","v":""},null,null,null,"",null,null,null,{"$f":"IF(B5644=\"\",\"\",IF(ISERROR(VLOOKUP(B5644,database!$A$6:$BFQ$206,3,FALSE)),\"\",VLOOKUP(B5644,database!$A$6:$BFQ$206,3,FALSE)))","v":""},null,null,null,null,null,null,""]
["",null,{"$f":"IF(B5645=\"\",\"\",IF(ISERROR(VLOOKUP(B5645,database!$A$6:$BFQ$206,4,FALSE)),\"\",VLOOKUP(B5645,database!$A$6:$BFQ$206,4,FALSE)))","v":""},null,null,null,"",null,null,null,{"$f":"IF(B5645=\"\",\"\",IF(ISERROR(VLOOKUP(B5645,database!$A$6:$BFQ$206,3,FALSE)),\"\",VLOOKUP(B5645,database!$A$6:$BFQ$206,3,FALSE)))","v":""},null,null,null,null,null,null,""]
["",null,{"$f":"IF(B5646=\"\",\"\",IF(ISERROR(VLOOKUP(B5646,database!$A$6:$BFQ$206,4,FALSE)),\"\",VLOOKUP(B5646,database!$A$6:$BFQ$206,4,FALSE)))","v":""},null,null,null,"",null,null,null,{"$f":"IF(B5646=\"\",\"\",IF(ISERROR(VLOOKUP(B5646,database!$A$6:$BFQ$206,3,FALSE)),\"\",VLOOKUP(B5646,database!$A$6:$BFQ$206,3,FALSE)))","v":""},null,null,null,null,null,null,""]
["",null,{"$f":"IF(B5647=\"\",\"\",IF(ISERROR(VLOOKUP(B5647,database!$A$6:$BFQ$206,4,FALSE)),\"\",VLOOKUP(B5647,database!$A$6:$BFQ$206,4,FALSE)))","v":""},null,null,null,"",null,null,null,{"$f":"IF(B5647=\"\",\"\",IF(ISERROR(VLOOKUP(B5647,database!$A$6:$BFQ$206,3,FALSE)),\"\",VLOOKUP(B5647,database!$A$6:$BFQ$206,3,FALSE)))","v":""},null,null,null,null,null,null,""]
["",null,{"$f":"IF(B5648=\"\",\"\",IF(ISERROR(VLOOKUP(B5648,database!$A$6:$BFQ$206,4,FALSE)),\"\",VLOOKUP(B5648,database!$A$6:$BFQ$206,4,FALSE)))","v":""},null,null,null,"",null,null,null,{"$f":"IF(B5648=\"\",\"\",IF(ISERROR(VLOOKUP(B5648,database!$A$6:$BFQ$206,3,FALSE)),\"\",VLOOKUP(B5648,database!$A$6:$BFQ$206,3,FALSE)))","v":""},null,null,null,null,null,null,""]
["",null,{"$f":"IF(B5649=\"\",\"\",IF(ISERROR(VLOOKUP(B5649,database!$A$6:$BFQ$206,4,FALSE)),\"\",VLOOKUP(B5649,database!$A$6:$BFQ$206,4,FALSE)))","v":""},null,null,null,"",null,null,null,{"$f":"IF(B5649=\"\",\"\",IF(ISERROR(VLOOKUP(B5649,database!$A$6:$BFQ$206,3,FALSE)),\"\",VLOOKUP(B5649,database!$A$6:$BFQ$206,3,FALSE)))","v":""},null,null,null,null,null,null,""]
["",null,{"$f":"IF(B5650=\"\",\"\",IF(ISERROR(VLOOKUP(B5650,database!$A$6:$BFQ$206,4,FALSE)),\"\",VLOOKUP(B5650,database!$A$6:$BFQ$206,4,FALSE)))","v":""},null,null,null,"",null,null,null,{"$f":"IF(B5650=\"\",\"\",IF(ISERROR(VLOOKUP(B5650,database!$A$6:$BFQ$206,3,FALSE)),\"\",VLOOKUP(B5650,database!$A$6:$BFQ$206,3,FALSE)))","v":""},null,null,null,null,null,null,""]
["",null,{"$f":"IF(B5651=\"\",\"\",IF(ISERROR(VLOOKUP(B5651,database!$A$6:$BFQ$206,4,FALSE)),\"\",VLOOKUP(B5651,database!$A$6:$BFQ$206,4,FALSE)))","v":""},null,null,null,"",null,null,null,{"$f":"IF(B5651=\"\",\"\",IF(ISERROR(VLOOKUP(B5651,database!$A$6:$BFQ$206,3,FALSE)),\"\",VLOOKUP(B5651,database!$A$6:$BFQ$206,3,FALSE)))","v":""},null,null,null,null,null,null,""]
["",null,{"$f":"IF(B5652=\"\",\"\",IF(ISERROR(VLOOKUP(B5652,database!$A$6:$BFQ$206,4,FALSE)),\"\",VLOOKUP(B5652,database!$A$6:$BFQ$206,4,FALSE)))","v":""},null,null,null,"",null,null,null,{"$f":"IF(B5652=\"\",\"\",IF(ISERROR(VLOOKUP(B5652,database!$A$6:$BFQ$206,3,FALSE)),\"\",VLOOKUP(B5652,database!$A$6:$BFQ$206,3,FALSE)))","v":""},null,null,null,null,null,null,""]
["",null,{"$f":"IF(B5653=\"\",\"\",IF(ISERROR(VLOOKUP(B5653,database!$A$6:$BFQ$206,4,FALSE)),\"\",VLOOKUP(B5653,database!$A$6:$BFQ$206,4,FALSE)))","v":""},null,null,null,"",null,null,null,{"$f":"IF(B5653=\"\",\"\",IF(ISERROR(VLOOKUP(B5653,database!$A$6:$BFQ$206,3,FALSE)),\"\",VLOOKUP(B5653,database!$A$6:$BFQ$206,3,FALSE)))","v":""},null,null,null,null,null,null,""]
["",null,{"$f":"IF(B5654=\"\",\"\",IF(ISERROR(VLOOKUP(B5654,database!$A$6:$BFQ$206,4,FALSE)),\"\",VLOOKUP(B5654,database!$A$6:$BFQ$206,4,FALSE)))","v":""},null,null,null,"",null,null,null,{"$f":"IF(B5654=\"\",\"\",IF(ISERROR(VLOOKUP(B5654,database!$A$6:$BFQ$206,3,FALSE)),\"\",VLOOKUP(B5654,database!$A$6:$BFQ$206,3,FALSE)))","v":""},null,null,null,null,null,null,""]
["",null,{"$f":"IF(B5655=\"\",\"\",IF(ISERROR(VLOOKUP(B5655,database!$A$6:$BFQ$206,4,FALSE)),\"\",VLOOKUP(B5655,database!$A$6:$BFQ$206,4,FALSE)))","v":""},null,null,null,"",null,null,null,{"$f":"IF(B5655=\"\",\"\",IF(ISERROR(VLOOKUP(B5655,database!$A$6:$BFQ$206,3,FALSE)),\"\",VLOOKUP(B5655,database!$A$6:$BFQ$206,3,FALSE)))","v":""},null,null,null,null,null,null,""]
["",null,{"$f":"IF(B5656=\"\",\"\",IF(ISERROR(VLOOKUP(B5656,database!$A$6:$BFQ$206,4,FALSE)),\"\",VLOOKUP(B5656,database!$A$6:$BFQ$206,4,FALSE)))","v":""},null,null,null,"",null,null,null,{"$f":"IF(B5656=\"\",\"\",IF(ISERROR(VLOOKUP(B5656,database!$A$6:$BFQ$206,3,FALSE)),\"\",VLOOKUP(B5656,database!$A$6:$BFQ$206,3,FALSE)))","v":""},null,null,null,null,null,null,""]
["",null,{"$f":"IF(B5657=\"\",\"\",IF(ISERROR(VLOOKUP(B5657,database!$A$6:$BFQ$206,4,FALSE)),\"\",VLOOKUP(B5657,database!$A$6:$BFQ$206,4,FALSE)))","v":""},null,null,null,"",null,null,null,{"$f":"IF(B5657=\"\",\"\",IF(ISERROR(VLOOKUP(B5657,database!$A$6:$BFQ$206,3,FALSE)),\"\",VLOOKUP(B5657,database!$A$6:$BFQ$206,3,FALSE)))","v":""},null,null,null,null,null,null,""]
["",null,{"$f":"IF(B5658=\"\",\"\",IF(ISERROR(VLOOKUP(B5658,database!$A$6:$BFQ$206,4,FALSE)),\"\",VLOOKUP(B5658,database!$A$6:$BFQ$206,4,FALSE)))","v":""},null,null,null,"",null,null,null,{"$f":"IF(B5658=\"\",\"\",IF(ISERROR(VLOOKUP(B5658,database!$A$6:$BFQ$206,3,FALSE)),\"\",VLOOKUP(B5658,database!$A$6:$BFQ$206,3,FALSE)))","v":""},null,null,null,null,null,null,""]
["",null,{"$f":"IF(B5659=\"\",\"\",IF(ISERROR(VLOOKUP(B5659,database!$A$6:$BFQ$206,4,FALSE)),\"\",VLOOKUP(B5659,database!$A$6:$BFQ$206,4,FALSE)))","v":""},null,null,null,"",null,null,null,{"$f":"IF(B5659=\"\",\"\",IF(ISERROR(VLOOKUP(B5659,database!$A$6:$BFQ$206,3,FALSE)),\"\",VLOOKUP(B5659,database!$A$6:$BFQ$206,3,FALSE)))","v":""},null,null,null,null,null,null,""]
["",null,{"$f":"IF(B5660=\"\",\"\",IF(ISERROR(VLOOKUP(B5660,database!$A$6:$BFQ$206,4,FALSE)),\"\",VLOOKUP(B5660,database!$A$6:$BFQ$206,4,FALSE)))","v":""},null,null,null,"",null,null,null,{"$f":"IF(B5660=\"\",\"\",IF(ISERROR(VLOOKUP(B5660,database!$A$6:$BFQ$206,3,FALSE)),\"\",VLOOKUP(B5660,database!$A$6:$BFQ$206,3,FALSE)))","v":""},null,null,null,null,null,null,""]
["",null,{"$f":"IF(B5661=\"\",\"\",IF(ISERROR(VLOOKUP(B5661,database!$A$6:$BFQ$206,4,FALSE)),\"\",VLOOKUP(B5661,database!$A$6:$BFQ$206,4,FALSE)))","v":""},null,null,null,"",null,null,null,{"$f":"IF(B5661=\"\",\"\",IF(ISERROR(VLOOKUP(B5661,database!$A$6:$BFQ$206,3,FALSE)),\"\",VLOOKUP(B5661,database!$A$6:$BFQ$206,3,FALSE)))","v":""},null,null,null,null,null,null,""]
["",null,{"$f":"IF(B5662=\"\",\"\",IF(ISERROR(VLOOKUP(B5662,database!$A$6:$BFQ$206,4,FALSE)),\"\",VLOOKUP(B5662,database!$A$6:$BFQ$206,4,FALSE)))","v":""},null,null,null,"",null,null,null,{"$f":"IF(B5662=\"\",\"\",IF(ISERROR(VLOOKUP(B5662,database!$A$6:$BFQ$206,3,FALSE)),\"\",VLOOKUP(B5662,database!$A$6:$BFQ$206,3,FALSE)))","v":""},null,null,null,null,null,null,""]
["",null,{"$f":"IF(B5663=\"\",\"\",IF(ISERROR(VLOOKUP(B5663,database!$A$6:$BFQ$206,4,FALSE)),\"\",VLOOKUP(B5663,database!$A$6:$BFQ$206,4,FALSE)))","v":""},null,null,null,"",null,null,null,{"$f":"IF(B5663=\"\",\"\",IF(ISERROR(VLOOKUP(B5663,database!$A$6:$BFQ$206,3,FALSE)),\"\",VLOOKUP(B5663,database!$A$6:$BFQ$206,3,FALSE)))","v":""},null,null,null,null,null,null,""]
["",null,{"$f":"IF(B5664=\"\",\"\",IF(ISERROR(VLOOKUP(B5664,database!$A$6:$BFQ$206,4,FALSE)),\"\",VLOOKUP(B5664,database!$A$6:$BFQ$206,4,FALSE)))","v":""},null,null,null,"",null,null,null,{"$f":"IF(B5664=\"\",\"\",IF(ISERROR(VLOOKUP(B5664,database!$A$6:$BFQ$206,3,FALSE)),\"\",VLOOKUP(B5664,database!$A$6:$BFQ$206,3,FALSE)))","v":""},null,null,null,null,null,null,""]
["",null,{"$f":"IF(B5665=\"\",\"\",IF(ISERROR(VLOOKUP(B5665,database!$A$6:$BFQ$206,4,FALSE)),\"\",VLOOKUP(B5665,database!$A$6:$BFQ$206,4,FALSE)))","v":""},null,null,null,"",null,null,null,{"$f":"IF(B5665=\"\",\"\",IF(ISERROR(VLOOKUP(B5665,database!$A$6:$BFQ$206,3,FALSE)),\"\",VLOOKUP(B5665,database!$A$6:$BFQ$206,3,FALSE)))","v":""},null,null,null,null,null,null,""]
["",null,{"$f":"IF(B5666=\"\",\"\",IF(ISERROR(VLOOKUP(B5666,database!$A$6:$BFQ$206,4,FALSE)),\"\",VLOOKUP(B5666,database!$A$6:$BFQ$206,4,FALSE)))","v":""},null,null,null,"",null,null,null,{"$f":"IF(B5666=\"\",\"\",IF(ISERROR(VLOOKUP(B5666,database!$A$6:$BFQ$206,3,FALSE)),\"\",VLOOKUP(B5666,database!$A$6:$BFQ$206,3,FALSE)))","v":""},null,null,null,null,null,null,""]
["",null,{"$f":"IF(B5667=\"\",\"\",IF(ISERROR(VLOOKUP(B5667,database!$A$6:$BFQ$206,4,FALSE)),\"\",VLOOKUP(B5667,database!$A$6:$BFQ$206,4,FALSE)))","v":""},null,null,null,"",null,null,null,{"$f":"IF(B5667=\"\",\"\",IF(ISERROR(VLOOKUP(B5667,database!$A$6:$BFQ$206,3,FALSE)),\"\",VLOOKUP(B5667,database!$A$6:$BFQ$206,3,FALSE)))","v":""},null,null,null,null,null,null,""]
["",null,{"$f":"IF(B5668=\"\",\"\",IF(ISERROR(VLOOKUP(B5668,database!$A$6:$BFQ$206,4,FALSE)),\"\",VLOOKUP(B5668,database!$A$6:$BFQ$206,4,FALSE)))","v":""},null,null,null,"",null,null,null,{"$f":"IF(B5668=\"\",\"\",IF(ISERROR(VLOOKUP(B5668,database!$A$6:$BFQ$206,3,FALSE)),\"\",VLOOKUP(B5668,database!$A$6:$BFQ$206,3,FALSE)))","v":""},null,null,null,null,null,null,""]
["",null,{"$f":"IF(B5669=\"\",\"\",IF(ISERROR(VLOOKUP(B5669,database!$A$6:$BFQ$206,4,FALSE)),\"\",VLOOKUP(B5669,database!$A$6:$BFQ$206,4,FALSE)))","v":""},null,null,null,"",null,null,null,{"$f":"IF(B5669=\"\",\"\",IF(ISERROR(VLOOKUP(B5669,database!$A$6:$BFQ$206,3,FALSE)),\"\",VLOOKUP(B5669,database!$A$6:$BFQ$206,3,FALSE)))","v":""},null,null,null,null,null,null,""]
["",null,{"$f":"IF(B5670=\"\",\"\",IF(ISERROR(VLOOKUP(B5670,database!$A$6:$BFQ$206,4,FALSE)),\"\",VLOOKUP(B5670,database!$A$6:$BFQ$206,4,FALSE)))","v":""},null,null,null,"",null,null,null,{"$f":"IF(B5670=\"\",\"\",IF(ISERROR(VLOOKUP(B5670,database!$A$6:$BFQ$206,3,FALSE)),\"\",VLOOKUP(B5670,database!$A$6:$BFQ$206,3,FALSE)))","v":""},null,null,null,null,null,null,""]
["",null,{"$f":"IF(B5671=\"\",\"\",IF(ISERROR(VLOOKUP(B5671,database!$A$6:$BFQ$206,4,FALSE)),\"\",VLOOKUP(B5671,database!$A$6:$BFQ$206,4,FALSE)))","v":""},null,null,null,"",null,null,null,{"$f":"IF(B5671=\"\",\"\",IF(ISERROR(VLOOKUP(B5671,database!$A$6:$BFQ$206,3,FALSE)),\"\",VLOOKUP(B5671,database!$A$6:$BFQ$206,3,FALSE)))","v":""},null,null,null,null,null,null,""]
["",null,{"$f":"IF(B5672=\"\",\"\",IF(ISERROR(VLOOKUP(B5672,database!$A$6:$BFQ$206,4,FALSE)),\"\",VLOOKUP(B5672,database!$A$6:$BFQ$206,4,FALSE)))","v":""},null,null,null,"",null,null,null,{"$f":"IF(B5672=\"\",\"\",IF(ISERROR(VLOOKUP(B5672,database!$A$6:$BFQ$206,3,FALSE)),\"\",VLOOKUP(B5672,database!$A$6:$BFQ$206,3,FALSE)))","v":""},null,null,null,null,null,null,""]
["",null,{"$f":"IF(B5673=\"\",\"\",IF(ISERROR(VLOOKUP(B5673,database!$A$6:$BFQ$206,4,FALSE)),\"\",VLOOKUP(B5673,database!$A$6:$BFQ$206,4,FALSE)))","v":""},null,null,null,"",null,null,null,{"$f":"IF(B5673=\"\",\"\",IF(ISERROR(VLOOKUP(B5673,database!$A$6:$BFQ$206,3,FALSE)),\"\",VLOOKUP(B5673,database!$A$6:$BFQ$206,3,FALSE)))","v":""},null,null,null,null,null,null,""]
["",null,{"$f":"IF(B5674=\"\",\"\",IF(ISERROR(VLOOKUP(B5674,database!$A$6:$BFQ$206,4,FALSE)),\"\",VLOOKUP(B5674,database!$A$6:$BFQ$206,4,FALSE)))","v":""},null,null,null,"",null,null,null,{"$f":"IF(B5674=\"\",\"\",IF(ISERROR(VLOOKUP(B5674,database!$A$6:$BFQ$206,3,FALSE)),\"\",VLOOKUP(B5674,database!$A$6:$BFQ$206,3,FALSE)))","v":""},null,null,null,null,null,null,""]
["",null,{"$f":"IF(B5675=\"\",\"\",IF(ISERROR(VLOOKUP(B5675,database!$A$6:$BFQ$206,4,FALSE)),\"\",VLOOKUP(B5675,database!$A$6:$BFQ$206,4,FALSE)))","v":""},null,null,null,"",null,null,null,{"$f":"IF(B5675=\"\",\"\",IF(ISERROR(VLOOKUP(B5675,database!$A$6:$BFQ$206,3,FALSE)),\"\",VLOOKUP(B5675,database!$A$6:$BFQ$206,3,FALSE)))","v":""},null,null,null,null,null,null,""]
["",null,{"$f":"IF(B5676=\"\",\"\",IF(ISERROR(VLOOKUP(B5676,database!$A$6:$BFQ$206,4,FALSE)),\"\",VLOOKUP(B5676,database!$A$6:$BFQ$206,4,FALSE)))","v":""},null,null,null,"",null,null,null,{"$f":"IF(B5676=\"\",\"\",IF(ISERROR(VLOOKUP(B5676,database!$A$6:$BFQ$206,3,FALSE)),\"\",VLOOKUP(B5676,database!$A$6:$BFQ$206,3,FALSE)))","v":""},null,null,null,null,null,null,""]
["",null,{"$f":"IF(B5677=\"\",\"\",IF(ISERROR(VLOOKUP(B5677,database!$A$6:$BFQ$206,4,FALSE)),\"\",VLOOKUP(B5677,database!$A$6:$BFQ$206,4,FALSE)))","v":""},null,null,null,"",null,null,null,{"$f":"IF(B5677=\"\",\"\",IF(ISERROR(VLOOKUP(B5677,database!$A$6:$BFQ$206,3,FALSE)),\"\",VLOOKUP(B5677,database!$A$6:$BFQ$206,3,FALSE)))","v":""},null,null,null,null,null,null,""]
["",null,{"$f":"IF(B5678=\"\",\"\",IF(ISERROR(VLOOKUP(B5678,database!$A$6:$BFQ$206,4,FALSE)),\"\",VLOOKUP(B5678,database!$A$6:$BFQ$206,4,FALSE)))","v":""},null,null,null,"",null,null,null,{"$f":"IF(B5678=\"\",\"\",IF(ISERROR(VLOOKUP(B5678,database!$A$6:$BFQ$206,3,FALSE)),\"\",VLOOKUP(B5678,database!$A$6:$BFQ$206,3,FALSE)))","v":""},null,null,null,null,null,null,""]
["",null,{"$f":"IF(B5679=\"\",\"\",IF(ISERROR(VLOOKUP(B5679,database!$A$6:$BFQ$206,4,FALSE)),\"\",VLOOKUP(B5679,database!$A$6:$BFQ$206,4,FALSE)))","v":""},null,null,null,"",null,null,null,{"$f":"IF(B5679=\"\",\"\",IF(ISERROR(VLOOKUP(B5679,database!$A$6:$BFQ$206,3,FALSE)),\"\",VLOOKUP(B5679,database!$A$6:$BFQ$206,3,FALSE)))","v":""},null,null,null,null,null,null,""]
["",null,{"$f":"IF(B5680=\"\",\"\",IF(ISERROR(VLOOKUP(B5680,database!$A$6:$BFQ$206,4,FALSE)),\"\",VLOOKUP(B5680,database!$A$6:$BFQ$206,4,FALSE)))","v":""},null,null,null,"",null,null,null,{"$f":"IF(B5680=\"\",\"\",IF(ISERROR(VLOOKUP(B5680,database!$A$6:$BFQ$206,3,FALSE)),\"\",VLOOKUP(B5680,database!$A$6:$BFQ$206,3,FALSE)))","v":""},null,null,null,null,null,null,""]
["",null,{"$f":"IF(B5681=\"\",\"\",IF(ISERROR(VLOOKUP(B5681,database!$A$6:$BFQ$206,4,FALSE)),\"\",VLOOKUP(B5681,database!$A$6:$BFQ$206,4,FALSE)))","v":""},null,null,null,"",null,null,null,{"$f":"IF(B5681=\"\",\"\",IF(ISERROR(VLOOKUP(B5681,database!$A$6:$BFQ$206,3,FALSE)),\"\",VLOOKUP(B5681,database!$A$6:$BFQ$206,3,FALSE)))","v":""},null,null,null,null,null,null,""]
["",null,{"$f":"IF(B5682=\"\",\"\",IF(ISERROR(VLOOKUP(B5682,database!$A$6:$BFQ$206,4,FALSE)),\"\",VLOOKUP(B5682,database!$A$6:$BFQ$206,4,FALSE)))","v":""},null,null,null,"",null,null,null,{"$f":"IF(B5682=\"\",\"\",IF(ISERROR(VLOOKUP(B5682,database!$A$6:$BFQ$206,3,FALSE)),\"\",VLOOKUP(B5682,database!$A$6:$BFQ$206,3,FALSE)))","v":""},null,null,null,null,null,null,""]
["",null,{"$f":"IF(B5683=\"\",\"\",IF(ISERROR(VLOOKUP(B5683,database!$A$6:$BFQ$206,4,FALSE)),\"\",VLOOKUP(B5683,database!$A$6:$BFQ$206,4,FALSE)))","v":""},null,null,null,"",null,null,null,{"$f":"IF(B5683=\"\",\"\",IF(ISERROR(VLOOKUP(B5683,database!$A$6:$BFQ$206,3,FALSE)),\"\",VLOOKUP(B5683,database!$A$6:$BFQ$206,3,FALSE)))","v":""},null,null,null,null,null,null,""]
["",null,{"$f":"IF(B5684=\"\",\"\",IF(ISERROR(VLOOKUP(B5684,database!$A$6:$BFQ$206,4,FALSE)),\"\",VLOOKUP(B5684,database!$A$6:$BFQ$206,4,FALSE)))","v":""},null,null,null,"",null,null,null,{"$f":"IF(B5684=\"\",\"\",IF(ISERROR(VLOOKUP(B5684,database!$A$6:$BFQ$206,3,FALSE)),\"\",VLOOKUP(B5684,database!$A$6:$BFQ$206,3,FALSE)))","v":""},null,null,null,null,null,null,""]
["",null,{"$f":"IF(B5685=\"\",\"\",IF(ISERROR(VLOOKUP(B5685,database!$A$6:$BFQ$206,4,FALSE)),\"\",VLOOKUP(B5685,database!$A$6:$BFQ$206,4,FALSE)))","v":""},null,null,null,"",null,null,null,{"$f":"IF(B5685=\"\",\"\",IF(ISERROR(VLOOKUP(B5685,database!$A$6:$BFQ$206,3,FALSE)),\"\",VLOOKUP(B5685,database!$A$6:$BFQ$206,3,FALSE)))","v":""},null,null,null,null,null,null,""]
["",null,{"$f":"IF(B5686=\"\",\"\",IF(ISERROR(VLOOKUP(B5686,database!$A$6:$BFQ$206,4,FALSE)),\"\",VLOOKUP(B5686,database!$A$6:$BFQ$206,4,FALSE)))","v":""},null,null,null,"",null,null,null,{"$f":"IF(B5686=\"\",\"\",IF(ISERROR(VLOOKUP(B5686,database!$A$6:$BFQ$206,3,FALSE)),\"\",VLOOKUP(B5686,database!$A$6:$BFQ$206,3,FALSE)))","v":""},null,null,null,null,null,null,""]
["",null,{"$f":"IF(B5687=\"\",\"\",IF(ISERROR(VLOOKUP(B5687,database!$A$6:$BFQ$206,4,FALSE)),\"\",VLOOKUP(B5687,database!$A$6:$BFQ$206,4,FALSE)))","v":""},null,null,null,"",null,null,null,{"$f":"IF(B5687=\"\",\"\",IF(ISERROR(VLOOKUP(B5687,database!$A$6:$BFQ$206,3,FALSE)),\"\",VLOOKUP(B5687,database!$A$6:$BFQ$206,3,FALSE)))","v":""},null,null,null,null,null,null,""]
["",null,{"$f":"IF(B5688=\"\",\"\",IF(ISERROR(VLOOKUP(B5688,database!$A$6:$BFQ$206,4,FALSE)),\"\",VLOOKUP(B5688,database!$A$6:$BFQ$206,4,FALSE)))","v":""},null,null,null,"",null,null,null,{"$f":"IF(B5688=\"\",\"\",IF(ISERROR(VLOOKUP(B5688,database!$A$6:$BFQ$206,3,FALSE)),\"\",VLOOKUP(B5688,database!$A$6:$BFQ$206,3,FALSE)))","v":""},null,null,null,null,null,null,""]
["",null,{"$f":"IF(B5689=\"\",\"\",IF(ISERROR(VLOOKUP(B5689,database!$A$6:$BFQ$206,4,FALSE)),\"\",VLOOKUP(B5689,database!$A$6:$BFQ$206,4,FALSE)))","v":""},null,null,null,"",null,null,null,{"$f":"IF(B5689=\"\",\"\",IF(ISERROR(VLOOKUP(B5689,database!$A$6:$BFQ$206,3,FALSE)),\"\",VLOOKUP(B5689,database!$A$6:$BFQ$206,3,FALSE)))","v":""},null,null,null,null,null,null,""]
["",null,{"$f":"IF(B5690=\"\",\"\",IF(ISERROR(VLOOKUP(B5690,database!$A$6:$BFQ$206,4,FALSE)),\"\",VLOOKUP(B5690,database!$A$6:$BFQ$206,4,FALSE)))","v":""},null,null,null,"",null,null,null,{"$f":"IF(B5690=\"\",\"\",IF(ISERROR(VLOOKUP(B5690,database!$A$6:$BFQ$206,3,FALSE)),\"\",VLOOKUP(B5690,database!$A$6:$BFQ$206,3,FALSE)))","v":""},null,null,null,null,null,null,""]
["",null,{"$f":"IF(B5691=\"\",\"\",IF(ISERROR(VLOOKUP(B5691,database!$A$6:$BFQ$206,4,FALSE)),\"\",VLOOKUP(B5691,database!$A$6:$BFQ$206,4,FALSE)))","v":""},null,null,null,"",null,null,null,{"$f":"IF(B5691=\"\",\"\",IF(ISERROR(VLOOKUP(B5691,database!$A$6:$BFQ$206,3,FALSE)),\"\",VLOOKUP(B5691,database!$A$6:$BFQ$206,3,FALSE)))","v":""},null,null,null,null,null,null,""]
["",null,{"$f":"IF(B5692=\"\",\"\",IF(ISERROR(VLOOKUP(B5692,database!$A$6:$BFQ$206,4,FALSE)),\"\",VLOOKUP(B5692,database!$A$6:$BFQ$206,4,FALSE)))","v":""},null,null,null,"",null,null,null,{"$f":"IF(B5692=\"\",\"\",IF(ISERROR(VLOOKUP(B5692,database!$A$6:$BFQ$206,3,FALSE)),\"\",VLOOKUP(B5692,database!$A$6:$BFQ$206,3,FALSE)))","v":""},null,null,null,null,null,null,""]
["",null,{"$f":"IF(B5693=\"\",\"\",IF(ISERROR(VLOOKUP(B5693,database!$A$6:$BFQ$206,4,FALSE)),\"\",VLOOKUP(B5693,database!$A$6:$BFQ$206,4,FALSE)))","v":""},null,null,null,"",null,null,null,{"$f":"IF(B5693=\"\",\"\",IF(ISERROR(VLOOKUP(B5693,database!$A$6:$BFQ$206,3,FALSE)),\"\",VLOOKUP(B5693,database!$A$6:$BFQ$206,3,FALSE)))","v":""},null,null,null,null,null,null,""]
["",null,{"$f":"IF(B5694=\"\",\"\",IF(ISERROR(VLOOKUP(B5694,database!$A$6:$BFQ$206,4,FALSE)),\"\",VLOOKUP(B5694,database!$A$6:$BFQ$206,4,FALSE)))","v":""},null,null,null,"",null,null,null,{"$f":"IF(B5694=\"\",\"\",IF(ISERROR(VLOOKUP(B5694,database!$A$6:$BFQ$206,3,FALSE)),\"\",VLOOKUP(B5694,database!$A$6:$BFQ$206,3,FALSE)))","v":""},null,null,null,null,null,null,""]
["",null,{"$f":"IF(B5695=\"\",\"\",IF(ISERROR(VLOOKUP(B5695,database!$A$6:$BFQ$206,4,FALSE)),\"\",VLOOKUP(B5695,database!$A$6:$BFQ$206,4,FALSE)))","v":""},null,null,null,"",null,null,null,{"$f":"IF(B5695=\"\",\"\",IF(ISERROR(VLOOKUP(B5695,database!$A$6:$BFQ$206,3,FALSE)),\"\",VLOOKUP(B5695,database!$A$6:$BFQ$206,3,FALSE)))","v":""},null,null,null,null,null,null,""]
["",null,{"$f":"IF(B5696=\"\",\"\",IF(ISERROR(VLOOKUP(B5696,database!$A$6:$BFQ$206,4,FALSE)),\"\",VLOOKUP(B5696,database!$A$6:$BFQ$206,4,FALSE)))","v":""},null,null,null,"",null,null,null,{"$f":"IF(B5696=\"\",\"\",IF(ISERROR(VLOOKUP(B5696,database!$A$6:$BFQ$206,3,FALSE)),\"\",VLOOKUP(B5696,database!$A$6:$BFQ$206,3,FALSE)))","v":""},null,null,null,null,null,null,""]
[{"$f":"IF(B5697=\"\",\"\",ROW(A5694))","v":""},null,{"$f":"IF(B5697=\"\",\"\",IF(ISERROR(VLOOKUP(B5697,database!$A$6:$BFQ$206,4,FALSE)),\"\",VLOOKUP(B5697,database!$A$6:$BFQ$206,4,FALSE)))","v":""},null,null,null,{"$f":"IF(B5697=\"\",\"\",IF(C5697=\"\",0,1))","v":""},null,null,null,{"$f":"IF(B5697=\"\",\"\",IF(ISERROR(VLOOKUP(B5697,database!$A$6:$BFQ$206,3,FALSE)),\"\",VLOOKUP(B5697,database!$A$6:$BFQ$206,3,FALSE)))","v":""},null,null,null,null,null,null,{"$f":"LEFT(C5697,2)","v":""}]
["",null,{"$f":"IF(B5698=\"\",\"\",IF(ISERROR(VLOOKUP(B5698,database!$A$6:$BFQ$206,4,FALSE)),\"\",VLOOKUP(B5698,database!$A$6:$BFQ$206,4,FALSE)))","v":""},null,null,null,"",null,null,null,{"$f":"IF(B5698=\"\",\"\",IF(ISERROR(VLOOKUP(B5698,database!$A$6:$BFQ$206,3,FALSE)),\"\",VLOOKUP(B5698,database!$A$6:$BFQ$206,3,FALSE)))","v":""},null,null,null,null,null,null,""]
["",null,{"$f":"IF(B5699=\"\",\"\",IF(ISERROR(VLOOKUP(B5699,database!$A$6:$BFQ$206,4,FALSE)),\"\",VLOOKUP(B5699,database!$A$6:$BFQ$206,4,FALSE)))","v":""},null,null,null,"",null,null,null,{"$f":"IF(B5699=\"\",\"\",IF(ISERROR(VLOOKUP(B5699,database!$A$6:$BFQ$206,3,FALSE)),\"\",VLOOKUP(B5699,database!$A$6:$BFQ$206,3,FALSE)))","v":""},null,null,null,null,null,null,""]
["",null,{"$f":"IF(B5700=\"\",\"\",IF(ISERROR(VLOOKUP(B5700,database!$A$6:$BFQ$206,4,FALSE)),\"\",VLOOKUP(B5700,database!$A$6:$BFQ$206,4,FALSE)))","v":""},null,null,null,"",null,null,null,{"$f":"IF(B5700=\"\",\"\",IF(ISERROR(VLOOKUP(B5700,database!$A$6:$BFQ$206,3,FALSE)),\"\",VLOOKUP(B5700,database!$A$6:$BFQ$206,3,FALSE)))","v":""},null,null,null,null,null,null,""]
["",null,{"$f":"IF(B5701=\"\",\"\",IF(ISERROR(VLOOKUP(B5701,database!$A$6:$BFQ$206,4,FALSE)),\"\",VLOOKUP(B5701,database!$A$6:$BFQ$206,4,FALSE)))","v":""},null,null,null,"",null,null,null,{"$f":"IF(B5701=\"\",\"\",IF(ISERROR(VLOOKUP(B5701,database!$A$6:$BFQ$206,3,FALSE)),\"\",VLOOKUP(B5701,database!$A$6:$BFQ$206,3,FALSE)))","v":""},null,null,null,null,null,null,""]
["",null,{"$f":"IF(B5702=\"\",\"\",IF(ISERROR(VLOOKUP(B5702,database!$A$6:$BFQ$206,4,FALSE)),\"\",VLOOKUP(B5702,database!$A$6:$BFQ$206,4,FALSE)))","v":""},null,null,null,"",null,null,null,{"$f":"IF(B5702=\"\",\"\",IF(ISERROR(VLOOKUP(B5702,database!$A$6:$BFQ$206,3,FALSE)),\"\",VLOOKUP(B5702,database!$A$6:$BFQ$206,3,FALSE)))","v":""},null,null,null,null,null,null,""]
["",null,{"$f":"IF(B5703=\"\",\"\",IF(ISERROR(VLOOKUP(B5703,database!$A$6:$BFQ$206,4,FALSE)),\"\",VLOOKUP(B5703,database!$A$6:$BFQ$206,4,FALSE)))","v":""},null,null,null,"",null,null,null,{"$f":"IF(B5703=\"\",\"\",IF(ISERROR(VLOOKUP(B5703,database!$A$6:$BFQ$206,3,FALSE)),\"\",VLOOKUP(B5703,database!$A$6:$BFQ$206,3,FALSE)))","v":""},null,null,null,null,null,null,""]
["",null,{"$f":"IF(B5704=\"\",\"\",IF(ISERROR(VLOOKUP(B5704,database!$A$6:$BFQ$206,4,FALSE)),\"\",VLOOKUP(B5704,database!$A$6:$BFQ$206,4,FALSE)))","v":""},null,null,null,"",null,null,null,{"$f":"IF(B5704=\"\",\"\",IF(ISERROR(VLOOKUP(B5704,database!$A$6:$BFQ$206,3,FALSE)),\"\",VLOOKUP(B5704,database!$A$6:$BFQ$206,3,FALSE)))","v":""},null,null,null,null,null,null,""]
["",null,{"$f":"IF(B5705=\"\",\"\",IF(ISERROR(VLOOKUP(B5705,database!$A$6:$BFQ$206,4,FALSE)),\"\",VLOOKUP(B5705,database!$A$6:$BFQ$206,4,FALSE)))","v":""},null,null,null,"",null,null,null,{"$f":"IF(B5705=\"\",\"\",IF(ISERROR(VLOOKUP(B5705,database!$A$6:$BFQ$206,3,FALSE)),\"\",VLOOKUP(B5705,database!$A$6:$BFQ$206,3,FALSE)))","v":""},null,null,null,null,null,null,""]
["",null,{"$f":"IF(B5706=\"\",\"\",IF(ISERROR(VLOOKUP(B5706,database!$A$6:$BFQ$206,4,FALSE)),\"\",VLOOKUP(B5706,database!$A$6:$BFQ$206,4,FALSE)))","v":""},null,null,null,"",null,null,null,{"$f":"IF(B5706=\"\",\"\",IF(ISERROR(VLOOKUP(B5706,database!$A$6:$BFQ$206,3,FALSE)),\"\",VLOOKUP(B5706,database!$A$6:$BFQ$206,3,FALSE)))","v":""},null,null,null,null,null,null,""]
["",null,{"$f":"IF(B5707=\"\",\"\",IF(ISERROR(VLOOKUP(B5707,database!$A$6:$BFQ$206,4,FALSE)),\"\",VLOOKUP(B5707,database!$A$6:$BFQ$206,4,FALSE)))","v":""},null,null,null,"",null,null,null,{"$f":"IF(B5707=\"\",\"\",IF(ISERROR(VLOOKUP(B5707,database!$A$6:$BFQ$206,3,FALSE)),\"\",VLOOKUP(B5707,database!$A$6:$BFQ$206,3,FALSE)))","v":""},null,null,null,null,null,null,""]
["",null,{"$f":"IF(B5708=\"\",\"\",IF(ISERROR(VLOOKUP(B5708,database!$A$6:$BFQ$206,4,FALSE)),\"\",VLOOKUP(B5708,database!$A$6:$BFQ$206,4,FALSE)))","v":""},null,null,null,"",null,null,null,{"$f":"IF(B5708=\"\",\"\",IF(ISERROR(VLOOKUP(B5708,database!$A$6:$BFQ$206,3,FALSE)),\"\",VLOOKUP(B5708,database!$A$6:$BFQ$206,3,FALSE)))","v":""},null,null,null,null,null,null,""]
["",null,{"$f":"IF(B5709=\"\",\"\",IF(ISERROR(VLOOKUP(B5709,database!$A$6:$BFQ$206,4,FALSE)),\"\",VLOOKUP(B5709,database!$A$6:$BFQ$206,4,FALSE)))","v":""},null,null,null,"",null,null,null,{"$f":"IF(B5709=\"\",\"\",IF(ISERROR(VLOOKUP(B5709,database!$A$6:$BFQ$206,3,FALSE)),\"\",VLOOKUP(B5709,database!$A$6:$BFQ$206,3,FALSE)))","v":""},null,null,null,null,null,null,""]
["",null,{"$f":"IF(B5710=\"\",\"\",IF(ISERROR(VLOOKUP(B5710,database!$A$6:$BFQ$206,4,FALSE)),\"\",VLOOKUP(B5710,database!$A$6:$BFQ$206,4,FALSE)))","v":""},null,null,null,"",null,null,null,{"$f":"IF(B5710=\"\",\"\",IF(ISERROR(VLOOKUP(B5710,database!$A$6:$BFQ$206,3,FALSE)),\"\",VLOOKUP(B5710,database!$A$6:$BFQ$206,3,FALSE)))","v":""},null,null,null,null,null,null,""]
["",null,{"$f":"IF(B5711=\"\",\"\",IF(ISERROR(VLOOKUP(B5711,database!$A$6:$BFQ$206,4,FALSE)),\"\",VLOOKUP(B5711,database!$A$6:$BFQ$206,4,FALSE)))","v":""},null,null,null,"",null,null,null,{"$f":"IF(B5711=\"\",\"\",IF(ISERROR(VLOOKUP(B5711,database!$A$6:$BFQ$206,3,FALSE)),\"\",VLOOKUP(B5711,database!$A$6:$BFQ$206,3,FALSE)))","v":""},null,null,null,null,null,null,""]
["",null,{"$f":"IF(B5712=\"\",\"\",IF(ISERROR(VLOOKUP(B5712,database!$A$6:$BFQ$206,4,FALSE)),\"\",VLOOKUP(B5712,database!$A$6:$BFQ$206,4,FALSE)))","v":""},null,null,null,"",null,null,null,{"$f":"IF(B5712=\"\",\"\",IF(ISERROR(VLOOKUP(B5712,database!$A$6:$BFQ$206,3,FALSE)),\"\",VLOOKUP(B5712,database!$A$6:$BFQ$206,3,FALSE)))","v":""},null,null,null,null,null,null,""]
["",null,{"$f":"IF(B5713=\"\",\"\",IF(ISERROR(VLOOKUP(B5713,database!$A$6:$BFQ$206,4,FALSE)),\"\",VLOOKUP(B5713,database!$A$6:$BFQ$206,4,FALSE)))","v":""},null,null,null,"",null,null,null,{"$f":"IF(B5713=\"\",\"\",IF(ISERROR(VLOOKUP(B5713,database!$A$6:$BFQ$206,3,FALSE)),\"\",VLOOKUP(B5713,database!$A$6:$BFQ$206,3,FALSE)))","v":""},null,null,null,null,null,null,""]
["",null,{"$f":"IF(B5714=\"\",\"\",IF(ISERROR(VLOOKUP(B5714,database!$A$6:$BFQ$206,4,FALSE)),\"\",VLOOKUP(B5714,database!$A$6:$BFQ$206,4,FALSE)))","v":""},null,null,null,"",null,null,null,{"$f":"IF(B5714=\"\",\"\",IF(ISERROR(VLOOKUP(B5714,database!$A$6:$BFQ$206,3,FALSE)),\"\",VLOOKUP(B5714,database!$A$6:$BFQ$206,3,FALSE)))","v":""},null,null,null,null,null,null,""]
["",null,{"$f":"IF(B5715=\"\",\"\",IF(ISERROR(VLOOKUP(B5715,database!$A$6:$BFQ$206,4,FALSE)),\"\",VLOOKUP(B5715,database!$A$6:$BFQ$206,4,FALSE)))","v":""},null,null,null,"",null,null,null,{"$f":"IF(B5715=\"\",\"\",IF(ISERROR(VLOOKUP(B5715,database!$A$6:$BFQ$206,3,FALSE)),\"\",VLOOKUP(B5715,database!$A$6:$BFQ$206,3,FALSE)))","v":""},null,null,null,null,null,null,""]
["",null,{"$f":"IF(B5716=\"\",\"\",IF(ISERROR(VLOOKUP(B5716,database!$A$6:$BFQ$206,4,FALSE)),\"\",VLOOKUP(B5716,database!$A$6:$BFQ$206,4,FALSE)))","v":""},null,null,null,"",null,null,null,{"$f":"IF(B5716=\"\",\"\",IF(ISERROR(VLOOKUP(B5716,database!$A$6:$BFQ$206,3,FALSE)),\"\",VLOOKUP(B5716,database!$A$6:$BFQ$206,3,FALSE)))","v":""},null,null,null,null,null,null,""]
["",null,{"$f":"IF(B5717=\"\",\"\",IF(ISERROR(VLOOKUP(B5717,database!$A$6:$BFQ$206,4,FALSE)),\"\",VLOOKUP(B5717,database!$A$6:$BFQ$206,4,FALSE)))","v":""},null,null,null,"",null,null,null,{"$f":"IF(B5717=\"\",\"\",IF(ISERROR(VLOOKUP(B5717,database!$A$6:$BFQ$206,3,FALSE)),\"\",VLOOKUP(B5717,database!$A$6:$BFQ$206,3,FALSE)))","v":""},null,null,null,null,null,null,""]
["",null,{"$f":"IF(B5718=\"\",\"\",IF(ISERROR(VLOOKUP(B5718,database!$A$6:$BFQ$206,4,FALSE)),\"\",VLOOKUP(B5718,database!$A$6:$BFQ$206,4,FALSE)))","v":""},null,null,null,"",null,null,null,{"$f":"IF(B5718=\"\",\"\",IF(ISERROR(VLOOKUP(B5718,database!$A$6:$BFQ$206,3,FALSE)),\"\",VLOOKUP(B5718,database!$A$6:$BFQ$206,3,FALSE)))","v":""},null,null,null,null,null,null,""]
["",null,{"$f":"IF(B5719=\"\",\"\",IF(ISERROR(VLOOKUP(B5719,database!$A$6:$BFQ$206,4,FALSE)),\"\",VLOOKUP(B5719,database!$A$6:$BFQ$206,4,FALSE)))","v":""},null,null,null,"",null,null,null,{"$f":"IF(B5719=\"\",\"\",IF(ISERROR(VLOOKUP(B5719,database!$A$6:$BFQ$206,3,FALSE)),\"\",VLOOKUP(B5719,database!$A$6:$BFQ$206,3,FALSE)))","v":""},null,null,null,null,null,null,""]
["",null,{"$f":"IF(B5720=\"\",\"\",IF(ISERROR(VLOOKUP(B5720,database!$A$6:$BFQ$206,4,FALSE)),\"\",VLOOKUP(B5720,database!$A$6:$BFQ$206,4,FALSE)))","v":""},null,null,null,"",null,null,null,{"$f":"IF(B5720=\"\",\"\",IF(ISERROR(VLOOKUP(B5720,database!$A$6:$BFQ$206,3,FALSE)),\"\",VLOOKUP(B5720,database!$A$6:$BFQ$206,3,FALSE)))","v":""},null,null,null,null,null,null,""]
["",null,{"$f":"IF(B5721=\"\",\"\",IF(ISERROR(VLOOKUP(B5721,database!$A$6:$BFQ$206,4,FALSE)),\"\",VLOOKUP(B5721,database!$A$6:$BFQ$206,4,FALSE)))","v":""},null,null,null,"",null,null,null,{"$f":"IF(B5721=\"\",\"\",IF(ISERROR(VLOOKUP(B5721,database!$A$6:$BFQ$206,3,FALSE)),\"\",VLOOKUP(B5721,database!$A$6:$BFQ$206,3,FALSE)))","v":""},null,null,null,null,null,null,""]
["",null,{"$f":"IF(B5722=\"\",\"\",IF(ISERROR(VLOOKUP(B5722,database!$A$6:$BFQ$206,4,FALSE)),\"\",VLOOKUP(B5722,database!$A$6:$BFQ$206,4,FALSE)))","v":""},null,null,null,"",null,null,null,{"$f":"IF(B5722=\"\",\"\",IF(ISERROR(VLOOKUP(B5722,database!$A$6:$BFQ$206,3,FALSE)),\"\",VLOOKUP(B5722,database!$A$6:$BFQ$206,3,FALSE)))","v":""},null,null,null,null,null,null,""]
["",null,{"$f":"IF(B5723=\"\",\"\",IF(ISERROR(VLOOKUP(B5723,database!$A$6:$BFQ$206,4,FALSE)),\"\",VLOOKUP(B5723,database!$A$6:$BFQ$206,4,FALSE)))","v":""},null,null,null,"",null,null,null,{"$f":"IF(B5723=\"\",\"\",IF(ISERROR(VLOOKUP(B5723,database!$A$6:$BFQ$206,3,FALSE)),\"\",VLOOKUP(B5723,database!$A$6:$BFQ$206,3,FALSE)))","v":""},null,null,null,null,null,null,""]
["",null,{"$f":"IF(B5724=\"\",\"\",IF(ISERROR(VLOOKUP(B5724,database!$A$6:$BFQ$206,4,FALSE)),\"\",VLOOKUP(B5724,database!$A$6:$BFQ$206,4,FALSE)))","v":""},null,null,null,"",null,null,null,{"$f":"IF(B5724=\"\",\"\",IF(ISERROR(VLOOKUP(B5724,database!$A$6:$BFQ$206,3,FALSE)),\"\",VLOOKUP(B5724,database!$A$6:$BFQ$206,3,FALSE)))","v":""},null,null,null,null,null,null,""]
["",null,{"$f":"IF(B5725=\"\",\"\",IF(ISERROR(VLOOKUP(B5725,database!$A$6:$BFQ$206,4,FALSE)),\"\",VLOOKUP(B5725,database!$A$6:$BFQ$206,4,FALSE)))","v":""},null,null,null,"",null,null,null,{"$f":"IF(B5725=\"\",\"\",IF(ISERROR(VLOOKUP(B5725,database!$A$6:$BFQ$206,3,FALSE)),\"\",VLOOKUP(B5725,database!$A$6:$BFQ$206,3,FALSE)))","v":""},null,null,null,null,null,null,""]
["",null,{"$f":"IF(B5726=\"\",\"\",IF(ISERROR(VLOOKUP(B5726,database!$A$6:$BFQ$206,4,FALSE)),\"\",VLOOKUP(B5726,database!$A$6:$BFQ$206,4,FALSE)))","v":""},null,null,null,"",null,null,null,{"$f":"IF(B5726=\"\",\"\",IF(ISERROR(VLOOKUP(B5726,database!$A$6:$BFQ$206,3,FALSE)),\"\",VLOOKUP(B5726,database!$A$6:$BFQ$206,3,FALSE)))","v":""},null,null,null,null,null,null,""]
["",null,{"$f":"IF(B5727=\"\",\"\",IF(ISERROR(VLOOKUP(B5727,database!$A$6:$BFQ$206,4,FALSE)),\"\",VLOOKUP(B5727,database!$A$6:$BFQ$206,4,FALSE)))","v":""},null,null,null,"",null,null,null,{"$f":"IF(B5727=\"\",\"\",IF(ISERROR(VLOOKUP(B5727,database!$A$6:$BFQ$206,3,FALSE)),\"\",VLOOKUP(B5727,database!$A$6:$BFQ$206,3,FALSE)))","v":""},null,null,null,null,null,null,""]
["",null,{"$f":"IF(B5728=\"\",\"\",IF(ISERROR(VLOOKUP(B5728,database!$A$6:$BFQ$206,4,FALSE)),\"\",VLOOKUP(B5728,database!$A$6:$BFQ$206,4,FALSE)))","v":""},null,null,null,"",null,null,null,{"$f":"IF(B5728=\"\",\"\",IF(ISERROR(VLOOKUP(B5728,database!$A$6:$BFQ$206,3,FALSE)),\"\",VLOOKUP(B5728,database!$A$6:$BFQ$206,3,FALSE)))","v":""},null,null,null,null,null,null,""]
["",null,{"$f":"IF(B5729=\"\",\"\",IF(ISERROR(VLOOKUP(B5729,database!$A$6:$BFQ$206,4,FALSE)),\"\",VLOOKUP(B5729,database!$A$6:$BFQ$206,4,FALSE)))","v":""},null,null,null,"",null,null,null,{"$f":"IF(B5729=\"\",\"\",IF(ISERROR(VLOOKUP(B5729,database!$A$6:$BFQ$206,3,FALSE)),\"\",VLOOKUP(B5729,database!$A$6:$BFQ$206,3,FALSE)))","v":""},null,null,null,null,null,null,""]
["",null,{"$f":"IF(B5730=\"\",\"\",IF(ISERROR(VLOOKUP(B5730,database!$A$6:$BFQ$206,4,FALSE)),\"\",VLOOKUP(B5730,database!$A$6:$BFQ$206,4,FALSE)))","v":""},null,null,null,"",null,null,null,{"$f":"IF(B5730=\"\",\"\",IF(ISERROR(VLOOKUP(B5730,database!$A$6:$BFQ$206,3,FALSE)),\"\",VLOOKUP(B5730,database!$A$6:$BFQ$206,3,FALSE)))","v":""},null,null,null,null,null,null,""]
["",null,{"$f":"IF(B5731=\"\",\"\",IF(ISERROR(VLOOKUP(B5731,database!$A$6:$BFQ$206,4,FALSE)),\"\",VLOOKUP(B5731,database!$A$6:$BFQ$206,4,FALSE)))","v":""},null,null,null,"",null,null,null,{"$f":"IF(B5731=\"\",\"\",IF(ISERROR(VLOOKUP(B5731,database!$A$6:$BFQ$206,3,FALSE)),\"\",VLOOKUP(B5731,database!$A$6:$BFQ$206,3,FALSE)))","v":""},null,null,null,null,null,null,""]
["",null,{"$f":"IF(B5732=\"\",\"\",IF(ISERROR(VLOOKUP(B5732,database!$A$6:$BFQ$206,4,FALSE)),\"\",VLOOKUP(B5732,database!$A$6:$BFQ$206,4,FALSE)))","v":""},null,null,null,"",null,null,null,{"$f":"IF(B5732=\"\",\"\",IF(ISERROR(VLOOKUP(B5732,database!$A$6:$BFQ$206,3,FALSE)),\"\",VLOOKUP(B5732,database!$A$6:$BFQ$206,3,FALSE)))","v":""},null,null,null,null,null,null,""]
["",null,{"$f":"IF(B5733=\"\",\"\",IF(ISERROR(VLOOKUP(B5733,database!$A$6:$BFQ$206,4,FALSE)),\"\",VLOOKUP(B5733,database!$A$6:$BFQ$206,4,FALSE)))","v":""},null,null,null,"",null,null,null,{"$f":"IF(B5733=\"\",\"\",IF(ISERROR(VLOOKUP(B5733,database!$A$6:$BFQ$206,3,FALSE)),\"\",VLOOKUP(B5733,database!$A$6:$BFQ$206,3,FALSE)))","v":""},null,null,null,null,null,null,""]
["",null,{"$f":"IF(B5734=\"\",\"\",IF(ISERROR(VLOOKUP(B5734,database!$A$6:$BFQ$206,4,FALSE)),\"\",VLOOKUP(B5734,database!$A$6:$BFQ$206,4,FALSE)))","v":""},null,null,null,"",null,null,null,{"$f":"IF(B5734=\"\",\"\",IF(ISERROR(VLOOKUP(B5734,database!$A$6:$BFQ$206,3,FALSE)),\"\",VLOOKUP(B5734,database!$A$6:$BFQ$206,3,FALSE)))","v":""},null,null,null,null,null,null,""]
["",null,{"$f":"IF(B5735=\"\",\"\",IF(ISERROR(VLOOKUP(B5735,database!$A$6:$BFQ$206,4,FALSE)),\"\",VLOOKUP(B5735,database!$A$6:$BFQ$206,4,FALSE)))","v":""},null,null,null,"",null,null,null,{"$f":"IF(B5735=\"\",\"\",IF(ISERROR(VLOOKUP(B5735,database!$A$6:$BFQ$206,3,FALSE)),\"\",VLOOKUP(B5735,database!$A$6:$BFQ$206,3,FALSE)))","v":""},null,null,null,null,null,null,""]
["",null,{"$f":"IF(B5736=\"\",\"\",IF(ISERROR(VLOOKUP(B5736,database!$A$6:$BFQ$206,4,FALSE)),\"\",VLOOKUP(B5736,database!$A$6:$BFQ$206,4,FALSE)))","v":""},null,null,null,"",null,null,null,{"$f":"IF(B5736=\"\",\"\",IF(ISERROR(VLOOKUP(B5736,database!$A$6:$BFQ$206,3,FALSE)),\"\",VLOOKUP(B5736,database!$A$6:$BFQ$206,3,FALSE)))","v":""},null,null,null,null,null,null,""]
["",null,{"$f":"IF(B5737=\"\",\"\",IF(ISERROR(VLOOKUP(B5737,database!$A$6:$BFQ$206,4,FALSE)),\"\",VLOOKUP(B5737,database!$A$6:$BFQ$206,4,FALSE)))","v":""},null,null,null,"",null,null,null,{"$f":"IF(B5737=\"\",\"\",IF(ISERROR(VLOOKUP(B5737,database!$A$6:$BFQ$206,3,FALSE)),\"\",VLOOKUP(B5737,database!$A$6:$BFQ$206,3,FALSE)))","v":""},null,null,null,null,null,null,""]
["",null,{"$f":"IF(B5738=\"\",\"\",IF(ISERROR(VLOOKUP(B5738,database!$A$6:$BFQ$206,4,FALSE)),\"\",VLOOKUP(B5738,database!$A$6:$BFQ$206,4,FALSE)))","v":""},null,null,null,"",null,null,null,{"$f":"IF(B5738=\"\",\"\",IF(ISERROR(VLOOKUP(B5738,database!$A$6:$BFQ$206,3,FALSE)),\"\",VLOOKUP(B5738,database!$A$6:$BFQ$206,3,FALSE)))","v":""},null,null,null,null,null,null,""]
["",null,{"$f":"IF(B5739=\"\",\"\",IF(ISERROR(VLOOKUP(B5739,database!$A$6:$BFQ$206,4,FALSE)),\"\",VLOOKUP(B5739,database!$A$6:$BFQ$206,4,FALSE)))","v":""},null,null,null,"",null,null,null,{"$f":"IF(B5739=\"\",\"\",IF(ISERROR(VLOOKUP(B5739,database!$A$6:$BFQ$206,3,FALSE)),\"\",VLOOKUP(B5739,database!$A$6:$BFQ$206,3,FALSE)))","v":""},null,null,null,null,null,null,""]
["",null,{"$f":"IF(B5740=\"\",\"\",IF(ISERROR(VLOOKUP(B5740,database!$A$6:$BFQ$206,4,FALSE)),\"\",VLOOKUP(B5740,database!$A$6:$BFQ$206,4,FALSE)))","v":""},null,null,null,"",null,null,null,{"$f":"IF(B5740=\"\",\"\",IF(ISERROR(VLOOKUP(B5740,database!$A$6:$BFQ$206,3,FALSE)),\"\",VLOOKUP(B5740,database!$A$6:$BFQ$206,3,FALSE)))","v":""},null,null,null,null,null,null,""]
["",null,{"$f":"IF(B5741=\"\",\"\",IF(ISERROR(VLOOKUP(B5741,database!$A$6:$BFQ$206,4,FALSE)),\"\",VLOOKUP(B5741,database!$A$6:$BFQ$206,4,FALSE)))","v":""},null,null,null,"",null,null,null,{"$f":"IF(B5741=\"\",\"\",IF(ISERROR(VLOOKUP(B5741,database!$A$6:$BFQ$206,3,FALSE)),\"\",VLOOKUP(B5741,database!$A$6:$BFQ$206,3,FALSE)))","v":""},null,null,null,null,null,null,""]
["",null,{"$f":"IF(B5742=\"\",\"\",IF(ISERROR(VLOOKUP(B5742,database!$A$6:$BFQ$206,4,FALSE)),\"\",VLOOKUP(B5742,database!$A$6:$BFQ$206,4,FALSE)))","v":""},null,null,null,"",null,null,null,{"$f":"IF(B5742=\"\",\"\",IF(ISERROR(VLOOKUP(B5742,database!$A$6:$BFQ$206,3,FALSE)),\"\",VLOOKUP(B5742,database!$A$6:$BFQ$206,3,FALSE)))","v":""},null,null,null,null,null,null,""]
["",null,{"$f":"IF(B5743=\"\",\"\",IF(ISERROR(VLOOKUP(B5743,database!$A$6:$BFQ$206,4,FALSE)),\"\",VLOOKUP(B5743,database!$A$6:$BFQ$206,4,FALSE)))","v":""},null,null,null,"",null,null,null,{"$f":"IF(B5743=\"\",\"\",IF(ISERROR(VLOOKUP(B5743,database!$A$6:$BFQ$206,3,FALSE)),\"\",VLOOKUP(B5743,database!$A$6:$BFQ$206,3,FALSE)))","v":""},null,null,null,null,null,null,""]
["",null,{"$f":"IF(B5744=\"\",\"\",IF(ISERROR(VLOOKUP(B5744,database!$A$6:$BFQ$206,4,FALSE)),\"\",VLOOKUP(B5744,database!$A$6:$BFQ$206,4,FALSE)))","v":""},null,null,null,"",null,null,null,{"$f":"IF(B5744=\"\",\"\",IF(ISERROR(VLOOKUP(B5744,database!$A$6:$BFQ$206,3,FALSE)),\"\",VLOOKUP(B5744,database!$A$6:$BFQ$206,3,FALSE)))","v":""},null,null,null,null,null,null,""]
["",null,{"$f":"IF(B5745=\"\",\"\",IF(ISERROR(VLOOKUP(B5745,database!$A$6:$BFQ$206,4,FALSE)),\"\",VLOOKUP(B5745,database!$A$6:$BFQ$206,4,FALSE)))","v":""},null,null,null,"",null,null,null,{"$f":"IF(B5745=\"\",\"\",IF(ISERROR(VLOOKUP(B5745,database!$A$6:$BFQ$206,3,FALSE)),\"\",VLOOKUP(B5745,database!$A$6:$BFQ$206,3,FALSE)))","v":""},null,null,null,null,null,null,""]
["",null,{"$f":"IF(B5746=\"\",\"\",IF(ISERROR(VLOOKUP(B5746,database!$A$6:$BFQ$206,4,FALSE)),\"\",VLOOKUP(B5746,database!$A$6:$BFQ$206,4,FALSE)))","v":""},null,null,null,"",null,null,null,{"$f":"IF(B5746=\"\",\"\",IF(ISERROR(VLOOKUP(B5746,database!$A$6:$BFQ$206,3,FALSE)),\"\",VLOOKUP(B5746,database!$A$6:$BFQ$206,3,FALSE)))","v":""},null,null,null,null,null,null,""]
["",null,{"$f":"IF(B5747=\"\",\"\",IF(ISERROR(VLOOKUP(B5747,database!$A$6:$BFQ$206,4,FALSE)),\"\",VLOOKUP(B5747,database!$A$6:$BFQ$206,4,FALSE)))","v":""},null,null,null,"",null,null,null,{"$f":"IF(B5747=\"\",\"\",IF(ISERROR(VLOOKUP(B5747,database!$A$6:$BFQ$206,3,FALSE)),\"\",VLOOKUP(B5747,database!$A$6:$BFQ$206,3,FALSE)))","v":""},null,null,null,null,null,null,""]
["",null,{"$f":"IF(B5748=\"\",\"\",IF(ISERROR(VLOOKUP(B5748,database!$A$6:$BFQ$206,4,FALSE)),\"\",VLOOKUP(B5748,database!$A$6:$BFQ$206,4,FALSE)))","v":""},null,null,null,"",null,null,null,{"$f":"IF(B5748=\"\",\"\",IF(ISERROR(VLOOKUP(B5748,database!$A$6:$BFQ$206,3,FALSE)),\"\",VLOOKUP(B5748,database!$A$6:$BFQ$206,3,FALSE)))","v":""},null,null,null,null,null,null,""]
["",null,{"$f":"IF(B5749=\"\",\"\",IF(ISERROR(VLOOKUP(B5749,database!$A$6:$BFQ$206,4,FALSE)),\"\",VLOOKUP(B5749,database!$A$6:$BFQ$206,4,FALSE)))","v":""},null,null,null,"",null,null,null,{"$f":"IF(B5749=\"\",\"\",IF(ISERROR(VLOOKUP(B5749,database!$A$6:$BFQ$206,3,FALSE)),\"\",VLOOKUP(B5749,database!$A$6:$BFQ$206,3,FALSE)))","v":""},null,null,null,null,null,null,""]
["",null,{"$f":"IF(B5750=\"\",\"\",IF(ISERROR(VLOOKUP(B5750,database!$A$6:$BFQ$206,4,FALSE)),\"\",VLOOKUP(B5750,database!$A$6:$BFQ$206,4,FALSE)))","v":""},null,null,null,"",null,null,null,{"$f":"IF(B5750=\"\",\"\",IF(ISERROR(VLOOKUP(B5750,database!$A$6:$BFQ$206,3,FALSE)),\"\",VLOOKUP(B5750,database!$A$6:$BFQ$206,3,FALSE)))","v":""},null,null,null,null,null,null,""]
["",null,{"$f":"IF(B5751=\"\",\"\",IF(ISERROR(VLOOKUP(B5751,database!$A$6:$BFQ$206,4,FALSE)),\"\",VLOOKUP(B5751,database!$A$6:$BFQ$206,4,FALSE)))","v":""},null,null,null,"",null,null,null,{"$f":"IF(B5751=\"\",\"\",IF(ISERROR(VLOOKUP(B5751,database!$A$6:$BFQ$206,3,FALSE)),\"\",VLOOKUP(B5751,database!$A$6:$BFQ$206,3,FALSE)))","v":""},null,null,null,null,null,null,""]
["",null,{"$f":"IF(B5752=\"\",\"\",IF(ISERROR(VLOOKUP(B5752,database!$A$6:$BFQ$206,4,FALSE)),\"\",VLOOKUP(B5752,database!$A$6:$BFQ$206,4,FALSE)))","v":""},null,null,null,"",null,null,null,{"$f":"IF(B5752=\"\",\"\",IF(ISERROR(VLOOKUP(B5752,database!$A$6:$BFQ$206,3,FALSE)),\"\",VLOOKUP(B5752,database!$A$6:$BFQ$206,3,FALSE)))","v":""},null,null,null,null,null,null,""]
["",null,{"$f":"IF(B5753=\"\",\"\",IF(ISERROR(VLOOKUP(B5753,database!$A$6:$BFQ$206,4,FALSE)),\"\",VLOOKUP(B5753,database!$A$6:$BFQ$206,4,FALSE)))","v":""},null,null,null,"",null,null,null,{"$f":"IF(B5753=\"\",\"\",IF(ISERROR(VLOOKUP(B5753,database!$A$6:$BFQ$206,3,FALSE)),\"\",VLOOKUP(B5753,database!$A$6:$BFQ$206,3,FALSE)))","v":""},null,null,null,null,null,null,""]
["",null,{"$f":"IF(B5754=\"\",\"\",IF(ISERROR(VLOOKUP(B5754,database!$A$6:$BFQ$206,4,FALSE)),\"\",VLOOKUP(B5754,database!$A$6:$BFQ$206,4,FALSE)))","v":""},null,null,null,"",null,null,null,{"$f":"IF(B5754=\"\",\"\",IF(ISERROR(VLOOKUP(B5754,database!$A$6:$BFQ$206,3,FALSE)),\"\",VLOOKUP(B5754,database!$A$6:$BFQ$206,3,FALSE)))","v":""},null,null,null,null,null,null,""]
["",null,{"$f":"IF(B5755=\"\",\"\",IF(ISERROR(VLOOKUP(B5755,database!$A$6:$BFQ$206,4,FALSE)),\"\",VLOOKUP(B5755,database!$A$6:$BFQ$206,4,FALSE)))","v":""},null,null,null,"",null,null,null,{"$f":"IF(B5755=\"\",\"\",IF(ISERROR(VLOOKUP(B5755,database!$A$6:$BFQ$206,3,FALSE)),\"\",VLOOKUP(B5755,database!$A$6:$BFQ$206,3,FALSE)))","v":""},null,null,null,null,null,null,""]
["",null,{"$f":"IF(B5756=\"\",\"\",IF(ISERROR(VLOOKUP(B5756,database!$A$6:$BFQ$206,4,FALSE)),\"\",VLOOKUP(B5756,database!$A$6:$BFQ$206,4,FALSE)))","v":""},null,null,null,"",null,null,null,{"$f":"IF(B5756=\"\",\"\",IF(ISERROR(VLOOKUP(B5756,database!$A$6:$BFQ$206,3,FALSE)),\"\",VLOOKUP(B5756,database!$A$6:$BFQ$206,3,FALSE)))","v":""},null,null,null,null,null,null,""]
["",null,{"$f":"IF(B5757=\"\",\"\",IF(ISERROR(VLOOKUP(B5757,database!$A$6:$BFQ$206,4,FALSE)),\"\",VLOOKUP(B5757,database!$A$6:$BFQ$206,4,FALSE)))","v":""},null,null,null,"",null,null,null,{"$f":"IF(B5757=\"\",\"\",IF(ISERROR(VLOOKUP(B5757,database!$A$6:$BFQ$206,3,FALSE)),\"\",VLOOKUP(B5757,database!$A$6:$BFQ$206,3,FALSE)))","v":""},null,null,null,null,null,null,""]
["",null,{"$f":"IF(B5758=\"\",\"\",IF(ISERROR(VLOOKUP(B5758,database!$A$6:$BFQ$206,4,FALSE)),\"\",VLOOKUP(B5758,database!$A$6:$BFQ$206,4,FALSE)))","v":""},null,null,null,"",null,null,null,{"$f":"IF(B5758=\"\",\"\",IF(ISERROR(VLOOKUP(B5758,database!$A$6:$BFQ$206,3,FALSE)),\"\",VLOOKUP(B5758,database!$A$6:$BFQ$206,3,FALSE)))","v":""},null,null,null,null,null,null,""]
["",null,{"$f":"IF(B5759=\"\",\"\",IF(ISERROR(VLOOKUP(B5759,database!$A$6:$BFQ$206,4,FALSE)),\"\",VLOOKUP(B5759,database!$A$6:$BFQ$206,4,FALSE)))","v":""},null,null,null,"",null,null,null,{"$f":"IF(B5759=\"\",\"\",IF(ISERROR(VLOOKUP(B5759,database!$A$6:$BFQ$206,3,FALSE)),\"\",VLOOKUP(B5759,database!$A$6:$BFQ$206,3,FALSE)))","v":""},null,null,null,null,null,null,""]
["",null,{"$f":"IF(B5760=\"\",\"\",IF(ISERROR(VLOOKUP(B5760,database!$A$6:$BFQ$206,4,FALSE)),\"\",VLOOKUP(B5760,database!$A$6:$BFQ$206,4,FALSE)))","v":""},null,null,null,"",null,null,null,{"$f":"IF(B5760=\"\",\"\",IF(ISERROR(VLOOKUP(B5760,database!$A$6:$BFQ$206,3,FALSE)),\"\",VLOOKUP(B5760,database!$A$6:$BFQ$206,3,FALSE)))","v":""},null,null,null,null,null,null,""]
[{"$f":"IF(B5761=\"\",\"\",ROW(A5758))","v":""},null,{"$f":"IF(B5761=\"\",\"\",IF(ISERROR(VLOOKUP(B5761,database!$A$6:$BFQ$206,4,FALSE)),\"\",VLOOKUP(B5761,database!$A$6:$BFQ$206,4,FALSE)))","v":""},null,null,null,{"$f":"IF(B5761=\"\",\"\",IF(C5761=\"\",0,1))","v":""},null,null,null,{"$f":"IF(B5761=\"\",\"\",IF(ISERROR(VLOOKUP(B5761,database!$A$6:$BFQ$206,3,FALSE)),\"\",VLOOKUP(B5761,database!$A$6:$BFQ$206,3,FALSE)))","v":""},null,null,null,null,null,null,{"$f":"LEFT(C5761,2)","v":""}]
["",null,{"$f":"IF(B5762=\"\",\"\",IF(ISERROR(VLOOKUP(B5762,database!$A$6:$BFQ$206,4,FALSE)),\"\",VLOOKUP(B5762,database!$A$6:$BFQ$206,4,FALSE)))","v":""},null,null,null,"",null,null,null,{"$f":"IF(B5762=\"\",\"\",IF(ISERROR(VLOOKUP(B5762,database!$A$6:$BFQ$206,3,FALSE)),\"\",VLOOKUP(B5762,database!$A$6:$BFQ$206,3,FALSE)))","v":""},null,null,null,null,null,null,""]
["",null,{"$f":"IF(B5763=\"\",\"\",IF(ISERROR(VLOOKUP(B5763,database!$A$6:$BFQ$206,4,FALSE)),\"\",VLOOKUP(B5763,database!$A$6:$BFQ$206,4,FALSE)))","v":""},null,null,null,"",null,null,null,{"$f":"IF(B5763=\"\",\"\",IF(ISERROR(VLOOKUP(B5763,database!$A$6:$BFQ$206,3,FALSE)),\"\",VLOOKUP(B5763,database!$A$6:$BFQ$206,3,FALSE)))","v":""},null,null,null,null,null,null,""]
["",null,{"$f":"IF(B5764=\"\",\"\",IF(ISERROR(VLOOKUP(B5764,database!$A$6:$BFQ$206,4,FALSE)),\"\",VLOOKUP(B5764,database!$A$6:$BFQ$206,4,FALSE)))","v":""},null,null,null,"",null,null,null,{"$f":"IF(B5764=\"\",\"\",IF(ISERROR(VLOOKUP(B5764,database!$A$6:$BFQ$206,3,FALSE)),\"\",VLOOKUP(B5764,database!$A$6:$BFQ$206,3,FALSE)))","v":""},null,null,null,null,null,null,""]
["",null,{"$f":"IF(B5765=\"\",\"\",IF(ISERROR(VLOOKUP(B5765,database!$A$6:$BFQ$206,4,FALSE)),\"\",VLOOKUP(B5765,database!$A$6:$BFQ$206,4,FALSE)))","v":""},null,null,null,"",null,null,null,{"$f":"IF(B5765=\"\",\"\",IF(ISERROR(VLOOKUP(B5765,database!$A$6:$BFQ$206,3,FALSE)),\"\",VLOOKUP(B5765,database!$A$6:$BFQ$206,3,FALSE)))","v":""},null,null,null,null,null,null,""]
["",null,{"$f":"IF(B5766=\"\",\"\",IF(ISERROR(VLOOKUP(B5766,database!$A$6:$BFQ$206,4,FALSE)),\"\",VLOOKUP(B5766,database!$A$6:$BFQ$206,4,FALSE)))","v":""},null,null,null,"",null,null,null,{"$f":"IF(B5766=\"\",\"\",IF(ISERROR(VLOOKUP(B5766,database!$A$6:$BFQ$206,3,FALSE)),\"\",VLOOKUP(B5766,database!$A$6:$BFQ$206,3,FALSE)))","v":""},null,null,null,null,null,null,""]
["",null,{"$f":"IF(B5767=\"\",\"\",IF(ISERROR(VLOOKUP(B5767,database!$A$6:$BFQ$206,4,FALSE)),\"\",VLOOKUP(B5767,database!$A$6:$BFQ$206,4,FALSE)))","v":""},null,null,null,"",null,null,null,{"$f":"IF(B5767=\"\",\"\",IF(ISERROR(VLOOKUP(B5767,database!$A$6:$BFQ$206,3,FALSE)),\"\",VLOOKUP(B5767,database!$A$6:$BFQ$206,3,FALSE)))","v":""},null,null,null,null,null,null,""]
["",null,{"$f":"IF(B5768=\"\",\"\",IF(ISERROR(VLOOKUP(B5768,database!$A$6:$BFQ$206,4,FALSE)),\"\",VLOOKUP(B5768,database!$A$6:$BFQ$206,4,FALSE)))","v":""},null,null,null,"",null,null,null,{"$f":"IF(B5768=\"\",\"\",IF(ISERROR(VLOOKUP(B5768,database!$A$6:$BFQ$206,3,FALSE)),\"\",VLOOKUP(B5768,database!$A$6:$BFQ$206,3,FALSE)))","v":""},null,null,null,null,null,null,""]
["",null,{"$f":"IF(B5769=\"\",\"\",IF(ISERROR(VLOOKUP(B5769,database!$A$6:$BFQ$206,4,FALSE)),\"\",VLOOKUP(B5769,database!$A$6:$BFQ$206,4,FALSE)))","v":""},null,null,null,"",null,null,null,{"$f":"IF(B5769=\"\",\"\",IF(ISERROR(VLOOKUP(B5769,database!$A$6:$BFQ$206,3,FALSE)),\"\",VLOOKUP(B5769,database!$A$6:$BFQ$206,3,FALSE)))","v":""},null,null,null,null,null,null,""]
["",null,{"$f":"IF(B5770=\"\",\"\",IF(ISERROR(VLOOKUP(B5770,database!$A$6:$BFQ$206,4,FALSE)),\"\",VLOOKUP(B5770,database!$A$6:$BFQ$206,4,FALSE)))","v":""},null,null,null,"",null,null,null,{"$f":"IF(B5770=\"\",\"\",IF(ISERROR(VLOOKUP(B5770,database!$A$6:$BFQ$206,3,FALSE)),\"\",VLOOKUP(B5770,database!$A$6:$BFQ$206,3,FALSE)))","v":""},null,null,null,null,null,null,""]
["",null,{"$f":"IF(B5771=\"\",\"\",IF(ISERROR(VLOOKUP(B5771,database!$A$6:$BFQ$206,4,FALSE)),\"\",VLOOKUP(B5771,database!$A$6:$BFQ$206,4,FALSE)))","v":""},null,null,null,"",null,null,null,{"$f":"IF(B5771=\"\",\"\",IF(ISERROR(VLOOKUP(B5771,database!$A$6:$BFQ$206,3,FALSE)),\"\",VLOOKUP(B5771,database!$A$6:$BFQ$206,3,FALSE)))","v":""},null,null,null,null,null,null,""]
["",null,{"$f":"IF(B5772=\"\",\"\",IF(ISERROR(VLOOKUP(B5772,database!$A$6:$BFQ$206,4,FALSE)),\"\",VLOOKUP(B5772,database!$A$6:$BFQ$206,4,FALSE)))","v":""},null,null,null,"",null,null,null,{"$f":"IF(B5772=\"\",\"\",IF(ISERROR(VLOOKUP(B5772,database!$A$6:$BFQ$206,3,FALSE)),\"\",VLOOKUP(B5772,database!$A$6:$BFQ$206,3,FALSE)))","v":""},null,null,null,null,null,null,""]
["",null,{"$f":"IF(B5773=\"\",\"\",IF(ISERROR(VLOOKUP(B5773,database!$A$6:$BFQ$206,4,FALSE)),\"\",VLOOKUP(B5773,database!$A$6:$BFQ$206,4,FALSE)))","v":""},null,null,null,"",null,null,null,{"$f":"IF(B5773=\"\",\"\",IF(ISERROR(VLOOKUP(B5773,database!$A$6:$BFQ$206,3,FALSE)),\"\",VLOOKUP(B5773,database!$A$6:$BFQ$206,3,FALSE)))","v":""},null,null,null,null,null,null,""]
["",null,{"$f":"IF(B5774=\"\",\"\",IF(ISERROR(VLOOKUP(B5774,database!$A$6:$BFQ$206,4,FALSE)),\"\",VLOOKUP(B5774,database!$A$6:$BFQ$206,4,FALSE)))","v":""},null,null,null,"",null,null,null,{"$f":"IF(B5774=\"\",\"\",IF(ISERROR(VLOOKUP(B5774,database!$A$6:$BFQ$206,3,FALSE)),\"\",VLOOKUP(B5774,database!$A$6:$BFQ$206,3,FALSE)))","v":""},null,null,null,null,null,null,""]
["",null,{"$f":"IF(B5775=\"\",\"\",IF(ISERROR(VLOOKUP(B5775,database!$A$6:$BFQ$206,4,FALSE)),\"\",VLOOKUP(B5775,database!$A$6:$BFQ$206,4,FALSE)))","v":""},null,null,null,"",null,null,null,{"$f":"IF(B5775=\"\",\"\",IF(ISERROR(VLOOKUP(B5775,database!$A$6:$BFQ$206,3,FALSE)),\"\",VLOOKUP(B5775,database!$A$6:$BFQ$206,3,FALSE)))","v":""},null,null,null,null,null,null,""]
["",null,{"$f":"IF(B5776=\"\",\"\",IF(ISERROR(VLOOKUP(B5776,database!$A$6:$BFQ$206,4,FALSE)),\"\",VLOOKUP(B5776,database!$A$6:$BFQ$206,4,FALSE)))","v":""},null,null,null,"",null,null,null,{"$f":"IF(B5776=\"\",\"\",IF(ISERROR(VLOOKUP(B5776,database!$A$6:$BFQ$206,3,FALSE)),\"\",VLOOKUP(B5776,database!$A$6:$BFQ$206,3,FALSE)))","v":""},null,null,null,null,null,null,""]
["",null,{"$f":"IF(B5777=\"\",\"\",IF(ISERROR(VLOOKUP(B5777,database!$A$6:$BFQ$206,4,FALSE)),\"\",VLOOKUP(B5777,database!$A$6:$BFQ$206,4,FALSE)))","v":""},null,null,null,"",null,null,null,{"$f":"IF(B5777=\"\",\"\",IF(ISERROR(VLOOKUP(B5777,database!$A$6:$BFQ$206,3,FALSE)),\"\",VLOOKUP(B5777,database!$A$6:$BFQ$206,3,FALSE)))","v":""},null,null,null,null,null,null,""]
["",null,{"$f":"IF(B5778=\"\",\"\",IF(ISERROR(VLOOKUP(B5778,database!$A$6:$BFQ$206,4,FALSE)),\"\",VLOOKUP(B5778,database!$A$6:$BFQ$206,4,FALSE)))","v":""},null,null,null,"",null,null,null,{"$f":"IF(B5778=\"\",\"\",IF(ISERROR(VLOOKUP(B5778,database!$A$6:$BFQ$206,3,FALSE)),\"\",VLOOKUP(B5778,database!$A$6:$BFQ$206,3,FALSE)))","v":""},null,null,null,null,null,null,""]
["",null,{"$f":"IF(B5779=\"\",\"\",IF(ISERROR(VLOOKUP(B5779,database!$A$6:$BFQ$206,4,FALSE)),\"\",VLOOKUP(B5779,database!$A$6:$BFQ$206,4,FALSE)))","v":""},null,null,null,"",null,null,null,{"$f":"IF(B5779=\"\",\"\",IF(ISERROR(VLOOKUP(B5779,database!$A$6:$BFQ$206,3,FALSE)),\"\",VLOOKUP(B5779,database!$A$6:$BFQ$206,3,FALSE)))","v":""},null,null,null,null,null,null,""]
["",null,{"$f":"IF(B5780=\"\",\"\",IF(ISERROR(VLOOKUP(B5780,database!$A$6:$BFQ$206,4,FALSE)),\"\",VLOOKUP(B5780,database!$A$6:$BFQ$206,4,FALSE)))","v":""},null,null,null,"",null,null,null,{"$f":"IF(B5780=\"\",\"\",IF(ISERROR(VLOOKUP(B5780,database!$A$6:$BFQ$206,3,FALSE)),\"\",VLOOKUP(B5780,database!$A$6:$BFQ$206,3,FALSE)))","v":""},null,null,null,null,null,null,""]
["",null,{"$f":"IF(B5781=\"\",\"\",IF(ISERROR(VLOOKUP(B5781,database!$A$6:$BFQ$206,4,FALSE)),\"\",VLOOKUP(B5781,database!$A$6:$BFQ$206,4,FALSE)))","v":""},null,null,null,"",null,null,null,{"$f":"IF(B5781=\"\",\"\",IF(ISERROR(VLOOKUP(B5781,database!$A$6:$BFQ$206,3,FALSE)),\"\",VLOOKUP(B5781,database!$A$6:$BFQ$206,3,FALSE)))","v":""},null,null,null,null,null,null,""]
["",null,{"$f":"IF(B5782=\"\",\"\",IF(ISERROR(VLOOKUP(B5782,database!$A$6:$BFQ$206,4,FALSE)),\"\",VLOOKUP(B5782,database!$A$6:$BFQ$206,4,FALSE)))","v":""},null,null,null,"",null,null,null,{"$f":"IF(B5782=\"\",\"\",IF(ISERROR(VLOOKUP(B5782,database!$A$6:$BFQ$206,3,FALSE)),\"\",VLOOKUP(B5782,database!$A$6:$BFQ$206,3,FALSE)))","v":""},null,null,null,null,null,null,""]
["",null,{"$f":"IF(B5783=\"\",\"\",IF(ISERROR(VLOOKUP(B5783,database!$A$6:$BFQ$206,4,FALSE)),\"\",VLOOKUP(B5783,database!$A$6:$BFQ$206,4,FALSE)))","v":""},null,null,null,"",null,null,null,{"$f":"IF(B5783=\"\",\"\",IF(ISERROR(VLOOKUP(B5783,database!$A$6:$BFQ$206,3,FALSE)),\"\",VLOOKUP(B5783,database!$A$6:$BFQ$206,3,FALSE)))","v":""},null,null,null,null,null,null,""]
["",null,{"$f":"IF(B5784=\"\",\"\",IF(ISERROR(VLOOKUP(B5784,database!$A$6:$BFQ$206,4,FALSE)),\"\",VLOOKUP(B5784,database!$A$6:$BFQ$206,4,FALSE)))","v":""},null,null,null,"",null,null,null,{"$f":"IF(B5784=\"\",\"\",IF(ISERROR(VLOOKUP(B5784,database!$A$6:$BFQ$206,3,FALSE)),\"\",VLOOKUP(B5784,database!$A$6:$BFQ$206,3,FALSE)))","v":""},null,null,null,null,null,null,""]
["",null,{"$f":"IF(B5785=\"\",\"\",IF(ISERROR(VLOOKUP(B5785,database!$A$6:$BFQ$206,4,FALSE)),\"\",VLOOKUP(B5785,database!$A$6:$BFQ$206,4,FALSE)))","v":""},null,null,null,"",null,null,null,{"$f":"IF(B5785=\"\",\"\",IF(ISERROR(VLOOKUP(B5785,database!$A$6:$BFQ$206,3,FALSE)),\"\",VLOOKUP(B5785,database!$A$6:$BFQ$206,3,FALSE)))","v":""},null,null,null,null,null,null,""]
["",null,{"$f":"IF(B5786=\"\",\"\",IF(ISERROR(VLOOKUP(B5786,database!$A$6:$BFQ$206,4,FALSE)),\"\",VLOOKUP(B5786,database!$A$6:$BFQ$206,4,FALSE)))","v":""},null,null,null,"",null,null,null,{"$f":"IF(B5786=\"\",\"\",IF(ISERROR(VLOOKUP(B5786,database!$A$6:$BFQ$206,3,FALSE)),\"\",VLOOKUP(B5786,database!$A$6:$BFQ$206,3,FALSE)))","v":""},null,null,null,null,null,null,""]
["",null,{"$f":"IF(B5787=\"\",\"\",IF(ISERROR(VLOOKUP(B5787,database!$A$6:$BFQ$206,4,FALSE)),\"\",VLOOKUP(B5787,database!$A$6:$BFQ$206,4,FALSE)))","v":""},null,null,null,"",null,null,null,{"$f":"IF(B5787=\"\",\"\",IF(ISERROR(VLOOKUP(B5787,database!$A$6:$BFQ$206,3,FALSE)),\"\",VLOOKUP(B5787,database!$A$6:$BFQ$206,3,FALSE)))","v":""},null,null,null,null,null,null,""]
["",null,{"$f":"IF(B5788=\"\",\"\",IF(ISERROR(VLOOKUP(B5788,database!$A$6:$BFQ$206,4,FALSE)),\"\",VLOOKUP(B5788,database!$A$6:$BFQ$206,4,FALSE)))","v":""},null,null,null,"",null,null,null,{"$f":"IF(B5788=\"\",\"\",IF(ISERROR(VLOOKUP(B5788,database!$A$6:$BFQ$206,3,FALSE)),\"\",VLOOKUP(B5788,database!$A$6:$BFQ$206,3,FALSE)))","v":""},null,null,null,null,null,null,""]
["",null,{"$f":"IF(B5789=\"\",\"\",IF(ISERROR(VLOOKUP(B5789,database!$A$6:$BFQ$206,4,FALSE)),\"\",VLOOKUP(B5789,database!$A$6:$BFQ$206,4,FALSE)))","v":""},null,null,null,"",null,null,null,{"$f":"IF(B5789=\"\",\"\",IF(ISERROR(VLOOKUP(B5789,database!$A$6:$BFQ$206,3,FALSE)),\"\",VLOOKUP(B5789,database!$A$6:$BFQ$206,3,FALSE)))","v":""},null,null,null,null,null,null,""]
["",null,{"$f":"IF(B5790=\"\",\"\",IF(ISERROR(VLOOKUP(B5790,database!$A$6:$BFQ$206,4,FALSE)),\"\",VLOOKUP(B5790,database!$A$6:$BFQ$206,4,FALSE)))","v":""},null,null,null,"",null,null,null,{"$f":"IF(B5790=\"\",\"\",IF(ISERROR(VLOOKUP(B5790,database!$A$6:$BFQ$206,3,FALSE)),\"\",VLOOKUP(B5790,database!$A$6:$BFQ$206,3,FALSE)))","v":""},null,null,null,null,null,null,""]
["",null,{"$f":"IF(B5791=\"\",\"\",IF(ISERROR(VLOOKUP(B5791,database!$A$6:$BFQ$206,4,FALSE)),\"\",VLOOKUP(B5791,database!$A$6:$BFQ$206,4,FALSE)))","v":""},null,null,null,"",null,null,null,{"$f":"IF(B5791=\"\",\"\",IF(ISERROR(VLOOKUP(B5791,database!$A$6:$BFQ$206,3,FALSE)),\"\",VLOOKUP(B5791,database!$A$6:$BFQ$206,3,FALSE)))","v":""},null,null,null,null,null,null,""]
["",null,{"$f":"IF(B5792=\"\",\"\",IF(ISERROR(VLOOKUP(B5792,database!$A$6:$BFQ$206,4,FALSE)),\"\",VLOOKUP(B5792,database!$A$6:$BFQ$206,4,FALSE)))","v":""},null,null,null,"",null,null,null,{"$f":"IF(B5792=\"\",\"\",IF(ISERROR(VLOOKUP(B5792,database!$A$6:$BFQ$206,3,FALSE)),\"\",VLOOKUP(B5792,database!$A$6:$BFQ$206,3,FALSE)))","v":""},null,null,null,null,null,null,""]
["",null,{"$f":"IF(B5793=\"\",\"\",IF(ISERROR(VLOOKUP(B5793,database!$A$6:$BFQ$206,4,FALSE)),\"\",VLOOKUP(B5793,database!$A$6:$BFQ$206,4,FALSE)))","v":""},null,null,null,"",null,null,null,{"$f":"IF(B5793=\"\",\"\",IF(ISERROR(VLOOKUP(B5793,database!$A$6:$BFQ$206,3,FALSE)),\"\",VLOOKUP(B5793,database!$A$6:$BFQ$206,3,FALSE)))","v":""},null,null,null,null,null,null,""]
["",null,{"$f":"IF(B5794=\"\",\"\",IF(ISERROR(VLOOKUP(B5794,database!$A$6:$BFQ$206,4,FALSE)),\"\",VLOOKUP(B5794,database!$A$6:$BFQ$206,4,FALSE)))","v":""},null,null,null,"",null,null,null,{"$f":"IF(B5794=\"\",\"\",IF(ISERROR(VLOOKUP(B5794,database!$A$6:$BFQ$206,3,FALSE)),\"\",VLOOKUP(B5794,database!$A$6:$BFQ$206,3,FALSE)))","v":""},null,null,null,null,null,null,""]
["",null,{"$f":"IF(B5795=\"\",\"\",IF(ISERROR(VLOOKUP(B5795,database!$A$6:$BFQ$206,4,FALSE)),\"\",VLOOKUP(B5795,database!$A$6:$BFQ$206,4,FALSE)))","v":""},null,null,null,"",null,null,null,{"$f":"IF(B5795=\"\",\"\",IF(ISERROR(VLOOKUP(B5795,database!$A$6:$BFQ$206,3,FALSE)),\"\",VLOOKUP(B5795,database!$A$6:$BFQ$206,3,FALSE)))","v":""},null,null,null,null,null,null,""]
["",null,{"$f":"IF(B5796=\"\",\"\",IF(ISERROR(VLOOKUP(B5796,database!$A$6:$BFQ$206,4,FALSE)),\"\",VLOOKUP(B5796,database!$A$6:$BFQ$206,4,FALSE)))","v":""},null,null,null,"",null,null,null,{"$f":"IF(B5796=\"\",\"\",IF(ISERROR(VLOOKUP(B5796,database!$A$6:$BFQ$206,3,FALSE)),\"\",VLOOKUP(B5796,database!$A$6:$BFQ$206,3,FALSE)))","v":""},null,null,null,null,null,null,""]
["",null,{"$f":"IF(B5797=\"\",\"\",IF(ISERROR(VLOOKUP(B5797,database!$A$6:$BFQ$206,4,FALSE)),\"\",VLOOKUP(B5797,database!$A$6:$BFQ$206,4,FALSE)))","v":""},null,null,null,"",null,null,null,{"$f":"IF(B5797=\"\",\"\",IF(ISERROR(VLOOKUP(B5797,database!$A$6:$BFQ$206,3,FALSE)),\"\",VLOOKUP(B5797,database!$A$6:$BFQ$206,3,FALSE)))","v":""},null,null,null,null,null,null,""]
["",null,{"$f":"IF(B5798=\"\",\"\",IF(ISERROR(VLOOKUP(B5798,database!$A$6:$BFQ$206,4,FALSE)),\"\",VLOOKUP(B5798,database!$A$6:$BFQ$206,4,FALSE)))","v":""},null,null,null,"",null,null,null,{"$f":"IF(B5798=\"\",\"\",IF(ISERROR(VLOOKUP(B5798,database!$A$6:$BFQ$206,3,FALSE)),\"\",VLOOKUP(B5798,database!$A$6:$BFQ$206,3,FALSE)))","v":""},null,null,null,null,null,null,""]
["",null,{"$f":"IF(B5799=\"\",\"\",IF(ISERROR(VLOOKUP(B5799,database!$A$6:$BFQ$206,4,FALSE)),\"\",VLOOKUP(B5799,database!$A$6:$BFQ$206,4,FALSE)))","v":""},null,null,null,"",null,null,null,{"$f":"IF(B5799=\"\",\"\",IF(ISERROR(VLOOKUP(B5799,database!$A$6:$BFQ$206,3,FALSE)),\"\",VLOOKUP(B5799,database!$A$6:$BFQ$206,3,FALSE)))","v":""},null,null,null,null,null,null,""]
["",null,{"$f":"IF(B5800=\"\",\"\",IF(ISERROR(VLOOKUP(B5800,database!$A$6:$BFQ$206,4,FALSE)),\"\",VLOOKUP(B5800,database!$A$6:$BFQ$206,4,FALSE)))","v":""},null,null,null,"",null,null,null,{"$f":"IF(B5800=\"\",\"\",IF(ISERROR(VLOOKUP(B5800,database!$A$6:$BFQ$206,3,FALSE)),\"\",VLOOKUP(B5800,database!$A$6:$BFQ$206,3,FALSE)))","v":""},null,null,null,null,null,null,""]
["",null,{"$f":"IF(B5801=\"\",\"\",IF(ISERROR(VLOOKUP(B5801,database!$A$6:$BFQ$206,4,FALSE)),\"\",VLOOKUP(B5801,database!$A$6:$BFQ$206,4,FALSE)))","v":""},null,null,null,"",null,null,null,{"$f":"IF(B5801=\"\",\"\",IF(ISERROR(VLOOKUP(B5801,database!$A$6:$BFQ$206,3,FALSE)),\"\",VLOOKUP(B5801,database!$A$6:$BFQ$206,3,FALSE)))","v":""},null,null,null,null,null,null,""]
["",null,{"$f":"IF(B5802=\"\",\"\",IF(ISERROR(VLOOKUP(B5802,database!$A$6:$BFQ$206,4,FALSE)),\"\",VLOOKUP(B5802,database!$A$6:$BFQ$206,4,FALSE)))","v":""},null,null,null,"",null,null,null,{"$f":"IF(B5802=\"\",\"\",IF(ISERROR(VLOOKUP(B5802,database!$A$6:$BFQ$206,3,FALSE)),\"\",VLOOKUP(B5802,database!$A$6:$BFQ$206,3,FALSE)))","v":""},null,null,null,null,null,null,""]
["",null,{"$f":"IF(B5803=\"\",\"\",IF(ISERROR(VLOOKUP(B5803,database!$A$6:$BFQ$206,4,FALSE)),\"\",VLOOKUP(B5803,database!$A$6:$BFQ$206,4,FALSE)))","v":""},null,null,null,"",null,null,null,{"$f":"IF(B5803=\"\",\"\",IF(ISERROR(VLOOKUP(B5803,database!$A$6:$BFQ$206,3,FALSE)),\"\",VLOOKUP(B5803,database!$A$6:$BFQ$206,3,FALSE)))","v":""},null,null,null,null,null,null,""]
["",null,{"$f":"IF(B5804=\"\",\"\",IF(ISERROR(VLOOKUP(B5804,database!$A$6:$BFQ$206,4,FALSE)),\"\",VLOOKUP(B5804,database!$A$6:$BFQ$206,4,FALSE)))","v":""},null,null,null,"",null,null,null,{"$f":"IF(B5804=\"\",\"\",IF(ISERROR(VLOOKUP(B5804,database!$A$6:$BFQ$206,3,FALSE)),\"\",VLOOKUP(B5804,database!$A$6:$BFQ$206,3,FALSE)))","v":""},null,null,null,null,null,null,""]
["",null,{"$f":"IF(B5805=\"\",\"\",IF(ISERROR(VLOOKUP(B5805,database!$A$6:$BFQ$206,4,FALSE)),\"\",VLOOKUP(B5805,database!$A$6:$BFQ$206,4,FALSE)))","v":""},null,null,null,"",null,null,null,{"$f":"IF(B5805=\"\",\"\",IF(ISERROR(VLOOKUP(B5805,database!$A$6:$BFQ$206,3,FALSE)),\"\",VLOOKUP(B5805,database!$A$6:$BFQ$206,3,FALSE)))","v":""},null,null,null,null,null,null,""]
["",null,{"$f":"IF(B5806=\"\",\"\",IF(ISERROR(VLOOKUP(B5806,database!$A$6:$BFQ$206,4,FALSE)),\"\",VLOOKUP(B5806,database!$A$6:$BFQ$206,4,FALSE)))","v":""},null,null,null,"",null,null,null,{"$f":"IF(B5806=\"\",\"\",IF(ISERROR(VLOOKUP(B5806,database!$A$6:$BFQ$206,3,FALSE)),\"\",VLOOKUP(B5806,database!$A$6:$BFQ$206,3,FALSE)))","v":""},null,null,null,null,null,null,""]
["",null,{"$f":"IF(B5807=\"\",\"\",IF(ISERROR(VLOOKUP(B5807,database!$A$6:$BFQ$206,4,FALSE)),\"\",VLOOKUP(B5807,database!$A$6:$BFQ$206,4,FALSE)))","v":""},null,null,null,"",null,null,null,{"$f":"IF(B5807=\"\",\"\",IF(ISERROR(VLOOKUP(B5807,database!$A$6:$BFQ$206,3,FALSE)),\"\",VLOOKUP(B5807,database!$A$6:$BFQ$206,3,FALSE)))","v":""},null,null,null,null,null,null,""]
["",null,{"$f":"IF(B5808=\"\",\"\",IF(ISERROR(VLOOKUP(B5808,database!$A$6:$BFQ$206,4,FALSE)),\"\",VLOOKUP(B5808,database!$A$6:$BFQ$206,4,FALSE)))","v":""},null,null,null,"",null,null,null,{"$f":"IF(B5808=\"\",\"\",IF(ISERROR(VLOOKUP(B5808,database!$A$6:$BFQ$206,3,FALSE)),\"\",VLOOKUP(B5808,database!$A$6:$BFQ$206,3,FALSE)))","v":""},null,null,null,null,null,null,""]
["",null,{"$f":"IF(B5809=\"\",\"\",IF(ISERROR(VLOOKUP(B5809,database!$A$6:$BFQ$206,4,FALSE)),\"\",VLOOKUP(B5809,database!$A$6:$BFQ$206,4,FALSE)))","v":""},null,null,null,"",null,null,null,{"$f":"IF(B5809=\"\",\"\",IF(ISERROR(VLOOKUP(B5809,database!$A$6:$BFQ$206,3,FALSE)),\"\",VLOOKUP(B5809,database!$A$6:$BFQ$206,3,FALSE)))","v":""},null,null,null,null,null,null,""]
["",null,{"$f":"IF(B5810=\"\",\"\",IF(ISERROR(VLOOKUP(B5810,database!$A$6:$BFQ$206,4,FALSE)),\"\",VLOOKUP(B5810,database!$A$6:$BFQ$206,4,FALSE)))","v":""},null,null,null,"",null,null,null,{"$f":"IF(B5810=\"\",\"\",IF(ISERROR(VLOOKUP(B5810,database!$A$6:$BFQ$206,3,FALSE)),\"\",VLOOKUP(B5810,database!$A$6:$BFQ$206,3,FALSE)))","v":""},null,null,null,null,null,null,""]
["",null,{"$f":"IF(B5811=\"\",\"\",IF(ISERROR(VLOOKUP(B5811,database!$A$6:$BFQ$206,4,FALSE)),\"\",VLOOKUP(B5811,database!$A$6:$BFQ$206,4,FALSE)))","v":""},null,null,null,"",null,null,null,{"$f":"IF(B5811=\"\",\"\",IF(ISERROR(VLOOKUP(B5811,database!$A$6:$BFQ$206,3,FALSE)),\"\",VLOOKUP(B5811,database!$A$6:$BFQ$206,3,FALSE)))","v":""},null,null,null,null,null,null,""]
["",null,{"$f":"IF(B5812=\"\",\"\",IF(ISERROR(VLOOKUP(B5812,database!$A$6:$BFQ$206,4,FALSE)),\"\",VLOOKUP(B5812,database!$A$6:$BFQ$206,4,FALSE)))","v":""},null,null,null,"",null,null,null,{"$f":"IF(B5812=\"\",\"\",IF(ISERROR(VLOOKUP(B5812,database!$A$6:$BFQ$206,3,FALSE)),\"\",VLOOKUP(B5812,database!$A$6:$BFQ$206,3,FALSE)))","v":""},null,null,null,null,null,null,""]
["",null,{"$f":"IF(B5813=\"\",\"\",IF(ISERROR(VLOOKUP(B5813,database!$A$6:$BFQ$206,4,FALSE)),\"\",VLOOKUP(B5813,database!$A$6:$BFQ$206,4,FALSE)))","v":""},null,null,null,"",null,null,null,{"$f":"IF(B5813=\"\",\"\",IF(ISERROR(VLOOKUP(B5813,database!$A$6:$BFQ$206,3,FALSE)),\"\",VLOOKUP(B5813,database!$A$6:$BFQ$206,3,FALSE)))","v":""},null,null,null,null,null,null,""]
["",null,{"$f":"IF(B5814=\"\",\"\",IF(ISERROR(VLOOKUP(B5814,database!$A$6:$BFQ$206,4,FALSE)),\"\",VLOOKUP(B5814,database!$A$6:$BFQ$206,4,FALSE)))","v":""},null,null,null,"",null,null,null,{"$f":"IF(B5814=\"\",\"\",IF(ISERROR(VLOOKUP(B5814,database!$A$6:$BFQ$206,3,FALSE)),\"\",VLOOKUP(B5814,database!$A$6:$BFQ$206,3,FALSE)))","v":""},null,null,null,null,null,null,""]
["",null,{"$f":"IF(B5815=\"\",\"\",IF(ISERROR(VLOOKUP(B5815,database!$A$6:$BFQ$206,4,FALSE)),\"\",VLOOKUP(B5815,database!$A$6:$BFQ$206,4,FALSE)))","v":""},null,null,null,"",null,null,null,{"$f":"IF(B5815=\"\",\"\",IF(ISERROR(VLOOKUP(B5815,database!$A$6:$BFQ$206,3,FALSE)),\"\",VLOOKUP(B5815,database!$A$6:$BFQ$206,3,FALSE)))","v":""},null,null,null,null,null,null,""]
["",null,{"$f":"IF(B5816=\"\",\"\",IF(ISERROR(VLOOKUP(B5816,database!$A$6:$BFQ$206,4,FALSE)),\"\",VLOOKUP(B5816,database!$A$6:$BFQ$206,4,FALSE)))","v":""},null,null,null,"",null,null,null,{"$f":"IF(B5816=\"\",\"\",IF(ISERROR(VLOOKUP(B5816,database!$A$6:$BFQ$206,3,FALSE)),\"\",VLOOKUP(B5816,database!$A$6:$BFQ$206,3,FALSE)))","v":""},null,null,null,null,null,null,""]
["",null,{"$f":"IF(B5817=\"\",\"\",IF(ISERROR(VLOOKUP(B5817,database!$A$6:$BFQ$206,4,FALSE)),\"\",VLOOKUP(B5817,database!$A$6:$BFQ$206,4,FALSE)))","v":""},null,null,null,"",null,null,null,{"$f":"IF(B5817=\"\",\"\",IF(ISERROR(VLOOKUP(B5817,database!$A$6:$BFQ$206,3,FALSE)),\"\",VLOOKUP(B5817,database!$A$6:$BFQ$206,3,FALSE)))","v":""},null,null,null,null,null,null,""]
["",null,{"$f":"IF(B5818=\"\",\"\",IF(ISERROR(VLOOKUP(B5818,database!$A$6:$BFQ$206,4,FALSE)),\"\",VLOOKUP(B5818,database!$A$6:$BFQ$206,4,FALSE)))","v":""},null,null,null,"",null,null,null,{"$f":"IF(B5818=\"\",\"\",IF(ISERROR(VLOOKUP(B5818,database!$A$6:$BFQ$206,3,FALSE)),\"\",VLOOKUP(B5818,database!$A$6:$BFQ$206,3,FALSE)))","v":""},null,null,null,null,null,null,""]
["",null,{"$f":"IF(B5819=\"\",\"\",IF(ISERROR(VLOOKUP(B5819,database!$A$6:$BFQ$206,4,FALSE)),\"\",VLOOKUP(B5819,database!$A$6:$BFQ$206,4,FALSE)))","v":""},null,null,null,"",null,null,null,{"$f":"IF(B5819=\"\",\"\",IF(ISERROR(VLOOKUP(B5819,database!$A$6:$BFQ$206,3,FALSE)),\"\",VLOOKUP(B5819,database!$A$6:$BFQ$206,3,FALSE)))","v":""},null,null,null,null,null,null,""]
["",null,{"$f":"IF(B5820=\"\",\"\",IF(ISERROR(VLOOKUP(B5820,database!$A$6:$BFQ$206,4,FALSE)),\"\",VLOOKUP(B5820,database!$A$6:$BFQ$206,4,FALSE)))","v":""},null,null,null,"",null,null,null,{"$f":"IF(B5820=\"\",\"\",IF(ISERROR(VLOOKUP(B5820,database!$A$6:$BFQ$206,3,FALSE)),\"\",VLOOKUP(B5820,database!$A$6:$BFQ$206,3,FALSE)))","v":""},null,null,null,null,null,null,""]
["",null,{"$f":"IF(B5821=\"\",\"\",IF(ISERROR(VLOOKUP(B5821,database!$A$6:$BFQ$206,4,FALSE)),\"\",VLOOKUP(B5821,database!$A$6:$BFQ$206,4,FALSE)))","v":""},null,null,null,"",null,null,null,{"$f":"IF(B5821=\"\",\"\",IF(ISERROR(VLOOKUP(B5821,database!$A$6:$BFQ$206,3,FALSE)),\"\",VLOOKUP(B5821,database!$A$6:$BFQ$206,3,FALSE)))","v":""},null,null,null,null,null,null,""]
["",null,{"$f":"IF(B5822=\"\",\"\",IF(ISERROR(VLOOKUP(B5822,database!$A$6:$BFQ$206,4,FALSE)),\"\",VLOOKUP(B5822,database!$A$6:$BFQ$206,4,FALSE)))","v":""},null,null,null,"",null,null,null,{"$f":"IF(B5822=\"\",\"\",IF(ISERROR(VLOOKUP(B5822,database!$A$6:$BFQ$206,3,FALSE)),\"\",VLOOKUP(B5822,database!$A$6:$BFQ$206,3,FALSE)))","v":""},null,null,null,null,null,null,""]
["",null,{"$f":"IF(B5823=\"\",\"\",IF(ISERROR(VLOOKUP(B5823,database!$A$6:$BFQ$206,4,FALSE)),\"\",VLOOKUP(B5823,database!$A$6:$BFQ$206,4,FALSE)))","v":""},null,null,null,"",null,null,null,{"$f":"IF(B5823=\"\",\"\",IF(ISERROR(VLOOKUP(B5823,database!$A$6:$BFQ$206,3,FALSE)),\"\",VLOOKUP(B5823,database!$A$6:$BFQ$206,3,FALSE)))","v":""},null,null,null,null,null,null,""]
["",null,{"$f":"IF(B5824=\"\",\"\",IF(ISERROR(VLOOKUP(B5824,database!$A$6:$BFQ$206,4,FALSE)),\"\",VLOOKUP(B5824,database!$A$6:$BFQ$206,4,FALSE)))","v":""},null,null,null,"",null,null,null,{"$f":"IF(B5824=\"\",\"\",IF(ISERROR(VLOOKUP(B5824,database!$A$6:$BFQ$206,3,FALSE)),\"\",VLOOKUP(B5824,database!$A$6:$BFQ$206,3,FALSE)))","v":""},null,null,null,null,null,null,""]
[{"$f":"IF(B5825=\"\",\"\",ROW(A5822))","v":""},null,{"$f":"IF(B5825=\"\",\"\",IF(ISERROR(VLOOKUP(B5825,database!$A$6:$BFQ$206,4,FALSE)),\"\",VLOOKUP(B5825,database!$A$6:$BFQ$206,4,FALSE)))","v":""},null,null,null,{"$f":"IF(B5825=\"\",\"\",IF(C5825=\"\",0,1))","v":""},null,null,null,{"$f":"IF(B5825=\"\",\"\",IF(ISERROR(VLOOKUP(B5825,database!$A$6:$BFQ$206,3,FALSE)),\"\",VLOOKUP(B5825,database!$A$6:$BFQ$206,3,FALSE)))","v":""},null,null,null,null,null,null,{"$f":"LEFT(C5825,2)","v":""}]
["",null,{"$f":"IF(B5826=\"\",\"\",IF(ISERROR(VLOOKUP(B5826,database!$A$6:$BFQ$206,4,FALSE)),\"\",VLOOKUP(B5826,database!$A$6:$BFQ$206,4,FALSE)))","v":""},null,null,null,"",null,null,null,{"$f":"IF(B5826=\"\",\"\",IF(ISERROR(VLOOKUP(B5826,database!$A$6:$BFQ$206,3,FALSE)),\"\",VLOOKUP(B5826,database!$A$6:$BFQ$206,3,FALSE)))","v":""},null,null,null,null,null,null,""]
["",null,{"$f":"IF(B5827=\"\",\"\",IF(ISERROR(VLOOKUP(B5827,database!$A$6:$BFQ$206,4,FALSE)),\"\",VLOOKUP(B5827,database!$A$6:$BFQ$206,4,FALSE)))","v":""},null,null,null,"",null,null,null,{"$f":"IF(B5827=\"\",\"\",IF(ISERROR(VLOOKUP(B5827,database!$A$6:$BFQ$206,3,FALSE)),\"\",VLOOKUP(B5827,database!$A$6:$BFQ$206,3,FALSE)))","v":""},null,null,null,null,null,null,""]
["",null,{"$f":"IF(B5828=\"\",\"\",IF(ISERROR(VLOOKUP(B5828,database!$A$6:$BFQ$206,4,FALSE)),\"\",VLOOKUP(B5828,database!$A$6:$BFQ$206,4,FALSE)))","v":""},null,null,null,"",null,null,null,{"$f":"IF(B5828=\"\",\"\",IF(ISERROR(VLOOKUP(B5828,database!$A$6:$BFQ$206,3,FALSE)),\"\",VLOOKUP(B5828,database!$A$6:$BFQ$206,3,FALSE)))","v":""},null,null,null,null,null,null,""]
["",null,{"$f":"IF(B5829=\"\",\"\",IF(ISERROR(VLOOKUP(B5829,database!$A$6:$BFQ$206,4,FALSE)),\"\",VLOOKUP(B5829,database!$A$6:$BFQ$206,4,FALSE)))","v":""},null,null,null,"",null,null,null,{"$f":"IF(B5829=\"\",\"\",IF(ISERROR(VLOOKUP(B5829,database!$A$6:$BFQ$206,3,FALSE)),\"\",VLOOKUP(B5829,database!$A$6:$BFQ$206,3,FALSE)))","v":""},null,null,null,null,null,null,""]
["",null,{"$f":"IF(B5830=\"\",\"\",IF(ISERROR(VLOOKUP(B5830,database!$A$6:$BFQ$206,4,FALSE)),\"\",VLOOKUP(B5830,database!$A$6:$BFQ$206,4,FALSE)))","v":""},null,null,null,"",null,null,null,{"$f":"IF(B5830=\"\",\"\",IF(ISERROR(VLOOKUP(B5830,database!$A$6:$BFQ$206,3,FALSE)),\"\",VLOOKUP(B5830,database!$A$6:$BFQ$206,3,FALSE)))","v":""},null,null,null,null,null,null,""]
["",null,{"$f":"IF(B5831=\"\",\"\",IF(ISERROR(VLOOKUP(B5831,database!$A$6:$BFQ$206,4,FALSE)),\"\",VLOOKUP(B5831,database!$A$6:$BFQ$206,4,FALSE)))","v":""},null,null,null,"",null,null,null,{"$f":"IF(B5831=\"\",\"\",IF(ISERROR(VLOOKUP(B5831,database!$A$6:$BFQ$206,3,FALSE)),\"\",VLOOKUP(B5831,database!$A$6:$BFQ$206,3,FALSE)))","v":""},null,null,null,null,null,null,""]
["",null,{"$f":"IF(B5832=\"\",\"\",IF(ISERROR(VLOOKUP(B5832,database!$A$6:$BFQ$206,4,FALSE)),\"\",VLOOKUP(B5832,database!$A$6:$BFQ$206,4,FALSE)))","v":""},null,null,null,"",null,null,null,{"$f":"IF(B5832=\"\",\"\",IF(ISERROR(VLOOKUP(B5832,database!$A$6:$BFQ$206,3,FALSE)),\"\",VLOOKUP(B5832,database!$A$6:$BFQ$206,3,FALSE)))","v":""},null,null,null,null,null,null,""]
["",null,{"$f":"IF(B5833=\"\",\"\",IF(ISERROR(VLOOKUP(B5833,database!$A$6:$BFQ$206,4,FALSE)),\"\",VLOOKUP(B5833,database!$A$6:$BFQ$206,4,FALSE)))","v":""},null,null,null,"",null,null,null,{"$f":"IF(B5833=\"\",\"\",IF(ISERROR(VLOOKUP(B5833,database!$A$6:$BFQ$206,3,FALSE)),\"\",VLOOKUP(B5833,database!$A$6:$BFQ$206,3,FALSE)))","v":""},null,null,null,null,null,null,""]
["",null,{"$f":"IF(B5834=\"\",\"\",IF(ISERROR(VLOOKUP(B5834,database!$A$6:$BFQ$206,4,FALSE)),\"\",VLOOKUP(B5834,database!$A$6:$BFQ$206,4,FALSE)))","v":""},null,null,null,"",null,null,null,{"$f":"IF(B5834=\"\",\"\",IF(ISERROR(VLOOKUP(B5834,database!$A$6:$BFQ$206,3,FALSE)),\"\",VLOOKUP(B5834,database!$A$6:$BFQ$206,3,FALSE)))","v":""},null,null,null,null,null,null,""]
["",null,{"$f":"IF(B5835=\"\",\"\",IF(ISERROR(VLOOKUP(B5835,database!$A$6:$BFQ$206,4,FALSE)),\"\",VLOOKUP(B5835,database!$A$6:$BFQ$206,4,FALSE)))","v":""},null,null,null,"",null,null,null,{"$f":"IF(B5835=\"\",\"\",IF(ISERROR(VLOOKUP(B5835,database!$A$6:$BFQ$206,3,FALSE)),\"\",VLOOKUP(B5835,database!$A$6:$BFQ$206,3,FALSE)))","v":""},null,null,null,null,null,null,""]
["",null,{"$f":"IF(B5836=\"\",\"\",IF(ISERROR(VLOOKUP(B5836,database!$A$6:$BFQ$206,4,FALSE)),\"\",VLOOKUP(B5836,database!$A$6:$BFQ$206,4,FALSE)))","v":""},null,null,null,"",null,null,null,{"$f":"IF(B5836=\"\",\"\",IF(ISERROR(VLOOKUP(B5836,database!$A$6:$BFQ$206,3,FALSE)),\"\",VLOOKUP(B5836,database!$A$6:$BFQ$206,3,FALSE)))","v":""},null,null,null,null,null,null,""]
["",null,{"$f":"IF(B5837=\"\",\"\",IF(ISERROR(VLOOKUP(B5837,database!$A$6:$BFQ$206,4,FALSE)),\"\",VLOOKUP(B5837,database!$A$6:$BFQ$206,4,FALSE)))","v":""},null,null,null,"",null,null,null,{"$f":"IF(B5837=\"\",\"\",IF(ISERROR(VLOOKUP(B5837,database!$A$6:$BFQ$206,3,FALSE)),\"\",VLOOKUP(B5837,database!$A$6:$BFQ$206,3,FALSE)))","v":""},null,null,null,null,null,null,""]
["",null,{"$f":"IF(B5838=\"\",\"\",IF(ISERROR(VLOOKUP(B5838,database!$A$6:$BFQ$206,4,FALSE)),\"\",VLOOKUP(B5838,database!$A$6:$BFQ$206,4,FALSE)))","v":""},null,null,null,"",null,null,null,{"$f":"IF(B5838=\"\",\"\",IF(ISERROR(VLOOKUP(B5838,database!$A$6:$BFQ$206,3,FALSE)),\"\",VLOOKUP(B5838,database!$A$6:$BFQ$206,3,FALSE)))","v":""},null,null,null,null,null,null,""]
["",null,{"$f":"IF(B5839=\"\",\"\",IF(ISERROR(VLOOKUP(B5839,database!$A$6:$BFQ$206,4,FALSE)),\"\",VLOOKUP(B5839,database!$A$6:$BFQ$206,4,FALSE)))","v":""},null,null,null,"",null,null,null,{"$f":"IF(B5839=\"\",\"\",IF(ISERROR(VLOOKUP(B5839,database!$A$6:$BFQ$206,3,FALSE)),\"\",VLOOKUP(B5839,database!$A$6:$BFQ$206,3,FALSE)))","v":""},null,null,null,null,null,null,""]
["",null,{"$f":"IF(B5840=\"\",\"\",IF(ISERROR(VLOOKUP(B5840,database!$A$6:$BFQ$206,4,FALSE)),\"\",VLOOKUP(B5840,database!$A$6:$BFQ$206,4,FALSE)))","v":""},null,null,null,"",null,null,null,{"$f":"IF(B5840=\"\",\"\",IF(ISERROR(VLOOKUP(B5840,database!$A$6:$BFQ$206,3,FALSE)),\"\",VLOOKUP(B5840,database!$A$6:$BFQ$206,3,FALSE)))","v":""},null,null,null,null,null,null,""]
["",null,{"$f":"IF(B5841=\"\",\"\",IF(ISERROR(VLOOKUP(B5841,database!$A$6:$BFQ$206,4,FALSE)),\"\",VLOOKUP(B5841,database!$A$6:$BFQ$206,4,FALSE)))","v":""},null,null,null,"",null,null,null,{"$f":"IF(B5841=\"\",\"\",IF(ISERROR(VLOOKUP(B5841,database!$A$6:$BFQ$206,3,FALSE)),\"\",VLOOKUP(B5841,database!$A$6:$BFQ$206,3,FALSE)))","v":""},null,null,null,null,null,null,""]
["",null,{"$f":"IF(B5842=\"\",\"\",IF(ISERROR(VLOOKUP(B5842,database!$A$6:$BFQ$206,4,FALSE)),\"\",VLOOKUP(B5842,database!$A$6:$BFQ$206,4,FALSE)))","v":""},null,null,null,"",null,null,null,{"$f":"IF(B5842=\"\",\"\",IF(ISERROR(VLOOKUP(B5842,database!$A$6:$BFQ$206,3,FALSE)),\"\",VLOOKUP(B5842,database!$A$6:$BFQ$206,3,FALSE)))","v":""},null,null,null,null,null,null,""]
["",null,{"$f":"IF(B5843=\"\",\"\",IF(ISERROR(VLOOKUP(B5843,database!$A$6:$BFQ$206,4,FALSE)),\"\",VLOOKUP(B5843,database!$A$6:$BFQ$206,4,FALSE)))","v":""},null,null,null,"",null,null,null,{"$f":"IF(B5843=\"\",\"\",IF(ISERROR(VLOOKUP(B5843,database!$A$6:$BFQ$206,3,FALSE)),\"\",VLOOKUP(B5843,database!$A$6:$BFQ$206,3,FALSE)))","v":""},null,null,null,null,null,null,""]
["",null,{"$f":"IF(B5844=\"\",\"\",IF(ISERROR(VLOOKUP(B5844,database!$A$6:$BFQ$206,4,FALSE)),\"\",VLOOKUP(B5844,database!$A$6:$BFQ$206,4,FALSE)))","v":""},null,null,null,"",null,null,null,{"$f":"IF(B5844=\"\",\"\",IF(ISERROR(VLOOKUP(B5844,database!$A$6:$BFQ$206,3,FALSE)),\"\",VLOOKUP(B5844,database!$A$6:$BFQ$206,3,FALSE)))","v":""},null,null,null,null,null,null,""]
["",null,{"$f":"IF(B5845=\"\",\"\",IF(ISERROR(VLOOKUP(B5845,database!$A$6:$BFQ$206,4,FALSE)),\"\",VLOOKUP(B5845,database!$A$6:$BFQ$206,4,FALSE)))","v":""},null,null,null,"",null,null,null,{"$f":"IF(B5845=\"\",\"\",IF(ISERROR(VLOOKUP(B5845,database!$A$6:$BFQ$206,3,FALSE)),\"\",VLOOKUP(B5845,database!$A$6:$BFQ$206,3,FALSE)))","v":""},null,null,null,null,null,null,""]
["",null,{"$f":"IF(B5846=\"\",\"\",IF(ISERROR(VLOOKUP(B5846,database!$A$6:$BFQ$206,4,FALSE)),\"\",VLOOKUP(B5846,database!$A$6:$BFQ$206,4,FALSE)))","v":""},null,null,null,"",null,null,null,{"$f":"IF(B5846=\"\",\"\",IF(ISERROR(VLOOKUP(B5846,database!$A$6:$BFQ$206,3,FALSE)),\"\",VLOOKUP(B5846,database!$A$6:$BFQ$206,3,FALSE)))","v":""},null,null,null,null,null,null,""]
["",null,{"$f":"IF(B5847=\"\",\"\",IF(ISERROR(VLOOKUP(B5847,database!$A$6:$BFQ$206,4,FALSE)),\"\",VLOOKUP(B5847,database!$A$6:$BFQ$206,4,FALSE)))","v":""},null,null,null,"",null,null,null,{"$f":"IF(B5847=\"\",\"\",IF(ISERROR(VLOOKUP(B5847,database!$A$6:$BFQ$206,3,FALSE)),\"\",VLOOKUP(B5847,database!$A$6:$BFQ$206,3,FALSE)))","v":""},null,null,null,null,null,null,""]
["",null,{"$f":"IF(B5848=\"\",\"\",IF(ISERROR(VLOOKUP(B5848,database!$A$6:$BFQ$206,4,FALSE)),\"\",VLOOKUP(B5848,database!$A$6:$BFQ$206,4,FALSE)))","v":""},null,null,null,"",null,null,null,{"$f":"IF(B5848=\"\",\"\",IF(ISERROR(VLOOKUP(B5848,database!$A$6:$BFQ$206,3,FALSE)),\"\",VLOOKUP(B5848,database!$A$6:$BFQ$206,3,FALSE)))","v":""},null,null,null,null,null,null,""]
["",null,{"$f":"IF(B5849=\"\",\"\",IF(ISERROR(VLOOKUP(B5849,database!$A$6:$BFQ$206,4,FALSE)),\"\",VLOOKUP(B5849,database!$A$6:$BFQ$206,4,FALSE)))","v":""},null,null,null,"",null,null,null,{"$f":"IF(B5849=\"\",\"\",IF(ISERROR(VLOOKUP(B5849,database!$A$6:$BFQ$206,3,FALSE)),\"\",VLOOKUP(B5849,database!$A$6:$BFQ$206,3,FALSE)))","v":""},null,null,null,null,null,null,""]
["",null,{"$f":"IF(B5850=\"\",\"\",IF(ISERROR(VLOOKUP(B5850,database!$A$6:$BFQ$206,4,FALSE)),\"\",VLOOKUP(B5850,database!$A$6:$BFQ$206,4,FALSE)))","v":""},null,null,null,"",null,null,null,{"$f":"IF(B5850=\"\",\"\",IF(ISERROR(VLOOKUP(B5850,database!$A$6:$BFQ$206,3,FALSE)),\"\",VLOOKUP(B5850,database!$A$6:$BFQ$206,3,FALSE)))","v":""},null,null,null,null,null,null,""]
["",null,{"$f":"IF(B5851=\"\",\"\",IF(ISERROR(VLOOKUP(B5851,database!$A$6:$BFQ$206,4,FALSE)),\"\",VLOOKUP(B5851,database!$A$6:$BFQ$206,4,FALSE)))","v":""},null,null,null,"",null,null,null,{"$f":"IF(B5851=\"\",\"\",IF(ISERROR(VLOOKUP(B5851,database!$A$6:$BFQ$206,3,FALSE)),\"\",VLOOKUP(B5851,database!$A$6:$BFQ$206,3,FALSE)))","v":""},null,null,null,null,null,null,""]
["",null,{"$f":"IF(B5852=\"\",\"\",IF(ISERROR(VLOOKUP(B5852,database!$A$6:$BFQ$206,4,FALSE)),\"\",VLOOKUP(B5852,database!$A$6:$BFQ$206,4,FALSE)))","v":""},null,null,null,"",null,null,null,{"$f":"IF(B5852=\"\",\"\",IF(ISERROR(VLOOKUP(B5852,database!$A$6:$BFQ$206,3,FALSE)),\"\",VLOOKUP(B5852,database!$A$6:$BFQ$206,3,FALSE)))","v":""},null,null,null,null,null,null,""]
["",null,{"$f":"IF(B5853=\"\",\"\",IF(ISERROR(VLOOKUP(B5853,database!$A$6:$BFQ$206,4,FALSE)),\"\",VLOOKUP(B5853,database!$A$6:$BFQ$206,4,FALSE)))","v":""},null,null,null,"",null,null,null,{"$f":"IF(B5853=\"\",\"\",IF(ISERROR(VLOOKUP(B5853,database!$A$6:$BFQ$206,3,FALSE)),\"\",VLOOKUP(B5853,database!$A$6:$BFQ$206,3,FALSE)))","v":""},null,null,null,null,null,null,""]
["",null,{"$f":"IF(B5854=\"\",\"\",IF(ISERROR(VLOOKUP(B5854,database!$A$6:$BFQ$206,4,FALSE)),\"\",VLOOKUP(B5854,database!$A$6:$BFQ$206,4,FALSE)))","v":""},null,null,null,"",null,null,null,{"$f":"IF(B5854=\"\",\"\",IF(ISERROR(VLOOKUP(B5854,database!$A$6:$BFQ$206,3,FALSE)),\"\",VLOOKUP(B5854,database!$A$6:$BFQ$206,3,FALSE)))","v":""},null,null,null,null,null,null,""]
["",null,{"$f":"IF(B5855=\"\",\"\",IF(ISERROR(VLOOKUP(B5855,database!$A$6:$BFQ$206,4,FALSE)),\"\",VLOOKUP(B5855,database!$A$6:$BFQ$206,4,FALSE)))","v":""},null,null,null,"",null,null,null,{"$f":"IF(B5855=\"\",\"\",IF(ISERROR(VLOOKUP(B5855,database!$A$6:$BFQ$206,3,FALSE)),\"\",VLOOKUP(B5855,database!$A$6:$BFQ$206,3,FALSE)))","v":""},null,null,null,null,null,null,""]
["",null,{"$f":"IF(B5856=\"\",\"\",IF(ISERROR(VLOOKUP(B5856,database!$A$6:$BFQ$206,4,FALSE)),\"\",VLOOKUP(B5856,database!$A$6:$BFQ$206,4,FALSE)))","v":""},null,null,null,"",null,null,null,{"$f":"IF(B5856=\"\",\"\",IF(ISERROR(VLOOKUP(B5856,database!$A$6:$BFQ$206,3,FALSE)),\"\",VLOOKUP(B5856,database!$A$6:$BFQ$206,3,FALSE)))","v":""},null,null,null,null,null,null,""]
["",null,{"$f":"IF(B5857=\"\",\"\",IF(ISERROR(VLOOKUP(B5857,database!$A$6:$BFQ$206,4,FALSE)),\"\",VLOOKUP(B5857,database!$A$6:$BFQ$206,4,FALSE)))","v":""},null,null,null,"",null,null,null,{"$f":"IF(B5857=\"\",\"\",IF(ISERROR(VLOOKUP(B5857,database!$A$6:$BFQ$206,3,FALSE)),\"\",VLOOKUP(B5857,database!$A$6:$BFQ$206,3,FALSE)))","v":""},null,null,null,null,null,null,""]
["",null,{"$f":"IF(B5858=\"\",\"\",IF(ISERROR(VLOOKUP(B5858,database!$A$6:$BFQ$206,4,FALSE)),\"\",VLOOKUP(B5858,database!$A$6:$BFQ$206,4,FALSE)))","v":""},null,null,null,"",null,null,null,{"$f":"IF(B5858=\"\",\"\",IF(ISERROR(VLOOKUP(B5858,database!$A$6:$BFQ$206,3,FALSE)),\"\",VLOOKUP(B5858,database!$A$6:$BFQ$206,3,FALSE)))","v":""},null,null,null,null,null,null,""]
["",null,{"$f":"IF(B5859=\"\",\"\",IF(ISERROR(VLOOKUP(B5859,database!$A$6:$BFQ$206,4,FALSE)),\"\",VLOOKUP(B5859,database!$A$6:$BFQ$206,4,FALSE)))","v":""},null,null,null,"",null,null,null,{"$f":"IF(B5859=\"\",\"\",IF(ISERROR(VLOOKUP(B5859,database!$A$6:$BFQ$206,3,FALSE)),\"\",VLOOKUP(B5859,database!$A$6:$BFQ$206,3,FALSE)))","v":""},null,null,null,null,null,null,""]
["",null,{"$f":"IF(B5860=\"\",\"\",IF(ISERROR(VLOOKUP(B5860,database!$A$6:$BFQ$206,4,FALSE)),\"\",VLOOKUP(B5860,database!$A$6:$BFQ$206,4,FALSE)))","v":""},null,null,null,"",null,null,null,{"$f":"IF(B5860=\"\",\"\",IF(ISERROR(VLOOKUP(B5860,database!$A$6:$BFQ$206,3,FALSE)),\"\",VLOOKUP(B5860,database!$A$6:$BFQ$206,3,FALSE)))","v":""},null,null,null,null,null,null,""]
["",null,{"$f":"IF(B5861=\"\",\"\",IF(ISERROR(VLOOKUP(B5861,database!$A$6:$BFQ$206,4,FALSE)),\"\",VLOOKUP(B5861,database!$A$6:$BFQ$206,4,FALSE)))","v":""},null,null,null,"",null,null,null,{"$f":"IF(B5861=\"\",\"\",IF(ISERROR(VLOOKUP(B5861,database!$A$6:$BFQ$206,3,FALSE)),\"\",VLOOKUP(B5861,database!$A$6:$BFQ$206,3,FALSE)))","v":""},null,null,null,null,null,null,""]
["",null,{"$f":"IF(B5862=\"\",\"\",IF(ISERROR(VLOOKUP(B5862,database!$A$6:$BFQ$206,4,FALSE)),\"\",VLOOKUP(B5862,database!$A$6:$BFQ$206,4,FALSE)))","v":""},null,null,null,"",null,null,null,{"$f":"IF(B5862=\"\",\"\",IF(ISERROR(VLOOKUP(B5862,database!$A$6:$BFQ$206,3,FALSE)),\"\",VLOOKUP(B5862,database!$A$6:$BFQ$206,3,FALSE)))","v":""},null,null,null,null,null,null,""]
["",null,{"$f":"IF(B5863=\"\",\"\",IF(ISERROR(VLOOKUP(B5863,database!$A$6:$BFQ$206,4,FALSE)),\"\",VLOOKUP(B5863,database!$A$6:$BFQ$206,4,FALSE)))","v":""},null,null,null,"",null,null,null,{"$f":"IF(B5863=\"\",\"\",IF(ISERROR(VLOOKUP(B5863,database!$A$6:$BFQ$206,3,FALSE)),\"\",VLOOKUP(B5863,database!$A$6:$BFQ$206,3,FALSE)))","v":""},null,null,null,null,null,null,""]
["",null,{"$f":"IF(B5864=\"\",\"\",IF(ISERROR(VLOOKUP(B5864,database!$A$6:$BFQ$206,4,FALSE)),\"\",VLOOKUP(B5864,database!$A$6:$BFQ$206,4,FALSE)))","v":""},null,null,null,"",null,null,null,{"$f":"IF(B5864=\"\",\"\",IF(ISERROR(VLOOKUP(B5864,database!$A$6:$BFQ$206,3,FALSE)),\"\",VLOOKUP(B5864,database!$A$6:$BFQ$206,3,FALSE)))","v":""},null,null,null,null,null,null,""]
["",null,{"$f":"IF(B5865=\"\",\"\",IF(ISERROR(VLOOKUP(B5865,database!$A$6:$BFQ$206,4,FALSE)),\"\",VLOOKUP(B5865,database!$A$6:$BFQ$206,4,FALSE)))","v":""},null,null,null,"",null,null,null,{"$f":"IF(B5865=\"\",\"\",IF(ISERROR(VLOOKUP(B5865,database!$A$6:$BFQ$206,3,FALSE)),\"\",VLOOKUP(B5865,database!$A$6:$BFQ$206,3,FALSE)))","v":""},null,null,null,null,null,null,""]
["",null,{"$f":"IF(B5866=\"\",\"\",IF(ISERROR(VLOOKUP(B5866,database!$A$6:$BFQ$206,4,FALSE)),\"\",VLOOKUP(B5866,database!$A$6:$BFQ$206,4,FALSE)))","v":""},null,null,null,"",null,null,null,{"$f":"IF(B5866=\"\",\"\",IF(ISERROR(VLOOKUP(B5866,database!$A$6:$BFQ$206,3,FALSE)),\"\",VLOOKUP(B5866,database!$A$6:$BFQ$206,3,FALSE)))","v":""},null,null,null,null,null,null,""]
["",null,{"$f":"IF(B5867=\"\",\"\",IF(ISERROR(VLOOKUP(B5867,database!$A$6:$BFQ$206,4,FALSE)),\"\",VLOOKUP(B5867,database!$A$6:$BFQ$206,4,FALSE)))","v":""},null,null,null,"",null,null,null,{"$f":"IF(B5867=\"\",\"\",IF(ISERROR(VLOOKUP(B5867,database!$A$6:$BFQ$206,3,FALSE)),\"\",VLOOKUP(B5867,database!$A$6:$BFQ$206,3,FALSE)))","v":""},null,null,null,null,null,null,""]
["",null,{"$f":"IF(B5868=\"\",\"\",IF(ISERROR(VLOOKUP(B5868,database!$A$6:$BFQ$206,4,FALSE)),\"\",VLOOKUP(B5868,database!$A$6:$BFQ$206,4,FALSE)))","v":""},null,null,null,"",null,null,null,{"$f":"IF(B5868=\"\",\"\",IF(ISERROR(VLOOKUP(B5868,database!$A$6:$BFQ$206,3,FALSE)),\"\",VLOOKUP(B5868,database!$A$6:$BFQ$206,3,FALSE)))","v":""},null,null,null,null,null,null,""]
["",null,{"$f":"IF(B5869=\"\",\"\",IF(ISERROR(VLOOKUP(B5869,database!$A$6:$BFQ$206,4,FALSE)),\"\",VLOOKUP(B5869,database!$A$6:$BFQ$206,4,FALSE)))","v":""},null,null,null,"",null,null,null,{"$f":"IF(B5869=\"\",\"\",IF(ISERROR(VLOOKUP(B5869,database!$A$6:$BFQ$206,3,FALSE)),\"\",VLOOKUP(B5869,database!$A$6:$BFQ$206,3,FALSE)))","v":""},null,null,null,null,null,null,""]
["",null,{"$f":"IF(B5870=\"\",\"\",IF(ISERROR(VLOOKUP(B5870,database!$A$6:$BFQ$206,4,FALSE)),\"\",VLOOKUP(B5870,database!$A$6:$BFQ$206,4,FALSE)))","v":""},null,null,null,"",null,null,null,{"$f":"IF(B5870=\"\",\"\",IF(ISERROR(VLOOKUP(B5870,database!$A$6:$BFQ$206,3,FALSE)),\"\",VLOOKUP(B5870,database!$A$6:$BFQ$206,3,FALSE)))","v":""},null,null,null,null,null,null,""]
["",null,{"$f":"IF(B5871=\"\",\"\",IF(ISERROR(VLOOKUP(B5871,database!$A$6:$BFQ$206,4,FALSE)),\"\",VLOOKUP(B5871,database!$A$6:$BFQ$206,4,FALSE)))","v":""},null,null,null,"",null,null,null,{"$f":"IF(B5871=\"\",\"\",IF(ISERROR(VLOOKUP(B5871,database!$A$6:$BFQ$206,3,FALSE)),\"\",VLOOKUP(B5871,database!$A$6:$BFQ$206,3,FALSE)))","v":""},null,null,null,null,null,null,""]
["",null,{"$f":"IF(B5872=\"\",\"\",IF(ISERROR(VLOOKUP(B5872,database!$A$6:$BFQ$206,4,FALSE)),\"\",VLOOKUP(B5872,database!$A$6:$BFQ$206,4,FALSE)))","v":""},null,null,null,"",null,null,null,{"$f":"IF(B5872=\"\",\"\",IF(ISERROR(VLOOKUP(B5872,database!$A$6:$BFQ$206,3,FALSE)),\"\",VLOOKUP(B5872,database!$A$6:$BFQ$206,3,FALSE)))","v":""},null,null,null,null,null,null,""]
["",null,{"$f":"IF(B5873=\"\",\"\",IF(ISERROR(VLOOKUP(B5873,database!$A$6:$BFQ$206,4,FALSE)),\"\",VLOOKUP(B5873,database!$A$6:$BFQ$206,4,FALSE)))","v":""},null,null,null,"",null,null,null,{"$f":"IF(B5873=\"\",\"\",IF(ISERROR(VLOOKUP(B5873,database!$A$6:$BFQ$206,3,FALSE)),\"\",VLOOKUP(B5873,database!$A$6:$BFQ$206,3,FALSE)))","v":""},null,null,null,null,null,null,""]
["",null,{"$f":"IF(B5874=\"\",\"\",IF(ISERROR(VLOOKUP(B5874,database!$A$6:$BFQ$206,4,FALSE)),\"\",VLOOKUP(B5874,database!$A$6:$BFQ$206,4,FALSE)))","v":""},null,null,null,"",null,null,null,{"$f":"IF(B5874=\"\",\"\",IF(ISERROR(VLOOKUP(B5874,database!$A$6:$BFQ$206,3,FALSE)),\"\",VLOOKUP(B5874,database!$A$6:$BFQ$206,3,FALSE)))","v":""},null,null,null,null,null,null,""]
["",null,{"$f":"IF(B5875=\"\",\"\",IF(ISERROR(VLOOKUP(B5875,database!$A$6:$BFQ$206,4,FALSE)),\"\",VLOOKUP(B5875,database!$A$6:$BFQ$206,4,FALSE)))","v":""},null,null,null,"",null,null,null,{"$f":"IF(B5875=\"\",\"\",IF(ISERROR(VLOOKUP(B5875,database!$A$6:$BFQ$206,3,FALSE)),\"\",VLOOKUP(B5875,database!$A$6:$BFQ$206,3,FALSE)))","v":""},null,null,null,null,null,null,""]
["",null,{"$f":"IF(B5876=\"\",\"\",IF(ISERROR(VLOOKUP(B5876,database!$A$6:$BFQ$206,4,FALSE)),\"\",VLOOKUP(B5876,database!$A$6:$BFQ$206,4,FALSE)))","v":""},null,null,null,"",null,null,null,{"$f":"IF(B5876=\"\",\"\",IF(ISERROR(VLOOKUP(B5876,database!$A$6:$BFQ$206,3,FALSE)),\"\",VLOOKUP(B5876,database!$A$6:$BFQ$206,3,FALSE)))","v":""},null,null,null,null,null,null,""]
["",null,{"$f":"IF(B5877=\"\",\"\",IF(ISERROR(VLOOKUP(B5877,database!$A$6:$BFQ$206,4,FALSE)),\"\",VLOOKUP(B5877,database!$A$6:$BFQ$206,4,FALSE)))","v":""},null,null,null,"",null,null,null,{"$f":"IF(B5877=\"\",\"\",IF(ISERROR(VLOOKUP(B5877,database!$A$6:$BFQ$206,3,FALSE)),\"\",VLOOKUP(B5877,database!$A$6:$BFQ$206,3,FALSE)))","v":""},null,null,null,null,null,null,""]
["",null,{"$f":"IF(B5878=\"\",\"\",IF(ISERROR(VLOOKUP(B5878,database!$A$6:$BFQ$206,4,FALSE)),\"\",VLOOKUP(B5878,database!$A$6:$BFQ$206,4,FALSE)))","v":""},null,null,null,"",null,null,null,{"$f":"IF(B5878=\"\",\"\",IF(ISERROR(VLOOKUP(B5878,database!$A$6:$BFQ$206,3,FALSE)),\"\",VLOOKUP(B5878,database!$A$6:$BFQ$206,3,FALSE)))","v":""},null,null,null,null,null,null,""]
["",null,{"$f":"IF(B5879=\"\",\"\",IF(ISERROR(VLOOKUP(B5879,database!$A$6:$BFQ$206,4,FALSE)),\"\",VLOOKUP(B5879,database!$A$6:$BFQ$206,4,FALSE)))","v":""},null,null,null,"",null,null,null,{"$f":"IF(B5879=\"\",\"\",IF(ISERROR(VLOOKUP(B5879,database!$A$6:$BFQ$206,3,FALSE)),\"\",VLOOKUP(B5879,database!$A$6:$BFQ$206,3,FALSE)))","v":""},null,null,null,null,null,null,""]
["",null,{"$f":"IF(B5880=\"\",\"\",IF(ISERROR(VLOOKUP(B5880,database!$A$6:$BFQ$206,4,FALSE)),\"\",VLOOKUP(B5880,database!$A$6:$BFQ$206,4,FALSE)))","v":""},null,null,null,"",null,null,null,{"$f":"IF(B5880=\"\",\"\",IF(ISERROR(VLOOKUP(B5880,database!$A$6:$BFQ$206,3,FALSE)),\"\",VLOOKUP(B5880,database!$A$6:$BFQ$206,3,FALSE)))","v":""},null,null,null,null,null,null,""]
["",null,{"$f":"IF(B5881=\"\",\"\",IF(ISERROR(VLOOKUP(B5881,database!$A$6:$BFQ$206,4,FALSE)),\"\",VLOOKUP(B5881,database!$A$6:$BFQ$206,4,FALSE)))","v":""},null,null,null,"",null,null,null,{"$f":"IF(B5881=\"\",\"\",IF(ISERROR(VLOOKUP(B5881,database!$A$6:$BFQ$206,3,FALSE)),\"\",VLOOKUP(B5881,database!$A$6:$BFQ$206,3,FALSE)))","v":""},null,null,null,null,null,null,""]
["",null,{"$f":"IF(B5882=\"\",\"\",IF(ISERROR(VLOOKUP(B5882,database!$A$6:$BFQ$206,4,FALSE)),\"\",VLOOKUP(B5882,database!$A$6:$BFQ$206,4,FALSE)))","v":""},null,null,null,"",null,null,null,{"$f":"IF(B5882=\"\",\"\",IF(ISERROR(VLOOKUP(B5882,database!$A$6:$BFQ$206,3,FALSE)),\"\",VLOOKUP(B5882,database!$A$6:$BFQ$206,3,FALSE)))","v":""},null,null,null,null,null,null,""]
["",null,{"$f":"IF(B5883=\"\",\"\",IF(ISERROR(VLOOKUP(B5883,database!$A$6:$BFQ$206,4,FALSE)),\"\",VLOOKUP(B5883,database!$A$6:$BFQ$206,4,FALSE)))","v":""},null,null,null,"",null,null,null,{"$f":"IF(B5883=\"\",\"\",IF(ISERROR(VLOOKUP(B5883,database!$A$6:$BFQ$206,3,FALSE)),\"\",VLOOKUP(B5883,database!$A$6:$BFQ$206,3,FALSE)))","v":""},null,null,null,null,null,null,""]
["",null,{"$f":"IF(B5884=\"\",\"\",IF(ISERROR(VLOOKUP(B5884,database!$A$6:$BFQ$206,4,FALSE)),\"\",VLOOKUP(B5884,database!$A$6:$BFQ$206,4,FALSE)))","v":""},null,null,null,"",null,null,null,{"$f":"IF(B5884=\"\",\"\",IF(ISERROR(VLOOKUP(B5884,database!$A$6:$BFQ$206,3,FALSE)),\"\",VLOOKUP(B5884,database!$A$6:$BFQ$206,3,FALSE)))","v":""},null,null,null,null,null,null,""]
["",null,{"$f":"IF(B5885=\"\",\"\",IF(ISERROR(VLOOKUP(B5885,database!$A$6:$BFQ$206,4,FALSE)),\"\",VLOOKUP(B5885,database!$A$6:$BFQ$206,4,FALSE)))","v":""},null,null,null,"",null,null,null,{"$f":"IF(B5885=\"\",\"\",IF(ISERROR(VLOOKUP(B5885,database!$A$6:$BFQ$206,3,FALSE)),\"\",VLOOKUP(B5885,database!$A$6:$BFQ$206,3,FALSE)))","v":""},null,null,null,null,null,null,""]
["",null,{"$f":"IF(B5886=\"\",\"\",IF(ISERROR(VLOOKUP(B5886,database!$A$6:$BFQ$206,4,FALSE)),\"\",VLOOKUP(B5886,database!$A$6:$BFQ$206,4,FALSE)))","v":""},null,null,null,"",null,null,null,{"$f":"IF(B5886=\"\",\"\",IF(ISERROR(VLOOKUP(B5886,database!$A$6:$BFQ$206,3,FALSE)),\"\",VLOOKUP(B5886,database!$A$6:$BFQ$206,3,FALSE)))","v":""},null,null,null,null,null,null,""]
["",null,{"$f":"IF(B5887=\"\",\"\",IF(ISERROR(VLOOKUP(B5887,database!$A$6:$BFQ$206,4,FALSE)),\"\",VLOOKUP(B5887,database!$A$6:$BFQ$206,4,FALSE)))","v":""},null,null,null,"",null,null,null,{"$f":"IF(B5887=\"\",\"\",IF(ISERROR(VLOOKUP(B5887,database!$A$6:$BFQ$206,3,FALSE)),\"\",VLOOKUP(B5887,database!$A$6:$BFQ$206,3,FALSE)))","v":""},null,null,null,null,null,null,""]
["",null,{"$f":"IF(B5888=\"\",\"\",IF(ISERROR(VLOOKUP(B5888,database!$A$6:$BFQ$206,4,FALSE)),\"\",VLOOKUP(B5888,database!$A$6:$BFQ$206,4,FALSE)))","v":""},null,null,null,"",null,null,null,{"$f":"IF(B5888=\"\",\"\",IF(ISERROR(VLOOKUP(B5888,database!$A$6:$BFQ$206,3,FALSE)),\"\",VLOOKUP(B5888,database!$A$6:$BFQ$206,3,FALSE)))","v":""},null,null,null,null,null,null,""]
[{"$f":"IF(B5889=\"\",\"\",ROW(A5886))","v":""},null,{"$f":"IF(B5889=\"\",\"\",IF(ISERROR(VLOOKUP(B5889,database!$A$6:$BFQ$206,4,FALSE)),\"\",VLOOKUP(B5889,database!$A$6:$BFQ$206,4,FALSE)))","v":""},null,null,null,{"$f":"IF(B5889=\"\",\"\",IF(C5889=\"\",0,1))","v":""},null,null,null,{"$f":"IF(B5889=\"\",\"\",IF(ISERROR(VLOOKUP(B5889,database!$A$6:$BFQ$206,3,FALSE)),\"\",VLOOKUP(B5889,database!$A$6:$BFQ$206,3,FALSE)))","v":""},null,null,null,null,null,null,{"$f":"LEFT(C5889,2)","v":""}]
["",null,{"$f":"IF(B5890=\"\",\"\",IF(ISERROR(VLOOKUP(B5890,database!$A$6:$BFQ$206,4,FALSE)),\"\",VLOOKUP(B5890,database!$A$6:$BFQ$206,4,FALSE)))","v":""},null,null,null,"",null,null,null,{"$f":"IF(B5890=\"\",\"\",IF(ISERROR(VLOOKUP(B5890,database!$A$6:$BFQ$206,3,FALSE)),\"\",VLOOKUP(B5890,database!$A$6:$BFQ$206,3,FALSE)))","v":""},null,null,null,null,null,null,""]
["",null,{"$f":"IF(B5891=\"\",\"\",IF(ISERROR(VLOOKUP(B5891,database!$A$6:$BFQ$206,4,FALSE)),\"\",VLOOKUP(B5891,database!$A$6:$BFQ$206,4,FALSE)))","v":""},null,null,null,"",null,null,null,{"$f":"IF(B5891=\"\",\"\",IF(ISERROR(VLOOKUP(B5891,database!$A$6:$BFQ$206,3,FALSE)),\"\",VLOOKUP(B5891,database!$A$6:$BFQ$206,3,FALSE)))","v":""},null,null,null,null,null,null,""]
["",null,{"$f":"IF(B5892=\"\",\"\",IF(ISERROR(VLOOKUP(B5892,database!$A$6:$BFQ$206,4,FALSE)),\"\",VLOOKUP(B5892,database!$A$6:$BFQ$206,4,FALSE)))","v":""},null,null,null,"",null,null,null,{"$f":"IF(B5892=\"\",\"\",IF(ISERROR(VLOOKUP(B5892,database!$A$6:$BFQ$206,3,FALSE)),\"\",VLOOKUP(B5892,database!$A$6:$BFQ$206,3,FALSE)))","v":""},null,null,null,null,null,null,""]
["",null,{"$f":"IF(B5893=\"\",\"\",IF(ISERROR(VLOOKUP(B5893,database!$A$6:$BFQ$206,4,FALSE)),\"\",VLOOKUP(B5893,database!$A$6:$BFQ$206,4,FALSE)))","v":""},null,null,null,"",null,null,null,{"$f":"IF(B5893=\"\",\"\",IF(ISERROR(VLOOKUP(B5893,database!$A$6:$BFQ$206,3,FALSE)),\"\",VLOOKUP(B5893,database!$A$6:$BFQ$206,3,FALSE)))","v":""},null,null,null,null,null,null,""]
["",null,{"$f":"IF(B5894=\"\",\"\",IF(ISERROR(VLOOKUP(B5894,database!$A$6:$BFQ$206,4,FALSE)),\"\",VLOOKUP(B5894,database!$A$6:$BFQ$206,4,FALSE)))","v":""},null,null,null,"",null,null,null,{"$f":"IF(B5894=\"\",\"\",IF(ISERROR(VLOOKUP(B5894,database!$A$6:$BFQ$206,3,FALSE)),\"\",VLOOKUP(B5894,database!$A$6:$BFQ$206,3,FALSE)))","v":""},null,null,null,null,null,null,""]
["",null,{"$f":"IF(B5895=\"\",\"\",IF(ISERROR(VLOOKUP(B5895,database!$A$6:$BFQ$206,4,FALSE)),\"\",VLOOKUP(B5895,database!$A$6:$BFQ$206,4,FALSE)))","v":""},null,null,null,"",null,null,null,{"$f":"IF(B5895=\"\",\"\",IF(ISERROR(VLOOKUP(B5895,database!$A$6:$BFQ$206,3,FALSE)),\"\",VLOOKUP(B5895,database!$A$6:$BFQ$206,3,FALSE)))","v":""},null,null,null,null,null,null,""]
["",null,{"$f":"IF(B5896=\"\",\"\",IF(ISERROR(VLOOKUP(B5896,database!$A$6:$BFQ$206,4,FALSE)),\"\",VLOOKUP(B5896,database!$A$6:$BFQ$206,4,FALSE)))","v":""},null,null,null,"",null,null,null,{"$f":"IF(B5896=\"\",\"\",IF(ISERROR(VLOOKUP(B5896,database!$A$6:$BFQ$206,3,FALSE)),\"\",VLOOKUP(B5896,database!$A$6:$BFQ$206,3,FALSE)))","v":""},null,null,null,null,null,null,""]
["",null,{"$f":"IF(B5897=\"\",\"\",IF(ISERROR(VLOOKUP(B5897,database!$A$6:$BFQ$206,4,FALSE)),\"\",VLOOKUP(B5897,database!$A$6:$BFQ$206,4,FALSE)))","v":""},null,null,null,"",null,null,null,{"$f":"IF(B5897=\"\",\"\",IF(ISERROR(VLOOKUP(B5897,database!$A$6:$BFQ$206,3,FALSE)),\"\",VLOOKUP(B5897,database!$A$6:$BFQ$206,3,FALSE)))","v":""},null,null,null,null,null,null,""]
["",null,{"$f":"IF(B5898=\"\",\"\",IF(ISERROR(VLOOKUP(B5898,database!$A$6:$BFQ$206,4,FALSE)),\"\",VLOOKUP(B5898,database!$A$6:$BFQ$206,4,FALSE)))","v":""},null,null,null,"",null,null,null,{"$f":"IF(B5898=\"\",\"\",IF(ISERROR(VLOOKUP(B5898,database!$A$6:$BFQ$206,3,FALSE)),\"\",VLOOKUP(B5898,database!$A$6:$BFQ$206,3,FALSE)))","v":""},null,null,null,null,null,null,""]
["",null,{"$f":"IF(B5899=\"\",\"\",IF(ISERROR(VLOOKUP(B5899,database!$A$6:$BFQ$206,4,FALSE)),\"\",VLOOKUP(B5899,database!$A$6:$BFQ$206,4,FALSE)))","v":""},null,null,null,"",null,null,null,{"$f":"IF(B5899=\"\",\"\",IF(ISERROR(VLOOKUP(B5899,database!$A$6:$BFQ$206,3,FALSE)),\"\",VLOOKUP(B5899,database!$A$6:$BFQ$206,3,FALSE)))","v":""},null,null,null,null,null,null,""]
["",null,{"$f":"IF(B5900=\"\",\"\",IF(ISERROR(VLOOKUP(B5900,database!$A$6:$BFQ$206,4,FALSE)),\"\",VLOOKUP(B5900,database!$A$6:$BFQ$206,4,FALSE)))","v":""},null,null,null,"",null,null,null,{"$f":"IF(B5900=\"\",\"\",IF(ISERROR(VLOOKUP(B5900,database!$A$6:$BFQ$206,3,FALSE)),\"\",VLOOKUP(B5900,database!$A$6:$BFQ$206,3,FALSE)))","v":""},null,null,null,null,null,null,""]
["",null,{"$f":"IF(B5901=\"\",\"\",IF(ISERROR(VLOOKUP(B5901,database!$A$6:$BFQ$206,4,FALSE)),\"\",VLOOKUP(B5901,database!$A$6:$BFQ$206,4,FALSE)))","v":""},null,null,null,"",null,null,null,{"$f":"IF(B5901=\"\",\"\",IF(ISERROR(VLOOKUP(B5901,database!$A$6:$BFQ$206,3,FALSE)),\"\",VLOOKUP(B5901,database!$A$6:$BFQ$206,3,FALSE)))","v":""},null,null,null,null,null,null,""]
["",null,{"$f":"IF(B5902=\"\",\"\",IF(ISERROR(VLOOKUP(B5902,database!$A$6:$BFQ$206,4,FALSE)),\"\",VLOOKUP(B5902,database!$A$6:$BFQ$206,4,FALSE)))","v":""},null,null,null,"",null,null,null,{"$f":"IF(B5902=\"\",\"\",IF(ISERROR(VLOOKUP(B5902,database!$A$6:$BFQ$206,3,FALSE)),\"\",VLOOKUP(B5902,database!$A$6:$BFQ$206,3,FALSE)))","v":""},null,null,null,null,null,null,""]
["",null,{"$f":"IF(B5903=\"\",\"\",IF(ISERROR(VLOOKUP(B5903,database!$A$6:$BFQ$206,4,FALSE)),\"\",VLOOKUP(B5903,database!$A$6:$BFQ$206,4,FALSE)))","v":""},null,null,null,"",null,null,null,{"$f":"IF(B5903=\"\",\"\",IF(ISERROR(VLOOKUP(B5903,database!$A$6:$BFQ$206,3,FALSE)),\"\",VLOOKUP(B5903,database!$A$6:$BFQ$206,3,FALSE)))","v":""},null,null,null,null,null,null,""]
["",null,{"$f":"IF(B5904=\"\",\"\",IF(ISERROR(VLOOKUP(B5904,database!$A$6:$BFQ$206,4,FALSE)),\"\",VLOOKUP(B5904,database!$A$6:$BFQ$206,4,FALSE)))","v":""},null,null,null,"",null,null,null,{"$f":"IF(B5904=\"\",\"\",IF(ISERROR(VLOOKUP(B5904,database!$A$6:$BFQ$206,3,FALSE)),\"\",VLOOKUP(B5904,database!$A$6:$BFQ$206,3,FALSE)))","v":""},null,null,null,null,null,null,""]
["",null,{"$f":"IF(B5905=\"\",\"\",IF(ISERROR(VLOOKUP(B5905,database!$A$6:$BFQ$206,4,FALSE)),\"\",VLOOKUP(B5905,database!$A$6:$BFQ$206,4,FALSE)))","v":""},null,null,null,"",null,null,null,{"$f":"IF(B5905=\"\",\"\",IF(ISERROR(VLOOKUP(B5905,database!$A$6:$BFQ$206,3,FALSE)),\"\",VLOOKUP(B5905,database!$A$6:$BFQ$206,3,FALSE)))","v":""},null,null,null,null,null,null,""]
["",null,{"$f":"IF(B5906=\"\",\"\",IF(ISERROR(VLOOKUP(B5906,database!$A$6:$BFQ$206,4,FALSE)),\"\",VLOOKUP(B5906,database!$A$6:$BFQ$206,4,FALSE)))","v":""},null,null,null,"",null,null,null,{"$f":"IF(B5906=\"\",\"\",IF(ISERROR(VLOOKUP(B5906,database!$A$6:$BFQ$206,3,FALSE)),\"\",VLOOKUP(B5906,database!$A$6:$BFQ$206,3,FALSE)))","v":""},null,null,null,null,null,null,""]
["",null,{"$f":"IF(B5907=\"\",\"\",IF(ISERROR(VLOOKUP(B5907,database!$A$6:$BFQ$206,4,FALSE)),\"\",VLOOKUP(B5907,database!$A$6:$BFQ$206,4,FALSE)))","v":""},null,null,null,"",null,null,null,{"$f":"IF(B5907=\"\",\"\",IF(ISERROR(VLOOKUP(B5907,database!$A$6:$BFQ$206,3,FALSE)),\"\",VLOOKUP(B5907,database!$A$6:$BFQ$206,3,FALSE)))","v":""},null,null,null,null,null,null,""]
["",null,{"$f":"IF(B5908=\"\",\"\",IF(ISERROR(VLOOKUP(B5908,database!$A$6:$BFQ$206,4,FALSE)),\"\",VLOOKUP(B5908,database!$A$6:$BFQ$206,4,FALSE)))","v":""},null,null,null,"",null,null,null,{"$f":"IF(B5908=\"\",\"\",IF(ISERROR(VLOOKUP(B5908,database!$A$6:$BFQ$206,3,FALSE)),\"\",VLOOKUP(B5908,database!$A$6:$BFQ$206,3,FALSE)))","v":""},null,null,null,null,null,null,""]
["",null,{"$f":"IF(B5909=\"\",\"\",IF(ISERROR(VLOOKUP(B5909,database!$A$6:$BFQ$206,4,FALSE)),\"\",VLOOKUP(B5909,database!$A$6:$BFQ$206,4,FALSE)))","v":""},null,null,null,"",null,null,null,{"$f":"IF(B5909=\"\",\"\",IF(ISERROR(VLOOKUP(B5909,database!$A$6:$BFQ$206,3,FALSE)),\"\",VLOOKUP(B5909,database!$A$6:$BFQ$206,3,FALSE)))","v":""},null,null,null,null,null,null,""]
["",null,{"$f":"IF(B5910=\"\",\"\",IF(ISERROR(VLOOKUP(B5910,database!$A$6:$BFQ$206,4,FALSE)),\"\",VLOOKUP(B5910,database!$A$6:$BFQ$206,4,FALSE)))","v":""},null,null,null,"",null,null,null,{"$f":"IF(B5910=\"\",\"\",IF(ISERROR(VLOOKUP(B5910,database!$A$6:$BFQ$206,3,FALSE)),\"\",VLOOKUP(B5910,database!$A$6:$BFQ$206,3,FALSE)))","v":""},null,null,null,null,null,null,""]
["",null,{"$f":"IF(B5911=\"\",\"\",IF(ISERROR(VLOOKUP(B5911,database!$A$6:$BFQ$206,4,FALSE)),\"\",VLOOKUP(B5911,database!$A$6:$BFQ$206,4,FALSE)))","v":""},null,null,null,"",null,null,null,{"$f":"IF(B5911=\"\",\"\",IF(ISERROR(VLOOKUP(B5911,database!$A$6:$BFQ$206,3,FALSE)),\"\",VLOOKUP(B5911,database!$A$6:$BFQ$206,3,FALSE)))","v":""},null,null,null,null,null,null,""]
["",null,{"$f":"IF(B5912=\"\",\"\",IF(ISERROR(VLOOKUP(B5912,database!$A$6:$BFQ$206,4,FALSE)),\"\",VLOOKUP(B5912,database!$A$6:$BFQ$206,4,FALSE)))","v":""},null,null,null,"",null,null,null,{"$f":"IF(B5912=\"\",\"\",IF(ISERROR(VLOOKUP(B5912,database!$A$6:$BFQ$206,3,FALSE)),\"\",VLOOKUP(B5912,database!$A$6:$BFQ$206,3,FALSE)))","v":""},null,null,null,null,null,null,""]
["",null,{"$f":"IF(B5913=\"\",\"\",IF(ISERROR(VLOOKUP(B5913,database!$A$6:$BFQ$206,4,FALSE)),\"\",VLOOKUP(B5913,database!$A$6:$BFQ$206,4,FALSE)))","v":""},null,null,null,"",null,null,null,{"$f":"IF(B5913=\"\",\"\",IF(ISERROR(VLOOKUP(B5913,database!$A$6:$BFQ$206,3,FALSE)),\"\",VLOOKUP(B5913,database!$A$6:$BFQ$206,3,FALSE)))","v":""},null,null,null,null,null,null,""]
["",null,{"$f":"IF(B5914=\"\",\"\",IF(ISERROR(VLOOKUP(B5914,database!$A$6:$BFQ$206,4,FALSE)),\"\",VLOOKUP(B5914,database!$A$6:$BFQ$206,4,FALSE)))","v":""},null,null,null,"",null,null,null,{"$f":"IF(B5914=\"\",\"\",IF(ISERROR(VLOOKUP(B5914,database!$A$6:$BFQ$206,3,FALSE)),\"\",VLOOKUP(B5914,database!$A$6:$BFQ$206,3,FALSE)))","v":""},null,null,null,null,null,null,""]
["",null,{"$f":"IF(B5915=\"\",\"\",IF(ISERROR(VLOOKUP(B5915,database!$A$6:$BFQ$206,4,FALSE)),\"\",VLOOKUP(B5915,database!$A$6:$BFQ$206,4,FALSE)))","v":""},null,null,null,"",null,null,null,{"$f":"IF(B5915=\"\",\"\",IF(ISERROR(VLOOKUP(B5915,database!$A$6:$BFQ$206,3,FALSE)),\"\",VLOOKUP(B5915,database!$A$6:$BFQ$206,3,FALSE)))","v":""},null,null,null,null,null,null,""]
["",null,{"$f":"IF(B5916=\"\",\"\",IF(ISERROR(VLOOKUP(B5916,database!$A$6:$BFQ$206,4,FALSE)),\"\",VLOOKUP(B5916,database!$A$6:$BFQ$206,4,FALSE)))","v":""},null,null,null,"",null,null,null,{"$f":"IF(B5916=\"\",\"\",IF(ISERROR(VLOOKUP(B5916,database!$A$6:$BFQ$206,3,FALSE)),\"\",VLOOKUP(B5916,database!$A$6:$BFQ$206,3,FALSE)))","v":""},null,null,null,null,null,null,""]
["",null,{"$f":"IF(B5917=\"\",\"\",IF(ISERROR(VLOOKUP(B5917,database!$A$6:$BFQ$206,4,FALSE)),\"\",VLOOKUP(B5917,database!$A$6:$BFQ$206,4,FALSE)))","v":""},null,null,null,"",null,null,null,{"$f":"IF(B5917=\"\",\"\",IF(ISERROR(VLOOKUP(B5917,database!$A$6:$BFQ$206,3,FALSE)),\"\",VLOOKUP(B5917,database!$A$6:$BFQ$206,3,FALSE)))","v":""},null,null,null,null,null,null,""]
["",null,{"$f":"IF(B5918=\"\",\"\",IF(ISERROR(VLOOKUP(B5918,database!$A$6:$BFQ$206,4,FALSE)),\"\",VLOOKUP(B5918,database!$A$6:$BFQ$206,4,FALSE)))","v":""},null,null,null,"",null,null,null,{"$f":"IF(B5918=\"\",\"\",IF(ISERROR(VLOOKUP(B5918,database!$A$6:$BFQ$206,3,FALSE)),\"\",VLOOKUP(B5918,database!$A$6:$BFQ$206,3,FALSE)))","v":""},null,null,null,null,null,null,""]
["",null,{"$f":"IF(B5919=\"\",\"\",IF(ISERROR(VLOOKUP(B5919,database!$A$6:$BFQ$206,4,FALSE)),\"\",VLOOKUP(B5919,database!$A$6:$BFQ$206,4,FALSE)))","v":""},null,null,null,"",null,null,null,{"$f":"IF(B5919=\"\",\"\",IF(ISERROR(VLOOKUP(B5919,database!$A$6:$BFQ$206,3,FALSE)),\"\",VLOOKUP(B5919,database!$A$6:$BFQ$206,3,FALSE)))","v":""},null,null,null,null,null,null,""]
["",null,{"$f":"IF(B5920=\"\",\"\",IF(ISERROR(VLOOKUP(B5920,database!$A$6:$BFQ$206,4,FALSE)),\"\",VLOOKUP(B5920,database!$A$6:$BFQ$206,4,FALSE)))","v":""},null,null,null,"",null,null,null,{"$f":"IF(B5920=\"\",\"\",IF(ISERROR(VLOOKUP(B5920,database!$A$6:$BFQ$206,3,FALSE)),\"\",VLOOKUP(B5920,database!$A$6:$BFQ$206,3,FALSE)))","v":""},null,null,null,null,null,null,""]
["",null,{"$f":"IF(B5921=\"\",\"\",IF(ISERROR(VLOOKUP(B5921,database!$A$6:$BFQ$206,4,FALSE)),\"\",VLOOKUP(B5921,database!$A$6:$BFQ$206,4,FALSE)))","v":""},null,null,null,"",null,null,null,{"$f":"IF(B5921=\"\",\"\",IF(ISERROR(VLOOKUP(B5921,database!$A$6:$BFQ$206,3,FALSE)),\"\",VLOOKUP(B5921,database!$A$6:$BFQ$206,3,FALSE)))","v":""},null,null,null,null,null,null,""]
["",null,{"$f":"IF(B5922=\"\",\"\",IF(ISERROR(VLOOKUP(B5922,database!$A$6:$BFQ$206,4,FALSE)),\"\",VLOOKUP(B5922,database!$A$6:$BFQ$206,4,FALSE)))","v":""},null,null,null,"",null,null,null,{"$f":"IF(B5922=\"\",\"\",IF(ISERROR(VLOOKUP(B5922,database!$A$6:$BFQ$206,3,FALSE)),\"\",VLOOKUP(B5922,database!$A$6:$BFQ$206,3,FALSE)))","v":""},null,null,null,null,null,null,""]
["",null,{"$f":"IF(B5923=\"\",\"\",IF(ISERROR(VLOOKUP(B5923,database!$A$6:$BFQ$206,4,FALSE)),\"\",VLOOKUP(B5923,database!$A$6:$BFQ$206,4,FALSE)))","v":""},null,null,null,"",null,null,null,{"$f":"IF(B5923=\"\",\"\",IF(ISERROR(VLOOKUP(B5923,database!$A$6:$BFQ$206,3,FALSE)),\"\",VLOOKUP(B5923,database!$A$6:$BFQ$206,3,FALSE)))","v":""},null,null,null,null,null,null,""]
["",null,{"$f":"IF(B5924=\"\",\"\",IF(ISERROR(VLOOKUP(B5924,database!$A$6:$BFQ$206,4,FALSE)),\"\",VLOOKUP(B5924,database!$A$6:$BFQ$206,4,FALSE)))","v":""},null,null,null,"",null,null,null,{"$f":"IF(B5924=\"\",\"\",IF(ISERROR(VLOOKUP(B5924,database!$A$6:$BFQ$206,3,FALSE)),\"\",VLOOKUP(B5924,database!$A$6:$BFQ$206,3,FALSE)))","v":""},null,null,null,null,null,null,""]
["",null,{"$f":"IF(B5925=\"\",\"\",IF(ISERROR(VLOOKUP(B5925,database!$A$6:$BFQ$206,4,FALSE)),\"\",VLOOKUP(B5925,database!$A$6:$BFQ$206,4,FALSE)))","v":""},null,null,null,"",null,null,null,{"$f":"IF(B5925=\"\",\"\",IF(ISERROR(VLOOKUP(B5925,database!$A$6:$BFQ$206,3,FALSE)),\"\",VLOOKUP(B5925,database!$A$6:$BFQ$206,3,FALSE)))","v":""},null,null,null,null,null,null,""]
["",null,{"$f":"IF(B5926=\"\",\"\",IF(ISERROR(VLOOKUP(B5926,database!$A$6:$BFQ$206,4,FALSE)),\"\",VLOOKUP(B5926,database!$A$6:$BFQ$206,4,FALSE)))","v":""},null,null,null,"",null,null,null,{"$f":"IF(B5926=\"\",\"\",IF(ISERROR(VLOOKUP(B5926,database!$A$6:$BFQ$206,3,FALSE)),\"\",VLOOKUP(B5926,database!$A$6:$BFQ$206,3,FALSE)))","v":""},null,null,null,null,null,null,""]
["",null,{"$f":"IF(B5927=\"\",\"\",IF(ISERROR(VLOOKUP(B5927,database!$A$6:$BFQ$206,4,FALSE)),\"\",VLOOKUP(B5927,database!$A$6:$BFQ$206,4,FALSE)))","v":""},null,null,null,"",null,null,null,{"$f":"IF(B5927=\"\",\"\",IF(ISERROR(VLOOKUP(B5927,database!$A$6:$BFQ$206,3,FALSE)),\"\",VLOOKUP(B5927,database!$A$6:$BFQ$206,3,FALSE)))","v":""},null,null,null,null,null,null,""]
["",null,{"$f":"IF(B5928=\"\",\"\",IF(ISERROR(VLOOKUP(B5928,database!$A$6:$BFQ$206,4,FALSE)),\"\",VLOOKUP(B5928,database!$A$6:$BFQ$206,4,FALSE)))","v":""},null,null,null,"",null,null,null,{"$f":"IF(B5928=\"\",\"\",IF(ISERROR(VLOOKUP(B5928,database!$A$6:$BFQ$206,3,FALSE)),\"\",VLOOKUP(B5928,database!$A$6:$BFQ$206,3,FALSE)))","v":""},null,null,null,null,null,null,""]
["",null,{"$f":"IF(B5929=\"\",\"\",IF(ISERROR(VLOOKUP(B5929,database!$A$6:$BFQ$206,4,FALSE)),\"\",VLOOKUP(B5929,database!$A$6:$BFQ$206,4,FALSE)))","v":""},null,null,null,"",null,null,null,{"$f":"IF(B5929=\"\",\"\",IF(ISERROR(VLOOKUP(B5929,database!$A$6:$BFQ$206,3,FALSE)),\"\",VLOOKUP(B5929,database!$A$6:$BFQ$206,3,FALSE)))","v":""},null,null,null,null,null,null,""]
["",null,{"$f":"IF(B5930=\"\",\"\",IF(ISERROR(VLOOKUP(B5930,database!$A$6:$BFQ$206,4,FALSE)),\"\",VLOOKUP(B5930,database!$A$6:$BFQ$206,4,FALSE)))","v":""},null,null,null,"",null,null,null,{"$f":"IF(B5930=\"\",\"\",IF(ISERROR(VLOOKUP(B5930,database!$A$6:$BFQ$206,3,FALSE)),\"\",VLOOKUP(B5930,database!$A$6:$BFQ$206,3,FALSE)))","v":""},null,null,null,null,null,null,""]
["",null,{"$f":"IF(B5931=\"\",\"\",IF(ISERROR(VLOOKUP(B5931,database!$A$6:$BFQ$206,4,FALSE)),\"\",VLOOKUP(B5931,database!$A$6:$BFQ$206,4,FALSE)))","v":""},null,null,null,"",null,null,null,{"$f":"IF(B5931=\"\",\"\",IF(ISERROR(VLOOKUP(B5931,database!$A$6:$BFQ$206,3,FALSE)),\"\",VLOOKUP(B5931,database!$A$6:$BFQ$206,3,FALSE)))","v":""},null,null,null,null,null,null,""]
["",null,{"$f":"IF(B5932=\"\",\"\",IF(ISERROR(VLOOKUP(B5932,database!$A$6:$BFQ$206,4,FALSE)),\"\",VLOOKUP(B5932,database!$A$6:$BFQ$206,4,FALSE)))","v":""},null,null,null,"",null,null,null,{"$f":"IF(B5932=\"\",\"\",IF(ISERROR(VLOOKUP(B5932,database!$A$6:$BFQ$206,3,FALSE)),\"\",VLOOKUP(B5932,database!$A$6:$BFQ$206,3,FALSE)))","v":""},null,null,null,null,null,null,""]
["",null,{"$f":"IF(B5933=\"\",\"\",IF(ISERROR(VLOOKUP(B5933,database!$A$6:$BFQ$206,4,FALSE)),\"\",VLOOKUP(B5933,database!$A$6:$BFQ$206,4,FALSE)))","v":""},null,null,null,"",null,null,null,{"$f":"IF(B5933=\"\",\"\",IF(ISERROR(VLOOKUP(B5933,database!$A$6:$BFQ$206,3,FALSE)),\"\",VLOOKUP(B5933,database!$A$6:$BFQ$206,3,FALSE)))","v":""},null,null,null,null,null,null,""]
["",null,{"$f":"IF(B5934=\"\",\"\",IF(ISERROR(VLOOKUP(B5934,database!$A$6:$BFQ$206,4,FALSE)),\"\",VLOOKUP(B5934,database!$A$6:$BFQ$206,4,FALSE)))","v":""},null,null,null,"",null,null,null,{"$f":"IF(B5934=\"\",\"\",IF(ISERROR(VLOOKUP(B5934,database!$A$6:$BFQ$206,3,FALSE)),\"\",VLOOKUP(B5934,database!$A$6:$BFQ$206,3,FALSE)))","v":""},null,null,null,null,null,null,""]
["",null,{"$f":"IF(B5935=\"\",\"\",IF(ISERROR(VLOOKUP(B5935,database!$A$6:$BFQ$206,4,FALSE)),\"\",VLOOKUP(B5935,database!$A$6:$BFQ$206,4,FALSE)))","v":""},null,null,null,"",null,null,null,{"$f":"IF(B5935=\"\",\"\",IF(ISERROR(VLOOKUP(B5935,database!$A$6:$BFQ$206,3,FALSE)),\"\",VLOOKUP(B5935,database!$A$6:$BFQ$206,3,FALSE)))","v":""},null,null,null,null,null,null,""]
["",null,{"$f":"IF(B5936=\"\",\"\",IF(ISERROR(VLOOKUP(B5936,database!$A$6:$BFQ$206,4,FALSE)),\"\",VLOOKUP(B5936,database!$A$6:$BFQ$206,4,FALSE)))","v":""},null,null,null,"",null,null,null,{"$f":"IF(B5936=\"\",\"\",IF(ISERROR(VLOOKUP(B5936,database!$A$6:$BFQ$206,3,FALSE)),\"\",VLOOKUP(B5936,database!$A$6:$BFQ$206,3,FALSE)))","v":""},null,null,null,null,null,null,""]
["",null,{"$f":"IF(B5937=\"\",\"\",IF(ISERROR(VLOOKUP(B5937,database!$A$6:$BFQ$206,4,FALSE)),\"\",VLOOKUP(B5937,database!$A$6:$BFQ$206,4,FALSE)))","v":""},null,null,null,"",null,null,null,{"$f":"IF(B5937=\"\",\"\",IF(ISERROR(VLOOKUP(B5937,database!$A$6:$BFQ$206,3,FALSE)),\"\",VLOOKUP(B5937,database!$A$6:$BFQ$206,3,FALSE)))","v":""},null,null,null,null,null,null,""]
["",null,{"$f":"IF(B5938=\"\",\"\",IF(ISERROR(VLOOKUP(B5938,database!$A$6:$BFQ$206,4,FALSE)),\"\",VLOOKUP(B5938,database!$A$6:$BFQ$206,4,FALSE)))","v":""},null,null,null,"",null,null,null,{"$f":"IF(B5938=\"\",\"\",IF(ISERROR(VLOOKUP(B5938,database!$A$6:$BFQ$206,3,FALSE)),\"\",VLOOKUP(B5938,database!$A$6:$BFQ$206,3,FALSE)))","v":""},null,null,null,null,null,null,""]
["",null,{"$f":"IF(B5939=\"\",\"\",IF(ISERROR(VLOOKUP(B5939,database!$A$6:$BFQ$206,4,FALSE)),\"\",VLOOKUP(B5939,database!$A$6:$BFQ$206,4,FALSE)))","v":""},null,null,null,"",null,null,null,{"$f":"IF(B5939=\"\",\"\",IF(ISERROR(VLOOKUP(B5939,database!$A$6:$BFQ$206,3,FALSE)),\"\",VLOOKUP(B5939,database!$A$6:$BFQ$206,3,FALSE)))","v":""},null,null,null,null,null,null,""]
["",null,{"$f":"IF(B5940=\"\",\"\",IF(ISERROR(VLOOKUP(B5940,database!$A$6:$BFQ$206,4,FALSE)),\"\",VLOOKUP(B5940,database!$A$6:$BFQ$206,4,FALSE)))","v":""},null,null,null,"",null,null,null,{"$f":"IF(B5940=\"\",\"\",IF(ISERROR(VLOOKUP(B5940,database!$A$6:$BFQ$206,3,FALSE)),\"\",VLOOKUP(B5940,database!$A$6:$BFQ$206,3,FALSE)))","v":""},null,null,null,null,null,null,""]
["",null,{"$f":"IF(B5941=\"\",\"\",IF(ISERROR(VLOOKUP(B5941,database!$A$6:$BFQ$206,4,FALSE)),\"\",VLOOKUP(B5941,database!$A$6:$BFQ$206,4,FALSE)))","v":""},null,null,null,"",null,null,null,{"$f":"IF(B5941=\"\",\"\",IF(ISERROR(VLOOKUP(B5941,database!$A$6:$BFQ$206,3,FALSE)),\"\",VLOOKUP(B5941,database!$A$6:$BFQ$206,3,FALSE)))","v":""},null,null,null,null,null,null,""]
["",null,{"$f":"IF(B5942=\"\",\"\",IF(ISERROR(VLOOKUP(B5942,database!$A$6:$BFQ$206,4,FALSE)),\"\",VLOOKUP(B5942,database!$A$6:$BFQ$206,4,FALSE)))","v":""},null,null,null,"",null,null,null,{"$f":"IF(B5942=\"\",\"\",IF(ISERROR(VLOOKUP(B5942,database!$A$6:$BFQ$206,3,FALSE)),\"\",VLOOKUP(B5942,database!$A$6:$BFQ$206,3,FALSE)))","v":""},null,null,null,null,null,null,""]
["",null,{"$f":"IF(B5943=\"\",\"\",IF(ISERROR(VLOOKUP(B5943,database!$A$6:$BFQ$206,4,FALSE)),\"\",VLOOKUP(B5943,database!$A$6:$BFQ$206,4,FALSE)))","v":""},null,null,null,"",null,null,null,{"$f":"IF(B5943=\"\",\"\",IF(ISERROR(VLOOKUP(B5943,database!$A$6:$BFQ$206,3,FALSE)),\"\",VLOOKUP(B5943,database!$A$6:$BFQ$206,3,FALSE)))","v":""},null,null,null,null,null,null,""]
["",null,{"$f":"IF(B5944=\"\",\"\",IF(ISERROR(VLOOKUP(B5944,database!$A$6:$BFQ$206,4,FALSE)),\"\",VLOOKUP(B5944,database!$A$6:$BFQ$206,4,FALSE)))","v":""},null,null,null,"",null,null,null,{"$f":"IF(B5944=\"\",\"\",IF(ISERROR(VLOOKUP(B5944,database!$A$6:$BFQ$206,3,FALSE)),\"\",VLOOKUP(B5944,database!$A$6:$BFQ$206,3,FALSE)))","v":""},null,null,null,null,null,null,""]
["",null,{"$f":"IF(B5945=\"\",\"\",IF(ISERROR(VLOOKUP(B5945,database!$A$6:$BFQ$206,4,FALSE)),\"\",VLOOKUP(B5945,database!$A$6:$BFQ$206,4,FALSE)))","v":""},null,null,null,"",null,null,null,{"$f":"IF(B5945=\"\",\"\",IF(ISERROR(VLOOKUP(B5945,database!$A$6:$BFQ$206,3,FALSE)),\"\",VLOOKUP(B5945,database!$A$6:$BFQ$206,3,FALSE)))","v":""},null,null,null,null,null,null,""]
["",null,{"$f":"IF(B5946=\"\",\"\",IF(ISERROR(VLOOKUP(B5946,database!$A$6:$BFQ$206,4,FALSE)),\"\",VLOOKUP(B5946,database!$A$6:$BFQ$206,4,FALSE)))","v":""},null,null,null,"",null,null,null,{"$f":"IF(B5946=\"\",\"\",IF(ISERROR(VLOOKUP(B5946,database!$A$6:$BFQ$206,3,FALSE)),\"\",VLOOKUP(B5946,database!$A$6:$BFQ$206,3,FALSE)))","v":""},null,null,null,null,null,null,""]
["",null,{"$f":"IF(B5947=\"\",\"\",IF(ISERROR(VLOOKUP(B5947,database!$A$6:$BFQ$206,4,FALSE)),\"\",VLOOKUP(B5947,database!$A$6:$BFQ$206,4,FALSE)))","v":""},null,null,null,"",null,null,null,{"$f":"IF(B5947=\"\",\"\",IF(ISERROR(VLOOKUP(B5947,database!$A$6:$BFQ$206,3,FALSE)),\"\",VLOOKUP(B5947,database!$A$6:$BFQ$206,3,FALSE)))","v":""},null,null,null,null,null,null,""]
["",null,{"$f":"IF(B5948=\"\",\"\",IF(ISERROR(VLOOKUP(B5948,database!$A$6:$BFQ$206,4,FALSE)),\"\",VLOOKUP(B5948,database!$A$6:$BFQ$206,4,FALSE)))","v":""},null,null,null,"",null,null,null,{"$f":"IF(B5948=\"\",\"\",IF(ISERROR(VLOOKUP(B5948,database!$A$6:$BFQ$206,3,FALSE)),\"\",VLOOKUP(B5948,database!$A$6:$BFQ$206,3,FALSE)))","v":""},null,null,null,null,null,null,""]
["",null,{"$f":"IF(B5949=\"\",\"\",IF(ISERROR(VLOOKUP(B5949,database!$A$6:$BFQ$206,4,FALSE)),\"\",VLOOKUP(B5949,database!$A$6:$BFQ$206,4,FALSE)))","v":""},null,null,null,"",null,null,null,{"$f":"IF(B5949=\"\",\"\",IF(ISERROR(VLOOKUP(B5949,database!$A$6:$BFQ$206,3,FALSE)),\"\",VLOOKUP(B5949,database!$A$6:$BFQ$206,3,FALSE)))","v":""},null,null,null,null,null,null,""]
["",null,{"$f":"IF(B5950=\"\",\"\",IF(ISERROR(VLOOKUP(B5950,database!$A$6:$BFQ$206,4,FALSE)),\"\",VLOOKUP(B5950,database!$A$6:$BFQ$206,4,FALSE)))","v":""},null,null,null,"",null,null,null,{"$f":"IF(B5950=\"\",\"\",IF(ISERROR(VLOOKUP(B5950,database!$A$6:$BFQ$206,3,FALSE)),\"\",VLOOKUP(B5950,database!$A$6:$BFQ$206,3,FALSE)))","v":""},null,null,null,null,null,null,""]
["",null,{"$f":"IF(B5951=\"\",\"\",IF(ISERROR(VLOOKUP(B5951,database!$A$6:$BFQ$206,4,FALSE)),\"\",VLOOKUP(B5951,database!$A$6:$BFQ$206,4,FALSE)))","v":""},null,null,null,"",null,null,null,{"$f":"IF(B5951=\"\",\"\",IF(ISERROR(VLOOKUP(B5951,database!$A$6:$BFQ$206,3,FALSE)),\"\",VLOOKUP(B5951,database!$A$6:$BFQ$206,3,FALSE)))","v":""},null,null,null,null,null,null,""]
["",null,{"$f":"IF(B5952=\"\",\"\",IF(ISERROR(VLOOKUP(B5952,database!$A$6:$BFQ$206,4,FALSE)),\"\",VLOOKUP(B5952,database!$A$6:$BFQ$206,4,FALSE)))","v":""},null,null,null,"",null,null,null,{"$f":"IF(B5952=\"\",\"\",IF(ISERROR(VLOOKUP(B5952,database!$A$6:$BFQ$206,3,FALSE)),\"\",VLOOKUP(B5952,database!$A$6:$BFQ$206,3,FALSE)))","v":""},null,null,null,null,null,null,""]
[{"$f":"IF(B5953=\"\",\"\",ROW(A5950))","v":""},null,{"$f":"IF(B5953=\"\",\"\",IF(ISERROR(VLOOKUP(B5953,database!$A$6:$BFQ$206,4,FALSE)),\"\",VLOOKUP(B5953,database!$A$6:$BFQ$206,4,FALSE)))","v":""},null,null,null,{"$f":"IF(B5953=\"\",\"\",IF(C5953=\"\",0,1))","v":""},null,null,null,{"$f":"IF(B5953=\"\",\"\",IF(ISERROR(VLOOKUP(B5953,database!$A$6:$BFQ$206,3,FALSE)),\"\",VLOOKUP(B5953,database!$A$6:$BFQ$206,3,FALSE)))","v":""},null,null,null,null,null,null,{"$f":"LEFT(C5953,2)","v":""}]
["",null,{"$f":"IF(B5954=\"\",\"\",IF(ISERROR(VLOOKUP(B5954,database!$A$6:$BFQ$206,4,FALSE)),\"\",VLOOKUP(B5954,database!$A$6:$BFQ$206,4,FALSE)))","v":""},null,null,null,"",null,null,null,{"$f":"IF(B5954=\"\",\"\",IF(ISERROR(VLOOKUP(B5954,database!$A$6:$BFQ$206,3,FALSE)),\"\",VLOOKUP(B5954,database!$A$6:$BFQ$206,3,FALSE)))","v":""},null,null,null,null,null,null,""]
["",null,{"$f":"IF(B5955=\"\",\"\",IF(ISERROR(VLOOKUP(B5955,database!$A$6:$BFQ$206,4,FALSE)),\"\",VLOOKUP(B5955,database!$A$6:$BFQ$206,4,FALSE)))","v":""},null,null,null,"",null,null,null,{"$f":"IF(B5955=\"\",\"\",IF(ISERROR(VLOOKUP(B5955,database!$A$6:$BFQ$206,3,FALSE)),\"\",VLOOKUP(B5955,database!$A$6:$BFQ$206,3,FALSE)))","v":""},null,null,null,null,null,null,""]
["",null,{"$f":"IF(B5956=\"\",\"\",IF(ISERROR(VLOOKUP(B5956,database!$A$6:$BFQ$206,4,FALSE)),\"\",VLOOKUP(B5956,database!$A$6:$BFQ$206,4,FALSE)))","v":""},null,null,null,"",null,null,null,{"$f":"IF(B5956=\"\",\"\",IF(ISERROR(VLOOKUP(B5956,database!$A$6:$BFQ$206,3,FALSE)),\"\",VLOOKUP(B5956,database!$A$6:$BFQ$206,3,FALSE)))","v":""},null,null,null,null,null,null,""]
["",null,{"$f":"IF(B5957=\"\",\"\",IF(ISERROR(VLOOKUP(B5957,database!$A$6:$BFQ$206,4,FALSE)),\"\",VLOOKUP(B5957,database!$A$6:$BFQ$206,4,FALSE)))","v":""},null,null,null,"",null,null,null,{"$f":"IF(B5957=\"\",\"\",IF(ISERROR(VLOOKUP(B5957,database!$A$6:$BFQ$206,3,FALSE)),\"\",VLOOKUP(B5957,database!$A$6:$BFQ$206,3,FALSE)))","v":""},null,null,null,null,null,null,""]
["",null,{"$f":"IF(B5958=\"\",\"\",IF(ISERROR(VLOOKUP(B5958,database!$A$6:$BFQ$206,4,FALSE)),\"\",VLOOKUP(B5958,database!$A$6:$BFQ$206,4,FALSE)))","v":""},null,null,null,"",null,null,null,{"$f":"IF(B5958=\"\",\"\",IF(ISERROR(VLOOKUP(B5958,database!$A$6:$BFQ$206,3,FALSE)),\"\",VLOOKUP(B5958,database!$A$6:$BFQ$206,3,FALSE)))","v":""},null,null,null,null,null,null,""]
["",null,{"$f":"IF(B5959=\"\",\"\",IF(ISERROR(VLOOKUP(B5959,database!$A$6:$BFQ$206,4,FALSE)),\"\",VLOOKUP(B5959,database!$A$6:$BFQ$206,4,FALSE)))","v":""},null,null,null,"",null,null,null,{"$f":"IF(B5959=\"\",\"\",IF(ISERROR(VLOOKUP(B5959,database!$A$6:$BFQ$206,3,FALSE)),\"\",VLOOKUP(B5959,database!$A$6:$BFQ$206,3,FALSE)))","v":""},null,null,null,null,null,null,""]
["",null,{"$f":"IF(B5960=\"\",\"\",IF(ISERROR(VLOOKUP(B5960,database!$A$6:$BFQ$206,4,FALSE)),\"\",VLOOKUP(B5960,database!$A$6:$BFQ$206,4,FALSE)))","v":""},null,null,null,"",null,null,null,{"$f":"IF(B5960=\"\",\"\",IF(ISERROR(VLOOKUP(B5960,database!$A$6:$BFQ$206,3,FALSE)),\"\",VLOOKUP(B5960,database!$A$6:$BFQ$206,3,FALSE)))","v":""},null,null,null,null,null,null,""]
["",null,{"$f":"IF(B5961=\"\",\"\",IF(ISERROR(VLOOKUP(B5961,database!$A$6:$BFQ$206,4,FALSE)),\"\",VLOOKUP(B5961,database!$A$6:$BFQ$206,4,FALSE)))","v":""},null,null,null,"",null,null,null,{"$f":"IF(B5961=\"\",\"\",IF(ISERROR(VLOOKUP(B5961,database!$A$6:$BFQ$206,3,FALSE)),\"\",VLOOKUP(B5961,database!$A$6:$BFQ$206,3,FALSE)))","v":""},null,null,null,null,null,null,""]
["",null,{"$f":"IF(B5962=\"\",\"\",IF(ISERROR(VLOOKUP(B5962,database!$A$6:$BFQ$206,4,FALSE)),\"\",VLOOKUP(B5962,database!$A$6:$BFQ$206,4,FALSE)))","v":""},null,null,null,"",null,null,null,{"$f":"IF(B5962=\"\",\"\",IF(ISERROR(VLOOKUP(B5962,database!$A$6:$BFQ$206,3,FALSE)),\"\",VLOOKUP(B5962,database!$A$6:$BFQ$206,3,FALSE)))","v":""},null,null,null,null,null,null,""]
["",null,{"$f":"IF(B5963=\"\",\"\",IF(ISERROR(VLOOKUP(B5963,database!$A$6:$BFQ$206,4,FALSE)),\"\",VLOOKUP(B5963,database!$A$6:$BFQ$206,4,FALSE)))","v":""},null,null,null,"",null,null,null,{"$f":"IF(B5963=\"\",\"\",IF(ISERROR(VLOOKUP(B5963,database!$A$6:$BFQ$206,3,FALSE)),\"\",VLOOKUP(B5963,database!$A$6:$BFQ$206,3,FALSE)))","v":""},null,null,null,null,null,null,""]
["",null,{"$f":"IF(B5964=\"\",\"\",IF(ISERROR(VLOOKUP(B5964,database!$A$6:$BFQ$206,4,FALSE)),\"\",VLOOKUP(B5964,database!$A$6:$BFQ$206,4,FALSE)))","v":""},null,null,null,"",null,null,null,{"$f":"IF(B5964=\"\",\"\",IF(ISERROR(VLOOKUP(B5964,database!$A$6:$BFQ$206,3,FALSE)),\"\",VLOOKUP(B5964,database!$A$6:$BFQ$206,3,FALSE)))","v":""},null,null,null,null,null,null,""]
["",null,{"$f":"IF(B5965=\"\",\"\",IF(ISERROR(VLOOKUP(B5965,database!$A$6:$BFQ$206,4,FALSE)),\"\",VLOOKUP(B5965,database!$A$6:$BFQ$206,4,FALSE)))","v":""},null,null,null,"",null,null,null,{"$f":"IF(B5965=\"\",\"\",IF(ISERROR(VLOOKUP(B5965,database!$A$6:$BFQ$206,3,FALSE)),\"\",VLOOKUP(B5965,database!$A$6:$BFQ$206,3,FALSE)))","v":""},null,null,null,null,null,null,""]
["",null,{"$f":"IF(B5966=\"\",\"\",IF(ISERROR(VLOOKUP(B5966,database!$A$6:$BFQ$206,4,FALSE)),\"\",VLOOKUP(B5966,database!$A$6:$BFQ$206,4,FALSE)))","v":""},null,null,null,"",null,null,null,{"$f":"IF(B5966=\"\",\"\",IF(ISERROR(VLOOKUP(B5966,database!$A$6:$BFQ$206,3,FALSE)),\"\",VLOOKUP(B5966,database!$A$6:$BFQ$206,3,FALSE)))","v":""},null,null,null,null,null,null,""]
["",null,{"$f":"IF(B5967=\"\",\"\",IF(ISERROR(VLOOKUP(B5967,database!$A$6:$BFQ$206,4,FALSE)),\"\",VLOOKUP(B5967,database!$A$6:$BFQ$206,4,FALSE)))","v":""},null,null,null,"",null,null,null,{"$f":"IF(B5967=\"\",\"\",IF(ISERROR(VLOOKUP(B5967,database!$A$6:$BFQ$206,3,FALSE)),\"\",VLOOKUP(B5967,database!$A$6:$BFQ$206,3,FALSE)))","v":""},null,null,null,null,null,null,""]
["",null,{"$f":"IF(B5968=\"\",\"\",IF(ISERROR(VLOOKUP(B5968,database!$A$6:$BFQ$206,4,FALSE)),\"\",VLOOKUP(B5968,database!$A$6:$BFQ$206,4,FALSE)))","v":""},null,null,null,"",null,null,null,{"$f":"IF(B5968=\"\",\"\",IF(ISERROR(VLOOKUP(B5968,database!$A$6:$BFQ$206,3,FALSE)),\"\",VLOOKUP(B5968,database!$A$6:$BFQ$206,3,FALSE)))","v":""},null,null,null,null,null,null,""]
["",null,{"$f":"IF(B5969=\"\",\"\",IF(ISERROR(VLOOKUP(B5969,database!$A$6:$BFQ$206,4,FALSE)),\"\",VLOOKUP(B5969,database!$A$6:$BFQ$206,4,FALSE)))","v":""},null,null,null,"",null,null,null,{"$f":"IF(B5969=\"\",\"\",IF(ISERROR(VLOOKUP(B5969,database!$A$6:$BFQ$206,3,FALSE)),\"\",VLOOKUP(B5969,database!$A$6:$BFQ$206,3,FALSE)))","v":""},null,null,null,null,null,null,""]
["",null,{"$f":"IF(B5970=\"\",\"\",IF(ISERROR(VLOOKUP(B5970,database!$A$6:$BFQ$206,4,FALSE)),\"\",VLOOKUP(B5970,database!$A$6:$BFQ$206,4,FALSE)))","v":""},null,null,null,"",null,null,null,{"$f":"IF(B5970=\"\",\"\",IF(ISERROR(VLOOKUP(B5970,database!$A$6:$BFQ$206,3,FALSE)),\"\",VLOOKUP(B5970,database!$A$6:$BFQ$206,3,FALSE)))","v":""},null,null,null,null,null,null,""]
["",null,{"$f":"IF(B5971=\"\",\"\",IF(ISERROR(VLOOKUP(B5971,database!$A$6:$BFQ$206,4,FALSE)),\"\",VLOOKUP(B5971,database!$A$6:$BFQ$206,4,FALSE)))","v":""},null,null,null,"",null,null,null,{"$f":"IF(B5971=\"\",\"\",IF(ISERROR(VLOOKUP(B5971,database!$A$6:$BFQ$206,3,FALSE)),\"\",VLOOKUP(B5971,database!$A$6:$BFQ$206,3,FALSE)))","v":""},null,null,null,null,null,null,""]
["",null,{"$f":"IF(B5972=\"\",\"\",IF(ISERROR(VLOOKUP(B5972,database!$A$6:$BFQ$206,4,FALSE)),\"\",VLOOKUP(B5972,database!$A$6:$BFQ$206,4,FALSE)))","v":""},null,null,null,"",null,null,null,{"$f":"IF(B5972=\"\",\"\",IF(ISERROR(VLOOKUP(B5972,database!$A$6:$BFQ$206,3,FALSE)),\"\",VLOOKUP(B5972,database!$A$6:$BFQ$206,3,FALSE)))","v":""},null,null,null,null,null,null,""]
["",null,{"$f":"IF(B5973=\"\",\"\",IF(ISERROR(VLOOKUP(B5973,database!$A$6:$BFQ$206,4,FALSE)),\"\",VLOOKUP(B5973,database!$A$6:$BFQ$206,4,FALSE)))","v":""},null,null,null,"",null,null,null,{"$f":"IF(B5973=\"\",\"\",IF(ISERROR(VLOOKUP(B5973,database!$A$6:$BFQ$206,3,FALSE)),\"\",VLOOKUP(B5973,database!$A$6:$BFQ$206,3,FALSE)))","v":""},null,null,null,null,null,null,""]
["",null,{"$f":"IF(B5974=\"\",\"\",IF(ISERROR(VLOOKUP(B5974,database!$A$6:$BFQ$206,4,FALSE)),\"\",VLOOKUP(B5974,database!$A$6:$BFQ$206,4,FALSE)))","v":""},null,null,null,"",null,null,null,{"$f":"IF(B5974=\"\",\"\",IF(ISERROR(VLOOKUP(B5974,database!$A$6:$BFQ$206,3,FALSE)),\"\",VLOOKUP(B5974,database!$A$6:$BFQ$206,3,FALSE)))","v":""},null,null,null,null,null,null,""]
["",null,{"$f":"IF(B5975=\"\",\"\",IF(ISERROR(VLOOKUP(B5975,database!$A$6:$BFQ$206,4,FALSE)),\"\",VLOOKUP(B5975,database!$A$6:$BFQ$206,4,FALSE)))","v":""},null,null,null,"",null,null,null,{"$f":"IF(B5975=\"\",\"\",IF(ISERROR(VLOOKUP(B5975,database!$A$6:$BFQ$206,3,FALSE)),\"\",VLOOKUP(B5975,database!$A$6:$BFQ$206,3,FALSE)))","v":""},null,null,null,null,null,null,""]
["",null,{"$f":"IF(B5976=\"\",\"\",IF(ISERROR(VLOOKUP(B5976,database!$A$6:$BFQ$206,4,FALSE)),\"\",VLOOKUP(B5976,database!$A$6:$BFQ$206,4,FALSE)))","v":""},null,null,null,"",null,null,null,{"$f":"IF(B5976=\"\",\"\",IF(ISERROR(VLOOKUP(B5976,database!$A$6:$BFQ$206,3,FALSE)),\"\",VLOOKUP(B5976,database!$A$6:$BFQ$206,3,FALSE)))","v":""},null,null,null,null,null,null,""]
["",null,{"$f":"IF(B5977=\"\",\"\",IF(ISERROR(VLOOKUP(B5977,database!$A$6:$BFQ$206,4,FALSE)),\"\",VLOOKUP(B5977,database!$A$6:$BFQ$206,4,FALSE)))","v":""},null,null,null,"",null,null,null,{"$f":"IF(B5977=\"\",\"\",IF(ISERROR(VLOOKUP(B5977,database!$A$6:$BFQ$206,3,FALSE)),\"\",VLOOKUP(B5977,database!$A$6:$BFQ$206,3,FALSE)))","v":""},null,null,null,null,null,null,""]
["",null,{"$f":"IF(B5978=\"\",\"\",IF(ISERROR(VLOOKUP(B5978,database!$A$6:$BFQ$206,4,FALSE)),\"\",VLOOKUP(B5978,database!$A$6:$BFQ$206,4,FALSE)))","v":""},null,null,null,"",null,null,null,{"$f":"IF(B5978=\"\",\"\",IF(ISERROR(VLOOKUP(B5978,database!$A$6:$BFQ$206,3,FALSE)),\"\",VLOOKUP(B5978,database!$A$6:$BFQ$206,3,FALSE)))","v":""},null,null,null,null,null,null,""]
["",null,{"$f":"IF(B5979=\"\",\"\",IF(ISERROR(VLOOKUP(B5979,database!$A$6:$BFQ$206,4,FALSE)),\"\",VLOOKUP(B5979,database!$A$6:$BFQ$206,4,FALSE)))","v":""},null,null,null,"",null,null,null,{"$f":"IF(B5979=\"\",\"\",IF(ISERROR(VLOOKUP(B5979,database!$A$6:$BFQ$206,3,FALSE)),\"\",VLOOKUP(B5979,database!$A$6:$BFQ$206,3,FALSE)))","v":""},null,null,null,null,null,null,""]
["",null,{"$f":"IF(B5980=\"\",\"\",IF(ISERROR(VLOOKUP(B5980,database!$A$6:$BFQ$206,4,FALSE)),\"\",VLOOKUP(B5980,database!$A$6:$BFQ$206,4,FALSE)))","v":""},null,null,null,"",null,null,null,{"$f":"IF(B5980=\"\",\"\",IF(ISERROR(VLOOKUP(B5980,database!$A$6:$BFQ$206,3,FALSE)),\"\",VLOOKUP(B5980,database!$A$6:$BFQ$206,3,FALSE)))","v":""},null,null,null,null,null,null,""]
["",null,{"$f":"IF(B5981=\"\",\"\",IF(ISERROR(VLOOKUP(B5981,database!$A$6:$BFQ$206,4,FALSE)),\"\",VLOOKUP(B5981,database!$A$6:$BFQ$206,4,FALSE)))","v":""},null,null,null,"",null,null,null,{"$f":"IF(B5981=\"\",\"\",IF(ISERROR(VLOOKUP(B5981,database!$A$6:$BFQ$206,3,FALSE)),\"\",VLOOKUP(B5981,database!$A$6:$BFQ$206,3,FALSE)))","v":""},null,null,null,null,null,null,""]
["",null,{"$f":"IF(B5982=\"\",\"\",IF(ISERROR(VLOOKUP(B5982,database!$A$6:$BFQ$206,4,FALSE)),\"\",VLOOKUP(B5982,database!$A$6:$BFQ$206,4,FALSE)))","v":""},null,null,null,"",null,null,null,{"$f":"IF(B5982=\"\",\"\",IF(ISERROR(VLOOKUP(B5982,database!$A$6:$BFQ$206,3,FALSE)),\"\",VLOOKUP(B5982,database!$A$6:$BFQ$206,3,FALSE)))","v":""},null,null,null,null,null,null,""]
["",null,{"$f":"IF(B5983=\"\",\"\",IF(ISERROR(VLOOKUP(B5983,database!$A$6:$BFQ$206,4,FALSE)),\"\",VLOOKUP(B5983,database!$A$6:$BFQ$206,4,FALSE)))","v":""},null,null,null,"",null,null,null,{"$f":"IF(B5983=\"\",\"\",IF(ISERROR(VLOOKUP(B5983,database!$A$6:$BFQ$206,3,FALSE)),\"\",VLOOKUP(B5983,database!$A$6:$BFQ$206,3,FALSE)))","v":""},null,null,null,null,null,null,""]
["",null,{"$f":"IF(B5984=\"\",\"\",IF(ISERROR(VLOOKUP(B5984,database!$A$6:$BFQ$206,4,FALSE)),\"\",VLOOKUP(B5984,database!$A$6:$BFQ$206,4,FALSE)))","v":""},null,null,null,"",null,null,null,{"$f":"IF(B5984=\"\",\"\",IF(ISERROR(VLOOKUP(B5984,database!$A$6:$BFQ$206,3,FALSE)),\"\",VLOOKUP(B5984,database!$A$6:$BFQ$206,3,FALSE)))","v":""},null,null,null,null,null,null,""]
["",null,{"$f":"IF(B5985=\"\",\"\",IF(ISERROR(VLOOKUP(B5985,database!$A$6:$BFQ$206,4,FALSE)),\"\",VLOOKUP(B5985,database!$A$6:$BFQ$206,4,FALSE)))","v":""},null,null,null,"",null,null,null,{"$f":"IF(B5985=\"\",\"\",IF(ISERROR(VLOOKUP(B5985,database!$A$6:$BFQ$206,3,FALSE)),\"\",VLOOKUP(B5985,database!$A$6:$BFQ$206,3,FALSE)))","v":""},null,null,null,null,null,null,""]
["",null,{"$f":"IF(B5986=\"\",\"\",IF(ISERROR(VLOOKUP(B5986,database!$A$6:$BFQ$206,4,FALSE)),\"\",VLOOKUP(B5986,database!$A$6:$BFQ$206,4,FALSE)))","v":""},null,null,null,"",null,null,null,{"$f":"IF(B5986=\"\",\"\",IF(ISERROR(VLOOKUP(B5986,database!$A$6:$BFQ$206,3,FALSE)),\"\",VLOOKUP(B5986,database!$A$6:$BFQ$206,3,FALSE)))","v":""},null,null,null,null,null,null,""]
["",null,{"$f":"IF(B5987=\"\",\"\",IF(ISERROR(VLOOKUP(B5987,database!$A$6:$BFQ$206,4,FALSE)),\"\",VLOOKUP(B5987,database!$A$6:$BFQ$206,4,FALSE)))","v":""},null,null,null,"",null,null,null,{"$f":"IF(B5987=\"\",\"\",IF(ISERROR(VLOOKUP(B5987,database!$A$6:$BFQ$206,3,FALSE)),\"\",VLOOKUP(B5987,database!$A$6:$BFQ$206,3,FALSE)))","v":""},null,null,null,null,null,null,""]
["",null,{"$f":"IF(B5988=\"\",\"\",IF(ISERROR(VLOOKUP(B5988,database!$A$6:$BFQ$206,4,FALSE)),\"\",VLOOKUP(B5988,database!$A$6:$BFQ$206,4,FALSE)))","v":""},null,null,null,"",null,null,null,{"$f":"IF(B5988=\"\",\"\",IF(ISERROR(VLOOKUP(B5988,database!$A$6:$BFQ$206,3,FALSE)),\"\",VLOOKUP(B5988,database!$A$6:$BFQ$206,3,FALSE)))","v":""},null,null,null,null,null,null,""]
["",null,{"$f":"IF(B5989=\"\",\"\",IF(ISERROR(VLOOKUP(B5989,database!$A$6:$BFQ$206,4,FALSE)),\"\",VLOOKUP(B5989,database!$A$6:$BFQ$206,4,FALSE)))","v":""},null,null,null,"",null,null,null,{"$f":"IF(B5989=\"\",\"\",IF(ISERROR(VLOOKUP(B5989,database!$A$6:$BFQ$206,3,FALSE)),\"\",VLOOKUP(B5989,database!$A$6:$BFQ$206,3,FALSE)))","v":""},null,null,null,null,null,null,""]
["",null,{"$f":"IF(B5990=\"\",\"\",IF(ISERROR(VLOOKUP(B5990,database!$A$6:$BFQ$206,4,FALSE)),\"\",VLOOKUP(B5990,database!$A$6:$BFQ$206,4,FALSE)))","v":""},null,null,null,"",null,null,null,{"$f":"IF(B5990=\"\",\"\",IF(ISERROR(VLOOKUP(B5990,database!$A$6:$BFQ$206,3,FALSE)),\"\",VLOOKUP(B5990,database!$A$6:$BFQ$206,3,FALSE)))","v":""},null,null,null,null,null,null,""]
["",null,{"$f":"IF(B5991=\"\",\"\",IF(ISERROR(VLOOKUP(B5991,database!$A$6:$BFQ$206,4,FALSE)),\"\",VLOOKUP(B5991,database!$A$6:$BFQ$206,4,FALSE)))","v":""},null,null,null,"",null,null,null,{"$f":"IF(B5991=\"\",\"\",IF(ISERROR(VLOOKUP(B5991,database!$A$6:$BFQ$206,3,FALSE)),\"\",VLOOKUP(B5991,database!$A$6:$BFQ$206,3,FALSE)))","v":""},null,null,null,null,null,null,""]
["",null,{"$f":"IF(B5992=\"\",\"\",IF(ISERROR(VLOOKUP(B5992,database!$A$6:$BFQ$206,4,FALSE)),\"\",VLOOKUP(B5992,database!$A$6:$BFQ$206,4,FALSE)))","v":""},null,null,null,"",null,null,null,{"$f":"IF(B5992=\"\",\"\",IF(ISERROR(VLOOKUP(B5992,database!$A$6:$BFQ$206,3,FALSE)),\"\",VLOOKUP(B5992,database!$A$6:$BFQ$206,3,FALSE)))","v":""},null,null,null,null,null,null,""]
["",null,{"$f":"IF(B5993=\"\",\"\",IF(ISERROR(VLOOKUP(B5993,database!$A$6:$BFQ$206,4,FALSE)),\"\",VLOOKUP(B5993,database!$A$6:$BFQ$206,4,FALSE)))","v":""},null,null,null,"",null,null,null,{"$f":"IF(B5993=\"\",\"\",IF(ISERROR(VLOOKUP(B5993,database!$A$6:$BFQ$206,3,FALSE)),\"\",VLOOKUP(B5993,database!$A$6:$BFQ$206,3,FALSE)))","v":""},null,null,null,null,null,null,""]
["",null,{"$f":"IF(B5994=\"\",\"\",IF(ISERROR(VLOOKUP(B5994,database!$A$6:$BFQ$206,4,FALSE)),\"\",VLOOKUP(B5994,database!$A$6:$BFQ$206,4,FALSE)))","v":""},null,null,null,"",null,null,null,{"$f":"IF(B5994=\"\",\"\",IF(ISERROR(VLOOKUP(B5994,database!$A$6:$BFQ$206,3,FALSE)),\"\",VLOOKUP(B5994,database!$A$6:$BFQ$206,3,FALSE)))","v":""},null,null,null,null,null,null,""]
["",null,{"$f":"IF(B5995=\"\",\"\",IF(ISERROR(VLOOKUP(B5995,database!$A$6:$BFQ$206,4,FALSE)),\"\",VLOOKUP(B5995,database!$A$6:$BFQ$206,4,FALSE)))","v":""},null,null,null,"",null,null,null,{"$f":"IF(B5995=\"\",\"\",IF(ISERROR(VLOOKUP(B5995,database!$A$6:$BFQ$206,3,FALSE)),\"\",VLOOKUP(B5995,database!$A$6:$BFQ$206,3,FALSE)))","v":""},null,null,null,null,null,null,""]
["",null,{"$f":"IF(B5996=\"\",\"\",IF(ISERROR(VLOOKUP(B5996,database!$A$6:$BFQ$206,4,FALSE)),\"\",VLOOKUP(B5996,database!$A$6:$BFQ$206,4,FALSE)))","v":""},null,null,null,"",null,null,null,{"$f":"IF(B5996=\"\",\"\",IF(ISERROR(VLOOKUP(B5996,database!$A$6:$BFQ$206,3,FALSE)),\"\",VLOOKUP(B5996,database!$A$6:$BFQ$206,3,FALSE)))","v":""},null,null,null,null,null,null,""]
["",null,{"$f":"IF(B5997=\"\",\"\",IF(ISERROR(VLOOKUP(B5997,database!$A$6:$BFQ$206,4,FALSE)),\"\",VLOOKUP(B5997,database!$A$6:$BFQ$206,4,FALSE)))","v":""},null,null,null,"",null,null,null,{"$f":"IF(B5997=\"\",\"\",IF(ISERROR(VLOOKUP(B5997,database!$A$6:$BFQ$206,3,FALSE)),\"\",VLOOKUP(B5997,database!$A$6:$BFQ$206,3,FALSE)))","v":""},null,null,null,null,null,null,""]
[null,null,{"$f":"IF(B5998=\"\",\"\",IF(ISERROR(VLOOKUP(B5998,database!$A$6:$BFQ$206,4,FALSE)),\"\",VLOOKUP(B5998,database!$A$6:$BFQ$206,4,FALSE)))","v":""},null,null,null,"",null,null,null,{"$f":"IF(B5998=\"\",\"\",IF(ISERROR(VLOOKUP(B5998,database!$A$6:$BFQ$206,3,FALSE)),\"\",VLOOKUP(B5998,database!$A$6:$BFQ$206,3,FALSE)))","v":""},null,null,null,null,null,null,""]
[null,null,{"$f":"IF(B5999=\"\",\"\",IF(ISERROR(VLOOKUP(B5999,database!$A$6:$BFQ$206,4,FALSE)),\"\",VLOOKUP(B5999,database!$A$6:$BFQ$206,4,FALSE)))","v":""},null,null,null,"",null,null,null,{"$f":"IF(B5999=\"\",\"\",IF(ISERROR(VLOOKUP(B5999,database!$A$6:$BFQ$206,3,FALSE)),\"\",VLOOKUP(B5999,database!$A$6:$BFQ$206,3,FALSE)))","v":""},null,null,null,null,null,null,""]
[null,null,{"$f":"IF(B6000=\"\",\"\",IF(ISERROR(VLOOKUP(B6000,database!$A$6:$BFQ$206,4,FALSE)),\"\",VLOOKUP(B6000,database!$A$6:$BFQ$206,4,FALSE)))","v":""},null,null,null,"",null,null,null,{"$f":"IF(B6000=\"\",\"\",IF(ISERROR(VLOOKUP(B6000,database!$A$6:$BFQ$206,3,FALSE)),\"\",VLOOKUP(B6000,database!$A$6:$BFQ$206,3,FALSE)))","v":""},null,null,null,null,null,null,""]
[null,null,{"$f":"IF(B6001=\"\",\"\",IF(ISERROR(VLOOKUP(B6001,database!$A$6:$BFQ$206,4,FALSE)),\"\",VLOOKUP(B6001,database!$A$6:$BFQ$206,4,FALSE)))","v":""},null,null,null,"",null,null,null,{"$f":"IF(B6001=\"\",\"\",IF(ISERROR(VLOOKUP(B6001,database!$A$6:$BFQ$206,3,FALSE)),\"\",VLOOKUP(B6001,database!$A$6:$BFQ$206,3,FALSE)))","v":""},null,null,null,null,null,null,""]
[null,null,{"$f":"IF(B6002=\"\",\"\",IF(ISERROR(VLOOKUP(B6002,database!$A$6:$BFQ$206,4,FALSE)),\"\",VLOOKUP(B6002,database!$A$6:$BFQ$206,4,FALSE)))","v":""},null,null,null,"",null,null,null,{"$f":"IF(B6002=\"\",\"\",IF(ISERROR(VLOOKUP(B6002,database!$A$6:$BFQ$206,3,FALSE)),\"\",VLOOKUP(B6002,database!$A$6:$BFQ$206,3,FALSE)))","v":""},null,null,null,null,null,null,""]
[null,null,{"$f":"IF(B6003=\"\",\"\",IF(ISERROR(VLOOKUP(B6003,database!$A$6:$BFQ$206,4,FALSE)),\"\",VLOOKUP(B6003,database!$A$6:$BFQ$206,4,FALSE)))","v":""},null,null,null,"",null,null,null,{"$f":"IF(B6003=\"\",\"\",IF(ISERROR(VLOOKUP(B6003,database!$A$6:$BFQ$206,3,FALSE)),\"\",VLOOKUP(B6003,database!$A$6:$BFQ$206,3,FALSE)))","v":""},null,null,null,null,null,null,""]
[null,null,{"$f":"IF(B6004=\"\",\"\",IF(ISERROR(VLOOKUP(B6004,database!$A$6:$BFQ$206,4,FALSE)),\"\",VLOOKUP(B6004,database!$A$6:$BFQ$206,4,FALSE)))","v":""},null,null,null,"",null,null,null,{"$f":"IF(B6004=\"\",\"\",IF(ISERROR(VLOOKUP(B6004,database!$A$6:$BFQ$206,3,FALSE)),\"\",VLOOKUP(B6004,database!$A$6:$BFQ$206,3,FALSE)))","v":""},null,null,null,null,null,null,""]
[null,null,{"$f":"IF(B6005=\"\",\"\",IF(ISERROR(VLOOKUP(B6005,database!$A$6:$BFQ$206,4,FALSE)),\"\",VLOOKUP(B6005,database!$A$6:$BFQ$206,4,FALSE)))","v":""},null,null,null,null,null,null,null,{"$f":"IF(B6005=\"\",\"\",IF(ISERROR(VLOOKUP(B6005,database!$A$6:$BFQ$206,3,FALSE)),\"\",VLOOKUP(B6005,database!$A$6:$BFQ$206,3,FALSE)))","v":""},null,null,null,null,null,null,""]
[null,null,{"$f":"IF(B6006=\"\",\"\",IF(ISERROR(VLOOKUP(B6006,database!$A$6:$BFQ$206,4,FALSE)),\"\",VLOOKUP(B6006,database!$A$6:$BFQ$206,4,FALSE)))","v":""},null,null,null,null,null,null,null,{"$f":"IF(B6006=\"\",\"\",IF(ISERROR(VLOOKUP(B6006,database!$A$6:$BFQ$206,3,FALSE)),\"\",VLOOKUP(B6006,database!$A$6:$BFQ$206,3,FALSE)))","v":""},null,null,null,null,null,null,""]
[null,null,{"$f":"IF(B6007=\"\",\"\",IF(ISERROR(VLOOKUP(B6007,database!$A$6:$BFQ$206,4,FALSE)),\"\",VLOOKUP(B6007,database!$A$6:$BFQ$206,4,FALSE)))","v":""},null,null,null,null,null,null,null,{"$f":"IF(B6007=\"\",\"\",IF(ISERROR(VLOOKUP(B6007,database!$A$6:$BFQ$206,3,FALSE)),\"\",VLOOKUP(B6007,database!$A$6:$BFQ$206,3,FALSE)))","v":""},null,null,null,null,null,null,""]
[null,null,{"$f":"IF(B6008=\"\",\"\",IF(ISERROR(VLOOKUP(B6008,database!$A$6:$BFQ$206,4,FALSE)),\"\",VLOOKUP(B6008,database!$A$6:$BFQ$206,4,FALSE)))","v":""},null,null,null,null,null,null,null,{"$f":"IF(B6008=\"\",\"\",IF(ISERROR(VLOOKUP(B6008,database!$A$6:$BFQ$206,3,FALSE)),\"\",VLOOKUP(B6008,database!$A$6:$BFQ$206,3,FALSE)))","v":""},null,null,null,null,null,null,""]
[null,null,{"$f":"IF(B6009=\"\",\"\",IF(ISERROR(VLOOKUP(B6009,database!$A$6:$BFQ$206,4,FALSE)),\"\",VLOOKUP(B6009,database!$A$6:$BFQ$206,4,FALSE)))","v":""},null,null,null,null,null,null,null,{"$f":"IF(B6009=\"\",\"\",IF(ISERROR(VLOOKUP(B6009,database!$A$6:$BFQ$206,3,FALSE)),\"\",VLOOKUP(B6009,database!$A$6:$BFQ$206,3,FALSE)))","v":""},null,null,null,null,null,null,""]
[null,null,{"$f":"IF(B6010=\"\",\"\",IF(ISERROR(VLOOKUP(B6010,database!$A$6:$BFQ$206,4,FALSE)),\"\",VLOOKUP(B6010,database!$A$6:$BFQ$206,4,FALSE)))","v":""},null,null,null,null,null,null,null,{"$f":"IF(B6010=\"\",\"\",IF(ISERROR(VLOOKUP(B6010,database!$A$6:$BFQ$206,3,FALSE)),\"\",VLOOKUP(B6010,database!$A$6:$BFQ$206,3,FALSE)))","v":""}]
[null,null,{"$f":"IF(B6011=\"\",\"\",IF(ISERROR(VLOOKUP(B6011,database!$A$6:$BFQ$206,4,FALSE)),\"\",VLOOKUP(B6011,database!$A$6:$BFQ$206,4,FALSE)))","v":""},null,null,null,null,null,null,null,{"$f":"IF(B6011=\"\",\"\",IF(ISERROR(VLOOKUP(B6011,database!$A$6:$BFQ$206,3,FALSE)),\"\",VLOOKUP(B6011,database!$A$6:$BFQ$206,3,FALSE)))","v":""}]
[null,null,{"$f":"IF(B6012=\"\",\"\",IF(ISERROR(VLOOKUP(B6012,database!$A$6:$BFQ$206,4,FALSE)),\"\",VLOOKUP(B6012,database!$A$6:$BFQ$206,4,FALSE)))","v":""},null,null,null,null,null,null,null,{"$f":"IF(B6012=\"\",\"\",IF(ISERROR(VLOOKUP(B6012,database!$A$6:$BFQ$206,3,FALSE)),\"\",VLOOKUP(B6012,database!$A$6:$BFQ$206,3,FALSE)))","v":""}]
[null,null,{"$f":"IF(B6013=\"\",\"\",IF(ISERROR(VLOOKUP(B6013,database!$A$6:$BFQ$206,4,FALSE)),\"\",VLOOKUP(B6013,database!$A$6:$BFQ$206,4,FALSE)))","v":""},null,null,null,null,null,null,null,{"$f":"IF(B6013=\"\",\"\",IF(ISERROR(VLOOKUP(B6013,database!$A$6:$BFQ$206,3,FALSE)),\"\",VLOOKUP(B6013,database!$A$6:$BFQ$206,3,FALSE)))","v":""}]
[null,null,{"$f":"IF(B6014=\"\",\"\",IF(ISERROR(VLOOKUP(B6014,database!$A$6:$BFQ$206,4,FALSE)),\"\",VLOOKUP(B6014,database!$A$6:$BFQ$206,4,FALSE)))","v":""},null,null,null,null,null,null,null,{"$f":"IF(B6014=\"\",\"\",IF(ISERROR(VLOOKUP(B6014,database!$A$6:$BFQ$206,3,FALSE)),\"\",VLOOKUP(B6014,database!$A$6:$BFQ$206,3,FALSE)))","v":""}]
[null,null,{"$f":"IF(B6015=\"\",\"\",IF(ISERROR(VLOOKUP(B6015,database!$A$6:$BFQ$206,4,FALSE)),\"\",VLOOKUP(B6015,database!$A$6:$BFQ$206,4,FALSE)))","v":""},null,null,null,null,null,null,null,{"$f":"IF(B6015=\"\",\"\",IF(ISERROR(VLOOKUP(B6015,database!$A$6:$BFQ$206,3,FALSE)),\"\",VLOOKUP(B6015,database!$A$6:$BFQ$206,3,FALSE)))","v":""}]
[null,null,{"$f":"IF(B6016=\"\",\"\",IF(ISERROR(VLOOKUP(B6016,database!$A$6:$BFQ$206,4,FALSE)),\"\",VLOOKUP(B6016,database!$A$6:$BFQ$206,4,FALSE)))","v":""},null,null,null,null,null,null,null,{"$f":"IF(B6016=\"\",\"\",IF(ISERROR(VLOOKUP(B6016,database!$A$6:$BFQ$206,3,FALSE)),\"\",VLOOKUP(B6016,database!$A$6:$BFQ$206,3,FALSE)))","v":""}]

{"sheet":"database","index":1,"n_rows":92,"n_cols":23,"rows_kept":92,"cut":false,"hidden":false,"merged":[]}
[]
[]
["aggiornato al 28/12/2018 - Stazione accreditate 87"]
[]
["Nominativo","MI #","Nome","e","Cognome",null,null,null,null,null,null,null,null,null,null,null,null,null,null,"Suffisso","Nome Nave","[LINK]","QSL"]
["IZ0JSD",114,"Alessandro","AA",null,null,null,null,null,null,null,null,null,null,null,null,null,null,null,"AA","Torpediniera ALBATROS","click"]
["I2AZ",60,"Giuseppe","AB",null,null,null,null,null,null,null,null,null,null,null,null,null,null,null,"AB","Torpediniera ABBA","click"]
["IV3XPP",230,"Giuliano","AC",null,null,null,null,null,null,null,null,null,null,null,null,null,null,null,"AC","Torpediniera ALCIONE","click"]
["I3VAD",746,"Giancarlo","AD",null,null,null,null,null,null,null,null,null,null,null,null,null,null,null,"AD","Torpediniera AUDACE","click"]
["IT9JPW",889,"Marco","AI",null,null,null,null,null,null,null,null,null,null,null,null,null,null,null,"AI","Cacciatorpediniere ASCARI","click"]
["I1PIK",551,"Pietro","AL",null,null,null,null,null,null,null,null,null,null,null,null,null,null,null,"AL","Torpediniera ALDEBARAN","click"]
["IT9CVX",1150,"Rosario","AN",null,null,null,null,null,null,null,null,null,null,null,null,null,null,null,"AN","Torpediniera ANTARES","click"]
["IT9IFI",1107,"Sergio","AO",null,null,null,null,null,null,null,null,null,null,null,null,null,null,null,"AO","Torpediniera AIRONE","click"]
["IZ0FVD",327,"Giulio","AP",null,null,null,null,null,null,null,null,null,null,null,null,null,null,null,"AP","Cacciatorpediniere ALPINO","click"]
["IK6ARS",832,"Daniele","AR",null,null,null,null,null,null,null,null,null,null,null,null,null,null,null,"AR","Cacciatorpediniere ARTIGLIERE","click"]
["IT9CLM",876,"Giuseppe","AV",null,null,null,null,null,null,null,null,null,null,null,null,null,null,null,"AV","Cacciatorpediniere AVIERE","click"]
["IZ0EUX",865,"Mercurio","AZ",null,null,null,null,null,null,null,null,null,null,null,null,null,null,null,"AZ","Incrociatore DUCA DEGLI ABRUZZI","click"]
["IK1QLD",100,"Angelo","BA",null,null,null,null,null,null,null,null,null,null,null,null,null,null,null,"BA","Incrociatore ALBERICO DA BARBIANO","click"]
["IW0DPJ",1231,"Giovanni","BC",null,null,null,null,null,null,null,null,null,null,null,null,null,null,null,"BC","Incrociatore BARTOLOMEO COLLEONI","click"]
["IW0HOP",549,"Francesco","BG",null,null,null,null,null,null,null,null,null,null,null,null,null,null,null,"BG","Cacciatorpediniere BERSAGLIERE","click"]
["IZ8ITT",1401,"Antonello","BL",null,null,null,null,null,null,null,null,null,null,null,null,null,null,null,"BL","Incrociatore BOLZANO","click"]
["IW8EHK",91,"Alessandro","BN",null,null,null,null,null,null,null,null,null,null,null,null,null,null,null,"BN","Incrociatore GIOVANNI DALLE BANDE NERE","click","QSL"]
["IS0IQZ",1522,"Stefano","BO",null,null,null,null,null,null,null,null,null,null,null,null,null,null,null,"BO","Cacciatorpediniere BALENO","click"]
["IV3DSB",1222,"Roberto","BR",null,null,null,null,null,null,null,null,null,null,null,null,null,null,null,"BR","Cacciatorpediniere BOREA","click"]
["IW2JJS",1229,"Giorgio","BS",null,null,null,null,null,null,null,null,null,null,null,null,null,null,null,"BS","Torpediniera BASSINI","click","QSL"]
["IS0FEZ",1166,"Mario","CB",null,null,null,null,null,null,null,null,null,null,null,null,null,null,null,"CB","Cacciatorpediniere CARABINIERE","click"]
["I1PJK",1206,"Maurizio","CL",null,null,null,null,null,null,null,null,null,null,null,null,null,null,null,"CL","Torpediniera CAIROLI","click"]
["I1CMA",404,"Marco","CM",null,null,null,null,null,null,null,null,null,null,null,null,null,null,null,"CM","Torpediniera CALATAFIMI","click"]
["IU0FBK",1478,"Marco","CN",null,null,null,null,null,null,null,null,null,null,null,null,null,null,null,"CN","Cacciatorpediniere CAMICIA NERA","click"]
["IW9FI",923,"Carmelo","CO",null,null,null,null,null,null,null,null,null,null,null,null,null,null,null,"CO","Torpediniera CENTAURO","click"]
["IK1MTV",1412,"Valerio","CR",null,null,null,null,null,null,null,null,null,null,null,null,null,null,null,"CR","Cacciatorpediniere FRANCESCO CRISPI","click"]
["IK5TBI",349,"Emilio","CT",null,null,null,null,null,null,null,null,null,null,null,null,null,null,null,"CT","Torpediniera CASTORE","click"]
["IK5AIO",936,"Ilico","CV",null,null,null,null,null,null,null,null,null,null,null,null,null,null,null,"CV","Corazzata CONTE DI CAVOUR","click"]
["IU8CEU",1177,"Michele","CZ",null,null,null,null,null,null,null,null,null,null,null,null,null,null,null,"CZ","Cacciatorpediniere CORAZZIERE","click"]
["IS0ANZ",942,"Alessandro","DA",null,null,null,null,null,null,null,null,null,null,null,null,null,null,null,"DA","Cacciatorpediniere DARDO","click"]
["IT9EYV",1157,"Mario","DD",null,null,null,null,null,null,null,null,null,null,null,null,null,null,null,"DD","Incrociatore EMANUELE F. DUCA D'AOSTA","click"]
["I2QIL",1181,"Antonio","DI","Pietro",null,null,null,null,null,null,null,null,null,null,null,null,null,null,"DI","Incrociatore ARMANDO DIAZ","click"]
["IS0IEK",1526,"Emilio","DM",null,null,null,null,null,null,null,null,null,null,null,null,null,null,null,"DM","Cacciatorpediniere ALVISE DA MOSTO","click"]
["IK2SOE",8,"Andrea","DO",null,null,null,null,null,null,null,null,null,null,null,null,null,null,null,"DO","Corazzata DORIA","click"]
["IZ7EDQ",80,"Leonardo","DU",null,null,null,null,null,null,null,null,null,null,null,null,null,null,null,"DU","Corazzata DUILIO","click"]
["IW0URG",548,"Siro","DV",null,null,null,null,null,null,null,null,null,null,null,null,null,null,null,"DV","Cacciatorpediniere GIOVANNI DA VERRAZZANO","click"]
["IZ8QNX",514,"Lucio","ES",null,null,null,null,null,null,null,null,null,null,null,null,null,null,null,"ES","Cacciatorpediniere ESPERO","click"]
["IS0SZU",557,"Franco","FB",null,null,null,null,null,null,null,null,null,null,null,null,null,null,null,"FB","Torpediniera NICOLA FABRIZI","click"]
["IS0NHS",1525,"Andrea","FC",null,null,null,null,null,null,null,null,null,null,null,null,null,null,null,"FC","Cacciatorpediniere FUCILIERE","click"]
["IK7FPU",1013,"Antonio","FG",null,null,null,null,null,null,null,null,null,null,null,null,null,null,null,"FG","Cacciatorpediniere FOLGORE","click"]
["IZ5MMQ",1254,"Mario","FI",null,null,null,null,null,null,null,null,null,null,null,null,null,null,null,"FI","Incrociatore FIUME","click"]
["IS0HMQ",1494,"Nicola","FL",null,null,null,null,null,null,null,null,null,null,null,null,null,null,null,"FL","Cacciatorpediniere FULMINE","click"]
["IW0BTN",251,"Gianni","FR",null,null,null,null,null,null,null,null,null,null,null,null,null,null,null,"FR","Cacciatorpediniere FRECCIA","click"]
["IZ6OYT",888,"Elia","GC",null,null,null,null,null,null,null,null,null,null,null,null,null,null,null,"GC","Corazzata GIULIO CESARE","click"]
["IU0DZA",1236,"Roberto","GE",null,null,null,null,null,null,null,null,null,null,null,null,null,null,null,"GE","Cacciatorpediniere GENIERE","click"]
["IT9ASD",1002,"Ivan","GG",null,null,null,null,null,null,null,null,null,null,null,null,null,null,null,"GG","Incrociatore GIUSEPPE GARIBALDI","click"]
["IT9PPX",121,"Giovanni","GI",null,null,null,null,null,null,null,null,null,null,null,null,null,null,null,"GI","Incrociatore ALBERTO DI GIUSSANO","click"]
["IS0GVH",1520,"Luca","GN",null,null,null,null,null,null,null,null,null,null,null,null,null,null,null,"GN","Cacciatorpediniere GRANATIERE","click"]
["IU0JIW",1481,"Daniele","GO",null,null,null,null,null,null,null,null,null,null,null,null,null,null,null,"GO","Incrociatore GORIZIA","click"]
["IZ6ASI",355,"Marco","GR",null,null,null,null,null,null,null,null,null,null,null,null,null,null,null,"GR","Cacciatorpediniere GRECALE","click"]
["IQ1YY",1363,"Sez.","GU","V.","di","Lanzo",null,null,null,null,null,null,null,null,null,null,null,null,"GU","Corvetta GRU","click"]
["IZ1HVD",1362,"Danillo","IB",null,null,null,null,null,null,null,null,null,null,null,null,null,null,null,"IB","Corvetta IBIS","click"]
["IK0ZME",801,"Gianfranco","LA",null,null,null,null,null,null,null,null,null,null,null,null,null,null,null,"LA","Incrociatore LUIGI CADORNA","click"]
["IZ1CLA",282,"Sauro","LG",null,null,null,null,null,null,null,null,null,null,null,null,null,null,null,"LG","Cacciatorpediniere LEGIONARIO","click"]
["IZ8VNQ",1008,"Domenico","LI","Muccio",null,null,null,null,null,null,null,null,null,null,null,null,null,null,"LI","Cacciatorpediniere LIBECCIO","click"]
["IS0UTA",611,"Andrea","LN",null,null,null,null,null,null,null,null,null,null,null,null,null,null,null,"LN","Cacciatorpediniere LANCIERE","click"]
["I3JYL",1127,"Livio","LP",null,null,null,null,null,null,null,null,null,null,null,null,null,null,null,"LP","Cacciatorpediniere LAMPO","click"]
["IZ3SEV",845,"Walter","LR",null,null,null,null,null,null,null,null,null,null,null,null,null,null,null,"LR","Torpediniera LIRA","click"]
["IT9DTU",14,"Nunzio","LT",null,null,null,null,null,null,null,null,null,null,null,null,null,null,null,"LT","Corazzata LITTORIO","click"]
["IK4UXA",1516,"Stefano","ME",null,null,null,null,null,null,null,null,null,null,null,null,null,null,null,"ME","Incrociatore MUZIO ATTENDOLO","click"]
["IU1HGN",1359,"Angelo","MI",null,null,null,null,null,null,null,null,null,null,null,null,null,null,null,"MI","Corvetta MINERVA","click"]
["IZ1CCH",113,"Orazio","ML","Maria",null,null,null,null,null,null,null,null,null,null,null,null,null,null,"ML","Cacciatorpediniere MAESTRALE","click"]
["IW1QIH",932,"Giampaolo","ON",null,null,null,null,null,null,null,null,null,null,null,null,null,null,null,"ON","Torpediniera ORIONE","click"]
["IS0BMU",555,"Nicola","OT",null,null,null,null,null,null,null,null,null,null,null,null,null,null,null,"OT","Cacciatorpediniere OSTRO","click"]
["IT9HHL",1471,"Michele","PG",null,null,null,null,null,null,null,null,null,null,null,null,null,null,null,"PG","Torpediniera PEGASO","click"]
["I3SY",1336,"Sergio","PI",null,null,null,null,null,null,null,null,null,null,null,null,null,null,null,"PI","Cacciatorpediniere ANTONIO PIGAFETTA","click"]
["IU1LPW",1483,"Gianni","PN",null,null,null,null,null,null,null,null,null,null,null,null,null,null,null,"PN","Cacciatorpediniere LEONE PANCALDO","click"]
["IM0SDX",95,"Piergiorgio","PO",null,null,null,null,null,null,null,null,null,null,null,null,null,null,null,"PO","Incrociatore POLA","click"]
["IZ8OGK",501,"Gennaro","PT",null,null,null,null,null,null,null,null,null,null,null,null,null,null,null,"PT","Cacciatorpediniere PANTERA","click"]
["IS0HFE",1118,"Simone","RM",null,null,null,null,null,null,null,null,null,null,null,null,null,null,null,"RM","Incrociatore RAIMONDO MONTECUCCOLI","click"]
["IZ0XZD",1394,"Antonino","RO",null,null,null,null,null,null,null,null,null,null,null,null,null,null,null,"RO","Corazzata ROMA","click"]
["IS0HMZ",1519,"Luca","SA",null,null,null,null,null,null,null,null,null,null,null,null,null,null,null,"SA","Cacciatorpediniere SAETTA","click"]
["IS0FQK",461,"Patrizio","SC",null,null,null,null,null,null,null,null,null,null,null,null,null,null,null,"SC","Cacciatorpediniere SCIROCCO","click"]
["IZ4IPJ",1045,"Rossano","SE",null,null,null,null,null,null,null,null,null,null,null,null,null,null,null,"SE","Cacciatorpediniere QUINTINO SELLA","click"]
["IT9YBL",1148,"Andrea","SG",null,null,null,null,null,null,null,null,null,null,null,null,null,null,null,"SG","Torpediniera SAGITTARIO","click"]
["IZ1VNT",859,"Roberto","SI",null,null,null,null,null,null,null,null,null,null,null,null,null,null,null,"SI","Torpediniera SIRIO","click"]
["IZ1WTM",1017,"Piero","SO",null,null,null,null,null,null,null,null,null,null,null,null,null,null,null,"SO","Torpediniera STOCCO","click","QSL"]
["IS0CDS",1145,"Salvatore","ST",null,null,null,null,null,null,null,null,null,null,null,null,null,null,null,"ST","Cacciatorpediniere STRALE","click"]
["HB9EDG",313,"Franco","SU",null,null,null,null,null,null,null,null,null,null,null,null,null,null,null,"SU","Cacciatorpediniere NAZARIO SAURO","click"]
["IS0AGY",1174,"Jose'","SV","Melini",null,null,null,null,null,null,null,null,null,null,null,null,null,null,"SV","Incrociatore EUGENIO DI SAVOIA","click"]
["IZ0DIB",835,"Bruno","TR",null,null,null,null,null,null,null,null,null,null,null,null,null,null,null,"TR","Incrociatore TRENTO","click"]
["IS0HXK",1397,"Giuseppe","TS",null,null,null,null,null,null,null,null,null,null,null,null,null,null,null,"TS","Incrociatore TRIESTE","click"]
["EB3WH",757,"Juannjo","TT",null,null,null,null,null,null,null,null,null,null,null,null,null,null,null,"TT","Incrociatore TARANTO","click"]
["IZ1GJK",303,"Maurizio","VV",null,null,null,null,null,null,null,null,null,null,null,null,null,null,null,"VV","Corazzata VITTORIO VENETO","click"]
["IT9CKA",771,"Serafino","ZA","Filippi",null,null,null,null,null,null,null,null,null,null,null,null,null,null,"ZA","Incrociatore ZARA","click"]
["IW0GFS",645,"Leone","ZE",null,null,null,null,null,null,null,null,null,null,null,null,null,null,null,"ZE","Cacciatorpediniere NICOLO' ZENO","click"]
["IT9AVP",1293,"Giuseppe","ZF",null,null,null,null,null,null,null,null,null,null,null,null,null,null,null,"ZF","Cacciatorpediniere ZEFFIRO","click"]

{"sheet":"info","index":2,"n_rows":1303,"n_cols":12,"rows_kept":1303,"cut":false,"hidden":false,"merged":[[87,5,87,13],[88,5,88,13],[89,5,89,13],[93,5,93,13],[94,5,94,13],[116,5,116,13],[117,5,117,13],[118,5,118,13],[119,5,119,13],[95,5,95,13],[121,5,121,13],[110,5,110,13],[111,5,111,13],[98,5,98,13],[96,5,96,13],[97,5,97,13],[92,5,92,13],[99,5,99,13],[123,5,123,13],[120,5,120,13],[102,5,102,13],[103,5,103,13],[100,5,100,13],[140,5,140,13],[141,5,141,13],[142,5,142,13],[129,5,129,13],[130,5,130,13],[131,5,131,13],[132,5,132,13],[133,5,133,13],[134,5,134,13],[135,5,135,13],[136,5,136,13],[139,5,139,13],[137,5,137,13],[138,5,138,13],[127,5,127,13],[128,5,128,13],[101,5,101,13],[122,5,122,13],[126,5,126,13],[40,5,40,13],[44,5,44,13],[64,5,64,13],[60,5,60,13],[61,5,61,13],[73,5,73,13],[70,5,70,13],[112,5,112,13],[113,5,113,13],[114,5,114,13],[115,5,115,13],[104,5,104,13],[105,5,105,13],[106,5,106,13],[107,5,107,13],[108,5,108,13],[109,5,109,13],[42,5,42,13],[43,5,43,13],[0,23,0,31],[1,23,1,31],[2,23,2,31],[3,23,3,31],[4,23,4,31],[5,23,5,31],[0,5,0,13],[1,5,1,13],[2,5,2,13],[3,5,3,13],[4,5,4,13],[5,5,5,13],[9,5,9,13],[7,5,7,7],[11,5,11,13],[7,11,7,13],[78,5,78,13],[65,5,65,13],[12,5,12,13],[45,5,45,13],[46,5,46,13],[48,5,48,13],[36,5,36,13],[49,5,49,13],[50,5,50,13],[51,5,51,13],[52,5,52,13],[62,5,62,13],[63,5,63,13],[69,5,69,13],[54,5,54,13],[55,5,55,13],[56,5,56,13],[57,5,57,13],[58,5,58,13],[59,5,59,13],[83,5,83,13],[79,5,79,13],[72,5,72,13],[71,5,71,13],[67,5,67,13],[75,5,75,13],[86,5,86,13],[76,5,76,13],[77,5,77,13],[84,5,84,13],[85,5,85,13],[80,5,80,13],[74,5,74,13],[82,5,82,13],[81,5,81,13],[66,5,66,13],[14,5,14,13],[17,5,17,13],[19,5,19,13],[22,5,22,13],[23,5,23,13],[27,5,27,13],[29,5,29,13],[32,5,32,13],[33,5,33,13],[53,5,53,13],[38,5,38,13],[18,5,18,13],[35,5,35,13],[37,5,37,13],[24,5,24,13],[47,5,47,13],[25,5,25,13],[21,5,21,13],[15,5,15,13]]}
[null,null,null,null,null,"L I B E R A T O R I A"]
[null,null,null,null,null,"L' Autore dichiara che il file è privo di virus trojan e quant'altro a"]
[null,null,null,null,null,"carattere distruttivo, e declina ogni responsabilità per il suo uso."]
[null,null,null,null,null,"L'utilizzatore usa il file a suo rischio e pericolo e premendo il"]
[null,null,null,null,null," tasto LOG accetta,  assumendone la responsabilità, altrimenti "]
[null,null,null,null,null,"rifiuta chiudendo il file con i normali sistemi di Office o Window "]
[]
[null,null,null,null,null,"Regolamento",null,null,null,null,null,"Lista Stazioni Accreditate"]
[]
[null,null,null,null,null,"REGIA MARINA NELLA SECONDA GUERRA MONDIALE"]
[]
[null,null,null,null,null,"Registro di Stazione"]
[null,null,null,null,null,"ISTRUZIONI"]
[]
[null,null,null,null,null,"Il Databade delle Stazioni Accreditate si aggiorna"]
[null,null,null,null,null,"automaticamente tutte le volte che si apre il LOG"]
[]
[null,null,null,null,null,"La prima volta che viene aperto il file, essendo  il log vuoto, si aprirà il foglio con"]
[null,null,null,null,null,"la locandina della Regia Marina per poi passare direttamente a questo foglio,"]
[null,null,null,null,null,"affinchè leggiate la liberatoria e l'istruzioni per l'utilizzo del programma."]
[]
[]
[null,null,null,null,null,"Una volta inserito il primo qso l'avviso non verrà piu' mostrato."]
[]
[null,null,null,null,null,"Prima di considerare il LOG in ogni sua colonna, vediamo cosa indicano le celle "]
[null,null,null,null,null,"e i tasti tutto intorno."]
[]
[null,null,null,null,null,"Freccia ROSSA-va direttamente alla prima cella utile del log  per inserire il qso."]
[]
[null,null,null,null,null,"Freccia VERDE-va direttamente al primo qso del log."]
[]
[]
[null,null,null,null,null,"Totale Punti XXX - in questa cella viene mostrato il punteggio totale dei qso"]
[null,null,null,null,null,"inseriti, il quale si aggiorna automaticamente all'inserimento degli stessi."]
[]
[null,null,null,null,null,"Non hai punti x il Diploma-questa cella avviserà quando si è raggiunto il"]
[null,null,null,null,null,"punteggio per ritirare un diploma e nella cella sottostante il relativo diploma"]
[]
[null,null,null,null,null,"NOMINATIVO - inserire il nominativo della stazione. "]
[]
[null,null,null,null,null,"OPERATORE - inserire il nome dell'operatore."]
[]
[null,null,null,null,null,"indirizzo e-mail - inserire l'indirizzo mail per ricevere il diploma in PDF."]
[]
[null,null,null,null,null,"inviare TOP HONOUR PLAQUE  a - di seguito nelle celle grigie andranno inseriti "]
[null,null,null,null,null,"i dati come richiesti dalla nota che esce attivando la cella. Quindi di seguito si avrà:"]
[null,null,null,null,null,"nome, cognome, via, città, nazione, 1note, 2note. Ricordarsi si segnare in nota1 o"]
[null,null,null,null,null,"nota2 gli estremi del versamento di € 35 per ricevere la TOP HONOUR PLAQUE."]
[]
[null,null,null,null,null,"BLOCCO (celle) - questo tasto serve a bloccare le colonne Data-Mode-Banda-"]
[null,null,null,null,null,"Frequenza che normalmente si conoscono prima di iniziare i collegamenti così, "]
[null,null,null,null,null,"inserendo il qso e spostandosi con il TAB ci si muoverà soltanto tra le celle"]
[null,null,null,null,null,"libere quale Call-Utc-Rst-Note (molto utile per gli attivatori) . "]
[null,null,null,null,null,"Quando il blocco cella è attivato , l'intestazione delle colonne sarà scritta in rosso."]
[]
[null,null,null,null,null,"SBLOCCO (celle) - questo tasto serve a sbloccare le celle delle colonne bloccate"]
[null,null,null,null,null,"con il relativo tasto."]
[null,null,null,null,null,"Quando lo sblocco cella è attivato l'intestazione delle colonne sarà scritta in bianco."]
[]
[null,null,null,null,null,"DUPLICATI - questo tasto serve ad individuare rapidamente eventuali duplicati."]
[null,null,null,null,null,"Da notare che inserendo un nominativo già a log  questo viene riconosciuto"]
[null,null,null,null,null,"come PROBABILE duplicato per cui tutte le celle saranno tratteggiate di rosso."]
[null,null,null,null,null,"Quindi si potrà fare una ricerca manuale, cercando stesso nominativo e stesso "]
[null,null,null,null,null,"modo o automaticamente con il tasto duplicati che individuarà i duplicati poiché"]
[null,null,null,null,null,"le cella si coloreranno in  rosso e verde quindi  le celle rosse saranno cancellate,"]
[null,null,null,null,null,"in quanto duplicati, mentre le celle  verdi saranno mantenute quale originale."]
[null,null,null,null,null,"Premendo il tasto duplicato uscirà l'avviso con le relative istruzioni."]
[]
[]
[null,null,null,null,null,"INFO - questo tasto apre questo foglio che contiene tutte le istruzioni e il tasto"]
[null,null,null,null,null,"per andare al foglio Log,il collegamento al Regolamento e il collegamento alla"]
[null,null,null,null,null,"lista sul sito ARMI"]
[]
[null,null,null,null,null,"Vediamo ora il \"LOG\" in ogni sua colonna:"]
[null,null,null,null,null,"QSO# : (colonna BLOCCATA). Automaticamente apparirà il numero progressivo"]
[null,null,null,null,null,"del QSO inserendo il CALL nella colonna Nominativo;"]
[null,null,null,null,null,"CALL: nominativo della stazione collegata solo e soltanto il semplice nominativo"]
[null,null,null,null,null,"senza attributi vicino tipo /P, /qrp ecc.ecc. (non verrebbero trovati nel DB)."]
[null,null,null,null,null,"ATTENZIONE : non ci devono essere celle vuote tra un call e l'altro!!!!!!!"]
[null,null,null,null,null,"DATA: inserirla nel formato GGMMAAAA. Alla chiusura automaticamente verranno"]
[null,null,null,null,null,"messe le barre di separazione .(si raccomanda il rispetto del formato!!!)"]
[null,null,null,null,null,"ORA:nel formato HHMM. Alla chiusura verranno inseriti i due punti in automatico."]
[null,null,null,null,null,"MODO:  finestra a discesa per scegliere il modo operativo;"]
[null,null,null,null,null,"PUNTI: (colonna BLOCCATA) assegnazione automatica del punteggio solo"]
[null,null,null,null,null,"se stazione accreditata "]
[null,null,null,null,null,"BANDA:  finestra a discesa per scegliere la banda operativa."]
[null,null,null,null,null,"FREQUENZA:  inserire la frequenza di lavoro volendo anche in decimali."]
[null,null,null,null,null,"RST: inserire il solo rapporto ."]
[null,null,null,null,null,"NOME OPERATORE: (colonna BLOCCATA) in automatico inserendo il call."]
[null,null,null,null,null,"NOTE: inserimento di eventuale nota relativa al QSO effettuato."]
[]
[]
[null,null,null,null,null,"NOTE IMPORTANTI"]
[null,null,null,null,null,"Muoversi con il tasto \"TAB\" usando solo le celle libere e saltando le bloccate."]
[]
[null,null,null,null,null,"Anche se vi è stata data la password di accesso ai fogli NON USATELA"]
[null,null,null,null,null,"potreste rovinare qualche cella sensibile per cui il file diventa inservibile."]
[]
[null,null,null,null,null,"Non vi preoccupate di scrivere maiuscolo o minuscolo poiché le colonne sono "]
[null,null,null,null,null,"state già programmate in anticipo e non potete cambiarle."]
[]
[null,null,null,null,null,"Una volta finito il diploma fatene una copia e rinominatela con il vostro nominativo"]
[null,null,null,null,null,"di stazione e il nome del diploma."]
[]
[null,null,null,null,null,"Sarà cura del Manager lavorare il \"LOG\" controllando tutti i dati e il punteggio."]
[]
[null,null,null,null,null,"Logicamente il punteggio da voi ottenuto dal vostro log sarà solo e soltando utile"]
[null,null,null,null,null,"per la vostra conoscenza, restando valido a tutti gli effetti il punteggio inserito"]
[null,null,null,null,null,"dal Manager nella relativa eventuale graduatoria."]
[]
[null,null,null,null,null,"Le stazioni italiane che lo desiderano, potranno inviare il contributo per la"]
[null,null,null,null,null,"Top Honour Plaque tramite le seguenti modalità."]
[]
[null,null,null,null,null,"- via “POSTEPAY” 4023600964377842 intestata a Mattei Alberto;"]
[]
[null,null,null,null,null,"- BONIFICO BANCARIO: IBAN IT46V0200884625000103416422 c/o UNICREDIT "]
[null,null,null,null,null,"Filiale di Augusta."]
[]
[null,null,null,null,null,"Il Diploma andrà richiesto all’Award manager nazionale :"]
[]
[null,null,null,null,null,"IT9MRM Alberto Mattei - Via E. Millo, 20 - 96011 Augusta (SR) - Italy -"]
[]
[null,null,null,null,null,"email: info@assoradiomarinai.it\nemail: info@assoradiomarinai.it\n"]
[]
[]
[]
[]
[]
[]
[]
[]
[]
[null,null,null,null,null,"Clicca per donare"]
[]
[]
[]
[]
[null,null,null,null,null,"G R A Z I E !!!!"]
[]
[]
[]
[]
[]
[]
[]
[]
[]
[]
[]
[]
[]
[]
[]
[]
[]
[]
[]
[]
[]
[]
[]
[]
[]
[]
[]
[]
[]
[]
[]
[]
[]
[]
[]
[]
[]
[]
[]
[]
[]
[]
[]
[]
[]
[]
[]
[]
[]
[]
[]
[]
[]
[]
[]
[]
[]
[]
[]
[]
[]
[]
[]
[]
[]
[]
[]
[]
[]
[]
[]
[]
[]
[]
[]
[]
[]
[]
[]
[]
[]
[]
[]
[]
[]
[]
[]
[]
[]
[]
[]
[]
[]
[]
[]
[]
[]
[]
[]
[]
[]
[]
[]
[]
[]
[]
[]
[]
[]
[]
[]
[]
[]
[]
[]
[]
[]
[]
[]
[]
[]
[]
[]
[]
[]
[]
[]
[]
[]
[]
[]
[]
[]
[]
[]
[]
[]
[]
[]
[]
[]
[]
[]
[]
[]
[]
[]
[]
[]
[]
[]
[]
[]
[]
[]
[]
[]
[]
[]
[]
[]
[]
[]
[]
[]
[]
[]
[]
[]
[]
[]
[]
[]
[]
[]
[]
[]
[]
[]
[]
[]
[]
[]
[]
[]
[]
[]
[]
[]
[]
[]
[]
[]
[]
[]
[]
[]
[]
[]
[]
[]
[]
[]
[]
[]
[]
[]
[]
[]
[]
[]
[]
[]
[]
[]
[]
[]
[]
[]
[]
[]
[]
[]
[]
[]
[]
[]
[]
[]
[]
[]
[]
[]
[]
[]
[]
[]
[]
[]
[]
[]
[]
[]
[]
[]
[]
[]
[]
[]
[]
[]
[]
[]
[]
[]
[]
[]
[]
[]
[]
[]
[]
[]
[]
[]
[]
[]
[]
[]
[]
[]
[]
[]
[]
[]
[]
[]
[]
[]
[]
[]
[]
[]
[]
[]
[]
[]
[]
[]
[]
[]
[]
[]
[]
[]
[]
[]
[]
[]
[]
[]
[]
[]
[]
[]
[]
[]
[]
[]
[]
[]
[]
[]
[]
[]
[]
[]
[]
[]
[]
[]
[]
[]
[]
[]
[]
[]
[]
[]
[]
[]
[]
[]
[]
[]
[]
[]
[]
[]
[]
[]
[]
[]
[]
[]
[]
[]
[]
[]
[]
[]
[]
[]
[]
[]
[]
[]
[]
[]
[]
[]
[]
[]
[]
[]
[]
[]
[]
[]
[]
[]
[]
[]
[]
[]
[]
[]
[]
[]
[]
[]
[]
[]
[]
[]
[]
[]
[]
[]
[]
[]
[]
[]
[]
[]
[]
[]
[]
[]
[]
[]
[]
[]
[]
[]
[]
[]
[]
[]
[]
[]
[]
[]
[]
[]
[]
[]
[]
[]
[]
[]
[]
[]
[]
[]
[]
[]
[]
[]
[]
[]
[]
[]
[]
[]
[]
[]
[]
[]
[]
[]
[]
[]
[]
[]
[]
[]
[]
[]
[]
[]
[]
[]
[]
[]
[]
[]
[]
[]
[]
[]
[]
[]
[]
[]
[]
[]
[]
[]
[]
[]
[]
[]
[]
[]
[]
[]
[]
[]
[]
[]
[]
[]
[]
[]
[]
[]
[]
[]
[]
[]
[]
[]
[]
[]
[]
[]
[]
[]
[]
[]
[]
[]
[]
[]
[]
[]
[]
[]
[]
[]
[]
[]
[]
[]
[]
[]
[]
[]
[]
[]
[]
[]
[]
[]
[]
[]
[]
[]
[]
[]
[]
[]
[]
[]
[]
[]
[]
[]
[]
[]
[]
[]
[]
[]
[]
[]
[]
[]
[]
[]
[]
[]
[]
[]
[]
[]
[]
[]
[]
[]
[]
[]
[]
[]
[]
[]
[]
[]
[]
[]
[]
[]
[]
[]
[]
[]
[]
[]
[]
[]
[]
[]
[]
[]
[]
[]
[]
[]
[]
[]
[]
[]
[]
[]
[]
[]
[]
[]
[]
[]
[]
[]
[]
[]
[]
[]
[]
[]
[]
[]
[]
[]
[]
[]
[]
[]
[]
[]
[]
[]
[]
[]
[]
[]
[]
[]
[]
[]
[]
[]
[]
[]
[]
[]
[]
[]
[]
[]
[]
[]
[]
[]
[]
[]
[]
[]
[]
[]
[]
[]
[]
[]
[]
[]
[]
[]
[]
[]
[]
[]
[]
[]
[]
[]
[]
[]
[]
[]
[]
[]
[]
[]
[]
[]
[]
[]
[]
[]
[]
[]
[]
[]
[]
[]
[]
[]
[]
[]
[]
[]
[]
[]
[]
[]
[]
[]
[]
[]
[]
[]
[]
[]
[]
[]
[]
[]
[]
[]
[]
[]
[]
[]
[]
[]
[]
[]
[]
[]
[]
[]
[]
[]
[]
[]
[]
[]
[]
[]
[]
[]
[]
[]
[]
[]
[]
[]
[]
[]
[]
[]
[]
[]
[]
[]
[]
[]
[]
[]
[]
[]
[]
[]
[]
[]
[]
[]
[]
[]
[]
[]
[]
[]
[]
[]
[]
[]
[]
[]
[]
[]
[]
[]
[]
[]
[]
[]
[]
[]
[]
[]
[]
[]
[]
[]
[]
[]
[]
[]
[]
[]
[]
[]
[]
[]
[]
[]
[]
[]
[]
[]
[]
[]
[]
[]
[]
[]
[]
[]
[]
[]
[]
[]
[]
[]
[]
[]
[]
[]
[]
[]
[]
[]
[]
[]
[]
[]
[]
[]
[]
[]
[]
[]
[]
[]
[]
[]
[]
[]
[]
[]
[]
[]
[]
[]
[]
[]
[]
[]
[]
[]
[]
[]
[]
[]
[]
[]
[]
[]
[]
[]
[]
[]
[]
[]
[]
[]
[]
[]
[]
[]
[]
[]
[]
[]
[]
[]
[]
[]
[]
[]
[]
[]
[]
[]
[]
[]
[]
[]
[]
[]
[]
[]
[]
[]
[]
[]
[]
[]
[]
[]
[]
[]
[]
[]
[]
[]
[]
[]
[]
[]
[]
[]
[]
[]
[]
[]
[]
[]
[]
[]
[]
[]
[]
[]
[]
[]
[]
[]
[]
[]
[]
[]
[]
[]
[]
[]
[]
[]
[]
[]
[]
[]
[]
[]
[]
[]
[]
[]
[]
[]
[]
[]
[]
[]
[]
[]
[]
[]
[]
[]
[]
[]
[]
[]
[]
[]
[]
[]
[]
[]
[]
[]
[]
[]
[]
[]
[]
[]
[]
[]
[]
[]
[]
[]
[]
[]
[]
[]
[]
[]
[]
[]
[]
[]
[]
[]
[]
[]
[]
[]
[]
[]
[]
[]
[]
[]
[]
[]
[]
[]
[]
[]
[]
[]
[]
[]
[]
[]
[]
[]
[]
[]
[]
[]
[]
[]
[]
[]
[]
[]
[]
[]
[]
[]
[]
[]
[]
[]
[]
[]
[]
[]
[]
[]
[]
[]
[]
[]
[]
[]
[]
[]
[]
[]
[]
[]
[]
[]
[]
[]
[]
[]
[]
[]
[]
[]
[]
[]
[]
[]
[]
[]
[]
[]
[]
[]
[]
[]
[]
[]
[]
[]
[]
[]
[]
[]
[]
[]
[]
[]
[]
[]
[]
[]
[]
[]
[]
[]
[]
[]
[]
[]
[]
[]
[]
[]
[]
[]
[]
[]
[]
[]
[]
[]
[]
[]
[]
[]
[]
[]
[]
[]
[]
[]
[]
[]
[]
[]
[]
[]
[]
[]
[]
[]
[]
[]
[]
[]
[]
[]
[]
[]
[]
[]
[]
[]
[]
[]
[]
[]
[]
[]
[]
[]
[]
[]
[]
[]
[]
[]
[]
[]
[]
[null,"YV5HNJ",1461,"RAMON"]

{"sheet":"JPG","index":3,"n_rows":0,"n_cols":0,"rows_kept":0,"cut":false,"hidden":false,"merged":[]}