{"text_format":"1","workbook":"xlsx","n_sheets":4,"sheets":["LOG","database","info","JPG"],"not_rendered":{"charts":0,"images":3,"macros":1,"external_links":0,"defined_names":3,"comments":0,"pivot_tables":0},"unopened":[],"bounds":{"document_bytes":16777216,"sheet_cells":100000,"rows_first":2000,"rows_last":500,"rows_between":2000,"halvings":0,"cell_chars":16384,"cell_head_chars":4096},"cells_cut":0,"cells_raw":0,"read":"whole","date_system":"1900"}

{"sheet":"LOG","index":0,"n_rows":6013,"n_cols":24,"rows_kept":2250,"cut":true,"hidden":false,"merged":[[0,12,0,13],[2,12,2,13],[9,12,9,13],[21,12,21,13],[19,12,19,13],[20,12,20,13],[0,7,0,10],[35,12,36,13],[13,12,13,13],[3,12,4,13],[10,12,10,13],[11,12,11,13],[12,12,12,13],[14,12,14,13],[22,12,22,13],[23,12,23,13],[24,12,24,13],[15,12,15,13],[16,12,16,13],[17,12,17,13],[18,12,18,13],[34,12,34,13],[33,12,33,13],[25,12,25,13],[26,12,26,13],[30,12,30,13],[31,12,31,13],[32,12,32,13],[29,12,29,13]],"bounds":{"rows_first":1000,"rows_last":250,"rows_between":1000,"halvings":1}}
["REGIA MARINA NELLA GRANDE GUERRA",null,null,null,null,null,null,"da 01 Gennaio a 11 Novembre 2018",null,null,null,"Lista membri ARMI",{"$f":"\"Ultimo MI nel DB \"&database!I1","v":"Ultimo MI nel DB 1469"},null,{"$f":"IF(OR(I1=\"\",K1=\"\",L1=\"\"),0,1)","v":0},{"$f":"SUM(G4:G6000)","v":0},{"$f":"IF(M9<>\"i\",1,2)","v":1},null,{"$f":"IF(ISERROR(VLOOKUP(N6,database!$B$2:$E$6001,2,FALSE)),\"\",VLOOKUP(N6,database!$B$2:$E$6001,2,FALSE))","v":""},{"$f":"IF(ISERROR(VLOOKUP(N6,database!$B$2:$E$6001,4,FALSE)),\"\",VLOOKUP(N6,database!$B$2:$E$6001,4,FALSE))","v":""}]
[null,"xy",null,"xy","xy"]
["QSO#","CALL","N.Ass. Bi/Tri Lettere","DATA","UTC","MODE","PUNTI","BANDA","FREQ.ZA","RST","Nome Operatore","N O T E",{"$f":"\"TOTALE PUNTI \"&P1","v":"TOTALE PUNTI 0"},null,null,null,null,null,null,null,null,null,null,"formule"]
[{"$f":"IF(B4=\"\",\"\",ROW(A1))","v":""},null,{"$f":"IF(ISERROR(VLOOKUP(B4,database!$B$2:$C$6001,2,FALSE)),\"\",VLOOKUP(B4,database!$B$2:$C$6001,2,FALSE))","v":""},null,null,null,{"$f":"IF(B4=\"\",\"\",IF(B4=\"-\",0,IF(W4=1,1,IF(AND(U4=0,F4=\"SSB\"),2,IF(AND(U4=0,F4=\"DIGI\"),3,IF(AND(U4=0,F4=\"CW\"),5,U4))))))","v":""},null,null,null,{"$f":"IF(ISERROR(VLOOKUP(B4,database!$B$2:$D$6001,3,FALSE)),\"\",VLOOKUP(B4,database!$B$2:$D$6001,3,FALSE))","v":""},null,"DATI STAZIONE",null,null,null,null,{"$f":"LEFT(C4,2)","v":""},{"$f":"M39","v":"II7WWI"},null,{"$f":"IFERROR(INDEX(M$39:N$140,MATCH(B4,M$39:M$140,0),2),0)","v":0},null,{"$f":"IF(AND(U4=0,C4=\"\"),1,2)","v":1},{"$f":"IF(B4=\"-\",\"\",IF(OR(B4=M$39,B4=M$40,B4=M$41,B4=M$42,B4=M$43,B4=M$44,B4=M$45,B4=M$46,B4=M$47,,B4=M$50,B4=M$51,B4=M$52,B4=M$53,B4=M$54,B4=M$55,B4=M$56,B4=M$57,B4=M$70),\"\",IF(C4=\"\",\"indip\",F4)))","v":"indip"}]
[{"$f":"IF(B5=\"\",\"\",ROW(A2))","v":""},null,{"$f":"IF(ISERROR(VLOOKUP(B5,database!$B$2:$C$6001,2,FALSE)),\"\",VLOOKUP(B5,database!$B$2:$C$6001,2,FALSE))","v":""},null,null,null,{"$f":"IF(B5=\"\",\"\",IF(B5=\"-\",0,IF(W5=1,1,IF(AND(U5=0,F5=\"SSB\"),2,IF(AND(U5=0,F5=\"DIGI\"),3,IF(AND(U5=0,F5=\"CW\"),5,U5))))))","v":""},null,null,null,{"$f":"IF(ISERROR(VLOOKUP(B5,database!$B$2:$D$6001,3,FALSE)),\"\",VLOOKUP(B5,database!$B$2:$D$6001,3,FALSE))","v":""},null,null,null,"SSB",null,null,{"$f":"LEFT(C5,2)","v":""},{"$f":"M40","v":"IQ0RU"},null,0,null,1,"indip"]
["",null,{"$f":"IF(ISERROR(VLOOKUP(B6,database!$B$2:$C$6001,2,FALSE)),\"\",VLOOKUP(B6,database!$B$2:$C$6001,2,FALSE))","v":""},null,null,null,"",null,null,null,{"$f":"IF(ISERROR(VLOOKUP(B6,database!$B$2:$D$6001,3,FALSE)),\"\",VLOOKUP(B6,database!$B$2:$D$6001,3,FALSE))","v":""},null,"Nominativo",null,"DIGI",null,null,"","IQ1YY",null,0,null,1,"indip"]
["",null,{"$f":"IF(ISERROR(VLOOKUP(B7,database!$B$2:$C$6001,2,FALSE)),\"\",VLOOKUP(B7,database!$B$2:$C$6001,2,FALSE))","v":""},null,null,null,"",null,null,null,{"$f":"IF(ISERROR(VLOOKUP(B7,database!$B$2:$D$6001,3,FALSE)),\"\",VLOOKUP(B7,database!$B$2:$D$6001,3,FALSE))","v":""},null,"Operatore",null,"CW",null,null,"","IQ3GA",null,0,null,1,"indip"]
["",null,{"$f":"IF(ISERROR(VLOOKUP(B8,database!$B$2:$C$6001,2,FALSE)),\"\",VLOOKUP(B8,database!$B$2:$C$6001,2,FALSE))","v":""},null,null,null,"",null,null,null,{"$f":"IF(ISERROR(VLOOKUP(B8,database!$B$2:$D$6001,3,FALSE)),\"\",VLOOKUP(B8,database!$B$2:$D$6001,3,FALSE))","v":""},null,"MI","St.Accr.ta",null,null,null,"","IQ7QN",null,0,null,1,"indip"]
["",null,{"$f":"IF(ISERROR(VLOOKUP(B9,database!$B$2:$C$6001,2,FALSE)),\"\",VLOOKUP(B9,database!$B$2:$C$6001,2,FALSE))","v":""},null,null,null,"",null,null,null,{"$f":"IF(ISERROR(VLOOKUP(B9,database!$B$2:$D$6001,3,FALSE)),\"\",VLOOKUP(B9,database!$B$2:$D$6001,3,FALSE))","v":""},null,{"$f":"IF(T1=0,S1,T1)","v":""},{"$f":"IF(T1<>0,S1,\"==\")","v":""},null,null,null,"","IQ7TA",null,0,null,1,"indip"]
["",null,{"$f":"IF(ISERROR(VLOOKUP(B10,database!$B$2:$C$6001,2,FALSE)),\"\",VLOOKUP(B10,database!$B$2:$C$6001,2,FALSE))","v":""},null,null,null,"",null,null,null,{"$f":"IF(ISERROR(VLOOKUP(B10,database!$B$2:$D$6001,3,FALSE)),\"\",VLOOKUP(B10,database!$B$2:$D$6001,3,FALSE))","v":""},null,{"$f":"IF(AND(N6=\"\",M9=\"\"),\"\",IF(M9=\"\",\"St.Indipendente o Swl\",\"\"))","v":""},null,null,null,null,"","IQ7UJ",null,0,null,1,"indip"]
["",null,{"$f":"IF(ISERROR(VLOOKUP(B11,database!$B$2:$C$6001,2,FALSE)),\"\",VLOOKUP(B11,database!$B$2:$C$6001,2,FALSE))","v":""},null,null,null,"",null,null,null,{"$f":"IF(ISERROR(VLOOKUP(B11,database!$B$2:$D$6001,3,FALSE)),\"\",VLOOKUP(B11,database!$B$2:$D$6001,3,FALSE))","v":""},null,"Indirizzo e-mail",null,{"$f":"COUNTIF($F$4:$F$6000,O5)","v":0},null,{"$f":"COUNTIF($R$4:$R$6000,P11)","v":0},"","IQ8NB",null,0,null,1,"indip"]
["",null,{"$f":"IF(ISERROR(VLOOKUP(B12,database!$B$2:$C$6001,2,FALSE)),\"\",VLOOKUP(B12,database!$B$2:$C$6001,2,FALSE))","v":""},null,null,null,"",null,null,null,{"$f":"IF(ISERROR(VLOOKUP(B12,database!$B$2:$D$6001,3,FALSE)),\"\",VLOOKUP(B12,database!$B$2:$D$6001,3,FALSE))","v":""},null,null,null,{"$f":"COUNTIF($F$4:$F$6000,O6)","v":0},null,{"$f":"COUNTIF($R$4:$R$6000,P12)","v":0},"","IQ8XS",null,0,null,1,"indip"]
["",null,{"$f":"IF(ISERROR(VLOOKUP(B13,database!$B$2:$C$6001,2,FALSE)),\"\",VLOOKUP(B13,database!$B$2:$C$6001,2,FALSE))","v":""},null,null,null,"",null,null,null,{"$f":"IF(ISERROR(VLOOKUP(B13,database!$B$2:$D$6001,3,FALSE)),\"\",VLOOKUP(B13,database!$B$2:$D$6001,3,FALSE))","v":""},null,"inviare TOP HONOUR PLAQUE a",null,{"$f":"COUNTIF($F$4:$F$6000,O7)","v":0},"ARMI",{"$f":"COUNTIF($R$4:$R$6000,P13)","v":0},"",{"$f":"M50","v":"I2AZ"},null,0,null,1,"indip"]
["",null,{"$f":"IF(ISERROR(VLOOKUP(B14,database!$B$2:$C$6001,2,FALSE)),\"\",VLOOKUP(B14,database!$B$2:$C$6001,2,FALSE))","v":""},null,null,null,"",null,null,null,{"$f":"IF(ISERROR(VLOOKUP(B14,database!$B$2:$D$6001,3,FALSE)),\"\",VLOOKUP(B14,database!$B$2:$D$6001,3,FALSE))","v":""},null,null,null,{"$f":"COUNTIF($F$4:$F$6000,O8)","v":0},"SWL",{"$f":"COUNTIF($R$4:$R$6000,P14)","v":0},"","I2QIL",null,0,null,1,"indip"]
["",null,{"$f":"IF(ISERROR(VLOOKUP(B15,database!$B$2:$C$6001,2,FALSE)),\"\",VLOOKUP(B15,database!$B$2:$C$6001,2,FALSE))","v":""},null,null,null,"",null,null,null,{"$f":"IF(ISERROR(VLOOKUP(B15,database!$B$2:$D$6001,3,FALSE)),\"\",VLOOKUP(B15,database!$B$2:$D$6001,3,FALSE))","v":""},null,null,null,null,"INDIPENDENTE",null,"","I3JYL",null,0,null,1,"indip"]
["",null,{"$f":"IF(ISERROR(VLOOKUP(B16,database!$B$2:$C$6001,2,FALSE)),\"\",VLOOKUP(B16,database!$B$2:$C$6001,2,FALSE))","v":""},null,null,null,"",null,null,null,{"$f":"IF(ISERROR(VLOOKUP(B16,database!$B$2:$D$6001,3,FALSE)),\"\",VLOOKUP(B16,database!$B$2:$D$6001,3,FALSE))","v":""},null,null,null,160,null,null,"","I3VAD",null,0,null,1,"indip"]
["",null,{"$f":"IF(ISERROR(VLOOKUP(B17,database!$B$2:$C$6001,2,FALSE)),\"\",VLOOKUP(B17,database!$B$2:$C$6001,2,FALSE))","v":""},null,null,null,"",null,null,null,{"$f":"IF(ISERROR(VLOOKUP(B17,database!$B$2:$D$6001,3,FALSE)),\"\",VLOOKUP(B17,database!$B$2:$D$6001,3,FALSE))","v":""},null,null,null,80,null,null,"","IF9ZWA",null,0,null,1,"indip"]
["",null,{"$f":"IF(ISERROR(VLOOKUP(B18,database!$B$2:$C$6001,2,FALSE)),\"\",VLOOKUP(B18,database!$B$2:$C$6001,2,FALSE))","v":""},null,null,null,"",null,null,null,{"$f":"IF(ISERROR(VLOOKUP(B18,database!$B$2:$D$6001,3,FALSE)),\"\",VLOOKUP(B18,database!$B$2:$D$6001,3,FALSE))","v":""},null,null,null,40,null,null,"","IK0ZME",null,0,null,1,"indip"]
["",null,{"$f":"IF(ISERROR(VLOOKUP(B19,database!$B$2:$C$6001,2,FALSE)),\"\",VLOOKUP(B19,database!$B$2:$C$6001,2,FALSE))","v":""},null,null,null,"",null,null,null,{"$f":"IF(ISERROR(VLOOKUP(B19,database!$B$2:$D$6001,3,FALSE)),\"\",VLOOKUP(B19,database!$B$2:$D$6001,3,FALSE))","v":""},null,null,null,30,null,null,"","IK1MTV",null,0,null,1,"indip"]
["",null,{"$f":"IF(ISERROR(VLOOKUP(B20,database!$B$2:$C$6001,2,FALSE)),\"\",VLOOKUP(B20,database!$B$2:$C$6001,2,FALSE))","v":""},null,null,null,"",null,null,null,{"$f":"IF(ISERROR(VLOOKUP(B20,database!$B$2:$D$6001,3,FALSE)),\"\",VLOOKUP(B20,database!$B$2:$D$6001,3,FALSE))","v":""},null,null,null,20,null,null,"","IK1QLD",null,0,null,1,"indip"]
["",null,{"$f":"IF(ISERROR(VLOOKUP(B21,database!$B$2:$C$6001,2,FALSE)),\"\",VLOOKUP(B21,database!$B$2:$C$6001,2,FALSE))","v":""},null,null,null,"",null,null,null,{"$f":"IF(ISERROR(VLOOKUP(B21,database!$B$2:$D$6001,3,FALSE)),\"\",VLOOKUP(B21,database!$B$2:$D$6001,3,FALSE))","v":""},null,null,null,17,null,null,"","IK1RTP",null,0,null,1,"indip"]
["",null,{"$f":"IF(ISERROR(VLOOKUP(B22,database!$B$2:$C$6001,2,FALSE)),\"\",VLOOKUP(B22,database!$B$2:$C$6001,2,FALSE))","v":""},null,null,null,"",null,null,null,{"$f":"IF(ISERROR(VLOOKUP(B22,database!$B$2:$D$6001,3,FALSE)),\"\",VLOOKUP(B22,database!$B$2:$D$6001,3,FALSE))","v":""},null,"Tasti blocco e sblocca celle",null,15,null,null,"","IK1WVR",null,0,null,1,"indip"]
["",null,{"$f":"IF(ISERROR(VLOOKUP(B23,database!$B$2:$C$6001,2,FALSE)),\"\",VLOOKUP(B23,database!$B$2:$C$6001,2,FALSE))","v":""},null,null,null,"",null,null,null,{"$f":"IF(ISERROR(VLOOKUP(B23,database!$B$2:$D$6001,3,FALSE)),\"\",VLOOKUP(B23,database!$B$2:$D$6001,3,FALSE))","v":""},null,"(DATA-MODE-BANDA-FREQ.ZA)",null,12,null,null,{"$f":"LEFT(C23,2)","v":""},"IK2GPQ",null,0,null,1,"indip"]
["",null,{"$f":"IF(ISERROR(VLOOKUP(B24,database!$B$2:$C$6001,2,FALSE)),\"\",VLOOKUP(B24,database!$B$2:$C$6001,2,FALSE))","v":""},null,null,null,"",null,null,null,{"$f":"IF(ISERROR(VLOOKUP(B24,database!$B$2:$D$6001,3,FALSE)),\"\",VLOOKUP(B24,database!$B$2:$D$6001,3,FALSE))","v":""},null,null,null,10,null,null,{"$f":"LEFT(C24,2)","v":""},"IK2SOE",null,0,null,1,"indip"]
["",null,{"$f":"IF(ISERROR(VLOOKUP(B25,database!$B$2:$C$6001,2,FALSE)),\"\",VLOOKUP(B25,database!$B$2:$C$6001,2,FALSE))","v":""},null,null,null,"",null,null,null,{"$f":"IF(ISERROR(VLOOKUP(B25,database!$B$2:$D$6001,3,FALSE)),\"\",VLOOKUP(B25,database!$B$2:$D$6001,3,FALSE))","v":""},null,null,null,null,null,null,{"$f":"LEFT(C25,2)","v":""},"IK2WSO",null,0,null,1,"indip"]
["",null,{"$f":"IF(ISERROR(VLOOKUP(B26,database!$B$2:$C$6001,2,FALSE)),\"\",VLOOKUP(B26,database!$B$2:$C$6001,2,FALSE))","v":""},null,null,null,"",null,null,null,{"$f":"IF(ISERROR(VLOOKUP(B26,database!$B$2:$D$6001,3,FALSE)),\"\",VLOOKUP(B26,database!$B$2:$D$6001,3,FALSE))","v":""},null,"TASTI NAVIGAZIONE",null,null,"MIXED (ssb/digi/cw)",null,"","IK3HMB",null,0,null,1,"indip"]
["",null,{"$f":"IF(ISERROR(VLOOKUP(B27,database!$B$2:$C$6001,2,FALSE)),\"\",VLOOKUP(B27,database!$B$2:$C$6001,2,FALSE))","v":""},null,null,null,"",null,null,null,{"$f":"IF(ISERROR(VLOOKUP(B27,database!$B$2:$D$6001,3,FALSE)),\"\",VLOOKUP(B27,database!$B$2:$D$6001,3,FALSE))","v":""},null,null,null,null,"PHONE (ssb)",null,"","IK3ITV",null,0,null,1,"indip"]
["",null,{"$f":"IF(ISERROR(VLOOKUP(B28,database!$B$2:$C$6001,2,FALSE)),\"\",VLOOKUP(B28,database!$B$2:$C$6001,2,FALSE))","v":""},null,null,null,"",null,null,null,{"$f":"IF(ISERROR(VLOOKUP(B28,database!$B$2:$D$6001,3,FALSE)),\"\",VLOOKUP(B28,database!$B$2:$D$6001,3,FALSE))","v":""},null,null,null,null,"MORSE (cw)",null,"","IK5TBI",null,0,null,1,"indip"]
["",null,{"$f":"IF(ISERROR(VLOOKUP(B29,database!$B$2:$C$6001,2,FALSE)),\"\",VLOOKUP(B29,database!$B$2:$C$6001,2,FALSE))","v":""},null,null,null,"",null,null,null,{"$f":"IF(ISERROR(VLOOKUP(B29,database!$B$2:$D$6001,3,FALSE)),\"\",VLOOKUP(B29,database!$B$2:$D$6001,3,FALSE))","v":""},null,null,null,null,"DIGI",null,"","IK6ARS",null,0,null,1,"indip"]
["",null,{"$f":"IF(ISERROR(VLOOKUP(B30,database!$B$2:$C$6001,2,FALSE)),\"\",VLOOKUP(B30,database!$B$2:$C$6001,2,FALSE))","v":""},null,null,null,"",null,null,null,{"$f":"IF(ISERROR(VLOOKUP(B30,database!$B$2:$D$6001,3,FALSE)),\"\",VLOOKUP(B30,database!$B$2:$D$6001,3,FALSE))","v":""},null,null,null,null,"SWL",null,"","IK7FBK",null,0,null,1,"indip"]
["",null,{"$f":"IF(ISERROR(VLOOKUP(B31,database!$B$2:$C$6001,2,FALSE)),\"\",VLOOKUP(B31,database!$B$2:$C$6001,2,FALSE))","v":""},null,null,null,"",null,null,null,{"$f":"IF(ISERROR(VLOOKUP(B31,database!$B$2:$D$6001,3,FALSE)),\"\",VLOOKUP(B31,database!$B$2:$D$6001,3,FALSE))","v":""},null,"Free software by IZ8OGK",null,null,null,null,"","IK8FIQ",null,0,null,1,"indip"]
["",null,{"$f":"IF(ISERROR(VLOOKUP(B32,database!$B$2:$C$6001,2,FALSE)),\"\",VLOOKUP(B32,database!$B$2:$C$6001,2,FALSE))","v":""},null,null,null,"",null,null,null,{"$f":"IF(ISERROR(VLOOKUP(B32,database!$B$2:$D$6001,3,FALSE)),\"\",VLOOKUP(B32,database!$B$2:$D$6001,3,FALSE))","v":""},null,"sviluppato su licenza GNU GPL vedi:",null,null,null,null,"","IK8MFA",null,0,null,1,"indip"]
["",null,{"$f":"IF(ISERROR(VLOOKUP(B33,database!$B$2:$C$6001,2,FALSE)),\"\",VLOOKUP(B33,database!$B$2:$C$6001,2,FALSE))","v":""},null,null,null,"",null,null,null,{"$f":"IF(ISERROR(VLOOKUP(B33,database!$B$2:$D$6001,3,FALSE)),\"\",VLOOKUP(B33,database!$B$2:$D$6001,3,FALSE))","v":""},null,null,null,{"$f":"COUNTIF($H$4:$H$6000,O16)","v":0},null,null,"","IK8MFJ",null,0,null,1,"indip"]
["",null,{"$f":"IF(ISERROR(VLOOKUP(B34,database!$B$2:$C$6001,2,FALSE)),\"\",VLOOKUP(B34,database!$B$2:$C$6001,2,FALSE))","v":""},null,null,null,"",null,null,null,{"$f":"IF(ISERROR(VLOOKUP(B34,database!$B$2:$D$6001,3,FALSE)),\"\",VLOOKUP(B34,database!$B$2:$D$6001,3,FALSE))","v":""},null,null,null,{"$f":"COUNTIF($H$4:$H$6000,O17)","v":0},null,null,"","IK8RIJ",null,0,null,1,"indip"]
["",null,{"$f":"IF(ISERROR(VLOOKUP(B35,database!$B$2:$C$6001,2,FALSE)),\"\",VLOOKUP(B35,database!$B$2:$C$6001,2,FALSE))","v":""},null,null,null,"",null,null,null,{"$f":"IF(ISERROR(VLOOKUP(B35,database!$B$2:$D$6001,3,FALSE)),\"\",VLOOKUP(B35,database!$B$2:$D$6001,3,FALSE))","v":""},null,"quando richiesta password = regia",null,0,null,null,"","IK8TEO",null,0,null,1,"indip"]
["",null,{"$f":"IF(ISERROR(VLOOKUP(B36,database!$B$2:$C$6001,2,FALSE)),\"\",VLOOKUP(B36,database!$B$2:$C$6001,2,FALSE))","v":""},null,null,null,"",null,null,null,{"$f":"IF(ISERROR(VLOOKUP(B36,database!$B$2:$D$6001,3,FALSE)),\"\",VLOOKUP(B36,database!$B$2:$D$6001,3,FALSE))","v":""},null,"INSERIMENTO DATI",null,0,null,null,"","IK8UDH",null,0,null,1,"indip"]
["",null,{"$f":"IF(ISERROR(VLOOKUP(B37,database!$B$2:$C$6001,2,FALSE)),\"\",VLOOKUP(B37,database!$B$2:$C$6001,2,FALSE))","v":""},null,null,null,"",null,null,null,{"$f":"IF(ISERROR(VLOOKUP(B37,database!$B$2:$D$6001,3,FALSE)),\"\",VLOOKUP(B37,database!$B$2:$D$6001,3,FALSE))","v":""},null,null,null,0,null,null,"","IK8XVA",null,0,null,1,"indip"]
["",null,{"$f":"IF(ISERROR(VLOOKUP(B38,database!$B$2:$C$6001,2,FALSE)),\"\",VLOOKUP(B38,database!$B$2:$C$6001,2,FALSE))","v":""},null,null,null,"",null,null,null,{"$f":"IF(ISERROR(VLOOKUP(B38,database!$B$2:$D$6001,3,FALSE)),\"\",VLOOKUP(B38,database!$B$2:$D$6001,3,FALSE))","v":""},null,"STAZIONE","PUNTI",0,null,null,"","IS0BMU",null,0,null,1,"indip"]
["",null,{"$f":"IF(ISERROR(VLOOKUP(B39,database!$B$2:$C$6001,2,FALSE)),\"\",VLOOKUP(B39,database!$B$2:$C$6001,2,FALSE))","v":""},null,null,null,"",null,null,null,{"$f":"IF(ISERROR(VLOOKUP(B39,database!$B$2:$D$6001,3,FALSE)),\"\",VLOOKUP(B39,database!$B$2:$D$6001,3,FALSE))","v":""},null,"II7WWI",25,0,null,null,"","IS0JMA",null,0,null,1,"indip"]
["",null,{"$f":"IF(ISERROR(VLOOKUP(B40,database!$B$2:$C$6001,2,FALSE)),\"\",VLOOKUP(B40,database!$B$2:$C$6001,2,FALSE))","v":""},null,null,null,"",null,null,null,{"$f":"IF(ISERROR(VLOOKUP(B40,database!$B$2:$D$6001,3,FALSE)),\"\",VLOOKUP(B40,database!$B$2:$D$6001,3,FALSE))","v":""},null,"IQ0RU",15,1,null,null,"","IT9CKA",null,0,null,1,"indip"]
["",null,{"$f":"IF(ISERROR(VLOOKUP(B41,database!$B$2:$C$6001,2,FALSE)),\"\",VLOOKUP(B41,database!$B$2:$C$6001,2,FALSE))","v":""},null,null,null,"",null,null,null,{"$f":"IF(ISERROR(VLOOKUP(B41,database!$B$2:$D$6001,3,FALSE)),\"\",VLOOKUP(B41,database!$B$2:$D$6001,3,FALSE))","v":""},null,"IQ1YY",15,2,null,null,"","IT9CLM",null,0,null,1,"indip"]
["",null,{"$f":"IF(ISERROR(VLOOKUP(B42,database!$B$2:$C$6001,2,FALSE)),\"\",VLOOKUP(B42,database!$B$2:$C$6001,2,FALSE))","v":""},null,null,null,"",null,null,null,{"$f":"IF(ISERROR(VLOOKUP(B42,database!$B$2:$D$6001,3,FALSE)),\"\",VLOOKUP(B42,database!$B$2:$D$6001,3,FALSE))","v":""},null,"IQ3GA",15,3,null,null,"","IT9DSA",null,0,null,1,"indip"]
["",null,{"$f":"IF(ISERROR(VLOOKUP(B43,database!$B$2:$C$6001,2,FALSE)),\"\",VLOOKUP(B43,database!$B$2:$C$6001,2,FALSE))","v":""},null,null,null,"",null,null,null,{"$f":"IF(ISERROR(VLOOKUP(B43,database!$B$2:$D$6001,3,FALSE)),\"\",VLOOKUP(B43,database!$B$2:$D$6001,3,FALSE))","v":""},null,"IQ7QN",15,4,null,null,"","IT9EYV",null,0,null,1,"indip"]
["",null,{"$f":"IF(ISERROR(VLOOKUP(B44,database!$B$2:$C$6001,2,FALSE)),\"\",VLOOKUP(B44,database!$B$2:$C$6001,2,FALSE))","v":""},null,null,null,"",null,null,null,{"$f":"IF(ISERROR(VLOOKUP(B44,database!$B$2:$D$6001,3,FALSE)),\"\",VLOOKUP(B44,database!$B$2:$D$6001,3,FALSE))","v":""},null,"IQ7TA",15,5,null,null,"","IT9ZMV",null,0,null,1,"indip"]
["",null,{"$f":"IF(ISERROR(VLOOKUP(B45,database!$B$2:$C$6001,2,FALSE)),\"\",VLOOKUP(B45,database!$B$2:$C$6001,2,FALSE))","v":""},null,null,null,"",null,null,null,{"$f":"IF(ISERROR(VLOOKUP(B45,database!$B$2:$D$6001,3,FALSE)),\"\",VLOOKUP(B45,database!$B$2:$D$6001,3,FALSE))","v":""},null,"IQ7UJ",15,6,null,null,"",{"$f":"M82","v":"IU0DZA"},null,0,null,1,"indip"]
["",null,{"$f":"IF(ISERROR(VLOOKUP(B46,database!$B$2:$C$6001,2,FALSE)),\"\",VLOOKUP(B46,database!$B$2:$C$6001,2,FALSE))","v":""},null,null,null,"",null,null,null,{"$f":"IF(ISERROR(VLOOKUP(B46,database!$B$2:$D$6001,3,FALSE)),\"\",VLOOKUP(B46,database!$B$2:$D$6001,3,FALSE))","v":""},null,"IQ8NB",15,7,null,null,"","IU5BKR",null,0,null,1,"indip"]
["",null,{"$f":"IF(ISERROR(VLOOKUP(B47,database!$B$2:$C$6001,2,FALSE)),\"\",VLOOKUP(B47,database!$B$2:$C$6001,2,FALSE))","v":""},null,null,null,"",null,null,null,{"$f":"IF(ISERROR(VLOOKUP(B47,database!$B$2:$D$6001,3,FALSE)),\"\",VLOOKUP(B47,database!$B$2:$D$6001,3,FALSE))","v":""},null,"IQ8XS",15,8,null,null,"","IU8ACL",null,0,null,1,"indip"]
["",null,{"$f":"IF(ISERROR(VLOOKUP(B48,database!$B$2:$C$6001,2,FALSE)),\"\",VLOOKUP(B48,database!$B$2:$C$6001,2,FALSE))","v":""},null,null,null,"",null,null,null,{"$f":"IF(ISERROR(VLOOKUP(B48,database!$B$2:$D$6001,3,FALSE)),\"\",VLOOKUP(B48,database!$B$2:$D$6001,3,FALSE))","v":""},null,"IQ9MQ",15,9,null,null,"","IU8AEY",null,0,null,1,"indip"]
["",null,{"$f":"IF(ISERROR(VLOOKUP(B49,database!$B$2:$C$6001,2,FALSE)),\"\",VLOOKUP(B49,database!$B$2:$C$6001,2,FALSE))","v":""},null,null,null,"",null,null,null,{"$f":"IF(ISERROR(VLOOKUP(B49,database!$B$2:$D$6001,3,FALSE)),\"\",VLOOKUP(B49,database!$B$2:$D$6001,3,FALSE))","v":""},null,"IQ9ZI",15,10,null,null,"","IU8CEU",null,0,null,1,"indip"]
["",null,{"$f":"IF(ISERROR(VLOOKUP(B50,database!$B$2:$C$6001,2,FALSE)),\"\",VLOOKUP(B50,database!$B$2:$C$6001,2,FALSE))","v":""},null,null,null,"",null,null,null,{"$f":"IF(ISERROR(VLOOKUP(B50,database!$B$2:$D$6001,3,FALSE)),\"\",VLOOKUP(B50,database!$B$2:$D$6001,3,FALSE))","v":""},null,"I2AZ",10,11,null,null,"","IU8DKG",null,0,null,1,"indip"]
["",null,{"$f":"IF(ISERROR(VLOOKUP(B51,database!$B$2:$C$6001,2,FALSE)),\"\",VLOOKUP(B51,database!$B$2:$C$6001,2,FALSE))","v":""},null,null,null,"",null,null,null,{"$f":"IF(ISERROR(VLOOKUP(B51,database!$B$2:$D$6001,3,FALSE)),\"\",VLOOKUP(B51,database!$B$2:$D$6001,3,FALSE))","v":""},null,"I2QIL",10,12,null,null,"","IU8FSU",null,0,null,1,"indip"]
["",null,{"$f":"IF(ISERROR(VLOOKUP(B52,database!$B$2:$C$6001,2,FALSE)),\"\",VLOOKUP(B52,database!$B$2:$C$6001,2,FALSE))","v":""},null,null,null,"",null,null,null,{"$f":"IF(ISERROR(VLOOKUP(B52,database!$B$2:$D$6001,3,FALSE)),\"\",VLOOKUP(B52,database!$B$2:$D$6001,3,FALSE))","v":""},null,"I3JYL",10,13,null,null,"","IW0BTN",null,0,null,1,"indip"]
["",null,{"$f":"IF(ISERROR(VLOOKUP(B53,database!$B$2:$C$6001,2,FALSE)),\"\",VLOOKUP(B53,database!$B$2:$C$6001,2,FALSE))","v":""},null,null,null,"",null,null,null,{"$f":"IF(ISERROR(VLOOKUP(B53,database!$B$2:$D$6001,3,FALSE)),\"\",VLOOKUP(B53,database!$B$2:$D$6001,3,FALSE))","v":""},null,"I3VAD",10,14,null,null,"","IW0DPJ",null,0,null,1,"indip"]
["",null,{"$f":"IF(ISERROR(VLOOKUP(B54,database!$B$2:$C$6001,2,FALSE)),\"\",VLOOKUP(B54,database!$B$2:$C$6001,2,FALSE))","v":""},null,null,null,"",null,null,null,{"$f":"IF(ISERROR(VLOOKUP(B54,database!$B$2:$D$6001,3,FALSE)),\"\",VLOOKUP(B54,database!$B$2:$D$6001,3,FALSE))","v":""},null,"IF9ZWA",10,15,null,null,"","IW0HIQ",null,0,null,1,"indip"]
["",null,{"$f":"IF(ISERROR(VLOOKUP(B55,database!$B$2:$C$6001,2,FALSE)),\"\",VLOOKUP(B55,database!$B$2:$C$6001,2,FALSE))","v":""},null,null,null,"",null,null,null,{"$f":"IF(ISERROR(VLOOKUP(B55,database!$B$2:$D$6001,3,FALSE)),\"\",VLOOKUP(B55,database!$B$2:$D$6001,3,FALSE))","v":""},null,"IK0ZME",10,16,null,null,"","IW0HOP",null,0,null,1,"indip"]
["",null,{"$f":"IF(ISERROR(VLOOKUP(B56,database!$B$2:$C$6001,2,FALSE)),\"\",VLOOKUP(B56,database!$B$2:$C$6001,2,FALSE))","v":""},null,null,null,"",null,"",null,{"$f":"IF(ISERROR(VLOOKUP(B56,database!$B$2:$D$6001,3,FALSE)),\"\",VLOOKUP(B56,database!$B$2:$D$6001,3,FALSE))","v":""},null,"IK1MTV",10,17,null,null,"","IW1QIH",null,0,null,1,"indip"]
["",null,{"$f":"IF(ISERROR(VLOOKUP(B57,database!$B$2:$C$6001,2,FALSE)),\"\",VLOOKUP(B57,database!$B$2:$C$6001,2,FALSE))","v":""},null,null,null,"",null,null,null,{"$f":"IF(ISERROR(VLOOKUP(B57,database!$B$2:$D$6001,3,FALSE)),\"\",VLOOKUP(B57,database!$B$2:$D$6001,3,FALSE))","v":""},null,"IK1QLD",10,18,null,null,"","IW2JJS",null,0,null,1,"indip"]
["",null,{"$f":"IF(ISERROR(VLOOKUP(B58,database!$B$2:$C$6001,2,FALSE)),\"\",VLOOKUP(B58,database!$B$2:$C$6001,2,FALSE))","v":""},null,null,null,"",null,"",null,{"$f":"IF(ISERROR(VLOOKUP(B58,database!$B$2:$D$6001,3,FALSE)),\"\",VLOOKUP(B58,database!$B$2:$D$6001,3,FALSE))","v":""},null,"IK1RTP",10,19,null,null,"","IW3IE",null,0,null,1,"indip"]
["",null,{"$f":"IF(ISERROR(VLOOKUP(B59,database!$B$2:$C$6001,2,FALSE)),\"\",VLOOKUP(B59,database!$B$2:$C$6001,2,FALSE))","v":""},null,null,null,"",null,null,null,{"$f":"IF(ISERROR(VLOOKUP(B59,database!$B$2:$D$6001,3,FALSE)),\"\",VLOOKUP(B59,database!$B$2:$D$6001,3,FALSE))","v":""},null,"IK1WVR",10,20,null,null,"","IZ0EUX",null,0,null,1,"indip"]
["",null,{"$f":"IF(ISERROR(VLOOKUP(B60,database!$B$2:$C$6001,2,FALSE)),\"\",VLOOKUP(B60,database!$B$2:$C$6001,2,FALSE))","v":""},null,null,null,"",null,null,null,{"$f":"IF(ISERROR(VLOOKUP(B60,database!$B$2:$D$6001,3,FALSE)),\"\",VLOOKUP(B60,database!$B$2:$D$6001,3,FALSE))","v":""},null,"IK2GPQ",10,21,null,null,"","IZ0FVD",null,0,null,1,"indip"]
["",null,{"$f":"IF(ISERROR(VLOOKUP(B61,database!$B$2:$C$6001,2,FALSE)),\"\",VLOOKUP(B61,database!$B$2:$C$6001,2,FALSE))","v":""},null,null,null,"",null,null,null,{"$f":"IF(ISERROR(VLOOKUP(B61,database!$B$2:$D$6001,3,FALSE)),\"\",VLOOKUP(B61,database!$B$2:$D$6001,3,FALSE))","v":""},null,"IK2SOE",10,22,null,null,"","IZ0JSD",null,0,null,1,"indip"]
["",null,{"$f":"IF(ISERROR(VLOOKUP(B62,database!$B$2:$C$6001,2,FALSE)),\"\",VLOOKUP(B62,database!$B$2:$C$6001,2,FALSE))","v":""},null,null,null,"",null,null,null,{"$f":"IF(ISERROR(VLOOKUP(B62,database!$B$2:$D$6001,3,FALSE)),\"\",VLOOKUP(B62,database!$B$2:$D$6001,3,FALSE))","v":""},null,"IK2WSO",10,23,null,null,"","IZ1CCH",null,0,null,1,"indip"]
["",null,{"$f":"IF(ISERROR(VLOOKUP(B63,database!$B$2:$C$6001,2,FALSE)),\"\",VLOOKUP(B63,database!$B$2:$C$6001,2,FALSE))","v":""},null,null,null,"",null,null,null,{"$f":"IF(ISERROR(VLOOKUP(B63,database!$B$2:$D$6001,3,FALSE)),\"\",VLOOKUP(B63,database!$B$2:$D$6001,3,FALSE))","v":""},null,"IK3HMB",10,24,null,null,"","IZ1CLA",null,0,null,1,"indip"]
["",null,{"$f":"IF(ISERROR(VLOOKUP(B64,database!$B$2:$C$6001,2,FALSE)),\"\",VLOOKUP(B64,database!$B$2:$C$6001,2,FALSE))","v":""},null,null,null,"",null,null,null,{"$f":"IF(ISERROR(VLOOKUP(B64,database!$B$2:$D$6001,3,FALSE)),\"\",VLOOKUP(B64,database!$B$2:$D$6001,3,FALSE))","v":""},null,"IK3ITV",10,25,null,null,"","IZ1CQS",null,0,null,1,"indip"]
["",null,{"$f":"IF(ISERROR(VLOOKUP(B65,database!$B$2:$C$6001,2,FALSE)),\"\",VLOOKUP(B65,database!$B$2:$C$6001,2,FALSE))","v":""},null,null,null,"",null,null,null,{"$f":"IF(ISERROR(VLOOKUP(B65,database!$B$2:$D$6001,3,FALSE)),\"\",VLOOKUP(B65,database!$B$2:$D$6001,3,FALSE))","v":""},null,"IK5TBI",10,26,null,null,"","IZ1GJK",null,0,null,1,"indip"]
["",null,{"$f":"IF(ISERROR(VLOOKUP(B66,database!$B$2:$C$6001,2,FALSE)),\"\",VLOOKUP(B66,database!$B$2:$C$6001,2,FALSE))","v":""},null,null,null,"",null,null,null,{"$f":"IF(ISERROR(VLOOKUP(B66,database!$B$2:$D$6001,3,FALSE)),\"\",VLOOKUP(B66,database!$B$2:$D$6001,3,FALSE))","v":""},null,"IK6ARS",10,27,null,null,"","IZ1GUP",null,0,null,1,"indip"]
["",null,{"$f":"IF(ISERROR(VLOOKUP(B67,database!$B$2:$C$6001,2,FALSE)),\"\",VLOOKUP(B67,database!$B$2:$C$6001,2,FALSE))","v":""},null,null,null,"",null,null,null,{"$f":"IF(ISERROR(VLOOKUP(B67,database!$B$2:$D$6001,3,FALSE)),\"\",VLOOKUP(B67,database!$B$2:$D$6001,3,FALSE))","v":""},null,"IK7FBK",10,28,null,null,"","IZ1VNT",null,0,null,1,"indip"]
["",null,{"$f":"IF(ISERROR(VLOOKUP(B68,database!$B$2:$C$6001,2,FALSE)),\"\",VLOOKUP(B68,database!$B$2:$C$6001,2,FALSE))","v":""},null,null,null,"",null,null,null,{"$f":"IF(ISERROR(VLOOKUP(B68,database!$B$2:$D$6001,3,FALSE)),\"\",VLOOKUP(B68,database!$B$2:$D$6001,3,FALSE))","v":""},null,"IK8FIQ",10,29,null,null,"","IZ1WTM",null,{"$f":"IFERROR(INDEX(M$39:N$140,MATCH(B68,M$39:M$140,0),2),0)","v":0},null,{"$f":"IF(AND(U68=0,C68=\"\"),1,2)","v":1},{"$f":"IF(B68=\"-\",\"\",IF(OR(B68=M$39,B68=M$40,B68=M$41,B68=M$42,B68=M$43,B68=M$44,B68=M$45,B68=M$46,B68=M$47,,B68=M$50,B68=M$51,B68=M$52,B68=M$53,B68=M$54,B68=M$55,B68=M$56,B68=M$57,B68=M$70),\"\",IF(C68=\"\",\"indip\",F68)))","v":"indip"}]
[{"$f":"IF(B69=\"\",\"\",ROW(A66))","v":""},null,{"$f":"IF(ISERROR(VLOOKUP(B69,database!$B$2:$C$6001,2,FALSE)),\"\",VLOOKUP(B69,database!$B$2:$C$6001,2,FALSE))","v":""},null,null,null,{"$f":"IF(B69=\"\",\"\",IF(B69=\"-\",0,IF(W69=1,1,IF(AND(U69=0,F69=\"SSB\"),2,IF(AND(U69=0,F69=\"DIGI\"),3,IF(AND(U69=0,F69=\"CW\"),5,U69))))))","v":""},null,null,null,{"$f":"IF(ISERROR(VLOOKUP(B69,database!$B$2:$D$6001,3,FALSE)),\"\",VLOOKUP(B69,database!$B$2:$D$6001,3,FALSE))","v":""},null,"IK8MFA",10,30,null,null,{"$f":"LEFT(C69,2)","v":""},{"$f":"M106","v":"IZ1ZCT"},null,0,null,1,"indip"]
["",null,{"$f":"IF(ISERROR(VLOOKUP(B70,database!$B$2:$C$6001,2,FALSE)),\"\",VLOOKUP(B70,database!$B$2:$C$6001,2,FALSE))","v":""},null,null,null,"",null,null,null,{"$f":"IF(ISERROR(VLOOKUP(B70,database!$B$2:$D$6001,3,FALSE)),\"\",VLOOKUP(B70,database!$B$2:$D$6001,3,FALSE))","v":""},null,"IK8MFJ",10,31,null,null,"","IZ1ZJO",null,0,null,1,"indip"]
["",null,{"$f":"IF(ISERROR(VLOOKUP(B71,database!$B$2:$C$6001,2,FALSE)),\"\",VLOOKUP(B71,database!$B$2:$C$6001,2,FALSE))","v":""},null,null,null,"",null,null,null,{"$f":"IF(ISERROR(VLOOKUP(B71,database!$B$2:$D$6001,3,FALSE)),\"\",VLOOKUP(B71,database!$B$2:$D$6001,3,FALSE))","v":""},null,"IK8RIJ",10,32,null,null,"","IZ2DLV",null,0,null,1,"indip"]
["",null,{"$f":"IF(ISERROR(VLOOKUP(B72,database!$B$2:$C$6001,2,FALSE)),\"\",VLOOKUP(B72,database!$B$2:$C$6001,2,FALSE))","v":""},null,null,null,"",null,null,null,{"$f":"IF(ISERROR(VLOOKUP(B72,database!$B$2:$D$6001,3,FALSE)),\"\",VLOOKUP(B72,database!$B$2:$D$6001,3,FALSE))","v":""},null,"IK8TEO",10,33,null,null,"","IZ3ASA",null,0,null,1,"indip"]
["",null,{"$f":"IF(ISERROR(VLOOKUP(B73,database!$B$2:$C$6001,2,FALSE)),\"\",VLOOKUP(B73,database!$B$2:$C$6001,2,FALSE))","v":""},null,null,null,"",null,null,null,{"$f":"IF(ISERROR(VLOOKUP(B73,database!$B$2:$D$6001,3,FALSE)),\"\",VLOOKUP(B73,database!$B$2:$D$6001,3,FALSE))","v":""},null,"IK8UDH",10,34,null,null,"","IZ3CAR",null,0,null,1,"indip"]
["",null,{"$f":"IF(ISERROR(VLOOKUP(B74,database!$B$2:$C$6001,2,FALSE)),\"\",VLOOKUP(B74,database!$B$2:$C$6001,2,FALSE))","v":""},null,null,null,"",null,null,null,{"$f":"IF(ISERROR(VLOOKUP(B74,database!$B$2:$D$6001,3,FALSE)),\"\",VLOOKUP(B74,database!$B$2:$D$6001,3,FALSE))","v":""},null,"IK8XVA",10,35,null,null,"","IZ3YKV",null,0,null,1,"indip"]
["",null,{"$f":"IF(ISERROR(VLOOKUP(B75,database!$B$2:$C$6001,2,FALSE)),\"\",VLOOKUP(B75,database!$B$2:$C$6001,2,FALSE))","v":""},null,null,null,"",null,null,null,{"$f":"IF(ISERROR(VLOOKUP(B75,database!$B$2:$D$6001,3,FALSE)),\"\",VLOOKUP(B75,database!$B$2:$D$6001,3,FALSE))","v":""},null,"IS0BMU",10,36,null,null,"","IZ3ZMS",null,0,null,1,"indip"]
["",null,{"$f":"IF(ISERROR(VLOOKUP(B76,database!$B$2:$C$6001,2,FALSE)),\"\",VLOOKUP(B76,database!$B$2:$C$6001,2,FALSE))","v":""},null,null,null,"",null,null,null,{"$f":"IF(ISERROR(VLOOKUP(B76,database!$B$2:$D$6001,3,FALSE)),\"\",VLOOKUP(B76,database!$B$2:$D$6001,3,FALSE))","v":""},null,"IS0JMA",10,37,null,null,"","IZ5MMQ",null,0,null,1,"indip"]
["",null,{"$f":"IF(ISERROR(VLOOKUP(B77,database!$B$2:$C$6001,2,FALSE)),\"\",VLOOKUP(B77,database!$B$2:$C$6001,2,FALSE))","v":""},null,null,null,"",null,null,null,{"$f":"IF(ISERROR(VLOOKUP(B77,database!$B$2:$D$6001,3,FALSE)),\"\",VLOOKUP(B77,database!$B$2:$D$6001,3,FALSE))","v":""},null,"IT9CKA",10,38,null,null,"","IZ6DWH",null,0,null,1,"indip"]
["",null,{"$f":"IF(ISERROR(VLOOKUP(B78,database!$B$2:$C$6001,2,FALSE)),\"\",VLOOKUP(B78,database!$B$2:$C$6001,2,FALSE))","v":""},null,null,null,"",null,null,null,{"$f":"IF(ISERROR(VLOOKUP(B78,database!$B$2:$D$6001,3,FALSE)),\"\",VLOOKUP(B78,database!$B$2:$D$6001,3,FALSE))","v":""},null,"IT9CLM",10,39,null,null,"","IZ6OYT",null,0,null,1,"indip"]
["",null,{"$f":"IF(ISERROR(VLOOKUP(B79,database!$B$2:$C$6001,2,FALSE)),\"\",VLOOKUP(B79,database!$B$2:$C$6001,2,FALSE))","v":""},null,null,null,"",null,null,null,{"$f":"IF(ISERROR(VLOOKUP(B79,database!$B$2:$D$6001,3,FALSE)),\"\",VLOOKUP(B79,database!$B$2:$D$6001,3,FALSE))","v":""},null,"IT9DSA",10,40,null,null,"","IZ7EDQ",null,0,null,1,"indip"]
["",null,{"$f":"IF(ISERROR(VLOOKUP(B80,database!$B$2:$C$6001,2,FALSE)),\"\",VLOOKUP(B80,database!$B$2:$C$6001,2,FALSE))","v":""},null,null,null,"",null,null,null,{"$f":"IF(ISERROR(VLOOKUP(B80,database!$B$2:$D$6001,3,FALSE)),\"\",VLOOKUP(B80,database!$B$2:$D$6001,3,FALSE))","v":""},null,"IT9EYV",10,41,null,null,"","IZ8IJO",null,0,null,1,"indip"]
["",null,{"$f":"IF(ISERROR(VLOOKUP(B81,database!$B$2:$C$6001,2,FALSE)),\"\",VLOOKUP(B81,database!$B$2:$C$6001,2,FALSE))","v":""},null,null,null,"",null,null,null,{"$f":"IF(ISERROR(VLOOKUP(B81,database!$B$2:$D$6001,3,FALSE)),\"\",VLOOKUP(B81,database!$B$2:$D$6001,3,FALSE))","v":""},null,"IT9ZMV",10,42,null,null,"","IZ8ITT",null,0,null,1,"indip"]
["",null,{"$f":"IF(ISERROR(VLOOKUP(B82,database!$B$2:$C$6001,2,FALSE)),\"\",VLOOKUP(B82,database!$B$2:$C$6001,2,FALSE))","v":""},null,null,null,"",null,null,null,{"$f":"IF(ISERROR(VLOOKUP(B82,database!$B$2:$D$6001,3,FALSE)),\"\",VLOOKUP(B82,database!$B$2:$D$6001,3,FALSE))","v":""},null,"IU0DZA",10,43,null,null,"","IZ8NXG",null,0,null,1,"indip"]
["",null,{"$f":"IF(ISERROR(VLOOKUP(B83,database!$B$2:$C$6001,2,FALSE)),\"\",VLOOKUP(B83,database!$B$2:$C$6001,2,FALSE))","v":""},null,null,null,"",null,null,null,{"$f":"IF(ISERROR(VLOOKUP(B83,database!$B$2:$D$6001,3,FALSE)),\"\",VLOOKUP(B83,database!$B$2:$D$6001,3,FALSE))","v":""},null,"IU5BKR",10,44,null,null,"","IZ8OGK",null,0,null,1,"indip"]
["",null,{"$f":"IF(ISERROR(VLOOKUP(B84,database!$B$2:$C$6001,2,FALSE)),\"\",VLOOKUP(B84,database!$B$2:$C$6001,2,FALSE))","v":""},null,null,null,"",null,null,null,{"$f":"IF(ISERROR(VLOOKUP(B84,database!$B$2:$D$6001,3,FALSE)),\"\",VLOOKUP(B84,database!$B$2:$D$6001,3,FALSE))","v":""},null,"IU8ACL",10,45,null,null,"","IZ8QNX",null,0,null,1,"indip"]
["",null,{"$f":"IF(ISERROR(VLOOKUP(B85,database!$B$2:$C$6001,2,FALSE)),\"\",VLOOKUP(B85,database!$B$2:$C$6001,2,FALSE))","v":""},null,null,null,"",null,null,null,{"$f":"IF(ISERROR(VLOOKUP(B85,database!$B$2:$D$6001,3,FALSE)),\"\",VLOOKUP(B85,database!$B$2:$D$6001,3,FALSE))","v":""},null,"IU8AEY",10,46,null,null,"","IZ8VNQ",null,0,null,1,"indip"]
["",null,{"$f":"IF(ISERROR(VLOOKUP(B86,database!$B$2:$C$6001,2,FALSE)),\"\",VLOOKUP(B86,database!$B$2:$C$6001,2,FALSE))","v":""},null,null,null,"",null,null,null,{"$f":"IF(ISERROR(VLOOKUP(B86,database!$B$2:$D$6001,3,FALSE)),\"\",VLOOKUP(B86,database!$B$2:$D$6001,3,FALSE))","v":""},null,"IU8CEU",10,47,null,null,"",0,null,0,null,1,"indip"]
["",null,{"$f":"IF(ISERROR(VLOOKUP(B87,database!$B$2:$C$6001,2,FALSE)),\"\",VLOOKUP(B87,database!$B$2:$C$6001,2,FALSE))","v":""},null,null,null,"",null,null,null,{"$f":"IF(ISERROR(VLOOKUP(B87,database!$B$2:$D$6001,3,FALSE)),\"\",VLOOKUP(B87,database!$B$2:$D$6001,3,FALSE))","v":""},null,"IU8DKG",10,48,null,null,"",0,null,0,null,1,"indip"]
["",null,{"$f":"IF(ISERROR(VLOOKUP(B88,database!$B$2:$C$6001,2,FALSE)),\"\",VLOOKUP(B88,database!$B$2:$C$6001,2,FALSE))","v":""},null,null,null,"",null,null,null,{"$f":"IF(ISERROR(VLOOKUP(B88,database!$B$2:$D$6001,3,FALSE)),\"\",VLOOKUP(B88,database!$B$2:$D$6001,3,FALSE))","v":""},null,"IU8FSU",10,49,null,null,"",0,null,0,null,1,"indip"]
["",null,{"$f":"IF(ISERROR(VLOOKUP(B89,database!$B$2:$C$6001,2,FALSE)),\"\",VLOOKUP(B89,database!$B$2:$C$6001,2,FALSE))","v":""},null,null,null,"",null,null,null,{"$f":"IF(ISERROR(VLOOKUP(B89,database!$B$2:$D$6001,3,FALSE)),\"\",VLOOKUP(B89,database!$B$2:$D$6001,3,FALSE))","v":""},null,"IW0BTN",10,50,null,null,"",0,null,0,null,1,"indip"]
["",null,{"$f":"IF(ISERROR(VLOOKUP(B90,database!$B$2:$C$6001,2,FALSE)),\"\",VLOOKUP(B90,database!$B$2:$C$6001,2,FALSE))","v":""},null,null,null,"",null,null,null,{"$f":"IF(ISERROR(VLOOKUP(B90,database!$B$2:$D$6001,3,FALSE)),\"\",VLOOKUP(B90,database!$B$2:$D$6001,3,FALSE))","v":""},null,"IW0DPJ",10,51,null,null,"",0,null,0,null,1,"indip"]
["",null,{"$f":"IF(ISERROR(VLOOKUP(B91,database!$B$2:$C$6001,2,FALSE)),\"\",VLOOKUP(B91,database!$B$2:$C$6001,2,FALSE))","v":""},null,null,null,"",null,null,null,{"$f":"IF(ISERROR(VLOOKUP(B91,database!$B$2:$D$6001,3,FALSE)),\"\",VLOOKUP(B91,database!$B$2:$D$6001,3,FALSE))","v":""},null,"IW0HIQ",10,52,null,null,"",0,null,0,null,1,"indip"]
["",null,{"$f":"IF(ISERROR(VLOOKUP(B92,database!$B$2:$C$6001,2,FALSE)),\"\",VLOOKUP(B92,database!$B$2:$C$6001,2,FALSE))","v":""},null,null,null,"",null,null,null,{"$f":"IF(ISERROR(VLOOKUP(B92,database!$B$2:$D$6001,3,FALSE)),\"\",VLOOKUP(B92,database!$B$2:$D$6001,3,FALSE))","v":""},null,"IW0HOP",10,53,null,null,"",0,null,0,null,1,"indip"]
["",null,{"$f":"IF(ISERROR(VLOOKUP(B93,database!$B$2:$C$6001,2,FALSE)),\"\",VLOOKUP(B93,database!$B$2:$C$6001,2,FALSE))","v":""},null,null,null,"",null,null,null,{"$f":"IF(ISERROR(VLOOKUP(B93,database!$B$2:$D$6001,3,FALSE)),\"\",VLOOKUP(B93,database!$B$2:$D$6001,3,FALSE))","v":""},null,"IW1QIH",10,54,null,null,"",0,null,0,null,1,"indip"]
["",null,{"$f":"IF(ISERROR(VLOOKUP(B94,database!$B$2:$C$6001,2,FALSE)),\"\",VLOOKUP(B94,database!$B$2:$C$6001,2,FALSE))","v":""},null,null,null,"",null,null,null,{"$f":"IF(ISERROR(VLOOKUP(B94,database!$B$2:$D$6001,3,FALSE)),\"\",VLOOKUP(B94,database!$B$2:$D$6001,3,FALSE))","v":""},null,"IW2JJS",10,55,null,null,"",0,null,0,null,1,"indip"]
["",null,{"$f":"IF(ISERROR(VLOOKUP(B95,database!$B$2:$C$6001,2,FALSE)),\"\",VLOOKUP(B95,database!$B$2:$C$6001,2,FALSE))","v":""},null,null,null,"",null,null,null,{"$f":"IF(ISERROR(VLOOKUP(B95,database!$B$2:$D$6001,3,FALSE)),\"\",VLOOKUP(B95,database!$B$2:$D$6001,3,FALSE))","v":""},null,"IW3IE",10,56,null,null,"",0,null,0,null,1,"indip"]
["",null,{"$f":"IF(ISERROR(VLOOKUP(B96,database!$B$2:$C$6001,2,FALSE)),\"\",VLOOKUP(B96,database!$B$2:$C$6001,2,FALSE))","v":""},null,null,null,"",null,null,null,{"$f":"IF(ISERROR(VLOOKUP(B96,database!$B$2:$D$6001,3,FALSE)),\"\",VLOOKUP(B96,database!$B$2:$D$6001,3,FALSE))","v":""},null,"IZ0EUX",10,57,null,null,"",0,null,0,null,1,"indip"]
["",null,{"$f":"IF(ISERROR(VLOOKUP(B97,database!$B$2:$C$6001,2,FALSE)),\"\",VLOOKUP(B97,database!$B$2:$C$6001,2,FALSE))","v":""},null,null,null,"",null,null,null,{"$f":"IF(ISERROR(VLOOKUP(B97,database!$B$2:$D$6001,3,FALSE)),\"\",VLOOKUP(B97,database!$B$2:$D$6001,3,FALSE))","v":""},null,"IZ0FVD",10,58,null,null,"",0,null,0,null,1,"indip"]
["",null,{"$f":"IF(ISERROR(VLOOKUP(B98,database!$B$2:$C$6001,2,FALSE)),\"\",VLOOKUP(B98,database!$B$2:$C$6001,2,FALSE))","v":""},null,null,null,"",null,null,null,{"$f":"IF(ISERROR(VLOOKUP(B98,database!$B$2:$D$6001,3,FALSE)),\"\",VLOOKUP(B98,database!$B$2:$D$6001,3,FALSE))","v":""},null,"IZ0JSD",10,59,null,null,"",0,null,0,null,1,"indip"]
["",null,{"$f":"IF(ISERROR(VLOOKUP(B99,database!$B$2:$C$6001,2,FALSE)),\"\",VLOOKUP(B99,database!$B$2:$C$6001,2,FALSE))","v":""},null,null,null,"",null,null,null,{"$f":"IF(ISERROR(VLOOKUP(B99,database!$B$2:$D$6001,3,FALSE)),\"\",VLOOKUP(B99,database!$B$2:$D$6001,3,FALSE))","v":""},null,"IZ1CCH",10,60,null,null,"",0,null,0,null,1,"indip"]
["",null,{"$f":"IF(ISERROR(VLOOKUP(B100,database!$B$2:$C$6001,2,FALSE)),\"\",VLOOKUP(B100,database!$B$2:$C$6001,2,FALSE))","v":""},null,null,null,"",null,null,null,{"$f":"IF(ISERROR(VLOOKUP(B100,database!$B$2:$D$6001,3,FALSE)),\"\",VLOOKUP(B100,database!$B$2:$D$6001,3,FALSE))","v":""},null,"IZ1CLA",10,61,null,null,"",0,null,0,null,1,"indip"]
["",null,{"$f":"IF(ISERROR(VLOOKUP(B101,database!$B$2:$C$6001,2,FALSE)),\"\",VLOOKUP(B101,database!$B$2:$C$6001,2,FALSE))","v":""},null,null,null,"",null,null,null,{"$f":"IF(ISERROR(VLOOKUP(B101,database!$B$2:$D$6001,3,FALSE)),\"\",VLOOKUP(B101,database!$B$2:$D$6001,3,FALSE))","v":""},null,"IZ1CQS",10,62,null,null,"",0,null,0,null,1,"indip"]
["",null,{"$f":"IF(ISERROR(VLOOKUP(B102,database!$B$2:$C$6001,2,FALSE)),\"\",VLOOKUP(B102,database!$B$2:$C$6001,2,FALSE))","v":""},null,null,null,"",null,null,null,{"$f":"IF(ISERROR(VLOOKUP(B102,database!$B$2:$D$6001,3,FALSE)),\"\",VLOOKUP(B102,database!$B$2:$D$6001,3,FALSE))","v":""},null,"IZ1GJK",10,63,null,null,"",0,null,0,null,1,"indip"]
["",null,{"$f":"IF(ISERROR(VLOOKUP(B103,database!$B$2:$C$6001,2,FALSE)),\"\",VLOOKUP(B103,database!$B$2:$C$6001,2,FALSE))","v":""},null,null,null,"",null,null,null,{"$f":"IF(ISERROR(VLOOKUP(B103,database!$B$2:$D$6001,3,FALSE)),\"\",VLOOKUP(B103,database!$B$2:$D$6001,3,FALSE))","v":""},null,"IZ1GUP",10,64,null,null,"",{"$f":"M139","v":0},null,0,null,1,"indip"]
["",null,{"$f":"IF(ISERROR(VLOOKUP(B104,database!$B$2:$C$6001,2,FALSE)),\"\",VLOOKUP(B104,database!$B$2:$C$6001,2,FALSE))","v":""},null,null,null,"",null,null,null,{"$f":"IF(ISERROR(VLOOKUP(B104,database!$B$2:$D$6001,3,FALSE)),\"\",VLOOKUP(B104,database!$B$2:$D$6001,3,FALSE))","v":""},null,"IZ1VNT",10,65,null,null,"",0,null,0,null,1,"indip"]
["",null,{"$f":"IF(ISERROR(VLOOKUP(B105,database!$B$2:$C$6001,2,FALSE)),\"\",VLOOKUP(B105,database!$B$2:$C$6001,2,FALSE))","v":""},null,null,null,"",null,null,null,{"$f":"IF(ISERROR(VLOOKUP(B105,database!$B$2:$D$6001,3,FALSE)),\"\",VLOOKUP(B105,database!$B$2:$D$6001,3,FALSE))","v":""},null,"IZ1WTM",10,66,null,null,"",0,null,0,null,1,"indip"]
["",null,{"$f":"IF(ISERROR(VLOOKUP(B106,database!$B$2:$C$6001,2,FALSE)),\"\",VLOOKUP(B106,database!$B$2:$C$6001,2,FALSE))","v":""},null,null,null,"",null,null,null,{"$f":"IF(ISERROR(VLOOKUP(B106,database!$B$2:$D$6001,3,FALSE)),\"\",VLOOKUP(B106,database!$B$2:$D$6001,3,FALSE))","v":""},null,"IZ1ZCT",10,67,null,null,"",0,null,0,null,1,"indip"]
["",null,{"$f":"IF(ISERROR(VLOOKUP(B107,database!$B$2:$C$6001,2,FALSE)),\"\",VLOOKUP(B107,database!$B$2:$C$6001,2,FALSE))","v":""},null,null,null,"",null,null,null,{"$f":"IF(ISERROR(VLOOKUP(B107,database!$B$2:$D$6001,3,FALSE)),\"\",VLOOKUP(B107,database!$B$2:$D$6001,3,FALSE))","v":""},null,"IZ1ZJO",10,68,null,null,"",0,null,0,null,1,"indip"]
["",null,{"$f":"IF(ISERROR(VLOOKUP(B108,database!$B$2:$C$6001,2,FALSE)),\"\",VLOOKUP(B108,database!$B$2:$C$6001,2,FALSE))","v":""},null,null,null,"",null,null,null,{"$f":"IF(ISERROR(VLOOKUP(B108,database!$B$2:$D$6001,3,FALSE)),\"\",VLOOKUP(B108,database!$B$2:$D$6001,3,FALSE))","v":""},null,"IZ2DLV",10,69,null,null,"",0,null,0,null,1,"indip"]
["",null,{"$f":"IF(ISERROR(VLOOKUP(B109,database!$B$2:$C$6001,2,FALSE)),\"\",VLOOKUP(B109,database!$B$2:$C$6001,2,FALSE))","v":""},null,null,null,"",null,null,null,{"$f":"IF(ISERROR(VLOOKUP(B109,database!$B$2:$D$6001,3,FALSE)),\"\",VLOOKUP(B109,database!$B$2:$D$6001,3,FALSE))","v":""},null,"IZ3ASA",10,70,null,null,"",0,null,0,null,1,"indip"]
["",null,{"$f":"IF(ISERROR(VLOOKUP(B110,database!$B$2:$C$6001,2,FALSE)),\"\",VLOOKUP(B110,database!$B$2:$C$6001,2,FALSE))","v":""},null,null,null,"",null,null,null,{"$f":"IF(ISERROR(VLOOKUP(B110,database!$B$2:$D$6001,3,FALSE)),\"\",VLOOKUP(B110,database!$B$2:$D$6001,3,FALSE))","v":""},null,"IZ3CAR",10,71,null,null,"",0,null,0,null,1,"indip"]
["",null,{"$f":"IF(ISERROR(VLOOKUP(B111,database!$B$2:$C$6001,2,FALSE)),\"\",VLOOKUP(B111,database!$B$2:$C$6001,2,FALSE))","v":""},null,null,null,"",null,null,null,{"$f":"IF(ISERROR(VLOOKUP(B111,database!$B$2:$D$6001,3,FALSE)),\"\",VLOOKUP(B111,database!$B$2:$D$6001,3,FALSE))","v":""},null,"IZ3YKV",10,72,null,null,"",0,null,0,null,1,"indip"]
["",null,{"$f":"IF(ISERROR(VLOOKUP(B112,database!$B$2:$C$6001,2,FALSE)),\"\",VLOOKUP(B112,database!$B$2:$C$6001,2,FALSE))","v":""},null,null,null,"",null,null,null,{"$f":"IF(ISERROR(VLOOKUP(B112,database!$B$2:$D$6001,3,FALSE)),\"\",VLOOKUP(B112,database!$B$2:$D$6001,3,FALSE))","v":""},null,"IZ3ZMS",10,73,null,null,"",0,null,0,null,1,"indip"]
["",null,{"$f":"IF(ISERROR(VLOOKUP(B113,database!$B$2:$C$6001,2,FALSE)),\"\",VLOOKUP(B113,database!$B$2:$C$6001,2,FALSE))","v":""},null,null,null,"",null,null,null,{"$f":"IF(ISERROR(VLOOKUP(B113,database!$B$2:$D$6001,3,FALSE)),\"\",VLOOKUP(B113,database!$B$2:$D$6001,3,FALSE))","v":""},null,"IZ5MMQ",10,74,null,null,"",0,null,0,null,1,"indip"]
["",null,{"$f":"IF(ISERROR(VLOOKUP(B114,database!$B$2:$C$6001,2,FALSE)),\"\",VLOOKUP(B114,database!$B$2:$C$6001,2,FALSE))","v":""},null,null,null,"",null,null,null,{"$f":"IF(ISERROR(VLOOKUP(B114,database!$B$2:$D$6001,3,FALSE)),\"\",VLOOKUP(B114,database!$B$2:$D$6001,3,FALSE))","v":""},null,"IZ6DWH",10,75,null,null,"",0,null,0,null,1,"indip"]
["",null,{"$f":"IF(ISERROR(VLOOKUP(B115,database!$B$2:$C$6001,2,FALSE)),\"\",VLOOKUP(B115,database!$B$2:$C$6001,2,FALSE))","v":""},null,null,null,"",null,null,null,{"$f":"IF(ISERROR(VLOOKUP(B115,database!$B$2:$D$6001,3,FALSE)),\"\",VLOOKUP(B115,database!$B$2:$D$6001,3,FALSE))","v":""},null,"IZ6OYT",10,76,null,null,"",0,null,0,null,1,"indip"]
["",null,{"$f":"IF(ISERROR(VLOOKUP(B116,database!$B$2:$C$6001,2,FALSE)),\"\",VLOOKUP(B116,database!$B$2:$C$6001,2,FALSE))","v":""},null,null,null,"",null,null,null,{"$f":"IF(ISERROR(VLOOKUP(B116,database!$B$2:$D$6001,3,FALSE)),\"\",VLOOKUP(B116,database!$B$2:$D$6001,3,FALSE))","v":""},null,"IZ7EDQ",10,77,null,null,"",0,null,0,null,1,"indip"]
["",null,{"$f":"IF(ISERROR(VLOOKUP(B117,database!$B$2:$C$6001,2,FALSE)),\"\",VLOOKUP(B117,database!$B$2:$C$6001,2,FALSE))","v":""},null,null,null,"",null,null,null,{"$f":"IF(ISERROR(VLOOKUP(B117,database!$B$2:$D$6001,3,FALSE)),\"\",VLOOKUP(B117,database!$B$2:$D$6001,3,FALSE))","v":""},null,"IZ8IJO",10,78,null,null,"",0,null,0,null,1,"indip"]
["",null,{"$f":"IF(ISERROR(VLOOKUP(B118,database!$B$2:$C$6001,2,FALSE)),\"\",VLOOKUP(B118,database!$B$2:$C$6001,2,FALSE))","v":""},null,null,null,"",null,null,null,{"$f":"IF(ISERROR(VLOOKUP(B118,database!$B$2:$D$6001,3,FALSE)),\"\",VLOOKUP(B118,database!$B$2:$D$6001,3,FALSE))","v":""},null,"IZ8ITT",10,79,null,null,"",0,null,0,null,1,"indip"]
["",null,{"$f":"IF(ISERROR(VLOOKUP(B119,database!$B$2:$C$6001,2,FALSE)),\"\",VLOOKUP(B119,database!$B$2:$C$6001,2,FALSE))","v":""},null,null,null,"",null,null,null,{"$f":"IF(ISERROR(VLOOKUP(B119,database!$B$2:$D$6001,3,FALSE)),\"\",VLOOKUP(B119,database!$B$2:$D$6001,3,FALSE))","v":""},null,"IZ8NXG",10,80,null,null,"",0,null,0,null,1,"indip"]
["",null,{"$f":"IF(ISERROR(VLOOKUP(B120,database!$B$2:$C$6001,2,FALSE)),\"\",VLOOKUP(B120,database!$B$2:$C$6001,2,FALSE))","v":""},null,null,null,"",null,null,null,{"$f":"IF(ISERROR(VLOOKUP(B120,database!$B$2:$D$6001,3,FALSE)),\"\",VLOOKUP(B120,database!$B$2:$D$6001,3,FALSE))","v":""},null,"IZ8OGK",10,81,null,null,"",0,null,0,null,1,"indip"]
["",null,{"$f":"IF(ISERROR(VLOOKUP(B121,database!$B$2:$C$6001,2,FALSE)),\"\",VLOOKUP(B121,database!$B$2:$C$6001,2,FALSE))","v":""},null,null,null,"",null,null,null,{"$f":"IF(ISERROR(VLOOKUP(B121,database!$B$2:$D$6001,3,FALSE)),\"\",VLOOKUP(B121,database!$B$2:$D$6001,3,FALSE))","v":""},null,"IZ8QNX",10,82,null,null,"",0,null,0,null,1,"indip"]
["",null,{"$f":"IF(ISERROR(VLOOKUP(B122,database!$B$2:$C$6001,2,FALSE)),\"\",VLOOKUP(B122,database!$B$2:$C$6001,2,FALSE))","v":""},null,null,null,"",null,null,null,{"$f":"IF(ISERROR(VLOOKUP(B122,database!$B$2:$D$6001,3,FALSE)),\"\",VLOOKUP(B122,database!$B$2:$D$6001,3,FALSE))","v":""},null,"IZ8VNQ",10,83,null,null,"",0,null,0,null,1,"indip"]
["",null,{"$f":"IF(ISERROR(VLOOKUP(B123,database!$B$2:$C$6001,2,FALSE)),\"\",VLOOKUP(B123,database!$B$2:$C$6001,2,FALSE))","v":""},null,null,null,"",null,null,null,{"$f":"IF(ISERROR(VLOOKUP(B123,database!$B$2:$D$6001,3,FALSE)),\"\",VLOOKUP(B123,database!$B$2:$D$6001,3,FALSE))","v":""},null,null,null,null,null,null,"",0,null,0,null,1,"indip"]
["",null,{"$f":"IF(ISERROR(VLOOKUP(B124,database!$B$2:$C$6001,2,FALSE)),\"\",VLOOKUP(B124,database!$B$2:$C$6001,2,FALSE))","v":""},null,null,null,"",null,null,null,{"$f":"IF(ISERROR(VLOOKUP(B124,database!$B$2:$D$6001,3,FALSE)),\"\",VLOOKUP(B124,database!$B$2:$D$6001,3,FALSE))","v":""},null,null,null,null,null,null,"",0,null,0,null,1,"indip"]
["",null,{"$f":"IF(ISERROR(VLOOKUP(B125,database!$B$2:$C$6001,2,FALSE)),\"\",VLOOKUP(B125,database!$B$2:$C$6001,2,FALSE))","v":""},null,null,null,"",null,null,null,{"$f":"IF(ISERROR(VLOOKUP(B125,database!$B$2:$D$6001,3,FALSE)),\"\",VLOOKUP(B125,database!$B$2:$D$6001,3,FALSE))","v":""},null,null,null,null,null,null,"",0,null,0,null,1,"indip"]
["",null,{"$f":"IF(ISERROR(VLOOKUP(B126,database!$B$2:$C$6001,2,FALSE)),\"\",VLOOKUP(B126,database!$B$2:$C$6001,2,FALSE))","v":""},null,null,null,"",null,null,null,{"$f":"IF(ISERROR(VLOOKUP(B126,database!$B$2:$D$6001,3,FALSE)),\"\",VLOOKUP(B126,database!$B$2:$D$6001,3,FALSE))","v":""},null,null,null,null,null,null,"",0,null,0,null,1,"indip"]
["",null,{"$f":"IF(ISERROR(VLOOKUP(B127,database!$B$2:$C$6001,2,FALSE)),\"\",VLOOKUP(B127,database!$B$2:$C$6001,2,FALSE))","v":""},null,null,null,"",null,null,null,{"$f":"IF(ISERROR(VLOOKUP(B127,database!$B$2:$D$6001,3,FALSE)),\"\",VLOOKUP(B127,database!$B$2:$D$6001,3,FALSE))","v":""},null,null,null,null,null,null,"",0,null,0,null,1,"indip"]
["",null,{"$f":"IF(ISERROR(VLOOKUP(B128,database!$B$2:$C$6001,2,FALSE)),\"\",VLOOKUP(B128,database!$B$2:$C$6001,2,FALSE))","v":""},null,null,null,"",null,null,null,{"$f":"IF(ISERROR(VLOOKUP(B128,database!$B$2:$D$6001,3,FALSE)),\"\",VLOOKUP(B128,database!$B$2:$D$6001,3,FALSE))","v":""},null,null,null,null,null,null,"",0,null,0,null,1,"indip"]
["",null,{"$f":"IF(ISERROR(VLOOKUP(B129,database!$B$2:$C$6001,2,FALSE)),\"\",VLOOKUP(B129,database!$B$2:$C$6001,2,FALSE))","v":""},null,null,null,"",null,null,null,{"$f":"IF(ISERROR(VLOOKUP(B129,database!$B$2:$D$6001,3,FALSE)),\"\",VLOOKUP(B129,database!$B$2:$D$6001,3,FALSE))","v":""},null,null,null,null,null,null,"",0,null,0,null,1,"indip"]
["",null,{"$f":"IF(ISERROR(VLOOKUP(B130,database!$B$2:$C$6001,2,FALSE)),\"\",VLOOKUP(B130,database!$B$2:$C$6001,2,FALSE))","v":""},null,null,null,"",null,null,null,{"$f":"IF(ISERROR(VLOOKUP(B130,database!$B$2:$D$6001,3,FALSE)),\"\",VLOOKUP(B130,database!$B$2:$D$6001,3,FALSE))","v":""},null,null,null,null,null,null,"",0,null,0,null,1,"indip"]
["",null,{"$f":"IF(ISERROR(VLOOKUP(B131,database!$B$2:$C$6001,2,FALSE)),\"\",VLOOKUP(B131,database!$B$2:$C$6001,2,FALSE))","v":""},null,null,null,"",null,null,null,{"$f":"IF(ISERROR(VLOOKUP(B131,database!$B$2:$D$6001,3,FALSE)),\"\",VLOOKUP(B131,database!$B$2:$D$6001,3,FALSE))","v":""},null,null,null,null,null,null,"",0,null,0,null,1,"indip"]
["",null,{"$f":"IF(ISERROR(VLOOKUP(B132,database!$B$2:$C$6001,2,FALSE)),\"\",VLOOKUP(B132,database!$B$2:$C$6001,2,FALSE))","v":""},null,null,null,"",null,null,null,{"$f":"IF(ISERROR(VLOOKUP(B132,database!$B$2:$D$6001,3,FALSE)),\"\",VLOOKUP(B132,database!$B$2:$D$6001,3,FALSE))","v":""},null,null,null,null,null,null,"",0,null,{"$f":"IFERROR(INDEX(M$39:N$140,MATCH(B132,M$39:M$140,0),2),0)","v":0},null,{"$f":"IF(AND(U132=0,C132=\"\"),1,2)","v":1},{"$f":"IF(B132=\"-\",\"\",IF(OR(B132=M$39,B132=M$40,B132=M$41,B132=M$42,B132=M$43,B132=M$44,B132=M$45,B132=M$46,B132=M$47,,B132=M$50,B132=M$51,B132=M$52,B132=M$53,B132=M$54,B132=M$55,B132=M$56,B132=M$57,B132=M$70),\"\",IF(C132=\"\",\"indip\",F132)))","v":"indip"}]
[{"$f":"IF(B133=\"\",\"\",ROW(A130))","v":""},null,{"$f":"IF(ISERROR(VLOOKUP(B133,database!$B$2:$C$6001,2,FALSE)),\"\",VLOOKUP(B133,database!$B$2:$C$6001,2,FALSE))","v":""},null,null,null,{"$f":"IF(B133=\"\",\"\",IF(B133=\"-\",0,IF(W133=1,1,IF(AND(U133=0,F133=\"SSB\"),2,IF(AND(U133=0,F133=\"DIGI\"),3,IF(AND(U133=0,F133=\"CW\"),5,U133))))))","v":""},null,null,null,{"$f":"IF(ISERROR(VLOOKUP(B133,database!$B$2:$D$6001,3,FALSE)),\"\",VLOOKUP(B133,database!$B$2:$D$6001,3,FALSE))","v":""},null,null,null,null,null,null,{"$f":"LEFT(C133,2)","v":""},{"$f":"M169","v":0},null,0,null,1,"indip"]
["",null,{"$f":"IF(ISERROR(VLOOKUP(B134,database!$B$2:$C$6001,2,FALSE)),\"\",VLOOKUP(B134,database!$B$2:$C$6001,2,FALSE))","v":""},null,null,null,"",null,null,null,{"$f":"IF(ISERROR(VLOOKUP(B134,database!$B$2:$D$6001,3,FALSE)),\"\",VLOOKUP(B134,database!$B$2:$D$6001,3,FALSE))","v":""},null,null,null,null,null,null,"",0,null,0,null,1,"indip"]
["",null,{"$f":"IF(ISERROR(VLOOKUP(B135,database!$B$2:$C$6001,2,FALSE)),\"\",VLOOKUP(B135,database!$B$2:$C$6001,2,FALSE))","v":""},null,null,null,"",null,null,null,{"$f":"IF(ISERROR(VLOOKUP(B135,database!$B$2:$D$6001,3,FALSE)),\"\",VLOOKUP(B135,database!$B$2:$D$6001,3,FALSE))","v":""},null,null,null,null,null,null,"",0,null,0,null,1,"indip"]
["",null,{"$f":"IF(ISERROR(VLOOKUP(B136,database!$B$2:$C$6001,2,FALSE)),\"\",VLOOKUP(B136,database!$B$2:$C$6001,2,FALSE))","v":""},null,null,null,"",null,null,null,{"$f":"IF(ISERROR(VLOOKUP(B136,database!$B$2:$D$6001,3,FALSE)),\"\",VLOOKUP(B136,database!$B$2:$D$6001,3,FALSE))","v":""},null,null,null,null,null,null,"",0,null,0,null,1,"indip"]
["",null,{"$f":"IF(ISERROR(VLOOKUP(B137,database!$B$2:$C$6001,2,FALSE)),\"\",VLOOKUP(B137,database!$B$2:$C$6001,2,FALSE))","v":""},null,null,null,"",null,null,null,{"$f":"IF(ISERROR(VLOOKUP(B137,database!$B$2:$D$6001,3,FALSE)),\"\",VLOOKUP(B137,database!$B$2:$D$6001,3,FALSE))","v":""},null,null,null,null,null,null,"",0,null,0,null,1,"indip"]
["",null,{"$f":"IF(ISERROR(VLOOKUP(B138,database!$B$2:$C$6001,2,FALSE)),\"\",VLOOKUP(B138,database!$B$2:$C$6001,2,FALSE))","v":""},null,null,null,"",null,null,null,{"$f":"IF(ISERROR(VLOOKUP(B138,database!$B$2:$D$6001,3,FALSE)),\"\",VLOOKUP(B138,database!$B$2:$D$6001,3,FALSE))","v":""},null,null,null,null,null,null,"",0,null,0,null,1,"indip"]
["",null,{"$f":"IF(ISERROR(VLOOKUP(B139,database!$B$2:$C$6001,2,FALSE)),\"\",VLOOKUP(B139,database!$B$2:$C$6001,2,FALSE))","v":""},null,null,null,"",null,null,null,{"$f":"IF(ISERROR(VLOOKUP(B139,database!$B$2:$D$6001,3,FALSE)),\"\",VLOOKUP(B139,database!$B$2:$D$6001,3,FALSE))","v":""},null,null,null,null,null,null,"",0,null,0,null,1,"indip"]
["",null,{"$f":"IF(ISERROR(VLOOKUP(B140,database!$B$2:$C$6001,2,FALSE)),\"\",VLOOKUP(B140,database!$B$2:$C$6001,2,FALSE))","v":""},null,null,null,"",null,null,null,{"$f":"IF(ISERROR(VLOOKUP(B140,database!$B$2:$D$6001,3,FALSE)),\"\",VLOOKUP(B140,database!$B$2:$D$6001,3,FALSE))","v":""},null,null,null,null,null,null,"",null,null,0,null,1,"indip"]
["",null,{"$f":"IF(ISERROR(VLOOKUP(B141,database!$B$2:$C$6001,2,FALSE)),\"\",VLOOKUP(B141,database!$B$2:$C$6001,2,FALSE))","v":""},null,null,null,"",null,null,null,{"$f":"IF(ISERROR(VLOOKUP(B141,database!$B$2:$D$6001,3,FALSE)),\"\",VLOOKUP(B141,database!$B$2:$D$6001,3,FALSE))","v":""},null,null,null,null,null,null,"",null,null,0,null,1,"indip"]
["",null,{"$f":"IF(ISERROR(VLOOKUP(B142,database!$B$2:$C$6001,2,FALSE)),\"\",VLOOKUP(B142,database!$B$2:$C$6001,2,FALSE))","v":""},null,null,null,"",null,null,null,{"$f":"IF(ISERROR(VLOOKUP(B142,database!$B$2:$D$6001,3,FALSE)),\"\",VLOOKUP(B142,database!$B$2:$D$6001,3,FALSE))","v":""},null,null,null,null,null,null,"",null,null,0,null,1,"indip"]
["",null,{"$f":"IF(ISERROR(VLOOKUP(B143,database!$B$2:$C$6001,2,FALSE)),\"\",VLOOKUP(B143,database!$B$2:$C$6001,2,FALSE))","v":""},null,null,null,"",null,null,null,{"$f":"IF(ISERROR(VLOOKUP(B143,database!$B$2:$D$6001,3,FALSE)),\"\",VLOOKUP(B143,database!$B$2:$D$6001,3,FALSE))","v":""},null,null,null,null,null,null,"",null,null,0,null,1,"indip"]
["",null,{"$f":"IF(ISERROR(VLOOKUP(B144,database!$B$2:$C$6001,2,FALSE)),\"\",VLOOKUP(B144,database!$B$2:$C$6001,2,FALSE))","v":""},null,null,null,"",null,null,null,{"$f":"IF(ISERROR(VLOOKUP(B144,database!$B$2:$D$6001,3,FALSE)),\"\",VLOOKUP(B144,database!$B$2:$D$6001,3,FALSE))","v":""},null,null,null,null,null,null,"",null,null,0,null,1,"indip"]
["",null,{"$f":"IF(ISERROR(VLOOKUP(B145,database!$B$2:$C$6001,2,FALSE)),\"\",VLOOKUP(B145,database!$B$2:$C$6001,2,FALSE))","v":""},null,null,null,"",null,null,null,{"$f":"IF(ISERROR(VLOOKUP(B145,database!$B$2:$D$6001,3,FALSE)),\"\",VLOOKUP(B145,database!$B$2:$D$6001,3,FALSE))","v":""},null,null,null,null,null,null,"",null,null,0,null,1,"indip"]
["",null,{"$f":"IF(ISERROR(VLOOKUP(B146,database!$B$2:$C$6001,2,FALSE)),\"\",VLOOKUP(B146,database!$B$2:$C$6001,2,FALSE))","v":""},null,null,null,"",null,null,null,{"$f":"IF(ISERROR(VLOOKUP(B146,database!$B$2:$D$6001,3,FALSE)),\"\",VLOOKUP(B146,database!$B$2:$D$6001,3,FALSE))","v":""},null,null,null,null,null,null,"",null,null,0,null,1,"indip"]
["",null,{"$f":"IF(ISERROR(VLOOKUP(B147,database!$B$2:$C$6001,2,FALSE)),\"\",VLOOKUP(B147,database!$B$2:$C$6001,2,FALSE))","v":""},null,null,null,"",null,null,null,{"$f":"IF(ISERROR(VLOOKUP(B147,database!$B$2:$D$6001,3,FALSE)),\"\",VLOOKUP(B147,database!$B$2:$D$6001,3,FALSE))","v":""},null,null,null,null,null,null,"",null,null,0,null,1,"indip"]
["",null,{"$f":"IF(ISERROR(VLOOKUP(B148,database!$B$2:$C$6001,2,FALSE)),\"\",VLOOKUP(B148,database!$B$2:$C$6001,2,FALSE))","v":""},null,null,null,"",null,null,null,{"$f":"IF(ISERROR(VLOOKUP(B148,database!$B$2:$D$6001,3,FALSE)),\"\",VLOOKUP(B148,database!$B$2:$D$6001,3,FALSE))","v":""},null,null,null,null,null,null,"",null,null,0,null,1,"indip"]
["",null,{"$f":"IF(ISERROR(VLOOKUP(B149,database!$B$2:$C$6001,2,FALSE)),\"\",VLOOKUP(B149,database!$B$2:$C$6001,2,FALSE))","v":""},null,null,null,"",null,null,null,{"$f":"IF(ISERROR(VLOOKUP(B149,database!$B$2:$D$6001,3,FALSE)),\"\",VLOOKUP(B149,database!$B$2:$D$6001,3,FALSE))","v":""},null,null,null,null,null,null,"",null,null,0,null,1,"indip"]
["",null,{"$f":"IF(ISERROR(VLOOKUP(B150,database!$B$2:$C$6001,2,FALSE)),\"\",VLOOKUP(B150,database!$B$2:$C$6001,2,FALSE))","v":""},null,null,null,"",null,null,null,{"$f":"IF(ISERROR(VLOOKUP(B150,database!$B$2:$D$6001,3,FALSE)),\"\",VLOOKUP(B150,database!$B$2:$D$6001,3,FALSE))","v":""},null,null,null,null,null,null,"",null,null,0,null,1,"indip"]
["",null,{"$f":"IF(ISERROR(VLOOKUP(B151,database!$B$2:$C$6001,2,FALSE)),\"\",VLOOKUP(B151,database!$B$2:$C$6001,2,FALSE))","v":""},null,null,null,"",null,null,null,{"$f":"IF(ISERROR(VLOOKUP(B151,database!$B$2:$D$6001,3,FALSE)),\"\",VLOOKUP(B151,database!$B$2:$D$6001,3,FALSE))","v":""},null,null,null,null,null,null,"",null,null,0,null,1,"indip"]
["",null,{"$f":"IF(ISERROR(VLOOKUP(B152,database!$B$2:$C$6001,2,FALSE)),\"\",VLOOKUP(B152,database!$B$2:$C$6001,2,FALSE))","v":""},null,null,null,"",null,null,null,{"$f":"IF(ISERROR(VLOOKUP(B152,database!$B$2:$D$6001,3,FALSE)),\"\",VLOOKUP(B152,database!$B$2:$D$6001,3,FALSE))","v":""},null,null,null,null,null,null,"",null,null,0,null,1,"indip"]
["",null,{"$f":"IF(ISERROR(VLOOKUP(B153,database!$B$2:$C$6001,2,FALSE)),\"\",VLOOKUP(B153,database!$B$2:$C$6001,2,FALSE))","v":""},null,null,null,"",null,null,null,{"$f":"IF(ISERROR(VLOOKUP(B153,database!$B$2:$D$6001,3,FALSE)),\"\",VLOOKUP(B153,database!$B$2:$D$6001,3,FALSE))","v":""},null,null,null,null,null,null,"",null,null,0,null,1,"indip"]
["",null,{"$f":"IF(ISERROR(VLOOKUP(B154,database!$B$2:$C$6001,2,FALSE)),\"\",VLOOKUP(B154,database!$B$2:$C$6001,2,FALSE))","v":""},null,null,null,"",null,null,null,{"$f":"IF(ISERROR(VLOOKUP(B154,database!$B$2:$D$6001,3,FALSE)),\"\",VLOOKUP(B154,database!$B$2:$D$6001,3,FALSE))","v":""},null,null,null,null,null,null,"",null,null,0,null,1,"indip"]
["",null,{"$f":"IF(ISERROR(VLOOKUP(B155,database!$B$2:$C$6001,2,FALSE)),\"\",VLOOKUP(B155,database!$B$2:$C$6001,2,FALSE))","v":""},null,null,null,"",null,null,null,{"$f":"IF(ISERROR(VLOOKUP(B155,database!$B$2:$D$6001,3,FALSE)),\"\",VLOOKUP(B155,database!$B$2:$D$6001,3,FALSE))","v":""},null,null,null,null,null,null,"",null,null,0,null,1,"indip"]
["",null,{"$f":"IF(ISERROR(VLOOKUP(B156,database!$B$2:$C$6001,2,FALSE)),\"\",VLOOKUP(B156,database!$B$2:$C$6001,2,FALSE))","v":""},null,null,null,"",null,null,null,{"$f":"IF(ISERROR(VLOOKUP(B156,database!$B$2:$D$6001,3,FALSE)),\"\",VLOOKUP(B156,database!$B$2:$D$6001,3,FALSE))","v":""},null,null,null,null,null,null,"",null,null,0,null,1,"indip"]
["",null,{"$f":"IF(ISERROR(VLOOKUP(B157,database!$B$2:$C$6001,2,FALSE)),\"\",VLOOKUP(B157,database!$B$2:$C$6001,2,FALSE))","v":""},null,null,null,"",null,null,null,{"$f":"IF(ISERROR(VLOOKUP(B157,database!$B$2:$D$6001,3,FALSE)),\"\",VLOOKUP(B157,database!$B$2:$D$6001,3,FALSE))","v":""},null,null,null,null,null,null,"",null,null,0,null,1,"indip"]
["",null,{"$f":"IF(ISERROR(VLOOKUP(B158,database!$B$2:$C$6001,2,FALSE)),\"\",VLOOKUP(B158,database!$B$2:$C$6001,2,FALSE))","v":""},null,null,null,"",null,null,null,{"$f":"IF(ISERROR(VLOOKUP(B158,database!$B$2:$D$6001,3,FALSE)),\"\",VLOOKUP(B158,database!$B$2:$D$6001,3,FALSE))","v":""},null,null,null,null,null,null,"",null,null,0,null,1,"indip"]
["",null,{"$f":"IF(ISERROR(VLOOKUP(B159,database!$B$2:$C$6001,2,FALSE)),\"\",VLOOKUP(B159,database!$B$2:$C$6001,2,FALSE))","v":""},null,null,null,"",null,null,null,{"$f":"IF(ISERROR(VLOOKUP(B159,database!$B$2:$D$6001,3,FALSE)),\"\",VLOOKUP(B159,database!$B$2:$D$6001,3,FALSE))","v":""},null,null,null,null,null,null,"",null,null,0,null,1,"indip"]
["",null,{"$f":"IF(ISERROR(VLOOKUP(B160,database!$B$2:$C$6001,2,FALSE)),\"\",VLOOKUP(B160,database!$B$2:$C$6001,2,FALSE))","v":""},null,null,null,"",null,null,null,{"$f":"IF(ISERROR(VLOOKUP(B160,database!$B$2:$D$6001,3,FALSE)),\"\",VLOOKUP(B160,database!$B$2:$D$6001,3,FALSE))","v":""},null,null,null,null,null,null,"",null,null,0,null,1,"indip"]
["",null,{"$f":"IF(ISERROR(VLOOKUP(B161,database!$B$2:$C$6001,2,FALSE)),\"\",VLOOKUP(B161,database!$B$2:$C$6001,2,FALSE))","v":""},null,null,null,"",null,null,null,{"$f":"IF(ISERROR(VLOOKUP(B161,database!$B$2:$D$6001,3,FALSE)),\"\",VLOOKUP(B161,database!$B$2:$D$6001,3,FALSE))","v":""},null,null,null,null,null,null,"",null,null,0,null,1,"indip"]
["",null,{"$f":"IF(ISERROR(VLOOKUP(B162,database!$B$2:$C$6001,2,FALSE)),\"\",VLOOKUP(B162,database!$B$2:$C$6001,2,FALSE))","v":""},null,null,null,"",null,null,null,{"$f":"IF(ISERROR(VLOOKUP(B162,database!$B$2:$D$6001,3,FALSE)),\"\",VLOOKUP(B162,database!$B$2:$D$6001,3,FALSE))","v":""},null,null,null,null,null,null,"",null,null,0,null,1,"indip"]
["",null,{"$f":"IF(ISERROR(VLOOKUP(B163,database!$B$2:$C$6001,2,FALSE)),\"\",VLOOKUP(B163,database!$B$2:$C$6001,2,FALSE))","v":""},null,null,null,"",null,null,null,{"$f":"IF(ISERROR(VLOOKUP(B163,database!$B$2:$D$6001,3,FALSE)),\"\",VLOOKUP(B163,database!$B$2:$D$6001,3,FALSE))","v":""},null,null,null,null,null,null,"",null,null,0,null,1,"indip"]
["",null,{"$f":"IF(ISERROR(VLOOKUP(B164,database!$B$2:$C$6001,2,FALSE)),\"\",VLOOKUP(B164,database!$B$2:$C$6001,2,FALSE))","v":""},null,null,null,"",null,null,null,{"$f":"IF(ISERROR(VLOOKUP(B164,database!$B$2:$D$6001,3,FALSE)),\"\",VLOOKUP(B164,database!$B$2:$D$6001,3,FALSE))","v":""},null,null,null,null,null,null,"",null,null,0,null,1,"indip"]
["",null,{"$f":"IF(ISERROR(VLOOKUP(B165,database!$B$2:$C$6001,2,FALSE)),\"\",VLOOKUP(B165,database!$B$2:$C$6001,2,FALSE))","v":""},null,null,null,"",null,null,null,{"$f":"IF(ISERROR(VLOOKUP(B165,database!$B$2:$D$6001,3,FALSE)),\"\",VLOOKUP(B165,database!$B$2:$D$6001,3,FALSE))","v":""},null,null,null,null,null,null,"",null,null,0,null,1,"indip"]
["",null,{"$f":"IF(ISERROR(VLOOKUP(B166,database!$B$2:$C$6001,2,FALSE)),\"\",VLOOKUP(B166,database!$B$2:$C$6001,2,FALSE))","v":""},null,null,null,"",null,null,null,{"$f":"IF(ISERROR(VLOOKUP(B166,database!$B$2:$D$6001,3,FALSE)),\"\",VLOOKUP(B166,database!$B$2:$D$6001,3,FALSE))","v":""},null,null,null,null,null,null,"",null,null,0,null,1,"indip"]
["",null,{"$f":"IF(ISERROR(VLOOKUP(B167,database!$B$2:$C$6001,2,FALSE)),\"\",VLOOKUP(B167,database!$B$2:$C$6001,2,FALSE))","v":""},null,null,null,"",null,null,null,{"$f":"IF(ISERROR(VLOOKUP(B167,database!$B$2:$D$6001,3,FALSE)),\"\",VLOOKUP(B167,database!$B$2:$D$6001,3,FALSE))","v":""},null,null,null,null,null,null,"",null,null,0,null,1,"indip"]
["",null,{"$f":"IF(ISERROR(VLOOKUP(B168,database!$B$2:$C$6001,2,FALSE)),\"\",VLOOKUP(B168,database!$B$2:$C$6001,2,FALSE))","v":""},null,null,null,"",null,null,null,{"$f":"IF(ISERROR(VLOOKUP(B168,database!$B$2:$D$6001,3,FALSE)),\"\",VLOOKUP(B168,database!$B$2:$D$6001,3,FALSE))","v":""},null,null,null,null,null,null,"",null,null,0,null,1,"indip"]
["",null,{"$f":"IF(ISERROR(VLOOKUP(B169,database!$B$2:$C$6001,2,FALSE)),\"\",VLOOKUP(B169,database!$B$2:$C$6001,2,FALSE))","v":""},null,null,null,"",null,null,null,{"$f":"IF(ISERROR(VLOOKUP(B169,database!$B$2:$D$6001,3,FALSE)),\"\",VLOOKUP(B169,database!$B$2:$D$6001,3,FALSE))","v":""},null,null,null,null,null,null,"",null,null,0,null,1,"indip"]
["",null,{"$f":"IF(ISERROR(VLOOKUP(B170,database!$B$2:$C$6001,2,FALSE)),\"\",VLOOKUP(B170,database!$B$2:$C$6001,2,FALSE))","v":""},null,null,null,"",null,null,null,{"$f":"IF(ISERROR(VLOOKUP(B170,database!$B$2:$D$6001,3,FALSE)),\"\",VLOOKUP(B170,database!$B$2:$D$6001,3,FALSE))","v":""},null,null,null,null,null,null,"",null,null,0,null,1,"indip"]
["",null,{"$f":"IF(ISERROR(VLOOKUP(B171,database!$B$2:$C$6001,2,FALSE)),\"\",VLOOKUP(B171,database!$B$2:$C$6001,2,FALSE))","v":""},null,null,null,"",null,null,null,{"$f":"IF(ISERROR(VLOOKUP(B171,database!$B$2:$D$6001,3,FALSE)),\"\",VLOOKUP(B171,database!$B$2:$D$6001,3,FALSE))","v":""},null,null,null,null,null,null,"",null,null,0,null,1,"indip"]
["",null,{"$f":"IF(ISERROR(VLOOKUP(B172,database!$B$2:$C$6001,2,FALSE)),\"\",VLOOKUP(B172,database!$B$2:$C$6001,2,FALSE))","v":""},null,null,null,"",null,null,null,{"$f":"IF(ISERROR(VLOOKUP(B172,database!$B$2:$D$6001,3,FALSE)),\"\",VLOOKUP(B172,database!$B$2:$D$6001,3,FALSE))","v":""},null,null,null,null,null,null,"",null,null,0,null,1,"indip"]
["",null,{"$f":"IF(ISERROR(VLOOKUP(B173,database!$B$2:$C$6001,2,FALSE)),\"\",VLOOKUP(B173,database!$B$2:$C$6001,2,FALSE))","v":""},null,null,null,"",null,null,null,{"$f":"IF(ISERROR(VLOOKUP(B173,database!$B$2:$D$6001,3,FALSE)),\"\",VLOOKUP(B173,database!$B$2:$D$6001,3,FALSE))","v":""},null,null,null,null,null,null,"",null,null,0,null,1,"indip"]
["",null,{"$f":"IF(ISERROR(VLOOKUP(B174,database!$B$2:$C$6001,2,FALSE)),\"\",VLOOKUP(B174,database!$B$2:$C$6001,2,FALSE))","v":""},null,null,null,"",null,null,null,{"$f":"IF(ISERROR(VLOOKUP(B174,database!$B$2:$D$6001,3,FALSE)),\"\",VLOOKUP(B174,database!$B$2:$D$6001,3,FALSE))","v":""},null,null,null,null,null,null,"",null,null,0,null,1,"indip"]
["",null,{"$f":"IF(ISERROR(VLOOKUP(B175,database!$B$2:$C$6001,2,FALSE)),\"\",VLOOKUP(B175,database!$B$2:$C$6001,2,FALSE))","v":""},null,null,null,"",null,null,null,{"$f":"IF(ISERROR(VLOOKUP(B175,database!$B$2:$D$6001,3,FALSE)),\"\",VLOOKUP(B175,database!$B$2:$D$6001,3,FALSE))","v":""},null,null,null,null,null,null,"",null,null,0,null,1,"indip"]
["",null,{"$f":"IF(ISERROR(VLOOKUP(B176,database!$B$2:$C$6001,2,FALSE)),\"\",VLOOKUP(B176,database!$B$2:$C$6001,2,FALSE))","v":""},null,null,null,"",null,null,null,{"$f":"IF(ISERROR(VLOOKUP(B176,database!$B$2:$D$6001,3,FALSE)),\"\",VLOOKUP(B176,database!$B$2:$D$6001,3,FALSE))","v":""},null,null,null,null,null,null,"",null,null,0,null,1,"indip"]
["",null,{"$f":"IF(ISERROR(VLOOKUP(B177,database!$B$2:$C$6001,2,FALSE)),\"\",VLOOKUP(B177,database!$B$2:$C$6001,2,FALSE))","v":""},null,null,null,"",null,null,null,{"$f":"IF(ISERROR(VLOOKUP(B177,database!$B$2:$D$6001,3,FALSE)),\"\",VLOOKUP(B177,database!$B$2:$D$6001,3,FALSE))","v":""},null,null,null,null,null,null,"",null,null,0,null,1,"indip"]
["",null,{"$f":"IF(ISERROR(VLOOKUP(B178,database!$B$2:$C$6001,2,FALSE)),\"\",VLOOKUP(B178,database!$B$2:$C$6001,2,FALSE))","v":""},null,null,null,"",null,null,null,{"$f":"IF(ISERROR(VLOOKUP(B178,database!$B$2:$D$6001,3,FALSE)),\"\",VLOOKUP(B178,database!$B$2:$D$6001,3,FALSE))","v":""},null,null,null,null,null,null,"",null,null,0,null,1,"indip"]
["",null,{"$f":"IF(ISERROR(VLOOKUP(B179,database!$B$2:$C$6001,2,FALSE)),\"\",VLOOKUP(B179,database!$B$2:$C$6001,2,FALSE))","v":""},null,null,null,"",null,null,null,{"$f":"IF(ISERROR(VLOOKUP(B179,database!$B$2:$D$6001,3,FALSE)),\"\",VLOOKUP(B179,database!$B$2:$D$6001,3,FALSE))","v":""},null,null,null,null,null,null,"",null,null,0,null,1,"indip"]
["",null,{"$f":"IF(ISERROR(VLOOKUP(B180,database!$B$2:$C$6001,2,FALSE)),\"\",VLOOKUP(B180,database!$B$2:$C$6001,2,FALSE))","v":""},null,null,null,"",null,null,null,{"$f":"IF(ISERROR(VLOOKUP(B180,database!$B$2:$D$6001,3,FALSE)),\"\",VLOOKUP(B180,database!$B$2:$D$6001,3,FALSE))","v":""},null,null,null,null,null,null,"",null,null,0,null,1,"indip"]
["",null,{"$f":"IF(ISERROR(VLOOKUP(B181,database!$B$2:$C$6001,2,FALSE)),\"\",VLOOKUP(B181,database!$B$2:$C$6001,2,FALSE))","v":""},null,null,null,"",null,null,null,{"$f":"IF(ISERROR(VLOOKUP(B181,database!$B$2:$D$6001,3,FALSE)),\"\",VLOOKUP(B181,database!$B$2:$D$6001,3,FALSE))","v":""},null,null,null,null,null,null,"",null,null,0,null,1,"indip"]
["",null,{"$f":"IF(ISERROR(VLOOKUP(B182,database!$B$2:$C$6001,2,FALSE)),\"\",VLOOKUP(B182,database!$B$2:$C$6001,2,FALSE))","v":""},null,null,null,"",null,null,null,{"$f":"IF(ISERROR(VLOOKUP(B182,database!$B$2:$D$6001,3,FALSE)),\"\",VLOOKUP(B182,database!$B$2:$D$6001,3,FALSE))","v":""},null,null,null,null,null,null,"",null,null,0,null,1,"indip"]
["",null,{"$f":"IF(ISERROR(VLOOKUP(B183,database!$B$2:$C$6001,2,FALSE)),\"\",VLOOKUP(B183,database!$B$2:$C$6001,2,FALSE))","v":""},null,null,null,"",null,null,null,{"$f":"IF(ISERROR(VLOOKUP(B183,database!$B$2:$D$6001,3,FALSE)),\"\",VLOOKUP(B183,database!$B$2:$D$6001,3,FALSE))","v":""},null,null,null,null,null,null,"",null,null,0,null,1,"indip"]
["",null,{"$f":"IF(ISERROR(VLOOKUP(B184,database!$B$2:$C$6001,2,FALSE)),\"\",VLOOKUP(B184,database!$B$2:$C$6001,2,FALSE))","v":""},null,null,null,"",null,null,null,{"$f":"IF(ISERROR(VLOOKUP(B184,database!$B$2:$D$6001,3,FALSE)),\"\",VLOOKUP(B184,database!$B$2:$D$6001,3,FALSE))","v":""},null,null,null,null,null,null,"",null,null,0,null,1,"indip"]
["",null,{"$f":"IF(ISERROR(VLOOKUP(B185,database!$B$2:$C$6001,2,FALSE)),\"\",VLOOKUP(B185,database!$B$2:$C$6001,2,FALSE))","v":""},null,null,null,"",null,null,null,{"$f":"IF(ISERROR(VLOOKUP(B185,database!$B$2:$D$6001,3,FALSE)),\"\",VLOOKUP(B185,database!$B$2:$D$6001,3,FALSE))","v":""},null,null,null,null,null,null,"",null,null,0,null,1,"indip"]
["",null,{"$f":"IF(ISERROR(VLOOKUP(B186,database!$B$2:$C$6001,2,FALSE)),\"\",VLOOKUP(B186,database!$B$2:$C$6001,2,FALSE))","v":""},null,null,null,"",null,null,null,{"$f":"IF(ISERROR(VLOOKUP(B186,database!$B$2:$D$6001,3,FALSE)),\"\",VLOOKUP(B186,database!$B$2:$D$6001,3,FALSE))","v":""},null,null,null,null,null,null,"",null,null,0,null,1,"indip"]
["",null,{"$f":"IF(ISERROR(VLOOKUP(B187,database!$B$2:$C$6001,2,FALSE)),\"\",VLOOKUP(B187,database!$B$2:$C$6001,2,FALSE))","v":""},null,null,null,"",null,null,null,{"$f":"IF(ISERROR(VLOOKUP(B187,database!$B$2:$D$6001,3,FALSE)),\"\",VLOOKUP(B187,database!$B$2:$D$6001,3,FALSE))","v":""},null,null,null,null,null,null,"",null,null,0,null,1,"indip"]
["",null,{"$f":"IF(ISERROR(VLOOKUP(B188,database!$B$2:$C$6001,2,FALSE)),\"\",VLOOKUP(B188,database!$B$2:$C$6001,2,FALSE))","v":""},null,null,null,"",null,null,null,{"$f":"IF(ISERROR(VLOOKUP(B188,database!$B$2:$D$6001,3,FALSE)),\"\",VLOOKUP(B188,database!$B$2:$D$6001,3,FALSE))","v":""},null,null,null,null,null,null,"",null,null,0,null,1,"indip"]
["",null,{"$f":"IF(ISERROR(VLOOKUP(B189,database!$B$2:$C$6001,2,FALSE)),\"\",VLOOKUP(B189,database!$B$2:$C$6001,2,FALSE))","v":""},null,null,null,"",null,null,null,{"$f":"IF(ISERROR(VLOOKUP(B189,database!$B$2:$D$6001,3,FALSE)),\"\",VLOOKUP(B189,database!$B$2:$D$6001,3,FALSE))","v":""},null,null,null,null,null,null,"",null,null,0,null,1,"indip"]
["",null,{"$f":"IF(ISERROR(VLOOKUP(B190,database!$B$2:$C$6001,2,FALSE)),\"\",VLOOKUP(B190,database!$B$2:$C$6001,2,FALSE))","v":""},null,null,null,"",null,null,null,{"$f":"IF(ISERROR(VLOOKUP(B190,database!$B$2:$D$6001,3,FALSE)),\"\",VLOOKUP(B190,database!$B$2:$D$6001,3,FALSE))","v":""},null,null,null,null,null,null,"",null,null,0,null,1,"indip"]
["",null,{"$f":"IF(ISERROR(VLOOKUP(B191,database!$B$2:$C$6001,2,FALSE)),\"\",VLOOKUP(B191,database!$B$2:$C$6001,2,FALSE))","v":""},null,null,null,"",null,null,null,{"$f":"IF(ISERROR(VLOOKUP(B191,database!$B$2:$D$6001,3,FALSE)),\"\",VLOOKUP(B191,database!$B$2:$D$6001,3,FALSE))","v":""},null,null,null,null,null,null,"",null,null,0,null,1,"indip"]
["",null,{"$f":"IF(ISERROR(VLOOKUP(B192,database!$B$2:$C$6001,2,FALSE)),\"\",VLOOKUP(B192,database!$B$2:$C$6001,2,FALSE))","v":""},null,null,null,"",null,null,null,{"$f":"IF(ISERROR(VLOOKUP(B192,database!$B$2:$D$6001,3,FALSE)),\"\",VLOOKUP(B192,database!$B$2:$D$6001,3,FALSE))","v":""},null,null,null,null,null,null,"",null,null,0,null,1,"indip"]
["",null,{"$f":"IF(ISERROR(VLOOKUP(B193,database!$B$2:$C$6001,2,FALSE)),\"\",VLOOKUP(B193,database!$B$2:$C$6001,2,FALSE))","v":""},null,null,null,"",null,null,null,{"$f":"IF(ISERROR(VLOOKUP(B193,database!$B$2:$D$6001,3,FALSE)),\"\",VLOOKUP(B193,database!$B$2:$D$6001,3,FALSE))","v":""},null,null,null,null,null,null,"",null,null,0,null,1,"indip"]
["",null,{"$f":"IF(ISERROR(VLOOKUP(B194,database!$B$2:$C$6001,2,FALSE)),\"\",VLOOKUP(B194,database!$B$2:$C$6001,2,FALSE))","v":""},null,null,null,"",null,null,null,{"$f":"IF(ISERROR(VLOOKUP(B194,database!$B$2:$D$6001,3,FALSE)),\"\",VLOOKUP(B194,database!$B$2:$D$6001,3,FALSE))","v":""},null,null,null,null,null,null,"",null,null,0,null,1,"indip"]
["",null,{"$f":"IF(ISERROR(VLOOKUP(B195,database!$B$2:$C$6001,2,FALSE)),\"\",VLOOKUP(B195,database!$B$2:$C$6001,2,FALSE))","v":""},null,null,null,"",null,null,null,{"$f":"IF(ISERROR(VLOOKUP(B195,database!$B$2:$D$6001,3,FALSE)),\"\",VLOOKUP(B195,database!$B$2:$D$6001,3,FALSE))","v":""},null,null,null,null,null,null,"",null,null,0,null,1,"indip"]
["",null,{"$f":"IF(ISERROR(VLOOKUP(B196,database!$B$2:$C$6001,2,FALSE)),\"\",VLOOKUP(B196,database!$B$2:$C$6001,2,FALSE))","v":""},null,null,null,"",null,null,null,{"$f":"IF(ISERROR(VLOOKUP(B196,database!$B$2:$D$6001,3,FALSE)),\"\",VLOOKUP(B196,database!$B$2:$D$6001,3,FALSE))","v":""},null,null,null,null,null,null,"",null,null,{"$f":"IFERROR(INDEX(M$39:N$140,MATCH(B196,M$39:M$140,0),2),0)","v":0},null,{"$f":"IF(AND(U196=0,C196=\"\"),1,2)","v":1},{"$f":"IF(B196=\"-\",\"\",IF(OR(B196=M$39,B196=M$40,B196=M$41,B196=M$42,B196=M$43,B196=M$44,B196=M$45,B196=M$46,B196=M$47,,B196=M$50,B196=M$51,B196=M$52,B196=M$53,B196=M$54,B196=M$55,B196=M$56,B196=M$57,B196=M$70),\"\",IF(C196=\"\",\"indip\",F196)))","v":"indip"}]
[{"$f":"IF(B197=\"\",\"\",ROW(A194))","v":""},null,{"$f":"IF(ISERROR(VLOOKUP(B197,database!$B$2:$C$6001,2,FALSE)),\"\",VLOOKUP(B197,database!$B$2:$C$6001,2,FALSE))","v":""},null,null,null,{"$f":"IF(B197=\"\",\"\",IF(B197=\"-\",0,IF(W197=1,1,IF(AND(U197=0,F197=\"SSB\"),2,IF(AND(U197=0,F197=\"DIGI\"),3,IF(AND(U197=0,F197=\"CW\"),5,U197))))))","v":""},null,null,null,{"$f":"IF(ISERROR(VLOOKUP(B197,database!$B$2:$D$6001,3,FALSE)),\"\",VLOOKUP(B197,database!$B$2:$D$6001,3,FALSE))","v":""},null,null,null,null,null,null,{"$f":"LEFT(C197,2)","v":""},null,null,0,null,1,"indip"]
["",null,{"$f":"IF(ISERROR(VLOOKUP(B198,database!$B$2:$C$6001,2,FALSE)),\"\",VLOOKUP(B198,database!$B$2:$C$6001,2,FALSE))","v":""},null,null,null,"",null,null,null,{"$f":"IF(ISERROR(VLOOKUP(B198,database!$B$2:$D$6001,3,FALSE)),\"\",VLOOKUP(B198,database!$B$2:$D$6001,3,FALSE))","v":""},null,null,null,null,null,null,"",null,null,0,null,1,"indip"]
["",null,{"$f":"IF(ISERROR(VLOOKUP(B199,database!$B$2:$C$6001,2,FALSE)),\"\",VLOOKUP(B199,database!$B$2:$C$6001,2,FALSE))","v":""},null,null,null,"",null,null,null,{"$f":"IF(ISERROR(VLOOKUP(B199,database!$B$2:$D$6001,3,FALSE)),\"\",VLOOKUP(B199,database!$B$2:$D$6001,3,FALSE))","v":""},null,null,null,null,null,null,"",null,null,0,null,1,"indip"]
["",null,{"$f":"IF(ISERROR(VLOOKUP(B200,database!$B$2:$C$6001,2,FALSE)),\"\",VLOOKUP(B200,database!$B$2:$C$6001,2,FALSE))","v":""},null,null,null,"",null,null,null,{"$f":"IF(ISERROR(VLOOKUP(B200,database!$B$2:$D$6001,3,FALSE)),\"\",VLOOKUP(B200,database!$B$2:$D$6001,3,FALSE))","v":""},null,null,null,null,null,null,"",null,null,0,null,1,"indip"]
["",null,{"$f":"IF(ISERROR(VLOOKUP(B201,database!$B$2:$C$6001,2,FALSE)),\"\",VLOOKUP(B201,database!$B$2:$C$6001,2,FALSE))","v":""},null,null,null,"",null,null,null,{"$f":"IF(ISERROR(VLOOKUP(B201,database!$B$2:$D$6001,3,FALSE)),\"\",VLOOKUP(B201,database!$B$2:$D$6001,3,FALSE))","v":""},null,null,null,null,null,null,"",null,null,0,null,1,"indip"]
["",null,{"$f":"IF(ISERROR(VLOOKUP(B202,database!$B$2:$C$6001,2,FALSE)),\"\",VLOOKUP(B202,database!$B$2:$C$6001,2,FALSE))","v":""},null,null,null,"",null,null,null,{"$f":"IF(ISERROR(VLOOKUP(B202,database!$B$2:$D$6001,3,FALSE)),\"\",VLOOKUP(B202,database!$B$2:$D$6001,3,FALSE))","v":""},null,null,null,null,null,null,"",null,null,0,null,1,"indip"]
["",null,{"$f":"IF(ISERROR(VLOOKUP(B203,database!$B$2:$C$6001,2,FALSE)),\"\",VLOOKUP(B203,database!$B$2:$C$6001,2,FALSE))","v":""},null,null,null,"",null,null,null,{"$f":"IF(ISERROR(VLOOKUP(B203,database!$B$2:$D$6001,3,FALSE)),\"\",VLOOKUP(B203,database!$B$2:$D$6001,3,FALSE))","v":""},null,null,null,null,null,null,"",null,null,0,null,1,"indip"]
["",null,{"$f":"IF(ISERROR(VLOOKUP(B204,database!$B$2:$C$6001,2,FALSE)),\"\",VLOOKUP(B204,database!$B$2:$C$6001,2,FALSE))","v":""},null,null,null,"",null,null,null,{"$f":"IF(ISERROR(VLOOKUP(B204,database!$B$2:$D$6001,3,FALSE)),\"\",VLOOKUP(B204,database!$B$2:$D$6001,3,FALSE))","v":""},null,null,null,null,null,null,"",null,null,0,null,1,"indip"]
["",null,{"$f":"IF(ISERROR(VLOOKUP(B205,database!$B$2:$C$6001,2,FALSE)),\"\",VLOOKUP(B205,database!$B$2:$C$6001,2,FALSE))","v":""},null,null,null,"",null,null,null,{"$f":"IF(ISERROR(VLOOKUP(B205,database!$B$2:$D$6001,3,FALSE)),\"\",VLOOKUP(B205,database!$B$2:$D$6001,3,FALSE))","v":""},null,null,null,null,null,null,"",null,null,0,null,1,"indip"]
["",null,{"$f":"IF(ISERROR(VLOOKUP(B206,database!$B$2:$C$6001,2,FALSE)),\"\",VLOOKUP(B206,database!$B$2:$C$6001,2,FALSE))","v":""},null,null,null,"",null,null,null,{"$f":"IF(ISERROR(VLOOKUP(B206,database!$B$2:$D$6001,3,FALSE)),\"\",VLOOKUP(B206,database!$B$2:$D$6001,3,FALSE))","v":""},null,null,null,null,null,null,"",null,null,0,null,1,"indip"]
["",null,{"$f":"IF(ISERROR(VLOOKUP(B207,database!$B$2:$C$6001,2,FALSE)),\"\",VLOOKUP(B207,database!$B$2:$C$6001,2,FALSE))","v":""},null,null,null,"",null,null,null,{"$f":"IF(ISERROR(VLOOKUP(B207,database!$B$2:$D$6001,3,FALSE)),\"\",VLOOKUP(B207,database!$B$2:$D$6001,3,FALSE))","v":""},null,null,null,null,null,null,"",null,null,0,null,1,"indip"]
["",null,{"$f":"IF(ISERROR(VLOOKUP(B208,database!$B$2:$C$6001,2,FALSE)),\"\",VLOOKUP(B208,database!$B$2:$C$6001,2,FALSE))","v":""},null,null,null,"",null,null,null,{"$f":"IF(ISERROR(VLOOKUP(B208,database!$B$2:$D$6001,3,FALSE)),\"\",VLOOKUP(B208,database!$B$2:$D$6001,3,FALSE))","v":""},null,null,null,null,null,null,"",null,null,0,null,1,"indip"]
["",null,{"$f":"IF(ISERROR(VLOOKUP(B209,database!$B$2:$C$6001,2,FALSE)),\"\",VLOOKUP(B209,database!$B$2:$C$6001,2,FALSE))","v":""},null,null,null,"",null,null,null,{"$f":"IF(ISERROR(VLOOKUP(B209,database!$B$2:$D$6001,3,FALSE)),\"\",VLOOKUP(B209,database!$B$2:$D$6001,3,FALSE))","v":""},null,null,null,null,null,null,"",null,null,0,null,1,"indip"]
["",null,{"$f":"IF(ISERROR(VLOOKUP(B210,database!$B$2:$C$6001,2,FALSE)),\"\",VLOOKUP(B210,database!$B$2:$C$6001,2,FALSE))","v":""},null,null,null,"",null,null,null,{"$f":"IF(ISERROR(VLOOKUP(B210,database!$B$2:$D$6001,3,FALSE)),\"\",VLOOKUP(B210,database!$B$2:$D$6001,3,FALSE))","v":""},null,null,null,null,null,null,"",null,null,0,null,1,"indip"]
["",null,{"$f":"IF(ISERROR(VLOOKUP(B211,database!$B$2:$C$6001,2,FALSE)),\"\",VLOOKUP(B211,database!$B$2:$C$6001,2,FALSE))","v":""},null,null,null,"",null,null,null,{"$f":"IF(ISERROR(VLOOKUP(B211,database!$B$2:$D$6001,3,FALSE)),\"\",VLOOKUP(B211,database!$B$2:$D$6001,3,FALSE))","v":""},null,null,null,null,null,null,"",null,null,0,null,1,"indip"]
["",null,{"$f":"IF(ISERROR(VLOOKUP(B212,database!$B$2:$C$6001,2,FALSE)),\"\",VLOOKUP(B212,database!$B$2:$C$6001,2,FALSE))","v":""},null,null,null,"",null,null,null,{"$f":"IF(ISERROR(VLOOKUP(B212,database!$B$2:$D$6001,3,FALSE)),\"\",VLOOKUP(B212,database!$B$2:$D$6001,3,FALSE))","v":""},null,null,null,null,null,null,"",null,null,0,null,1,"indip"]
["",null,{"$f":"IF(ISERROR(VLOOKUP(B213,database!$B$2:$C$6001,2,FALSE)),\"\",VLOOKUP(B213,database!$B$2:$C$6001,2,FALSE))","v":""},null,null,null,"",null,null,null,{"$f":"IF(ISERROR(VLOOKUP(B213,database!$B$2:$D$6001,3,FALSE)),\"\",VLOOKUP(B213,database!$B$2:$D$6001,3,FALSE))","v":""},null,null,null,null,null,null,"",null,null,0,null,1,"indip"]
["",null,{"$f":"IF(ISERROR(VLOOKUP(B214,database!$B$2:$C$6001,2,FALSE)),\"\",VLOOKUP(B214,database!$B$2:$C$6001,2,FALSE))","v":""},null,null,null,"",null,null,null,{"$f":"IF(ISERROR(VLOOKUP(B214,database!$B$2:$D$6001,3,FALSE)),\"\",VLOOKUP(B214,database!$B$2:$D$6001,3,FALSE))","v":""},null,null,null,null,null,null,"",null,null,0,null,1,"indip"]
["",null,{"$f":"IF(ISERROR(VLOOKUP(B215,database!$B$2:$C$6001,2,FALSE)),\"\",VLOOKUP(B215,database!$B$2:$C$6001,2,FALSE))","v":""},null,null,null,"",null,null,null,{"$f":"IF(ISERROR(VLOOKUP(B215,database!$B$2:$D$6001,3,FALSE)),\"\",VLOOKUP(B215,database!$B$2:$D$6001,3,FALSE))","v":""},null,null,null,null,null,null,"",null,null,0,null,1,"indip"]
["",null,{"$f":"IF(ISERROR(VLOOKUP(B216,database!$B$2:$C$6001,2,FALSE)),\"\",VLOOKUP(B216,database!$B$2:$C$6001,2,FALSE))","v":""},null,null,null,"",null,null,null,{"$f":"IF(ISERROR(VLOOKUP(B216,database!$B$2:$D$6001,3,FALSE)),\"\",VLOOKUP(B216,database!$B$2:$D$6001,3,FALSE))","v":""},null,null,null,null,null,null,"",null,null,0,null,1,"indip"]
["",null,{"$f":"IF(ISERROR(VLOOKUP(B217,database!$B$2:$C$6001,2,FALSE)),\"\",VLOOKUP(B217,database!$B$2:$C$6001,2,FALSE))","v":""},null,null,null,"",null,null,null,{"$f":"IF(ISERROR(VLOOKUP(B217,database!$B$2:$D$6001,3,FALSE)),\"\",VLOOKUP(B217,database!$B$2:$D$6001,3,FALSE))","v":""},null,null,null,null,null,null,"",null,null,0,null,1,"indip"]
["",null,{"$f":"IF(ISERROR(VLOOKUP(B218,database!$B$2:$C$6001,2,FALSE)),\"\",VLOOKUP(B218,database!$B$2:$C$6001,2,FALSE))","v":""},null,null,null,"",null,null,null,{"$f":"IF(ISERROR(VLOOKUP(B218,database!$B$2:$D$6001,3,FALSE)),\"\",VLOOKUP(B218,database!$B$2:$D$6001,3,FALSE))","v":""},null,null,null,null,null,null,"",null,null,0,null,1,"indip"]
["",null,{"$f":"IF(ISERROR(VLOOKUP(B219,database!$B$2:$C$6001,2,FALSE)),\"\",VLOOKUP(B219,database!$B$2:$C$6001,2,FALSE))","v":""},null,null,null,"",null,null,null,{"$f":"IF(ISERROR(VLOOKUP(B219,database!$B$2:$D$6001,3,FALSE)),\"\",VLOOKUP(B219,database!$B$2:$D$6001,3,FALSE))","v":""},null,null,null,null,null,null,"",null,null,0,null,1,"indip"]
["",null,{"$f":"IF(ISERROR(VLOOKUP(B220,database!$B$2:$C$6001,2,FALSE)),\"\",VLOOKUP(B220,database!$B$2:$C$6001,2,FALSE))","v":""},null,null,null,"",null,null,null,{"$f":"IF(ISERROR(VLOOKUP(B220,database!$B$2:$D$6001,3,FALSE)),\"\",VLOOKUP(B220,database!$B$2:$D$6001,3,FALSE))","v":""},null,null,null,null,null,null,"",null,null,0,null,1,"indip"]
["",null,{"$f":"IF(ISERROR(VLOOKUP(B221,database!$B$2:$C$6001,2,FALSE)),\"\",VLOOKUP(B221,database!$B$2:$C$6001,2,FALSE))","v":""},null,null,null,"",null,null,null,{"$f":"IF(ISERROR(VLOOKUP(B221,database!$B$2:$D$6001,3,FALSE)),\"\",VLOOKUP(B221,database!$B$2:$D$6001,3,FALSE))","v":""},null,null,null,null,null,null,"",null,null,0,null,1,"indip"]
["",null,{"$f":"IF(ISERROR(VLOOKUP(B222,database!$B$2:$C$6001,2,FALSE)),\"\",VLOOKUP(B222,database!$B$2:$C$6001,2,FALSE))","v":""},null,null,null,"",null,null,null,{"$f":"IF(ISERROR(VLOOKUP(B222,database!$B$2:$D$6001,3,FALSE)),\"\",VLOOKUP(B222,database!$B$2:$D$6001,3,FALSE))","v":""},null,null,null,null,null,null,"",null,null,0,null,1,"indip"]
["",null,{"$f":"IF(ISERROR(VLOOKUP(B223,database!$B$2:$C$6001,2,FALSE)),\"\",VLOOKUP(B223,database!$B$2:$C$6001,2,FALSE))","v":""},null,null,null,"",null,null,null,{"$f":"IF(ISERROR(VLOOKUP(B223,database!$B$2:$D$6001,3,FALSE)),\"\",VLOOKUP(B223,database!$B$2:$D$6001,3,FALSE))","v":""},null,null,null,null,null,null,"",null,null,0,null,1,"indip"]
["",null,{"$f":"IF(ISERROR(VLOOKUP(B224,database!$B$2:$C$6001,2,FALSE)),\"\",VLOOKUP(B224,database!$B$2:$C$6001,2,FALSE))","v":""},null,null,null,"",null,null,null,{"$f":"IF(ISERROR(VLOOKUP(B224,database!$B$2:$D$6001,3,FALSE)),\"\",VLOOKUP(B224,database!$B$2:$D$6001,3,FALSE))","v":""},null,null,null,null,null,null,"",null,null,0,null,1,"indip"]
["",null,{"$f":"IF(ISERROR(VLOOKUP(B225,database!$B$2:$C$6001,2,FALSE)),\"\",VLOOKUP(B225,database!$B$2:$C$6001,2,FALSE))","v":""},null,null,null,"",null,null,null,{"$f":"IF(ISERROR(VLOOKUP(B225,database!$B$2:$D$6001,3,FALSE)),\"\",VLOOKUP(B225,database!$B$2:$D$6001,3,FALSE))","v":""},null,null,null,null,null,null,"",null,null,0,null,1,"indip"]
["",null,{"$f":"IF(ISERROR(VLOOKUP(B226,database!$B$2:$C$6001,2,FALSE)),\"\",VLOOKUP(B226,database!$B$2:$C$6001,2,FALSE))","v":""},null,null,null,"",null,null,null,{"$f":"IF(ISERROR(VLOOKUP(B226,database!$B$2:$D$6001,3,FALSE)),\"\",VLOOKUP(B226,database!$B$2:$D$6001,3,FALSE))","v":""},null,null,null,null,null,null,"",null,null,0,null,1,"indip"]
["",null,{"$f":"IF(ISERROR(VLOOKUP(B227,database!$B$2:$C$6001,2,FALSE)),\"\",VLOOKUP(B227,database!$B$2:$C$6001,2,FALSE))","v":""},null,null,null,"",null,null,null,{"$f":"IF(ISERROR(VLOOKUP(B227,database!$B$2:$D$6001,3,FALSE)),\"\",VLOOKUP(B227,database!$B$2:$D$6001,3,FALSE))","v":""},null,null,null,null,null,null,"",null,null,0,null,1,"indip"]
["",null,{"$f":"IF(ISERROR(VLOOKUP(B228,database!$B$2:$C$6001,2,FALSE)),\"\",VLOOKUP(B228,database!$B$2:$C$6001,2,FALSE))","v":""},null,null,null,"",null,null,null,{"$f":"IF(ISERROR(VLOOKUP(B228,database!$B$2:$D$6001,3,FALSE)),\"\",VLOOKUP(B228,database!$B$2:$D$6001,3,FALSE))","v":""},null,null,null,null,null,null,"",null,null,0,null,1,"indip"]
["",null,{"$f":"IF(ISERROR(VLOOKUP(B229,database!$B$2:$C$6001,2,FALSE)),\"\",VLOOKUP(B229,database!$B$2:$C$6001,2,FALSE))","v":""},null,null,null,"",null,null,null,{"$f":"IF(ISERROR(VLOOKUP(B229,database!$B$2:$D$6001,3,FALSE)),\"\",VLOOKUP(B229,database!$B$2:$D$6001,3,FALSE))","v":""},null,null,null,null,null,null,"",null,null,0,null,1,"indip"]
["",null,{"$f":"IF(ISERROR(VLOOKUP(B230,database!$B$2:$C$6001,2,FALSE)),\"\",VLOOKUP(B230,database!$B$2:$C$6001,2,FALSE))","v":""},null,null,null,"",null,null,null,{"$f":"IF(ISERROR(VLOOKUP(B230,database!$B$2:$D$6001,3,FALSE)),\"\",VLOOKUP(B230,database!$B$2:$D$6001,3,FALSE))","v":""},null,null,null,null,null,null,"",null,null,0,null,1,"indip"]
["",null,{"$f":"IF(ISERROR(VLOOKUP(B231,database!$B$2:$C$6001,2,FALSE)),\"\",VLOOKUP(B231,database!$B$2:$C$6001,2,FALSE))","v":""},null,null,null,"",null,null,null,{"$f":"IF(ISERROR(VLOOKUP(B231,database!$B$2:$D$6001,3,FALSE)),\"\",VLOOKUP(B231,database!$B$2:$D$6001,3,FALSE))","v":""},null,null,null,null,null,null,"",null,null,0,null,1,"indip"]
["",null,{"$f":"IF(ISERROR(VLOOKUP(B232,database!$B$2:$C$6001,2,FALSE)),\"\",VLOOKUP(B232,database!$B$2:$C$6001,2,FALSE))","v":""},null,null,null,"",null,null,null,{"$f":"IF(ISERROR(VLOOKUP(B232,database!$B$2:$D$6001,3,FALSE)),\"\",VLOOKUP(B232,database!$B$2:$D$6001,3,FALSE))","v":""},null,null,null,null,null,null,"",null,null,0,null,1,"indip"]
["",null,{"$f":"IF(ISERROR(VLOOKUP(B233,database!$B$2:$C$6001,2,FALSE)),\"\",VLOOKUP(B233,database!$B$2:$C$6001,2,FALSE))","v":""},null,null,null,"",null,null,null,{"$f":"IF(ISERROR(VLOOKUP(B233,database!$B$2:$D$6001,3,FALSE)),\"\",VLOOKUP(B233,database!$B$2:$D$6001,3,FALSE))","v":""},null,null,null,null,null,null,"",null,null,0,null,1,"indip"]
["",null,{"$f":"IF(ISERROR(VLOOKUP(B234,database!$B$2:$C$6001,2,FALSE)),\"\",VLOOKUP(B234,database!$B$2:$C$6001,2,FALSE))","v":""},null,null,null,"",null,null,null,{"$f":"IF(ISERROR(VLOOKUP(B234,database!$B$2:$D$6001,3,FALSE)),\"\",VLOOKUP(B234,database!$B$2:$D$6001,3,FALSE))","v":""},null,null,null,null,null,null,"",null,null,0,null,1,"indip"]
["",null,{"$f":"IF(ISERROR(VLOOKUP(B235,database!$B$2:$C$6001,2,FALSE)),\"\",VLOOKUP(B235,database!$B$2:$C$6001,2,FALSE))","v":""},null,null,null,"",null,null,null,{"$f":"IF(ISERROR(VLOOKUP(B235,database!$B$2:$D$6001,3,FALSE)),\"\",VLOOKUP(B235,database!$B$2:$D$6001,3,FALSE))","v":""},null,null,null,null,null,null,"",null,null,0,null,1,"indip"]
["",null,{"$f":"IF(ISERROR(VLOOKUP(B236,database!$B$2:$C$6001,2,FALSE)),\"\",VLOOKUP(B236,database!$B$2:$C$6001,2,FALSE))","v":""},null,null,null,"",null,null,null,{"$f":"IF(ISERROR(VLOOKUP(B236,database!$B$2:$D$6001,3,FALSE)),\"\",VLOOKUP(B236,database!$B$2:$D$6001,3,FALSE))","v":""},null,null,null,null,null,null,"",null,null,0,null,1,"indip"]
["",null,{"$f":"IF(ISERROR(VLOOKUP(B237,database!$B$2:$C$6001,2,FALSE)),\"\",VLOOKUP(B237,database!$B$2:$C$6001,2,FALSE))","v":""},null,null,null,"",null,null,null,{"$f":"IF(ISERROR(VLOOKUP(B237,database!$B$2:$D$6001,3,FALSE)),\"\",VLOOKUP(B237,database!$B$2:$D$6001,3,FALSE))","v":""},null,null,null,null,null,null,"",null,null,0,null,1,"indip"]
["",null,{"$f":"IF(ISERROR(VLOOKUP(B238,database!$B$2:$C$6001,2,FALSE)),\"\",VLOOKUP(B238,database!$B$2:$C$6001,2,FALSE))","v":""},null,null,null,"",null,null,null,{"$f":"IF(ISERROR(VLOOKUP(B238,database!$B$2:$D$6001,3,FALSE)),\"\",VLOOKUP(B238,database!$B$2:$D$6001,3,FALSE))","v":""},null,null,null,null,null,null,"",null,null,0,null,1,"indip"]
["",null,{"$f":"IF(ISERROR(VLOOKUP(B239,database!$B$2:$C$6001,2,FALSE)),\"\",VLOOKUP(B239,database!$B$2:$C$6001,2,FALSE))","v":""},null,null,null,"",null,null,null,{"$f":"IF(ISERROR(VLOOKUP(B239,database!$B$2:$D$6001,3,FALSE)),\"\",VLOOKUP(B239,database!$B$2:$D$6001,3,FALSE))","v":""},null,null,null,null,null,null,"",null,null,0,null,1,"indip"]
["",null,{"$f":"IF(ISERROR(VLOOKUP(B240,database!$B$2:$C$6001,2,FALSE)),\"\",VLOOKUP(B240,database!$B$2:$C$6001,2,FALSE))","v":""},null,null,null,"",null,null,null,{"$f":"IF(ISERROR(VLOOKUP(B240,database!$B$2:$D$6001,3,FALSE)),\"\",VLOOKUP(B240,database!$B$2:$D$6001,3,FALSE))","v":""},null,null,null,null,null,null,"",null,null,0,null,1,"indip"]
["",null,{"$f":"IF(ISERROR(VLOOKUP(B241,database!$B$2:$C$6001,2,FALSE)),\"\",VLOOKUP(B241,database!$B$2:$C$6001,2,FALSE))","v":""},null,null,null,"",null,null,null,{"$f":"IF(ISERROR(VLOOKUP(B241,database!$B$2:$D$6001,3,FALSE)),\"\",VLOOKUP(B241,database!$B$2:$D$6001,3,FALSE))","v":""},null,null,null,null,null,null,"",null,null,0,null,1,"indip"]
["",null,{"$f":"IF(ISERROR(VLOOKUP(B242,database!$B$2:$C$6001,2,FALSE)),\"\",VLOOKUP(B242,database!$B$2:$C$6001,2,FALSE))","v":""},null,null,null,"",null,null,null,{"$f":"IF(ISERROR(VLOOKUP(B242,database!$B$2:$D$6001,3,FALSE)),\"\",VLOOKUP(B242,database!$B$2:$D$6001,3,FALSE))","v":""},null,null,null,null,null,null,"",null,null,0,null,1,"indip"]
["",null,{"$f":"IF(ISERROR(VLOOKUP(B243,database!$B$2:$C$6001,2,FALSE)),\"\",VLOOKUP(B243,database!$B$2:$C$6001,2,FALSE))","v":""},null,null,null,"",null,null,null,{"$f":"IF(ISERROR(VLOOKUP(B243,database!$B$2:$D$6001,3,FALSE)),\"\",VLOOKUP(B243,database!$B$2:$D$6001,3,FALSE))","v":""},null,null,null,null,null,null,"",null,null,0,null,1,"indip"]
["",null,{"$f":"IF(ISERROR(VLOOKUP(B244,database!$B$2:$C$6001,2,FALSE)),\"\",VLOOKUP(B244,database!$B$2:$C$6001,2,FALSE))","v":""},null,null,null,"",null,null,null,{"$f":"IF(ISERROR(VLOOKUP(B244,database!$B$2:$D$6001,3,FALSE)),\"\",VLOOKUP(B244,database!$B$2:$D$6001,3,FALSE))","v":""},null,null,null,null,null,null,"",null,null,0,null,1,"indip"]
["",null,{"$f":"IF(ISERROR(VLOOKUP(B245,database!$B$2:$C$6001,2,FALSE)),\"\",VLOOKUP(B245,database!$B$2:$C$6001,2,FALSE))","v":""},null,null,null,"",null,null,null,{"$f":"IF(ISERROR(VLOOKUP(B245,database!$B$2:$D$6001,3,FALSE)),\"\",VLOOKUP(B245,database!$B$2:$D$6001,3,FALSE))","v":""},null,null,null,null,null,null,"",null,null,0,null,1,"indip"]
["",null,{"$f":"IF(ISERROR(VLOOKUP(B246,database!$B$2:$C$6001,2,FALSE)),\"\",VLOOKUP(B246,database!$B$2:$C$6001,2,FALSE))","v":""},null,null,null,"",null,null,null,{"$f":"IF(ISERROR(VLOOKUP(B246,database!$B$2:$D$6001,3,FALSE)),\"\",VLOOKUP(B246,database!$B$2:$D$6001,3,FALSE))","v":""},null,null,null,null,null,null,"",null,null,0,null,1,"indip"]
["",null,{"$f":"IF(ISERROR(VLOOKUP(B247,database!$B$2:$C$6001,2,FALSE)),\"\",VLOOKUP(B247,database!$B$2:$C$6001,2,FALSE))","v":""},null,null,null,"",null,null,null,{"$f":"IF(ISERROR(VLOOKUP(B247,database!$B$2:$D$6001,3,FALSE)),\"\",VLOOKUP(B247,database!$B$2:$D$6001,3,FALSE))","v":""},null,null,null,null,null,null,"",null,null,0,null,1,"indip"]
["",null,{"$f":"IF(ISERROR(VLOOKUP(B248,database!$B$2:$C$6001,2,FALSE)),\"\",VLOOKUP(B248,database!$B$2:$C$6001,2,FALSE))","v":""},null,null,null,"",null,null,null,{"$f":"IF(ISERROR(VLOOKUP(B248,database!$B$2:$D$6001,3,FALSE)),\"\",VLOOKUP(B248,database!$B$2:$D$6001,3,FALSE))","v":""},null,null,null,null,null,null,"",null,null,0,null,1,"indip"]
["",null,{"$f":"IF(ISERROR(VLOOKUP(B249,database!$B$2:$C$6001,2,FALSE)),\"\",VLOOKUP(B249,database!$B$2:$C$6001,2,FALSE))","v":""},null,null,null,"",null,null,null,{"$f":"IF(ISERROR(VLOOKUP(B249,database!$B$2:$D$6001,3,FALSE)),\"\",VLOOKUP(B249,database!$B$2:$D$6001,3,FALSE))","v":""},null,null,null,null,null,null,"",null,null,0,null,1,"indip"]
["",null,{"$f":"IF(ISERROR(VLOOKUP(B250,database!$B$2:$C$6001,2,FALSE)),\"\",VLOOKUP(B250,database!$B$2:$C$6001,2,FALSE))","v":""},null,null,null,"",null,null,null,{"$f":"IF(ISERROR(VLOOKUP(B250,database!$B$2:$D$6001,3,FALSE)),\"\",VLOOKUP(B250,database!$B$2:$D$6001,3,FALSE))","v":""},null,null,null,null,null,null,"",null,null,0,null,1,"indip"]
["",null,{"$f":"IF(ISERROR(VLOOKUP(B251,database!$B$2:$C$6001,2,FALSE)),\"\",VLOOKUP(B251,database!$B$2:$C$6001,2,FALSE))","v":""},null,null,null,"",null,null,null,{"$f":"IF(ISERROR(VLOOKUP(B251,database!$B$2:$D$6001,3,FALSE)),\"\",VLOOKUP(B251,database!$B$2:$D$6001,3,FALSE))","v":""},null,null,null,null,null,null,"",null,null,0,null,1,"indip"]
["",null,{"$f":"IF(ISERROR(VLOOKUP(B252,database!$B$2:$C$6001,2,FALSE)),\"\",VLOOKUP(B252,database!$B$2:$C$6001,2,FALSE))","v":""},null,null,null,"",null,null,null,{"$f":"IF(ISERROR(VLOOKUP(B252,database!$B$2:$D$6001,3,FALSE)),\"\",VLOOKUP(B252,database!$B$2:$D$6001,3,FALSE))","v":""},null,null,null,null,null,null,"",null,null,0,null,1,"indip"]
["",null,{"$f":"IF(ISERROR(VLOOKUP(B253,database!$B$2:$C$6001,2,FALSE)),\"\",VLOOKUP(B253,database!$B$2:$C$6001,2,FALSE))","v":""},null,null,null,"",null,null,null,{"$f":"IF(ISERROR(VLOOKUP(B253,database!$B$2:$D$6001,3,FALSE)),\"\",VLOOKUP(B253,database!$B$2:$D$6001,3,FALSE))","v":""},null,null,null,null,null,null,"",null,null,0,null,1,"indip"]
["",null,{"$f":"IF(ISERROR(VLOOKUP(B254,database!$B$2:$C$6001,2,FALSE)),\"\",VLOOKUP(B254,database!$B$2:$C$6001,2,FALSE))","v":""},null,null,null,"",null,null,null,{"$f":"IF(ISERROR(VLOOKUP(B254,database!$B$2:$D$6001,3,FALSE)),\"\",VLOOKUP(B254,database!$B$2:$D$6001,3,FALSE))","v":""},null,null,null,null,null,null,"",null,null,0,null,1,"indip"]
["",null,{"$f":"IF(ISERROR(VLOOKUP(B255,database!$B$2:$C$6001,2,FALSE)),\"\",VLOOKUP(B255,database!$B$2:$C$6001,2,FALSE))","v":""},null,null,null,"",null,null,null,{"$f":"IF(ISERROR(VLOOKUP(B255,database!$B$2:$D$6001,3,FALSE)),\"\",VLOOKUP(B255,database!$B$2:$D$6001,3,FALSE))","v":""},null,null,null,null,null,null,"",null,null,0,null,1,"indip"]
["",null,{"$f":"IF(ISERROR(VLOOKUP(B256,database!$B$2:$C$6001,2,FALSE)),\"\",VLOOKUP(B256,database!$B$2:$C$6001,2,FALSE))","v":""},null,null,null,"",null,null,null,{"$f":"IF(ISERROR(VLOOKUP(B256,database!$B$2:$D$6001,3,FALSE)),\"\",VLOOKUP(B256,database!$B$2:$D$6001,3,FALSE))","v":""},null,null,null,null,null,null,"",null,null,0,null,1,"indip"]
["",null,{"$f":"IF(ISERROR(VLOOKUP(B257,database!$B$2:$C$6001,2,FALSE)),\"\",VLOOKUP(B257,database!$B$2:$C$6001,2,FALSE))","v":""},null,null,null,"",null,null,null,{"$f":"IF(ISERROR(VLOOKUP(B257,database!$B$2:$D$6001,3,FALSE)),\"\",VLOOKUP(B257,database!$B$2:$D$6001,3,FALSE))","v":""},null,null,null,null,null,null,"",null,null,0,null,1,"indip"]
["",null,{"$f":"IF(ISERROR(VLOOKUP(B258,database!$B$2:$C$6001,2,FALSE)),\"\",VLOOKUP(B258,database!$B$2:$C$6001,2,FALSE))","v":""},null,null,null,"",null,null,null,{"$f":"IF(ISERROR(VLOOKUP(B258,database!$B$2:$D$6001,3,FALSE)),\"\",VLOOKUP(B258,database!$B$2:$D$6001,3,FALSE))","v":""},null,null,null,null,null,null,"",null,null,0,null,1,"indip"]
["",null,{"$f":"IF(ISERROR(VLOOKUP(B259,database!$B$2:$C$6001,2,FALSE)),\"\",VLOOKUP(B259,database!$B$2:$C$6001,2,FALSE))","v":""},null,null,null,"",null,null,null,{"$f":"IF(ISERROR(VLOOKUP(B259,database!$B$2:$D$6001,3,FALSE)),\"\",VLOOKUP(B259,database!$B$2:$D$6001,3,FALSE))","v":""},null,null,null,null,null,null,"",null,null,0,null,1,"indip"]
["",null,{"$f":"IF(ISERROR(VLOOKUP(B260,database!$B$2:$C$6001,2,FALSE)),\"\",VLOOKUP(B260,database!$B$2:$C$6001,2,FALSE))","v":""},null,null,null,"",null,null,null,{"$f":"IF(ISERROR(VLOOKUP(B260,database!$B$2:$D$6001,3,FALSE)),\"\",VLOOKUP(B260,database!$B$2:$D$6001,3,FALSE))","v":""},null,null,null,null,null,null,"",null,null,{"$f":"IFERROR(INDEX(M$39:N$140,MATCH(B260,M$39:M$140,0),2),0)","v":0},null,{"$f":"IF(AND(U260=0,C260=\"\"),1,2)","v":1},{"$f":"IF(B260=\"-\",\"\",IF(OR(B260=M$39,B260=M$40,B260=M$41,B260=M$42,B260=M$43,B260=M$44,B260=M$45,B260=M$46,B260=M$47,,B260=M$50,B260=M$51,B260=M$52,B260=M$53,B260=M$54,B260=M$55,B260=M$56,B260=M$57,B260=M$70),\"\",IF(C260=\"\",\"indip\",F260)))","v":"indip"}]
[{"$f":"IF(B261=\"\",\"\",ROW(A258))","v":""},null,{"$f":"IF(ISERROR(VLOOKUP(B261,database!$B$2:$C$6001,2,FALSE)),\"\",VLOOKUP(B261,database!$B$2:$C$6001,2,FALSE))","v":""},null,null,null,{"$f":"IF(B261=\"\",\"\",IF(B261=\"-\",0,IF(W261=1,1,IF(AND(U261=0,F261=\"SSB\"),2,IF(AND(U261=0,F261=\"DIGI\"),3,IF(AND(U261=0,F261=\"CW\"),5,U261))))))","v":""},null,null,null,{"$f":"IF(ISERROR(VLOOKUP(B261,database!$B$2:$D$6001,3,FALSE)),\"\",VLOOKUP(B261,database!$B$2:$D$6001,3,FALSE))","v":""},null,null,null,null,null,null,{"$f":"LEFT(C261,2)","v":""},null,null,0,null,1,"indip"]
["",null,{"$f":"IF(ISERROR(VLOOKUP(B262,database!$B$2:$C$6001,2,FALSE)),\"\",VLOOKUP(B262,database!$B$2:$C$6001,2,FALSE))","v":""},null,null,null,"",null,null,null,{"$f":"IF(ISERROR(VLOOKUP(B262,database!$B$2:$D$6001,3,FALSE)),\"\",VLOOKUP(B262,database!$B$2:$D$6001,3,FALSE))","v":""},null,null,null,null,null,null,"",null,null,0,null,1,"indip"]
["",null,{"$f":"IF(ISERROR(VLOOKUP(B263,database!$B$2:$C$6001,2,FALSE)),\"\",VLOOKUP(B263,database!$B$2:$C$6001,2,FALSE))","v":""},null,null,null,"",null,null,null,{"$f":"IF(ISERROR(VLOOKUP(B263,database!$B$2:$D$6001,3,FALSE)),\"\",VLOOKUP(B263,database!$B$2:$D$6001,3,FALSE))","v":""},null,null,null,null,null,null,"",null,null,0,null,1,"indip"]
["",null,{"$f":"IF(ISERROR(VLOOKUP(B264,database!$B$2:$C$6001,2,FALSE)),\"\",VLOOKUP(B264,database!$B$2:$C$6001,2,FALSE))","v":""},null,null,null,"",null,null,null,{"$f":"IF(ISERROR(VLOOKUP(B264,database!$B$2:$D$6001,3,FALSE)),\"\",VLOOKUP(B264,database!$B$2:$D$6001,3,FALSE))","v":""},null,null,null,null,null,null,"",null,null,0,null,1,"indip"]
["",null,{"$f":"IF(ISERROR(VLOOKUP(B265,database!$B$2:$C$6001,2,FALSE)),\"\",VLOOKUP(B265,database!$B$2:$C$6001,2,FALSE))","v":""},null,null,null,"",null,null,null,{"$f":"IF(ISERROR(VLOOKUP(B265,database!$B$2:$D$6001,3,FALSE)),\"\",VLOOKUP(B265,database!$B$2:$D$6001,3,FALSE))","v":""},null,null,null,null,null,null,"",null,null,0,null,1,"indip"]
["",null,{"$f":"IF(ISERROR(VLOOKUP(B266,database!$B$2:$C$6001,2,FALSE)),\"\",VLOOKUP(B266,database!$B$2:$C$6001,2,FALSE))","v":""},null,null,null,"",null,null,null,{"$f":"IF(ISERROR(VLOOKUP(B266,database!$B$2:$D$6001,3,FALSE)),\"\",VLOOKUP(B266,database!$B$2:$D$6001,3,FALSE))","v":""},null,null,null,null,null,null,"",null,null,0,null,1,"indip"]
["",null,{"$f":"IF(ISERROR(VLOOKUP(B267,database!$B$2:$C$6001,2,FALSE)),\"\",VLOOKUP(B267,database!$B$2:$C$6001,2,FALSE))","v":""},null,null,null,"",null,null,null,{"$f":"IF(ISERROR(VLOOKUP(B267,database!$B$2:$D$6001,3,FALSE)),\"\",VLOOKUP(B267,database!$B$2:$D$6001,3,FALSE))","v":""},null,null,null,null,null,null,"",null,null,0,null,1,"indip"]
["",null,{"$f":"IF(ISERROR(VLOOKUP(B268,database!$B$2:$C$6001,2,FALSE)),\"\",VLOOKUP(B268,database!$B$2:$C$6001,2,FALSE))","v":""},null,null,null,"",null,null,null,{"$f":"IF(ISERROR(VLOOKUP(B268,database!$B$2:$D$6001,3,FALSE)),\"\",VLOOKUP(B268,database!$B$2:$D$6001,3,FALSE))","v":""},null,null,null,null,null,null,"",null,null,0,null,1,"indip"]
["",null,{"$f":"IF(ISERROR(VLOOKUP(B269,database!$B$2:$C$6001,2,FALSE)),\"\",VLOOKUP(B269,database!$B$2:$C$6001,2,FALSE))","v":""},null,null,null,"",null,null,null,{"$f":"IF(ISERROR(VLOOKUP(B269,database!$B$2:$D$6001,3,FALSE)),\"\",VLOOKUP(B269,database!$B$2:$D$6001,3,FALSE))","v":""},null,null,null,null,null,null,"",null,null,0,null,1,"indip"]
["",null,{"$f":"IF(ISERROR(VLOOKUP(B270,database!$B$2:$C$6001,2,FALSE)),\"\",VLOOKUP(B270,database!$B$2:$C$6001,2,FALSE))","v":""},null,null,null,"",null,null,null,{"$f":"IF(ISERROR(VLOOKUP(B270,database!$B$2:$D$6001,3,FALSE)),\"\",VLOOKUP(B270,database!$B$2:$D$6001,3,FALSE))","v":""},null,null,null,null,null,null,"",null,null,0,null,1,"indip"]
["",null,{"$f":"IF(ISERROR(VLOOKUP(B271,database!$B$2:$C$6001,2,FALSE)),\"\",VLOOKUP(B271,database!$B$2:$C$6001,2,FALSE))","v":""},null,null,null,"",null,null,null,{"$f":"IF(ISERROR(VLOOKUP(B271,database!$B$2:$D$6001,3,FALSE)),\"\",VLOOKUP(B271,database!$B$2:$D$6001,3,FALSE))","v":""},null,null,null,null,null,null,"",null,null,0,null,1,"indip"]
["",null,{"$f":"IF(ISERROR(VLOOKUP(B272,database!$B$2:$C$6001,2,FALSE)),\"\",VLOOKUP(B272,database!$B$2:$C$6001,2,FALSE))","v":""},null,null,null,"",null,null,null,{"$f":"IF(ISERROR(VLOOKUP(B272,database!$B$2:$D$6001,3,FALSE)),\"\",VLOOKUP(B272,database!$B$2:$D$6001,3,FALSE))","v":""},null,null,null,null,null,null,"",null,null,0,null,1,"indip"]
["",null,{"$f":"IF(ISERROR(VLOOKUP(B273,database!$B$2:$C$6001,2,FALSE)),\"\",VLOOKUP(B273,database!$B$2:$C$6001,2,FALSE))","v":""},null,null,null,"",null,null,null,{"$f":"IF(ISERROR(VLOOKUP(B273,database!$B$2:$D$6001,3,FALSE)),\"\",VLOOKUP(B273,database!$B$2:$D$6001,3,FALSE))","v":""},null,null,null,null,null,null,"",null,null,0,null,1,"indip"]
["",null,{"$f":"IF(ISERROR(VLOOKUP(B274,database!$B$2:$C$6001,2,FALSE)),\"\",VLOOKUP(B274,database!$B$2:$C$6001,2,FALSE))","v":""},null,null,null,"",null,null,null,{"$f":"IF(ISERROR(VLOOKUP(B274,database!$B$2:$D$6001,3,FALSE)),\"\",VLOOKUP(B274,database!$B$2:$D$6001,3,FALSE))","v":""},null,null,null,null,null,null,"",null,null,0,null,1,"indip"]
["",null,{"$f":"IF(ISERROR(VLOOKUP(B275,database!$B$2:$C$6001,2,FALSE)),\"\",VLOOKUP(B275,database!$B$2:$C$6001,2,FALSE))","v":""},null,null,null,"",null,null,null,{"$f":"IF(ISERROR(VLOOKUP(B275,database!$B$2:$D$6001,3,FALSE)),\"\",VLOOKUP(B275,database!$B$2:$D$6001,3,FALSE))","v":""},null,null,null,null,null,null,"",null,null,0,null,1,"indip"]
["",null,{"$f":"IF(ISERROR(VLOOKUP(B276,database!$B$2:$C$6001,2,FALSE)),\"\",VLOOKUP(B276,database!$B$2:$C$6001,2,FALSE))","v":""},null,null,null,"",null,null,null,{"$f":"IF(ISERROR(VLOOKUP(B276,database!$B$2:$D$6001,3,FALSE)),\"\",VLOOKUP(B276,database!$B$2:$D$6001,3,FALSE))","v":""},null,null,null,null,null,null,"",null,null,0,null,1,"indip"]
["",null,{"$f":"IF(ISERROR(VLOOKUP(B277,database!$B$2:$C$6001,2,FALSE)),\"\",VLOOKUP(B277,database!$B$2:$C$6001,2,FALSE))","v":""},null,null,null,"",null,null,null,{"$f":"IF(ISERROR(VLOOKUP(B277,database!$B$2:$D$6001,3,FALSE)),\"\",VLOOKUP(B277,database!$B$2:$D$6001,3,FALSE))","v":""},null,null,null,null,null,null,"",null,null,0,null,1,"indip"]
["",null,{"$f":"IF(ISERROR(VLOOKUP(B278,database!$B$2:$C$6001,2,FALSE)),\"\",VLOOKUP(B278,database!$B$2:$C$6001,2,FALSE))","v":""},null,null,null,"",null,null,null,{"$f":"IF(ISERROR(VLOOKUP(B278,database!$B$2:$D$6001,3,FALSE)),\"\",VLOOKUP(B278,database!$B$2:$D$6001,3,FALSE))","v":""},null,null,null,null,null,null,"",null,null,0,null,1,"indip"]
["",null,{"$f":"IF(ISERROR(VLOOKUP(B279,database!$B$2:$C$6001,2,FALSE)),\"\",VLOOKUP(B279,database!$B$2:$C$6001,2,FALSE))","v":""},null,null,null,"",null,null,null,{"$f":"IF(ISERROR(VLOOKUP(B279,database!$B$2:$D$6001,3,FALSE)),\"\",VLOOKUP(B279,database!$B$2:$D$6001,3,FALSE))","v":""},null,null,null,null,null,null,"",null,null,0,null,1,"indip"]
["",null,{"$f":"IF(ISERROR(VLOOKUP(B280,database!$B$2:$C$6001,2,FALSE)),\"\",VLOOKUP(B280,database!$B$2:$C$6001,2,FALSE))","v":""},null,null,null,"",null,null,null,{"$f":"IF(ISERROR(VLOOKUP(B280,database!$B$2:$D$6001,3,FALSE)),\"\",VLOOKUP(B280,database!$B$2:$D$6001,3,FALSE))","v":""},null,null,null,null,null,null,"",null,null,0,null,1,"indip"]
["",null,{"$f":"IF(ISERROR(VLOOKUP(B281,database!$B$2:$C$6001,2,FALSE)),\"\",VLOOKUP(B281,database!$B$2:$C$6001,2,FALSE))","v":""},null,null,null,"",null,null,null,{"$f":"IF(ISERROR(VLOOKUP(B281,database!$B$2:$D$6001,3,FALSE)),\"\",VLOOKUP(B281,database!$B$2:$D$6001,3,FALSE))","v":""},null,null,null,null,null,null,"",null,null,0,null,1,"indip"]
["",null,{"$f":"IF(ISERROR(VLOOKUP(B282,database!$B$2:$C$6001,2,FALSE)),\"\",VLOOKUP(B282,database!$B$2:$C$6001,2,FALSE))","v":""},null,null,null,"",null,null,null,{"$f":"IF(ISERROR(VLOOKUP(B282,database!$B$2:$D$6001,3,FALSE)),\"\",VLOOKUP(B282,database!$B$2:$D$6001,3,FALSE))","v":""},null,null,null,null,null,null,"",null,null,0,null,1,"indip"]
["",null,{"$f":"IF(ISERROR(VLOOKUP(B283,database!$B$2:$C$6001,2,FALSE)),\"\",VLOOKUP(B283,database!$B$2:$C$6001,2,FALSE))","v":""},null,null,null,"",null,null,null,{"$f":"IF(ISERROR(VLOOKUP(B283,database!$B$2:$D$6001,3,FALSE)),\"\",VLOOKUP(B283,database!$B$2:$D$6001,3,FALSE))","v":""},null,null,null,null,null,null,"",null,null,0,null,1,"indip"]
["",null,{"$f":"IF(ISERROR(VLOOKUP(B284,database!$B$2:$C$6001,2,FALSE)),\"\",VLOOKUP(B284,database!$B$2:$C$6001,2,FALSE))","v":""},null,null,null,"",null,null,null,{"$f":"IF(ISERROR(VLOOKUP(B284,database!$B$2:$D$6001,3,FALSE)),\"\",VLOOKUP(B284,database!$B$2:$D$6001,3,FALSE))","v":""},null,null,null,null,null,null,"",null,null,0,null,1,"indip"]
["",null,{"$f":"IF(ISERROR(VLOOKUP(B285,database!$B$2:$C$6001,2,FALSE)),\"\",VLOOKUP(B285,database!$B$2:$C$6001,2,FALSE))","v":""},null,null,null,"",null,null,null,{"$f":"IF(ISERROR(VLOOKUP(B285,database!$B$2:$D$6001,3,FALSE)),\"\",VLOOKUP(B285,database!$B$2:$D$6001,3,FALSE))","v":""},null,null,null,null,null,null,"",null,null,0,null,1,"indip"]
["",null,{"$f":"IF(ISERROR(VLOOKUP(B286,database!$B$2:$C$6001,2,FALSE)),\"\",VLOOKUP(B286,database!$B$2:$C$6001,2,FALSE))","v":""},null,null,null,"",null,null,null,{"$f":"IF(ISERROR(VLOOKUP(B286,database!$B$2:$D$6001,3,FALSE)),\"\",VLOOKUP(B286,database!$B$2:$D$6001,3,FALSE))","v":""},null,null,null,null,null,null,"",null,null,0,null,1,"indip"]
["",null,{"$f":"IF(ISERROR(VLOOKUP(B287,database!$B$2:$C$6001,2,FALSE)),\"\",VLOOKUP(B287,database!$B$2:$C$6001,2,FALSE))","v":""},null,null,null,"",null,null,null,{"$f":"IF(ISERROR(VLOOKUP(B287,database!$B$2:$D$6001,3,FALSE)),\"\",VLOOKUP(B287,database!$B$2:$D$6001,3,FALSE))","v":""},null,null,null,null,null,null,"",null,null,0,null,1,"indip"]
["",null,{"$f":"IF(ISERROR(VLOOKUP(B288,database!$B$2:$C$6001,2,FALSE)),\"\",VLOOKUP(B288,database!$B$2:$C$6001,2,FALSE))","v":""},null,null,null,"",null,null,null,{"$f":"IF(ISERROR(VLOOKUP(B288,database!$B$2:$D$6001,3,FALSE)),\"\",VLOOKUP(B288,database!$B$2:$D$6001,3,FALSE))","v":""},null,null,null,null,null,null,"",null,null,0,null,1,"indip"]
["",null,{"$f":"IF(ISERROR(VLOOKUP(B289,database!$B$2:$C$6001,2,FALSE)),\"\",VLOOKUP(B289,database!$B$2:$C$6001,2,FALSE))","v":""},null,null,null,"",null,null,null,{"$f":"IF(ISERROR(VLOOKUP(B289,database!$B$2:$D$6001,3,FALSE)),\"\",VLOOKUP(B289,database!$B$2:$D$6001,3,FALSE))","v":""},null,null,null,null,null,null,"",null,null,0,null,1,"indip"]
["",null,{"$f":"IF(ISERROR(VLOOKUP(B290,database!$B$2:$C$6001,2,FALSE)),\"\",VLOOKUP(B290,database!$B$2:$C$6001,2,FALSE))","v":""},null,null,null,"",null,null,null,{"$f":"IF(ISERROR(VLOOKUP(B290,database!$B$2:$D$6001,3,FALSE)),\"\",VLOOKUP(B290,database!$B$2:$D$6001,3,FALSE))","v":""},null,null,null,null,null,null,"",null,null,0,null,1,"indip"]
["",null,{"$f":"IF(ISERROR(VLOOKUP(B291,database!$B$2:$C$6001,2,FALSE)),\"\",VLOOKUP(B291,database!$B$2:$C$6001,2,FALSE))","v":""},null,null,null,"",null,null,null,{"$f":"IF(ISERROR(VLOOKUP(B291,database!$B$2:$D$6001,3,FALSE)),\"\",VLOOKUP(B291,database!$B$2:$D$6001,3,FALSE))","v":""},null,null,null,null,null,null,"",null,null,0,null,1,"indip"]
["",null,{"$f":"IF(ISERROR(VLOOKUP(B292,database!$B$2:$C$6001,2,FALSE)),\"\",VLOOKUP(B292,database!$B$2:$C$6001,2,FALSE))","v":""},null,null,null,"",null,null,null,{"$f":"IF(ISERROR(VLOOKUP(B292,database!$B$2:$D$6001,3,FALSE)),\"\",VLOOKUP(B292,database!$B$2:$D$6001,3,FALSE))","v":""},null,null,null,null,null,null,"",null,null,0,null,1,"indip"]
["",null,{"$f":"IF(ISERROR(VLOOKUP(B293,database!$B$2:$C$6001,2,FALSE)),\"\",VLOOKUP(B293,database!$B$2:$C$6001,2,FALSE))","v":""},null,null,null,"",null,null,null,{"$f":"IF(ISERROR(VLOOKUP(B293,database!$B$2:$D$6001,3,FALSE)),\"\",VLOOKUP(B293,database!$B$2:$D$6001,3,FALSE))","v":""},null,null,null,null,null,null,"",null,null,0,null,1,"indip"]
["",null,{"$f":"IF(ISERROR(VLOOKUP(B294,database!$B$2:$C$6001,2,FALSE)),\"\",VLOOKUP(B294,database!$B$2:$C$6001,2,FALSE))","v":""},null,null,null,"",null,null,null,{"$f":"IF(ISERROR(VLOOKUP(B294,database!$B$2:$D$6001,3,FALSE)),\"\",VLOOKUP(B294,database!$B$2:$D$6001,3,FALSE))","v":""},null,null,null,null,null,null,"",null,null,0,null,1,"indip"]
["",null,{"$f":"IF(ISERROR(VLOOKUP(B295,database!$B$2:$C$6001,2,FALSE)),\"\",VLOOKUP(B295,database!$B$2:$C$6001,2,FALSE))","v":""},null,null,null,"",null,null,null,{"$f":"IF(ISERROR(VLOOKUP(B295,database!$B$2:$D$6001,3,FALSE)),\"\",VLOOKUP(B295,database!$B$2:$D$6001,3,FALSE))","v":""},null,null,null,null,null,null,"",null,null,0,null,1,"indip"]
["",null,{"$f":"IF(ISERROR(VLOOKUP(B296,database!$B$2:$C$6001,2,FALSE)),\"\",VLOOKUP(B296,database!$B$2:$C$6001,2,FALSE))","v":""},null,null,null,"",null,null,null,{"$f":"IF(ISERROR(VLOOKUP(B296,database!$B$2:$D$6001,3,FALSE)),\"\",VLOOKUP(B296,database!$B$2:$D$6001,3,FALSE))","v":""},null,null,null,null,null,null,"",null,null,0,null,1,"indip"]
["",null,{"$f":"IF(ISERROR(VLOOKUP(B297,database!$B$2:$C$6001,2,FALSE)),\"\",VLOOKUP(B297,database!$B$2:$C$6001,2,FALSE))","v":""},null,null,null,"",null,null,null,{"$f":"IF(ISERROR(VLOOKUP(B297,database!$B$2:$D$6001,3,FALSE)),\"\",VLOOKUP(B297,database!$B$2:$D$6001,3,FALSE))","v":""},null,null,null,null,null,null,"",null,null,0,null,1,"indip"]
["",null,{"$f":"IF(ISERROR(VLOOKUP(B298,database!$B$2:$C$6001,2,FALSE)),\"\",VLOOKUP(B298,database!$B$2:$C$6001,2,FALSE))","v":""},null,null,null,"",null,null,null,{"$f":"IF(ISERROR(VLOOKUP(B298,database!$B$2:$D$6001,3,FALSE)),\"\",VLOOKUP(B298,database!$B$2:$D$6001,3,FALSE))","v":""},null,null,null,null,null,null,"",null,null,0,null,1,"indip"]
["",null,{"$f":"IF(ISERROR(VLOOKUP(B299,database!$B$2:$C$6001,2,FALSE)),\"\",VLOOKUP(B299,database!$B$2:$C$6001,2,FALSE))","v":""},null,null,null,"",null,null,null,{"$f":"IF(ISERROR(VLOOKUP(B299,database!$B$2:$D$6001,3,FALSE)),\"\",VLOOKUP(B299,database!$B$2:$D$6001,3,FALSE))","v":""},null,null,null,null,null,null,"",null,null,0,null,1,"indip"]
["",null,{"$f":"IF(ISERROR(VLOOKUP(B300,database!$B$2:$C$6001,2,FALSE)),\"\",VLOOKUP(B300,database!$B$2:$C$6001,2,FALSE))","v":""},null,null,null,"",null,null,null,{"$f":"IF(ISERROR(VLOOKUP(B300,database!$B$2:$D$6001,3,FALSE)),\"\",VLOOKUP(B300,database!$B$2:$D$6001,3,FALSE))","v":""},null,null,null,null,null,null,"",null,null,0,null,1,"indip"]
["",null,{"$f":"IF(ISERROR(VLOOKUP(B301,database!$B$2:$C$6001,2,FALSE)),\"\",VLOOKUP(B301,database!$B$2:$C$6001,2,FALSE))","v":""},null,null,null,"",null,null,null,{"$f":"IF(ISERROR(VLOOKUP(B301,database!$B$2:$D$6001,3,FALSE)),\"\",VLOOKUP(B301,database!$B$2:$D$6001,3,FALSE))","v":""},null,null,null,null,null,null,"",null,null,0,null,1,"indip"]
["",null,{"$f":"IF(ISERROR(VLOOKUP(B302,database!$B$2:$C$6001,2,FALSE)),\"\",VLOOKUP(B302,database!$B$2:$C$6001,2,FALSE))","v":""},null,null,null,"",null,null,null,{"$f":"IF(ISERROR(VLOOKUP(B302,database!$B$2:$D$6001,3,FALSE)),\"\",VLOOKUP(B302,database!$B$2:$D$6001,3,FALSE))","v":""},null,null,null,null,null,null,"",null,null,0,null,1,"indip"]
["",null,{"$f":"IF(ISERROR(VLOOKUP(B303,database!$B$2:$C$6001,2,FALSE)),\"\",VLOOKUP(B303,database!$B$2:$C$6001,2,FALSE))","v":""},null,null,null,"",null,null,null,{"$f":"IF(ISERROR(VLOOKUP(B303,database!$B$2:$D$6001,3,FALSE)),\"\",VLOOKUP(B303,database!$B$2:$D$6001,3,FALSE))","v":""},null,null,null,null,null,null,"",null,null,0,null,1,"indip"]
["",null,{"$f":"IF(ISERROR(VLOOKUP(B304,database!$B$2:$C$6001,2,FALSE)),\"\",VLOOKUP(B304,database!$B$2:$C$6001,2,FALSE))","v":""},null,null,null,"",null,null,null,{"$f":"IF(ISERROR(VLOOKUP(B304,database!$B$2:$D$6001,3,FALSE)),\"\",VLOOKUP(B304,database!$B$2:$D$6001,3,FALSE))","v":""},null,null,null,null,null,null,"",null,null,0,null,1,"indip"]
["",null,{"$f":"IF(ISERROR(VLOOKUP(B305,database!$B$2:$C$6001,2,FALSE)),\"\",VLOOKUP(B305,database!$B$2:$C$6001,2,FALSE))","v":""},null,null,null,"",null,null,null,{"$f":"IF(ISERROR(VLOOKUP(B305,database!$B$2:$D$6001,3,FALSE)),\"\",VLOOKUP(B305,database!$B$2:$D$6001,3,FALSE))","v":""},null,null,null,null,null,null,"",null,null,0,null,1,"indip"]
["",null,{"$f":"IF(ISERROR(VLOOKUP(B306,database!$B$2:$C$6001,2,FALSE)),\"\",VLOOKUP(B306,database!$B$2:$C$6001,2,FALSE))","v":""},null,null,null,"",null,null,null,{"$f":"IF(ISERROR(VLOOKUP(B306,database!$B$2:$D$6001,3,FALSE)),\"\",VLOOKUP(B306,database!$B$2:$D$6001,3,FALSE))","v":""},null,null,null,null,null,null,"",null,null,0,null,1,"indip"]
["",null,{"$f":"IF(ISERROR(VLOOKUP(B307,database!$B$2:$C$6001,2,FALSE)),\"\",VLOOKUP(B307,database!$B$2:$C$6001,2,FALSE))","v":""},null,null,null,"",null,null,null,{"$f":"IF(ISERROR(VLOOKUP(B307,database!$B$2:$D$6001,3,FALSE)),\"\",VLOOKUP(B307,database!$B$2:$D$6001,3,FALSE))","v":""},null,null,null,null,null,null,"",null,null,0,null,1,"indip"]
["",null,{"$f":"IF(ISERROR(VLOOKUP(B308,database!$B$2:$C$6001,2,FALSE)),\"\",VLOOKUP(B308,database!$B$2:$C$6001,2,FALSE))","v":""},null,null,null,"",null,null,null,{"$f":"IF(ISERROR(VLOOKUP(B308,database!$B$2:$D$6001,3,FALSE)),\"\",VLOOKUP(B308,database!$B$2:$D$6001,3,FALSE))","v":""},null,null,null,null,null,null,"",null,null,0,null,1,"indip"]
["",null,{"$f":"IF(ISERROR(VLOOKUP(B309,database!$B$2:$C$6001,2,FALSE)),\"\",VLOOKUP(B309,database!$B$2:$C$6001,2,FALSE))","v":""},null,null,null,"",null,null,null,{"$f":"IF(ISERROR(VLOOKUP(B309,database!$B$2:$D$6001,3,FALSE)),\"\",VLOOKUP(B309,database!$B$2:$D$6001,3,FALSE))","v":""},null,null,null,null,null,null,"",null,null,0,null,1,"indip"]
["",null,{"$f":"IF(ISERROR(VLOOKUP(B310,database!$B$2:$C$6001,2,FALSE)),\"\",VLOOKUP(B310,database!$B$2:$C$6001,2,FALSE))","v":""},null,null,null,"",null,null,null,{"$f":"IF(ISERROR(VLOOKUP(B310,database!$B$2:$D$6001,3,FALSE)),\"\",VLOOKUP(B310,database!$B$2:$D$6001,3,FALSE))","v":""},null,null,null,null,null,null,"",null,null,0,null,1,"indip"]
["",null,{"$f":"IF(ISERROR(VLOOKUP(B311,database!$B$2:$C$6001,2,FALSE)),\"\",VLOOKUP(B311,database!$B$2:$C$6001,2,FALSE))","v":""},null,null,null,"",null,null,null,{"$f":"IF(ISERROR(VLOOKUP(B311,database!$B$2:$D$6001,3,FALSE)),\"\",VLOOKUP(B311,database!$B$2:$D$6001,3,FALSE))","v":""},null,null,null,null,null,null,"",null,null,0,null,1,"indip"]
["",null,{"$f":"IF(ISERROR(VLOOKUP(B312,database!$B$2:$C$6001,2,FALSE)),\"\",VLOOKUP(B312,database!$B$2:$C$6001,2,FALSE))","v":""},null,null,null,"",null,null,null,{"$f":"IF(ISERROR(VLOOKUP(B312,database!$B$2:$D$6001,3,FALSE)),\"\",VLOOKUP(B312,database!$B$2:$D$6001,3,FALSE))","v":""},null,null,null,null,null,null,"",null,null,0,null,1,"indip"]
["",null,{"$f":"IF(ISERROR(VLOOKUP(B313,database!$B$2:$C$6001,2,FALSE)),\"\",VLOOKUP(B313,database!$B$2:$C$6001,2,FALSE))","v":""},null,null,null,"",null,null,null,{"$f":"IF(ISERROR(VLOOKUP(B313,database!$B$2:$D$6001,3,FALSE)),\"\",VLOOKUP(B313,database!$B$2:$D$6001,3,FALSE))","v":""},null,null,null,null,null,null,"",null,null,0,null,1,"indip"]
["",null,{"$f":"IF(ISERROR(VLOOKUP(B314,database!$B$2:$C$6001,2,FALSE)),\"\",VLOOKUP(B314,database!$B$2:$C$6001,2,FALSE))","v":""},null,null,null,"",null,null,null,{"$f":"IF(ISERROR(VLOOKUP(B314,database!$B$2:$D$6001,3,FALSE)),\"\",VLOOKUP(B314,database!$B$2:$D$6001,3,FALSE))","v":""},null,null,null,null,null,null,"",null,null,0,null,1,"indip"]
["",null,{"$f":"IF(ISERROR(VLOOKUP(B315,database!$B$2:$C$6001,2,FALSE)),\"\",VLOOKUP(B315,database!$B$2:$C$6001,2,FALSE))","v":""},null,null,null,"",null,null,null,{"$f":"IF(ISERROR(VLOOKUP(B315,database!$B$2:$D$6001,3,FALSE)),\"\",VLOOKUP(B315,database!$B$2:$D$6001,3,FALSE))","v":""},null,null,null,null,null,null,"",null,null,0,null,1,"indip"]
["",null,{"$f":"IF(ISERROR(VLOOKUP(B316,database!$B$2:$C$6001,2,FALSE)),\"\",VLOOKUP(B316,database!$B$2:$C$6001,2,FALSE))","v":""},null,null,null,"",null,null,null,{"$f":"IF(ISERROR(VLOOKUP(B316,database!$B$2:$D$6001,3,FALSE)),\"\",VLOOKUP(B316,database!$B$2:$D$6001,3,FALSE))","v":""},null,null,null,null,null,null,"",null,null,0,null,1,"indip"]
["",null,{"$f":"IF(ISERROR(VLOOKUP(B317,database!$B$2:$C$6001,2,FALSE)),\"\",VLOOKUP(B317,database!$B$2:$C$6001,2,FALSE))","v":""},null,null,null,"",null,null,null,{"$f":"IF(ISERROR(VLOOKUP(B317,database!$B$2:$D$6001,3,FALSE)),\"\",VLOOKUP(B317,database!$B$2:$D$6001,3,FALSE))","v":""},null,null,null,null,null,null,"",null,null,0,null,1,"indip"]
["",null,{"$f":"IF(ISERROR(VLOOKUP(B318,database!$B$2:$C$6001,2,FALSE)),\"\",VLOOKUP(B318,database!$B$2:$C$6001,2,FALSE))","v":""},null,null,null,"",null,null,null,{"$f":"IF(ISERROR(VLOOKUP(B318,database!$B$2:$D$6001,3,FALSE)),\"\",VLOOKUP(B318,database!$B$2:$D$6001,3,FALSE))","v":""},null,null,null,null,null,null,"",null,null,0,null,1,"indip"]
["",null,{"$f":"IF(ISERROR(VLOOKUP(B319,database!$B$2:$C$6001,2,FALSE)),\"\",VLOOKUP(B319,database!$B$2:$C$6001,2,FALSE))","v":""},null,null,null,"",null,null,null,{"$f":"IF(ISERROR(VLOOKUP(B319,database!$B$2:$D$6001,3,FALSE)),\"\",VLOOKUP(B319,database!$B$2:$D$6001,3,FALSE))","v":""},null,null,null,null,null,null,"",null,null,0,null,1,"indip"]
["",null,{"$f":"IF(ISERROR(VLOOKUP(B320,database!$B$2:$C$6001,2,FALSE)),\"\",VLOOKUP(B320,database!$B$2:$C$6001,2,FALSE))","v":""},null,null,null,"",null,null,null,{"$f":"IF(ISERROR(VLOOKUP(B320,database!$B$2:$D$6001,3,FALSE)),\"\",VLOOKUP(B320,database!$B$2:$D$6001,3,FALSE))","v":""},null,null,null,null,null,null,"",null,null,0,null,1,"indip"]
["",null,{"$f":"IF(ISERROR(VLOOKUP(B321,database!$B$2:$C$6001,2,FALSE)),\"\",VLOOKUP(B321,database!$B$2:$C$6001,2,FALSE))","v":""},null,null,null,"",null,null,null,{"$f":"IF(ISERROR(VLOOKUP(B321,database!$B$2:$D$6001,3,FALSE)),\"\",VLOOKUP(B321,database!$B$2:$D$6001,3,FALSE))","v":""},null,null,null,null,null,null,"",null,null,0,null,1,"indip"]
["",null,{"$f":"IF(ISERROR(VLOOKUP(B322,database!$B$2:$C$6001,2,FALSE)),\"\",VLOOKUP(B322,database!$B$2:$C$6001,2,FALSE))","v":""},null,null,null,"",null,null,null,{"$f":"IF(ISERROR(VLOOKUP(B322,database!$B$2:$D$6001,3,FALSE)),\"\",VLOOKUP(B322,database!$B$2:$D$6001,3,FALSE))","v":""},null,null,null,null,null,null,"",null,null,0,null,1,"indip"]
["",null,{"$f":"IF(ISERROR(VLOOKUP(B323,database!$B$2:$C$6001,2,FALSE)),\"\",VLOOKUP(B323,database!$B$2:$C$6001,2,FALSE))","v":""},null,null,null,"",null,null,null,{"$f":"IF(ISERROR(VLOOKUP(B323,database!$B$2:$D$6001,3,FALSE)),\"\",VLOOKUP(B323,database!$B$2:$D$6001,3,FALSE))","v":""},null,null,null,null,null,null,"",null,null,0,null,1,"indip"]
["",null,{"$f":"IF(ISERROR(VLOOKUP(B324,database!$B$2:$C$6001,2,FALSE)),\"\",VLOOKUP(B324,database!$B$2:$C$6001,2,FALSE))","v":""},null,null,null,"",null,null,null,{"$f":"IF(ISERROR(VLOOKUP(B324,database!$B$2:$D$6001,3,FALSE)),\"\",VLOOKUP(B324,database!$B$2:$D$6001,3,FALSE))","v":""},null,null,null,null,null,null,"",null,null,{"$f":"IFERROR(INDEX(M$39:N$140,MATCH(B324,M$39:M$140,0),2),0)","v":0},null,{"$f":"IF(AND(U324=0,C324=\"\"),1,2)","v":1},{"$f":"IF(B324=\"-\",\"\",IF(OR(B324=M$39,B324=M$40,B324=M$41,B324=M$42,B324=M$43,B324=M$44,B324=M$45,B324=M$46,B324=M$47,,B324=M$50,B324=M$51,B324=M$52,B324=M$53,B324=M$54,B324=M$55,B324=M$56,B324=M$57,B324=M$70),\"\",IF(C324=\"\",\"indip\",F324)))","v":"indip"}]
[{"$f":"IF(B325=\"\",\"\",ROW(A322))","v":""},null,{"$f":"IF(ISERROR(VLOOKUP(B325,database!$B$2:$C$6001,2,FALSE)),\"\",VLOOKUP(B325,database!$B$2:$C$6001,2,FALSE))","v":""},null,null,null,{"$f":"IF(B325=\"\",\"\",IF(B325=\"-\",0,IF(W325=1,1,IF(AND(U325=0,F325=\"SSB\"),2,IF(AND(U325=0,F325=\"DIGI\"),3,IF(AND(U325=0,F325=\"CW\"),5,U325))))))","v":""},null,null,null,{"$f":"IF(ISERROR(VLOOKUP(B325,database!$B$2:$D$6001,3,FALSE)),\"\",VLOOKUP(B325,database!$B$2:$D$6001,3,FALSE))","v":""},null,null,null,null,null,null,{"$f":"LEFT(C325,2)","v":""},null,null,0,null,1,"indip"]
["",null,{"$f":"IF(ISERROR(VLOOKUP(B326,database!$B$2:$C$6001,2,FALSE)),\"\",VLOOKUP(B326,database!$B$2:$C$6001,2,FALSE))","v":""},null,null,null,"",null,null,null,{"$f":"IF(ISERROR(VLOOKUP(B326,database!$B$2:$D$6001,3,FALSE)),\"\",VLOOKUP(B326,database!$B$2:$D$6001,3,FALSE))","v":""},null,null,null,null,null,null,"",null,null,0,null,1,"indip"]
["",null,{"$f":"IF(ISERROR(VLOOKUP(B327,database!$B$2:$C$6001,2,FALSE)),\"\",VLOOKUP(B327,database!$B$2:$C$6001,2,FALSE))","v":""},null,null,null,"",null,null,null,{"$f":"IF(ISERROR(VLOOKUP(B327,database!$B$2:$D$6001,3,FALSE)),\"\",VLOOKUP(B327,database!$B$2:$D$6001,3,FALSE))","v":""},null,null,null,null,null,null,"",null,null,0,null,1,"indip"]
["",null,{"$f":"IF(ISERROR(VLOOKUP(B328,database!$B$2:$C$6001,2,FALSE)),\"\",VLOOKUP(B328,database!$B$2:$C$6001,2,FALSE))","v":""},null,null,null,"",null,null,null,{"$f":"IF(ISERROR(VLOOKUP(B328,database!$B$2:$D$6001,3,FALSE)),\"\",VLOOKUP(B328,database!$B$2:$D$6001,3,FALSE))","v":""},null,null,null,null,null,null,"",null,null,0,null,1,"indip"]
["",null,{"$f":"IF(ISERROR(VLOOKUP(B329,database!$B$2:$C$6001,2,FALSE)),\"\",VLOOKUP(B329,database!$B$2:$C$6001,2,FALSE))","v":""},null,null,null,"",null,null,null,{"$f":"IF(ISERROR(VLOOKUP(B329,database!$B$2:$D$6001,3,FALSE)),\"\",VLOOKUP(B329,database!$B$2:$D$6001,3,FALSE))","v":""},null,null,null,null,null,null,"",null,null,0,null,1,"indip"]
["",null,{"$f":"IF(ISERROR(VLOOKUP(B330,database!$B$2:$C$6001,2,FALSE)),\"\",VLOOKUP(B330,database!$B$2:$C$6001,2,FALSE))","v":""},null,null,null,"",null,null,null,{"$f":"IF(ISERROR(VLOOKUP(B330,database!$B$2:$D$6001,3,FALSE)),\"\",VLOOKUP(B330,database!$B$2:$D$6001,3,FALSE))","v":""},null,null,null,null,null,null,"",null,null,0,null,1,"indip"]
["",null,{"$f":"IF(ISERROR(VLOOKUP(B331,database!$B$2:$C$6001,2,FALSE)),\"\",VLOOKUP(B331,database!$B$2:$C$6001,2,FALSE))","v":""},null,null,null,"",null,null,null,{"$f":"IF(ISERROR(VLOOKUP(B331,database!$B$2:$D$6001,3,FALSE)),\"\",VLOOKUP(B331,database!$B$2:$D$6001,3,FALSE))","v":""},null,null,null,null,null,null,"",null,null,0,null,1,"indip"]
["",null,{"$f":"IF(ISERROR(VLOOKUP(B332,database!$B$2:$C$6001,2,FALSE)),\"\",VLOOKUP(B332,database!$B$2:$C$6001,2,FALSE))","v":""},null,null,null,"",null,null,null,{"$f":"IF(ISERROR(VLOOKUP(B332,database!$B$2:$D$6001,3,FALSE)),\"\",VLOOKUP(B332,database!$B$2:$D$6001,3,FALSE))","v":""},null,null,null,null,null,null,"",null,null,0,null,1,"indip"]
["",null,{"$f":"IF(ISERROR(VLOOKUP(B333,database!$B$2:$C$6001,2,FALSE)),\"\",VLOOKUP(B333,database!$B$2:$C$6001,2,FALSE))","v":""},null,null,null,"",null,null,null,{"$f":"IF(ISERROR(VLOOKUP(B333,database!$B$2:$D$6001,3,FALSE)),\"\",VLOOKUP(B333,database!$B$2:$D$6001,3,FALSE))","v":""},null,null,null,null,null,null,"",null,null,0,null,1,"indip"]
["",null,{"$f":"IF(ISERROR(VLOOKUP(B334,database!$B$2:$C$6001,2,FALSE)),\"\",VLOOKUP(B334,database!$B$2:$C$6001,2,FALSE))","v":""},null,null,null,"",null,null,null,{"$f":"IF(ISERROR(VLOOKUP(B334,database!$B$2:$D$6001,3,FALSE)),\"\",VLOOKUP(B334,database!$B$2:$D$6001,3,FALSE))","v":""},null,null,null,null,null,null,"",null,null,0,null,1,"indip"]
["",null,{"$f":"IF(ISERROR(VLOOKUP(B335,database!$B$2:$C$6001,2,FALSE)),\"\",VLOOKUP(B335,database!$B$2:$C$6001,2,FALSE))","v":""},null,null,null,"",null,null,null,{"$f":"IF(ISERROR(VLOOKUP(B335,database!$B$2:$D$6001,3,FALSE)),\"\",VLOOKUP(B335,database!$B$2:$D$6001,3,FALSE))","v":""},null,null,null,null,null,null,"",null,null,0,null,1,"indip"]
["",null,{"$f":"IF(ISERROR(VLOOKUP(B336,database!$B$2:$C$6001,2,FALSE)),\"\",VLOOKUP(B336,database!$B$2:$C$6001,2,FALSE))","v":""},null,null,null,"",null,null,null,{"$f":"IF(ISERROR(VLOOKUP(B336,database!$B$2:$D$6001,3,FALSE)),\"\",VLOOKUP(B336,database!$B$2:$D$6001,3,FALSE))","v":""},null,null,null,null,null,null,"",null,null,0,null,1,"indip"]
["",null,{"$f":"IF(ISERROR(VLOOKUP(B337,database!$B$2:$C$6001,2,FALSE)),\"\",VLOOKUP(B337,database!$B$2:$C$6001,2,FALSE))","v":""},null,null,null,"",null,null,null,{"$f":"IF(ISERROR(VLOOKUP(B337,database!$B$2:$D$6001,3,FALSE)),\"\",VLOOKUP(B337,database!$B$2:$D$6001,3,FALSE))","v":""},null,null,null,null,null,null,"",null,null,0,null,1,"indip"]
["",null,{"$f":"IF(ISERROR(VLOOKUP(B338,database!$B$2:$C$6001,2,FALSE)),\"\",VLOOKUP(B338,database!$B$2:$C$6001,2,FALSE))","v":""},null,null,null,"",null,null,null,{"$f":"IF(ISERROR(VLOOKUP(B338,database!$B$2:$D$6001,3,FALSE)),\"\",VLOOKUP(B338,database!$B$2:$D$6001,3,FALSE))","v":""},null,null,null,null,null,null,"",null,null,0,null,1,"indip"]
["",null,{"$f":"IF(ISERROR(VLOOKUP(B339,database!$B$2:$C$6001,2,FALSE)),\"\",VLOOKUP(B339,database!$B$2:$C$6001,2,FALSE))","v":""},null,null,null,"",null,null,null,{"$f":"IF(ISERROR(VLOOKUP(B339,database!$B$2:$D$6001,3,FALSE)),\"\",VLOOKUP(B339,database!$B$2:$D$6001,3,FALSE))","v":""},null,null,null,null,null,null,"",null,null,0,null,1,"indip"]
["",null,{"$f":"IF(ISERROR(VLOOKUP(B340,database!$B$2:$C$6001,2,FALSE)),\"\",VLOOKUP(B340,database!$B$2:$C$6001,2,FALSE))","v":""},null,null,null,"",null,null,null,{"$f":"IF(ISERROR(VLOOKUP(B340,database!$B$2:$D$6001,3,FALSE)),\"\",VLOOKUP(B340,database!$B$2:$D$6001,3,FALSE))","v":""},null,null,null,null,null,null,"",null,null,0,null,1,"indip"]
["",null,{"$f":"IF(ISERROR(VLOOKUP(B341,database!$B$2:$C$6001,2,FALSE)),\"\",VLOOKUP(B341,database!$B$2:$C$6001,2,FALSE))","v":""},null,null,null,"",null,null,null,{"$f":"IF(ISERROR(VLOOKUP(B341,database!$B$2:$D$6001,3,FALSE)),\"\",VLOOKUP(B341,database!$B$2:$D$6001,3,FALSE))","v":""},null,null,null,null,null,null,"",null,null,0,null,1,"indip"]
["",null,{"$f":"IF(ISERROR(VLOOKUP(B342,database!$B$2:$C$6001,2,FALSE)),\"\",VLOOKUP(B342,database!$B$2:$C$6001,2,FALSE))","v":""},null,null,null,"",null,null,null,{"$f":"IF(ISERROR(VLOOKUP(B342,database!$B$2:$D$6001,3,FALSE)),\"\",VLOOKUP(B342,database!$B$2:$D$6001,3,FALSE))","v":""},null,null,null,null,null,null,"",null,null,0,null,1,"indip"]
["",null,{"$f":"IF(ISERROR(VLOOKUP(B343,database!$B$2:$C$6001,2,FALSE)),\"\",VLOOKUP(B343,database!$B$2:$C$6001,2,FALSE))","v":""},null,null,null,"",null,null,null,{"$f":"IF(ISERROR(VLOOKUP(B343,database!$B$2:$D$6001,3,FALSE)),\"\",VLOOKUP(B343,database!$B$2:$D$6001,3,FALSE))","v":""},null,null,null,null,null,null,"",null,null,0,null,1,"indip"]
["",null,{"$f":"IF(ISERROR(VLOOKUP(B344,database!$B$2:$C$6001,2,FALSE)),\"\",VLOOKUP(B344,database!$B$2:$C$6001,2,FALSE))","v":""},null,null,null,"",null,null,null,{"$f":"IF(ISERROR(VLOOKUP(B344,database!$B$2:$D$6001,3,FALSE)),\"\",VLOOKUP(B344,database!$B$2:$D$6001,3,FALSE))","v":""},null,null,null,null,null,null,"",null,null,0,null,1,"indip"]
["",null,{"$f":"IF(ISERROR(VLOOKUP(B345,database!$B$2:$C$6001,2,FALSE)),\"\",VLOOKUP(B345,database!$B$2:$C$6001,2,FALSE))","v":""},null,null,null,"",null,null,null,{"$f":"IF(ISERROR(VLOOKUP(B345,database!$B$2:$D$6001,3,FALSE)),\"\",VLOOKUP(B345,database!$B$2:$D$6001,3,FALSE))","v":""},null,null,null,null,null,null,"",null,null,0,null,1,"indip"]
["",null,{"$f":"IF(ISERROR(VLOOKUP(B346,database!$B$2:$C$6001,2,FALSE)),\"\",VLOOKUP(B346,database!$B$2:$C$6001,2,FALSE))","v":""},null,null,null,"",null,null,null,{"$f":"IF(ISERROR(VLOOKUP(B346,database!$B$2:$D$6001,3,FALSE)),\"\",VLOOKUP(B346,database!$B$2:$D$6001,3,FALSE))","v":""},null,null,null,null,null,null,"",null,null,0,null,1,"indip"]
["",null,{"$f":"IF(ISERROR(VLOOKUP(B347,database!$B$2:$C$6001,2,FALSE)),\"\",VLOOKUP(B347,database!$B$2:$C$6001,2,FALSE))","v":""},null,null,null,"",null,null,null,{"$f":"IF(ISERROR(VLOOKUP(B347,database!$B$2:$D$6001,3,FALSE)),\"\",VLOOKUP(B347,database!$B$2:$D$6001,3,FALSE))","v":""},null,null,null,null,null,null,"",null,null,0,null,1,"indip"]
["",null,{"$f":"IF(ISERROR(VLOOKUP(B348,database!$B$2:$C$6001,2,FALSE)),\"\",VLOOKUP(B348,database!$B$2:$C$6001,2,FALSE))","v":""},null,null,null,"",null,null,null,{"$f":"IF(ISERROR(VLOOKUP(B348,database!$B$2:$D$6001,3,FALSE)),\"\",VLOOKUP(B348,database!$B$2:$D$6001,3,FALSE))","v":""},null,null,null,null,null,null,"",null,null,0,null,1,"indip"]
["",null,{"$f":"IF(ISERROR(VLOOKUP(B349,database!$B$2:$C$6001,2,FALSE)),\"\",VLOOKUP(B349,database!$B$2:$C$6001,2,FALSE))","v":""},null,null,null,"",null,null,null,{"$f":"IF(ISERROR(VLOOKUP(B349,database!$B$2:$D$6001,3,FALSE)),\"\",VLOOKUP(B349,database!$B$2:$D$6001,3,FALSE))","v":""},null,null,null,null,null,null,"",null,null,0,null,1,"indip"]
["",null,{"$f":"IF(ISERROR(VLOOKUP(B350,database!$B$2:$C$6001,2,FALSE)),\"\",VLOOKUP(B350,database!$B$2:$C$6001,2,FALSE))","v":""},null,null,null,"",null,null,null,{"$f":"IF(ISERROR(VLOOKUP(B350,database!$B$2:$D$6001,3,FALSE)),\"\",VLOOKUP(B350,database!$B$2:$D$6001,3,FALSE))","v":""},null,null,null,null,null,null,"",null,null,0,null,1,"indip"]
["",null,{"$f":"IF(ISERROR(VLOOKUP(B351,database!$B$2:$C$6001,2,FALSE)),\"\",VLOOKUP(B351,database!$B$2:$C$6001,2,FALSE))","v":""},null,null,null,"",null,null,null,{"$f":"IF(ISERROR(VLOOKUP(B351,database!$B$2:$D$6001,3,FALSE)),\"\",VLOOKUP(B351,database!$B$2:$D$6001,3,FALSE))","v":""},null,null,null,null,null,null,"",null,null,0,null,1,"indip"]
["",null,{"$f":"IF(ISERROR(VLOOKUP(B352,database!$B$2:$C$6001,2,FALSE)),\"\",VLOOKUP(B352,database!$B$2:$C$6001,2,FALSE))","v":""},null,null,null,"",null,null,null,{"$f":"IF(ISERROR(VLOOKUP(B352,database!$B$2:$D$6001,3,FALSE)),\"\",VLOOKUP(B352,database!$B$2:$D$6001,3,FALSE))","v":""},null,null,null,null,null,null,"",null,null,0,null,1,"indip"]
["",null,{"$f":"IF(ISERROR(VLOOKUP(B353,database!$B$2:$C$6001,2,FALSE)),\"\",VLOOKUP(B353,database!$B$2:$C$6001,2,FALSE))","v":""},null,null,null,"",null,null,null,{"$f":"IF(ISERROR(VLOOKUP(B353,database!$B$2:$D$6001,3,FALSE)),\"\",VLOOKUP(B353,database!$B$2:$D$6001,3,FALSE))","v":""},null,null,null,null,null,null,"",null,null,0,null,1,"indip"]
["",null,{"$f":"IF(ISERROR(VLOOKUP(B354,database!$B$2:$C$6001,2,FALSE)),\"\",VLOOKUP(B354,database!$B$2:$C$6001,2,FALSE))","v":""},null,null,null,"",null,null,null,{"$f":"IF(ISERROR(VLOOKUP(B354,database!$B$2:$D$6001,3,FALSE)),\"\",VLOOKUP(B354,database!$B$2:$D$6001,3,FALSE))","v":""},null,null,null,null,null,null,"",null,null,0,null,1,"indip"]
["",null,{"$f":"IF(ISERROR(VLOOKUP(B355,database!$B$2:$C$6001,2,FALSE)),\"\",VLOOKUP(B355,database!$B$2:$C$6001,2,FALSE))","v":""},null,null,null,"",null,null,null,{"$f":"IF(ISERROR(VLOOKUP(B355,database!$B$2:$D$6001,3,FALSE)),\"\",VLOOKUP(B355,database!$B$2:$D$6001,3,FALSE))","v":""},null,null,null,null,null,null,"",null,null,0,null,1,"indip"]
["",null,{"$f":"IF(ISERROR(VLOOKUP(B356,database!$B$2:$C$6001,2,FALSE)),\"\",VLOOKUP(B356,database!$B$2:$C$6001,2,FALSE))","v":""},null,null,null,"",null,null,null,{"$f":"IF(ISERROR(VLOOKUP(B356,database!$B$2:$D$6001,3,FALSE)),\"\",VLOOKUP(B356,database!$B$2:$D$6001,3,FALSE))","v":""},null,null,null,null,null,null,"",null,null,0,null,1,"indip"]
["",null,{"$f":"IF(ISERROR(VLOOKUP(B357,database!$B$2:$C$6001,2,FALSE)),\"\",VLOOKUP(B357,database!$B$2:$C$6001,2,FALSE))","v":""},null,null,null,"",null,null,null,{"$f":"IF(ISERROR(VLOOKUP(B357,database!$B$2:$D$6001,3,FALSE)),\"\",VLOOKUP(B357,database!$B$2:$D$6001,3,FALSE))","v":""},null,null,null,null,null,null,"",null,null,0,null,1,"indip"]
["",null,{"$f":"IF(ISERROR(VLOOKUP(B358,database!$B$2:$C$6001,2,FALSE)),\"\",VLOOKUP(B358,database!$B$2:$C$6001,2,FALSE))","v":""},null,null,null,"",null,null,null,{"$f":"IF(ISERROR(VLOOKUP(B358,database!$B$2:$D$6001,3,FALSE)),\"\",VLOOKUP(B358,database!$B$2:$D$6001,3,FALSE))","v":""},null,null,null,null,null,null,"",null,null,0,null,1,"indip"]
["",null,{"$f":"IF(ISERROR(VLOOKUP(B359,database!$B$2:$C$6001,2,FALSE)),\"\",VLOOKUP(B359,database!$B$2:$C$6001,2,FALSE))","v":""},null,null,null,"",null,null,null,{"$f":"IF(ISERROR(VLOOKUP(B359,database!$B$2:$D$6001,3,FALSE)),\"\",VLOOKUP(B359,database!$B$2:$D$6001,3,FALSE))","v":""},null,null,null,null,null,null,"",null,null,0,null,1,"indip"]
["",null,{"$f":"IF(ISERROR(VLOOKUP(B360,database!$B$2:$C$6001,2,FALSE)),\"\",VLOOKUP(B360,database!$B$2:$C$6001,2,FALSE))","v":""},null,null,null,"",null,null,null,{"$f":"IF(ISERROR(VLOOKUP(B360,database!$B$2:$D$6001,3,FALSE)),\"\",VLOOKUP(B360,database!$B$2:$D$6001,3,FALSE))","v":""},null,null,null,null,null,null,"",null,null,0,null,1,"indip"]
["",null,{"$f":"IF(ISERROR(VLOOKUP(B361,database!$B$2:$C$6001,2,FALSE)),\"\",VLOOKUP(B361,database!$B$2:$C$6001,2,FALSE))","v":""},null,null,null,"",null,null,null,{"$f":"IF(ISERROR(VLOOKUP(B361,database!$B$2:$D$6001,3,FALSE)),\"\",VLOOKUP(B361,database!$B$2:$D$6001,3,FALSE))","v":""},null,null,null,null,null,null,"",null,null,0,null,1,"indip"]
["",null,{"$f":"IF(ISERROR(VLOOKUP(B362,database!$B$2:$C$6001,2,FALSE)),\"\",VLOOKUP(B362,database!$B$2:$C$6001,2,FALSE))","v":""},null,null,null,"",null,null,null,{"$f":"IF(ISERROR(VLOOKUP(B362,database!$B$2:$D$6001,3,FALSE)),\"\",VLOOKUP(B362,database!$B$2:$D$6001,3,FALSE))","v":""},null,null,null,null,null,null,"",null,null,0,null,1,"indip"]
["",null,{"$f":"IF(ISERROR(VLOOKUP(B363,database!$B$2:$C$6001,2,FALSE)),\"\",VLOOKUP(B363,database!$B$2:$C$6001,2,FALSE))","v":""},null,null,null,"",null,null,null,{"$f":"IF(ISERROR(VLOOKUP(B363,database!$B$2:$D$6001,3,FALSE)),\"\",VLOOKUP(B363,database!$B$2:$D$6001,3,FALSE))","v":""},null,null,null,null,null,null,"",null,null,0,null,1,"indip"]
["",null,{"$f":"IF(ISERROR(VLOOKUP(B364,database!$B$2:$C$6001,2,FALSE)),\"\",VLOOKUP(B364,database!$B$2:$C$6001,2,FALSE))","v":""},null,null,null,"",null,null,null,{"$f":"IF(ISERROR(VLOOKUP(B364,database!$B$2:$D$6001,3,FALSE)),\"\",VLOOKUP(B364,database!$B$2:$D$6001,3,FALSE))","v":""},null,null,null,null,null,null,"",null,null,0,null,1,"indip"]
["",null,{"$f":"IF(ISERROR(VLOOKUP(B365,database!$B$2:$C$6001,2,FALSE)),\"\",VLOOKUP(B365,database!$B$2:$C$6001,2,FALSE))","v":""},null,null,null,"",null,null,null,{"$f":"IF(ISERROR(VLOOKUP(B365,database!$B$2:$D$6001,3,FALSE)),\"\",VLOOKUP(B365,database!$B$2:$D$6001,3,FALSE))","v":""},null,null,null,null,null,null,"",null,null,0,null,1,"indip"]
["",null,{"$f":"IF(ISERROR(VLOOKUP(B366,database!$B$2:$C$6001,2,FALSE)),\"\",VLOOKUP(B366,database!$B$2:$C$6001,2,FALSE))","v":""},null,null,null,"",null,null,null,{"$f":"IF(ISERROR(VLOOKUP(B366,database!$B$2:$D$6001,3,FALSE)),\"\",VLOOKUP(B366,database!$B$2:$D$6001,3,FALSE))","v":""},null,null,null,null,null,null,"",null,null,0,null,1,"indip"]
["",null,{"$f":"IF(ISERROR(VLOOKUP(B367,database!$B$2:$C$6001,2,FALSE)),\"\",VLOOKUP(B367,database!$B$2:$C$6001,2,FALSE))","v":""},null,null,null,"",null,null,null,{"$f":"IF(ISERROR(VLOOKUP(B367,database!$B$2:$D$6001,3,FALSE)),\"\",VLOOKUP(B367,database!$B$2:$D$6001,3,FALSE))","v":""},null,null,null,null,null,null,"",null,null,0,null,1,"indip"]
["",null,{"$f":"IF(ISERROR(VLOOKUP(B368,database!$B$2:$C$6001,2,FALSE)),\"\",VLOOKUP(B368,database!$B$2:$C$6001,2,FALSE))","v":""},null,null,null,"",null,null,null,{"$f":"IF(ISERROR(VLOOKUP(B368,database!$B$2:$D$6001,3,FALSE)),\"\",VLOOKUP(B368,database!$B$2:$D$6001,3,FALSE))","v":""},null,null,null,null,null,null,"",null,null,0,null,1,"indip"]
["",null,{"$f":"IF(ISERROR(VLOOKUP(B369,database!$B$2:$C$6001,2,FALSE)),\"\",VLOOKUP(B369,database!$B$2:$C$6001,2,FALSE))","v":""},null,null,null,"",null,null,null,{"$f":"IF(ISERROR(VLOOKUP(B369,database!$B$2:$D$6001,3,FALSE)),\"\",VLOOKUP(B369,database!$B$2:$D$6001,3,FALSE))","v":""},null,null,null,null,null,null,"",null,null,0,null,1,"indip"]
["",null,{"$f":"IF(ISERROR(VLOOKUP(B370,database!$B$2:$C$6001,2,FALSE)),\"\",VLOOKUP(B370,database!$B$2:$C$6001,2,FALSE))","v":""},null,null,null,"",null,null,null,{"$f":"IF(ISERROR(VLOOKUP(B370,database!$B$2:$D$6001,3,FALSE)),\"\",VLOOKUP(B370,database!$B$2:$D$6001,3,FALSE))","v":""},null,null,null,null,null,null,"",null,null,0,null,1,"indip"]
["",null,{"$f":"IF(ISERROR(VLOOKUP(B371,database!$B$2:$C$6001,2,FALSE)),\"\",VLOOKUP(B371,database!$B$2:$C$6001,2,FALSE))","v":""},null,null,null,"",null,null,null,{"$f":"IF(ISERROR(VLOOKUP(B371,database!$B$2:$D$6001,3,FALSE)),\"\",VLOOKUP(B371,database!$B$2:$D$6001,3,FALSE))","v":""},null,null,null,null,null,null,"",null,null,0,null,1,"indip"]
["",null,{"$f":"IF(ISERROR(VLOOKUP(B372,database!$B$2:$C$6001,2,FALSE)),\"\",VLOOKUP(B372,database!$B$2:$C$6001,2,FALSE))","v":""},null,null,null,"",null,null,null,{"$f":"IF(ISERROR(VLOOKUP(B372,database!$B$2:$D$6001,3,FALSE)),\"\",VLOOKUP(B372,database!$B$2:$D$6001,3,FALSE))","v":""},null,null,null,null,null,null,"",null,null,0,null,1,"indip"]
["",null,{"$f":"IF(ISERROR(VLOOKUP(B373,database!$B$2:$C$6001,2,FALSE)),\"\",VLOOKUP(B373,database!$B$2:$C$6001,2,FALSE))","v":""},null,null,null,"",null,null,null,{"$f":"IF(ISERROR(VLOOKUP(B373,database!$B$2:$D$6001,3,FALSE)),\"\",VLOOKUP(B373,database!$B$2:$D$6001,3,FALSE))","v":""},null,null,null,null,null,null,"",null,null,0,null,1,"indip"]
["",null,{"$f":"IF(ISERROR(VLOOKUP(B374,database!$B$2:$C$6001,2,FALSE)),\"\",VLOOKUP(B374,database!$B$2:$C$6001,2,FALSE))","v":""},null,null,null,"",null,null,null,{"$f":"IF(ISERROR(VLOOKUP(B374,database!$B$2:$D$6001,3,FALSE)),\"\",VLOOKUP(B374,database!$B$2:$D$6001,3,FALSE))","v":""},null,null,null,null,null,null,"",null,null,0,null,1,"indip"]
["",null,{"$f":"IF(ISERROR(VLOOKUP(B375,database!$B$2:$C$6001,2,FALSE)),\"\",VLOOKUP(B375,database!$B$2:$C$6001,2,FALSE))","v":""},null,null,null,"",null,null,null,{"$f":"IF(ISERROR(VLOOKUP(B375,database!$B$2:$D$6001,3,FALSE)),\"\",VLOOKUP(B375,database!$B$2:$D$6001,3,FALSE))","v":""},null,null,null,null,null,null,"",null,null,0,null,1,"indip"]
["",null,{"$f":"IF(ISERROR(VLOOKUP(B376,database!$B$2:$C$6001,2,FALSE)),\"\",VLOOKUP(B376,database!$B$2:$C$6001,2,FALSE))","v":""},null,null,null,"",null,null,null,{"$f":"IF(ISERROR(VLOOKUP(B376,database!$B$2:$D$6001,3,FALSE)),\"\",VLOOKUP(B376,database!$B$2:$D$6001,3,FALSE))","v":""},null,null,null,null,null,null,"",null,null,0,null,1,"indip"]
["",null,{"$f":"IF(ISERROR(VLOOKUP(B377,database!$B$2:$C$6001,2,FALSE)),\"\",VLOOKUP(B377,database!$B$2:$C$6001,2,FALSE))","v":""},null,null,null,"",null,null,null,{"$f":"IF(ISERROR(VLOOKUP(B377,database!$B$2:$D$6001,3,FALSE)),\"\",VLOOKUP(B377,database!$B$2:$D$6001,3,FALSE))","v":""},null,null,null,null,null,null,"",null,null,0,null,1,"indip"]
["",null,{"$f":"IF(ISERROR(VLOOKUP(B378,database!$B$2:$C$6001,2,FALSE)),\"\",VLOOKUP(B378,database!$B$2:$C$6001,2,FALSE))","v":""},null,null,null,"",null,null,null,{"$f":"IF(ISERROR(VLOOKUP(B378,database!$B$2:$D$6001,3,FALSE)),\"\",VLOOKUP(B378,database!$B$2:$D$6001,3,FALSE))","v":""},null,null,null,null,null,null,"",null,null,0,null,1,"indip"]
["",null,{"$f":"IF(ISERROR(VLOOKUP(B379,database!$B$2:$C$6001,2,FALSE)),\"\",VLOOKUP(B379,database!$B$2:$C$6001,2,FALSE))","v":""},null,null,null,"",null,null,null,{"$f":"IF(ISERROR(VLOOKUP(B379,database!$B$2:$D$6001,3,FALSE)),\"\",VLOOKUP(B379,database!$B$2:$D$6001,3,FALSE))","v":""},null,null,null,null,null,null,"",null,null,0,null,1,"indip"]
["",null,{"$f":"IF(ISERROR(VLOOKUP(B380,database!$B$2:$C$6001,2,FALSE)),\"\",VLOOKUP(B380,database!$B$2:$C$6001,2,FALSE))","v":""},null,null,null,"",null,null,null,{"$f":"IF(ISERROR(VLOOKUP(B380,database!$B$2:$D$6001,3,FALSE)),\"\",VLOOKUP(B380,database!$B$2:$D$6001,3,FALSE))","v":""},null,null,null,null,null,null,"",null,null,0,null,1,"indip"]
["",null,{"$f":"IF(ISERROR(VLOOKUP(B381,database!$B$2:$C$6001,2,FALSE)),\"\",VLOOKUP(B381,database!$B$2:$C$6001,2,FALSE))","v":""},null,null,null,"",null,null,null,{"$f":"IF(ISERROR(VLOOKUP(B381,database!$B$2:$D$6001,3,FALSE)),\"\",VLOOKUP(B381,database!$B$2:$D$6001,3,FALSE))","v":""},null,null,null,null,null,null,"",null,null,0,null,1,"indip"]
["",null,{"$f":"IF(ISERROR(VLOOKUP(B382,database!$B$2:$C$6001,2,FALSE)),\"\",VLOOKUP(B382,database!$B$2:$C$6001,2,FALSE))","v":""},null,null,null,"",null,null,null,{"$f":"IF(ISERROR(VLOOKUP(B382,database!$B$2:$D$6001,3,FALSE)),\"\",VLOOKUP(B382,database!$B$2:$D$6001,3,FALSE))","v":""},null,null,null,null,null,null,"",null,null,0,null,1,"indip"]
["",null,{"$f":"IF(ISERROR(VLOOKUP(B383,database!$B$2:$C$6001,2,FALSE)),\"\",VLOOKUP(B383,database!$B$2:$C$6001,2,FALSE))","v":""},null,null,null,"",null,null,null,{"$f":"IF(ISERROR(VLOOKUP(B383,database!$B$2:$D$6001,3,FALSE)),\"\",VLOOKUP(B383,database!$B$2:$D$6001,3,FALSE))","v":""},null,null,null,null,null,null,"",null,null,0,null,1,"indip"]
["",null,{"$f":"IF(ISERROR(VLOOKUP(B384,database!$B$2:$C$6001,2,FALSE)),\"\",VLOOKUP(B384,database!$B$2:$C$6001,2,FALSE))","v":""},null,null,null,"",null,null,null,{"$f":"IF(ISERROR(VLOOKUP(B384,database!$B$2:$D$6001,3,FALSE)),\"\",VLOOKUP(B384,database!$B$2:$D$6001,3,FALSE))","v":""},null,null,null,null,null,null,"",null,null,0,null,1,"indip"]
["",null,{"$f":"IF(ISERROR(VLOOKUP(B385,database!$B$2:$C$6001,2,FALSE)),\"\",VLOOKUP(B385,database!$B$2:$C$6001,2,FALSE))","v":""},null,null,null,"",null,null,null,{"$f":"IF(ISERROR(VLOOKUP(B385,database!$B$2:$D$6001,3,FALSE)),\"\",VLOOKUP(B385,database!$B$2:$D$6001,3,FALSE))","v":""},null,null,null,null,null,null,"",null,null,0,null,1,"indip"]
["",null,{"$f":"IF(ISERROR(VLOOKUP(B386,database!$B$2:$C$6001,2,FALSE)),\"\",VLOOKUP(B386,database!$B$2:$C$6001,2,FALSE))","v":""},null,null,null,"",null,null,null,{"$f":"IF(ISERROR(VLOOKUP(B386,database!$B$2:$D$6001,3,FALSE)),\"\",VLOOKUP(B386,database!$B$2:$D$6001,3,FALSE))","v":""},null,null,null,null,null,null,"",null,null,0,null,1,"indip"]
["",null,{"$f":"IF(ISERROR(VLOOKUP(B387,database!$B$2:$C$6001,2,FALSE)),\"\",VLOOKUP(B387,database!$B$2:$C$6001,2,FALSE))","v":""},null,null,null,"",null,null,null,{"$f":"IF(ISERROR(VLOOKUP(B387,database!$B$2:$D$6001,3,FALSE)),\"\",VLOOKUP(B387,database!$B$2:$D$6001,3,FALSE))","v":""},null,null,null,null,null,null,"",null,null,0,null,1,"indip"]
["",null,{"$f":"IF(ISERROR(VLOOKUP(B388,database!$B$2:$C$6001,2,FALSE)),\"\",VLOOKUP(B388,database!$B$2:$C$6001,2,FALSE))","v":""},null,null,null,"",null,null,null,{"$f":"IF(ISERROR(VLOOKUP(B388,database!$B$2:$D$6001,3,FALSE)),\"\",VLOOKUP(B388,database!$B$2:$D$6001,3,FALSE))","v":""},null,null,null,null,null,null,"",null,null,{"$f":"IFERROR(INDEX(M$39:N$140,MATCH(B388,M$39:M$140,0),2),0)","v":0},null,{"$f":"IF(AND(U388=0,C388=\"\"),1,2)","v":1},{"$f":"IF(B388=\"-\",\"\",IF(OR(B388=M$39,B388=M$40,B388=M$41,B388=M$42,B388=M$43,B388=M$44,B388=M$45,B388=M$46,B388=M$47,,B388=M$50,B388=M$51,B388=M$52,B388=M$53,B388=M$54,B388=M$55,B388=M$56,B388=M$57,B388=M$70),\"\",IF(C388=\"\",\"indip\",F388)))","v":"indip"}]
[{"$f":"IF(B389=\"\",\"\",ROW(A386))","v":""},null,{"$f":"IF(ISERROR(VLOOKUP(B389,database!$B$2:$C$6001,2,FALSE)),\"\",VLOOKUP(B389,database!$B$2:$C$6001,2,FALSE))","v":""},null,null,null,{"$f":"IF(B389=\"\",\"\",IF(B389=\"-\",0,IF(W389=1,1,IF(AND(U389=0,F389=\"SSB\"),2,IF(AND(U389=0,F389=\"DIGI\"),3,IF(AND(U389=0,F389=\"CW\"),5,U389))))))","v":""},null,null,null,{"$f":"IF(ISERROR(VLOOKUP(B389,database!$B$2:$D$6001,3,FALSE)),\"\",VLOOKUP(B389,database!$B$2:$D$6001,3,FALSE))","v":""},null,null,null,null,null,null,{"$f":"LEFT(C389,2)","v":""},null,null,0,null,1,"indip"]
["",null,{"$f":"IF(ISERROR(VLOOKUP(B390,database!$B$2:$C$6001,2,FALSE)),\"\",VLOOKUP(B390,database!$B$2:$C$6001,2,FALSE))","v":""},null,null,null,"",null,null,null,{"$f":"IF(ISERROR(VLOOKUP(B390,database!$B$2:$D$6001,3,FALSE)),\"\",VLOOKUP(B390,database!$B$2:$D$6001,3,FALSE))","v":""},null,null,null,null,null,null,"",null,null,0,null,1,"indip"]
["",null,{"$f":"IF(ISERROR(VLOOKUP(B391,database!$B$2:$C$6001,2,FALSE)),\"\",VLOOKUP(B391,database!$B$2:$C$6001,2,FALSE))","v":""},null,null,null,"",null,null,null,{"$f":"IF(ISERROR(VLOOKUP(B391,database!$B$2:$D$6001,3,FALSE)),\"\",VLOOKUP(B391,database!$B$2:$D$6001,3,FALSE))","v":""},null,null,null,null,null,null,"",null,null,0,null,1,"indip"]
["",null,{"$f":"IF(ISERROR(VLOOKUP(B392,database!$B$2:$C$6001,2,FALSE)),\"\",VLOOKUP(B392,database!$B$2:$C$6001,2,FALSE))","v":""},null,null,null,"",null,null,null,{"$f":"IF(ISERROR(VLOOKUP(B392,database!$B$2:$D$6001,3,FALSE)),\"\",VLOOKUP(B392,database!$B$2:$D$6001,3,FALSE))","v":""},null,null,null,null,null,null,"",null,null,0,null,1,"indip"]
["",null,{"$f":"IF(ISERROR(VLOOKUP(B393,database!$B$2:$C$6001,2,FALSE)),\"\",VLOOKUP(B393,database!$B$2:$C$6001,2,FALSE))","v":""},null,null,null,"",null,null,null,{"$f":"IF(ISERROR(VLOOKUP(B393,database!$B$2:$D$6001,3,FALSE)),\"\",VLOOKUP(B393,database!$B$2:$D$6001,3,FALSE))","v":""},null,null,null,null,null,null,"",null,null,0,null,1,"indip"]
["",null,{"$f":"IF(ISERROR(VLOOKUP(B394,database!$B$2:$C$6001,2,FALSE)),\"\",VLOOKUP(B394,database!$B$2:$C$6001,2,FALSE))","v":""},null,null,null,"",null,null,null,{"$f":"IF(ISERROR(VLOOKUP(B394,database!$B$2:$D$6001,3,FALSE)),\"\",VLOOKUP(B394,database!$B$2:$D$6001,3,FALSE))","v":""},null,null,null,null,null,null,"",null,null,0,null,1,"indip"]
["",null,{"$f":"IF(ISERROR(VLOOKUP(B395,database!$B$2:$C$6001,2,FALSE)),\"\",VLOOKUP(B395,database!$B$2:$C$6001,2,FALSE))","v":""},null,null,null,"",null,null,null,{"$f":"IF(ISERROR(VLOOKUP(B395,database!$B$2:$D$6001,3,FALSE)),\"\",VLOOKUP(B395,database!$B$2:$D$6001,3,FALSE))","v":""},null,null,null,null,null,null,"",null,null,0,null,1,"indip"]
["",null,{"$f":"IF(ISERROR(VLOOKUP(B396,database!$B$2:$C$6001,2,FALSE)),\"\",VLOOKUP(B396,database!$B$2:$C$6001,2,FALSE))","v":""},null,null,null,"",null,null,null,{"$f":"IF(ISERROR(VLOOKUP(B396,database!$B$2:$D$6001,3,FALSE)),\"\",VLOOKUP(B396,database!$B$2:$D$6001,3,FALSE))","v":""},null,null,null,null,null,null,"",null,null,0,null,1,"indip"]
["",null,{"$f":"IF(ISERROR(VLOOKUP(B397,database!$B$2:$C$6001,2,FALSE)),\"\",VLOOKUP(B397,database!$B$2:$C$6001,2,FALSE))","v":""},null,null,null,"",null,null,null,{"$f":"IF(ISERROR(VLOOKUP(B397,database!$B$2:$D$6001,3,FALSE)),\"\",VLOOKUP(B397,database!$B$2:$D$6001,3,FALSE))","v":""},null,null,null,null,null,null,"",null,null,0,null,1,"indip"]
["",null,{"$f":"IF(ISERROR(VLOOKUP(B398,database!$B$2:$C$6001,2,FALSE)),\"\",VLOOKUP(B398,database!$B$2:$C$6001,2,FALSE))","v":""},null,null,null,"",null,null,null,{"$f":"IF(ISERROR(VLOOKUP(B398,database!$B$2:$D$6001,3,FALSE)),\"\",VLOOKUP(B398,database!$B$2:$D$6001,3,FALSE))","v":""},null,null,null,null,null,null,"",null,null,0,null,1,"indip"]
["",null,{"$f":"IF(ISERROR(VLOOKUP(B399,database!$B$2:$C$6001,2,FALSE)),\"\",VLOOKUP(B399,database!$B$2:$C$6001,2,FALSE))","v":""},null,null,null,"",null,null,null,{"$f":"IF(ISERROR(VLOOKUP(B399,database!$B$2:$D$6001,3,FALSE)),\"\",VLOOKUP(B399,database!$B$2:$D$6001,3,FALSE))","v":""},null,null,null,null,null,null,"",null,null,0,null,1,"indip"]
["",null,{"$f":"IF(ISERROR(VLOOKUP(B400,database!$B$2:$C$6001,2,FALSE)),\"\",VLOOKUP(B400,database!$B$2:$C$6001,2,FALSE))","v":""},null,null,null,"",null,null,null,{"$f":"IF(ISERROR(VLOOKUP(B400,database!$B$2:$D$6001,3,FALSE)),\"\",VLOOKUP(B400,database!$B$2:$D$6001,3,FALSE))","v":""},null,null,null,null,null,null,"",null,null,0,null,1,"indip"]
["",null,{"$f":"IF(ISERROR(VLOOKUP(B401,database!$B$2:$C$6001,2,FALSE)),\"\",VLOOKUP(B401,database!$B$2:$C$6001,2,FALSE))","v":""},null,null,null,"",null,null,null,{"$f":"IF(ISERROR(VLOOKUP(B401,database!$B$2:$D$6001,3,FALSE)),\"\",VLOOKUP(B401,database!$B$2:$D$6001,3,FALSE))","v":""},null,null,null,null,null,null,"",null,null,0,null,1,"indip"]
["",null,{"$f":"IF(ISERROR(VLOOKUP(B402,database!$B$2:$C$6001,2,FALSE)),\"\",VLOOKUP(B402,database!$B$2:$C$6001,2,FALSE))","v":""},null,null,null,"",null,null,null,{"$f":"IF(ISERROR(VLOOKUP(B402,database!$B$2:$D$6001,3,FALSE)),\"\",VLOOKUP(B402,database!$B$2:$D$6001,3,FALSE))","v":""},null,null,null,null,null,null,"",null,null,0,null,1,"indip"]
["",null,{"$f":"IF(ISERROR(VLOOKUP(B403,database!$B$2:$C$6001,2,FALSE)),\"\",VLOOKUP(B403,database!$B$2:$C$6001,2,FALSE))","v":""},null,null,null,"",null,null,null,{"$f":"IF(ISERROR(VLOOKUP(B403,database!$B$2:$D$6001,3,FALSE)),\"\",VLOOKUP(B403,database!$B$2:$D$6001,3,FALSE))","v":""},null,null,null,null,null,null,"",null,null,0,null,1,"indip"]
["",null,{"$f":"IF(ISERROR(VLOOKUP(B404,database!$B$2:$C$6001,2,FALSE)),\"\",VLOOKUP(B404,database!$B$2:$C$6001,2,FALSE))","v":""},null,null,null,"",null,null,null,{"$f":"IF(ISERROR(VLOOKUP(B404,database!$B$2:$D$6001,3,FALSE)),\"\",VLOOKUP(B404,database!$B$2:$D$6001,3,FALSE))","v":""},null,null,null,null,null,null,"",null,null,0,null,1,"indip"]
["",null,{"$f":"IF(ISERROR(VLOOKUP(B405,database!$B$2:$C$6001,2,FALSE)),\"\",VLOOKUP(B405,database!$B$2:$C$6001,2,FALSE))","v":""},null,null,null,"",null,null,null,{"$f":"IF(ISERROR(VLOOKUP(B405,database!$B$2:$D$6001,3,FALSE)),\"\",VLOOKUP(B405,database!$B$2:$D$6001,3,FALSE))","v":""},null,null,null,null,null,null,"",null,null,0,null,1,"indip"]
["",null,{"$f":"IF(ISERROR(VLOOKUP(B406,database!$B$2:$C$6001,2,FALSE)),\"\",VLOOKUP(B406,database!$B$2:$C$6001,2,FALSE))","v":""},null,null,null,"",null,null,null,{"$f":"IF(ISERROR(VLOOKUP(B406,database!$B$2:$D$6001,3,FALSE)),\"\",VLOOKUP(B406,database!$B$2:$D$6001,3,FALSE))","v":""},null,null,null,null,null,null,"",null,null,0,null,1,"indip"]
["",null,{"$f":"IF(ISERROR(VLOOKUP(B407,database!$B$2:$C$6001,2,FALSE)),\"\",VLOOKUP(B407,database!$B$2:$C$6001,2,FALSE))","v":""},null,null,null,"",null,null,null,{"$f":"IF(ISERROR(VLOOKUP(B407,database!$B$2:$D$6001,3,FALSE)),\"\",VLOOKUP(B407,database!$B$2:$D$6001,3,FALSE))","v":""},null,null,null,null,null,null,"",null,null,0,null,1,"indip"]
["",null,{"$f":"IF(ISERROR(VLOOKUP(B408,database!$B$2:$C$6001,2,FALSE)),\"\",VLOOKUP(B408,database!$B$2:$C$6001,2,FALSE))","v":""},null,null,null,"",null,null,null,{"$f":"IF(ISERROR(VLOOKUP(B408,database!$B$2:$D$6001,3,FALSE)),\"\",VLOOKUP(B408,database!$B$2:$D$6001,3,FALSE))","v":""},null,null,null,null,null,null,"",null,null,0,null,1,"indip"]
["",null,{"$f":"IF(ISERROR(VLOOKUP(B409,database!$B$2:$C$6001,2,FALSE)),\"\",VLOOKUP(B409,database!$B$2:$C$6001,2,FALSE))","v":""},null,null,null,"",null,null,null,{"$f":"IF(ISERROR(VLOOKUP(B409,database!$B$2:$D$6001,3,FALSE)),\"\",VLOOKUP(B409,database!$B$2:$D$6001,3,FALSE))","v":""},null,null,null,null,null,null,"",null,null,0,null,1,"indip"]
["",null,{"$f":"IF(ISERROR(VLOOKUP(B410,database!$B$2:$C$6001,2,FALSE)),\"\",VLOOKUP(B410,database!$B$2:$C$6001,2,FALSE))","v":""},null,null,null,"",null,null,null,{"$f":"IF(ISERROR(VLOOKUP(B410,database!$B$2:$D$6001,3,FALSE)),\"\",VLOOKUP(B410,database!$B$2:$D$6001,3,FALSE))","v":""},null,null,null,null,null,null,"",null,null,0,null,1,"indip"]
["",null,{"$f":"IF(ISERROR(VLOOKUP(B411,database!$B$2:$C$6001,2,FALSE)),\"\",VLOOKUP(B411,database!$B$2:$C$6001,2,FALSE))","v":""},null,null,null,"",null,null,null,{"$f":"IF(ISERROR(VLOOKUP(B411,database!$B$2:$D$6001,3,FALSE)),\"\",VLOOKUP(B411,database!$B$2:$D$6001,3,FALSE))","v":""},null,null,null,null,null,null,"",null,null,0,null,1,"indip"]
["",null,{"$f":"IF(ISERROR(VLOOKUP(B412,database!$B$2:$C$6001,2,FALSE)),\"\",VLOOKUP(B412,database!$B$2:$C$6001,2,FALSE))","v":""},null,null,null,"",null,null,null,{"$f":"IF(ISERROR(VLOOKUP(B412,database!$B$2:$D$6001,3,FALSE)),\"\",VLOOKUP(B412,database!$B$2:$D$6001,3,FALSE))","v":""},null,null,null,null,null,null,"",null,null,0,null,1,"indip"]
["",null,{"$f":"IF(ISERROR(VLOOKUP(B413,database!$B$2:$C$6001,2,FALSE)),\"\",VLOOKUP(B413,database!$B$2:$C$6001,2,FALSE))","v":""},null,null,null,"",null,null,null,{"$f":"IF(ISERROR(VLOOKUP(B413,database!$B$2:$D$6001,3,FALSE)),\"\",VLOOKUP(B413,database!$B$2:$D$6001,3,FALSE))","v":""},null,null,null,null,null,null,"",null,null,0,null,1,"indip"]
["",null,{"$f":"IF(ISERROR(VLOOKUP(B414,database!$B$2:$C$6001,2,FALSE)),\"\",VLOOKUP(B414,database!$B$2:$C$6001,2,FALSE))","v":""},null,null,null,"",null,null,null,{"$f":"IF(ISERROR(VLOOKUP(B414,database!$B$2:$D$6001,3,FALSE)),\"\",VLOOKUP(B414,database!$B$2:$D$6001,3,FALSE))","v":""},null,null,null,null,null,null,"",null,null,0,null,1,"indip"]
["",null,{"$f":"IF(ISERROR(VLOOKUP(B415,database!$B$2:$C$6001,2,FALSE)),\"\",VLOOKUP(B415,database!$B$2:$C$6001,2,FALSE))","v":""},null,null,null,"",null,null,null,{"$f":"IF(ISERROR(VLOOKUP(B415,database!$B$2:$D$6001,3,FALSE)),\"\",VLOOKUP(B415,database!$B$2:$D$6001,3,FALSE))","v":""},null,null,null,null,null,null,"",null,null,0,null,1,"indip"]
["",null,{"$f":"IF(ISERROR(VLOOKUP(B416,database!$B$2:$C$6001,2,FALSE)),\"\",VLOOKUP(B416,database!$B$2:$C$6001,2,FALSE))","v":""},null,null,null,"",null,null,null,{"$f":"IF(ISERROR(VLOOKUP(B416,database!$B$2:$D$6001,3,FALSE)),\"\",VLOOKUP(B416,database!$B$2:$D$6001,3,FALSE))","v":""},null,null,null,null,null,null,"",null,null,0,null,1,"indip"]
["",null,{"$f":"IF(ISERROR(VLOOKUP(B417,database!$B$2:$C$6001,2,FALSE)),\"\",VLOOKUP(B417,database!$B$2:$C$6001,2,FALSE))","v":""},null,null,null,"",null,null,null,{"$f":"IF(ISERROR(VLOOKUP(B417,database!$B$2:$D$6001,3,FALSE)),\"\",VLOOKUP(B417,database!$B$2:$D$6001,3,FALSE))","v":""},null,null,null,null,null,null,"",null,null,0,null,1,"indip"]
["",null,{"$f":"IF(ISERROR(VLOOKUP(B418,database!$B$2:$C$6001,2,FALSE)),\"\",VLOOKUP(B418,database!$B$2:$C$6001,2,FALSE))","v":""},null,null,null,"",null,null,null,{"$f":"IF(ISERROR(VLOOKUP(B418,database!$B$2:$D$6001,3,FALSE)),\"\",VLOOKUP(B418,database!$B$2:$D$6001,3,FALSE))","v":""},null,null,null,null,null,null,"",null,null,0,null,1,"indip"]
["",null,{"$f":"IF(ISERROR(VLOOKUP(B419,database!$B$2:$C$6001,2,FALSE)),\"\",VLOOKUP(B419,database!$B$2:$C$6001,2,FALSE))","v":""},null,null,null,"",null,null,null,{"$f":"IF(ISERROR(VLOOKUP(B419,database!$B$2:$D$6001,3,FALSE)),\"\",VLOOKUP(B419,database!$B$2:$D$6001,3,FALSE))","v":""},null,null,null,null,null,null,"",null,null,0,null,1,"indip"]
["",null,{"$f":"IF(ISERROR(VLOOKUP(B420,database!$B$2:$C$6001,2,FALSE)),\"\",VLOOKUP(B420,database!$B$2:$C$6001,2,FALSE))","v":""},null,null,null,"",null,null,null,{"$f":"IF(ISERROR(VLOOKUP(B420,database!$B$2:$D$6001,3,FALSE)),\"\",VLOOKUP(B420,database!$B$2:$D$6001,3,FALSE))","v":""},null,null,null,null,null,null,"",null,null,0,null,1,"indip"]
["",null,{"$f":"IF(ISERROR(VLOOKUP(B421,database!$B$2:$C$6001,2,FALSE)),\"\",VLOOKUP(B421,database!$B$2:$C$6001,2,FALSE))","v":""},null,null,null,"",null,null,null,{"$f":"IF(ISERROR(VLOOKUP(B421,database!$B$2:$D$6001,3,FALSE)),\"\",VLOOKUP(B421,database!$B$2:$D$6001,3,FALSE))","v":""},null,null,null,null,null,null,"",null,null,0,null,1,"indip"]
["",null,{"$f":"IF(ISERROR(VLOOKUP(B422,database!$B$2:$C$6001,2,FALSE)),\"\",VLOOKUP(B422,database!$B$2:$C$6001,2,FALSE))","v":""},null,null,null,"",null,null,null,{"$f":"IF(ISERROR(VLOOKUP(B422,database!$B$2:$D$6001,3,FALSE)),\"\",VLOOKUP(B422,database!$B$2:$D$6001,3,FALSE))","v":""},null,null,null,null,null,null,"",null,null,0,null,1,"indip"]
["",null,{"$f":"IF(ISERROR(VLOOKUP(B423,database!$B$2:$C$6001,2,FALSE)),\"\",VLOOKUP(B423,database!$B$2:$C$6001,2,FALSE))","v":""},null,null,null,"",null,null,null,{"$f":"IF(ISERROR(VLOOKUP(B423,database!$B$2:$D$6001,3,FALSE)),\"\",VLOOKUP(B423,database!$B$2:$D$6001,3,FALSE))","v":""},null,null,null,null,null,null,"",null,null,0,null,1,"indip"]
["",null,{"$f":"IF(ISERROR(VLOOKUP(B424,database!$B$2:$C$6001,2,FALSE)),\"\",VLOOKUP(B424,database!$B$2:$C$6001,2,FALSE))","v":""},null,null,null,"",null,null,null,{"$f":"IF(ISERROR(VLOOKUP(B424,database!$B$2:$D$6001,3,FALSE)),\"\",VLOOKUP(B424,database!$B$2:$D$6001,3,FALSE))","v":""},null,null,null,null,null,null,"",null,null,0,null,1,"indip"]
["",null,{"$f":"IF(ISERROR(VLOOKUP(B425,database!$B$2:$C$6001,2,FALSE)),\"\",VLOOKUP(B425,database!$B$2:$C$6001,2,FALSE))","v":""},null,null,null,"",null,null,null,{"$f":"IF(ISERROR(VLOOKUP(B425,database!$B$2:$D$6001,3,FALSE)),\"\",VLOOKUP(B425,database!$B$2:$D$6001,3,FALSE))","v":""},null,null,null,null,null,null,"",null,null,0,null,1,"indip"]
["",null,{"$f":"IF(ISERROR(VLOOKUP(B426,database!$B$2:$C$6001,2,FALSE)),\"\",VLOOKUP(B426,database!$B$2:$C$6001,2,FALSE))","v":""},null,null,null,"",null,null,null,{"$f":"IF(ISERROR(VLOOKUP(B426,database!$B$2:$D$6001,3,FALSE)),\"\",VLOOKUP(B426,database!$B$2:$D$6001,3,FALSE))","v":""},null,null,null,null,null,null,"",null,null,0,null,1,"indip"]
["",null,{"$f":"IF(ISERROR(VLOOKUP(B427,database!$B$2:$C$6001,2,FALSE)),\"\",VLOOKUP(B427,database!$B$2:$C$6001,2,FALSE))","v":""},null,null,null,"",null,null,null,{"$f":"IF(ISERROR(VLOOKUP(B427,database!$B$2:$D$6001,3,FALSE)),\"\",VLOOKUP(B427,database!$B$2:$D$6001,3,FALSE))","v":""},null,null,null,null,null,null,"",null,null,0,null,1,"indip"]
["",null,{"$f":"IF(ISERROR(VLOOKUP(B428,database!$B$2:$C$6001,2,FALSE)),\"\",VLOOKUP(B428,database!$B$2:$C$6001,2,FALSE))","v":""},null,null,null,"",null,null,null,{"$f":"IF(ISERROR(VLOOKUP(B428,database!$B$2:$D$6001,3,FALSE)),\"\",VLOOKUP(B428,database!$B$2:$D$6001,3,FALSE))","v":""},null,null,null,null,null,null,"",null,null,0,null,1,"indip"]
["",null,{"$f":"IF(ISERROR(VLOOKUP(B429,database!$B$2:$C$6001,2,FALSE)),\"\",VLOOKUP(B429,database!$B$2:$C$6001,2,FALSE))","v":""},null,null,null,"",null,null,null,{"$f":"IF(ISERROR(VLOOKUP(B429,database!$B$2:$D$6001,3,FALSE)),\"\",VLOOKUP(B429,database!$B$2:$D$6001,3,FALSE))","v":""},null,null,null,null,null,null,"",null,null,0,null,1,"indip"]
["",null,{"$f":"IF(ISERROR(VLOOKUP(B430,database!$B$2:$C$6001,2,FALSE)),\"\",VLOOKUP(B430,database!$B$2:$C$6001,2,FALSE))","v":""},null,null,null,"",null,null,null,{"$f":"IF(ISERROR(VLOOKUP(B430,database!$B$2:$D$6001,3,FALSE)),\"\",VLOOKUP(B430,database!$B$2:$D$6001,3,FALSE))","v":""},null,null,null,null,null,null,"",null,null,0,null,1,"indip"]
["",null,{"$f":"IF(ISERROR(VLOOKUP(B431,database!$B$2:$C$6001,2,FALSE)),\"\",VLOOKUP(B431,database!$B$2:$C$6001,2,FALSE))","v":""},null,null,null,"",null,null,null,{"$f":"IF(ISERROR(VLOOKUP(B431,database!$B$2:$D$6001,3,FALSE)),\"\",VLOOKUP(B431,database!$B$2:$D$6001,3,FALSE))","v":""},null,null,null,null,null,null,"",null,null,0,null,1,"indip"]
["",null,{"$f":"IF(ISERROR(VLOOKUP(B432,database!$B$2:$C$6001,2,FALSE)),\"\",VLOOKUP(B432,database!$B$2:$C$6001,2,FALSE))","v":""},null,null,null,"",null,null,null,{"$f":"IF(ISERROR(VLOOKUP(B432,database!$B$2:$D$6001,3,FALSE)),\"\",VLOOKUP(B432,database!$B$2:$D$6001,3,FALSE))","v":""},null,null,null,null,null,null,"",null,null,0,null,1,"indip"]
["",null,{"$f":"IF(ISERROR(VLOOKUP(B433,database!$B$2:$C$6001,2,FALSE)),\"\",VLOOKUP(B433,database!$B$2:$C$6001,2,FALSE))","v":""},null,null,null,"",null,null,null,{"$f":"IF(ISERROR(VLOOKUP(B433,database!$B$2:$D$6001,3,FALSE)),\"\",VLOOKUP(B433,database!$B$2:$D$6001,3,FALSE))","v":""},null,null,null,null,null,null,"",null,null,0,null,1,"indip"]
["",null,{"$f":"IF(ISERROR(VLOOKUP(B434,database!$B$2:$C$6001,2,FALSE)),\"\",VLOOKUP(B434,database!$B$2:$C$6001,2,FALSE))","v":""},null,null,null,"",null,null,null,{"$f":"IF(ISERROR(VLOOKUP(B434,database!$B$2:$D$6001,3,FALSE)),\"\",VLOOKUP(B434,database!$B$2:$D$6001,3,FALSE))","v":""},null,null,null,null,null,null,"",null,null,0,null,1,"indip"]
["",null,{"$f":"IF(ISERROR(VLOOKUP(B435,database!$B$2:$C$6001,2,FALSE)),\"\",VLOOKUP(B435,database!$B$2:$C$6001,2,FALSE))","v":""},null,null,null,"",null,null,null,{"$f":"IF(ISERROR(VLOOKUP(B435,database!$B$2:$D$6001,3,FALSE)),\"\",VLOOKUP(B435,database!$B$2:$D$6001,3,FALSE))","v":""},null,null,null,null,null,null,"",null,null,0,null,1,"indip"]
["",null,{"$f":"IF(ISERROR(VLOOKUP(B436,database!$B$2:$C$6001,2,FALSE)),\"\",VLOOKUP(B436,database!$B$2:$C$6001,2,FALSE))","v":""},null,null,null,"",null,null,null,{"$f":"IF(ISERROR(VLOOKUP(B436,database!$B$2:$D$6001,3,FALSE)),\"\",VLOOKUP(B436,database!$B$2:$D$6001,3,FALSE))","v":""},null,null,null,null,null,null,"",null,null,0,null,1,"indip"]
["",null,{"$f":"IF(ISERROR(VLOOKUP(B437,database!$B$2:$C$6001,2,FALSE)),\"\",VLOOKUP(B437,database!$B$2:$C$6001,2,FALSE))","v":""},null,null,null,"",null,null,null,{"$f":"IF(ISERROR(VLOOKUP(B437,database!$B$2:$D$6001,3,FALSE)),\"\",VLOOKUP(B437,database!$B$2:$D$6001,3,FALSE))","v":""},null,null,null,null,null,null,"",null,null,0,null,1,"indip"]
["",null,{"$f":"IF(ISERROR(VLOOKUP(B438,database!$B$2:$C$6001,2,FALSE)),\"\",VLOOKUP(B438,database!$B$2:$C$6001,2,FALSE))","v":""},null,null,null,"",null,null,null,{"$f":"IF(ISERROR(VLOOKUP(B438,database!$B$2:$D$6001,3,FALSE)),\"\",VLOOKUP(B438,database!$B$2:$D$6001,3,FALSE))","v":""},null,null,null,null,null,null,"",null,null,0,null,1,"indip"]
["",null,{"$f":"IF(ISERROR(VLOOKUP(B439,database!$B$2:$C$6001,2,FALSE)),\"\",VLOOKUP(B439,database!$B$2:$C$6001,2,FALSE))","v":""},null,null,null,"",null,null,null,{"$f":"IF(ISERROR(VLOOKUP(B439,database!$B$2:$D$6001,3,FALSE)),\"\",VLOOKUP(B439,database!$B$2:$D$6001,3,FALSE))","v":""},null,null,null,null,null,null,"",null,null,0,null,1,"indip"]
["",null,{"$f":"IF(ISERROR(VLOOKUP(B440,database!$B$2:$C$6001,2,FALSE)),\"\",VLOOKUP(B440,database!$B$2:$C$6001,2,FALSE))","v":""},null,null,null,"",null,null,null,{"$f":"IF(ISERROR(VLOOKUP(B440,database!$B$2:$D$6001,3,FALSE)),\"\",VLOOKUP(B440,database!$B$2:$D$6001,3,FALSE))","v":""},null,null,null,null,null,null,"",null,null,0,null,1,"indip"]
["",null,{"$f":"IF(ISERROR(VLOOKUP(B441,database!$B$2:$C$6001,2,FALSE)),\"\",VLOOKUP(B441,database!$B$2:$C$6001,2,FALSE))","v":""},null,null,null,"",null,null,null,{"$f":"IF(ISERROR(VLOOKUP(B441,database!$B$2:$D$6001,3,FALSE)),\"\",VLOOKUP(B441,database!$B$2:$D$6001,3,FALSE))","v":""},null,null,null,null,null,null,"",null,null,0,null,1,"indip"]
["",null,{"$f":"IF(ISERROR(VLOOKUP(B442,database!$B$2:$C$6001,2,FALSE)),\"\",VLOOKUP(B442,database!$B$2:$C$6001,2,FALSE))","v":""},null,null,null,"",null,null,null,{"$f":"IF(ISERROR(VLOOKUP(B442,database!$B$2:$D$6001,3,FALSE)),\"\",VLOOKUP(B442,database!$B$2:$D$6001,3,FALSE))","v":""},null,null,null,null,null,null,"",null,null,0,null,1,"indip"]
["",null,{"$f":"IF(ISERROR(VLOOKUP(B443,database!$B$2:$C$6001,2,FALSE)),\"\",VLOOKUP(B443,database!$B$2:$C$6001,2,FALSE))","v":""},null,null,null,"",null,null,null,{"$f":"IF(ISERROR(VLOOKUP(B443,database!$B$2:$D$6001,3,FALSE)),\"\",VLOOKUP(B443,database!$B$2:$D$6001,3,FALSE))","v":""},null,null,null,null,null,null,"",null,null,0,null,1,"indip"]
["",null,{"$f":"IF(ISERROR(VLOOKUP(B444,database!$B$2:$C$6001,2,FALSE)),\"\",VLOOKUP(B444,database!$B$2:$C$6001,2,FALSE))","v":""},null,null,null,"",null,null,null,{"$f":"IF(ISERROR(VLOOKUP(B444,database!$B$2:$D$6001,3,FALSE)),\"\",VLOOKUP(B444,database!$B$2:$D$6001,3,FALSE))","v":""},null,null,null,null,null,null,"",null,null,0,null,1,"indip"]
["",null,{"$f":"IF(ISERROR(VLOOKUP(B445,database!$B$2:$C$6001,2,FALSE)),\"\",VLOOKUP(B445,database!$B$2:$C$6001,2,FALSE))","v":""},null,null,null,"",null,null,null,{"$f":"IF(ISERROR(VLOOKUP(B445,database!$B$2:$D$6001,3,FALSE)),\"\",VLOOKUP(B445,database!$B$2:$D$6001,3,FALSE))","v":""},null,null,null,null,null,null,"",null,null,0,null,1,"indip"]
["",null,{"$f":"IF(ISERROR(VLOOKUP(B446,database!$B$2:$C$6001,2,FALSE)),\"\",VLOOKUP(B446,database!$B$2:$C$6001,2,FALSE))","v":""},null,null,null,"",null,null,null,{"$f":"IF(ISERROR(VLOOKUP(B446,database!$B$2:$D$6001,3,FALSE)),\"\",VLOOKUP(B446,database!$B$2:$D$6001,3,FALSE))","v":""},null,null,null,null,null,null,"",null,null,0,null,1,"indip"]
["",null,{"$f":"IF(ISERROR(VLOOKUP(B447,database!$B$2:$C$6001,2,FALSE)),\"\",VLOOKUP(B447,database!$B$2:$C$6001,2,FALSE))","v":""},null,null,null,"",null,null,null,{"$f":"IF(ISERROR(VLOOKUP(B447,database!$B$2:$D$6001,3,FALSE)),\"\",VLOOKUP(B447,database!$B$2:$D$6001,3,FALSE))","v":""},null,null,null,null,null,null,"",null,null,0,null,1,"indip"]
["",null,{"$f":"IF(ISERROR(VLOOKUP(B448,database!$B$2:$C$6001,2,FALSE)),\"\",VLOOKUP(B448,database!$B$2:$C$6001,2,FALSE))","v":""},null,null,null,"",null,null,null,{"$f":"IF(ISERROR(VLOOKUP(B448,database!$B$2:$D$6001,3,FALSE)),\"\",VLOOKUP(B448,database!$B$2:$D$6001,3,FALSE))","v":""},null,null,null,null,null,null,"",null,null,0,null,1,"indip"]
["",null,{"$f":"IF(ISERROR(VLOOKUP(B449,database!$B$2:$C$6001,2,FALSE)),\"\",VLOOKUP(B449,database!$B$2:$C$6001,2,FALSE))","v":""},null,null,null,"",null,null,null,{"$f":"IF(ISERROR(VLOOKUP(B449,database!$B$2:$D$6001,3,FALSE)),\"\",VLOOKUP(B449,database!$B$2:$D$6001,3,FALSE))","v":""},null,null,null,null,null,null,"",null,null,0,null,1,"indip"]
["",null,{"$f":"IF(ISERROR(VLOOKUP(B450,database!$B$2:$C$6001,2,FALSE)),\"\",VLOOKUP(B450,database!$B$2:$C$6001,2,FALSE))","v":""},null,null,null,"",null,null,null,{"$f":"IF(ISERROR(VLOOKUP(B450,database!$B$2:$D$6001,3,FALSE)),\"\",VLOOKUP(B450,database!$B$2:$D$6001,3,FALSE))","v":""},null,null,null,null,null,null,"",null,null,0,null,1,"indip"]
["",null,{"$f":"IF(ISERROR(VLOOKUP(B451,database!$B$2:$C$6001,2,FALSE)),\"\",VLOOKUP(B451,database!$B$2:$C$6001,2,FALSE))","v":""},null,null,null,"",null,null,null,{"$f":"IF(ISERROR(VLOOKUP(B451,database!$B$2:$D$6001,3,FALSE)),\"\",VLOOKUP(B451,database!$B$2:$D$6001,3,FALSE))","v":""},null,null,null,null,null,null,"",null,null,0,null,1,"indip"]
["",null,{"$f":"IF(ISERROR(VLOOKUP(B452,database!$B$2:$C$6001,2,FALSE)),\"\",VLOOKUP(B452,database!$B$2:$C$6001,2,FALSE))","v":""},null,null,null,"",null,null,null,{"$f":"IF(ISERROR(VLOOKUP(B452,database!$B$2:$D$6001,3,FALSE)),\"\",VLOOKUP(B452,database!$B$2:$D$6001,3,FALSE))","v":""},null,null,null,null,null,null,"",null,null,{"$f":"IFERROR(INDEX(M$39:N$140,MATCH(B452,M$39:M$140,0),2),0)","v":0},null,{"$f":"IF(AND(U452=0,C452=\"\"),1,2)","v":1},{"$f":"IF(B452=\"-\",\"\",IF(OR(B452=M$39,B452=M$40,B452=M$41,B452=M$42,B452=M$43,B452=M$44,B452=M$45,B452=M$46,B452=M$47,,B452=M$50,B452=M$51,B452=M$52,B452=M$53,B452=M$54,B452=M$55,B452=M$56,B452=M$57,B452=M$70),\"\",IF(C452=\"\",\"indip\",F452)))","v":"indip"}]
[{"$f":"IF(B453=\"\",\"\",ROW(A450))","v":""},null,{"$f":"IF(ISERROR(VLOOKUP(B453,database!$B$2:$C$6001,2,FALSE)),\"\",VLOOKUP(B453,database!$B$2:$C$6001,2,FALSE))","v":""},null,null,null,{"$f":"IF(B453=\"\",\"\",IF(B453=\"-\",0,IF(W453=1,1,IF(AND(U453=0,F453=\"SSB\"),2,IF(AND(U453=0,F453=\"DIGI\"),3,IF(AND(U453=0,F453=\"CW\"),5,U453))))))","v":""},null,null,null,{"$f":"IF(ISERROR(VLOOKUP(B453,database!$B$2:$D$6001,3,FALSE)),\"\",VLOOKUP(B453,database!$B$2:$D$6001,3,FALSE))","v":""},null,null,null,null,null,null,{"$f":"LEFT(C453,2)","v":""},null,null,0,null,1,"indip"]
["",null,{"$f":"IF(ISERROR(VLOOKUP(B454,database!$B$2:$C$6001,2,FALSE)),\"\",VLOOKUP(B454,database!$B$2:$C$6001,2,FALSE))","v":""},null,null,null,"",null,null,null,{"$f":"IF(ISERROR(VLOOKUP(B454,database!$B$2:$D$6001,3,FALSE)),\"\",VLOOKUP(B454,database!$B$2:$D$6001,3,FALSE))","v":""},null,null,null,null,null,null,"",null,null,0,null,1,"indip"]
["",null,{"$f":"IF(ISERROR(VLOOKUP(B455,database!$B$2:$C$6001,2,FALSE)),\"\",VLOOKUP(B455,database!$B$2:$C$6001,2,FALSE))","v":""},null,null,null,"",null,null,null,{"$f":"IF(ISERROR(VLOOKUP(B455,database!$B$2:$D$6001,3,FALSE)),\"\",VLOOKUP(B455,database!$B$2:$D$6001,3,FALSE))","v":""},null,null,null,null,null,null,"",null,null,0,null,1,"indip"]
["",null,{"$f":"IF(ISERROR(VLOOKUP(B456,database!$B$2:$C$6001,2,FALSE)),\"\",VLOOKUP(B456,database!$B$2:$C$6001,2,FALSE))","v":""},null,null,null,"",null,null,null,{"$f":"IF(ISERROR(VLOOKUP(B456,database!$B$2:$D$6001,3,FALSE)),\"\",VLOOKUP(B456,database!$B$2:$D$6001,3,FALSE))","v":""},null,null,null,null,null,null,"",null,null,0,null,1,"indip"]
["",null,{"$f":"IF(ISERROR(VLOOKUP(B457,database!$B$2:$C$6001,2,FALSE)),\"\",VLOOKUP(B457,database!$B$2:$C$6001,2,FALSE))","v":""},null,null,null,"",null,null,null,{"$f":"IF(ISERROR(VLOOKUP(B457,database!$B$2:$D$6001,3,FALSE)),\"\",VLOOKUP(B457,database!$B$2:$D$6001,3,FALSE))","v":""},null,null,null,null,null,null,"",null,null,0,null,1,"indip"]
["",null,{"$f":"IF(ISERROR(VLOOKUP(B458,database!$B$2:$C$6001,2,FALSE)),\"\",VLOOKUP(B458,database!$B$2:$C$6001,2,FALSE))","v":""},null,null,null,"",null,null,null,{"$f":"IF(ISERROR(VLOOKUP(B458,database!$B$2:$D$6001,3,FALSE)),\"\",VLOOKUP(B458,database!$B$2:$D$6001,3,FALSE))","v":""},null,null,null,null,null,null,"",null,null,0,null,1,"indip"]
["",null,{"$f":"IF(ISERROR(VLOOKUP(B459,database!$B$2:$C$6001,2,FALSE)),\"\",VLOOKUP(B459,database!$B$2:$C$6001,2,FALSE))","v":""},null,null,null,"",null,null,null,{"$f":"IF(ISERROR(VLOOKUP(B459,database!$B$2:$D$6001,3,FALSE)),\"\",VLOOKUP(B459,database!$B$2:$D$6001,3,FALSE))","v":""},null,null,null,null,null,null,"",null,null,0,null,1,"indip"]
["",null,{"$f":"IF(ISERROR(VLOOKUP(B460,database!$B$2:$C$6001,2,FALSE)),\"\",VLOOKUP(B460,database!$B$2:$C$6001,2,FALSE))","v":""},null,null,null,"",null,null,null,{"$f":"IF(ISERROR(VLOOKUP(B460,database!$B$2:$D$6001,3,FALSE)),\"\",VLOOKUP(B460,database!$B$2:$D$6001,3,FALSE))","v":""},null,null,null,null,null,null,"",null,null,0,null,1,"indip"]
["",null,{"$f":"IF(ISERROR(VLOOKUP(B461,database!$B$2:$C$6001,2,FALSE)),\"\",VLOOKUP(B461,database!$B$2:$C$6001,2,FALSE))","v":""},null,null,null,"",null,null,null,{"$f":"IF(ISERROR(VLOOKUP(B461,database!$B$2:$D$6001,3,FALSE)),\"\",VLOOKUP(B461,database!$B$2:$D$6001,3,FALSE))","v":""},null,null,null,null,null,null,"",null,null,0,null,1,"indip"]
["",null,{"$f":"IF(ISERROR(VLOOKUP(B462,database!$B$2:$C$6001,2,FALSE)),\"\",VLOOKUP(B462,database!$B$2:$C$6001,2,FALSE))","v":""},null,null,null,"",null,null,null,{"$f":"IF(ISERROR(VLOOKUP(B462,database!$B$2:$D$6001,3,FALSE)),\"\",VLOOKUP(B462,database!$B$2:$D$6001,3,FALSE))","v":""},null,null,null,null,null,null,"",null,null,0,null,1,"indip"]
["",null,{"$f":"IF(ISERROR(VLOOKUP(B463,database!$B$2:$C$6001,2,FALSE)),\"\",VLOOKUP(B463,database!$B$2:$C$6001,2,FALSE))","v":""},null,null,null,"",null,null,null,{"$f":"IF(ISERROR(VLOOKUP(B463,database!$B$2:$D$6001,3,FALSE)),\"\",VLOOKUP(B463,database!$B$2:$D$6001,3,FALSE))","v":""},null,null,null,null,null,null,"",null,null,0,null,1,"indip"]
["",null,{"$f":"IF(ISERROR(VLOOKUP(B464,database!$B$2:$C$6001,2,FALSE)),\"\",VLOOKUP(B464,database!$B$2:$C$6001,2,FALSE))","v":""},null,null,null,"",null,null,null,{"$f":"IF(ISERROR(VLOOKUP(B464,database!$B$2:$D$6001,3,FALSE)),\"\",VLOOKUP(B464,database!$B$2:$D$6001,3,FALSE))","v":""},null,null,null,null,null,null,"",null,null,0,null,1,"indip"]
["",null,{"$f":"IF(ISERROR(VLOOKUP(B465,database!$B$2:$C$6001,2,FALSE)),\"\",VLOOKUP(B465,database!$B$2:$C$6001,2,FALSE))","v":""},null,null,null,"",null,null,null,{"$f":"IF(ISERROR(VLOOKUP(B465,database!$B$2:$D$6001,3,FALSE)),\"\",VLOOKUP(B465,database!$B$2:$D$6001,3,FALSE))","v":""},null,null,null,null,null,null,"",null,null,0,null,1,"indip"]
["",null,{"$f":"IF(ISERROR(VLOOKUP(B466,database!$B$2:$C$6001,2,FALSE)),\"\",VLOOKUP(B466,database!$B$2:$C$6001,2,FALSE))","v":""},null,null,null,"",null,null,null,{"$f":"IF(ISERROR(VLOOKUP(B466,database!$B$2:$D$6001,3,FALSE)),\"\",VLOOKUP(B466,database!$B$2:$D$6001,3,FALSE))","v":""},null,null,null,null,null,null,"",null,null,0,null,1,"indip"]
["",null,{"$f":"IF(ISERROR(VLOOKUP(B467,database!$B$2:$C$6001,2,FALSE)),\"\",VLOOKUP(B467,database!$B$2:$C$6001,2,FALSE))","v":""},null,null,null,"",null,null,null,{"$f":"IF(ISERROR(VLOOKUP(B467,database!$B$2:$D$6001,3,FALSE)),\"\",VLOOKUP(B467,database!$B$2:$D$6001,3,FALSE))","v":""},null,null,null,null,null,null,"",null,null,0,null,1,"indip"]
["",null,{"$f":"IF(ISERROR(VLOOKUP(B468,database!$B$2:$C$6001,2,FALSE)),\"\",VLOOKUP(B468,database!$B$2:$C$6001,2,FALSE))","v":""},null,null,null,"",null,null,null,{"$f":"IF(ISERROR(VLOOKUP(B468,database!$B$2:$D$6001,3,FALSE)),\"\",VLOOKUP(B468,database!$B$2:$D$6001,3,FALSE))","v":""},null,null,null,null,null,null,"",null,null,0,null,1,"indip"]
["",null,{"$f":"IF(ISERROR(VLOOKUP(B469,database!$B$2:$C$6001,2,FALSE)),\"\",VLOOKUP(B469,database!$B$2:$C$6001,2,FALSE))","v":""},null,null,null,"",null,null,null,{"$f":"IF(ISERROR(VLOOKUP(B469,database!$B$2:$D$6001,3,FALSE)),\"\",VLOOKUP(B469,database!$B$2:$D$6001,3,FALSE))","v":""},null,null,null,null,null,null,"",null,null,0,null,1,"indip"]
["",null,{"$f":"IF(ISERROR(VLOOKUP(B470,database!$B$2:$C$6001,2,FALSE)),\"\",VLOOKUP(B470,database!$B$2:$C$6001,2,FALSE))","v":""},null,null,null,"",null,null,null,{"$f":"IF(ISERROR(VLOOKUP(B470,database!$B$2:$D$6001,3,FALSE)),\"\",VLOOKUP(B470,database!$B$2:$D$6001,3,FALSE))","v":""},null,null,null,null,null,null,"",null,null,0,null,1,"indip"]
["",null,{"$f":"IF(ISERROR(VLOOKUP(B471,database!$B$2:$C$6001,2,FALSE)),\"\",VLOOKUP(B471,database!$B$2:$C$6001,2,FALSE))","v":""},null,null,null,"",null,null,null,{"$f":"IF(ISERROR(VLOOKUP(B471,database!$B$2:$D$6001,3,FALSE)),\"\",VLOOKUP(B471,database!$B$2:$D$6001,3,FALSE))","v":""},null,null,null,null,null,null,"",null,null,0,null,1,"indip"]
["",null,{"$f":"IF(ISERROR(VLOOKUP(B472,database!$B$2:$C$6001,2,FALSE)),\"\",VLOOKUP(B472,database!$B$2:$C$6001,2,FALSE))","v":""},null,null,null,"",null,null,null,{"$f":"IF(ISERROR(VLOOKUP(B472,database!$B$2:$D$6001,3,FALSE)),\"\",VLOOKUP(B472,database!$B$2:$D$6001,3,FALSE))","v":""},null,null,null,null,null,null,"",null,null,0,null,1,"indip"]
["",null,{"$f":"IF(ISERROR(VLOOKUP(B473,database!$B$2:$C$6001,2,FALSE)),\"\",VLOOKUP(B473,database!$B$2:$C$6001,2,FALSE))","v":""},null,null,null,"",null,null,null,{"$f":"IF(ISERROR(VLOOKUP(B473,database!$B$2:$D$6001,3,FALSE)),\"\",VLOOKUP(B473,database!$B$2:$D$6001,3,FALSE))","v":""},null,null,null,null,null,null,"",null,null,0,null,1,"indip"]
["",null,{"$f":"IF(ISERROR(VLOOKUP(B474,database!$B$2:$C$6001,2,FALSE)),\"\",VLOOKUP(B474,database!$B$2:$C$6001,2,FALSE))","v":""},null,null,null,"",null,null,null,{"$f":"IF(ISERROR(VLOOKUP(B474,database!$B$2:$D$6001,3,FALSE)),\"\",VLOOKUP(B474,database!$B$2:$D$6001,3,FALSE))","v":""},null,null,null,null,null,null,"",null,null,0,null,1,"indip"]
["",null,{"$f":"IF(ISERROR(VLOOKUP(B475,database!$B$2:$C$6001,2,FALSE)),\"\",VLOOKUP(B475,database!$B$2:$C$6001,2,FALSE))","v":""},null,null,null,"",null,null,null,{"$f":"IF(ISERROR(VLOOKUP(B475,database!$B$2:$D$6001,3,FALSE)),\"\",VLOOKUP(B475,database!$B$2:$D$6001,3,FALSE))","v":""},null,null,null,null,null,null,"",null,null,0,null,1,"indip"]
["",null,{"$f":"IF(ISERROR(VLOOKUP(B476,database!$B$2:$C$6001,2,FALSE)),\"\",VLOOKUP(B476,database!$B$2:$C$6001,2,FALSE))","v":""},null,null,null,"",null,null,null,{"$f":"IF(ISERROR(VLOOKUP(B476,database!$B$2:$D$6001,3,FALSE)),\"\",VLOOKUP(B476,database!$B$2:$D$6001,3,FALSE))","v":""},null,null,null,null,null,null,"",null,null,0,null,1,"indip"]
["",null,{"$f":"IF(ISERROR(VLOOKUP(B477,database!$B$2:$C$6001,2,FALSE)),\"\",VLOOKUP(B477,database!$B$2:$C$6001,2,FALSE))","v":""},null,null,null,"",null,null,null,{"$f":"IF(ISERROR(VLOOKUP(B477,database!$B$2:$D$6001,3,FALSE)),\"\",VLOOKUP(B477,database!$B$2:$D$6001,3,FALSE))","v":""},null,null,null,null,null,null,"",null,null,0,null,1,"indip"]
["",null,{"$f":"IF(ISERROR(VLOOKUP(B478,database!$B$2:$C$6001,2,FALSE)),\"\",VLOOKUP(B478,database!$B$2:$C$6001,2,FALSE))","v":""},null,null,null,"",null,null,null,{"$f":"IF(ISERROR(VLOOKUP(B478,database!$B$2:$D$6001,3,FALSE)),\"\",VLOOKUP(B478,database!$B$2:$D$6001,3,FALSE))","v":""},null,null,null,null,null,null,"",null,null,0,null,1,"indip"]
["",null,{"$f":"IF(ISERROR(VLOOKUP(B479,database!$B$2:$C$6001,2,FALSE)),\"\",VLOOKUP(B479,database!$B$2:$C$6001,2,FALSE))","v":""},null,null,null,"",null,null,null,{"$f":"IF(ISERROR(VLOOKUP(B479,database!$B$2:$D$6001,3,FALSE)),\"\",VLOOKUP(B479,database!$B$2:$D$6001,3,FALSE))","v":""},null,null,null,null,null,null,"",null,null,0,null,1,"indip"]
["",null,{"$f":"IF(ISERROR(VLOOKUP(B480,database!$B$2:$C$6001,2,FALSE)),\"\",VLOOKUP(B480,database!$B$2:$C$6001,2,FALSE))","v":""},null,null,null,"",null,null,null,{"$f":"IF(ISERROR(VLOOKUP(B480,database!$B$2:$D$6001,3,FALSE)),\"\",VLOOKUP(B480,database!$B$2:$D$6001,3,FALSE))","v":""},null,null,null,null,null,null,"",null,null,0,null,1,"indip"]
["",null,{"$f":"IF(ISERROR(VLOOKUP(B481,database!$B$2:$C$6001,2,FALSE)),\"\",VLOOKUP(B481,database!$B$2:$C$6001,2,FALSE))","v":""},null,null,null,"",null,null,null,{"$f":"IF(ISERROR(VLOOKUP(B481,database!$B$2:$D$6001,3,FALSE)),\"\",VLOOKUP(B481,database!$B$2:$D$6001,3,FALSE))","v":""},null,null,null,null,null,null,"",null,null,0,null,1,"indip"]
["",null,{"$f":"IF(ISERROR(VLOOKUP(B482,database!$B$2:$C$6001,2,FALSE)),\"\",VLOOKUP(B482,database!$B$2:$C$6001,2,FALSE))","v":""},null,null,null,"",null,null,null,{"$f":"IF(ISERROR(VLOOKUP(B482,database!$B$2:$D$6001,3,FALSE)),\"\",VLOOKUP(B482,database!$B$2:$D$6001,3,FALSE))","v":""},null,null,null,null,null,null,"",null,null,0,null,1,"indip"]
["",null,{"$f":"IF(ISERROR(VLOOKUP(B483,database!$B$2:$C$6001,2,FALSE)),\"\",VLOOKUP(B483,database!$B$2:$C$6001,2,FALSE))","v":""},null,null,null,"",null,null,null,{"$f":"IF(ISERROR(VLOOKUP(B483,database!$B$2:$D$6001,3,FALSE)),\"\",VLOOKUP(B483,database!$B$2:$D$6001,3,FALSE))","v":""},null,null,null,null,null,null,"",null,null,0,null,1,"indip"]
["",null,{"$f":"IF(ISERROR(VLOOKUP(B484,database!$B$2:$C$6001,2,FALSE)),\"\",VLOOKUP(B484,database!$B$2:$C$6001,2,FALSE))","v":""},null,null,null,"",null,null,null,{"$f":"IF(ISERROR(VLOOKUP(B484,database!$B$2:$D$6001,3,FALSE)),\"\",VLOOKUP(B484,database!$B$2:$D$6001,3,FALSE))","v":""},null,null,null,null,null,null,"",null,null,0,null,1,"indip"]
["",null,{"$f":"IF(ISERROR(VLOOKUP(B485,database!$B$2:$C$6001,2,FALSE)),\"\",VLOOKUP(B485,database!$B$2:$C$6001,2,FALSE))","v":""},null,null,null,"",null,null,null,{"$f":"IF(ISERROR(VLOOKUP(B485,database!$B$2:$D$6001,3,FALSE)),\"\",VLOOKUP(B485,database!$B$2:$D$6001,3,FALSE))","v":""},null,null,null,null,null,null,"",null,null,0,null,1,"indip"]
["",null,{"$f":"IF(ISERROR(VLOOKUP(B486,database!$B$2:$C$6001,2,FALSE)),\"\",VLOOKUP(B486,database!$B$2:$C$6001,2,FALSE))","v":""},null,null,null,"",null,null,null,{"$f":"IF(ISERROR(VLOOKUP(B486,database!$B$2:$D$6001,3,FALSE)),\"\",VLOOKUP(B486,database!$B$2:$D$6001,3,FALSE))","v":""},null,null,null,null,null,null,"",null,null,0,null,1,"indip"]
["",null,{"$f":"IF(ISERROR(VLOOKUP(B487,database!$B$2:$C$6001,2,FALSE)),\"\",VLOOKUP(B487,database!$B$2:$C$6001,2,FALSE))","v":""},null,null,null,"",null,null,null,{"$f":"IF(ISERROR(VLOOKUP(B487,database!$B$2:$D$6001,3,FALSE)),\"\",VLOOKUP(B487,database!$B$2:$D$6001,3,FALSE))","v":""},null,null,null,null,null,null,"",null,null,0,null,1,"indip"]
["",null,{"$f":"IF(ISERROR(VLOOKUP(B488,database!$B$2:$C$6001,2,FALSE)),\"\",VLOOKUP(B488,database!$B$2:$C$6001,2,FALSE))","v":""},null,null,null,"",null,null,null,{"$f":"IF(ISERROR(VLOOKUP(B488,database!$B$2:$D$6001,3,FALSE)),\"\",VLOOKUP(B488,database!$B$2:$D$6001,3,FALSE))","v":""},null,null,null,null,null,null,"",null,null,0,null,1,"indip"]
["",null,{"$f":"IF(ISERROR(VLOOKUP(B489,database!$B$2:$C$6001,2,FALSE)),\"\",VLOOKUP(B489,database!$B$2:$C$6001,2,FALSE))","v":""},null,null,null,"",null,null,null,{"$f":"IF(ISERROR(VLOOKUP(B489,database!$B$2:$D$6001,3,FALSE)),\"\",VLOOKUP(B489,database!$B$2:$D$6001,3,FALSE))","v":""},null,null,null,null,null,null,"",null,null,0,null,1,"indip"]
["",null,{"$f":"IF(ISERROR(VLOOKUP(B490,database!$B$2:$C$6001,2,FALSE)),\"\",VLOOKUP(B490,database!$B$2:$C$6001,2,FALSE))","v":""},null,null,null,"",null,null,null,{"$f":"IF(ISERROR(VLOOKUP(B490,database!$B$2:$D$6001,3,FALSE)),\"\",VLOOKUP(B490,database!$B$2:$D$6001,3,FALSE))","v":""},null,null,null,null,null,null,"",null,null,0,null,1,"indip"]
["",null,{"$f":"IF(ISERROR(VLOOKUP(B491,database!$B$2:$C$6001,2,FALSE)),\"\",VLOOKUP(B491,database!$B$2:$C$6001,2,FALSE))","v":""},null,null,null,"",null,null,null,{"$f":"IF(ISERROR(VLOOKUP(B491,database!$B$2:$D$6001,3,FALSE)),\"\",VLOOKUP(B491,database!$B$2:$D$6001,3,FALSE))","v":""},null,null,null,null,null,null,"",null,null,0,null,1,"indip"]
["",null,{"$f":"IF(ISERROR(VLOOKUP(B492,database!$B$2:$C$6001,2,FALSE)),\"\",VLOOKUP(B492,database!$B$2:$C$6001,2,FALSE))","v":""},null,null,null,"",null,null,null,{"$f":"IF(ISERROR(VLOOKUP(B492,database!$B$2:$D$6001,3,FALSE)),\"\",VLOOKUP(B492,database!$B$2:$D$6001,3,FALSE))","v":""},null,null,null,null,null,null,"",null,null,0,null,1,"indip"]
["",null,{"$f":"IF(ISERROR(VLOOKUP(B493,database!$B$2:$C$6001,2,FALSE)),\"\",VLOOKUP(B493,database!$B$2:$C$6001,2,FALSE))","v":""},null,null,null,"",null,null,null,{"$f":"IF(ISERROR(VLOOKUP(B493,database!$B$2:$D$6001,3,FALSE)),\"\",VLOOKUP(B493,database!$B$2:$D$6001,3,FALSE))","v":""},null,null,null,null,null,null,"",null,null,0,null,1,"indip"]
["",null,{"$f":"IF(ISERROR(VLOOKUP(B494,database!$B$2:$C$6001,2,FALSE)),\"\",VLOOKUP(B494,database!$B$2:$C$6001,2,FALSE))","v":""},null,null,null,"",null,null,null,{"$f":"IF(ISERROR(VLOOKUP(B494,database!$B$2:$D$6001,3,FALSE)),\"\",VLOOKUP(B494,database!$B$2:$D$6001,3,FALSE))","v":""},null,null,null,null,null,null,"",null,null,0,null,1,"indip"]
["",null,{"$f":"IF(ISERROR(VLOOKUP(B495,database!$B$2:$C$6001,2,FALSE)),\"\",VLOOKUP(B495,database!$B$2:$C$6001,2,FALSE))","v":""},null,null,null,"",null,null,null,{"$f":"IF(ISERROR(VLOOKUP(B495,database!$B$2:$D$6001,3,FALSE)),\"\",VLOOKUP(B495,database!$B$2:$D$6001,3,FALSE))","v":""},null,null,null,null,null,null,"",null,null,0,null,1,"indip"]
["",null,{"$f":"IF(ISERROR(VLOOKUP(B496,database!$B$2:$C$6001,2,FALSE)),\"\",VLOOKUP(B496,database!$B$2:$C$6001,2,FALSE))","v":""},null,null,null,"",null,null,null,{"$f":"IF(ISERROR(VLOOKUP(B496,database!$B$2:$D$6001,3,FALSE)),\"\",VLOOKUP(B496,database!$B$2:$D$6001,3,FALSE))","v":""},null,null,null,null,null,null,"",null,null,0,null,1,"indip"]
["",null,{"$f":"IF(ISERROR(VLOOKUP(B497,database!$B$2:$C$6001,2,FALSE)),\"\",VLOOKUP(B497,database!$B$2:$C$6001,2,FALSE))","v":""},null,null,null,"",null,null,null,{"$f":"IF(ISERROR(VLOOKUP(B497,database!$B$2:$D$6001,3,FALSE)),\"\",VLOOKUP(B497,database!$B$2:$D$6001,3,FALSE))","v":""},null,null,null,null,null,null,"",null,null,0,null,1,"indip"]
["",null,{"$f":"IF(ISERROR(VLOOKUP(B498,database!$B$2:$C$6001,2,FALSE)),\"\",VLOOKUP(B498,database!$B$2:$C$6001,2,FALSE))","v":""},null,null,null,"",null,null,null,{"$f":"IF(ISERROR(VLOOKUP(B498,database!$B$2:$D$6001,3,FALSE)),\"\",VLOOKUP(B498,database!$B$2:$D$6001,3,FALSE))","v":""},null,null,null,null,null,null,"",null,null,0,null,1,"indip"]
["",null,{"$f":"IF(ISERROR(VLOOKUP(B499,database!$B$2:$C$6001,2,FALSE)),\"\",VLOOKUP(B499,database!$B$2:$C$6001,2,FALSE))","v":""},null,null,null,"",null,null,null,{"$f":"IF(ISERROR(VLOOKUP(B499,database!$B$2:$D$6001,3,FALSE)),\"\",VLOOKUP(B499,database!$B$2:$D$6001,3,FALSE))","v":""},null,null,null,null,null,null,"",null,null,0,null,1,"indip"]
["",null,{"$f":"IF(ISERROR(VLOOKUP(B500,database!$B$2:$C$6001,2,FALSE)),\"\",VLOOKUP(B500,database!$B$2:$C$6001,2,FALSE))","v":""},null,null,null,"",null,null,null,{"$f":"IF(ISERROR(VLOOKUP(B500,database!$B$2:$D$6001,3,FALSE)),\"\",VLOOKUP(B500,database!$B$2:$D$6001,3,FALSE))","v":""},null,null,null,null,null,null,"",null,null,0,null,1,"indip"]
["",null,{"$f":"IF(ISERROR(VLOOKUP(B501,database!$B$2:$C$6001,2,FALSE)),\"\",VLOOKUP(B501,database!$B$2:$C$6001,2,FALSE))","v":""},null,null,null,"",null,null,null,{"$f":"IF(ISERROR(VLOOKUP(B501,database!$B$2:$D$6001,3,FALSE)),\"\",VLOOKUP(B501,database!$B$2:$D$6001,3,FALSE))","v":""},null,null,null,null,null,null,"",null,null,0,null,1,"indip"]
["",null,{"$f":"IF(ISERROR(VLOOKUP(B502,database!$B$2:$C$6001,2,FALSE)),\"\",VLOOKUP(B502,database!$B$2:$C$6001,2,FALSE))","v":""},null,null,null,"",null,null,null,{"$f":"IF(ISERROR(VLOOKUP(B502,database!$B$2:$D$6001,3,FALSE)),\"\",VLOOKUP(B502,database!$B$2:$D$6001,3,FALSE))","v":""},null,null,null,null,null,null,"",null,null,0,null,1,"indip"]
["",null,{"$f":"IF(ISERROR(VLOOKUP(B503,database!$B$2:$C$6001,2,FALSE)),\"\",VLOOKUP(B503,database!$B$2:$C$6001,2,FALSE))","v":""},null,null,null,"",null,null,null,{"$f":"IF(ISERROR(VLOOKUP(B503,database!$B$2:$D$6001,3,FALSE)),\"\",VLOOKUP(B503,database!$B$2:$D$6001,3,FALSE))","v":""},null,null,null,null,null,null,"",null,null,0,null,1,"indip"]
["",null,{"$f":"IF(ISERROR(VLOOKUP(B504,database!$B$2:$C$6001,2,FALSE)),\"\",VLOOKUP(B504,database!$B$2:$C$6001,2,FALSE))","v":""},null,null,null,"",null,null,null,{"$f":"IF(ISERROR(VLOOKUP(B504,database!$B$2:$D$6001,3,FALSE)),\"\",VLOOKUP(B504,database!$B$2:$D$6001,3,FALSE))","v":""},null,null,null,null,null,null,"",null,null,0,null,1,"indip"]
["",null,{"$f":"IF(ISERROR(VLOOKUP(B505,database!$B$2:$C$6001,2,FALSE)),\"\",VLOOKUP(B505,database!$B$2:$C$6001,2,FALSE))","v":""},null,null,null,"",null,null,null,{"$f":"IF(ISERROR(VLOOKUP(B505,database!$B$2:$D$6001,3,FALSE)),\"\",VLOOKUP(B505,database!$B$2:$D$6001,3,FALSE))","v":""},null,null,null,null,null,null,"",null,null,0,null,1,"indip"]
["",null,{"$f":"IF(ISERROR(VLOOKUP(B506,database!$B$2:$C$6001,2,FALSE)),\"\",VLOOKUP(B506,database!$B$2:$C$6001,2,FALSE))","v":""},null,null,null,"",null,null,null,{"$f":"IF(ISERROR(VLOOKUP(B506,database!$B$2:$D$6001,3,FALSE)),\"\",VLOOKUP(B506,database!$B$2:$D$6001,3,FALSE))","v":""},null,null,null,null,null,null,"",null,null,0,null,1,"indip"]
["",null,{"$f":"IF(ISERROR(VLOOKUP(B507,database!$B$2:$C$6001,2,FALSE)),\"\",VLOOKUP(B507,database!$B$2:$C$6001,2,FALSE))","v":""},null,null,null,"",null,null,null,{"$f":"IF(ISERROR(VLOOKUP(B507,database!$B$2:$D$6001,3,FALSE)),\"\",VLOOKUP(B507,database!$B$2:$D$6001,3,FALSE))","v":""},null,null,null,null,null,null,"",null,null,0,null,1,"indip"]
["",null,{"$f":"IF(ISERROR(VLOOKUP(B508,database!$B$2:$C$6001,2,FALSE)),\"\",VLOOKUP(B508,database!$B$2:$C$6001,2,FALSE))","v":""},null,null,null,"",null,null,null,{"$f":"IF(ISERROR(VLOOKUP(B508,database!$B$2:$D$6001,3,FALSE)),\"\",VLOOKUP(B508,database!$B$2:$D$6001,3,FALSE))","v":""},null,null,null,null,null,null,"",null,null,0,null,1,"indip"]
["",null,{"$f":"IF(ISERROR(VLOOKUP(B509,database!$B$2:$C$6001,2,FALSE)),\"\",VLOOKUP(B509,database!$B$2:$C$6001,2,FALSE))","v":""},null,null,null,"",null,null,null,{"$f":"IF(ISERROR(VLOOKUP(B509,database!$B$2:$D$6001,3,FALSE)),\"\",VLOOKUP(B509,database!$B$2:$D$6001,3,FALSE))","v":""},null,null,null,null,null,null,"",null,null,0,null,1,"indip"]
["",null,{"$f":"IF(ISERROR(VLOOKUP(B510,database!$B$2:$C$6001,2,FALSE)),\"\",VLOOKUP(B510,database!$B$2:$C$6001,2,FALSE))","v":""},null,null,null,"",null,null,null,{"$f":"IF(ISERROR(VLOOKUP(B510,database!$B$2:$D$6001,3,FALSE)),\"\",VLOOKUP(B510,database!$B$2:$D$6001,3,FALSE))","v":""},null,null,null,null,null,null,"",null,null,0,null,1,"indip"]
["",null,{"$f":"IF(ISERROR(VLOOKUP(B511,database!$B$2:$C$6001,2,FALSE)),\"\",VLOOKUP(B511,database!$B$2:$C$6001,2,FALSE))","v":""},null,null,null,"",null,null,null,{"$f":"IF(ISERROR(VLOOKUP(B511,database!$B$2:$D$6001,3,FALSE)),\"\",VLOOKUP(B511,database!$B$2:$D$6001,3,FALSE))","v":""},null,null,null,null,null,null,"",null,null,0,null,1,"indip"]
["",null,{"$f":"IF(ISERROR(VLOOKUP(B512,database!$B$2:$C$6001,2,FALSE)),\"\",VLOOKUP(B512,database!$B$2:$C$6001,2,FALSE))","v":""},null,null,null,"",null,null,null,{"$f":"IF(ISERROR(VLOOKUP(B512,database!$B$2:$D$6001,3,FALSE)),\"\",VLOOKUP(B512,database!$B$2:$D$6001,3,FALSE))","v":""},null,null,null,null,null,null,"",null,null,0,null,1,"indip"]
["",null,{"$f":"IF(ISERROR(VLOOKUP(B513,database!$B$2:$C$6001,2,FALSE)),\"\",VLOOKUP(B513,database!$B$2:$C$6001,2,FALSE))","v":""},null,null,null,"",null,null,null,{"$f":"IF(ISERROR(VLOOKUP(B513,database!$B$2:$D$6001,3,FALSE)),\"\",VLOOKUP(B513,database!$B$2:$D$6001,3,FALSE))","v":""},null,null,null,null,null,null,"",null,null,0,null,1,"indip"]
["",null,{"$f":"IF(ISERROR(VLOOKUP(B514,database!$B$2:$C$6001,2,FALSE)),\"\",VLOOKUP(B514,database!$B$2:$C$6001,2,FALSE))","v":""},null,null,null,"",null,null,null,{"$f":"IF(ISERROR(VLOOKUP(B514,database!$B$2:$D$6001,3,FALSE)),\"\",VLOOKUP(B514,database!$B$2:$D$6001,3,FALSE))","v":""},null,null,null,null,null,null,"",null,null,0,null,1,"indip"]
["",null,{"$f":"IF(ISERROR(VLOOKUP(B515,database!$B$2:$C$6001,2,FALSE)),\"\",VLOOKUP(B515,database!$B$2:$C$6001,2,FALSE))","v":""},null,null,null,"",null,null,null,{"$f":"IF(ISERROR(VLOOKUP(B515,database!$B$2:$D$6001,3,FALSE)),\"\",VLOOKUP(B515,database!$B$2:$D$6001,3,FALSE))","v":""},null,null,null,null,null,null,"",null,null,0,null,1,"indip"]
["",null,{"$f":"IF(ISERROR(VLOOKUP(B516,database!$B$2:$C$6001,2,FALSE)),\"\",VLOOKUP(B516,database!$B$2:$C$6001,2,FALSE))","v":""},null,null,null,"",null,null,null,{"$f":"IF(ISERROR(VLOOKUP(B516,database!$B$2:$D$6001,3,FALSE)),\"\",VLOOKUP(B516,database!$B$2:$D$6001,3,FALSE))","v":""},null,null,null,null,null,null,"",null,null,{"$f":"IFERROR(INDEX(M$39:N$140,MATCH(B516,M$39:M$140,0),2),0)","v":0},null,{"$f":"IF(AND(U516=0,C516=\"\"),1,2)","v":1},{"$f":"IF(B516=\"-\",\"\",IF(OR(B516=M$39,B516=M$40,B516=M$41,B516=M$42,B516=M$43,B516=M$44,B516=M$45,B516=M$46,B516=M$47,,B516=M$50,B516=M$51,B516=M$52,B516=M$53,B516=M$54,B516=M$55,B516=M$56,B516=M$57,B516=M$70),\"\",IF(C516=\"\",\"indip\",F516)))","v":"indip"}]
[{"$f":"IF(B517=\"\",\"\",ROW(A514))","v":""},null,{"$f":"IF(ISERROR(VLOOKUP(B517,database!$B$2:$C$6001,2,FALSE)),\"\",VLOOKUP(B517,database!$B$2:$C$6001,2,FALSE))","v":""},null,null,null,{"$f":"IF(B517=\"\",\"\",IF(B517=\"-\",0,IF(W517=1,1,IF(AND(U517=0,F517=\"SSB\"),2,IF(AND(U517=0,F517=\"DIGI\"),3,IF(AND(U517=0,F517=\"CW\"),5,U517))))))","v":""},null,null,null,{"$f":"IF(ISERROR(VLOOKUP(B517,database!$B$2:$D$6001,3,FALSE)),\"\",VLOOKUP(B517,database!$B$2:$D$6001,3,FALSE))","v":""},null,null,null,null,null,null,{"$f":"LEFT(C517,2)","v":""},null,null,0,null,1,"indip"]
["",null,{"$f":"IF(ISERROR(VLOOKUP(B518,database!$B$2:$C$6001,2,FALSE)),\"\",VLOOKUP(B518,database!$B$2:$C$6001,2,FALSE))","v":""},null,null,null,"",null,null,null,{"$f":"IF(ISERROR(VLOOKUP(B518,database!$B$2:$D$6001,3,FALSE)),\"\",VLOOKUP(B518,database!$B$2:$D$6001,3,FALSE))","v":""},null,null,null,null,null,null,"",null,null,0,null,1,"indip"]
["",null,{"$f":"IF(ISERROR(VLOOKUP(B519,database!$B$2:$C$6001,2,FALSE)),\"\",VLOOKUP(B519,database!$B$2:$C$6001,2,FALSE))","v":""},null,null,null,"",null,null,null,{"$f":"IF(ISERROR(VLOOKUP(B519,database!$B$2:$D$6001,3,FALSE)),\"\",VLOOKUP(B519,database!$B$2:$D$6001,3,FALSE))","v":""},null,null,null,null,null,null,"",null,null,0,null,1,"indip"]
["",null,{"$f":"IF(ISERROR(VLOOKUP(B520,database!$B$2:$C$6001,2,FALSE)),\"\",VLOOKUP(B520,database!$B$2:$C$6001,2,FALSE))","v":""},null,null,null,"",null,null,null,{"$f":"IF(ISERROR(VLOOKUP(B520,database!$B$2:$D$6001,3,FALSE)),\"\",VLOOKUP(B520,database!$B$2:$D$6001,3,FALSE))","v":""},null,null,null,null,null,null,"",null,null,0,null,1,"indip"]
["",null,{"$f":"IF(ISERROR(VLOOKUP(B521,database!$B$2:$C$6001,2,FALSE)),\"\",VLOOKUP(B521,database!$B$2:$C$6001,2,FALSE))","v":""},null,null,null,"",null,null,null,{"$f":"IF(ISERROR(VLOOKUP(B521,database!$B$2:$D$6001,3,FALSE)),\"\",VLOOKUP(B521,database!$B$2:$D$6001,3,FALSE))","v":""},null,null,null,null,null,null,"",null,null,0,null,1,"indip"]
["",null,{"$f":"IF(ISERROR(VLOOKUP(B522,database!$B$2:$C$6001,2,FALSE)),\"\",VLOOKUP(B522,database!$B$2:$C$6001,2,FALSE))","v":""},null,null,null,"",null,null,null,{"$f":"IF(ISERROR(VLOOKUP(B522,database!$B$2:$D$6001,3,FALSE)),\"\",VLOOKUP(B522,database!$B$2:$D$6001,3,FALSE))","v":""},null,null,null,null,null,null,"",null,null,0,null,1,"indip"]
["",null,{"$f":"IF(ISERROR(VLOOKUP(B523,database!$B$2:$C$6001,2,FALSE)),\"\",VLOOKUP(B523,database!$B$2:$C$6001,2,FALSE))","v":""},null,null,null,"",null,null,null,{"$f":"IF(ISERROR(VLOOKUP(B523,database!$B$2:$D$6001,3,FALSE)),\"\",VLOOKUP(B523,database!$B$2:$D$6001,3,FALSE))","v":""},null,null,null,null,null,null,"",null,null,0,null,1,"indip"]
["",null,{"$f":"IF(ISERROR(VLOOKUP(B524,database!$B$2:$C$6001,2,FALSE)),\"\",VLOOKUP(B524,database!$B$2:$C$6001,2,FALSE))","v":""},null,null,null,"",null,null,null,{"$f":"IF(ISERROR(VLOOKUP(B524,database!$B$2:$D$6001,3,FALSE)),\"\",VLOOKUP(B524,database!$B$2:$D$6001,3,FALSE))","v":""},null,null,null,null,null,null,"",null,null,0,null,1,"indip"]
["",null,{"$f":"IF(ISERROR(VLOOKUP(B525,database!$B$2:$C$6001,2,FALSE)),\"\",VLOOKUP(B525,database!$B$2:$C$6001,2,FALSE))","v":""},null,null,null,"",null,null,null,{"$f":"IF(ISERROR(VLOOKUP(B525,database!$B$2:$D$6001,3,FALSE)),\"\",VLOOKUP(B525,database!$B$2:$D$6001,3,FALSE))","v":""},null,null,null,null,null,null,"",null,null,0,null,1,"indip"]
["",null,{"$f":"IF(ISERROR(VLOOKUP(B526,database!$B$2:$C$6001,2,FALSE)),\"\",VLOOKUP(B526,database!$B$2:$C$6001,2,FALSE))","v":""},null,null,null,"",null,null,null,{"$f":"IF(ISERROR(VLOOKUP(B526,database!$B$2:$D$6001,3,FALSE)),\"\",VLOOKUP(B526,database!$B$2:$D$6001,3,FALSE))","v":""},null,null,null,null,null,null,"",null,null,0,null,1,"indip"]
["",null,{"$f":"IF(ISERROR(VLOOKUP(B527,database!$B$2:$C$6001,2,FALSE)),\"\",VLOOKUP(B527,database!$B$2:$C$6001,2,FALSE))","v":""},null,null,null,"",null,null,null,{"$f":"IF(ISERROR(VLOOKUP(B527,database!$B$2:$D$6001,3,FALSE)),\"\",VLOOKUP(B527,database!$B$2:$D$6001,3,FALSE))","v":""},null,null,null,null,null,null,"",null,null,0,null,1,"indip"]
["",null,{"$f":"IF(ISERROR(VLOOKUP(B528,database!$B$2:$C$6001,2,FALSE)),\"\",VLOOKUP(B528,database!$B$2:$C$6001,2,FALSE))","v":""},null,null,null,"",null,null,null,{"$f":"IF(ISERROR(VLOOKUP(B528,database!$B$2:$D$6001,3,FALSE)),\"\",VLOOKUP(B528,database!$B$2:$D$6001,3,FALSE))","v":""},null,null,null,null,null,null,"",null,null,0,null,1,"indip"]
["",null,{"$f":"IF(ISERROR(VLOOKUP(B529,database!$B$2:$C$6001,2,FALSE)),\"\",VLOOKUP(B529,database!$B$2:$C$6001,2,FALSE))","v":""},null,null,null,"",null,null,null,{"$f":"IF(ISERROR(VLOOKUP(B529,database!$B$2:$D$6001,3,FALSE)),\"\",VLOOKUP(B529,database!$B$2:$D$6001,3,FALSE))","v":""},null,null,null,null,null,null,"",null,null,0,null,1,"indip"]
["",null,{"$f":"IF(ISERROR(VLOOKUP(B530,database!$B$2:$C$6001,2,FALSE)),\"\",VLOOKUP(B530,database!$B$2:$C$6001,2,FALSE))","v":""},null,null,null,"",null,null,null,{"$f":"IF(ISERROR(VLOOKUP(B530,database!$B$2:$D$6001,3,FALSE)),\"\",VLOOKUP(B530,database!$B$2:$D$6001,3,FALSE))","v":""},null,null,null,null,null,null,"",null,null,0,null,1,"indip"]
["",null,{"$f":"IF(ISERROR(VLOOKUP(B531,database!$B$2:$C$6001,2,FALSE)),\"\",VLOOKUP(B531,database!$B$2:$C$6001,2,FALSE))","v":""},null,null,null,"",null,null,null,{"$f":"IF(ISERROR(VLOOKUP(B531,database!$B$2:$D$6001,3,FALSE)),\"\",VLOOKUP(B531,database!$B$2:$D$6001,3,FALSE))","v":""},null,null,null,null,null,null,"",null,null,0,null,1,"indip"]
["",null,{"$f":"IF(ISERROR(VLOOKUP(B532,database!$B$2:$C$6001,2,FALSE)),\"\",VLOOKUP(B532,database!$B$2:$C$6001,2,FALSE))","v":""},null,null,null,"",null,null,null,{"$f":"IF(ISERROR(VLOOKUP(B532,database!$B$2:$D$6001,3,FALSE)),\"\",VLOOKUP(B532,database!$B$2:$D$6001,3,FALSE))","v":""},null,null,null,null,null,null,"",null,null,0,null,1,"indip"]
["",null,{"$f":"IF(ISERROR(VLOOKUP(B533,database!$B$2:$C$6001,2,FALSE)),\"\",VLOOKUP(B533,database!$B$2:$C$6001,2,FALSE))","v":""},null,null,null,"",null,null,null,{"$f":"IF(ISERROR(VLOOKUP(B533,database!$B$2:$D$6001,3,FALSE)),\"\",VLOOKUP(B533,database!$B$2:$D$6001,3,FALSE))","v":""},null,null,null,null,null,null,"",null,null,0,null,1,"indip"]
["",null,{"$f":"IF(ISERROR(VLOOKUP(B534,database!$B$2:$C$6001,2,FALSE)),\"\",VLOOKUP(B534,database!$B$2:$C$6001,2,FALSE))","v":""},null,null,null,"",null,null,null,{"$f":"IF(ISERROR(VLOOKUP(B534,database!$B$2:$D$6001,3,FALSE)),\"\",VLOOKUP(B534,database!$B$2:$D$6001,3,FALSE))","v":""},null,null,null,null,null,null,"",null,null,0,null,1,"indip"]
["",null,{"$f":"IF(ISERROR(VLOOKUP(B535,database!$B$2:$C$6001,2,FALSE)),\"\",VLOOKUP(B535,database!$B$2:$C$6001,2,FALSE))","v":""},null,null,null,"",null,null,null,{"$f":"IF(ISERROR(VLOOKUP(B535,database!$B$2:$D$6001,3,FALSE)),\"\",VLOOKUP(B535,database!$B$2:$D$6001,3,FALSE))","v":""},null,null,null,null,null,null,"",null,null,0,null,1,"indip"]
["",null,{"$f":"IF(ISERROR(VLOOKUP(B536,database!$B$2:$C$6001,2,FALSE)),\"\",VLOOKUP(B536,database!$B$2:$C$6001,2,FALSE))","v":""},null,null,null,"",null,null,null,{"$f":"IF(ISERROR(VLOOKUP(B536,database!$B$2:$D$6001,3,FALSE)),\"\",VLOOKUP(B536,database!$B$2:$D$6001,3,FALSE))","v":""},null,null,null,null,null,null,"",null,null,0,null,1,"indip"]
["",null,{"$f":"IF(ISERROR(VLOOKUP(B537,database!$B$2:$C$6001,2,FALSE)),\"\",VLOOKUP(B537,database!$B$2:$C$6001,2,FALSE))","v":""},null,null,null,"",null,null,null,{"$f":"IF(ISERROR(VLOOKUP(B537,database!$B$2:$D$6001,3,FALSE)),\"\",VLOOKUP(B537,database!$B$2:$D$6001,3,FALSE))","v":""},null,null,null,null,null,null,"",null,null,0,null,1,"indip"]
["",null,{"$f":"IF(ISERROR(VLOOKUP(B538,database!$B$2:$C$6001,2,FALSE)),\"\",VLOOKUP(B538,database!$B$2:$C$6001,2,FALSE))","v":""},null,null,null,"",null,null,null,{"$f":"IF(ISERROR(VLOOKUP(B538,database!$B$2:$D$6001,3,FALSE)),\"\",VLOOKUP(B538,database!$B$2:$D$6001,3,FALSE))","v":""},null,null,null,null,null,null,"",null,null,0,null,1,"indip"]
["",null,{"$f":"IF(ISERROR(VLOOKUP(B539,database!$B$2:$C$6001,2,FALSE)),\"\",VLOOKUP(B539,database!$B$2:$C$6001,2,FALSE))","v":""},null,null,null,"",null,null,null,{"$f":"IF(ISERROR(VLOOKUP(B539,database!$B$2:$D$6001,3,FALSE)),\"\",VLOOKUP(B539,database!$B$2:$D$6001,3,FALSE))","v":""},null,null,null,null,null,null,"",null,null,0,null,1,"indip"]
["",null,{"$f":"IF(ISERROR(VLOOKUP(B540,database!$B$2:$C$6001,2,FALSE)),\"\",VLOOKUP(B540,database!$B$2:$C$6001,2,FALSE))","v":""},null,null,null,"",null,null,null,{"$f":"IF(ISERROR(VLOOKUP(B540,database!$B$2:$D$6001,3,FALSE)),\"\",VLOOKUP(B540,database!$B$2:$D$6001,3,FALSE))","v":""},null,null,null,null,null,null,"",null,null,0,null,1,"indip"]
["",null,{"$f":"IF(ISERROR(VLOOKUP(B541,database!$B$2:$C$6001,2,FALSE)),\"\",VLOOKUP(B541,database!$B$2:$C$6001,2,FALSE))","v":""},null,null,null,"",null,null,null,{"$f":"IF(ISERROR(VLOOKUP(B541,database!$B$2:$D$6001,3,FALSE)),\"\",VLOOKUP(B541,database!$B$2:$D$6001,3,FALSE))","v":""},null,null,null,null,null,null,"",null,null,0,null,1,"indip"]
["",null,{"$f":"IF(ISERROR(VLOOKUP(B542,database!$B$2:$C$6001,2,FALSE)),\"\",VLOOKUP(B542,database!$B$2:$C$6001,2,FALSE))","v":""},null,null,null,"",null,null,null,{"$f":"IF(ISERROR(VLOOKUP(B542,database!$B$2:$D$6001,3,FALSE)),\"\",VLOOKUP(B542,database!$B$2:$D$6001,3,FALSE))","v":""},null,null,null,null,null,null,"",null,null,0,null,1,"indip"]
["",null,{"$f":"IF(ISERROR(VLOOKUP(B543,database!$B$2:$C$6001,2,FALSE)),\"\",VLOOKUP(B543,database!$B$2:$C$6001,2,FALSE))","v":""},null,null,null,"",null,null,null,{"$f":"IF(ISERROR(VLOOKUP(B543,database!$B$2:$D$6001,3,FALSE)),\"\",VLOOKUP(B543,database!$B$2:$D$6001,3,FALSE))","v":""},null,null,null,null,null,null,"",null,null,0,null,1,"indip"]
["",null,{"$f":"IF(ISERROR(VLOOKUP(B544,database!$B$2:$C$6001,2,FALSE)),\"\",VLOOKUP(B544,database!$B$2:$C$6001,2,FALSE))","v":""},null,null,null,"",null,null,null,{"$f":"IF(ISERROR(VLOOKUP(B544,database!$B$2:$D$6001,3,FALSE)),\"\",VLOOKUP(B544,database!$B$2:$D$6001,3,FALSE))","v":""},null,null,null,null,null,null,"",null,null,0,null,1,"indip"]
["",null,{"$f":"IF(ISERROR(VLOOKUP(B545,database!$B$2:$C$6001,2,FALSE)),\"\",VLOOKUP(B545,database!$B$2:$C$6001,2,FALSE))","v":""},null,null,null,"",null,null,null,{"$f":"IF(ISERROR(VLOOKUP(B545,database!$B$2:$D$6001,3,FALSE)),\"\",VLOOKUP(B545,database!$B$2:$D$6001,3,FALSE))","v":""},null,null,null,null,null,null,"",null,null,0,null,1,"indip"]
["",null,{"$f":"IF(ISERROR(VLOOKUP(B546,database!$B$2:$C$6001,2,FALSE)),\"\",VLOOKUP(B546,database!$B$2:$C$6001,2,FALSE))","v":""},null,null,null,"",null,null,null,{"$f":"IF(ISERROR(VLOOKUP(B546,database!$B$2:$D$6001,3,FALSE)),\"\",VLOOKUP(B546,database!$B$2:$D$6001,3,FALSE))","v":""},null,null,null,null,null,null,"",null,null,0,null,1,"indip"]
["",null,{"$f":"IF(ISERROR(VLOOKUP(B547,database!$B$2:$C$6001,2,FALSE)),\"\",VLOOKUP(B547,database!$B$2:$C$6001,2,FALSE))","v":""},null,null,null,"",null,null,null,{"$f":"IF(ISERROR(VLOOKUP(B547,database!$B$2:$D$6001,3,FALSE)),\"\",VLOOKUP(B547,database!$B$2:$D$6001,3,FALSE))","v":""},null,null,null,null,null,null,"",null,null,0,null,1,"indip"]
["",null,{"$f":"IF(ISERROR(VLOOKUP(B548,database!$B$2:$C$6001,2,FALSE)),\"\",VLOOKUP(B548,database!$B$2:$C$6001,2,FALSE))","v":""},null,null,null,"",null,null,null,{"$f":"IF(ISERROR(VLOOKUP(B548,database!$B$2:$D$6001,3,FALSE)),\"\",VLOOKUP(B548,database!$B$2:$D$6001,3,FALSE))","v":""},null,null,null,null,null,null,"",null,null,0,null,1,"indip"]
["",null,{"$f":"IF(ISERROR(VLOOKUP(B549,database!$B$2:$C$6001,2,FALSE)),\"\",VLOOKUP(B549,database!$B$2:$C$6001,2,FALSE))","v":""},null,null,null,"",null,null,null,{"$f":"IF(ISERROR(VLOOKUP(B549,database!$B$2:$D$6001,3,FALSE)),\"\",VLOOKUP(B549,database!$B$2:$D$6001,3,FALSE))","v":""},null,null,null,null,null,null,"",null,null,0,null,1,"indip"]
["",null,{"$f":"IF(ISERROR(VLOOKUP(B550,database!$B$2:$C$6001,2,FALSE)),\"\",VLOOKUP(B550,database!$B$2:$C$6001,2,FALSE))","v":""},null,null,null,"",null,null,null,{"$f":"IF(ISERROR(VLOOKUP(B550,database!$B$2:$D$6001,3,FALSE)),\"\",VLOOKUP(B550,database!$B$2:$D$6001,3,FALSE))","v":""},null,null,null,null,null,null,"",null,null,0,null,1,"indip"]
["",null,{"$f":"IF(ISERROR(VLOOKUP(B551,database!$B$2:$C$6001,2,FALSE)),\"\",VLOOKUP(B551,database!$B$2:$C$6001,2,FALSE))","v":""},null,null,null,"",null,null,null,{"$f":"IF(ISERROR(VLOOKUP(B551,database!$B$2:$D$6001,3,FALSE)),\"\",VLOOKUP(B551,database!$B$2:$D$6001,3,FALSE))","v":""},null,null,null,null,null,null,"",null,null,0,null,1,"indip"]
["",null,{"$f":"IF(ISERROR(VLOOKUP(B552,database!$B$2:$C$6001,2,FALSE)),\"\",VLOOKUP(B552,database!$B$2:$C$6001,2,FALSE))","v":""},null,null,null,"",null,null,null,{"$f":"IF(ISERROR(VLOOKUP(B552,database!$B$2:$D$6001,3,FALSE)),\"\",VLOOKUP(B552,database!$B$2:$D$6001,3,FALSE))","v":""},null,null,null,null,null,null,"",null,null,0,null,1,"indip"]
["",null,{"$f":"IF(ISERROR(VLOOKUP(B553,database!$B$2:$C$6001,2,FALSE)),\"\",VLOOKUP(B553,database!$B$2:$C$6001,2,FALSE))","v":""},null,null,null,"",null,null,null,{"$f":"IF(ISERROR(VLOOKUP(B553,database!$B$2:$D$6001,3,FALSE)),\"\",VLOOKUP(B553,database!$B$2:$D$6001,3,FALSE))","v":""},null,null,null,null,null,null,"",null,null,0,null,1,"indip"]
["",null,{"$f":"IF(ISERROR(VLOOKUP(B554,database!$B$2:$C$6001,2,FALSE)),\"\",VLOOKUP(B554,database!$B$2:$C$6001,2,FALSE))","v":""},null,null,null,"",null,null,null,{"$f":"IF(ISERROR(VLOOKUP(B554,database!$B$2:$D$6001,3,FALSE)),\"\",VLOOKUP(B554,database!$B$2:$D$6001,3,FALSE))","v":""},null,null,null,null,null,null,"",null,null,0,null,1,"indip"]
["",null,{"$f":"IF(ISERROR(VLOOKUP(B555,database!$B$2:$C$6001,2,FALSE)),\"\",VLOOKUP(B555,database!$B$2:$C$6001,2,FALSE))","v":""},null,null,null,"",null,null,null,{"$f":"IF(ISERROR(VLOOKUP(B555,database!$B$2:$D$6001,3,FALSE)),\"\",VLOOKUP(B555,database!$B$2:$D$6001,3,FALSE))","v":""},null,null,null,null,null,null,"",null,null,0,null,1,"indip"]
["",null,{"$f":"IF(ISERROR(VLOOKUP(B556,database!$B$2:$C$6001,2,FALSE)),\"\",VLOOKUP(B556,database!$B$2:$C$6001,2,FALSE))","v":""},null,null,null,"",null,null,null,{"$f":"IF(ISERROR(VLOOKUP(B556,database!$B$2:$D$6001,3,FALSE)),\"\",VLOOKUP(B556,database!$B$2:$D$6001,3,FALSE))","v":""},null,null,null,null,null,null,"",null,null,0,null,1,"indip"]
["",null,{"$f":"IF(ISERROR(VLOOKUP(B557,database!$B$2:$C$6001,2,FALSE)),\"\",VLOOKUP(B557,database!$B$2:$C$6001,2,FALSE))","v":""},null,null,null,"",null,null,null,{"$f":"IF(ISERROR(VLOOKUP(B557,database!$B$2:$D$6001,3,FALSE)),\"\",VLOOKUP(B557,database!$B$2:$D$6001,3,FALSE))","v":""},null,null,null,null,null,null,"",null,null,0,null,1,"indip"]
["",null,{"$f":"IF(ISERROR(VLOOKUP(B558,database!$B$2:$C$6001,2,FALSE)),\"\",VLOOKUP(B558,database!$B$2:$C$6001,2,FALSE))","v":""},null,null,null,"",null,null,null,{"$f":"IF(ISERROR(VLOOKUP(B558,database!$B$2:$D$6001,3,FALSE)),\"\",VLOOKUP(B558,database!$B$2:$D$6001,3,FALSE))","v":""},null,null,null,null,null,null,"",null,null,0,null,1,"indip"]
["",null,{"$f":"IF(ISERROR(VLOOKUP(B559,database!$B$2:$C$6001,2,FALSE)),\"\",VLOOKUP(B559,database!$B$2:$C$6001,2,FALSE))","v":""},null,null,null,"",null,null,null,{"$f":"IF(ISERROR(VLOOKUP(B559,database!$B$2:$D$6001,3,FALSE)),\"\",VLOOKUP(B559,database!$B$2:$D$6001,3,FALSE))","v":""},null,null,null,null,null,null,"",null,null,0,null,1,"indip"]
["",null,{"$f":"IF(ISERROR(VLOOKUP(B560,database!$B$2:$C$6001,2,FALSE)),\"\",VLOOKUP(B560,database!$B$2:$C$6001,2,FALSE))","v":""},null,null,null,"",null,null,null,{"$f":"IF(ISERROR(VLOOKUP(B560,database!$B$2:$D$6001,3,FALSE)),\"\",VLOOKUP(B560,database!$B$2:$D$6001,3,FALSE))","v":""},null,null,null,null,null,null,"",null,null,0,null,1,"indip"]
["",null,{"$f":"IF(ISERROR(VLOOKUP(B561,database!$B$2:$C$6001,2,FALSE)),\"\",VLOOKUP(B561,database!$B$2:$C$6001,2,FALSE))","v":""},null,null,null,"",null,null,null,{"$f":"IF(ISERROR(VLOOKUP(B561,database!$B$2:$D$6001,3,FALSE)),\"\",VLOOKUP(B561,database!$B$2:$D$6001,3,FALSE))","v":""},null,null,null,null,null,null,"",null,null,0,null,1,"indip"]
["",null,{"$f":"IF(ISERROR(VLOOKUP(B562,database!$B$2:$C$6001,2,FALSE)),\"\",VLOOKUP(B562,database!$B$2:$C$6001,2,FALSE))","v":""},null,null,null,"",null,null,null,{"$f":"IF(ISERROR(VLOOKUP(B562,database!$B$2:$D$6001,3,FALSE)),\"\",VLOOKUP(B562,database!$B$2:$D$6001,3,FALSE))","v":""},null,null,null,null,null,null,"",null,null,0,null,1,"indip"]
["",null,{"$f":"IF(ISERROR(VLOOKUP(B563,database!$B$2:$C$6001,2,FALSE)),\"\",VLOOKUP(B563,database!$B$2:$C$6001,2,FALSE))","v":""},null,null,null,"",null,null,null,{"$f":"IF(ISERROR(VLOOKUP(B563,database!$B$2:$D$6001,3,FALSE)),\"\",VLOOKUP(B563,database!$B$2:$D$6001,3,FALSE))","v":""},null,null,null,null,null,null,"",null,null,0,null,1,"indip"]
["",null,{"$f":"IF(ISERROR(VLOOKUP(B564,database!$B$2:$C$6001,2,FALSE)),\"\",VLOOKUP(B564,database!$B$2:$C$6001,2,FALSE))","v":""},null,null,null,"",null,null,null,{"$f":"IF(ISERROR(VLOOKUP(B564,database!$B$2:$D$6001,3,FALSE)),\"\",VLOOKUP(B564,database!$B$2:$D$6001,3,FALSE))","v":""},null,null,null,null,null,null,"",null,null,0,null,1,"indip"]
["",null,{"$f":"IF(ISERROR(VLOOKUP(B565,database!$B$2:$C$6001,2,FALSE)),\"\",VLOOKUP(B565,database!$B$2:$C$6001,2,FALSE))","v":""},null,null,null,"",null,null,null,{"$f":"IF(ISERROR(VLOOKUP(B565,database!$B$2:$D$6001,3,FALSE)),\"\",VLOOKUP(B565,database!$B$2:$D$6001,3,FALSE))","v":""},null,null,null,null,null,null,"",null,null,0,null,1,"indip"]
["",null,{"$f":"IF(ISERROR(VLOOKUP(B566,database!$B$2:$C$6001,2,FALSE)),\"\",VLOOKUP(B566,database!$B$2:$C$6001,2,FALSE))","v":""},null,null,null,"",null,null,null,{"$f":"IF(ISERROR(VLOOKUP(B566,database!$B$2:$D$6001,3,FALSE)),\"\",VLOOKUP(B566,database!$B$2:$D$6001,3,FALSE))","v":""},null,null,null,null,null,null,"",null,null,0,null,1,"indip"]
["",null,{"$f":"IF(ISERROR(VLOOKUP(B567,database!$B$2:$C$6001,2,FALSE)),\"\",VLOOKUP(B567,database!$B$2:$C$6001,2,FALSE))","v":""},null,null,null,"",null,null,null,{"$f":"IF(ISERROR(VLOOKUP(B567,database!$B$2:$D$6001,3,FALSE)),\"\",VLOOKUP(B567,database!$B$2:$D$6001,3,FALSE))","v":""},null,null,null,null,null,null,"",null,null,0,null,1,"indip"]
["",null,{"$f":"IF(ISERROR(VLOOKUP(B568,database!$B$2:$C$6001,2,FALSE)),\"\",VLOOKUP(B568,database!$B$2:$C$6001,2,FALSE))","v":""},null,null,null,"",null,null,null,{"$f":"IF(ISERROR(VLOOKUP(B568,database!$B$2:$D$6001,3,FALSE)),\"\",VLOOKUP(B568,database!$B$2:$D$6001,3,FALSE))","v":""},null,null,null,null,null,null,"",null,null,0,null,1,"indip"]
["",null,{"$f":"IF(ISERROR(VLOOKUP(B569,database!$B$2:$C$6001,2,FALSE)),\"\",VLOOKUP(B569,database!$B$2:$C$6001,2,FALSE))","v":""},null,null,null,"",null,null,null,{"$f":"IF(ISERROR(VLOOKUP(B569,database!$B$2:$D$6001,3,FALSE)),\"\",VLOOKUP(B569,database!$B$2:$D$6001,3,FALSE))","v":""},null,null,null,null,null,null,"",null,null,0,null,1,"indip"]
["",null,{"$f":"IF(ISERROR(VLOOKUP(B570,database!$B$2:$C$6001,2,FALSE)),\"\",VLOOKUP(B570,database!$B$2:$C$6001,2,FALSE))","v":""},null,null,null,"",null,null,null,{"$f":"IF(ISERROR(VLOOKUP(B570,database!$B$2:$D$6001,3,FALSE)),\"\",VLOOKUP(B570,database!$B$2:$D$6001,3,FALSE))","v":""},null,null,null,null,null,null,"",null,null,0,null,1,"indip"]
["",null,{"$f":"IF(ISERROR(VLOOKUP(B571,database!$B$2:$C$6001,2,FALSE)),\"\",VLOOKUP(B571,database!$B$2:$C$6001,2,FALSE))","v":""},null,null,null,"",null,null,null,{"$f":"IF(ISERROR(VLOOKUP(B571,database!$B$2:$D$6001,3,FALSE)),\"\",VLOOKUP(B571,database!$B$2:$D$6001,3,FALSE))","v":""},null,null,null,null,null,null,"",null,null,0,null,1,"indip"]
["",null,{"$f":"IF(ISERROR(VLOOKUP(B572,database!$B$2:$C$6001,2,FALSE)),\"\",VLOOKUP(B572,database!$B$2:$C$6001,2,FALSE))","v":""},null,null,null,"",null,null,null,{"$f":"IF(ISERROR(VLOOKUP(B572,database!$B$2:$D$6001,3,FALSE)),\"\",VLOOKUP(B572,database!$B$2:$D$6001,3,FALSE))","v":""},null,null,null,null,null,null,"",null,null,0,null,1,"indip"]
["",null,{"$f":"IF(ISERROR(VLOOKUP(B573,database!$B$2:$C$6001,2,FALSE)),\"\",VLOOKUP(B573,database!$B$2:$C$6001,2,FALSE))","v":""},null,null,null,"",null,null,null,{"$f":"IF(ISERROR(VLOOKUP(B573,database!$B$2:$D$6001,3,FALSE)),\"\",VLOOKUP(B573,database!$B$2:$D$6001,3,FALSE))","v":""},null,null,null,null,null,null,"",null,null,0,null,1,"indip"]
["",null,{"$f":"IF(ISERROR(VLOOKUP(B574,database!$B$2:$C$6001,2,FALSE)),\"\",VLOOKUP(B574,database!$B$2:$C$6001,2,FALSE))","v":""},null,null,null,"",null,null,null,{"$f":"IF(ISERROR(VLOOKUP(B574,database!$B$2:$D$6001,3,FALSE)),\"\",VLOOKUP(B574,database!$B$2:$D$6001,3,FALSE))","v":""},null,null,null,null,null,null,"",null,null,0,null,1,"indip"]
["",null,{"$f":"IF(ISERROR(VLOOKUP(B575,database!$B$2:$C$6001,2,FALSE)),\"\",VLOOKUP(B575,database!$B$2:$C$6001,2,FALSE))","v":""},null,null,null,"",null,null,null,{"$f":"IF(ISERROR(VLOOKUP(B575,database!$B$2:$D$6001,3,FALSE)),\"\",VLOOKUP(B575,database!$B$2:$D$6001,3,FALSE))","v":""},null,null,null,null,null,null,"",null,null,0,null,1,"indip"]
["",null,{"$f":"IF(ISERROR(VLOOKUP(B576,database!$B$2:$C$6001,2,FALSE)),\"\",VLOOKUP(B576,database!$B$2:$C$6001,2,FALSE))","v":""},null,null,null,"",null,null,null,{"$f":"IF(ISERROR(VLOOKUP(B576,database!$B$2:$D$6001,3,FALSE)),\"\",VLOOKUP(B576,database!$B$2:$D$6001,3,FALSE))","v":""},null,null,null,null,null,null,"",null,null,0,null,1,"indip"]
["",null,{"$f":"IF(ISERROR(VLOOKUP(B577,database!$B$2:$C$6001,2,FALSE)),\"\",VLOOKUP(B577,database!$B$2:$C$6001,2,FALSE))","v":""},null,null,null,"",null,null,null,{"$f":"IF(ISERROR(VLOOKUP(B577,database!$B$2:$D$6001,3,FALSE)),\"\",VLOOKUP(B577,database!$B$2:$D$6001,3,FALSE))","v":""},null,null,null,null,null,null,"",null,null,0,null,1,"indip"]
["",null,{"$f":"IF(ISERROR(VLOOKUP(B578,database!$B$2:$C$6001,2,FALSE)),\"\",VLOOKUP(B578,database!$B$2:$C$6001,2,FALSE))","v":""},null,null,null,"",null,null,null,{"$f":"IF(ISERROR(VLOOKUP(B578,database!$B$2:$D$6001,3,FALSE)),\"\",VLOOKUP(B578,database!$B$2:$D$6001,3,FALSE))","v":""},null,null,null,null,null,null,"",null,null,0,null,1,"indip"]
["",null,{"$f":"IF(ISERROR(VLOOKUP(B579,database!$B$2:$C$6001,2,FALSE)),\"\",VLOOKUP(B579,database!$B$2:$C$6001,2,FALSE))","v":""},null,null,null,"",null,null,null,{"$f":"IF(ISERROR(VLOOKUP(B579,database!$B$2:$D$6001,3,FALSE)),\"\",VLOOKUP(B579,database!$B$2:$D$6001,3,FALSE))","v":""},null,null,null,null,null,null,"",null,null,0,null,1,"indip"]
["",null,{"$f":"IF(ISERROR(VLOOKUP(B580,database!$B$2:$C$6001,2,FALSE)),\"\",VLOOKUP(B580,database!$B$2:$C$6001,2,FALSE))","v":""},null,null,null,"",null,null,null,{"$f":"IF(ISERROR(VLOOKUP(B580,database!$B$2:$D$6001,3,FALSE)),\"\",VLOOKUP(B580,database!$B$2:$D$6001,3,FALSE))","v":""},null,null,null,null,null,null,"",null,null,{"$f":"IFERROR(INDEX(M$39:N$140,MATCH(B580,M$39:M$140,0),2),0)","v":0},null,{"$f":"IF(AND(U580=0,C580=\"\"),1,2)","v":1},{"$f":"IF(B580=\"-\",\"\",IF(OR(B580=M$39,B580=M$40,B580=M$41,B580=M$42,B580=M$43,B580=M$44,B580=M$45,B580=M$46,B580=M$47,,B580=M$50,B580=M$51,B580=M$52,B580=M$53,B580=M$54,B580=M$55,B580=M$56,B580=M$57,B580=M$70),\"\",IF(C580=\"\",\"indip\",F580)))","v":"indip"}]
[{"$f":"IF(B581=\"\",\"\",ROW(A578))","v":""},null,{"$f":"IF(ISERROR(VLOOKUP(B581,database!$B$2:$C$6001,2,FALSE)),\"\",VLOOKUP(B581,database!$B$2:$C$6001,2,FALSE))","v":""},null,null,null,{"$f":"IF(B581=\"\",\"\",IF(B581=\"-\",0,IF(W581=1,1,IF(AND(U581=0,F581=\"SSB\"),2,IF(AND(U581=0,F581=\"DIGI\"),3,IF(AND(U581=0,F581=\"CW\"),5,U581))))))","v":""},null,null,null,{"$f":"IF(ISERROR(VLOOKUP(B581,database!$B$2:$D$6001,3,FALSE)),\"\",VLOOKUP(B581,database!$B$2:$D$6001,3,FALSE))","v":""},null,null,null,null,null,null,{"$f":"LEFT(C581,2)","v":""},null,null,0,null,1,"indip"]
["",null,{"$f":"IF(ISERROR(VLOOKUP(B582,database!$B$2:$C$6001,2,FALSE)),\"\",VLOOKUP(B582,database!$B$2:$C$6001,2,FALSE))","v":""},null,null,null,"",null,null,null,{"$f":"IF(ISERROR(VLOOKUP(B582,database!$B$2:$D$6001,3,FALSE)),\"\",VLOOKUP(B582,database!$B$2:$D$6001,3,FALSE))","v":""},null,null,null,null,null,null,"",null,null,0,null,1,"indip"]
["",null,{"$f":"IF(ISERROR(VLOOKUP(B583,database!$B$2:$C$6001,2,FALSE)),\"\",VLOOKUP(B583,database!$B$2:$C$6001,2,FALSE))","v":""},null,null,null,"",null,null,null,{"$f":"IF(ISERROR(VLOOKUP(B583,database!$B$2:$D$6001,3,FALSE)),\"\",VLOOKUP(B583,database!$B$2:$D$6001,3,FALSE))","v":""},null,null,null,null,null,null,"",null,null,0,null,1,"indip"]
["",null,{"$f":"IF(ISERROR(VLOOKUP(B584,database!$B$2:$C$6001,2,FALSE)),\"\",VLOOKUP(B584,database!$B$2:$C$6001,2,FALSE))","v":""},null,null,null,"",null,null,null,{"$f":"IF(ISERROR(VLOOKUP(B584,database!$B$2:$D$6001,3,FALSE)),\"\",VLOOKUP(B584,database!$B$2:$D$6001,3,FALSE))","v":""},null,null,null,null,null,null,"",null,null,0,null,1,"indip"]
["",null,{"$f":"IF(ISERROR(VLOOKUP(B585,database!$B$2:$C$6001,2,FALSE)),\"\",VLOOKUP(B585,database!$B$2:$C$6001,2,FALSE))","v":""},null,null,null,"",null,null,null,{"$f":"IF(ISERROR(VLOOKUP(B585,database!$B$2:$D$6001,3,FALSE)),\"\",VLOOKUP(B585,database!$B$2:$D$6001,3,FALSE))","v":""},null,null,null,null,null,null,"",null,null,0,null,1,"indip"]
["",null,{"$f":"IF(ISERROR(VLOOKUP(B586,database!$B$2:$C$6001,2,FALSE)),\"\",VLOOKUP(B586,database!$B$2:$C$6001,2,FALSE))","v":""},null,null,null,"",null,null,null,{"$f":"IF(ISERROR(VLOOKUP(B586,database!$B$2:$D$6001,3,FALSE)),\"\",VLOOKUP(B586,database!$B$2:$D$6001,3,FALSE))","v":""},null,null,null,null,null,null,"",null,null,0,null,1,"indip"]
["",null,{"$f":"IF(ISERROR(VLOOKUP(B587,database!$B$2:$C$6001,2,FALSE)),\"\",VLOOKUP(B587,database!$B$2:$C$6001,2,FALSE))","v":""},null,null,null,"",null,null,null,{"$f":"IF(ISERROR(VLOOKUP(B587,database!$B$2:$D$6001,3,FALSE)),\"\",VLOOKUP(B587,database!$B$2:$D$6001,3,FALSE))","v":""},null,null,null,null,null,null,"",null,null,0,null,1,"indip"]
["",null,{"$f":"IF(ISERROR(VLOOKUP(B588,database!$B$2:$C$6001,2,FALSE)),\"\",VLOOKUP(B588,database!$B$2:$C$6001,2,FALSE))","v":""},null,null,null,"",null,null,null,{"$f":"IF(ISERROR(VLOOKUP(B588,database!$B$2:$D$6001,3,FALSE)),\"\",VLOOKUP(B588,database!$B$2:$D$6001,3,FALSE))","v":""},null,null,null,null,null,null,"",null,null,0,null,1,"indip"]
["",null,{"$f":"IF(ISERROR(VLOOKUP(B589,database!$B$2:$C$6001,2,FALSE)),\"\",VLOOKUP(B589,database!$B$2:$C$6001,2,FALSE))","v":""},null,null,null,"",null,null,null,{"$f":"IF(ISERROR(VLOOKUP(B589,database!$B$2:$D$6001,3,FALSE)),\"\",VLOOKUP(B589,database!$B$2:$D$6001,3,FALSE))","v":""},null,null,null,null,null,null,"",null,null,0,null,1,"indip"]
["",null,{"$f":"IF(ISERROR(VLOOKUP(B590,database!$B$2:$C$6001,2,FALSE)),\"\",VLOOKUP(B590,database!$B$2:$C$6001,2,FALSE))","v":""},null,null,null,"",null,null,null,{"$f":"IF(ISERROR(VLOOKUP(B590,database!$B$2:$D$6001,3,FALSE)),\"\",VLOOKUP(B590,database!$B$2:$D$6001,3,FALSE))","v":""},null,null,null,null,null,null,"",null,null,0,null,1,"indip"]
["",null,{"$f":"IF(ISERROR(VLOOKUP(B591,database!$B$2:$C$6001,2,FALSE)),\"\",VLOOKUP(B591,database!$B$2:$C$6001,2,FALSE))","v":""},null,null,null,"",null,null,null,{"$f":"IF(ISERROR(VLOOKUP(B591,database!$B$2:$D$6001,3,FALSE)),\"\",VLOOKUP(B591,database!$B$2:$D$6001,3,FALSE))","v":""},null,null,null,null,null,null,"",null,null,0,null,1,"indip"]
["",null,{"$f":"IF(ISERROR(VLOOKUP(B592,database!$B$2:$C$6001,2,FALSE)),\"\",VLOOKUP(B592,database!$B$2:$C$6001,2,FALSE))","v":""},null,null,null,"",null,null,null,{"$f":"IF(ISERROR(VLOOKUP(B592,database!$B$2:$D$6001,3,FALSE)),\"\",VLOOKUP(B592,database!$B$2:$D$6001,3,FALSE))","v":""},null,null,null,null,null,null,"",null,null,0,null,1,"indip"]
["",null,{"$f":"IF(ISERROR(VLOOKUP(B593,database!$B$2:$C$6001,2,FALSE)),\"\",VLOOKUP(B593,database!$B$2:$C$6001,2,FALSE))","v":""},null,null,null,"",null,null,null,{"$f":"IF(ISERROR(VLOOKUP(B593,database!$B$2:$D$6001,3,FALSE)),\"\",VLOOKUP(B593,database!$B$2:$D$6001,3,FALSE))","v":""},null,null,null,null,null,null,"",null,null,0,null,1,"indip"]
["",null,{"$f":"IF(ISERROR(VLOOKUP(B594,database!$B$2:$C$6001,2,FALSE)),\"\",VLOOKUP(B594,database!$B$2:$C$6001,2,FALSE))","v":""},null,null,null,"",null,null,null,{"$f":"IF(ISERROR(VLOOKUP(B594,database!$B$2:$D$6001,3,FALSE)),\"\",VLOOKUP(B594,database!$B$2:$D$6001,3,FALSE))","v":""},null,null,null,null,null,null,"",null,null,0,null,1,"indip"]
["",null,{"$f":"IF(ISERROR(VLOOKUP(B595,database!$B$2:$C$6001,2,FALSE)),\"\",VLOOKUP(B595,database!$B$2:$C$6001,2,FALSE))","v":""},null,null,null,"",null,null,null,{"$f":"IF(ISERROR(VLOOKUP(B595,database!$B$2:$D$6001,3,FALSE)),\"\",VLOOKUP(B595,database!$B$2:$D$6001,3,FALSE))","v":""},null,null,null,null,null,null,"",null,null,0,null,1,"indip"]
["",null,{"$f":"IF(ISERROR(VLOOKUP(B596,database!$B$2:$C$6001,2,FALSE)),\"\",VLOOKUP(B596,database!$B$2:$C$6001,2,FALSE))","v":""},null,null,null,"",null,null,null,{"$f":"IF(ISERROR(VLOOKUP(B596,database!$B$2:$D$6001,3,FALSE)),\"\",VLOOKUP(B596,database!$B$2:$D$6001,3,FALSE))","v":""},null,null,null,null,null,null,"",null,null,0,null,1,"indip"]
["",null,{"$f":"IF(ISERROR(VLOOKUP(B597,database!$B$2:$C$6001,2,FALSE)),\"\",VLOOKUP(B597,database!$B$2:$C$6001,2,FALSE))","v":""},null,null,null,"",null,null,null,{"$f":"IF(ISERROR(VLOOKUP(B597,database!$B$2:$D$6001,3,FALSE)),\"\",VLOOKUP(B597,database!$B$2:$D$6001,3,FALSE))","v":""},null,null,null,null,null,null,"",null,null,0,null,1,"indip"]
["",null,{"$f":"IF(ISERROR(VLOOKUP(B598,database!$B$2:$C$6001,2,FALSE)),\"\",VLOOKUP(B598,database!$B$2:$C$6001,2,FALSE))","v":""},null,null,null,"",null,null,null,{"$f":"IF(ISERROR(VLOOKUP(B598,database!$B$2:$D$6001,3,FALSE)),\"\",VLOOKUP(B598,database!$B$2:$D$6001,3,FALSE))","v":""},null,null,null,null,null,null,"",null,null,0,null,1,"indip"]
["",null,{"$f":"IF(ISERROR(VLOOKUP(B599,database!$B$2:$C$6001,2,FALSE)),\"\",VLOOKUP(B599,database!$B$2:$C$6001,2,FALSE))","v":""},null,null,null,"",null,null,null,{"$f":"IF(ISERROR(VLOOKUP(B599,database!$B$2:$D$6001,3,FALSE)),\"\",VLOOKUP(B599,database!$B$2:$D$6001,3,FALSE))","v":""},null,null,null,null,null,null,"",null,null,0,null,1,"indip"]
["",null,{"$f":"IF(ISERROR(VLOOKUP(B600,database!$B$2:$C$6001,2,FALSE)),\"\",VLOOKUP(B600,database!$B$2:$C$6001,2,FALSE))","v":""},null,null,null,"",null,null,null,{"$f":"IF(ISERROR(VLOOKUP(B600,database!$B$2:$D$6001,3,FALSE)),\"\",VLOOKUP(B600,database!$B$2:$D$6001,3,FALSE))","v":""},null,null,null,null,null,null,"",null,null,0,null,1,"indip"]
["",null,{"$f":"IF(ISERROR(VLOOKUP(B601,database!$B$2:$C$6001,2,FALSE)),\"\",VLOOKUP(B601,database!$B$2:$C$6001,2,FALSE))","v":""},null,null,null,"",null,null,null,{"$f":"IF(ISERROR(VLOOKUP(B601,database!$B$2:$D$6001,3,FALSE)),\"\",VLOOKUP(B601,database!$B$2:$D$6001,3,FALSE))","v":""},null,null,null,null,null,null,"",null,null,0,null,1,"indip"]
["",null,{"$f":"IF(ISERROR(VLOOKUP(B602,database!$B$2:$C$6001,2,FALSE)),\"\",VLOOKUP(B602,database!$B$2:$C$6001,2,FALSE))","v":""},null,null,null,"",null,null,null,{"$f":"IF(ISERROR(VLOOKUP(B602,database!$B$2:$D$6001,3,FALSE)),\"\",VLOOKUP(B602,database!$B$2:$D$6001,3,FALSE))","v":""},null,null,null,null,null,null,"",null,null,0,null,1,"indip"]
["",null,{"$f":"IF(ISERROR(VLOOKUP(B603,database!$B$2:$C$6001,2,FALSE)),\"\",VLOOKUP(B603,database!$B$2:$C$6001,2,FALSE))","v":""},null,null,null,"",null,null,null,{"$f":"IF(ISERROR(VLOOKUP(B603,database!$B$2:$D$6001,3,FALSE)),\"\",VLOOKUP(B603,database!$B$2:$D$6001,3,FALSE))","v":""},null,null,null,null,null,null,"",null,null,0,null,1,"indip"]
["",null,{"$f":"IF(ISERROR(VLOOKUP(B604,database!$B$2:$C$6001,2,FALSE)),\"\",VLOOKUP(B604,database!$B$2:$C$6001,2,FALSE))","v":""},null,null,null,"",null,null,null,{"$f":"IF(ISERROR(VLOOKUP(B604,database!$B$2:$D$6001,3,FALSE)),\"\",VLOOKUP(B604,database!$B$2:$D$6001,3,FALSE))","v":""},null,null,null,null,null,null,"",null,null,0,null,1,"indip"]
["",null,{"$f":"IF(ISERROR(VLOOKUP(B605,database!$B$2:$C$6001,2,FALSE)),\"\",VLOOKUP(B605,database!$B$2:$C$6001,2,FALSE))","v":""},null,null,null,"",null,null,null,{"$f":"IF(ISERROR(VLOOKUP(B605,database!$B$2:$D$6001,3,FALSE)),\"\",VLOOKUP(B605,database!$B$2:$D$6001,3,FALSE))","v":""},null,null,null,null,null,null,"",null,null,0,null,1,"indip"]
["",null,{"$f":"IF(ISERROR(VLOOKUP(B606,database!$B$2:$C$6001,2,FALSE)),\"\",VLOOKUP(B606,database!$B$2:$C$6001,2,FALSE))","v":""},null,null,null,"",null,null,null,{"$f":"IF(ISERROR(VLOOKUP(B606,database!$B$2:$D$6001,3,FALSE)),\"\",VLOOKUP(B606,database!$B$2:$D$6001,3,FALSE))","v":""},null,null,null,null,null,null,"",null,null,0,null,1,"indip"]
["",null,{"$f":"IF(ISERROR(VLOOKUP(B607,database!$B$2:$C$6001,2,FALSE)),\"\",VLOOKUP(B607,database!$B$2:$C$6001,2,FALSE))","v":""},null,null,null,"",null,null,null,{"$f":"IF(ISERROR(VLOOKUP(B607,database!$B$2:$D$6001,3,FALSE)),\"\",VLOOKUP(B607,database!$B$2:$D$6001,3,FALSE))","v":""},null,null,null,null,null,null,"",null,null,0,null,1,"indip"]
["",null,{"$f":"IF(ISERROR(VLOOKUP(B608,database!$B$2:$C$6001,2,FALSE)),\"\",VLOOKUP(B608,database!$B$2:$C$6001,2,FALSE))","v":""},null,null,null,"",null,null,null,{"$f":"IF(ISERROR(VLOOKUP(B608,database!$B$2:$D$6001,3,FALSE)),\"\",VLOOKUP(B608,database!$B$2:$D$6001,3,FALSE))","v":""},null,null,null,null,null,null,"",null,null,0,null,1,"indip"]
["",null,{"$f":"IF(ISERROR(VLOOKUP(B609,database!$B$2:$C$6001,2,FALSE)),\"\",VLOOKUP(B609,database!$B$2:$C$6001,2,FALSE))","v":""},null,null,null,"",null,null,null,{"$f":"IF(ISERROR(VLOOKUP(B609,database!$B$2:$D$6001,3,FALSE)),\"\",VLOOKUP(B609,database!$B$2:$D$6001,3,FALSE))","v":""},null,null,null,null,null,null,"",null,null,0,null,1,"indip"]
["",null,{"$f":"IF(ISERROR(VLOOKUP(B610,database!$B$2:$C$6001,2,FALSE)),\"\",VLOOKUP(B610,database!$B$2:$C$6001,2,FALSE))","v":""},null,null,null,"",null,null,null,{"$f":"IF(ISERROR(VLOOKUP(B610,database!$B$2:$D$6001,3,FALSE)),\"\",VLOOKUP(B610,database!$B$2:$D$6001,3,FALSE))","v":""},null,null,null,null,null,null,"",null,null,0,null,1,"indip"]
["",null,{"$f":"IF(ISERROR(VLOOKUP(B611,database!$B$2:$C$6001,2,FALSE)),\"\",VLOOKUP(B611,database!$B$2:$C$6001,2,FALSE))","v":""},null,null,null,"",null,null,null,{"$f":"IF(ISERROR(VLOOKUP(B611,database!$B$2:$D$6001,3,FALSE)),\"\",VLOOKUP(B611,database!$B$2:$D$6001,3,FALSE))","v":""},null,null,null,null,null,null,"",null,null,0,null,1,"indip"]
["",null,{"$f":"IF(ISERROR(VLOOKUP(B612,database!$B$2:$C$6001,2,FALSE)),\"\",VLOOKUP(B612,database!$B$2:$C$6001,2,FALSE))","v":""},null,null,null,"",null,null,null,{"$f":"IF(ISERROR(VLOOKUP(B612,database!$B$2:$D$6001,3,FALSE)),\"\",VLOOKUP(B612,database!$B$2:$D$6001,3,FALSE))","v":""},null,null,null,null,null,null,"",null,null,0,null,1,"indip"]
["",null,{"$f":"IF(ISERROR(VLOOKUP(B613,database!$B$2:$C$6001,2,FALSE)),\"\",VLOOKUP(B613,database!$B$2:$C$6001,2,FALSE))","v":""},null,null,null,"",null,null,null,{"$f":"IF(ISERROR(VLOOKUP(B613,database!$B$2:$D$6001,3,FALSE)),\"\",VLOOKUP(B613,database!$B$2:$D$6001,3,FALSE))","v":""},null,null,null,null,null,null,"",null,null,0,null,1,"indip"]
["",null,{"$f":"IF(ISERROR(VLOOKUP(B614,database!$B$2:$C$6001,2,FALSE)),\"\",VLOOKUP(B614,database!$B$2:$C$6001,2,FALSE))","v":""},null,null,null,"",null,null,null,{"$f":"IF(ISERROR(VLOOKUP(B614,database!$B$2:$D$6001,3,FALSE)),\"\",VLOOKUP(B614,database!$B$2:$D$6001,3,FALSE))","v":""},null,null,null,null,null,null,"",null,null,0,null,1,"indip"]
["",null,{"$f":"IF(ISERROR(VLOOKUP(B615,database!$B$2:$C$6001,2,FALSE)),\"\",VLOOKUP(B615,database!$B$2:$C$6001,2,FALSE))","v":""},null,null,null,"",null,null,null,{"$f":"IF(ISERROR(VLOOKUP(B615,database!$B$2:$D$6001,3,FALSE)),\"\",VLOOKUP(B615,database!$B$2:$D$6001,3,FALSE))","v":""},null,null,null,null,null,null,"",null,null,0,null,1,"indip"]
["",null,{"$f":"IF(ISERROR(VLOOKUP(B616,database!$B$2:$C$6001,2,FALSE)),\"\",VLOOKUP(B616,database!$B$2:$C$6001,2,FALSE))","v":""},null,null,null,"",null,null,null,{"$f":"IF(ISERROR(VLOOKUP(B616,database!$B$2:$D$6001,3,FALSE)),\"\",VLOOKUP(B616,database!$B$2:$D$6001,3,FALSE))","v":""},null,null,null,null,null,null,"",null,null,0,null,1,"indip"]
["",null,{"$f":"IF(ISERROR(VLOOKUP(B617,database!$B$2:$C$6001,2,FALSE)),\"\",VLOOKUP(B617,database!$B$2:$C$6001,2,FALSE))","v":""},null,null,null,"",null,null,null,{"$f":"IF(ISERROR(VLOOKUP(B617,database!$B$2:$D$6001,3,FALSE)),\"\",VLOOKUP(B617,database!$B$2:$D$6001,3,FALSE))","v":""},null,null,null,null,null,null,"",null,null,0,null,1,"indip"]
["",null,{"$f":"IF(ISERROR(VLOOKUP(B618,database!$B$2:$C$6001,2,FALSE)),\"\",VLOOKUP(B618,database!$B$2:$C$6001,2,FALSE))","v":""},null,null,null,"",null,null,null,{"$f":"IF(ISERROR(VLOOKUP(B618,database!$B$2:$D$6001,3,FALSE)),\"\",VLOOKUP(B618,database!$B$2:$D$6001,3,FALSE))","v":""},null,null,null,null,null,null,"",null,null,0,null,1,"indip"]
["",null,{"$f":"IF(ISERROR(VLOOKUP(B619,database!$B$2:$C$6001,2,FALSE)),\"\",VLOOKUP(B619,database!$B$2:$C$6001,2,FALSE))","v":""},null,null,null,"",null,null,null,{"$f":"IF(ISERROR(VLOOKUP(B619,database!$B$2:$D$6001,3,FALSE)),\"\",VLOOKUP(B619,database!$B$2:$D$6001,3,FALSE))","v":""},null,null,null,null,null,null,"",null,null,0,null,1,"indip"]
["",null,{"$f":"IF(ISERROR(VLOOKUP(B620,database!$B$2:$C$6001,2,FALSE)),\"\",VLOOKUP(B620,database!$B$2:$C$6001,2,FALSE))","v":""},null,null,null,"",null,null,null,{"$f":"IF(ISERROR(VLOOKUP(B620,database!$B$2:$D$6001,3,FALSE)),\"\",VLOOKUP(B620,database!$B$2:$D$6001,3,FALSE))","v":""},null,null,null,null,null,null,"",null,null,0,null,1,"indip"]
["",null,{"$f":"IF(ISERROR(VLOOKUP(B621,database!$B$2:$C$6001,2,FALSE)),\"\",VLOOKUP(B621,database!$B$2:$C$6001,2,FALSE))","v":""},null,null,null,"",null,null,null,{"$f":"IF(ISERROR(VLOOKUP(B621,database!$B$2:$D$6001,3,FALSE)),\"\",VLOOKUP(B621,database!$B$2:$D$6001,3,FALSE))","v":""},null,null,null,null,null,null,"",null,null,0,null,1,"indip"]
["",null,{"$f":"IF(ISERROR(VLOOKUP(B622,database!$B$2:$C$6001,2,FALSE)),\"\",VLOOKUP(B622,database!$B$2:$C$6001,2,FALSE))","v":""},null,null,null,"",null,null,null,{"$f":"IF(ISERROR(VLOOKUP(B622,database!$B$2:$D$6001,3,FALSE)),\"\",VLOOKUP(B622,database!$B$2:$D$6001,3,FALSE))","v":""},null,null,null,null,null,null,"",null,null,0,null,1,"indip"]
["",null,{"$f":"IF(ISERROR(VLOOKUP(B623,database!$B$2:$C$6001,2,FALSE)),\"\",VLOOKUP(B623,database!$B$2:$C$6001,2,FALSE))","v":""},null,null,null,"",null,null,null,{"$f":"IF(ISERROR(VLOOKUP(B623,database!$B$2:$D$6001,3,FALSE)),\"\",VLOOKUP(B623,database!$B$2:$D$6001,3,FALSE))","v":""},null,null,null,null,null,null,"",null,null,0,null,1,"indip"]
["",null,{"$f":"IF(ISERROR(VLOOKUP(B624,database!$B$2:$C$6001,2,FALSE)),\"\",VLOOKUP(B624,database!$B$2:$C$6001,2,FALSE))","v":""},null,null,null,"",null,null,null,{"$f":"IF(ISERROR(VLOOKUP(B624,database!$B$2:$D$6001,3,FALSE)),\"\",VLOOKUP(B624,database!$B$2:$D$6001,3,FALSE))","v":""},null,null,null,null,null,null,"",null,null,0,null,1,"indip"]
["",null,{"$f":"IF(ISERROR(VLOOKUP(B625,database!$B$2:$C$6001,2,FALSE)),\"\",VLOOKUP(B625,database!$B$2:$C$6001,2,FALSE))","v":""},null,null,null,"",null,null,null,{"$f":"IF(ISERROR(VLOOKUP(B625,database!$B$2:$D$6001,3,FALSE)),\"\",VLOOKUP(B625,database!$B$2:$D$6001,3,FALSE))","v":""},null,null,null,null,null,null,"",null,null,0,null,1,"indip"]
["",null,{"$f":"IF(ISERROR(VLOOKUP(B626,database!$B$2:$C$6001,2,FALSE)),\"\",VLOOKUP(B626,database!$B$2:$C$6001,2,FALSE))","v":""},null,null,null,"",null,null,null,{"$f":"IF(ISERROR(VLOOKUP(B626,database!$B$2:$D$6001,3,FALSE)),\"\",VLOOKUP(B626,database!$B$2:$D$6001,3,FALSE))","v":""},null,null,null,null,null,null,"",null,null,0,null,1,"indip"]
["",null,{"$f":"IF(ISERROR(VLOOKUP(B627,database!$B$2:$C$6001,2,FALSE)),\"\",VLOOKUP(B627,database!$B$2:$C$6001,2,FALSE))","v":""},null,null,null,"",null,null,null,{"$f":"IF(ISERROR(VLOOKUP(B627,database!$B$2:$D$6001,3,FALSE)),\"\",VLOOKUP(B627,database!$B$2:$D$6001,3,FALSE))","v":""},null,null,null,null,null,null,"",null,null,0,null,1,"indip"]
["",null,{"$f":"IF(ISERROR(VLOOKUP(B628,database!$B$2:$C$6001,2,FALSE)),\"\",VLOOKUP(B628,database!$B$2:$C$6001,2,FALSE))","v":""},null,null,null,"",null,null,null,{"$f":"IF(ISERROR(VLOOKUP(B628,database!$B$2:$D$6001,3,FALSE)),\"\",VLOOKUP(B628,database!$B$2:$D$6001,3,FALSE))","v":""},null,null,null,null,null,null,"",null,null,0,null,1,"indip"]
["",null,{"$f":"IF(ISERROR(VLOOKUP(B629,database!$B$2:$C$6001,2,FALSE)),\"\",VLOOKUP(B629,database!$B$2:$C$6001,2,FALSE))","v":""},null,null,null,"",null,null,null,{"$f":"IF(ISERROR(VLOOKUP(B629,database!$B$2:$D$6001,3,FALSE)),\"\",VLOOKUP(B629,database!$B$2:$D$6001,3,FALSE))","v":""},null,null,null,null,null,null,"",null,null,0,null,1,"indip"]
["",null,{"$f":"IF(ISERROR(VLOOKUP(B630,database!$B$2:$C$6001,2,FALSE)),\"\",VLOOKUP(B630,database!$B$2:$C$6001,2,FALSE))","v":""},null,null,null,"",null,null,null,{"$f":"IF(ISERROR(VLOOKUP(B630,database!$B$2:$D$6001,3,FALSE)),\"\",VLOOKUP(B630,database!$B$2:$D$6001,3,FALSE))","v":""},null,null,null,null,null,null,"",null,null,0,null,1,"indip"]
["",null,{"$f":"IF(ISERROR(VLOOKUP(B631,database!$B$2:$C$6001,2,FALSE)),\"\",VLOOKUP(B631,database!$B$2:$C$6001,2,FALSE))","v":""},null,null,null,"",null,null,null,{"$f":"IF(ISERROR(VLOOKUP(B631,database!$B$2:$D$6001,3,FALSE)),\"\",VLOOKUP(B631,database!$B$2:$D$6001,3,FALSE))","v":""},null,null,null,null,null,null,"",null,null,0,null,1,"indip"]
["",null,{"$f":"IF(ISERROR(VLOOKUP(B632,database!$B$2:$C$6001,2,FALSE)),\"\",VLOOKUP(B632,database!$B$2:$C$6001,2,FALSE))","v":""},null,null,null,"",null,null,null,{"$f":"IF(ISERROR(VLOOKUP(B632,database!$B$2:$D$6001,3,FALSE)),\"\",VLOOKUP(B632,database!$B$2:$D$6001,3,FALSE))","v":""},null,null,null,null,null,null,"",null,null,0,null,1,"indip"]
["",null,{"$f":"IF(ISERROR(VLOOKUP(B633,database!$B$2:$C$6001,2,FALSE)),\"\",VLOOKUP(B633,database!$B$2:$C$6001,2,FALSE))","v":""},null,null,null,"",null,null,null,{"$f":"IF(ISERROR(VLOOKUP(B633,database!$B$2:$D$6001,3,FALSE)),\"\",VLOOKUP(B633,database!$B$2:$D$6001,3,FALSE))","v":""},null,null,null,null,null,null,"",null,null,0,null,1,"indip"]
["",null,{"$f":"IF(ISERROR(VLOOKUP(B634,database!$B$2:$C$6001,2,FALSE)),\"\",VLOOKUP(B634,database!$B$2:$C$6001,2,FALSE))","v":""},null,null,null,"",null,null,null,{"$f":"IF(ISERROR(VLOOKUP(B634,database!$B$2:$D$6001,3,FALSE)),\"\",VLOOKUP(B634,database!$B$2:$D$6001,3,FALSE))","v":""},null,null,null,null,null,null,"",null,null,0,null,1,"indip"]
["",null,{"$f":"IF(ISERROR(VLOOKUP(B635,database!$B$2:$C$6001,2,FALSE)),\"\",VLOOKUP(B635,database!$B$2:$C$6001,2,FALSE))","v":""},null,null,null,"",null,null,null,{"$f":"IF(ISERROR(VLOOKUP(B635,database!$B$2:$D$6001,3,FALSE)),\"\",VLOOKUP(B635,database!$B$2:$D$6001,3,FALSE))","v":""},null,null,null,null,null,null,"",null,null,0,null,1,"indip"]
["",null,{"$f":"IF(ISERROR(VLOOKUP(B636,database!$B$2:$C$6001,2,FALSE)),\"\",VLOOKUP(B636,database!$B$2:$C$6001,2,FALSE))","v":""},null,null,null,"",null,null,null,{"$f":"IF(ISERROR(VLOOKUP(B636,database!$B$2:$D$6001,3,FALSE)),\"\",VLOOKUP(B636,database!$B$2:$D$6001,3,FALSE))","v":""},null,null,null,null,null,null,"",null,null,0,null,1,"indip"]
["",null,{"$f":"IF(ISERROR(VLOOKUP(B637,database!$B$2:$C$6001,2,FALSE)),\"\",VLOOKUP(B637,database!$B$2:$C$6001,2,FALSE))","v":""},null,null,null,"",null,null,null,{"$f":"IF(ISERROR(VLOOKUP(B637,database!$B$2:$D$6001,3,FALSE)),\"\",VLOOKUP(B637,database!$B$2:$D$6001,3,FALSE))","v":""},null,null,null,null,null,null,"",null,null,0,null,1,"indip"]
["",null,{"$f":"IF(ISERROR(VLOOKUP(B638,database!$B$2:$C$6001,2,FALSE)),\"\",VLOOKUP(B638,database!$B$2:$C$6001,2,FALSE))","v":""},null,null,null,"",null,null,null,{"$f":"IF(ISERROR(VLOOKUP(B638,database!$B$2:$D$6001,3,FALSE)),\"\",VLOOKUP(B638,database!$B$2:$D$6001,3,FALSE))","v":""},null,null,null,null,null,null,"",null,null,0,null,1,"indip"]
["",null,{"$f":"IF(ISERROR(VLOOKUP(B639,database!$B$2:$C$6001,2,FALSE)),\"\",VLOOKUP(B639,database!$B$2:$C$6001,2,FALSE))","v":""},null,null,null,"",null,null,null,{"$f":"IF(ISERROR(VLOOKUP(B639,database!$B$2:$D$6001,3,FALSE)),\"\",VLOOKUP(B639,database!$B$2:$D$6001,3,FALSE))","v":""},null,null,null,null,null,null,"",null,null,0,null,1,"indip"]
["",null,{"$f":"IF(ISERROR(VLOOKUP(B640,database!$B$2:$C$6001,2,FALSE)),\"\",VLOOKUP(B640,database!$B$2:$C$6001,2,FALSE))","v":""},null,null,null,"",null,null,null,{"$f":"IF(ISERROR(VLOOKUP(B640,database!$B$2:$D$6001,3,FALSE)),\"\",VLOOKUP(B640,database!$B$2:$D$6001,3,FALSE))","v":""},null,null,null,null,null,null,"",null,null,0,null,1,"indip"]
["",null,{"$f":"IF(ISERROR(VLOOKUP(B641,database!$B$2:$C$6001,2,FALSE)),\"\",VLOOKUP(B641,database!$B$2:$C$6001,2,FALSE))","v":""},null,null,null,"",null,null,null,{"$f":"IF(ISERROR(VLOOKUP(B641,database!$B$2:$D$6001,3,FALSE)),\"\",VLOOKUP(B641,database!$B$2:$D$6001,3,FALSE))","v":""},null,null,null,null,null,null,"",null,null,0,null,1,"indip"]
["",null,{"$f":"IF(ISERROR(VLOOKUP(B642,database!$B$2:$C$6001,2,FALSE)),\"\",VLOOKUP(B642,database!$B$2:$C$6001,2,FALSE))","v":""},null,null,null,"",null,null,null,{"$f":"IF(ISERROR(VLOOKUP(B642,database!$B$2:$D$6001,3,FALSE)),\"\",VLOOKUP(B642,database!$B$2:$D$6001,3,FALSE))","v":""},null,null,null,null,null,null,"",null,null,0,null,1,"indip"]
["",null,{"$f":"IF(ISERROR(VLOOKUP(B643,database!$B$2:$C$6001,2,FALSE)),\"\",VLOOKUP(B643,database!$B$2:$C$6001,2,FALSE))","v":""},null,null,null,"",null,null,null,{"$f":"IF(ISERROR(VLOOKUP(B643,database!$B$2:$D$6001,3,FALSE)),\"\",VLOOKUP(B643,database!$B$2:$D$6001,3,FALSE))","v":""},null,null,null,null,null,null,"",null,null,0,null,1,"indip"]
["",null,{"$f":"IF(ISERROR(VLOOKUP(B644,database!$B$2:$C$6001,2,FALSE)),\"\",VLOOKUP(B644,database!$B$2:$C$6001,2,FALSE))","v":""},null,null,null,"",null,null,null,{"$f":"IF(ISERROR(VLOOKUP(B644,database!$B$2:$D$6001,3,FALSE)),\"\",VLOOKUP(B644,database!$B$2:$D$6001,3,FALSE))","v":""},null,null,null,null,null,null,"",null,null,{"$f":"IFERROR(INDEX(M$39:N$140,MATCH(B644,M$39:M$140,0),2),0)","v":0},null,{"$f":"IF(AND(U644=0,C644=\"\"),1,2)","v":1},{"$f":"IF(B644=\"-\",\"\",IF(OR(B644=M$39,B644=M$40,B644=M$41,B644=M$42,B644=M$43,B644=M$44,B644=M$45,B644=M$46,B644=M$47,,B644=M$50,B644=M$51,B644=M$52,B644=M$53,B644=M$54,B644=M$55,B644=M$56,B644=M$57,B644=M$70),\"\",IF(C644=\"\",\"indip\",F644)))","v":"indip"}]
[{"$f":"IF(B645=\"\",\"\",ROW(A642))","v":""},null,{"$f":"IF(ISERROR(VLOOKUP(B645,database!$B$2:$C$6001,2,FALSE)),\"\",VLOOKUP(B645,database!$B$2:$C$6001,2,FALSE))","v":""},null,null,null,{"$f":"IF(B645=\"\",\"\",IF(B645=\"-\",0,IF(W645=1,1,IF(AND(U645=0,F645=\"SSB\"),2,IF(AND(U645=0,F645=\"DIGI\"),3,IF(AND(U645=0,F645=\"CW\"),5,U645))))))","v":""},null,null,null,{"$f":"IF(ISERROR(VLOOKUP(B645,database!$B$2:$D$6001,3,FALSE)),\"\",VLOOKUP(B645,database!$B$2:$D$6001,3,FALSE))","v":""},null,null,null,null,null,null,{"$f":"LEFT(C645,2)","v":""},null,null,0,null,1,"indip"]
["",null,{"$f":"IF(ISERROR(VLOOKUP(B646,database!$B$2:$C$6001,2,FALSE)),\"\",VLOOKUP(B646,database!$B$2:$C$6001,2,FALSE))","v":""},null,null,null,"",null,null,null,{"$f":"IF(ISERROR(VLOOKUP(B646,database!$B$2:$D$6001,3,FALSE)),\"\",VLOOKUP(B646,database!$B$2:$D$6001,3,FALSE))","v":""},null,null,null,null,null,null,"",null,null,0,null,1,"indip"]
["",null,{"$f":"IF(ISERROR(VLOOKUP(B647,database!$B$2:$C$6001,2,FALSE)),\"\",VLOOKUP(B647,database!$B$2:$C$6001,2,FALSE))","v":""},null,null,null,"",null,null,null,{"$f":"IF(ISERROR(VLOOKUP(B647,database!$B$2:$D$6001,3,FALSE)),\"\",VLOOKUP(B647,database!$B$2:$D$6001,3,FALSE))","v":""},null,null,null,null,null,null,"",null,null,0,null,1,"indip"]
["",null,{"$f":"IF(ISERROR(VLOOKUP(B648,database!$B$2:$C$6001,2,FALSE)),\"\",VLOOKUP(B648,database!$B$2:$C$6001,2,FALSE))","v":""},null,null,null,"",null,null,null,{"$f":"IF(ISERROR(VLOOKUP(B648,database!$B$2:$D$6001,3,FALSE)),\"\",VLOOKUP(B648,database!$B$2:$D$6001,3,FALSE))","v":""},null,null,null,null,null,null,"",null,null,0,null,1,"indip"]
["",null,{"$f":"IF(ISERROR(VLOOKUP(B649,database!$B$2:$C$6001,2,FALSE)),\"\",VLOOKUP(B649,database!$B$2:$C$6001,2,FALSE))","v":""},null,null,null,"",null,null,null,{"$f":"IF(ISERROR(VLOOKUP(B649,database!$B$2:$D$6001,3,FALSE)),\"\",VLOOKUP(B649,database!$B$2:$D$6001,3,FALSE))","v":""},null,null,null,null,null,null,"",null,null,0,null,1,"indip"]
["",null,{"$f":"IF(ISERROR(VLOOKUP(B650,database!$B$2:$C$6001,2,FALSE)),\"\",VLOOKUP(B650,database!$B$2:$C$6001,2,FALSE))","v":""},null,null,null,"",null,null,null,{"$f":"IF(ISERROR(VLOOKUP(B650,database!$B$2:$D$6001,3,FALSE)),\"\",VLOOKUP(B650,database!$B$2:$D$6001,3,FALSE))","v":""},null,null,null,null,null,null,"",null,null,0,null,1,"indip"]
["",null,{"$f":"IF(ISERROR(VLOOKUP(B651,database!$B$2:$C$6001,2,FALSE)),\"\",VLOOKUP(B651,database!$B$2:$C$6001,2,FALSE))","v":""},null,null,null,"",null,null,null,{"$f":"IF(ISERROR(VLOOKUP(B651,database!$B$2:$D$6001,3,FALSE)),\"\",VLOOKUP(B651,database!$B$2:$D$6001,3,FALSE))","v":""},null,null,null,null,null,null,"",null,null,0,null,1,"indip"]
["",null,{"$f":"IF(ISERROR(VLOOKUP(B652,database!$B$2:$C$6001,2,FALSE)),\"\",VLOOKUP(B652,database!$B$2:$C$6001,2,FALSE))","v":""},null,null,null,"",null,null,null,{"$f":"IF(ISERROR(VLOOKUP(B652,database!$B$2:$D$6001,3,FALSE)),\"\",VLOOKUP(B652,database!$B$2:$D$6001,3,FALSE))","v":""},null,null,null,null,null,null,"",null,null,0,null,1,"indip"]
["",null,{"$f":"IF(ISERROR(VLOOKUP(B653,database!$B$2:$C$6001,2,FALSE)),\"\",VLOOKUP(B653,database!$B$2:$C$6001,2,FALSE))","v":""},null,null,null,"",null,null,null,{"$f":"IF(ISERROR(VLOOKUP(B653,database!$B$2:$D$6001,3,FALSE)),\"\",VLOOKUP(B653,database!$B$2:$D$6001,3,FALSE))","v":""},null,null,null,null,null,null,"",null,null,0,null,1,"indip"]
["",null,{"$f":"IF(ISERROR(VLOOKUP(B654,database!$B$2:$C$6001,2,FALSE)),\"\",VLOOKUP(B654,database!$B$2:$C$6001,2,FALSE))","v":""},null,null,null,"",null,null,null,{"$f":"IF(ISERROR(VLOOKUP(B654,database!$B$2:$D$6001,3,FALSE)),\"\",VLOOKUP(B654,database!$B$2:$D$6001,3,FALSE))","v":""},null,null,null,null,null,null,"",null,null,0,null,1,"indip"]
["",null,{"$f":"IF(ISERROR(VLOOKUP(B655,database!$B$2:$C$6001,2,FALSE)),\"\",VLOOKUP(B655,database!$B$2:$C$6001,2,FALSE))","v":""},null,null,null,"",null,null,null,{"$f":"IF(ISERROR(VLOOKUP(B655,database!$B$2:$D$6001,3,FALSE)),\"\",VLOOKUP(B655,database!$B$2:$D$6001,3,FALSE))","v":""},null,null,null,null,null,null,"",null,null,0,null,1,"indip"]
["",null,{"$f":"IF(ISERROR(VLOOKUP(B656,database!$B$2:$C$6001,2,FALSE)),\"\",VLOOKUP(B656,database!$B$2:$C$6001,2,FALSE))","v":""},null,null,null,"",null,null,null,{"$f":"IF(ISERROR(VLOOKUP(B656,database!$B$2:$D$6001,3,FALSE)),\"\",VLOOKUP(B656,database!$B$2:$D$6001,3,FALSE))","v":""},null,null,null,null,null,null,"",null,null,0,null,1,"indip"]
["",null,{"$f":"IF(ISERROR(VLOOKUP(B657,database!$B$2:$C$6001,2,FALSE)),\"\",VLOOKUP(B657,database!$B$2:$C$6001,2,FALSE))","v":""},null,null,null,"",null,null,null,{"$f":"IF(ISERROR(VLOOKUP(B657,database!$B$2:$D$6001,3,FALSE)),\"\",VLOOKUP(B657,database!$B$2:$D$6001,3,FALSE))","v":""},null,null,null,null,null,null,"",null,null,0,null,1,"indip"]
["",null,{"$f":"IF(ISERROR(VLOOKUP(B658,database!$B$2:$C$6001,2,FALSE)),\"\",VLOOKUP(B658,database!$B$2:$C$6001,2,FALSE))","v":""},null,null,null,"",null,null,null,{"$f":"IF(ISERROR(VLOOKUP(B658,database!$B$2:$D$6001,3,FALSE)),\"\",VLOOKUP(B658,database!$B$2:$D$6001,3,FALSE))","v":""},null,null,null,null,null,null,"",null,null,0,null,1,"indip"]
["",null,{"$f":"IF(ISERROR(VLOOKUP(B659,database!$B$2:$C$6001,2,FALSE)),\"\",VLOOKUP(B659,database!$B$2:$C$6001,2,FALSE))","v":""},null,null,null,"",null,null,null,{"$f":"IF(ISERROR(VLOOKUP(B659,database!$B$2:$D$6001,3,FALSE)),\"\",VLOOKUP(B659,database!$B$2:$D$6001,3,FALSE))","v":""},null,null,null,null,null,null,"",null,null,0,null,1,"indip"]
["",null,{"$f":"IF(ISERROR(VLOOKUP(B660,database!$B$2:$C$6001,2,FALSE)),\"\",VLOOKUP(B660,database!$B$2:$C$6001,2,FALSE))","v":""},null,null,null,"",null,null,null,{"$f":"IF(ISERROR(VLOOKUP(B660,database!$B$2:$D$6001,3,FALSE)),\"\",VLOOKUP(B660,database!$B$2:$D$6001,3,FALSE))","v":""},null,null,null,null,null,null,"",null,null,0,null,1,"indip"]
["",null,{"$f":"IF(ISERROR(VLOOKUP(B661,database!$B$2:$C$6001,2,FALSE)),\"\",VLOOKUP(B661,database!$B$2:$C$6001,2,FALSE))","v":""},null,null,null,"",null,null,null,{"$f":"IF(ISERROR(VLOOKUP(B661,database!$B$2:$D$6001,3,FALSE)),\"\",VLOOKUP(B661,database!$B$2:$D$6001,3,FALSE))","v":""},null,null,null,null,null,null,"",null,null,0,null,1,"indip"]
["",null,{"$f":"IF(ISERROR(VLOOKUP(B662,database!$B$2:$C$6001,2,FALSE)),\"\",VLOOKUP(B662,database!$B$2:$C$6001,2,FALSE))","v":""},null,null,null,"",null,null,null,{"$f":"IF(ISERROR(VLOOKUP(B662,database!$B$2:$D$6001,3,FALSE)),\"\",VLOOKUP(B662,database!$B$2:$D$6001,3,FALSE))","v":""},null,null,null,null,null,null,"",null,null,0,null,1,"indip"]
["",null,{"$f":"IF(ISERROR(VLOOKUP(B663,database!$B$2:$C$6001,2,FALSE)),\"\",VLOOKUP(B663,database!$B$2:$C$6001,2,FALSE))","v":""},null,null,null,"",null,null,null,{"$f":"IF(ISERROR(VLOOKUP(B663,database!$B$2:$D$6001,3,FALSE)),\"\",VLOOKUP(B663,database!$B$2:$D$6001,3,FALSE))","v":""},null,null,null,null,null,null,"",null,null,0,null,1,"indip"]
["",null,{"$f":"IF(ISERROR(VLOOKUP(B664,database!$B$2:$C$6001,2,FALSE)),\"\",VLOOKUP(B664,database!$B$2:$C$6001,2,FALSE))","v":""},null,null,null,"",null,null,null,{"$f":"IF(ISERROR(VLOOKUP(B664,database!$B$2:$D$6001,3,FALSE)),\"\",VLOOKUP(B664,database!$B$2:$D$6001,3,FALSE))","v":""},null,null,null,null,null,null,"",null,null,0,null,1,"indip"]
["",null,{"$f":"IF(ISERROR(VLOOKUP(B665,database!$B$2:$C$6001,2,FALSE)),\"\",VLOOKUP(B665,database!$B$2:$C$6001,2,FALSE))","v":""},null,null,null,"",null,null,null,{"$f":"IF(ISERROR(VLOOKUP(B665,database!$B$2:$D$6001,3,FALSE)),\"\",VLOOKUP(B665,database!$B$2:$D$6001,3,FALSE))","v":""},null,null,null,null,null,null,"",null,null,0,null,1,"indip"]
["",null,{"$f":"IF(ISERROR(VLOOKUP(B666,database!$B$2:$C$6001,2,FALSE)),\"\",VLOOKUP(B666,database!$B$2:$C$6001,2,FALSE))","v":""},null,null,null,"",null,null,null,{"$f":"IF(ISERROR(VLOOKUP(B666,database!$B$2:$D$6001,3,FALSE)),\"\",VLOOKUP(B666,database!$B$2:$D$6001,3,FALSE))","v":""},null,null,null,null,null,null,"",null,null,0,null,1,"indip"]
["",null,{"$f":"IF(ISERROR(VLOOKUP(B667,database!$B$2:$C$6001,2,FALSE)),\"\",VLOOKUP(B667,database!$B$2:$C$6001,2,FALSE))","v":""},null,null,null,"",null,null,null,{"$f":"IF(ISERROR(VLOOKUP(B667,database!$B$2:$D$6001,3,FALSE)),\"\",VLOOKUP(B667,database!$B$2:$D$6001,3,FALSE))","v":""},null,null,null,null,null,null,"",null,null,0,null,1,"indip"]
["",null,{"$f":"IF(ISERROR(VLOOKUP(B668,database!$B$2:$C$6001,2,FALSE)),\"\",VLOOKUP(B668,database!$B$2:$C$6001,2,FALSE))","v":""},null,null,null,"",null,null,null,{"$f":"IF(ISERROR(VLOOKUP(B668,database!$B$2:$D$6001,3,FALSE)),\"\",VLOOKUP(B668,database!$B$2:$D$6001,3,FALSE))","v":""},null,null,null,null,null,null,"",null,null,0,null,1,"indip"]
["",null,{"$f":"IF(ISERROR(VLOOKUP(B669,database!$B$2:$C$6001,2,FALSE)),\"\",VLOOKUP(B669,database!$B$2:$C$6001,2,FALSE))","v":""},null,null,null,"",null,null,null,{"$f":"IF(ISERROR(VLOOKUP(B669,database!$B$2:$D$6001,3,FALSE)),\"\",VLOOKUP(B669,database!$B$2:$D$6001,3,FALSE))","v":""},null,null,null,null,null,null,"",null,null,0,null,1,"indip"]
["",null,{"$f":"IF(ISERROR(VLOOKUP(B670,database!$B$2:$C$6001,2,FALSE)),\"\",VLOOKUP(B670,database!$B$2:$C$6001,2,FALSE))","v":""},null,null,null,"",null,null,null,{"$f":"IF(ISERROR(VLOOKUP(B670,database!$B$2:$D$6001,3,FALSE)),\"\",VLOOKUP(B670,database!$B$2:$D$6001,3,FALSE))","v":""},null,null,null,null,null,null,"",null,null,0,null,1,"indip"]
["",null,{"$f":"IF(ISERROR(VLOOKUP(B671,database!$B$2:$C$6001,2,FALSE)),\"\",VLOOKUP(B671,database!$B$2:$C$6001,2,FALSE))","v":""},null,null,null,"",null,null,null,{"$f":"IF(ISERROR(VLOOKUP(B671,database!$B$2:$D$6001,3,FALSE)),\"\",VLOOKUP(B671,database!$B$2:$D$6001,3,FALSE))","v":""},null,null,null,null,null,null,"",null,null,0,null,1,"indip"]
["",null,{"$f":"IF(ISERROR(VLOOKUP(B672,database!$B$2:$C$6001,2,FALSE)),\"\",VLOOKUP(B672,database!$B$2:$C$6001,2,FALSE))","v":""},null,null,null,"",null,null,null,{"$f":"IF(ISERROR(VLOOKUP(B672,database!$B$2:$D$6001,3,FALSE)),\"\",VLOOKUP(B672,database!$B$2:$D$6001,3,FALSE))","v":""},null,null,null,null,null,null,"",null,null,0,null,1,"indip"]
["",null,{"$f":"IF(ISERROR(VLOOKUP(B673,database!$B$2:$C$6001,2,FALSE)),\"\",VLOOKUP(B673,database!$B$2:$C$6001,2,FALSE))","v":""},null,null,null,"",null,null,null,{"$f":"IF(ISERROR(VLOOKUP(B673,database!$B$2:$D$6001,3,FALSE)),\"\",VLOOKUP(B673,database!$B$2:$D$6001,3,FALSE))","v":""},null,null,null,null,null,null,"",null,null,0,null,1,"indip"]
["",null,{"$f":"IF(ISERROR(VLOOKUP(B674,database!$B$2:$C$6001,2,FALSE)),\"\",VLOOKUP(B674,database!$B$2:$C$6001,2,FALSE))","v":""},null,null,null,"",null,null,null,{"$f":"IF(ISERROR(VLOOKUP(B674,database!$B$2:$D$6001,3,FALSE)),\"\",VLOOKUP(B674,database!$B$2:$D$6001,3,FALSE))","v":""},null,null,null,null,null,null,"",null,null,0,null,1,"indip"]
["",null,{"$f":"IF(ISERROR(VLOOKUP(B675,database!$B$2:$C$6001,2,FALSE)),\"\",VLOOKUP(B675,database!$B$2:$C$6001,2,FALSE))","v":""},null,null,null,"",null,null,null,{"$f":"IF(ISERROR(VLOOKUP(B675,database!$B$2:$D$6001,3,FALSE)),\"\",VLOOKUP(B675,database!$B$2:$D$6001,3,FALSE))","v":""},null,null,null,null,null,null,"",null,null,0,null,1,"indip"]
["",null,{"$f":"IF(ISERROR(VLOOKUP(B676,database!$B$2:$C$6001,2,FALSE)),\"\",VLOOKUP(B676,database!$B$2:$C$6001,2,FALSE))","v":""},null,null,null,"",null,null,null,{"$f":"IF(ISERROR(VLOOKUP(B676,database!$B$2:$D$6001,3,FALSE)),\"\",VLOOKUP(B676,database!$B$2:$D$6001,3,FALSE))","v":""},null,null,null,null,null,null,"",null,null,0,null,1,"indip"]
["",null,{"$f":"IF(ISERROR(VLOOKUP(B677,database!$B$2:$C$6001,2,FALSE)),\"\",VLOOKUP(B677,database!$B$2:$C$6001,2,FALSE))","v":""},null,null,null,"",null,null,null,{"$f":"IF(ISERROR(VLOOKUP(B677,database!$B$2:$D$6001,3,FALSE)),\"\",VLOOKUP(B677,database!$B$2:$D$6001,3,FALSE))","v":""},null,null,null,null,null,null,"",null,null,0,null,1,"indip"]
["",null,{"$f":"IF(ISERROR(VLOOKUP(B678,database!$B$2:$C$6001,2,FALSE)),\"\",VLOOKUP(B678,database!$B$2:$C$6001,2,FALSE))","v":""},null,null,null,"",null,null,null,{"$f":"IF(ISERROR(VLOOKUP(B678,database!$B$2:$D$6001,3,FALSE)),\"\",VLOOKUP(B678,database!$B$2:$D$6001,3,FALSE))","v":""},null,null,null,null,null,null,"",null,null,0,null,1,"indip"]
["",null,{"$f":"IF(ISERROR(VLOOKUP(B679,database!$B$2:$C$6001,2,FALSE)),\"\",VLOOKUP(B679,database!$B$2:$C$6001,2,FALSE))","v":""},null,null,null,"",null,null,null,{"$f":"IF(ISERROR(VLOOKUP(B679,database!$B$2:$D$6001,3,FALSE)),\"\",VLOOKUP(B679,database!$B$2:$D$6001,3,FALSE))","v":""},null,null,null,null,null,null,"",null,null,0,null,1,"indip"]
["",null,{"$f":"IF(ISERROR(VLOOKUP(B680,database!$B$2:$C$6001,2,FALSE)),\"\",VLOOKUP(B680,database!$B$2:$C$6001,2,FALSE))","v":""},null,null,null,"",null,null,null,{"$f":"IF(ISERROR(VLOOKUP(B680,database!$B$2:$D$6001,3,FALSE)),\"\",VLOOKUP(B680,database!$B$2:$D$6001,3,FALSE))","v":""},null,null,null,null,null,null,"",null,null,0,null,1,"indip"]
["",null,{"$f":"IF(ISERROR(VLOOKUP(B681,database!$B$2:$C$6001,2,FALSE)),\"\",VLOOKUP(B681,database!$B$2:$C$6001,2,FALSE))","v":""},null,null,null,"",null,null,null,{"$f":"IF(ISERROR(VLOOKUP(B681,database!$B$2:$D$6001,3,FALSE)),\"\",VLOOKUP(B681,database!$B$2:$D$6001,3,FALSE))","v":""},null,null,null,null,null,null,"",null,null,0,null,1,"indip"]
["",null,{"$f":"IF(ISERROR(VLOOKUP(B682,database!$B$2:$C$6001,2,FALSE)),\"\",VLOOKUP(B682,database!$B$2:$C$6001,2,FALSE))","v":""},null,null,null,"",null,null,null,{"$f":"IF(ISERROR(VLOOKUP(B682,database!$B$2:$D$6001,3,FALSE)),\"\",VLOOKUP(B682,database!$B$2:$D$6001,3,FALSE))","v":""},null,null,null,null,null,null,"",null,null,0,null,1,"indip"]
["",null,{"$f":"IF(ISERROR(VLOOKUP(B683,database!$B$2:$C$6001,2,FALSE)),\"\",VLOOKUP(B683,database!$B$2:$C$6001,2,FALSE))","v":""},null,null,null,"",null,null,null,{"$f":"IF(ISERROR(VLOOKUP(B683,database!$B$2:$D$6001,3,FALSE)),\"\",VLOOKUP(B683,database!$B$2:$D$6001,3,FALSE))","v":""},null,null,null,null,null,null,"",null,null,0,null,1,"indip"]
["",null,{"$f":"IF(ISERROR(VLOOKUP(B684,database!$B$2:$C$6001,2,FALSE)),\"\",VLOOKUP(B684,database!$B$2:$C$6001,2,FALSE))","v":""},null,null,null,"",null,null,null,{"$f":"IF(ISERROR(VLOOKUP(B684,database!$B$2:$D$6001,3,FALSE)),\"\",VLOOKUP(B684,database!$B$2:$D$6001,3,FALSE))","v":""},null,null,null,null,null,null,"",null,null,0,null,1,"indip"]
["",null,{"$f":"IF(ISERROR(VLOOKUP(B685,database!$B$2:$C$6001,2,FALSE)),\"\",VLOOKUP(B685,database!$B$2:$C$6001,2,FALSE))","v":""},null,null,null,"",null,null,null,{"$f":"IF(ISERROR(VLOOKUP(B685,database!$B$2:$D$6001,3,FALSE)),\"\",VLOOKUP(B685,database!$B$2:$D$6001,3,FALSE))","v":""},null,null,null,null,null,null,"",null,null,0,null,1,"indip"]
["",null,{"$f":"IF(ISERROR(VLOOKUP(B686,database!$B$2:$C$6001,2,FALSE)),\"\",VLOOKUP(B686,database!$B$2:$C$6001,2,FALSE))","v":""},null,null,null,"",null,null,null,{"$f":"IF(ISERROR(VLOOKUP(B686,database!$B$2:$D$6001,3,FALSE)),\"\",VLOOKUP(B686,database!$B$2:$D$6001,3,FALSE))","v":""},null,null,null,null,null,null,"",null,null,0,null,1,"indip"]
["",null,{"$f":"IF(ISERROR(VLOOKUP(B687,database!$B$2:$C$6001,2,FALSE)),\"\",VLOOKUP(B687,database!$B$2:$C$6001,2,FALSE))","v":""},null,null,null,"",null,null,null,{"$f":"IF(ISERROR(VLOOKUP(B687,database!$B$2:$D$6001,3,FALSE)),\"\",VLOOKUP(B687,database!$B$2:$D$6001,3,FALSE))","v":""},null,null,null,null,null,null,"",null,null,0,null,1,"indip"]
["",null,{"$f":"IF(ISERROR(VLOOKUP(B688,database!$B$2:$C$6001,2,FALSE)),\"\",VLOOKUP(B688,database!$B$2:$C$6001,2,FALSE))","v":""},null,null,null,"",null,null,null,{"$f":"IF(ISERROR(VLOOKUP(B688,database!$B$2:$D$6001,3,FALSE)),\"\",VLOOKUP(B688,database!$B$2:$D$6001,3,FALSE))","v":""},null,null,null,null,null,null,"",null,null,0,null,1,"indip"]
["",null,{"$f":"IF(ISERROR(VLOOKUP(B689,database!$B$2:$C$6001,2,FALSE)),\"\",VLOOKUP(B689,database!$B$2:$C$6001,2,FALSE))","v":""},null,null,null,"",null,null,null,{"$f":"IF(ISERROR(VLOOKUP(B689,database!$B$2:$D$6001,3,FALSE)),\"\",VLOOKUP(B689,database!$B$2:$D$6001,3,FALSE))","v":""},null,null,null,null,null,null,"",null,null,0,null,1,"indip"]
["",null,{"$f":"IF(ISERROR(VLOOKUP(B690,database!$B$2:$C$6001,2,FALSE)),\"\",VLOOKUP(B690,database!$B$2:$C$6001,2,FALSE))","v":""},null,null,null,"",null,null,null,{"$f":"IF(ISERROR(VLOOKUP(B690,database!$B$2:$D$6001,3,FALSE)),\"\",VLOOKUP(B690,database!$B$2:$D$6001,3,FALSE))","v":""},null,null,null,null,null,null,"",null,null,0,null,1,"indip"]
["",null,{"$f":"IF(ISERROR(VLOOKUP(B691,database!$B$2:$C$6001,2,FALSE)),\"\",VLOOKUP(B691,database!$B$2:$C$6001,2,FALSE))","v":""},null,null,null,"",null,null,null,{"$f":"IF(ISERROR(VLOOKUP(B691,database!$B$2:$D$6001,3,FALSE)),\"\",VLOOKUP(B691,database!$B$2:$D$6001,3,FALSE))","v":""},null,null,null,null,null,null,"",null,null,0,null,1,"indip"]
["",null,{"$f":"IF(ISERROR(VLOOKUP(B692,database!$B$2:$C$6001,2,FALSE)),\"\",VLOOKUP(B692,database!$B$2:$C$6001,2,FALSE))","v":""},null,null,null,"",null,null,null,{"$f":"IF(ISERROR(VLOOKUP(B692,database!$B$2:$D$6001,3,FALSE)),\"\",VLOOKUP(B692,database!$B$2:$D$6001,3,FALSE))","v":""},null,null,null,null,null,null,"",null,null,0,null,1,"indip"]
["",null,{"$f":"IF(ISERROR(VLOOKUP(B693,database!$B$2:$C$6001,2,FALSE)),\"\",VLOOKUP(B693,database!$B$2:$C$6001,2,FALSE))","v":""},null,null,null,"",null,null,null,{"$f":"IF(ISERROR(VLOOKUP(B693,database!$B$2:$D$6001,3,FALSE)),\"\",VLOOKUP(B693,database!$B$2:$D$6001,3,FALSE))","v":""},null,null,null,null,null,null,"",null,null,0,null,1,"indip"]
["",null,{"$f":"IF(ISERROR(VLOOKUP(B694,database!$B$2:$C$6001,2,FALSE)),\"\",VLOOKUP(B694,database!$B$2:$C$6001,2,FALSE))","v":""},null,null,null,"",null,null,null,{"$f":"IF(ISERROR(VLOOKUP(B694,database!$B$2:$D$6001,3,FALSE)),\"\",VLOOKUP(B694,database!$B$2:$D$6001,3,FALSE))","v":""},null,null,null,null,null,null,"",null,null,0,null,1,"indip"]
["",null,{"$f":"IF(ISERROR(VLOOKUP(B695,database!$B$2:$C$6001,2,FALSE)),\"\",VLOOKUP(B695,database!$B$2:$C$6001,2,FALSE))","v":""},null,null,null,"",null,null,null,{"$f":"IF(ISERROR(VLOOKUP(B695,database!$B$2:$D$6001,3,FALSE)),\"\",VLOOKUP(B695,database!$B$2:$D$6001,3,FALSE))","v":""},null,null,null,null,null,null,"",null,null,0,null,1,"indip"]
["",null,{"$f":"IF(ISERROR(VLOOKUP(B696,database!$B$2:$C$6001,2,FALSE)),\"\",VLOOKUP(B696,database!$B$2:$C$6001,2,FALSE))","v":""},null,null,null,"",null,null,null,{"$f":"IF(ISERROR(VLOOKUP(B696,database!$B$2:$D$6001,3,FALSE)),\"\",VLOOKUP(B696,database!$B$2:$D$6001,3,FALSE))","v":""},null,null,null,null,null,null,"",null,null,0,null,1,"indip"]
["",null,{"$f":"IF(ISERROR(VLOOKUP(B697,database!$B$2:$C$6001,2,FALSE)),\"\",VLOOKUP(B697,database!$B$2:$C$6001,2,FALSE))","v":""},null,null,null,"",null,null,null,{"$f":"IF(ISERROR(VLOOKUP(B697,database!$B$2:$D$6001,3,FALSE)),\"\",VLOOKUP(B697,database!$B$2:$D$6001,3,FALSE))","v":""},null,null,null,null,null,null,"",null,null,0,null,1,"indip"]
["",null,{"$f":"IF(ISERROR(VLOOKUP(B698,database!$B$2:$C$6001,2,FALSE)),\"\",VLOOKUP(B698,database!$B$2:$C$6001,2,FALSE))","v":""},null,null,null,"",null,null,null,{"$f":"IF(ISERROR(VLOOKUP(B698,database!$B$2:$D$6001,3,FALSE)),\"\",VLOOKUP(B698,database!$B$2:$D$6001,3,FALSE))","v":""},null,null,null,null,null,null,"",null,null,0,null,1,"indip"]
["",null,{"$f":"IF(ISERROR(VLOOKUP(B699,database!$B$2:$C$6001,2,FALSE)),\"\",VLOOKUP(B699,database!$B$2:$C$6001,2,FALSE))","v":""},null,null,null,"",null,null,null,{"$f":"IF(ISERROR(VLOOKUP(B699,database!$B$2:$D$6001,3,FALSE)),\"\",VLOOKUP(B699,database!$B$2:$D$6001,3,FALSE))","v":""},null,null,null,null,null,null,"",null,null,0,null,1,"indip"]
["",null,{"$f":"IF(ISERROR(VLOOKUP(B700,database!$B$2:$C$6001,2,FALSE)),\"\",VLOOKUP(B700,database!$B$2:$C$6001,2,FALSE))","v":""},null,null,null,"",null,null,null,{"$f":"IF(ISERROR(VLOOKUP(B700,database!$B$2:$D$6001,3,FALSE)),\"\",VLOOKUP(B700,database!$B$2:$D$6001,3,FALSE))","v":""},null,null,null,null,null,null,"",null,null,0,null,1,"indip"]
["",null,{"$f":"IF(ISERROR(VLOOKUP(B701,database!$B$2:$C$6001,2,FALSE)),\"\",VLOOKUP(B701,database!$B$2:$C$6001,2,FALSE))","v":""},null,null,null,"",null,null,null,{"$f":"IF(ISERROR(VLOOKUP(B701,database!$B$2:$D$6001,3,FALSE)),\"\",VLOOKUP(B701,database!$B$2:$D$6001,3,FALSE))","v":""},null,null,null,null,null,null,"",null,null,0,null,1,"indip"]
["",null,{"$f":"IF(ISERROR(VLOOKUP(B702,database!$B$2:$C$6001,2,FALSE)),\"\",VLOOKUP(B702,database!$B$2:$C$6001,2,FALSE))","v":""},null,null,null,"",null,null,null,{"$f":"IF(ISERROR(VLOOKUP(B702,database!$B$2:$D$6001,3,FALSE)),\"\",VLOOKUP(B702,database!$B$2:$D$6001,3,FALSE))","v":""},null,null,null,null,null,null,"",null,null,0,null,1,"indip"]
["",null,{"$f":"IF(ISERROR(VLOOKUP(B703,database!$B$2:$C$6001,2,FALSE)),\"\",VLOOKUP(B703,database!$B$2:$C$6001,2,FALSE))","v":""},null,null,null,"",null,null,null,{"$f":"IF(ISERROR(VLOOKUP(B703,database!$B$2:$D$6001,3,FALSE)),\"\",VLOOKUP(B703,database!$B$2:$D$6001,3,FALSE))","v":""},null,null,null,null,null,null,"",null,null,0,null,1,"indip"]
["",null,{"$f":"IF(ISERROR(VLOOKUP(B704,database!$B$2:$C$6001,2,FALSE)),\"\",VLOOKUP(B704,database!$B$2:$C$6001,2,FALSE))","v":""},null,null,null,"",null,null,null,{"$f":"IF(ISERROR(VLOOKUP(B704,database!$B$2:$D$6001,3,FALSE)),\"\",VLOOKUP(B704,database!$B$2:$D$6001,3,FALSE))","v":""},null,null,null,null,null,null,"",null,null,0,null,1,"indip"]
["",null,{"$f":"IF(ISERROR(VLOOKUP(B705,database!$B$2:$C$6001,2,FALSE)),\"\",VLOOKUP(B705,database!$B$2:$C$6001,2,FALSE))","v":""},null,null,null,"",null,null,null,{"$f":"IF(ISERROR(VLOOKUP(B705,database!$B$2:$D$6001,3,FALSE)),\"\",VLOOKUP(B705,database!$B$2:$D$6001,3,FALSE))","v":""},null,null,null,null,null,null,"",null,null,0,null,1,"indip"]
["",null,{"$f":"IF(ISERROR(VLOOKUP(B706,database!$B$2:$C$6001,2,FALSE)),\"\",VLOOKUP(B706,database!$B$2:$C$6001,2,FALSE))","v":""},null,null,null,"",null,null,null,{"$f":"IF(ISERROR(VLOOKUP(B706,database!$B$2:$D$6001,3,FALSE)),\"\",VLOOKUP(B706,database!$B$2:$D$6001,3,FALSE))","v":""},null,null,null,null,null,null,"",null,null,0,null,1,"indip"]
["",null,{"$f":"IF(ISERROR(VLOOKUP(B707,database!$B$2:$C$6001,2,FALSE)),\"\",VLOOKUP(B707,database!$B$2:$C$6001,2,FALSE))","v":""},null,null,null,"",null,null,null,{"$f":"IF(ISERROR(VLOOKUP(B707,database!$B$2:$D$6001,3,FALSE)),\"\",VLOOKUP(B707,database!$B$2:$D$6001,3,FALSE))","v":""},null,null,null,null,null,null,"",null,null,0,null,1,"indip"]
["",null,{"$f":"IF(ISERROR(VLOOKUP(B708,database!$B$2:$C$6001,2,FALSE)),\"\",VLOOKUP(B708,database!$B$2:$C$6001,2,FALSE))","v":""},null,null,null,"",null,null,null,{"$f":"IF(ISERROR(VLOOKUP(B708,database!$B$2:$D$6001,3,FALSE)),\"\",VLOOKUP(B708,database!$B$2:$D$6001,3,FALSE))","v":""},null,null,null,null,null,null,"",null,null,{"$f":"IFERROR(INDEX(M$39:N$140,MATCH(B708,M$39:M$140,0),2),0)","v":0},null,{"$f":"IF(AND(U708=0,C708=\"\"),1,2)","v":1},{"$f":"IF(B708=\"-\",\"\",IF(OR(B708=M$39,B708=M$40,B708=M$41,B708=M$42,B708=M$43,B708=M$44,B708=M$45,B708=M$46,B708=M$47,,B708=M$50,B708=M$51,B708=M$52,B708=M$53,B708=M$54,B708=M$55,B708=M$56,B708=M$57,B708=M$70),\"\",IF(C708=\"\",\"indip\",F708)))","v":"indip"}]
[{"$f":"IF(B709=\"\",\"\",ROW(A706))","v":""},null,{"$f":"IF(ISERROR(VLOOKUP(B709,database!$B$2:$C$6001,2,FALSE)),\"\",VLOOKUP(B709,database!$B$2:$C$6001,2,FALSE))","v":""},null,null,null,{"$f":"IF(B709=\"\",\"\",IF(B709=\"-\",0,IF(W709=1,1,IF(AND(U709=0,F709=\"SSB\"),2,IF(AND(U709=0,F709=\"DIGI\"),3,IF(AND(U709=0,F709=\"CW\"),5,U709))))))","v":""},null,null,null,{"$f":"IF(ISERROR(VLOOKUP(B709,database!$B$2:$D$6001,3,FALSE)),\"\",VLOOKUP(B709,database!$B$2:$D$6001,3,FALSE))","v":""},null,null,null,null,null,null,{"$f":"LEFT(C709,2)","v":""},null,null,0,null,1,"indip"]
["",null,{"$f":"IF(ISERROR(VLOOKUP(B710,database!$B$2:$C$6001,2,FALSE)),\"\",VLOOKUP(B710,database!$B$2:$C$6001,2,FALSE))","v":""},null,null,null,"",null,null,null,{"$f":"IF(ISERROR(VLOOKUP(B710,database!$B$2:$D$6001,3,FALSE)),\"\",VLOOKUP(B710,database!$B$2:$D$6001,3,FALSE))","v":""},null,null,null,null,null,null,"",null,null,0,null,1,"indip"]
["",null,{"$f":"IF(ISERROR(VLOOKUP(B711,database!$B$2:$C$6001,2,FALSE)),\"\",VLOOKUP(B711,database!$B$2:$C$6001,2,FALSE))","v":""},null,null,null,"",null,null,null,{"$f":"IF(ISERROR(VLOOKUP(B711,database!$B$2:$D$6001,3,FALSE)),\"\",VLOOKUP(B711,database!$B$2:$D$6001,3,FALSE))","v":""},null,null,null,null,null,null,"",null,null,0,null,1,"indip"]
["",null,{"$f":"IF(ISERROR(VLOOKUP(B712,database!$B$2:$C$6001,2,FALSE)),\"\",VLOOKUP(B712,database!$B$2:$C$6001,2,FALSE))","v":""},null,null,null,"",null,null,null,{"$f":"IF(ISERROR(VLOOKUP(B712,database!$B$2:$D$6001,3,FALSE)),\"\",VLOOKUP(B712,database!$B$2:$D$6001,3,FALSE))","v":""},null,null,null,null,null,null,"",null,null,0,null,1,"indip"]
["",null,{"$f":"IF(ISERROR(VLOOKUP(B713,database!$B$2:$C$6001,2,FALSE)),\"\",VLOOKUP(B713,database!$B$2:$C$6001,2,FALSE))","v":""},null,null,null,"",null,null,null,{"$f":"IF(ISERROR(VLOOKUP(B713,database!$B$2:$D$6001,3,FALSE)),\"\",VLOOKUP(B713,database!$B$2:$D$6001,3,FALSE))","v":""},null,null,null,null,null,null,"",null,null,0,null,1,"indip"]
["",null,{"$f":"IF(ISERROR(VLOOKUP(B714,database!$B$2:$C$6001,2,FALSE)),\"\",VLOOKUP(B714,database!$B$2:$C$6001,2,FALSE))","v":""},null,null,null,"",null,null,null,{"$f":"IF(ISERROR(VLOOKUP(B714,database!$B$2:$D$6001,3,FALSE)),\"\",VLOOKUP(B714,database!$B$2:$D$6001,3,FALSE))","v":""},null,null,null,null,null,null,"",null,null,0,null,1,"indip"]
["",null,{"$f":"IF(ISERROR(VLOOKUP(B715,database!$B$2:$C$6001,2,FALSE)),\"\",VLOOKUP(B715,database!$B$2:$C$6001,2,FALSE))","v":""},null,null,null,"",null,null,null,{"$f":"IF(ISERROR(VLOOKUP(B715,database!$B$2:$D$6001,3,FALSE)),\"\",VLOOKUP(B715,database!$B$2:$D$6001,3,FALSE))","v":""},null,null,null,null,null,null,"",null,null,0,null,1,"indip"]
["",null,{"$f":"IF(ISERROR(VLOOKUP(B716,database!$B$2:$C$6001,2,FALSE)),\"\",VLOOKUP(B716,database!$B$2:$C$6001,2,FALSE))","v":""},null,null,null,"",null,null,null,{"$f":"IF(ISERROR(VLOOKUP(B716,database!$B$2:$D$6001,3,FALSE)),\"\",VLOOKUP(B716,database!$B$2:$D$6001,3,FALSE))","v":""},null,null,null,null,null,null,"",null,null,0,null,1,"indip"]
["",null,{"$f":"IF(ISERROR(VLOOKUP(B717,database!$B$2:$C$6001,2,FALSE)),\"\",VLOOKUP(B717,database!$B$2:$C$6001,2,FALSE))","v":""},null,null,null,"",null,null,null,{"$f":"IF(ISERROR(VLOOKUP(B717,database!$B$2:$D$6001,3,FALSE)),\"\",VLOOKUP(B717,database!$B$2:$D$6001,3,FALSE))","v":""},null,null,null,null,null,null,"",null,null,0,null,1,"indip"]
["",null,{"$f":"IF(ISERROR(VLOOKUP(B718,database!$B$2:$C$6001,2,FALSE)),\"\",VLOOKUP(B718,database!$B$2:$C$6001,2,FALSE))","v":""},null,null,null,"",null,null,null,{"$f":"IF(ISERROR(VLOOKUP(B718,database!$B$2:$D$6001,3,FALSE)),\"\",VLOOKUP(B718,database!$B$2:$D$6001,3,FALSE))","v":""},null,null,null,null,null,null,"",null,null,0,null,1,"indip"]
["",null,{"$f":"IF(ISERROR(VLOOKUP(B719,database!$B$2:$C$6001,2,FALSE)),\"\",VLOOKUP(B719,database!$B$2:$C$6001,2,FALSE))","v":""},null,null,null,"",null,null,null,{"$f":"IF(ISERROR(VLOOKUP(B719,database!$B$2:$D$6001,3,FALSE)),\"\",VLOOKUP(B719,database!$B$2:$D$6001,3,FALSE))","v":""},null,null,null,null,null,null,"",null,null,0,null,1,"indip"]
["",null,{"$f":"IF(ISERROR(VLOOKUP(B720,database!$B$2:$C$6001,2,FALSE)),\"\",VLOOKUP(B720,database!$B$2:$C$6001,2,FALSE))","v":""},null,null,null,"",null,null,null,{"$f":"IF(ISERROR(VLOOKUP(B720,database!$B$2:$D$6001,3,FALSE)),\"\",VLOOKUP(B720,database!$B$2:$D$6001,3,FALSE))","v":""},null,null,null,null,null,null,"",null,null,0,null,1,"indip"]
["",null,{"$f":"IF(ISERROR(VLOOKUP(B721,database!$B$2:$C$6001,2,FALSE)),\"\",VLOOKUP(B721,database!$B$2:$C$6001,2,FALSE))","v":""},null,null,null,"",null,null,null,{"$f":"IF(ISERROR(VLOOKUP(B721,database!$B$2:$D$6001,3,FALSE)),\"\",VLOOKUP(B721,database!$B$2:$D$6001,3,FALSE))","v":""},null,null,null,null,null,null,"",null,null,0,null,1,"indip"]
["",null,{"$f":"IF(ISERROR(VLOOKUP(B722,database!$B$2:$C$6001,2,FALSE)),\"\",VLOOKUP(B722,database!$B$2:$C$6001,2,FALSE))","v":""},null,null,null,"",null,null,null,{"$f":"IF(ISERROR(VLOOKUP(B722,database!$B$2:$D$6001,3,FALSE)),\"\",VLOOKUP(B722,database!$B$2:$D$6001,3,FALSE))","v":""},null,null,null,null,null,null,"",null,null,0,null,1,"indip"]
["",null,{"$f":"IF(ISERROR(VLOOKUP(B723,database!$B$2:$C$6001,2,FALSE)),\"\",VLOOKUP(B723,database!$B$2:$C$6001,2,FALSE))","v":""},null,null,null,"",null,null,null,{"$f":"IF(ISERROR(VLOOKUP(B723,database!$B$2:$D$6001,3,FALSE)),\"\",VLOOKUP(B723,database!$B$2:$D$6001,3,FALSE))","v":""},null,null,null,null,null,null,"",null,null,0,null,1,"indip"]
["",null,{"$f":"IF(ISERROR(VLOOKUP(B724,database!$B$2:$C$6001,2,FALSE)),\"\",VLOOKUP(B724,database!$B$2:$C$6001,2,FALSE))","v":""},null,null,null,"",null,null,null,{"$f":"IF(ISERROR(VLOOKUP(B724,database!$B$2:$D$6001,3,FALSE)),\"\",VLOOKUP(B724,database!$B$2:$D$6001,3,FALSE))","v":""},null,null,null,null,null,null,"",null,null,0,null,1,"indip"]
["",null,{"$f":"IF(ISERROR(VLOOKUP(B725,database!$B$2:$C$6001,2,FALSE)),\"\",VLOOKUP(B725,database!$B$2:$C$6001,2,FALSE))","v":""},null,null,null,"",null,null,null,{"$f":"IF(ISERROR(VLOOKUP(B725,database!$B$2:$D$6001,3,FALSE)),\"\",VLOOKUP(B725,database!$B$2:$D$6001,3,FALSE))","v":""},null,null,null,null,null,null,"",null,null,0,null,1,"indip"]
["",null,{"$f":"IF(ISERROR(VLOOKUP(B726,database!$B$2:$C$6001,2,FALSE)),\"\",VLOOKUP(B726,database!$B$2:$C$6001,2,FALSE))","v":""},null,null,null,"",null,null,null,{"$f":"IF(ISERROR(VLOOKUP(B726,database!$B$2:$D$6001,3,FALSE)),\"\",VLOOKUP(B726,database!$B$2:$D$6001,3,FALSE))","v":""},null,null,null,null,null,null,"",null,null,0,null,1,"indip"]
["",null,{"$f":"IF(ISERROR(VLOOKUP(B727,database!$B$2:$C$6001,2,FALSE)),\"\",VLOOKUP(B727,database!$B$2:$C$6001,2,FALSE))","v":""},null,null,null,"",null,null,null,{"$f":"IF(ISERROR(VLOOKUP(B727,database!$B$2:$D$6001,3,FALSE)),\"\",VLOOKUP(B727,database!$B$2:$D$6001,3,FALSE))","v":""},null,null,null,null,null,null,"",null,null,0,null,1,"indip"]
["",null,{"$f":"IF(ISERROR(VLOOKUP(B728,database!$B$2:$C$6001,2,FALSE)),\"\",VLOOKUP(B728,database!$B$2:$C$6001,2,FALSE))","v":""},null,null,null,"",null,null,null,{"$f":"IF(ISERROR(VLOOKUP(B728,database!$B$2:$D$6001,3,FALSE)),\"\",VLOOKUP(B728,database!$B$2:$D$6001,3,FALSE))","v":""},null,null,null,null,null,null,"",null,null,0,null,1,"indip"]
["",null,{"$f":"IF(ISERROR(VLOOKUP(B729,database!$B$2:$C$6001,2,FALSE)),\"\",VLOOKUP(B729,database!$B$2:$C$6001,2,FALSE))","v":""},null,null,null,"",null,null,null,{"$f":"IF(ISERROR(VLOOKUP(B729,database!$B$2:$D$6001,3,FALSE)),\"\",VLOOKUP(B729,database!$B$2:$D$6001,3,FALSE))","v":""},null,null,null,null,null,null,"",null,null,0,null,1,"indip"]
["",null,{"$f":"IF(ISERROR(VLOOKUP(B730,database!$B$2:$C$6001,2,FALSE)),\"\",VLOOKUP(B730,database!$B$2:$C$6001,2,FALSE))","v":""},null,null,null,"",null,null,null,{"$f":"IF(ISERROR(VLOOKUP(B730,database!$B$2:$D$6001,3,FALSE)),\"\",VLOOKUP(B730,database!$B$2:$D$6001,3,FALSE))","v":""},null,null,null,null,null,null,"",null,null,0,null,1,"indip"]
["",null,{"$f":"IF(ISERROR(VLOOKUP(B731,database!$B$2:$C$6001,2,FALSE)),\"\",VLOOKUP(B731,database!$B$2:$C$6001,2,FALSE))","v":""},null,null,null,"",null,null,null,{"$f":"IF(ISERROR(VLOOKUP(B731,database!$B$2:$D$6001,3,FALSE)),\"\",VLOOKUP(B731,database!$B$2:$D$6001,3,FALSE))","v":""},null,null,null,null,null,null,"",null,null,0,null,1,"indip"]
["",null,{"$f":"IF(ISERROR(VLOOKUP(B732,database!$B$2:$C$6001,2,FALSE)),\"\",VLOOKUP(B732,database!$B$2:$C$6001,2,FALSE))","v":""},null,null,null,"",null,null,null,{"$f":"IF(ISERROR(VLOOKUP(B732,database!$B$2:$D$6001,3,FALSE)),\"\",VLOOKUP(B732,database!$B$2:$D$6001,3,FALSE))","v":""},null,null,null,null,null,null,"",null,null,0,null,1,"indip"]
["",null,{"$f":"IF(ISERROR(VLOOKUP(B733,database!$B$2:$C$6001,2,FALSE)),\"\",VLOOKUP(B733,database!$B$2:$C$6001,2,FALSE))","v":""},null,null,null,"",null,null,null,{"$f":"IF(ISERROR(VLOOKUP(B733,database!$B$2:$D$6001,3,FALSE)),\"\",VLOOKUP(B733,database!$B$2:$D$6001,3,FALSE))","v":""},null,null,null,null,null,null,"",null,null,0,null,1,"indip"]
["",null,{"$f":"IF(ISERROR(VLOOKUP(B734,database!$B$2:$C$6001,2,FALSE)),\"\",VLOOKUP(B734,database!$B$2:$C$6001,2,FALSE))","v":""},null,null,null,"",null,null,null,{"$f":"IF(ISERROR(VLOOKUP(B734,database!$B$2:$D$6001,3,FALSE)),\"\",VLOOKUP(B734,database!$B$2:$D$6001,3,FALSE))","v":""},null,null,null,null,null,null,"",null,null,0,null,1,"indip"]
["",null,{"$f":"IF(ISERROR(VLOOKUP(B735,database!$B$2:$C$6001,2,FALSE)),\"\",VLOOKUP(B735,database!$B$2:$C$6001,2,FALSE))","v":""},null,null,null,"",null,null,null,{"$f":"IF(ISERROR(VLOOKUP(B735,database!$B$2:$D$6001,3,FALSE)),\"\",VLOOKUP(B735,database!$B$2:$D$6001,3,FALSE))","v":""},null,null,null,null,null,null,"",null,null,0,null,1,"indip"]
["",null,{"$f":"IF(ISERROR(VLOOKUP(B736,database!$B$2:$C$6001,2,FALSE)),\"\",VLOOKUP(B736,database!$B$2:$C$6001,2,FALSE))","v":""},null,null,null,"",null,null,null,{"$f":"IF(ISERROR(VLOOKUP(B736,database!$B$2:$D$6001,3,FALSE)),\"\",VLOOKUP(B736,database!$B$2:$D$6001,3,FALSE))","v":""},null,null,null,null,null,null,"",null,null,0,null,1,"indip"]
["",null,{"$f":"IF(ISERROR(VLOOKUP(B737,database!$B$2:$C$6001,2,FALSE)),\"\",VLOOKUP(B737,database!$B$2:$C$6001,2,FALSE))","v":""},null,null,null,"",null,null,null,{"$f":"IF(ISERROR(VLOOKUP(B737,database!$B$2:$D$6001,3,FALSE)),\"\",VLOOKUP(B737,database!$B$2:$D$6001,3,FALSE))","v":""},null,null,null,null,null,null,"",null,null,0,null,1,"indip"]
["",null,{"$f":"IF(ISERROR(VLOOKUP(B738,database!$B$2:$C$6001,2,FALSE)),\"\",VLOOKUP(B738,database!$B$2:$C$6001,2,FALSE))","v":""},null,null,null,"",null,null,null,{"$f":"IF(ISERROR(VLOOKUP(B738,database!$B$2:$D$6001,3,FALSE)),\"\",VLOOKUP(B738,database!$B$2:$D$6001,3,FALSE))","v":""},null,null,null,null,null,null,"",null,null,0,null,1,"indip"]
["",null,{"$f":"IF(ISERROR(VLOOKUP(B739,database!$B$2:$C$6001,2,FALSE)),\"\",VLOOKUP(B739,database!$B$2:$C$6001,2,FALSE))","v":""},null,null,null,"",null,null,null,{"$f":"IF(ISERROR(VLOOKUP(B739,database!$B$2:$D$6001,3,FALSE)),\"\",VLOOKUP(B739,database!$B$2:$D$6001,3,FALSE))","v":""},null,null,null,null,null,null,"",null,null,0,null,1,"indip"]
["",null,{"$f":"IF(ISERROR(VLOOKUP(B740,database!$B$2:$C$6001,2,FALSE)),\"\",VLOOKUP(B740,database!$B$2:$C$6001,2,FALSE))","v":""},null,null,null,"",null,null,null,{"$f":"IF(ISERROR(VLOOKUP(B740,database!$B$2:$D$6001,3,FALSE)),\"\",VLOOKUP(B740,database!$B$2:$D$6001,3,FALSE))","v":""},null,null,null,null,null,null,"",null,null,0,null,1,"indip"]
["",null,{"$f":"IF(ISERROR(VLOOKUP(B741,database!$B$2:$C$6001,2,FALSE)),\"\",VLOOKUP(B741,database!$B$2:$C$6001,2,FALSE))","v":""},null,null,null,"",null,null,null,{"$f":"IF(ISERROR(VLOOKUP(B741,database!$B$2:$D$6001,3,FALSE)),\"\",VLOOKUP(B741,database!$B$2:$D$6001,3,FALSE))","v":""},null,null,null,null,null,null,"",null,null,0,null,1,"indip"]
["",null,{"$f":"IF(ISERROR(VLOOKUP(B742,database!$B$2:$C$6001,2,FALSE)),\"\",VLOOKUP(B742,database!$B$2:$C$6001,2,FALSE))","v":""},null,null,null,"",null,null,null,{"$f":"IF(ISERROR(VLOOKUP(B742,database!$B$2:$D$6001,3,FALSE)),\"\",VLOOKUP(B742,database!$B$2:$D$6001,3,FALSE))","v":""},null,null,null,null,null,null,"",null,null,0,null,1,"indip"]
["",null,{"$f":"IF(ISERROR(VLOOKUP(B743,database!$B$2:$C$6001,2,FALSE)),\"\",VLOOKUP(B743,database!$B$2:$C$6001,2,FALSE))","v":""},null,null,null,"",null,null,null,{"$f":"IF(ISERROR(VLOOKUP(B743,database!$B$2:$D$6001,3,FALSE)),\"\",VLOOKUP(B743,database!$B$2:$D$6001,3,FALSE))","v":""},null,null,null,null,null,null,"",null,null,0,null,1,"indip"]
["",null,{"$f":"IF(ISERROR(VLOOKUP(B744,database!$B$2:$C$6001,2,FALSE)),\"\",VLOOKUP(B744,database!$B$2:$C$6001,2,FALSE))","v":""},null,null,null,"",null,null,null,{"$f":"IF(ISERROR(VLOOKUP(B744,database!$B$2:$D$6001,3,FALSE)),\"\",VLOOKUP(B744,database!$B$2:$D$6001,3,FALSE))","v":""},null,null,null,null,null,null,"",null,null,0,null,1,"indip"]
["",null,{"$f":"IF(ISERROR(VLOOKUP(B745,database!$B$2:$C$6001,2,FALSE)),\"\",VLOOKUP(B745,database!$B$2:$C$6001,2,FALSE))","v":""},null,null,null,"",null,null,null,{"$f":"IF(ISERROR(VLOOKUP(B745,database!$B$2:$D$6001,3,FALSE)),\"\",VLOOKUP(B745,database!$B$2:$D$6001,3,FALSE))","v":""},null,null,null,null,null,null,"",null,null,0,null,1,"indip"]
["",null,{"$f":"IF(ISERROR(VLOOKUP(B746,database!$B$2:$C$6001,2,FALSE)),\"\",VLOOKUP(B746,database!$B$2:$C$6001,2,FALSE))","v":""},null,null,null,"",null,null,null,{"$f":"IF(ISERROR(VLOOKUP(B746,database!$B$2:$D$6001,3,FALSE)),\"\",VLOOKUP(B746,database!$B$2:$D$6001,3,FALSE))","v":""},null,null,null,null,null,null,"",null,null,0,null,1,"indip"]
["",null,{"$f":"IF(ISERROR(VLOOKUP(B747,database!$B$2:$C$6001,2,FALSE)),\"\",VLOOKUP(B747,database!$B$2:$C$6001,2,FALSE))","v":""},null,null,null,"",null,null,null,{"$f":"IF(ISERROR(VLOOKUP(B747,database!$B$2:$D$6001,3,FALSE)),\"\",VLOOKUP(B747,database!$B$2:$D$6001,3,FALSE))","v":""},null,null,null,null,null,null,"",null,null,0,null,1,"indip"]
["",null,{"$f":"IF(ISERROR(VLOOKUP(B748,database!$B$2:$C$6001,2,FALSE)),\"\",VLOOKUP(B748,database!$B$2:$C$6001,2,FALSE))","v":""},null,null,null,"",null,null,null,{"$f":"IF(ISERROR(VLOOKUP(B748,database!$B$2:$D$6001,3,FALSE)),\"\",VLOOKUP(B748,database!$B$2:$D$6001,3,FALSE))","v":""},null,null,null,null,null,null,"",null,null,0,null,1,"indip"]
["",null,{"$f":"IF(ISERROR(VLOOKUP(B749,database!$B$2:$C$6001,2,FALSE)),\"\",VLOOKUP(B749,database!$B$2:$C$6001,2,FALSE))","v":""},null,null,null,"",null,null,null,{"$f":"IF(ISERROR(VLOOKUP(B749,database!$B$2:$D$6001,3,FALSE)),\"\",VLOOKUP(B749,database!$B$2:$D$6001,3,FALSE))","v":""},null,null,null,null,null,null,"",null,null,0,null,1,"indip"]
["",null,{"$f":"IF(ISERROR(VLOOKUP(B750,database!$B$2:$C$6001,2,FALSE)),\"\",VLOOKUP(B750,database!$B$2:$C$6001,2,FALSE))","v":""},null,null,null,"",null,null,null,{"$f":"IF(ISERROR(VLOOKUP(B750,database!$B$2:$D$6001,3,FALSE)),\"\",VLOOKUP(B750,database!$B$2:$D$6001,3,FALSE))","v":""},null,null,null,null,null,null,"",null,null,0,null,1,"indip"]
["",null,{"$f":"IF(ISERROR(VLOOKUP(B751,database!$B$2:$C$6001,2,FALSE)),\"\",VLOOKUP(B751,database!$B$2:$C$6001,2,FALSE))","v":""},null,null,null,"",null,null,null,{"$f":"IF(ISERROR(VLOOKUP(B751,database!$B$2:$D$6001,3,FALSE)),\"\",VLOOKUP(B751,database!$B$2:$D$6001,3,FALSE))","v":""},null,null,null,null,null,null,"",null,null,0,null,1,"indip"]
["",null,{"$f":"IF(ISERROR(VLOOKUP(B752,database!$B$2:$C$6001,2,FALSE)),\"\",VLOOKUP(B752,database!$B$2:$C$6001,2,FALSE))","v":""},null,null,null,"",null,null,null,{"$f":"IF(ISERROR(VLOOKUP(B752,database!$B$2:$D$6001,3,FALSE)),\"\",VLOOKUP(B752,database!$B$2:$D$6001,3,FALSE))","v":""},null,null,null,null,null,null,"",null,null,0,null,1,"indip"]
["",null,{"$f":"IF(ISERROR(VLOOKUP(B753,database!$B$2:$C$6001,2,FALSE)),\"\",VLOOKUP(B753,database!$B$2:$C$6001,2,FALSE))","v":""},null,null,null,"",null,null,null,{"$f":"IF(ISERROR(VLOOKUP(B753,database!$B$2:$D$6001,3,FALSE)),\"\",VLOOKUP(B753,database!$B$2:$D$6001,3,FALSE))","v":""},null,null,null,null,null,null,"",null,null,0,null,1,"indip"]
["",null,{"$f":"IF(ISERROR(VLOOKUP(B754,database!$B$2:$C$6001,2,FALSE)),\"\",VLOOKUP(B754,database!$B$2:$C$6001,2,FALSE))","v":""},null,null,null,"",null,null,null,{"$f":"IF(ISERROR(VLOOKUP(B754,database!$B$2:$D$6001,3,FALSE)),\"\",VLOOKUP(B754,database!$B$2:$D$6001,3,FALSE))","v":""},null,null,null,null,null,null,"",null,null,0,null,1,"indip"]
["",null,{"$f":"IF(ISERROR(VLOOKUP(B755,database!$B$2:$C$6001,2,FALSE)),\"\",VLOOKUP(B755,database!$B$2:$C$6001,2,FALSE))","v":""},null,null,null,"",null,null,null,{"$f":"IF(ISERROR(VLOOKUP(B755,database!$B$2:$D$6001,3,FALSE)),\"\",VLOOKUP(B755,database!$B$2:$D$6001,3,FALSE))","v":""},null,null,null,null,null,null,"",null,null,0,null,1,"indip"]
["",null,{"$f":"IF(ISERROR(VLOOKUP(B756,database!$B$2:$C$6001,2,FALSE)),\"\",VLOOKUP(B756,database!$B$2:$C$6001,2,FALSE))","v":""},null,null,null,"",null,null,null,{"$f":"IF(ISERROR(VLOOKUP(B756,database!$B$2:$D$6001,3,FALSE)),\"\",VLOOKUP(B756,database!$B$2:$D$6001,3,FALSE))","v":""},null,null,null,null,null,null,"",null,null,0,null,1,"indip"]
["",null,{"$f":"IF(ISERROR(VLOOKUP(B757,database!$B$2:$C$6001,2,FALSE)),\"\",VLOOKUP(B757,database!$B$2:$C$6001,2,FALSE))","v":""},null,null,null,"",null,null,null,{"$f":"IF(ISERROR(VLOOKUP(B757,database!$B$2:$D$6001,3,FALSE)),\"\",VLOOKUP(B757,database!$B$2:$D$6001,3,FALSE))","v":""},null,null,null,null,null,null,"",null,null,0,null,1,"indip"]
["",null,{"$f":"IF(ISERROR(VLOOKUP(B758,database!$B$2:$C$6001,2,FALSE)),\"\",VLOOKUP(B758,database!$B$2:$C$6001,2,FALSE))","v":""},null,null,null,"",null,null,null,{"$f":"IF(ISERROR(VLOOKUP(B758,database!$B$2:$D$6001,3,FALSE)),\"\",VLOOKUP(B758,database!$B$2:$D$6001,3,FALSE))","v":""},null,null,null,null,null,null,"",null,null,0,null,1,"indip"]
["",null,{"$f":"IF(ISERROR(VLOOKUP(B759,database!$B$2:$C$6001,2,FALSE)),\"\",VLOOKUP(B759,database!$B$2:$C$6001,2,FALSE))","v":""},null,null,null,"",null,null,null,{"$f":"IF(ISERROR(VLOOKUP(B759,database!$B$2:$D$6001,3,FALSE)),\"\",VLOOKUP(B759,database!$B$2:$D$6001,3,FALSE))","v":""},null,null,null,null,null,null,"",null,null,0,null,1,"indip"]
["",null,{"$f":"IF(ISERROR(VLOOKUP(B760,database!$B$2:$C$6001,2,FALSE)),\"\",VLOOKUP(B760,database!$B$2:$C$6001,2,FALSE))","v":""},null,null,null,"",null,null,null,{"$f":"IF(ISERROR(VLOOKUP(B760,database!$B$2:$D$6001,3,FALSE)),\"\",VLOOKUP(B760,database!$B$2:$D$6001,3,FALSE))","v":""},null,null,null,null,null,null,"",null,null,0,null,1,"indip"]
["",null,{"$f":"IF(ISERROR(VLOOKUP(B761,database!$B$2:$C$6001,2,FALSE)),\"\",VLOOKUP(B761,database!$B$2:$C$6001,2,FALSE))","v":""},null,null,null,"",null,null,null,{"$f":"IF(ISERROR(VLOOKUP(B761,database!$B$2:$D$6001,3,FALSE)),\"\",VLOOKUP(B761,database!$B$2:$D$6001,3,FALSE))","v":""},null,null,null,null,null,null,"",null,null,0,null,1,"indip"]
["",null,{"$f":"IF(ISERROR(VLOOKUP(B762,database!$B$2:$C$6001,2,FALSE)),\"\",VLOOKUP(B762,database!$B$2:$C$6001,2,FALSE))","v":""},null,null,null,"",null,null,null,{"$f":"IF(ISERROR(VLOOKUP(B762,database!$B$2:$D$6001,3,FALSE)),\"\",VLOOKUP(B762,database!$B$2:$D$6001,3,FALSE))","v":""},null,null,null,null,null,null,"",null,null,0,null,1,"indip"]
["",null,{"$f":"IF(ISERROR(VLOOKUP(B763,database!$B$2:$C$6001,2,FALSE)),\"\",VLOOKUP(B763,database!$B$2:$C$6001,2,FALSE))","v":""},null,null,null,"",null,null,null,{"$f":"IF(ISERROR(VLOOKUP(B763,database!$B$2:$D$6001,3,FALSE)),\"\",VLOOKUP(B763,database!$B$2:$D$6001,3,FALSE))","v":""},null,null,null,null,null,null,"",null,null,0,null,1,"indip"]
["",null,{"$f":"IF(ISERROR(VLOOKUP(B764,database!$B$2:$C$6001,2,FALSE)),\"\",VLOOKUP(B764,database!$B$2:$C$6001,2,FALSE))","v":""},null,null,null,"",null,null,null,{"$f":"IF(ISERROR(VLOOKUP(B764,database!$B$2:$D$6001,3,FALSE)),\"\",VLOOKUP(B764,database!$B$2:$D$6001,3,FALSE))","v":""},null,null,null,null,null,null,"",null,null,0,null,1,"indip"]
["",null,{"$f":"IF(ISERROR(VLOOKUP(B765,database!$B$2:$C$6001,2,FALSE)),\"\",VLOOKUP(B765,database!$B$2:$C$6001,2,FALSE))","v":""},null,null,null,"",null,null,null,{"$f":"IF(ISERROR(VLOOKUP(B765,database!$B$2:$D$6001,3,FALSE)),\"\",VLOOKUP(B765,database!$B$2:$D$6001,3,FALSE))","v":""},null,null,null,null,null,null,"",null,null,0,null,1,"indip"]
["",null,{"$f":"IF(ISERROR(VLOOKUP(B766,database!$B$2:$C$6001,2,FALSE)),\"\",VLOOKUP(B766,database!$B$2:$C$6001,2,FALSE))","v":""},null,null,null,"",null,null,null,{"$f":"IF(ISERROR(VLOOKUP(B766,database!$B$2:$D$6001,3,FALSE)),\"\",VLOOKUP(B766,database!$B$2:$D$6001,3,FALSE))","v":""},null,null,null,null,null,null,"",null,null,0,null,1,"indip"]
["",null,{"$f":"IF(ISERROR(VLOOKUP(B767,database!$B$2:$C$6001,2,FALSE)),\"\",VLOOKUP(B767,database!$B$2:$C$6001,2,FALSE))","v":""},null,null,null,"",null,null,null,{"$f":"IF(ISERROR(VLOOKUP(B767,database!$B$2:$D$6001,3,FALSE)),\"\",VLOOKUP(B767,database!$B$2:$D$6001,3,FALSE))","v":""},null,null,null,null,null,null,"",null,null,0,null,1,"indip"]
["",null,{"$f":"IF(ISERROR(VLOOKUP(B768,database!$B$2:$C$6001,2,FALSE)),\"\",VLOOKUP(B768,database!$B$2:$C$6001,2,FALSE))","v":""},null,null,null,"",null,null,null,{"$f":"IF(ISERROR(VLOOKUP(B768,database!$B$2:$D$6001,3,FALSE)),\"\",VLOOKUP(B768,database!$B$2:$D$6001,3,FALSE))","v":""},null,null,null,null,null,null,"",null,null,0,null,1,"indip"]
["",null,{"$f":"IF(ISERROR(VLOOKUP(B769,database!$B$2:$C$6001,2,FALSE)),\"\",VLOOKUP(B769,database!$B$2:$C$6001,2,FALSE))","v":""},null,null,null,"",null,null,null,{"$f":"IF(ISERROR(VLOOKUP(B769,database!$B$2:$D$6001,3,FALSE)),\"\",VLOOKUP(B769,database!$B$2:$D$6001,3,FALSE))","v":""},null,null,null,null,null,null,"",null,null,0,null,1,"indip"]
["",null,{"$f":"IF(ISERROR(VLOOKUP(B770,database!$B$2:$C$6001,2,FALSE)),\"\",VLOOKUP(B770,database!$B$2:$C$6001,2,FALSE))","v":""},null,null,null,"",null,null,null,{"$f":"IF(ISERROR(VLOOKUP(B770,database!$B$2:$D$6001,3,FALSE)),\"\",VLOOKUP(B770,database!$B$2:$D$6001,3,FALSE))","v":""},null,null,null,null,null,null,"",null,null,0,null,1,"indip"]
["",null,{"$f":"IF(ISERROR(VLOOKUP(B771,database!$B$2:$C$6001,2,FALSE)),\"\",VLOOKUP(B771,database!$B$2:$C$6001,2,FALSE))","v":""},null,null,null,"",null,null,null,{"$f":"IF(ISERROR(VLOOKUP(B771,database!$B$2:$D$6001,3,FALSE)),\"\",VLOOKUP(B771,database!$B$2:$D$6001,3,FALSE))","v":""},null,null,null,null,null,null,"",null,null,0,null,1,"indip"]
["",null,{"$f":"IF(ISERROR(VLOOKUP(B772,database!$B$2:$C$6001,2,FALSE)),\"\",VLOOKUP(B772,database!$B$2:$C$6001,2,FALSE))","v":""},null,null,null,"",null,null,null,{"$f":"IF(ISERROR(VLOOKUP(B772,database!$B$2:$D$6001,3,FALSE)),\"\",VLOOKUP(B772,database!$B$2:$D$6001,3,FALSE))","v":""},null,null,null,null,null,null,"",null,null,{"$f":"IFERROR(INDEX(M$39:N$140,MATCH(B772,M$39:M$140,0),2),0)","v":0},null,{"$f":"IF(AND(U772=0,C772=\"\"),1,2)","v":1},{"$f":"IF(B772=\"-\",\"\",IF(OR(B772=M$39,B772=M$40,B772=M$41,B772=M$42,B772=M$43,B772=M$44,B772=M$45,B772=M$46,B772=M$47,,B772=M$50,B772=M$51,B772=M$52,B772=M$53,B772=M$54,B772=M$55,B772=M$56,B772=M$57,B772=M$70),\"\",IF(C772=\"\",\"indip\",F772)))","v":"indip"}]
[{"$f":"IF(B773=\"\",\"\",ROW(A770))","v":""},null,{"$f":"IF(ISERROR(VLOOKUP(B773,database!$B$2:$C$6001,2,FALSE)),\"\",VLOOKUP(B773,database!$B$2:$C$6001,2,FALSE))","v":""},null,null,null,{"$f":"IF(B773=\"\",\"\",IF(B773=\"-\",0,IF(W773=1,1,IF(AND(U773=0,F773=\"SSB\"),2,IF(AND(U773=0,F773=\"DIGI\"),3,IF(AND(U773=0,F773=\"CW\"),5,U773))))))","v":""},null,null,null,{"$f":"IF(ISERROR(VLOOKUP(B773,database!$B$2:$D$6001,3,FALSE)),\"\",VLOOKUP(B773,database!$B$2:$D$6001,3,FALSE))","v":""},null,null,null,null,null,null,{"$f":"LEFT(C773,2)","v":""},null,null,0,null,1,"indip"]
["",null,{"$f":"IF(ISERROR(VLOOKUP(B774,database!$B$2:$C$6001,2,FALSE)),\"\",VLOOKUP(B774,database!$B$2:$C$6001,2,FALSE))","v":""},null,null,null,"",null,null,null,{"$f":"IF(ISERROR(VLOOKUP(B774,database!$B$2:$D$6001,3,FALSE)),\"\",VLOOKUP(B774,database!$B$2:$D$6001,3,FALSE))","v":""},null,null,null,null,null,null,"",null,null,0,null,1,"indip"]
["",null,{"$f":"IF(ISERROR(VLOOKUP(B775,database!$B$2:$C$6001,2,FALSE)),\"\",VLOOKUP(B775,database!$B$2:$C$6001,2,FALSE))","v":""},null,null,null,"",null,null,null,{"$f":"IF(ISERROR(VLOOKUP(B775,database!$B$2:$D$6001,3,FALSE)),\"\",VLOOKUP(B775,database!$B$2:$D$6001,3,FALSE))","v":""},null,null,null,null,null,null,"",null,null,0,null,1,"indip"]
["",null,{"$f":"IF(ISERROR(VLOOKUP(B776,database!$B$2:$C$6001,2,FALSE)),\"\",VLOOKUP(B776,database!$B$2:$C$6001,2,FALSE))","v":""},null,null,null,"",null,null,null,{"$f":"IF(ISERROR(VLOOKUP(B776,database!$B$2:$D$6001,3,FALSE)),\"\",VLOOKUP(B776,database!$B$2:$D$6001,3,FALSE))","v":""},null,null,null,null,null,null,"",null,null,0,null,1,"indip"]
["",null,{"$f":"IF(ISERROR(VLOOKUP(B777,database!$B$2:$C$6001,2,FALSE)),\"\",VLOOKUP(B777,database!$B$2:$C$6001,2,FALSE))","v":""},null,null,null,"",null,null,null,{"$f":"IF(ISERROR(VLOOKUP(B777,database!$B$2:$D$6001,3,FALSE)),\"\",VLOOKUP(B777,database!$B$2:$D$6001,3,FALSE))","v":""},null,null,null,null,null,null,"",null,null,0,null,1,"indip"]
["",null,{"$f":"IF(ISERROR(VLOOKUP(B778,database!$B$2:$C$6001,2,FALSE)),\"\",VLOOKUP(B778,database!$B$2:$C$6001,2,FALSE))","v":""},null,null,null,"",null,null,null,{"$f":"IF(ISERROR(VLOOKUP(B778,database!$B$2:$D$6001,3,FALSE)),\"\",VLOOKUP(B778,database!$B$2:$D$6001,3,FALSE))","v":""},null,null,null,null,null,null,"",null,null,0,null,1,"indip"]
["",null,{"$f":"IF(ISERROR(VLOOKUP(B779,database!$B$2:$C$6001,2,FALSE)),\"\",VLOOKUP(B779,database!$B$2:$C$6001,2,FALSE))","v":""},null,null,null,"",null,null,null,{"$f":"IF(ISERROR(VLOOKUP(B779,database!$B$2:$D$6001,3,FALSE)),\"\",VLOOKUP(B779,database!$B$2:$D$6001,3,FALSE))","v":""},null,null,null,null,null,null,"",null,null,0,null,1,"indip"]
["",null,{"$f":"IF(ISERROR(VLOOKUP(B780,database!$B$2:$C$6001,2,FALSE)),\"\",VLOOKUP(B780,database!$B$2:$C$6001,2,FALSE))","v":""},null,null,null,"",null,null,null,{"$f":"IF(ISERROR(VLOOKUP(B780,database!$B$2:$D$6001,3,FALSE)),\"\",VLOOKUP(B780,database!$B$2:$D$6001,3,FALSE))","v":""},null,null,null,null,null,null,"",null,null,0,null,1,"indip"]
["",null,{"$f":"IF(ISERROR(VLOOKUP(B781,database!$B$2:$C$6001,2,FALSE)),\"\",VLOOKUP(B781,database!$B$2:$C$6001,2,FALSE))","v":""},null,null,null,"",null,null,null,{"$f":"IF(ISERROR(VLOOKUP(B781,database!$B$2:$D$6001,3,FALSE)),\"\",VLOOKUP(B781,database!$B$2:$D$6001,3,FALSE))","v":""},null,null,null,null,null,null,"",null,null,0,null,1,"indip"]
["",null,{"$f":"IF(ISERROR(VLOOKUP(B782,database!$B$2:$C$6001,2,FALSE)),\"\",VLOOKUP(B782,database!$B$2:$C$6001,2,FALSE))","v":""},null,null,null,"",null,null,null,{"$f":"IF(ISERROR(VLOOKUP(B782,database!$B$2:$D$6001,3,FALSE)),\"\",VLOOKUP(B782,database!$B$2:$D$6001,3,FALSE))","v":""},null,null,null,null,null,null,"",null,null,0,null,1,"indip"]
["",null,{"$f":"IF(ISERROR(VLOOKUP(B783,database!$B$2:$C$6001,2,FALSE)),\"\",VLOOKUP(B783,database!$B$2:$C$6001,2,FALSE))","v":""},null,null,null,"",null,null,null,{"$f":"IF(ISERROR(VLOOKUP(B783,database!$B$2:$D$6001,3,FALSE)),\"\",VLOOKUP(B783,database!$B$2:$D$6001,3,FALSE))","v":""},null,null,null,null,null,null,"",null,null,0,null,1,"indip"]
["",null,{"$f":"IF(ISERROR(VLOOKUP(B784,database!$B$2:$C$6001,2,FALSE)),\"\",VLOOKUP(B784,database!$B$2:$C$6001,2,FALSE))","v":""},null,null,null,"",null,null,null,{"$f":"IF(ISERROR(VLOOKUP(B784,database!$B$2:$D$6001,3,FALSE)),\"\",VLOOKUP(B784,database!$B$2:$D$6001,3,FALSE))","v":""},null,null,null,null,null,null,"",null,null,0,null,1,"indip"]
["",null,{"$f":"IF(ISERROR(VLOOKUP(B785,database!$B$2:$C$6001,2,FALSE)),\"\",VLOOKUP(B785,database!$B$2:$C$6001,2,FALSE))","v":""},null,null,null,"",null,null,null,{"$f":"IF(ISERROR(VLOOKUP(B785,database!$B$2:$D$6001,3,FALSE)),\"\",VLOOKUP(B785,database!$B$2:$D$6001,3,FALSE))","v":""},null,null,null,null,null,null,"",null,null,0,null,1,"indip"]
["",null,{"$f":"IF(ISERROR(VLOOKUP(B786,database!$B$2:$C$6001,2,FALSE)),\"\",VLOOKUP(B786,database!$B$2:$C$6001,2,FALSE))","v":""},null,null,null,"",null,null,null,{"$f":"IF(ISERROR(VLOOKUP(B786,database!$B$2:$D$6001,3,FALSE)),\"\",VLOOKUP(B786,database!$B$2:$D$6001,3,FALSE))","v":""},null,null,null,null,null,null,"",null,null,0,null,1,"indip"]
["",null,{"$f":"IF(ISERROR(VLOOKUP(B787,database!$B$2:$C$6001,2,FALSE)),\"\",VLOOKUP(B787,database!$B$2:$C$6001,2,FALSE))","v":""},null,null,null,"",null,null,null,{"$f":"IF(ISERROR(VLOOKUP(B787,database!$B$2:$D$6001,3,FALSE)),\"\",VLOOKUP(B787,database!$B$2:$D$6001,3,FALSE))","v":""},null,null,null,null,null,null,"",null,null,0,null,1,"indip"]
["",null,{"$f":"IF(ISERROR(VLOOKUP(B788,database!$B$2:$C$6001,2,FALSE)),\"\",VLOOKUP(B788,database!$B$2:$C$6001,2,FALSE))","v":""},null,null,null,"",null,null,null,{"$f":"IF(ISERROR(VLOOKUP(B788,database!$B$2:$D$6001,3,FALSE)),\"\",VLOOKUP(B788,database!$B$2:$D$6001,3,FALSE))","v":""},null,null,null,null,null,null,"",null,null,0,null,1,"indip"]
["",null,{"$f":"IF(ISERROR(VLOOKUP(B789,database!$B$2:$C$6001,2,FALSE)),\"\",VLOOKUP(B789,database!$B$2:$C$6001,2,FALSE))","v":""},null,null,null,"",null,null,null,{"$f":"IF(ISERROR(VLOOKUP(B789,database!$B$2:$D$6001,3,FALSE)),\"\",VLOOKUP(B789,database!$B$2:$D$6001,3,FALSE))","v":""},null,null,null,null,null,null,"",null,null,0,null,1,"indip"]
["",null,{"$f":"IF(ISERROR(VLOOKUP(B790,database!$B$2:$C$6001,2,FALSE)),\"\",VLOOKUP(B790,database!$B$2:$C$6001,2,FALSE))","v":""},null,null,null,"",null,null,null,{"$f":"IF(ISERROR(VLOOKUP(B790,database!$B$2:$D$6001,3,FALSE)),\"\",VLOOKUP(B790,database!$B$2:$D$6001,3,FALSE))","v":""},null,null,null,null,null,null,"",null,null,0,null,1,"indip"]
["",null,{"$f":"IF(ISERROR(VLOOKUP(B791,database!$B$2:$C$6001,2,FALSE)),\"\",VLOOKUP(B791,database!$B$2:$C$6001,2,FALSE))","v":""},null,null,null,"",null,null,null,{"$f":"IF(ISERROR(VLOOKUP(B791,database!$B$2:$D$6001,3,FALSE)),\"\",VLOOKUP(B791,database!$B$2:$D$6001,3,FALSE))","v":""},null,null,null,null,null,null,"",null,null,0,null,1,"indip"]
["",null,{"$f":"IF(ISERROR(VLOOKUP(B792,database!$B$2:$C$6001,2,FALSE)),\"\",VLOOKUP(B792,database!$B$2:$C$6001,2,FALSE))","v":""},null,null,null,"",null,null,null,{"$f":"IF(ISERROR(VLOOKUP(B792,database!$B$2:$D$6001,3,FALSE)),\"\",VLOOKUP(B792,database!$B$2:$D$6001,3,FALSE))","v":""},null,null,null,null,null,null,"",null,null,0,null,1,"indip"]
["",null,{"$f":"IF(ISERROR(VLOOKUP(B793,database!$B$2:$C$6001,2,FALSE)),\"\",VLOOKUP(B793,database!$B$2:$C$6001,2,FALSE))","v":""},null,null,null,"",null,null,null,{"$f":"IF(ISERROR(VLOOKUP(B793,database!$B$2:$D$6001,3,FALSE)),\"\",VLOOKUP(B793,database!$B$2:$D$6001,3,FALSE))","v":""},null,null,null,null,null,null,"",null,null,0,null,1,"indip"]
["",null,{"$f":"IF(ISERROR(VLOOKUP(B794,database!$B$2:$C$6001,2,FALSE)),\"\",VLOOKUP(B794,database!$B$2:$C$6001,2,FALSE))","v":""},null,null,null,"",null,null,null,{"$f":"IF(ISERROR(VLOOKUP(B794,database!$B$2:$D$6001,3,FALSE)),\"\",VLOOKUP(B794,database!$B$2:$D$6001,3,FALSE))","v":""},null,null,null,null,null,null,"",null,null,0,null,1,"indip"]
["",null,{"$f":"IF(ISERROR(VLOOKUP(B795,database!$B$2:$C$6001,2,FALSE)),\"\",VLOOKUP(B795,database!$B$2:$C$6001,2,FALSE))","v":""},null,null,null,"",null,null,null,{"$f":"IF(ISERROR(VLOOKUP(B795,database!$B$2:$D$6001,3,FALSE)),\"\",VLOOKUP(B795,database!$B$2:$D$6001,3,FALSE))","v":""},null,null,null,null,null,null,"",null,null,0,null,1,"indip"]
["",null,{"$f":"IF(ISERROR(VLOOKUP(B796,database!$B$2:$C$6001,2,FALSE)),\"\",VLOOKUP(B796,database!$B$2:$C$6001,2,FALSE))","v":""},null,null,null,"",null,null,null,{"$f":"IF(ISERROR(VLOOKUP(B796,database!$B$2:$D$6001,3,FALSE)),\"\",VLOOKUP(B796,database!$B$2:$D$6001,3,FALSE))","v":""},null,null,null,null,null,null,"",null,null,0,null,1,"indip"]
["",null,{"$f":"IF(ISERROR(VLOOKUP(B797,database!$B$2:$C$6001,2,FALSE)),\"\",VLOOKUP(B797,database!$B$2:$C$6001,2,FALSE))","v":""},null,null,null,"",null,null,null,{"$f":"IF(ISERROR(VLOOKUP(B797,database!$B$2:$D$6001,3,FALSE)),\"\",VLOOKUP(B797,database!$B$2:$D$6001,3,FALSE))","v":""},null,null,null,null,null,null,"",null,null,0,null,1,"indip"]
["",null,{"$f":"IF(ISERROR(VLOOKUP(B798,database!$B$2:$C$6001,2,FALSE)),\"\",VLOOKUP(B798,database!$B$2:$C$6001,2,FALSE))","v":""},null,null,null,"",null,null,null,{"$f":"IF(ISERROR(VLOOKUP(B798,database!$B$2:$D$6001,3,FALSE)),\"\",VLOOKUP(B798,database!$B$2:$D$6001,3,FALSE))","v":""},null,null,null,null,null,null,"",null,null,0,null,1,"indip"]
["",null,{"$f":"IF(ISERROR(VLOOKUP(B799,database!$B$2:$C$6001,2,FALSE)),\"\",VLOOKUP(B799,database!$B$2:$C$6001,2,FALSE))","v":""},null,null,null,"",null,null,null,{"$f":"IF(ISERROR(VLOOKUP(B799,database!$B$2:$D$6001,3,FALSE)),\"\",VLOOKUP(B799,database!$B$2:$D$6001,3,FALSE))","v":""},null,null,null,null,null,null,"",null,null,0,null,1,"indip"]
["",null,{"$f":"IF(ISERROR(VLOOKUP(B800,database!$B$2:$C$6001,2,FALSE)),\"\",VLOOKUP(B800,database!$B$2:$C$6001,2,FALSE))","v":""},null,null,null,"",null,null,null,{"$f":"IF(ISERROR(VLOOKUP(B800,database!$B$2:$D$6001,3,FALSE)),\"\",VLOOKUP(B800,database!$B$2:$D$6001,3,FALSE))","v":""},null,null,null,null,null,null,"",null,null,0,null,1,"indip"]
["",null,{"$f":"IF(ISERROR(VLOOKUP(B801,database!$B$2:$C$6001,2,FALSE)),\"\",VLOOKUP(B801,database!$B$2:$C$6001,2,FALSE))","v":""},null,null,null,"",null,null,null,{"$f":"IF(ISERROR(VLOOKUP(B801,database!$B$2:$D$6001,3,FALSE)),\"\",VLOOKUP(B801,database!$B$2:$D$6001,3,FALSE))","v":""},null,null,null,null,null,null,"",null,null,0,null,1,"indip"]
["",null,{"$f":"IF(ISERROR(VLOOKUP(B802,database!$B$2:$C$6001,2,FALSE)),\"\",VLOOKUP(B802,database!$B$2:$C$6001,2,FALSE))","v":""},null,null,null,"",null,null,null,{"$f":"IF(ISERROR(VLOOKUP(B802,database!$B$2:$D$6001,3,FALSE)),\"\",VLOOKUP(B802,database!$B$2:$D$6001,3,FALSE))","v":""},null,null,null,null,null,null,"",null,null,0,null,1,"indip"]
["",null,{"$f":"IF(ISERROR(VLOOKUP(B803,database!$B$2:$C$6001,2,FALSE)),\"\",VLOOKUP(B803,database!$B$2:$C$6001,2,FALSE))","v":""},null,null,null,"",null,null,null,{"$f":"IF(ISERROR(VLOOKUP(B803,database!$B$2:$D$6001,3,FALSE)),\"\",VLOOKUP(B803,database!$B$2:$D$6001,3,FALSE))","v":""},null,null,null,null,null,null,"",null,null,0,null,1,"indip"]
["",null,{"$f":"IF(ISERROR(VLOOKUP(B804,database!$B$2:$C$6001,2,FALSE)),\"\",VLOOKUP(B804,database!$B$2:$C$6001,2,FALSE))","v":""},null,null,null,"",null,null,null,{"$f":"IF(ISERROR(VLOOKUP(B804,database!$B$2:$D$6001,3,FALSE)),\"\",VLOOKUP(B804,database!$B$2:$D$6001,3,FALSE))","v":""},null,null,null,null,null,null,"",null,null,0,null,1,"indip"]
["",null,{"$f":"IF(ISERROR(VLOOKUP(B805,database!$B$2:$C$6001,2,FALSE)),\"\",VLOOKUP(B805,database!$B$2:$C$6001,2,FALSE))","v":""},null,null,null,"",null,null,null,{"$f":"IF(ISERROR(VLOOKUP(B805,database!$B$2:$D$6001,3,FALSE)),\"\",VLOOKUP(B805,database!$B$2:$D$6001,3,FALSE))","v":""},null,null,null,null,null,null,"",null,null,0,null,1,"indip"]
["",null,{"$f":"IF(ISERROR(VLOOKUP(B806,database!$B$2:$C$6001,2,FALSE)),\"\",VLOOKUP(B806,database!$B$2:$C$6001,2,FALSE))","v":""},null,null,null,"",null,null,null,{"$f":"IF(ISERROR(VLOOKUP(B806,database!$B$2:$D$6001,3,FALSE)),\"\",VLOOKUP(B806,database!$B$2:$D$6001,3,FALSE))","v":""},null,null,null,null,null,null,"",null,null,0,null,1,"indip"]
["",null,{"$f":"IF(ISERROR(VLOOKUP(B807,database!$B$2:$C$6001,2,FALSE)),\"\",VLOOKUP(B807,database!$B$2:$C$6001,2,FALSE))","v":""},null,null,null,"",null,null,null,{"$f":"IF(ISERROR(VLOOKUP(B807,database!$B$2:$D$6001,3,FALSE)),\"\",VLOOKUP(B807,database!$B$2:$D$6001,3,FALSE))","v":""},null,null,null,null,null,null,"",null,null,0,null,1,"indip"]
["",null,{"$f":"IF(ISERROR(VLOOKUP(B808,database!$B$2:$C$6001,2,FALSE)),\"\",VLOOKUP(B808,database!$B$2:$C$6001,2,FALSE))","v":""},null,null,null,"",null,null,null,{"$f":"IF(ISERROR(VLOOKUP(B808,database!$B$2:$D$6001,3,FALSE)),\"\",VLOOKUP(B808,database!$B$2:$D$6001,3,FALSE))","v":""},null,null,null,null,null,null,"",null,null,0,null,1,"indip"]
["",null,{"$f":"IF(ISERROR(VLOOKUP(B809,database!$B$2:$C$6001,2,FALSE)),\"\",VLOOKUP(B809,database!$B$2:$C$6001,2,FALSE))","v":""},null,null,null,"",null,null,null,{"$f":"IF(ISERROR(VLOOKUP(B809,database!$B$2:$D$6001,3,FALSE)),\"\",VLOOKUP(B809,database!$B$2:$D$6001,3,FALSE))","v":""},null,null,null,null,null,null,"",null,null,0,null,1,"indip"]
["",null,{"$f":"IF(ISERROR(VLOOKUP(B810,database!$B$2:$C$6001,2,FALSE)),\"\",VLOOKUP(B810,database!$B$2:$C$6001,2,FALSE))","v":""},null,null,null,"",null,null,null,{"$f":"IF(ISERROR(VLOOKUP(B810,database!$B$2:$D$6001,3,FALSE)),\"\",VLOOKUP(B810,database!$B$2:$D$6001,3,FALSE))","v":""},null,null,null,null,null,null,"",null,null,0,null,1,"indip"]
["",null,{"$f":"IF(ISERROR(VLOOKUP(B811,database!$B$2:$C$6001,2,FALSE)),\"\",VLOOKUP(B811,database!$B$2:$C$6001,2,FALSE))","v":""},null,null,null,"",null,null,null,{"$f":"IF(ISERROR(VLOOKUP(B811,database!$B$2:$D$6001,3,FALSE)),\"\",VLOOKUP(B811,database!$B$2:$D$6001,3,FALSE))","v":""},null,null,null,null,null,null,"",null,null,0,null,1,"indip"]
["",null,{"$f":"IF(ISERROR(VLOOKUP(B812,database!$B$2:$C$6001,2,FALSE)),\"\",VLOOKUP(B812,database!$B$2:$C$6001,2,FALSE))","v":""},null,null,null,"",null,null,null,{"$f":"IF(ISERROR(VLOOKUP(B812,database!$B$2:$D$6001,3,FALSE)),\"\",VLOOKUP(B812,database!$B$2:$D$6001,3,FALSE))","v":""},null,null,null,null,null,null,"",null,null,0,null,1,"indip"]
["",null,{"$f":"IF(ISERROR(VLOOKUP(B813,database!$B$2:$C$6001,2,FALSE)),\"\",VLOOKUP(B813,database!$B$2:$C$6001,2,FALSE))","v":""},null,null,null,"",null,null,null,{"$f":"IF(ISERROR(VLOOKUP(B813,database!$B$2:$D$6001,3,FALSE)),\"\",VLOOKUP(B813,database!$B$2:$D$6001,3,FALSE))","v":""},null,null,null,null,null,null,"",null,null,0,null,1,"indip"]
["",null,{"$f":"IF(ISERROR(VLOOKUP(B814,database!$B$2:$C$6001,2,FALSE)),\"\",VLOOKUP(B814,database!$B$2:$C$6001,2,FALSE))","v":""},null,null,null,"",null,null,null,{"$f":"IF(ISERROR(VLOOKUP(B814,database!$B$2:$D$6001,3,FALSE)),\"\",VLOOKUP(B814,database!$B$2:$D$6001,3,FALSE))","v":""},null,null,null,null,null,null,"",null,null,0,null,1,"indip"]
["",null,{"$f":"IF(ISERROR(VLOOKUP(B815,database!$B$2:$C$6001,2,FALSE)),\"\",VLOOKUP(B815,database!$B$2:$C$6001,2,FALSE))","v":""},null,null,null,"",null,null,null,{"$f":"IF(ISERROR(VLOOKUP(B815,database!$B$2:$D$6001,3,FALSE)),\"\",VLOOKUP(B815,database!$B$2:$D$6001,3,FALSE))","v":""},null,null,null,null,null,null,"",null,null,0,null,1,"indip"]
["",null,{"$f":"IF(ISERROR(VLOOKUP(B816,database!$B$2:$C$6001,2,FALSE)),\"\",VLOOKUP(B816,database!$B$2:$C$6001,2,FALSE))","v":""},null,null,null,"",null,null,null,{"$f":"IF(ISERROR(VLOOKUP(B816,database!$B$2:$D$6001,3,FALSE)),\"\",VLOOKUP(B816,database!$B$2:$D$6001,3,FALSE))","v":""},null,null,null,null,null,null,"",null,null,0,null,1,"indip"]
["",null,{"$f":"IF(ISERROR(VLOOKUP(B817,database!$B$2:$C$6001,2,FALSE)),\"\",VLOOKUP(B817,database!$B$2:$C$6001,2,FALSE))","v":""},null,null,null,"",null,null,null,{"$f":"IF(ISERROR(VLOOKUP(B817,database!$B$2:$D$6001,3,FALSE)),\"\",VLOOKUP(B817,database!$B$2:$D$6001,3,FALSE))","v":""},null,null,null,null,null,null,"",null,null,0,null,1,"indip"]
["",null,{"$f":"IF(ISERROR(VLOOKUP(B818,database!$B$2:$C$6001,2,FALSE)),\"\",VLOOKUP(B818,database!$B$2:$C$6001,2,FALSE))","v":""},null,null,null,"",null,null,null,{"$f":"IF(ISERROR(VLOOKUP(B818,database!$B$2:$D$6001,3,FALSE)),\"\",VLOOKUP(B818,database!$B$2:$D$6001,3,FALSE))","v":""},null,null,null,null,null,null,"",null,null,0,null,1,"indip"]
["",null,{"$f":"IF(ISERROR(VLOOKUP(B819,database!$B$2:$C$6001,2,FALSE)),\"\",VLOOKUP(B819,database!$B$2:$C$6001,2,FALSE))","v":""},null,null,null,"",null,null,null,{"$f":"IF(ISERROR(VLOOKUP(B819,database!$B$2:$D$6001,3,FALSE)),\"\",VLOOKUP(B819,database!$B$2:$D$6001,3,FALSE))","v":""},null,null,null,null,null,null,"",null,null,0,null,1,"indip"]
["",null,{"$f":"IF(ISERROR(VLOOKUP(B820,database!$B$2:$C$6001,2,FALSE)),\"\",VLOOKUP(B820,database!$B$2:$C$6001,2,FALSE))","v":""},null,null,null,"",null,null,null,{"$f":"IF(ISERROR(VLOOKUP(B820,database!$B$2:$D$6001,3,FALSE)),\"\",VLOOKUP(B820,database!$B$2:$D$6001,3,FALSE))","v":""},null,null,null,null,null,null,"",null,null,0,null,1,"indip"]
["",null,{"$f":"IF(ISERROR(VLOOKUP(B821,database!$B$2:$C$6001,2,FALSE)),\"\",VLOOKUP(B821,database!$B$2:$C$6001,2,FALSE))","v":""},null,null,null,"",null,null,null,{"$f":"IF(ISERROR(VLOOKUP(B821,database!$B$2:$D$6001,3,FALSE)),\"\",VLOOKUP(B821,database!$B$2:$D$6001,3,FALSE))","v":""},null,null,null,null,null,null,"",null,null,0,null,1,"indip"]
["",null,{"$f":"IF(ISERROR(VLOOKUP(B822,database!$B$2:$C$6001,2,FALSE)),\"\",VLOOKUP(B822,database!$B$2:$C$6001,2,FALSE))","v":""},null,null,null,"",null,null,null,{"$f":"IF(ISERROR(VLOOKUP(B822,database!$B$2:$D$6001,3,FALSE)),\"\",VLOOKUP(B822,database!$B$2:$D$6001,3,FALSE))","v":""},null,null,null,null,null,null,"",null,null,0,null,1,"indip"]
["",null,{"$f":"IF(ISERROR(VLOOKUP(B823,database!$B$2:$C$6001,2,FALSE)),\"\",VLOOKUP(B823,database!$B$2:$C$6001,2,FALSE))","v":""},null,null,null,"",null,null,null,{"$f":"IF(ISERROR(VLOOKUP(B823,database!$B$2:$D$6001,3,FALSE)),\"\",VLOOKUP(B823,database!$B$2:$D$6001,3,FALSE))","v":""},null,null,null,null,null,null,"",null,null,0,null,1,"indip"]
["",null,{"$f":"IF(ISERROR(VLOOKUP(B824,database!$B$2:$C$6001,2,FALSE)),\"\",VLOOKUP(B824,database!$B$2:$C$6001,2,FALSE))","v":""},null,null,null,"",null,null,null,{"$f":"IF(ISERROR(VLOOKUP(B824,database!$B$2:$D$6001,3,FALSE)),\"\",VLOOKUP(B824,database!$B$2:$D$6001,3,FALSE))","v":""},null,null,null,null,null,null,"",null,null,0,null,1,"indip"]
["",null,{"$f":"IF(ISERROR(VLOOKUP(B825,database!$B$2:$C$6001,2,FALSE)),\"\",VLOOKUP(B825,database!$B$2:$C$6001,2,FALSE))","v":""},null,null,null,"",null,null,null,{"$f":"IF(ISERROR(VLOOKUP(B825,database!$B$2:$D$6001,3,FALSE)),\"\",VLOOKUP(B825,database!$B$2:$D$6001,3,FALSE))","v":""},null,null,null,null,null,null,"",null,null,0,null,1,"indip"]
["",null,{"$f":"IF(ISERROR(VLOOKUP(B826,database!$B$2:$C$6001,2,FALSE)),\"\",VLOOKUP(B826,database!$B$2:$C$6001,2,FALSE))","v":""},null,null,null,"",null,null,null,{"$f":"IF(ISERROR(VLOOKUP(B826,database!$B$2:$D$6001,3,FALSE)),\"\",VLOOKUP(B826,database!$B$2:$D$6001,3,FALSE))","v":""},null,null,null,null,null,null,"",null,null,0,null,1,"indip"]
["",null,{"$f":"IF(ISERROR(VLOOKUP(B827,database!$B$2:$C$6001,2,FALSE)),\"\",VLOOKUP(B827,database!$B$2:$C$6001,2,FALSE))","v":""},null,null,null,"",null,null,null,{"$f":"IF(ISERROR(VLOOKUP(B827,database!$B$2:$D$6001,3,FALSE)),\"\",VLOOKUP(B827,database!$B$2:$D$6001,3,FALSE))","v":""},null,null,null,null,null,null,"",null,null,0,null,1,"indip"]
["",null,{"$f":"IF(ISERROR(VLOOKUP(B828,database!$B$2:$C$6001,2,FALSE)),\"\",VLOOKUP(B828,database!$B$2:$C$6001,2,FALSE))","v":""},null,null,null,"",null,null,null,{"$f":"IF(ISERROR(VLOOKUP(B828,database!$B$2:$D$6001,3,FALSE)),\"\",VLOOKUP(B828,database!$B$2:$D$6001,3,FALSE))","v":""},null,null,null,null,null,null,"",null,null,0,null,1,"indip"]
["",null,{"$f":"IF(ISERROR(VLOOKUP(B829,database!$B$2:$C$6001,2,FALSE)),\"\",VLOOKUP(B829,database!$B$2:$C$6001,2,FALSE))","v":""},null,null,null,"",null,null,null,{"$f":"IF(ISERROR(VLOOKUP(B829,database!$B$2:$D$6001,3,FALSE)),\"\",VLOOKUP(B829,database!$B$2:$D$6001,3,FALSE))","v":""},null,null,null,null,null,null,"",null,null,0,null,1,"indip"]
["",null,{"$f":"IF(ISERROR(VLOOKUP(B830,database!$B$2:$C$6001,2,FALSE)),\"\",VLOOKUP(B830,database!$B$2:$C$6001,2,FALSE))","v":""},null,null,null,"",null,null,null,{"$f":"IF(ISERROR(VLOOKUP(B830,database!$B$2:$D$6001,3,FALSE)),\"\",VLOOKUP(B830,database!$B$2:$D$6001,3,FALSE))","v":""},null,null,null,null,null,null,"",null,null,0,null,1,"indip"]
["",null,{"$f":"IF(ISERROR(VLOOKUP(B831,database!$B$2:$C$6001,2,FALSE)),\"\",VLOOKUP(B831,database!$B$2:$C$6001,2,FALSE))","v":""},null,null,null,"",null,null,null,{"$f":"IF(ISERROR(VLOOKUP(B831,database!$B$2:$D$6001,3,FALSE)),\"\",VLOOKUP(B831,database!$B$2:$D$6001,3,FALSE))","v":""},null,null,null,null,null,null,"",null,null,0,null,1,"indip"]
["",null,{"$f":"IF(ISERROR(VLOOKUP(B832,database!$B$2:$C$6001,2,FALSE)),\"\",VLOOKUP(B832,database!$B$2:$C$6001,2,FALSE))","v":""},null,null,null,"",null,null,null,{"$f":"IF(ISERROR(VLOOKUP(B832,database!$B$2:$D$6001,3,FALSE)),\"\",VLOOKUP(B832,database!$B$2:$D$6001,3,FALSE))","v":""},null,null,null,null,null,null,"",null,null,0,null,1,"indip"]
["",null,{"$f":"IF(ISERROR(VLOOKUP(B833,database!$B$2:$C$6001,2,FALSE)),\"\",VLOOKUP(B833,database!$B$2:$C$6001,2,FALSE))","v":""},null,null,null,"",null,null,null,{"$f":"IF(ISERROR(VLOOKUP(B833,database!$B$2:$D$6001,3,FALSE)),\"\",VLOOKUP(B833,database!$B$2:$D$6001,3,FALSE))","v":""},null,null,null,null,null,null,"",null,null,0,null,1,"indip"]
["",null,{"$f":"IF(ISERROR(VLOOKUP(B834,database!$B$2:$C$6001,2,FALSE)),\"\",VLOOKUP(B834,database!$B$2:$C$6001,2,FALSE))","v":""},null,null,null,"",null,null,null,{"$f":"IF(ISERROR(VLOOKUP(B834,database!$B$2:$D$6001,3,FALSE)),\"\",VLOOKUP(B834,database!$B$2:$D$6001,3,FALSE))","v":""},null,null,null,null,null,null,"",null,null,0,null,1,"indip"]
["",null,{"$f":"IF(ISERROR(VLOOKUP(B835,database!$B$2:$C$6001,2,FALSE)),\"\",VLOOKUP(B835,database!$B$2:$C$6001,2,FALSE))","v":""},null,null,null,"",null,null,null,{"$f":"IF(ISERROR(VLOOKUP(B835,database!$B$2:$D$6001,3,FALSE)),\"\",VLOOKUP(B835,database!$B$2:$D$6001,3,FALSE))","v":""},null,null,null,null,null,null,"",null,null,0,null,1,"indip"]
["",null,{"$f":"IF(ISERROR(VLOOKUP(B836,database!$B$2:$C$6001,2,FALSE)),\"\",VLOOKUP(B836,database!$B$2:$C$6001,2,FALSE))","v":""},null,null,null,"",null,null,null,{"$f":"IF(ISERROR(VLOOKUP(B836,database!$B$2:$D$6001,3,FALSE)),\"\",VLOOKUP(B836,database!$B$2:$D$6001,3,FALSE))","v":""},null,null,null,null,null,null,"",null,null,{"$f":"IFERROR(INDEX(M$39:N$140,MATCH(B836,M$39:M$140,0),2),0)","v":0},null,{"$f":"IF(AND(U836=0,C836=\"\"),1,2)","v":1},{"$f":"IF(B836=\"-\",\"\",IF(OR(B836=M$39,B836=M$40,B836=M$41,B836=M$42,B836=M$43,B836=M$44,B836=M$45,B836=M$46,B836=M$47,,B836=M$50,B836=M$51,B836=M$52,B836=M$53,B836=M$54,B836=M$55,B836=M$56,B836=M$57,B836=M$70),\"\",IF(C836=\"\",\"indip\",F836)))","v":"indip"}]
[{"$f":"IF(B837=\"\",\"\",ROW(A834))","v":""},null,{"$f":"IF(ISERROR(VLOOKUP(B837,database!$B$2:$C$6001,2,FALSE)),\"\",VLOOKUP(B837,database!$B$2:$C$6001,2,FALSE))","v":""},null,null,null,{"$f":"IF(B837=\"\",\"\",IF(B837=\"-\",0,IF(W837=1,1,IF(AND(U837=0,F837=\"SSB\"),2,IF(AND(U837=0,F837=\"DIGI\"),3,IF(AND(U837=0,F837=\"CW\"),5,U837))))))","v":""},null,null,null,{"$f":"IF(ISERROR(VLOOKUP(B837,database!$B$2:$D$6001,3,FALSE)),\"\",VLOOKUP(B837,database!$B$2:$D$6001,3,FALSE))","v":""},null,null,null,null,null,null,{"$f":"LEFT(C837,2)","v":""},null,null,0,null,1,"indip"]
["",null,{"$f":"IF(ISERROR(VLOOKUP(B838,database!$B$2:$C$6001,2,FALSE)),\"\",VLOOKUP(B838,database!$B$2:$C$6001,2,FALSE))","v":""},null,null,null,"",null,null,null,{"$f":"IF(ISERROR(VLOOKUP(B838,database!$B$2:$D$6001,3,FALSE)),\"\",VLOOKUP(B838,database!$B$2:$D$6001,3,FALSE))","v":""},null,null,null,null,null,null,"",null,null,0,null,1,"indip"]
["",null,{"$f":"IF(ISERROR(VLOOKUP(B839,database!$B$2:$C$6001,2,FALSE)),\"\",VLOOKUP(B839,database!$B$2:$C$6001,2,FALSE))","v":""},null,null,null,"",null,null,null,{"$f":"IF(ISERROR(VLOOKUP(B839,database!$B$2:$D$6001,3,FALSE)),\"\",VLOOKUP(B839,database!$B$2:$D$6001,3,FALSE))","v":""},null,null,null,null,null,null,"",null,null,0,null,1,"indip"]
["",null,{"$f":"IF(ISERROR(VLOOKUP(B840,database!$B$2:$C$6001,2,FALSE)),\"\",VLOOKUP(B840,database!$B$2:$C$6001,2,FALSE))","v":""},null,null,null,"",null,null,null,{"$f":"IF(ISERROR(VLOOKUP(B840,database!$B$2:$D$6001,3,FALSE)),\"\",VLOOKUP(B840,database!$B$2:$D$6001,3,FALSE))","v":""},null,null,null,null,null,null,"",null,null,0,null,1,"indip"]
["",null,{"$f":"IF(ISERROR(VLOOKUP(B841,database!$B$2:$C$6001,2,FALSE)),\"\",VLOOKUP(B841,database!$B$2:$C$6001,2,FALSE))","v":""},null,null,null,"",null,null,null,{"$f":"IF(ISERROR(VLOOKUP(B841,database!$B$2:$D$6001,3,FALSE)),\"\",VLOOKUP(B841,database!$B$2:$D$6001,3,FALSE))","v":""},null,null,null,null,null,null,"",null,null,0,null,1,"indip"]
["",null,{"$f":"IF(ISERROR(VLOOKUP(B842,database!$B$2:$C$6001,2,FALSE)),\"\",VLOOKUP(B842,database!$B$2:$C$6001,2,FALSE))","v":""},null,null,null,"",null,null,null,{"$f":"IF(ISERROR(VLOOKUP(B842,database!$B$2:$D$6001,3,FALSE)),\"\",VLOOKUP(B842,database!$B$2:$D$6001,3,FALSE))","v":""},null,null,null,null,null,null,"",null,null,0,null,1,"indip"]
["",null,{"$f":"IF(ISERROR(VLOOKUP(B843,database!$B$2:$C$6001,2,FALSE)),\"\",VLOOKUP(B843,database!$B$2:$C$6001,2,FALSE))","v":""},null,null,null,"",null,null,null,{"$f":"IF(ISERROR(VLOOKUP(B843,database!$B$2:$D$6001,3,FALSE)),\"\",VLOOKUP(B843,database!$B$2:$D$6001,3,FALSE))","v":""},null,null,null,null,null,null,"",null,null,0,null,1,"indip"]
["",null,{"$f":"IF(ISERROR(VLOOKUP(B844,database!$B$2:$C$6001,2,FALSE)),\"\",VLOOKUP(B844,database!$B$2:$C$6001,2,FALSE))","v":""},null,null,null,"",null,null,null,{"$f":"IF(ISERROR(VLOOKUP(B844,database!$B$2:$D$6001,3,FALSE)),\"\",VLOOKUP(B844,database!$B$2:$D$6001,3,FALSE))","v":""},null,null,null,null,null,null,"",null,null,0,null,1,"indip"]
["",null,{"$f":"IF(ISERROR(VLOOKUP(B845,database!$B$2:$C$6001,2,FALSE)),\"\",VLOOKUP(B845,database!$B$2:$C$6001,2,FALSE))","v":""},null,null,null,"",null,null,null,{"$f":"IF(ISERROR(VLOOKUP(B845,database!$B$2:$D$6001,3,FALSE)),\"\",VLOOKUP(B845,database!$B$2:$D$6001,3,FALSE))","v":""},null,null,null,null,null,null,"",null,null,0,null,1,"indip"]
["",null,{"$f":"IF(ISERROR(VLOOKUP(B846,database!$B$2:$C$6001,2,FALSE)),\"\",VLOOKUP(B846,database!$B$2:$C$6001,2,FALSE))","v":""},null,null,null,"",null,null,null,{"$f":"IF(ISERROR(VLOOKUP(B846,database!$B$2:$D$6001,3,FALSE)),\"\",VLOOKUP(B846,database!$B$2:$D$6001,3,FALSE))","v":""},null,null,null,null,null,null,"",null,null,0,null,1,"indip"]
["",null,{"$f":"IF(ISERROR(VLOOKUP(B847,database!$B$2:$C$6001,2,FALSE)),\"\",VLOOKUP(B847,database!$B$2:$C$6001,2,FALSE))","v":""},null,null,null,"",null,null,null,{"$f":"IF(ISERROR(VLOOKUP(B847,database!$B$2:$D$6001,3,FALSE)),\"\",VLOOKUP(B847,database!$B$2:$D$6001,3,FALSE))","v":""},null,null,null,null,null,null,"",null,null,0,null,1,"indip"]
["",null,{"$f":"IF(ISERROR(VLOOKUP(B848,database!$B$2:$C$6001,2,FALSE)),\"\",VLOOKUP(B848,database!$B$2:$C$6001,2,FALSE))","v":""},null,null,null,"",null,null,null,{"$f":"IF(ISERROR(VLOOKUP(B848,database!$B$2:$D$6001,3,FALSE)),\"\",VLOOKUP(B848,database!$B$2:$D$6001,3,FALSE))","v":""},null,null,null,null,null,null,"",null,null,0,null,1,"indip"]
["",null,{"$f":"IF(ISERROR(VLOOKUP(B849,database!$B$2:$C$6001,2,FALSE)),\"\",VLOOKUP(B849,database!$B$2:$C$6001,2,FALSE))","v":""},null,null,null,"",null,null,null,{"$f":"IF(ISERROR(VLOOKUP(B849,database!$B$2:$D$6001,3,FALSE)),\"\",VLOOKUP(B849,database!$B$2:$D$6001,3,FALSE))","v":""},null,null,null,null,null,null,"",null,null,0,null,1,"indip"]
["",null,{"$f":"IF(ISERROR(VLOOKUP(B850,database!$B$2:$C$6001,2,FALSE)),\"\",VLOOKUP(B850,database!$B$2:$C$6001,2,FALSE))","v":""},null,null,null,"",null,null,null,{"$f":"IF(ISERROR(VLOOKUP(B850,database!$B$2:$D$6001,3,FALSE)),\"\",VLOOKUP(B850,database!$B$2:$D$6001,3,FALSE))","v":""},null,null,null,null,null,null,"",null,null,0,null,1,"indip"]
["",null,{"$f":"IF(ISERROR(VLOOKUP(B851,database!$B$2:$C$6001,2,FALSE)),\"\",VLOOKUP(B851,database!$B$2:$C$6001,2,FALSE))","v":""},null,null,null,"",null,null,null,{"$f":"IF(ISERROR(VLOOKUP(B851,database!$B$2:$D$6001,3,FALSE)),\"\",VLOOKUP(B851,database!$B$2:$D$6001,3,FALSE))","v":""},null,null,null,null,null,null,"",null,null,0,null,1,"indip"]
["",null,{"$f":"IF(ISERROR(VLOOKUP(B852,database!$B$2:$C$6001,2,FALSE)),\"\",VLOOKUP(B852,database!$B$2:$C$6001,2,FALSE))","v":""},null,null,null,"",null,null,null,{"$f":"IF(ISERROR(VLOOKUP(B852,database!$B$2:$D$6001,3,FALSE)),\"\",VLOOKUP(B852,database!$B$2:$D$6001,3,FALSE))","v":""},null,null,null,null,null,null,"",null,null,0,null,1,"indip"]
["",null,{"$f":"IF(ISERROR(VLOOKUP(B853,database!$B$2:$C$6001,2,FALSE)),\"\",VLOOKUP(B853,database!$B$2:$C$6001,2,FALSE))","v":""},null,null,null,"",null,null,null,{"$f":"IF(ISERROR(VLOOKUP(B853,database!$B$2:$D$6001,3,FALSE)),\"\",VLOOKUP(B853,database!$B$2:$D$6001,3,FALSE))","v":""},null,null,null,null,null,null,"",null,null,0,null,1,"indip"]
["",null,{"$f":"IF(ISERROR(VLOOKUP(B854,database!$B$2:$C$6001,2,FALSE)),\"\",VLOOKUP(B854,database!$B$2:$C$6001,2,FALSE))","v":""},null,null,null,"",null,null,null,{"$f":"IF(ISERROR(VLOOKUP(B854,database!$B$2:$D$6001,3,FALSE)),\"\",VLOOKUP(B854,database!$B$2:$D$6001,3,FALSE))","v":""},null,null,null,null,null,null,"",null,null,0,null,1,"indip"]
["",null,{"$f":"IF(ISERROR(VLOOKUP(B855,database!$B$2:$C$6001,2,FALSE)),\"\",VLOOKUP(B855,database!$B$2:$C$6001,2,FALSE))","v":""},null,null,null,"",null,null,null,{"$f":"IF(ISERROR(VLOOKUP(B855,database!$B$2:$D$6001,3,FALSE)),\"\",VLOOKUP(B855,database!$B$2:$D$6001,3,FALSE))","v":""},null,null,null,null,null,null,"",null,null,0,null,1,"indip"]
["",null,{"$f":"IF(ISERROR(VLOOKUP(B856,database!$B$2:$C$6001,2,FALSE)),\"\",VLOOKUP(B856,database!$B$2:$C$6001,2,FALSE))","v":""},null,null,null,"",null,null,null,{"$f":"IF(ISERROR(VLOOKUP(B856,database!$B$2:$D$6001,3,FALSE)),\"\",VLOOKUP(B856,database!$B$2:$D$6001,3,FALSE))","v":""},null,null,null,null,null,null,"",null,null,0,null,1,"indip"]
["",null,{"$f":"IF(ISERROR(VLOOKUP(B857,database!$B$2:$C$6001,2,FALSE)),\"\",VLOOKUP(B857,database!$B$2:$C$6001,2,FALSE))","v":""},null,null,null,"",null,null,null,{"$f":"IF(ISERROR(VLOOKUP(B857,database!$B$2:$D$6001,3,FALSE)),\"\",VLOOKUP(B857,database!$B$2:$D$6001,3,FALSE))","v":""},null,null,null,null,null,null,"",null,null,0,null,1,"indip"]
["",null,{"$f":"IF(ISERROR(VLOOKUP(B858,database!$B$2:$C$6001,2,FALSE)),\"\",VLOOKUP(B858,database!$B$2:$C$6001,2,FALSE))","v":""},null,null,null,"",null,null,null,{"$f":"IF(ISERROR(VLOOKUP(B858,database!$B$2:$D$6001,3,FALSE)),\"\",VLOOKUP(B858,database!$B$2:$D$6001,3,FALSE))","v":""},null,null,null,null,null,null,"",null,null,0,null,1,"indip"]
["",null,{"$f":"IF(ISERROR(VLOOKUP(B859,database!$B$2:$C$6001,2,FALSE)),\"\",VLOOKUP(B859,database!$B$2:$C$6001,2,FALSE))","v":""},null,null,null,"",null,null,null,{"$f":"IF(ISERROR(VLOOKUP(B859,database!$B$2:$D$6001,3,FALSE)),\"\",VLOOKUP(B859,database!$B$2:$D$6001,3,FALSE))","v":""},null,null,null,null,null,null,"",null,null,0,null,1,"indip"]
["",null,{"$f":"IF(ISERROR(VLOOKUP(B860,database!$B$2:$C$6001,2,FALSE)),\"\",VLOOKUP(B860,database!$B$2:$C$6001,2,FALSE))","v":""},null,null,null,"",null,null,null,{"$f":"IF(ISERROR(VLOOKUP(B860,database!$B$2:$D$6001,3,FALSE)),\"\",VLOOKUP(B860,database!$B$2:$D$6001,3,FALSE))","v":""},null,null,null,null,null,null,"",null,null,0,null,1,"indip"]
["",null,{"$f":"IF(ISERROR(VLOOKUP(B861,database!$B$2:$C$6001,2,FALSE)),\"\",VLOOKUP(B861,database!$B$2:$C$6001,2,FALSE))","v":""},null,null,null,"",null,null,null,{"$f":"IF(ISERROR(VLOOKUP(B861,database!$B$2:$D$6001,3,FALSE)),\"\",VLOOKUP(B861,database!$B$2:$D$6001,3,FALSE))","v":""},null,null,null,null,null,null,"",null,null,0,null,1,"indip"]
["",null,{"$f":"IF(ISERROR(VLOOKUP(B862,database!$B$2:$C$6001,2,FALSE)),\"\",VLOOKUP(B862,database!$B$2:$C$6001,2,FALSE))","v":""},null,null,null,"",null,null,null,{"$f":"IF(ISERROR(VLOOKUP(B862,database!$B$2:$D$6001,3,FALSE)),\"\",VLOOKUP(B862,database!$B$2:$D$6001,3,FALSE))","v":""},null,null,null,null,null,null,"",null,null,0,null,1,"indip"]
["",null,{"$f":"IF(ISERROR(VLOOKUP(B863,database!$B$2:$C$6001,2,FALSE)),\"\",VLOOKUP(B863,database!$B$2:$C$6001,2,FALSE))","v":""},null,null,null,"",null,null,null,{"$f":"IF(ISERROR(VLOOKUP(B863,database!$B$2:$D$6001,3,FALSE)),\"\",VLOOKUP(B863,database!$B$2:$D$6001,3,FALSE))","v":""},null,null,null,null,null,null,"",null,null,0,null,1,"indip"]
["",null,{"$f":"IF(ISERROR(VLOOKUP(B864,database!$B$2:$C$6001,2,FALSE)),\"\",VLOOKUP(B864,database!$B$2:$C$6001,2,FALSE))","v":""},null,null,null,"",null,null,null,{"$f":"IF(ISERROR(VLOOKUP(B864,database!$B$2:$D$6001,3,FALSE)),\"\",VLOOKUP(B864,database!$B$2:$D$6001,3,FALSE))","v":""},null,null,null,null,null,null,"",null,null,0,null,1,"indip"]
["",null,{"$f":"IF(ISERROR(VLOOKUP(B865,database!$B$2:$C$6001,2,FALSE)),\"\",VLOOKUP(B865,database!$B$2:$C$6001,2,FALSE))","v":""},null,null,null,"",null,null,null,{"$f":"IF(ISERROR(VLOOKUP(B865,database!$B$2:$D$6001,3,FALSE)),\"\",VLOOKUP(B865,database!$B$2:$D$6001,3,FALSE))","v":""},null,null,null,null,null,null,"",null,null,0,null,1,"indip"]
["",null,{"$f":"IF(ISERROR(VLOOKUP(B866,database!$B$2:$C$6001,2,FALSE)),\"\",VLOOKUP(B866,database!$B$2:$C$6001,2,FALSE))","v":""},null,null,null,"",null,null,null,{"$f":"IF(ISERROR(VLOOKUP(B866,database!$B$2:$D$6001,3,FALSE)),\"\",VLOOKUP(B866,database!$B$2:$D$6001,3,FALSE))","v":""},null,null,null,null,null,null,"",null,null,0,null,1,"indip"]
["",null,{"$f":"IF(ISERROR(VLOOKUP(B867,database!$B$2:$C$6001,2,FALSE)),\"\",VLOOKUP(B867,database!$B$2:$C$6001,2,FALSE))","v":""},null,null,null,"",null,null,null,{"$f":"IF(ISERROR(VLOOKUP(B867,database!$B$2:$D$6001,3,FALSE)),\"\",VLOOKUP(B867,database!$B$2:$D$6001,3,FALSE))","v":""},null,null,null,null,null,null,"",null,null,0,null,1,"indip"]
["",null,{"$f":"IF(ISERROR(VLOOKUP(B868,database!$B$2:$C$6001,2,FALSE)),\"\",VLOOKUP(B868,database!$B$2:$C$6001,2,FALSE))","v":""},null,null,null,"",null,null,null,{"$f":"IF(ISERROR(VLOOKUP(B868,database!$B$2:$D$6001,3,FALSE)),\"\",VLOOKUP(B868,database!$B$2:$D$6001,3,FALSE))","v":""},null,null,null,null,null,null,"",null,null,0,null,1,"indip"]
["",null,{"$f":"IF(ISERROR(VLOOKUP(B869,database!$B$2:$C$6001,2,FALSE)),\"\",VLOOKUP(B869,database!$B$2:$C$6001,2,FALSE))","v":""},null,null,null,"",null,null,null,{"$f":"IF(ISERROR(VLOOKUP(B869,database!$B$2:$D$6001,3,FALSE)),\"\",VLOOKUP(B869,database!$B$2:$D$6001,3,FALSE))","v":""},null,null,null,null,null,null,"",null,null,0,null,1,"indip"]
["",null,{"$f":"IF(ISERROR(VLOOKUP(B870,database!$B$2:$C$6001,2,FALSE)),\"\",VLOOKUP(B870,database!$B$2:$C$6001,2,FALSE))","v":""},null,null,null,"",null,null,null,{"$f":"IF(ISERROR(VLOOKUP(B870,database!$B$2:$D$6001,3,FALSE)),\"\",VLOOKUP(B870,database!$B$2:$D$6001,3,FALSE))","v":""},null,null,null,null,null,null,"",null,null,0,null,1,"indip"]
["",null,{"$f":"IF(ISERROR(VLOOKUP(B871,database!$B$2:$C$6001,2,FALSE)),\"\",VLOOKUP(B871,database!$B$2:$C$6001,2,FALSE))","v":""},null,null,null,"",null,null,null,{"$f":"IF(ISERROR(VLOOKUP(B871,database!$B$2:$D$6001,3,FALSE)),\"\",VLOOKUP(B871,database!$B$2:$D$6001,3,FALSE))","v":""},null,null,null,null,null,null,"",null,null,0,null,1,"indip"]
["",null,{"$f":"IF(ISERROR(VLOOKUP(B872,database!$B$2:$C$6001,2,FALSE)),\"\",VLOOKUP(B872,database!$B$2:$C$6001,2,FALSE))","v":""},null,null,null,"",null,null,null,{"$f":"IF(ISERROR(VLOOKUP(B872,database!$B$2:$D$6001,3,FALSE)),\"\",VLOOKUP(B872,database!$B$2:$D$6001,3,FALSE))","v":""},null,null,null,null,null,null,"",null,null,0,null,1,"indip"]
["",null,{"$f":"IF(ISERROR(VLOOKUP(B873,database!$B$2:$C$6001,2,FALSE)),\"\",VLOOKUP(B873,database!$B$2:$C$6001,2,FALSE))","v":""},null,null,null,"",null,null,null,{"$f":"IF(ISERROR(VLOOKUP(B873,database!$B$2:$D$6001,3,FALSE)),\"\",VLOOKUP(B873,database!$B$2:$D$6001,3,FALSE))","v":""},null,null,null,null,null,null,"",null,null,0,null,1,"indip"]
["",null,{"$f":"IF(ISERROR(VLOOKUP(B874,database!$B$2:$C$6001,2,FALSE)),\"\",VLOOKUP(B874,database!$B$2:$C$6001,2,FALSE))","v":""},null,null,null,"",null,null,null,{"$f":"IF(ISERROR(VLOOKUP(B874,database!$B$2:$D$6001,3,FALSE)),\"\",VLOOKUP(B874,database!$B$2:$D$6001,3,FALSE))","v":""},null,null,null,null,null,null,"",null,null,0,null,1,"indip"]
["",null,{"$f":"IF(ISERROR(VLOOKUP(B875,database!$B$2:$C$6001,2,FALSE)),\"\",VLOOKUP(B875,database!$B$2:$C$6001,2,FALSE))","v":""},null,null,null,"",null,null,null,{"$f":"IF(ISERROR(VLOOKUP(B875,database!$B$2:$D$6001,3,FALSE)),\"\",VLOOKUP(B875,database!$B$2:$D$6001,3,FALSE))","v":""},null,null,null,null,null,null,"",null,null,0,null,1,"indip"]
["",null,{"$f":"IF(ISERROR(VLOOKUP(B876,database!$B$2:$C$6001,2,FALSE)),\"\",VLOOKUP(B876,database!$B$2:$C$6001,2,FALSE))","v":""},null,null,null,"",null,null,null,{"$f":"IF(ISERROR(VLOOKUP(B876,database!$B$2:$D$6001,3,FALSE)),\"\",VLOOKUP(B876,database!$B$2:$D$6001,3,FALSE))","v":""},null,null,null,null,null,null,"",null,null,0,null,1,"indip"]
["",null,{"$f":"IF(ISERROR(VLOOKUP(B877,database!$B$2:$C$6001,2,FALSE)),\"\",VLOOKUP(B877,database!$B$2:$C$6001,2,FALSE))","v":""},null,null,null,"",null,null,null,{"$f":"IF(ISERROR(VLOOKUP(B877,database!$B$2:$D$6001,3,FALSE)),\"\",VLOOKUP(B877,database!$B$2:$D$6001,3,FALSE))","v":""},null,null,null,null,null,null,"",null,null,0,null,1,"indip"]
["",null,{"$f":"IF(ISERROR(VLOOKUP(B878,database!$B$2:$C$6001,2,FALSE)),\"\",VLOOKUP(B878,database!$B$2:$C$6001,2,FALSE))","v":""},null,null,null,"",null,null,null,{"$f":"IF(ISERROR(VLOOKUP(B878,database!$B$2:$D$6001,3,FALSE)),\"\",VLOOKUP(B878,database!$B$2:$D$6001,3,FALSE))","v":""},null,null,null,null,null,null,"",null,null,0,null,1,"indip"]
["",null,{"$f":"IF(ISERROR(VLOOKUP(B879,database!$B$2:$C$6001,2,FALSE)),\"\",VLOOKUP(B879,database!$B$2:$C$6001,2,FALSE))","v":""},null,null,null,"",null,null,null,{"$f":"IF(ISERROR(VLOOKUP(B879,database!$B$2:$D$6001,3,FALSE)),\"\",VLOOKUP(B879,database!$B$2:$D$6001,3,FALSE))","v":""},null,null,null,null,null,null,"",null,null,0,null,1,"indip"]
["",null,{"$f":"IF(ISERROR(VLOOKUP(B880,database!$B$2:$C$6001,2,FALSE)),\"\",VLOOKUP(B880,database!$B$2:$C$6001,2,FALSE))","v":""},null,null,null,"",null,null,null,{"$f":"IF(ISERROR(VLOOKUP(B880,database!$B$2:$D$6001,3,FALSE)),\"\",VLOOKUP(B880,database!$B$2:$D$6001,3,FALSE))","v":""},null,null,null,null,null,null,"",null,null,0,null,1,"indip"]
["",null,{"$f":"IF(ISERROR(VLOOKUP(B881,database!$B$2:$C$6001,2,FALSE)),\"\",VLOOKUP(B881,database!$B$2:$C$6001,2,FALSE))","v":""},null,null,null,"",null,null,null,{"$f":"IF(ISERROR(VLOOKUP(B881,database!$B$2:$D$6001,3,FALSE)),\"\",VLOOKUP(B881,database!$B$2:$D$6001,3,FALSE))","v":""},null,null,null,null,null,null,"",null,null,0,null,1,"indip"]
["",null,{"$f":"IF(ISERROR(VLOOKUP(B882,database!$B$2:$C$6001,2,FALSE)),\"\",VLOOKUP(B882,database!$B$2:$C$6001,2,FALSE))","v":""},null,null,null,"",null,null,null,{"$f":"IF(ISERROR(VLOOKUP(B882,database!$B$2:$D$6001,3,FALSE)),\"\",VLOOKUP(B882,database!$B$2:$D$6001,3,FALSE))","v":""},null,null,null,null,null,null,"",null,null,0,null,1,"indip"]
["",null,{"$f":"IF(ISERROR(VLOOKUP(B883,database!$B$2:$C$6001,2,FALSE)),\"\",VLOOKUP(B883,database!$B$2:$C$6001,2,FALSE))","v":""},null,null,null,"",null,null,null,{"$f":"IF(ISERROR(VLOOKUP(B883,database!$B$2:$D$6001,3,FALSE)),\"\",VLOOKUP(B883,database!$B$2:$D$6001,3,FALSE))","v":""},null,null,null,null,null,null,"",null,null,0,null,1,"indip"]
["",null,{"$f":"IF(ISERROR(VLOOKUP(B884,database!$B$2:$C$6001,2,FALSE)),\"\",VLOOKUP(B884,database!$B$2:$C$6001,2,FALSE))","v":""},null,null,null,"",null,null,null,{"$f":"IF(ISERROR(VLOOKUP(B884,database!$B$2:$D$6001,3,FALSE)),\"\",VLOOKUP(B884,database!$B$2:$D$6001,3,FALSE))","v":""},null,null,null,null,null,null,"",null,null,0,null,1,"indip"]
["",null,{"$f":"IF(ISERROR(VLOOKUP(B885,database!$B$2:$C$6001,2,FALSE)),\"\",VLOOKUP(B885,database!$B$2:$C$6001,2,FALSE))","v":""},null,null,null,"",null,null,null,{"$f":"IF(ISERROR(VLOOKUP(B885,database!$B$2:$D$6001,3,FALSE)),\"\",VLOOKUP(B885,database!$B$2:$D$6001,3,FALSE))","v":""},null,null,null,null,null,null,"",null,null,0,null,1,"indip"]
["",null,{"$f":"IF(ISERROR(VLOOKUP(B886,database!$B$2:$C$6001,2,FALSE)),\"\",VLOOKUP(B886,database!$B$2:$C$6001,2,FALSE))","v":""},null,null,null,"",null,null,null,{"$f":"IF(ISERROR(VLOOKUP(B886,database!$B$2:$D$6001,3,FALSE)),\"\",VLOOKUP(B886,database!$B$2:$D$6001,3,FALSE))","v":""},null,null,null,null,null,null,"",null,null,0,null,1,"indip"]
["",null,{"$f":"IF(ISERROR(VLOOKUP(B887,database!$B$2:$C$6001,2,FALSE)),\"\",VLOOKUP(B887,database!$B$2:$C$6001,2,FALSE))","v":""},null,null,null,"",null,null,null,{"$f":"IF(ISERROR(VLOOKUP(B887,database!$B$2:$D$6001,3,FALSE)),\"\",VLOOKUP(B887,database!$B$2:$D$6001,3,FALSE))","v":""},null,null,null,null,null,null,"",null,null,0,null,1,"indip"]
["",null,{"$f":"IF(ISERROR(VLOOKUP(B888,database!$B$2:$C$6001,2,FALSE)),\"\",VLOOKUP(B888,database!$B$2:$C$6001,2,FALSE))","v":""},null,null,null,"",null,null,null,{"$f":"IF(ISERROR(VLOOKUP(B888,database!$B$2:$D$6001,3,FALSE)),\"\",VLOOKUP(B888,database!$B$2:$D$6001,3,FALSE))","v":""},null,null,null,null,null,null,"",null,null,0,null,1,"indip"]
["",null,{"$f":"IF(ISERROR(VLOOKUP(B889,database!$B$2:$C$6001,2,FALSE)),\"\",VLOOKUP(B889,database!$B$2:$C$6001,2,FALSE))","v":""},null,null,null,"",null,null,null,{"$f":"IF(ISERROR(VLOOKUP(B889,database!$B$2:$D$6001,3,FALSE)),\"\",VLOOKUP(B889,database!$B$2:$D$6001,3,FALSE))","v":""},null,null,null,null,null,null,"",null,null,0,null,1,"indip"]
["",null,{"$f":"IF(ISERROR(VLOOKUP(B890,database!$B$2:$C$6001,2,FALSE)),\"\",VLOOKUP(B890,database!$B$2:$C$6001,2,FALSE))","v":""},null,null,null,"",null,null,null,{"$f":"IF(ISERROR(VLOOKUP(B890,database!$B$2:$D$6001,3,FALSE)),\"\",VLOOKUP(B890,database!$B$2:$D$6001,3,FALSE))","v":""},null,null,null,null,null,null,"",null,null,0,null,1,"indip"]
["",null,{"$f":"IF(ISERROR(VLOOKUP(B891,database!$B$2:$C$6001,2,FALSE)),\"\",VLOOKUP(B891,database!$B$2:$C$6001,2,FALSE))","v":""},null,null,null,"",null,null,null,{"$f":"IF(ISERROR(VLOOKUP(B891,database!$B$2:$D$6001,3,FALSE)),\"\",VLOOKUP(B891,database!$B$2:$D$6001,3,FALSE))","v":""},null,null,null,null,null,null,"",null,null,0,null,1,"indip"]
["",null,{"$f":"IF(ISERROR(VLOOKUP(B892,database!$B$2:$C$6001,2,FALSE)),\"\",VLOOKUP(B892,database!$B$2:$C$6001,2,FALSE))","v":""},null,null,null,"",null,null,null,{"$f":"IF(ISERROR(VLOOKUP(B892,database!$B$2:$D$6001,3,FALSE)),\"\",VLOOKUP(B892,database!$B$2:$D$6001,3,FALSE))","v":""},null,null,null,null,null,null,"",null,null,0,null,1,"indip"]
["",null,{"$f":"IF(ISERROR(VLOOKUP(B893,database!$B$2:$C$6001,2,FALSE)),\"\",VLOOKUP(B893,database!$B$2:$C$6001,2,FALSE))","v":""},null,null,null,"",null,null,null,{"$f":"IF(ISERROR(VLOOKUP(B893,database!$B$2:$D$6001,3,FALSE)),\"\",VLOOKUP(B893,database!$B$2:$D$6001,3,FALSE))","v":""},null,null,null,null,null,null,"",null,null,0,null,1,"indip"]
["",null,{"$f":"IF(ISERROR(VLOOKUP(B894,database!$B$2:$C$6001,2,FALSE)),\"\",VLOOKUP(B894,database!$B$2:$C$6001,2,FALSE))","v":""},null,null,null,"",null,null,null,{"$f":"IF(ISERROR(VLOOKUP(B894,database!$B$2:$D$6001,3,FALSE)),\"\",VLOOKUP(B894,database!$B$2:$D$6001,3,FALSE))","v":""},null,null,null,null,null,null,"",null,null,0,null,1,"indip"]
["",null,{"$f":"IF(ISERROR(VLOOKUP(B895,database!$B$2:$C$6001,2,FALSE)),\"\",VLOOKUP(B895,database!$B$2:$C$6001,2,FALSE))","v":""},null,null,null,"",null,null,null,{"$f":"IF(ISERROR(VLOOKUP(B895,database!$B$2:$D$6001,3,FALSE)),\"\",VLOOKUP(B895,database!$B$2:$D$6001,3,FALSE))","v":""},null,null,null,null,null,null,"",null,null,0,null,1,"indip"]
["",null,{"$f":"IF(ISERROR(VLOOKUP(B896,database!$B$2:$C$6001,2,FALSE)),\"\",VLOOKUP(B896,database!$B$2:$C$6001,2,FALSE))","v":""},null,null,null,"",null,null,null,{"$f":"IF(ISERROR(VLOOKUP(B896,database!$B$2:$D$6001,3,FALSE)),\"\",VLOOKUP(B896,database!$B$2:$D$6001,3,FALSE))","v":""},null,null,null,null,null,null,"",null,null,0,null,1,"indip"]
["",null,{"$f":"IF(ISERROR(VLOOKUP(B897,database!$B$2:$C$6001,2,FALSE)),\"\",VLOOKUP(B897,database!$B$2:$C$6001,2,FALSE))","v":""},null,null,null,"",null,null,null,{"$f":"IF(ISERROR(VLOOKUP(B897,database!$B$2:$D$6001,3,FALSE)),\"\",VLOOKUP(B897,database!$B$2:$D$6001,3,FALSE))","v":""},null,null,null,null,null,null,"",null,null,0,null,1,"indip"]
["",null,{"$f":"IF(ISERROR(VLOOKUP(B898,database!$B$2:$C$6001,2,FALSE)),\"\",VLOOKUP(B898,database!$B$2:$C$6001,2,FALSE))","v":""},null,null,null,"",null,null,null,{"$f":"IF(ISERROR(VLOOKUP(B898,database!$B$2:$D$6001,3,FALSE)),\"\",VLOOKUP(B898,database!$B$2:$D$6001,3,FALSE))","v":""},null,null,null,null,null,null,"",null,null,0,null,1,"indip"]
["",null,{"$f":"IF(ISERROR(VLOOKUP(B899,database!$B$2:$C$6001,2,FALSE)),\"\",VLOOKUP(B899,database!$B$2:$C$6001,2,FALSE))","v":""},null,null,null,"",null,null,null,{"$f":"IF(ISERROR(VLOOKUP(B899,database!$B$2:$D$6001,3,FALSE)),\"\",VLOOKUP(B899,database!$B$2:$D$6001,3,FALSE))","v":""},null,null,null,null,null,null,"",null,null,0,null,1,"indip"]
["",null,{"$f":"IF(ISERROR(VLOOKUP(B900,database!$B$2:$C$6001,2,FALSE)),\"\",VLOOKUP(B900,database!$B$2:$C$6001,2,FALSE))","v":""},null,null,null,"",null,null,null,{"$f":"IF(ISERROR(VLOOKUP(B900,database!$B$2:$D$6001,3,FALSE)),\"\",VLOOKUP(B900,database!$B$2:$D$6001,3,FALSE))","v":""},null,null,null,null,null,null,"",null,null,{"$f":"IFERROR(INDEX(M$39:N$140,MATCH(B900,M$39:M$140,0),2),0)","v":0},null,{"$f":"IF(AND(U900=0,C900=\"\"),1,2)","v":1},{"$f":"IF(B900=\"-\",\"\",IF(OR(B900=M$39,B900=M$40,B900=M$41,B900=M$42,B900=M$43,B900=M$44,B900=M$45,B900=M$46,B900=M$47,,B900=M$50,B900=M$51,B900=M$52,B900=M$53,B900=M$54,B900=M$55,B900=M$56,B900=M$57,B900=M$70),\"\",IF(C900=\"\",\"indip\",F900)))","v":"indip"}]
[{"$f":"IF(B901=\"\",\"\",ROW(A898))","v":""},null,{"$f":"IF(ISERROR(VLOOKUP(B901,database!$B$2:$C$6001,2,FALSE)),\"\",VLOOKUP(B901,database!$B$2:$C$6001,2,FALSE))","v":""},null,null,null,{"$f":"IF(B901=\"\",\"\",IF(B901=\"-\",0,IF(W901=1,1,IF(AND(U901=0,F901=\"SSB\"),2,IF(AND(U901=0,F901=\"DIGI\"),3,IF(AND(U901=0,F901=\"CW\"),5,U901))))))","v":""},null,null,null,{"$f":"IF(ISERROR(VLOOKUP(B901,database!$B$2:$D$6001,3,FALSE)),\"\",VLOOKUP(B901,database!$B$2:$D$6001,3,FALSE))","v":""},null,null,null,null,null,null,{"$f":"LEFT(C901,2)","v":""},null,null,0,null,1,"indip"]
["",null,{"$f":"IF(ISERROR(VLOOKUP(B902,database!$B$2:$C$6001,2,FALSE)),\"\",VLOOKUP(B902,database!$B$2:$C$6001,2,FALSE))","v":""},null,null,null,"",null,null,null,{"$f":"IF(ISERROR(VLOOKUP(B902,database!$B$2:$D$6001,3,FALSE)),\"\",VLOOKUP(B902,database!$B$2:$D$6001,3,FALSE))","v":""},null,null,null,null,null,null,"",null,null,0,null,1,"indip"]
["",null,{"$f":"IF(ISERROR(VLOOKUP(B903,database!$B$2:$C$6001,2,FALSE)),\"\",VLOOKUP(B903,database!$B$2:$C$6001,2,FALSE))","v":""},null,null,null,"",null,null,null,{"$f":"IF(ISERROR(VLOOKUP(B903,database!$B$2:$D$6001,3,FALSE)),\"\",VLOOKUP(B903,database!$B$2:$D$6001,3,FALSE))","v":""},null,null,null,null,null,null,"",null,null,0,null,1,"indip"]
["",null,{"$f":"IF(ISERROR(VLOOKUP(B904,database!$B$2:$C$6001,2,FALSE)),\"\",VLOOKUP(B904,database!$B$2:$C$6001,2,FALSE))","v":""},null,null,null,"",null,null,null,{"$f":"IF(ISERROR(VLOOKUP(B904,database!$B$2:$D$6001,3,FALSE)),\"\",VLOOKUP(B904,database!$B$2:$D$6001,3,FALSE))","v":""},null,null,null,null,null,null,"",null,null,0,null,1,"indip"]
["",null,{"$f":"IF(ISERROR(VLOOKUP(B905,database!$B$2:$C$6001,2,FALSE)),\"\",VLOOKUP(B905,database!$B$2:$C$6001,2,FALSE))","v":""},null,null,null,"",null,null,null,{"$f":"IF(ISERROR(VLOOKUP(B905,database!$B$2:$D$6001,3,FALSE)),\"\",VLOOKUP(B905,database!$B$2:$D$6001,3,FALSE))","v":""},null,null,null,null,null,null,"",null,null,0,null,1,"indip"]
["",null,{"$f":"IF(ISERROR(VLOOKUP(B906,database!$B$2:$C$6001,2,FALSE)),\"\",VLOOKUP(B906,database!$B$2:$C$6001,2,FALSE))","v":""},null,null,null,"",null,null,null,{"$f":"IF(ISERROR(VLOOKUP(B906,database!$B$2:$D$6001,3,FALSE)),\"\",VLOOKUP(B906,database!$B$2:$D$6001,3,FALSE))","v":""},null,null,null,null,null,null,"",null,null,0,null,1,"indip"]
["",null,{"$f":"IF(ISERROR(VLOOKUP(B907,database!$B$2:$C$6001,2,FALSE)),\"\",VLOOKUP(B907,database!$B$2:$C$6001,2,FALSE))","v":""},null,null,null,"",null,null,null,{"$f":"IF(ISERROR(VLOOKUP(B907,database!$B$2:$D$6001,3,FALSE)),\"\",VLOOKUP(B907,database!$B$2:$D$6001,3,FALSE))","v":""},null,null,null,null,null,null,"",null,null,0,null,1,"indip"]
["",null,{"$f":"IF(ISERROR(VLOOKUP(B908,database!$B$2:$C$6001,2,FALSE)),\"\",VLOOKUP(B908,database!$B$2:$C$6001,2,FALSE))","v":""},null,null,null,"",null,null,null,{"$f":"IF(ISERROR(VLOOKUP(B908,database!$B$2:$D$6001,3,FALSE)),\"\",VLOOKUP(B908,database!$B$2:$D$6001,3,FALSE))","v":""},null,null,null,null,null,null,"",null,null,0,null,1,"indip"]
["",null,{"$f":"IF(ISERROR(VLOOKUP(B909,database!$B$2:$C$6001,2,FALSE)),\"\",VLOOKUP(B909,database!$B$2:$C$6001,2,FALSE))","v":""},null,null,null,"",null,null,null,{"$f":"IF(ISERROR(VLOOKUP(B909,database!$B$2:$D$6001,3,FALSE)),\"\",VLOOKUP(B909,database!$B$2:$D$6001,3,FALSE))","v":""},null,null,null,null,null,null,"",null,null,0,null,1,"indip"]
["",null,{"$f":"IF(ISERROR(VLOOKUP(B910,database!$B$2:$C$6001,2,FALSE)),\"\",VLOOKUP(B910,database!$B$2:$C$6001,2,FALSE))","v":""},null,null,null,"",null,null,null,{"$f":"IF(ISERROR(VLOOKUP(B910,database!$B$2:$D$6001,3,FALSE)),\"\",VLOOKUP(B910,database!$B$2:$D$6001,3,FALSE))","v":""},null,null,null,null,null,null,"",null,null,0,null,1,"indip"]
["",null,{"$f":"IF(ISERROR(VLOOKUP(B911,database!$B$2:$C$6001,2,FALSE)),\"\",VLOOKUP(B911,database!$B$2:$C$6001,2,FALSE))","v":""},null,null,null,"",null,null,null,{"$f":"IF(ISERROR(VLOOKUP(B911,database!$B$2:$D$6001,3,FALSE)),\"\",VLOOKUP(B911,database!$B$2:$D$6001,3,FALSE))","v":""},null,null,null,null,null,null,"",null,null,0,null,1,"indip"]
["",null,{"$f":"IF(ISERROR(VLOOKUP(B912,database!$B$2:$C$6001,2,FALSE)),\"\",VLOOKUP(B912,database!$B$2:$C$6001,2,FALSE))","v":""},null,null,null,"",null,null,null,{"$f":"IF(ISERROR(VLOOKUP(B912,database!$B$2:$D$6001,3,FALSE)),\"\",VLOOKUP(B912,database!$B$2:$D$6001,3,FALSE))","v":""},null,null,null,null,null,null,"",null,null,0,null,1,"indip"]
["",null,{"$f":"IF(ISERROR(VLOOKUP(B913,database!$B$2:$C$6001,2,FALSE)),\"\",VLOOKUP(B913,database!$B$2:$C$6001,2,FALSE))","v":""},null,null,null,"",null,null,null,{"$f":"IF(ISERROR(VLOOKUP(B913,database!$B$2:$D$6001,3,FALSE)),\"\",VLOOKUP(B913,database!$B$2:$D$6001,3,FALSE))","v":""},null,null,null,null,null,null,"",null,null,0,null,1,"indip"]
["",null,{"$f":"IF(ISERROR(VLOOKUP(B914,database!$B$2:$C$6001,2,FALSE)),\"\",VLOOKUP(B914,database!$B$2:$C$6001,2,FALSE))","v":""},null,null,null,"",null,null,null,{"$f":"IF(ISERROR(VLOOKUP(B914,database!$B$2:$D$6001,3,FALSE)),\"\",VLOOKUP(B914,database!$B$2:$D$6001,3,FALSE))","v":""},null,null,null,null,null,null,"",null,null,0,null,1,"indip"]
["",null,{"$f":"IF(ISERROR(VLOOKUP(B915,database!$B$2:$C$6001,2,FALSE)),\"\",VLOOKUP(B915,database!$B$2:$C$6001,2,FALSE))","v":""},null,null,null,"",null,null,null,{"$f":"IF(ISERROR(VLOOKUP(B915,database!$B$2:$D$6001,3,FALSE)),\"\",VLOOKUP(B915,database!$B$2:$D$6001,3,FALSE))","v":""},null,null,null,null,null,null,"",null,null,0,null,1,"indip"]
["",null,{"$f":"IF(ISERROR(VLOOKUP(B916,database!$B$2:$C$6001,2,FALSE)),\"\",VLOOKUP(B916,database!$B$2:$C$6001,2,FALSE))","v":""},null,null,null,"",null,null,null,{"$f":"IF(ISERROR(VLOOKUP(B916,database!$B$2:$D$6001,3,FALSE)),\"\",VLOOKUP(B916,database!$B$2:$D$6001,3,FALSE))","v":""},null,null,null,null,null,null,"",null,null,0,null,1,"indip"]
["",null,{"$f":"IF(ISERROR(VLOOKUP(B917,database!$B$2:$C$6001,2,FALSE)),\"\",VLOOKUP(B917,database!$B$2:$C$6001,2,FALSE))","v":""},null,null,null,"",null,null,null,{"$f":"IF(ISERROR(VLOOKUP(B917,database!$B$2:$D$6001,3,FALSE)),\"\",VLOOKUP(B917,database!$B$2:$D$6001,3,FALSE))","v":""},null,null,null,null,null,null,"",null,null,0,null,1,"indip"]
["",null,{"$f":"IF(ISERROR(VLOOKUP(B918,database!$B$2:$C$6001,2,FALSE)),\"\",VLOOKUP(B918,database!$B$2:$C$6001,2,FALSE))","v":""},null,null,null,"",null,null,null,{"$f":"IF(ISERROR(VLOOKUP(B918,database!$B$2:$D$6001,3,FALSE)),\"\",VLOOKUP(B918,database!$B$2:$D$6001,3,FALSE))","v":""},null,null,null,null,null,null,"",null,null,0,null,1,"indip"]
["",null,{"$f":"IF(ISERROR(VLOOKUP(B919,database!$B$2:$C$6001,2,FALSE)),\"\",VLOOKUP(B919,database!$B$2:$C$6001,2,FALSE))","v":""},null,null,null,"",null,null,null,{"$f":"IF(ISERROR(VLOOKUP(B919,database!$B$2:$D$6001,3,FALSE)),\"\",VLOOKUP(B919,database!$B$2:$D$6001,3,FALSE))","v":""},null,null,null,null,null,null,"",null,null,0,null,1,"indip"]
["",null,{"$f":"IF(ISERROR(VLOOKUP(B920,database!$B$2:$C$6001,2,FALSE)),\"\",VLOOKUP(B920,database!$B$2:$C$6001,2,FALSE))","v":""},null,null,null,"",null,null,null,{"$f":"IF(ISERROR(VLOOKUP(B920,database!$B$2:$D$6001,3,FALSE)),\"\",VLOOKUP(B920,database!$B$2:$D$6001,3,FALSE))","v":""},null,null,null,null,null,null,"",null,null,0,null,1,"indip"]
["",null,{"$f":"IF(ISERROR(VLOOKUP(B921,database!$B$2:$C$6001,2,FALSE)),\"\",VLOOKUP(B921,database!$B$2:$C$6001,2,FALSE))","v":""},null,null,null,"",null,null,null,{"$f":"IF(ISERROR(VLOOKUP(B921,database!$B$2:$D$6001,3,FALSE)),\"\",VLOOKUP(B921,database!$B$2:$D$6001,3,FALSE))","v":""},null,null,null,null,null,null,"",null,null,0,null,1,"indip"]
["",null,{"$f":"IF(ISERROR(VLOOKUP(B922,database!$B$2:$C$6001,2,FALSE)),\"\",VLOOKUP(B922,database!$B$2:$C$6001,2,FALSE))","v":""},null,null,null,"",null,null,null,{"$f":"IF(ISERROR(VLOOKUP(B922,database!$B$2:$D$6001,3,FALSE)),\"\",VLOOKUP(B922,database!$B$2:$D$6001,3,FALSE))","v":""},null,null,null,null,null,null,"",null,null,0,null,1,"indip"]
["",null,{"$f":"IF(ISERROR(VLOOKUP(B923,database!$B$2:$C$6001,2,FALSE)),\"\",VLOOKUP(B923,database!$B$2:$C$6001,2,FALSE))","v":""},null,null,null,"",null,null,null,{"$f":"IF(ISERROR(VLOOKUP(B923,database!$B$2:$D$6001,3,FALSE)),\"\",VLOOKUP(B923,database!$B$2:$D$6001,3,FALSE))","v":""},null,null,null,null,null,null,"",null,null,0,null,1,"indip"]
["",null,{"$f":"IF(ISERROR(VLOOKUP(B924,database!$B$2:$C$6001,2,FALSE)),\"\",VLOOKUP(B924,database!$B$2:$C$6001,2,FALSE))","v":""},null,null,null,"",null,null,null,{"$f":"IF(ISERROR(VLOOKUP(B924,database!$B$2:$D$6001,3,FALSE)),\"\",VLOOKUP(B924,database!$B$2:$D$6001,3,FALSE))","v":""},null,null,null,null,null,null,"",null,null,0,null,1,"indip"]
["",null,{"$f":"IF(ISERROR(VLOOKUP(B925,database!$B$2:$C$6001,2,FALSE)),\"\",VLOOKUP(B925,database!$B$2:$C$6001,2,FALSE))","v":""},null,null,null,"",null,null,null,{"$f":"IF(ISERROR(VLOOKUP(B925,database!$B$2:$D$6001,3,FALSE)),\"\",VLOOKUP(B925,database!$B$2:$D$6001,3,FALSE))","v":""},null,null,null,null,null,null,"",null,null,0,null,1,"indip"]
["",null,{"$f":"IF(ISERROR(VLOOKUP(B926,database!$B$2:$C$6001,2,FALSE)),\"\",VLOOKUP(B926,database!$B$2:$C$6001,2,FALSE))","v":""},null,null,null,"",null,null,null,{"$f":"IF(ISERROR(VLOOKUP(B926,database!$B$2:$D$6001,3,FALSE)),\"\",VLOOKUP(B926,database!$B$2:$D$6001,3,FALSE))","v":""},null,null,null,null,null,null,"",null,null,0,null,1,"indip"]
["",null,{"$f":"IF(ISERROR(VLOOKUP(B927,database!$B$2:$C$6001,2,FALSE)),\"\",VLOOKUP(B927,database!$B$2:$C$6001,2,FALSE))","v":""},null,null,null,"",null,null,null,{"$f":"IF(ISERROR(VLOOKUP(B927,database!$B$2:$D$6001,3,FALSE)),\"\",VLOOKUP(B927,database!$B$2:$D$6001,3,FALSE))","v":""},null,null,null,null,null,null,"",null,null,0,null,1,"indip"]
["",null,{"$f":"IF(ISERROR(VLOOKUP(B928,database!$B$2:$C$6001,2,FALSE)),\"\",VLOOKUP(B928,database!$B$2:$C$6001,2,FALSE))","v":""},null,null,null,"",null,null,null,{"$f":"IF(ISERROR(VLOOKUP(B928,database!$B$2:$D$6001,3,FALSE)),\"\",VLOOKUP(B928,database!$B$2:$D$6001,3,FALSE))","v":""},null,null,null,null,null,null,"",null,null,0,null,1,"indip"]
["",null,{"$f":"IF(ISERROR(VLOOKUP(B929,database!$B$2:$C$6001,2,FALSE)),\"\",VLOOKUP(B929,database!$B$2:$C$6001,2,FALSE))","v":""},null,null,null,"",null,null,null,{"$f":"IF(ISERROR(VLOOKUP(B929,database!$B$2:$D$6001,3,FALSE)),\"\",VLOOKUP(B929,database!$B$2:$D$6001,3,FALSE))","v":""},null,null,null,null,null,null,"",null,null,0,null,1,"indip"]
["",null,{"$f":"IF(ISERROR(VLOOKUP(B930,database!$B$2:$C$6001,2,FALSE)),\"\",VLOOKUP(B930,database!$B$2:$C$6001,2,FALSE))","v":""},null,null,null,"",null,null,null,{"$f":"IF(ISERROR(VLOOKUP(B930,database!$B$2:$D$6001,3,FALSE)),\"\",VLOOKUP(B930,database!$B$2:$D$6001,3,FALSE))","v":""},null,null,null,null,null,null,"",null,null,0,null,1,"indip"]
["",null,{"$f":"IF(ISERROR(VLOOKUP(B931,database!$B$2:$C$6001,2,FALSE)),\"\",VLOOKUP(B931,database!$B$2:$C$6001,2,FALSE))","v":""},null,null,null,"",null,null,null,{"$f":"IF(ISERROR(VLOOKUP(B931,database!$B$2:$D$6001,3,FALSE)),\"\",VLOOKUP(B931,database!$B$2:$D$6001,3,FALSE))","v":""},null,null,null,null,null,null,"",null,null,0,null,1,"indip"]
["",null,{"$f":"IF(ISERROR(VLOOKUP(B932,database!$B$2:$C$6001,2,FALSE)),\"\",VLOOKUP(B932,database!$B$2:$C$6001,2,FALSE))","v":""},null,null,null,"",null,null,null,{"$f":"IF(ISERROR(VLOOKUP(B932,database!$B$2:$D$6001,3,FALSE)),\"\",VLOOKUP(B932,database!$B$2:$D$6001,3,FALSE))","v":""},null,null,null,null,null,null,"",null,null,0,null,1,"indip"]
["",null,{"$f":"IF(ISERROR(VLOOKUP(B933,database!$B$2:$C$6001,2,FALSE)),\"\",VLOOKUP(B933,database!$B$2:$C$6001,2,FALSE))","v":""},null,null,null,"",null,null,null,{"$f":"IF(ISERROR(VLOOKUP(B933,database!$B$2:$D$6001,3,FALSE)),\"\",VLOOKUP(B933,database!$B$2:$D$6001,3,FALSE))","v":""},null,null,null,null,null,null,"",null,null,0,null,1,"indip"]
["",null,{"$f":"IF(ISERROR(VLOOKUP(B934,database!$B$2:$C$6001,2,FALSE)),\"\",VLOOKUP(B934,database!$B$2:$C$6001,2,FALSE))","v":""},null,null,null,"",null,null,null,{"$f":"IF(ISERROR(VLOOKUP(B934,database!$B$2:$D$6001,3,FALSE)),\"\",VLOOKUP(B934,database!$B$2:$D$6001,3,FALSE))","v":""},null,null,null,null,null,null,"",null,null,0,null,1,"indip"]
["",null,{"$f":"IF(ISERROR(VLOOKUP(B935,database!$B$2:$C$6001,2,FALSE)),\"\",VLOOKUP(B935,database!$B$2:$C$6001,2,FALSE))","v":""},null,null,null,"",null,null,null,{"$f":"IF(ISERROR(VLOOKUP(B935,database!$B$2:$D$6001,3,FALSE)),\"\",VLOOKUP(B935,database!$B$2:$D$6001,3,FALSE))","v":""},null,null,null,null,null,null,"",null,null,0,null,1,"indip"]
["",null,{"$f":"IF(ISERROR(VLOOKUP(B936,database!$B$2:$C$6001,2,FALSE)),\"\",VLOOKUP(B936,database!$B$2:$C$6001,2,FALSE))","v":""},null,null,null,"",null,null,null,{"$f":"IF(ISERROR(VLOOKUP(B936,database!$B$2:$D$6001,3,FALSE)),\"\",VLOOKUP(B936,database!$B$2:$D$6001,3,FALSE))","v":""},null,null,null,null,null,null,"",null,null,0,null,1,"indip"]
["",null,{"$f":"IF(ISERROR(VLOOKUP(B937,database!$B$2:$C$6001,2,FALSE)),\"\",VLOOKUP(B937,database!$B$2:$C$6001,2,FALSE))","v":""},null,null,null,"",null,null,null,{"$f":"IF(ISERROR(VLOOKUP(B937,database!$B$2:$D$6001,3,FALSE)),\"\",VLOOKUP(B937,database!$B$2:$D$6001,3,FALSE))","v":""},null,null,null,null,null,null,"",null,null,0,null,1,"indip"]
["",null,{"$f":"IF(ISERROR(VLOOKUP(B938,database!$B$2:$C$6001,2,FALSE)),\"\",VLOOKUP(B938,database!$B$2:$C$6001,2,FALSE))","v":""},null,null,null,"",null,null,null,{"$f":"IF(ISERROR(VLOOKUP(B938,database!$B$2:$D$6001,3,FALSE)),\"\",VLOOKUP(B938,database!$B$2:$D$6001,3,FALSE))","v":""},null,null,null,null,null,null,"",null,null,0,null,1,"indip"]
["",null,{"$f":"IF(ISERROR(VLOOKUP(B939,database!$B$2:$C$6001,2,FALSE)),\"\",VLOOKUP(B939,database!$B$2:$C$6001,2,FALSE))","v":""},null,null,null,"",null,null,null,{"$f":"IF(ISERROR(VLOOKUP(B939,database!$B$2:$D$6001,3,FALSE)),\"\",VLOOKUP(B939,database!$B$2:$D$6001,3,FALSE))","v":""},null,null,null,null,null,null,"",null,null,0,null,1,"indip"]
["",null,{"$f":"IF(ISERROR(VLOOKUP(B940,database!$B$2:$C$6001,2,FALSE)),\"\",VLOOKUP(B940,database!$B$2:$C$6001,2,FALSE))","v":""},null,null,null,"",null,null,null,{"$f":"IF(ISERROR(VLOOKUP(B940,database!$B$2:$D$6001,3,FALSE)),\"\",VLOOKUP(B940,database!$B$2:$D$6001,3,FALSE))","v":""},null,null,null,null,null,null,"",null,null,0,null,1,"indip"]
["",null,{"$f":"IF(ISERROR(VLOOKUP(B941,database!$B$2:$C$6001,2,FALSE)),\"\",VLOOKUP(B941,database!$B$2:$C$6001,2,FALSE))","v":""},null,null,null,"",null,null,null,{"$f":"IF(ISERROR(VLOOKUP(B941,database!$B$2:$D$6001,3,FALSE)),\"\",VLOOKUP(B941,database!$B$2:$D$6001,3,FALSE))","v":""},null,null,null,null,null,null,"",null,null,0,null,1,"indip"]
["",null,{"$f":"IF(ISERROR(VLOOKUP(B942,database!$B$2:$C$6001,2,FALSE)),\"\",VLOOKUP(B942,database!$B$2:$C$6001,2,FALSE))","v":""},null,null,null,"",null,null,null,{"$f":"IF(ISERROR(VLOOKUP(B942,database!$B$2:$D$6001,3,FALSE)),\"\",VLOOKUP(B942,database!$B$2:$D$6001,3,FALSE))","v":""},null,null,null,null,null,null,"",null,null,0,null,1,"indip"]
["",null,{"$f":"IF(ISERROR(VLOOKUP(B943,database!$B$2:$C$6001,2,FALSE)),\"\",VLOOKUP(B943,database!$B$2:$C$6001,2,FALSE))","v":""},null,null,null,"",null,null,null,{"$f":"IF(ISERROR(VLOOKUP(B943,database!$B$2:$D$6001,3,FALSE)),\"\",VLOOKUP(B943,database!$B$2:$D$6001,3,FALSE))","v":""},null,null,null,null,null,null,"",null,null,0,null,1,"indip"]
["",null,{"$f":"IF(ISERROR(VLOOKUP(B944,database!$B$2:$C$6001,2,FALSE)),\"\",VLOOKUP(B944,database!$B$2:$C$6001,2,FALSE))","v":""},null,null,null,"",null,null,null,{"$f":"IF(ISERROR(VLOOKUP(B944,database!$B$2:$D$6001,3,FALSE)),\"\",VLOOKUP(B944,database!$B$2:$D$6001,3,FALSE))","v":""},null,null,null,null,null,null,"",null,null,0,null,1,"indip"]
["",null,{"$f":"IF(ISERROR(VLOOKUP(B945,database!$B$2:$C$6001,2,FALSE)),\"\",VLOOKUP(B945,database!$B$2:$C$6001,2,FALSE))","v":""},null,null,null,"",null,null,null,{"$f":"IF(ISERROR(VLOOKUP(B945,database!$B$2:$D$6001,3,FALSE)),\"\",VLOOKUP(B945,database!$B$2:$D$6001,3,FALSE))","v":""},null,null,null,null,null,null,"",null,null,0,null,1,"indip"]
["",null,{"$f":"IF(ISERROR(VLOOKUP(B946,database!$B$2:$C$6001,2,FALSE)),\"\",VLOOKUP(B946,database!$B$2:$C$6001,2,FALSE))","v":""},null,null,null,"",null,null,null,{"$f":"IF(ISERROR(VLOOKUP(B946,database!$B$2:$D$6001,3,FALSE)),\"\",VLOOKUP(B946,database!$B$2:$D$6001,3,FALSE))","v":""},null,null,null,null,null,null,"",null,null,0,null,1,"indip"]
["",null,{"$f":"IF(ISERROR(VLOOKUP(B947,database!$B$2:$C$6001,2,FALSE)),\"\",VLOOKUP(B947,database!$B$2:$C$6001,2,FALSE))","v":""},null,null,null,"",null,null,null,{"$f":"IF(ISERROR(VLOOKUP(B947,database!$B$2:$D$6001,3,FALSE)),\"\",VLOOKUP(B947,database!$B$2:$D$6001,3,FALSE))","v":""},null,null,null,null,null,null,"",null,null,0,null,1,"indip"]
["",null,{"$f":"IF(ISERROR(VLOOKUP(B948,database!$B$2:$C$6001,2,FALSE)),\"\",VLOOKUP(B948,database!$B$2:$C$6001,2,FALSE))","v":""},null,null,null,"",null,null,null,{"$f":"IF(ISERROR(VLOOKUP(B948,database!$B$2:$D$6001,3,FALSE)),\"\",VLOOKUP(B948,database!$B$2:$D$6001,3,FALSE))","v":""},null,null,null,null,null,null,"",null,null,0,null,1,"indip"]
["",null,{"$f":"IF(ISERROR(VLOOKUP(B949,database!$B$2:$C$6001,2,FALSE)),\"\",VLOOKUP(B949,database!$B$2:$C$6001,2,FALSE))","v":""},null,null,null,"",null,null,null,{"$f":"IF(ISERROR(VLOOKUP(B949,database!$B$2:$D$6001,3,FALSE)),\"\",VLOOKUP(B949,database!$B$2:$D$6001,3,FALSE))","v":""},null,null,null,null,null,null,"",null,null,0,null,1,"indip"]
["",null,{"$f":"IF(ISERROR(VLOOKUP(B950,database!$B$2:$C$6001,2,FALSE)),\"\",VLOOKUP(B950,database!$B$2:$C$6001,2,FALSE))","v":""},null,null,null,"",null,null,null,{"$f":"IF(ISERROR(VLOOKUP(B950,database!$B$2:$D$6001,3,FALSE)),\"\",VLOOKUP(B950,database!$B$2:$D$6001,3,FALSE))","v":""},null,null,null,null,null,null,"",null,null,0,null,1,"indip"]
["",null,{"$f":"IF(ISERROR(VLOOKUP(B951,database!$B$2:$C$6001,2,FALSE)),\"\",VLOOKUP(B951,database!$B$2:$C$6001,2,FALSE))","v":""},null,null,null,"",null,null,null,{"$f":"IF(ISERROR(VLOOKUP(B951,database!$B$2:$D$6001,3,FALSE)),\"\",VLOOKUP(B951,database!$B$2:$D$6001,3,FALSE))","v":""},null,null,null,null,null,null,"",null,null,0,null,1,"indip"]
["",null,{"$f":"IF(ISERROR(VLOOKUP(B952,database!$B$2:$C$6001,2,FALSE)),\"\",VLOOKUP(B952,database!$B$2:$C$6001,2,FALSE))","v":""},null,null,null,"",null,null,null,{"$f":"IF(ISERROR(VLOOKUP(B952,database!$B$2:$D$6001,3,FALSE)),\"\",VLOOKUP(B952,database!$B$2:$D$6001,3,FALSE))","v":""},null,null,null,null,null,null,"",null,null,0,null,1,"indip"]
["",null,{"$f":"IF(ISERROR(VLOOKUP(B953,database!$B$2:$C$6001,2,FALSE)),\"\",VLOOKUP(B953,database!$B$2:$C$6001,2,FALSE))","v":""},null,null,null,"",null,null,null,{"$f":"IF(ISERROR(VLOOKUP(B953,database!$B$2:$D$6001,3,FALSE)),\"\",VLOOKUP(B953,database!$B$2:$D$6001,3,FALSE))","v":""},null,null,null,null,null,null,"",null,null,0,null,1,"indip"]
["",null,{"$f":"IF(ISERROR(VLOOKUP(B954,database!$B$2:$C$6001,2,FALSE)),\"\",VLOOKUP(B954,database!$B$2:$C$6001,2,FALSE))","v":""},null,null,null,"",null,null,null,{"$f":"IF(ISERROR(VLOOKUP(B954,database!$B$2:$D$6001,3,FALSE)),\"\",VLOOKUP(B954,database!$B$2:$D$6001,3,FALSE))","v":""},null,null,null,null,null,null,"",null,null,0,null,1,"indip"]
["",null,{"$f":"IF(ISERROR(VLOOKUP(B955,database!$B$2:$C$6001,2,FALSE)),\"\",VLOOKUP(B955,database!$B$2:$C$6001,2,FALSE))","v":""},null,null,null,"",null,null,null,{"$f":"IF(ISERROR(VLOOKUP(B955,database!$B$2:$D$6001,3,FALSE)),\"\",VLOOKUP(B955,database!$B$2:$D$6001,3,FALSE))","v":""},null,null,null,null,null,null,"",null,null,0,null,1,"indip"]
["",null,{"$f":"IF(ISERROR(VLOOKUP(B956,database!$B$2:$C$6001,2,FALSE)),\"\",VLOOKUP(B956,database!$B$2:$C$6001,2,FALSE))","v":""},null,null,null,"",null,null,null,{"$f":"IF(ISERROR(VLOOKUP(B956,database!$B$2:$D$6001,3,FALSE)),\"\",VLOOKUP(B956,database!$B$2:$D$6001,3,FALSE))","v":""},null,null,null,null,null,null,"",null,null,0,null,1,"indip"]
["",null,{"$f":"IF(ISERROR(VLOOKUP(B957,database!$B$2:$C$6001,2,FALSE)),\"\",VLOOKUP(B957,database!$B$2:$C$6001,2,FALSE))","v":""},null,null,null,"",null,null,null,{"$f":"IF(ISERROR(VLOOKUP(B957,database!$B$2:$D$6001,3,FALSE)),\"\",VLOOKUP(B957,database!$B$2:$D$6001,3,FALSE))","v":""},null,null,null,null,null,null,"",null,null,0,null,1,"indip"]
["",null,{"$f":"IF(ISERROR(VLOOKUP(B958,database!$B$2:$C$6001,2,FALSE)),\"\",VLOOKUP(B958,database!$B$2:$C$6001,2,FALSE))","v":""},null,null,null,"",null,null,null,{"$f":"IF(ISERROR(VLOOKUP(B958,database!$B$2:$D$6001,3,FALSE)),\"\",VLOOKUP(B958,database!$B$2:$D$6001,3,FALSE))","v":""},null,null,null,null,null,null,"",null,null,0,null,1,"indip"]
["",null,{"$f":"IF(ISERROR(VLOOKUP(B959,database!$B$2:$C$6001,2,FALSE)),\"\",VLOOKUP(B959,database!$B$2:$C$6001,2,FALSE))","v":""},null,null,null,"",null,null,null,{"$f":"IF(ISERROR(VLOOKUP(B959,database!$B$2:$D$6001,3,FALSE)),\"\",VLOOKUP(B959,database!$B$2:$D$6001,3,FALSE))","v":""},null,null,null,null,null,null,"",null,null,0,null,1,"indip"]
["",null,{"$f":"IF(ISERROR(VLOOKUP(B960,database!$B$2:$C$6001,2,FALSE)),\"\",VLOOKUP(B960,database!$B$2:$C$6001,2,FALSE))","v":""},null,null,null,"",null,null,null,{"$f":"IF(ISERROR(VLOOKUP(B960,database!$B$2:$D$6001,3,FALSE)),\"\",VLOOKUP(B960,database!$B$2:$D$6001,3,FALSE))","v":""},null,null,null,null,null,null,"",null,null,0,null,1,"indip"]
["",null,{"$f":"IF(ISERROR(VLOOKUP(B961,database!$B$2:$C$6001,2,FALSE)),\"\",VLOOKUP(B961,database!$B$2:$C$6001,2,FALSE))","v":""},null,null,null,"",null,null,null,{"$f":"IF(ISERROR(VLOOKUP(B961,database!$B$2:$D$6001,3,FALSE)),\"\",VLOOKUP(B961,database!$B$2:$D$6001,3,FALSE))","v":""},null,null,null,null,null,null,"",null,null,0,null,1,"indip"]
["",null,{"$f":"IF(ISERROR(VLOOKUP(B962,database!$B$2:$C$6001,2,FALSE)),\"\",VLOOKUP(B962,database!$B$2:$C$6001,2,FALSE))","v":""},null,null,null,"",null,null,null,{"$f":"IF(ISERROR(VLOOKUP(B962,database!$B$2:$D$6001,3,FALSE)),\"\",VLOOKUP(B962,database!$B$2:$D$6001,3,FALSE))","v":""},null,null,null,null,null,null,"",null,null,0,null,1,"indip"]
["",null,{"$f":"IF(ISERROR(VLOOKUP(B963,database!$B$2:$C$6001,2,FALSE)),\"\",VLOOKUP(B963,database!$B$2:$C$6001,2,FALSE))","v":""},null,null,null,"",null,null,null,{"$f":"IF(ISERROR(VLOOKUP(B963,database!$B$2:$D$6001,3,FALSE)),\"\",VLOOKUP(B963,database!$B$2:$D$6001,3,FALSE))","v":""},null,null,null,null,null,null,"",null,null,0,null,1,"indip"]
["",null,{"$f":"IF(ISERROR(VLOOKUP(B964,database!$B$2:$C$6001,2,FALSE)),\"\",VLOOKUP(B964,database!$B$2:$C$6001,2,FALSE))","v":""},null,null,null,"",null,null,null,{"$f":"IF(ISERROR(VLOOKUP(B964,database!$B$2:$D$6001,3,FALSE)),\"\",VLOOKUP(B964,database!$B$2:$D$6001,3,FALSE))","v":""},null,null,null,null,null,null,"",null,null,{"$f":"IFERROR(INDEX(M$39:N$140,MATCH(B964,M$39:M$140,0),2),0)","v":0},null,{"$f":"IF(AND(U964=0,C964=\"\"),1,2)","v":1},{"$f":"IF(B964=\"-\",\"\",IF(OR(B964=M$39,B964=M$40,B964=M$41,B964=M$42,B964=M$43,B964=M$44,B964=M$45,B964=M$46,B964=M$47,,B964=M$50,B964=M$51,B964=M$52,B964=M$53,B964=M$54,B964=M$55,B964=M$56,B964=M$57,B964=M$70),\"\",IF(C964=\"\",\"indip\",F964)))","v":"indip"}]
[{"$f":"IF(B965=\"\",\"\",ROW(A962))","v":""},null,{"$f":"IF(ISERROR(VLOOKUP(B965,database!$B$2:$C$6001,2,FALSE)),\"\",VLOOKUP(B965,database!$B$2:$C$6001,2,FALSE))","v":""},null,null,null,{"$f":"IF(B965=\"\",\"\",IF(B965=\"-\",0,IF(W965=1,1,IF(AND(U965=0,F965=\"SSB\"),2,IF(AND(U965=0,F965=\"DIGI\"),3,IF(AND(U965=0,F965=\"CW\"),5,U965))))))","v":""},null,null,null,{"$f":"IF(ISERROR(VLOOKUP(B965,database!$B$2:$D$6001,3,FALSE)),\"\",VLOOKUP(B965,database!$B$2:$D$6001,3,FALSE))","v":""},null,null,null,null,null,null,{"$f":"LEFT(C965,2)","v":""},null,null,0,null,1,"indip"]
["",null,{"$f":"IF(ISERROR(VLOOKUP(B966,database!$B$2:$C$6001,2,FALSE)),\"\",VLOOKUP(B966,database!$B$2:$C$6001,2,FALSE))","v":""},null,null,null,"",null,null,null,{"$f":"IF(ISERROR(VLOOKUP(B966,database!$B$2:$D$6001,3,FALSE)),\"\",VLOOKUP(B966,database!$B$2:$D$6001,3,FALSE))","v":""},null,null,null,null,null,null,"",null,null,0,null,1,"indip"]
["",null,{"$f":"IF(ISERROR(VLOOKUP(B967,database!$B$2:$C$6001,2,FALSE)),\"\",VLOOKUP(B967,database!$B$2:$C$6001,2,FALSE))","v":""},null,null,null,"",null,null,null,{"$f":"IF(ISERROR(VLOOKUP(B967,database!$B$2:$D$6001,3,FALSE)),\"\",VLOOKUP(B967,database!$B$2:$D$6001,3,FALSE))","v":""},null,null,null,null,null,null,"",null,null,0,null,1,"indip"]
["",null,{"$f":"IF(ISERROR(VLOOKUP(B968,database!$B$2:$C$6001,2,FALSE)),\"\",VLOOKUP(B968,database!$B$2:$C$6001,2,FALSE))","v":""},null,null,null,"",null,null,null,{"$f":"IF(ISERROR(VLOOKUP(B968,database!$B$2:$D$6001,3,FALSE)),\"\",VLOOKUP(B968,database!$B$2:$D$6001,3,FALSE))","v":""},null,null,null,null,null,null,"",null,null,0,null,1,"indip"]
["",null,{"$f":"IF(ISERROR(VLOOKUP(B969,database!$B$2:$C$6001,2,FALSE)),\"\",VLOOKUP(B969,database!$B$2:$C$6001,2,FALSE))","v":""},null,null,null,"",null,null,null,{"$f":"IF(ISERROR(VLOOKUP(B969,database!$B$2:$D$6001,3,FALSE)),\"\",VLOOKUP(B969,database!$B$2:$D$6001,3,FALSE))","v":""},null,null,null,null,null,null,"",null,null,0,null,1,"indip"]
["",null,{"$f":"IF(ISERROR(VLOOKUP(B970,database!$B$2:$C$6001,2,FALSE)),\"\",VLOOKUP(B970,database!$B$2:$C$6001,2,FALSE))","v":""},null,null,null,"",null,null,null,{"$f":"IF(ISERROR(VLOOKUP(B970,database!$B$2:$D$6001,3,FALSE)),\"\",VLOOKUP(B970,database!$B$2:$D$6001,3,FALSE))","v":""},null,null,null,null,null,null,"",null,null,0,null,1,"indip"]
["",null,{"$f":"IF(ISERROR(VLOOKUP(B971,database!$B$2:$C$6001,2,FALSE)),\"\",VLOOKUP(B971,database!$B$2:$C$6001,2,FALSE))","v":""},null,null,null,"",null,null,null,{"$f":"IF(ISERROR(VLOOKUP(B971,database!$B$2:$D$6001,3,FALSE)),\"\",VLOOKUP(B971,database!$B$2:$D$6001,3,FALSE))","v":""},null,null,null,null,null,null,"",null,null,0,null,1,"indip"]
["",null,{"$f":"IF(ISERROR(VLOOKUP(B972,database!$B$2:$C$6001,2,FALSE)),\"\",VLOOKUP(B972,database!$B$2:$C$6001,2,FALSE))","v":""},null,null,null,"",null,null,null,{"$f":"IF(ISERROR(VLOOKUP(B972,database!$B$2:$D$6001,3,FALSE)),\"\",VLOOKUP(B972,database!$B$2:$D$6001,3,FALSE))","v":""},null,null,null,null,null,null,"",null,null,0,null,1,"indip"]
["",null,{"$f":"IF(ISERROR(VLOOKUP(B973,database!$B$2:$C$6001,2,FALSE)),\"\",VLOOKUP(B973,database!$B$2:$C$6001,2,FALSE))","v":""},null,null,null,"",null,null,null,{"$f":"IF(ISERROR(VLOOKUP(B973,database!$B$2:$D$6001,3,FALSE)),\"\",VLOOKUP(B973,database!$B$2:$D$6001,3,FALSE))","v":""},null,null,null,null,null,null,"",null,null,0,null,1,"indip"]
["",null,{"$f":"IF(ISERROR(VLOOKUP(B974,database!$B$2:$C$6001,2,FALSE)),\"\",VLOOKUP(B974,database!$B$2:$C$6001,2,FALSE))","v":""},null,null,null,"",null,null,null,{"$f":"IF(ISERROR(VLOOKUP(B974,database!$B$2:$D$6001,3,FALSE)),\"\",VLOOKUP(B974,database!$B$2:$D$6001,3,FALSE))","v":""},null,null,null,null,null,null,"",null,null,0,null,1,"indip"]
["",null,{"$f":"IF(ISERROR(VLOOKUP(B975,database!$B$2:$C$6001,2,FALSE)),\"\",VLOOKUP(B975,database!$B$2:$C$6001,2,FALSE))","v":""},null,null,null,"",null,null,null,{"$f":"IF(ISERROR(VLOOKUP(B975,database!$B$2:$D$6001,3,FALSE)),\"\",VLOOKUP(B975,database!$B$2:$D$6001,3,FALSE))","v":""},null,null,null,null,null,null,"",null,null,0,null,1,"indip"]
["",null,{"$f":"IF(ISERROR(VLOOKUP(B976,database!$B$2:$C$6001,2,FALSE)),\"\",VLOOKUP(B976,database!$B$2:$C$6001,2,FALSE))","v":""},null,null,null,"",null,null,null,{"$f":"IF(ISERROR(VLOOKUP(B976,database!$B$2:$D$6001,3,FALSE)),\"\",VLOOKUP(B976,database!$B$2:$D$6001,3,FALSE))","v":""},null,null,null,null,null,null,"",null,null,0,null,1,"indip"]
["",null,{"$f":"IF(ISERROR(VLOOKUP(B977,database!$B$2:$C$6001,2,FALSE)),\"\",VLOOKUP(B977,database!$B$2:$C$6001,2,FALSE))","v":""},null,null,null,"",null,null,null,{"$f":"IF(ISERROR(VLOOKUP(B977,database!$B$2:$D$6001,3,FALSE)),\"\",VLOOKUP(B977,database!$B$2:$D$6001,3,FALSE))","v":""},null,null,null,null,null,null,"",null,null,0,null,1,"indip"]
["",null,{"$f":"IF(ISERROR(VLOOKUP(B978,database!$B$2:$C$6001,2,FALSE)),\"\",VLOOKUP(B978,database!$B$2:$C$6001,2,FALSE))","v":""},null,null,null,"",null,null,null,{"$f":"IF(ISERROR(VLOOKUP(B978,database!$B$2:$D$6001,3,FALSE)),\"\",VLOOKUP(B978,database!$B$2:$D$6001,3,FALSE))","v":""},null,null,null,null,null,null,"",null,null,0,null,1,"indip"]
["",null,{"$f":"IF(ISERROR(VLOOKUP(B979,database!$B$2:$C$6001,2,FALSE)),\"\",VLOOKUP(B979,database!$B$2:$C$6001,2,FALSE))","v":""},null,null,null,"",null,null,null,{"$f":"IF(ISERROR(VLOOKUP(B979,database!$B$2:$D$6001,3,FALSE)),\"\",VLOOKUP(B979,database!$B$2:$D$6001,3,FALSE))","v":""},null,null,null,null,null,null,"",null,null,0,null,1,"indip"]
["",null,{"$f":"IF(ISERROR(VLOOKUP(B980,database!$B$2:$C$6001,2,FALSE)),\"\",VLOOKUP(B980,database!$B$2:$C$6001,2,FALSE))","v":""},null,null,null,"",null,null,null,{"$f":"IF(ISERROR(VLOOKUP(B980,database!$B$2:$D$6001,3,FALSE)),\"\",VLOOKUP(B980,database!$B$2:$D$6001,3,FALSE))","v":""},null,null,null,null,null,null,"",null,null,0,null,1,"indip"]
["",null,{"$f":"IF(ISERROR(VLOOKUP(B981,database!$B$2:$C$6001,2,FALSE)),\"\",VLOOKUP(B981,database!$B$2:$C$6001,2,FALSE))","v":""},null,null,null,"",null,null,null,{"$f":"IF(ISERROR(VLOOKUP(B981,database!$B$2:$D$6001,3,FALSE)),\"\",VLOOKUP(B981,database!$B$2:$D$6001,3,FALSE))","v":""},null,null,null,null,null,null,"",null,null,0,null,1,"indip"]
["",null,{"$f":"IF(ISERROR(VLOOKUP(B982,database!$B$2:$C$6001,2,FALSE)),\"\",VLOOKUP(B982,database!$B$2:$C$6001,2,FALSE))","v":""},null,null,null,"",null,null,null,{"$f":"IF(ISERROR(VLOOKUP(B982,database!$B$2:$D$6001,3,FALSE)),\"\",VLOOKUP(B982,database!$B$2:$D$6001,3,FALSE))","v":""},null,null,null,null,null,null,"",null,null,0,null,1,"indip"]
["",null,{"$f":"IF(ISERROR(VLOOKUP(B983,database!$B$2:$C$6001,2,FALSE)),\"\",VLOOKUP(B983,database!$B$2:$C$6001,2,FALSE))","v":""},null,null,null,"",null,null,null,{"$f":"IF(ISERROR(VLOOKUP(B983,database!$B$2:$D$6001,3,FALSE)),\"\",VLOOKUP(B983,database!$B$2:$D$6001,3,FALSE))","v":""},null,null,null,null,null,null,"",null,null,0,null,1,"indip"]
["",null,{"$f":"IF(ISERROR(VLOOKUP(B984,database!$B$2:$C$6001,2,FALSE)),\"\",VLOOKUP(B984,database!$B$2:$C$6001,2,FALSE))","v":""},null,null,null,"",null,null,null,{"$f":"IF(ISERROR(VLOOKUP(B984,database!$B$2:$D$6001,3,FALSE)),\"\",VLOOKUP(B984,database!$B$2:$D$6001,3,FALSE))","v":""},null,null,null,null,null,null,"",null,null,0,null,1,"indip"]
["",null,{"$f":"IF(ISERROR(VLOOKUP(B985,database!$B$2:$C$6001,2,FALSE)),\"\",VLOOKUP(B985,database!$B$2:$C$6001,2,FALSE))","v":""},null,null,null,"",null,null,null,{"$f":"IF(ISERROR(VLOOKUP(B985,database!$B$2:$D$6001,3,FALSE)),\"\",VLOOKUP(B985,database!$B$2:$D$6001,3,FALSE))","v":""},null,null,null,null,null,null,"",null,null,0,null,1,"indip"]
["",null,{"$f":"IF(ISERROR(VLOOKUP(B986,database!$B$2:$C$6001,2,FALSE)),\"\",VLOOKUP(B986,database!$B$2:$C$6001,2,FALSE))","v":""},null,null,null,"",null,null,null,{"$f":"IF(ISERROR(VLOOKUP(B986,database!$B$2:$D$6001,3,FALSE)),\"\",VLOOKUP(B986,database!$B$2:$D$6001,3,FALSE))","v":""},null,null,null,null,null,null,"",null,null,0,null,1,"indip"]
["",null,{"$f":"IF(ISERROR(VLOOKUP(B987,database!$B$2:$C$6001,2,FALSE)),\"\",VLOOKUP(B987,database!$B$2:$C$6001,2,FALSE))","v":""},null,null,null,"",null,null,null,{"$f":"IF(ISERROR(VLOOKUP(B987,database!$B$2:$D$6001,3,FALSE)),\"\",VLOOKUP(B987,database!$B$2:$D$6001,3,FALSE))","v":""},null,null,null,null,null,null,"",null,null,0,null,1,"indip"]
["",null,{"$f":"IF(ISERROR(VLOOKUP(B988,database!$B$2:$C$6001,2,FALSE)),\"\",VLOOKUP(B988,database!$B$2:$C$6001,2,FALSE))","v":""},null,null,null,"",null,null,null,{"$f":"IF(ISERROR(VLOOKUP(B988,database!$B$2:$D$6001,3,FALSE)),\"\",VLOOKUP(B988,database!$B$2:$D$6001,3,FALSE))","v":""},null,null,null,null,null,null,"",null,null,0,null,1,"indip"]
["",null,{"$f":"IF(ISERROR(VLOOKUP(B989,database!$B$2:$C$6001,2,FALSE)),\"\",VLOOKUP(B989,database!$B$2:$C$6001,2,FALSE))","v":""},null,null,null,"",null,null,null,{"$f":"IF(ISERROR(VLOOKUP(B989,database!$B$2:$D$6001,3,FALSE)),\"\",VLOOKUP(B989,database!$B$2:$D$6001,3,FALSE))","v":""},null,null,null,null,null,null,"",null,null,0,null,1,"indip"]
["",null,{"$f":"IF(ISERROR(VLOOKUP(B990,database!$B$2:$C$6001,2,FALSE)),\"\",VLOOKUP(B990,database!$B$2:$C$6001,2,FALSE))","v":""},null,null,null,"",null,null,null,{"$f":"IF(ISERROR(VLOOKUP(B990,database!$B$2:$D$6001,3,FALSE)),\"\",VLOOKUP(B990,database!$B$2:$D$6001,3,FALSE))","v":""},null,null,null,null,null,null,"",null,null,0,null,1,"indip"]
["",null,{"$f":"IF(ISERROR(VLOOKUP(B991,database!$B$2:$C$6001,2,FALSE)),\"\",VLOOKUP(B991,database!$B$2:$C$6001,2,FALSE))","v":""},null,null,null,"",null,null,null,{"$f":"IF(ISERROR(VLOOKUP(B991,database!$B$2:$D$6001,3,FALSE)),\"\",VLOOKUP(B991,database!$B$2:$D$6001,3,FALSE))","v":""},null,null,null,null,null,null,"",null,null,0,null,1,"indip"]
["",null,{"$f":"IF(ISERROR(VLOOKUP(B992,database!$B$2:$C$6001,2,FALSE)),\"\",VLOOKUP(B992,database!$B$2:$C$6001,2,FALSE))","v":""},null,null,null,"",null,null,null,{"$f":"IF(ISERROR(VLOOKUP(B992,database!$B$2:$D$6001,3,FALSE)),\"\",VLOOKUP(B992,database!$B$2:$D$6001,3,FALSE))","v":""},null,null,null,null,null,null,"",null,null,0,null,1,"indip"]
["",null,{"$f":"IF(ISERROR(VLOOKUP(B993,database!$B$2:$C$6001,2,FALSE)),\"\",VLOOKUP(B993,database!$B$2:$C$6001,2,FALSE))","v":""},null,null,null,"",null,null,null,{"$f":"IF(ISERROR(VLOOKUP(B993,database!$B$2:$D$6001,3,FALSE)),\"\",VLOOKUP(B993,database!$B$2:$D$6001,3,FALSE))","v":""},null,null,null,null,null,null,"",null,null,0,null,1,"indip"]
["",null,{"$f":"IF(ISERROR(VLOOKUP(B994,database!$B$2:$C$6001,2,FALSE)),\"\",VLOOKUP(B994,database!$B$2:$C$6001,2,FALSE))","v":""},null,null,null,"",null,null,null,{"$f":"IF(ISERROR(VLOOKUP(B994,database!$B$2:$D$6001,3,FALSE)),\"\",VLOOKUP(B994,database!$B$2:$D$6001,3,FALSE))","v":""},null,null,null,null,null,null,"",null,null,0,null,1,"indip"]
["",null,{"$f":"IF(ISERROR(VLOOKUP(B995,database!$B$2:$C$6001,2,FALSE)),\"\",VLOOKUP(B995,database!$B$2:$C$6001,2,FALSE))","v":""},null,null,null,"",null,null,null,{"$f":"IF(ISERROR(VLOOKUP(B995,database!$B$2:$D$6001,3,FALSE)),\"\",VLOOKUP(B995,database!$B$2:$D$6001,3,FALSE))","v":""},null,null,null,null,null,null,"",null,null,0,null,1,"indip"]
["",null,{"$f":"IF(ISERROR(VLOOKUP(B996,database!$B$2:$C$6001,2,FALSE)),\"\",VLOOKUP(B996,database!$B$2:$C$6001,2,FALSE))","v":""},null,null,null,"",null,null,null,{"$f":"IF(ISERROR(VLOOKUP(B996,database!$B$2:$D$6001,3,FALSE)),\"\",VLOOKUP(B996,database!$B$2:$D$6001,3,FALSE))","v":""},null,null,null,null,null,null,"",null,null,0,null,1,"indip"]
["",null,{"$f":"IF(ISERROR(VLOOKUP(B997,database!$B$2:$C$6001,2,FALSE)),\"\",VLOOKUP(B997,database!$B$2:$C$6001,2,FALSE))","v":""},null,null,null,"",null,null,null,{"$f":"IF(ISERROR(VLOOKUP(B997,database!$B$2:$D$6001,3,FALSE)),\"\",VLOOKUP(B997,database!$B$2:$D$6001,3,FALSE))","v":""},null,null,null,null,null,null,"",null,null,0,null,1,"indip"]
["",null,{"$f":"IF(ISERROR(VLOOKUP(B998,database!$B$2:$C$6001,2,FALSE)),\"\",VLOOKUP(B998,database!$B$2:$C$6001,2,FALSE))","v":""},null,null,null,"",null,null,null,{"$f":"IF(ISERROR(VLOOKUP(B998,database!$B$2:$D$6001,3,FALSE)),\"\",VLOOKUP(B998,database!$B$2:$D$6001,3,FALSE))","v":""},null,null,null,null,null,null,"",null,null,0,null,1,"indip"]
["",null,{"$f":"IF(ISERROR(VLOOKUP(B999,database!$B$2:$C$6001,2,FALSE)),\"\",VLOOKUP(B999,database!$B$2:$C$6001,2,FALSE))","v":""},null,null,null,"",null,null,null,{"$f":"IF(ISERROR(VLOOKUP(B999,database!$B$2:$D$6001,3,FALSE)),\"\",VLOOKUP(B999,database!$B$2:$D$6001,3,FALSE))","v":""},null,null,null,null,null,null,"",null,null,0,null,1,"indip"]
["",null,{"$f":"IF(ISERROR(VLOOKUP(B1000,database!$B$2:$C$6001,2,FALSE)),\"\",VLOOKUP(B1000,database!$B$2:$C$6001,2,FALSE))","v":""},null,null,null,"",null,null,null,{"$f":"IF(ISERROR(VLOOKUP(B1000,database!$B$2:$D$6001,3,FALSE)),\"\",VLOOKUP(B1000,database!$B$2:$D$6001,3,FALSE))","v":""},null,null,null,null,null,null,"",null,null,0,null,1,"indip"]
["",null,{"$f":"IF(ISERROR(VLOOKUP(B1002,database!$B$2:$C$6001,2,FALSE)),\"\",VLOOKUP(B1002,database!$B$2:$C$6001,2,FALSE))","v":""},null,null,null,"",null,null,null,{"$f":"IF(ISERROR(VLOOKUP(B1002,database!$B$2:$D$6001,3,FALSE)),\"\",VLOOKUP(B1002,database!$B$2:$D$6001,3,FALSE))","v":""},null,null,null,null,null,null,"",null,null,0,null,1,"indip"]
["",null,{"$f":"IF(ISERROR(VLOOKUP(B1006,database!$B$2:$C$6001,2,FALSE)),\"\",VLOOKUP(B1006,database!$B$2:$C$6001,2,FALSE))","v":""},null,null,null,"",null,null,null,{"$f":"IF(ISERROR(VLOOKUP(B1006,database!$B$2:$D$6001,3,FALSE)),\"\",VLOOKUP(B1006,database!$B$2:$D$6001,3,FALSE))","v":""},null,null,null,null,null,null,"",null,null,0,null,1,"indip"]
["",null,{"$f":"IF(ISERROR(VLOOKUP(B1011,database!$B$2:$C$6001,2,FALSE)),\"\",VLOOKUP(B1011,database!$B$2:$C$6001,2,FALSE))","v":""},null,null,null,"",null,null,null,{"$f":"IF(ISERROR(VLOOKUP(B1011,database!$B$2:$D$6001,3,FALSE)),\"\",VLOOKUP(B1011,database!$B$2:$D$6001,3,FALSE))","v":""},null,null,null,null,null,null,"",null,null,0,null,1,"indip"]
["",null,{"$f":"IF(ISERROR(VLOOKUP(B1017,database!$B$2:$C$6001,2,FALSE)),\"\",VLOOKUP(B1017,database!$B$2:$C$6001,2,FALSE))","v":""},null,null,null,"",null,null,null,{"$f":"IF(ISERROR(VLOOKUP(B1017,database!$B$2:$D$6001,3,FALSE)),\"\",VLOOKUP(B1017,database!$B$2:$D$6001,3,FALSE))","v":""},null,null,null,null,null,null,"",null,null,0,null,1,"indip"]
["",null,{"$f":"IF(ISERROR(VLOOKUP(B1021,database!$B$2:$C$6001,2,FALSE)),\"\",VLOOKUP(B1021,database!$B$2:$C$6001,2,FALSE))","v":""},null,null,null,"",null,null,null,{"$f":"IF(ISERROR(VLOOKUP(B1021,database!$B$2:$D$6001,3,FALSE)),\"\",VLOOKUP(B1021,database!$B$2:$D$6001,3,FALSE))","v":""},null,null,null,null,null,null,"",null,null,0,null,1,"indip"]
["",null,{"$f":"IF(ISERROR(VLOOKUP(B1026,database!$B$2:$C$6001,2,FALSE)),\"\",VLOOKUP(B1026,database!$B$2:$C$6001,2,FALSE))","v":""},null,null,null,"",null,null,null,{"$f":"IF(ISERROR(VLOOKUP(B1026,database!$B$2:$D$6001,3,FALSE)),\"\",VLOOKUP(B1026,database!$B$2:$D$6001,3,FALSE))","v":""},null,null,null,null,null,null,"",null,null,0,null,1,"indip"]
["",null,{"$f":"IF(ISERROR(VLOOKUP(B1032,database!$B$2:$C$6001,2,FALSE)),\"\",VLOOKUP(B1032,database!$B$2:$C$6001,2,FALSE))","v":""},null,null,null,"",null,null,null,{"$f":"IF(ISERROR(VLOOKUP(B1032,database!$B$2:$D$6001,3,FALSE)),\"\",VLOOKUP(B1032,database!$B$2:$D$6001,3,FALSE))","v":""},null,null,null,null,null,null,"",null,null,0,null,1,"indip"]
["",null,{"$f":"IF(ISERROR(VLOOKUP(B1037,database!$B$2:$C$6001,2,FALSE)),\"\",VLOOKUP(B1037,database!$B$2:$C$6001,2,FALSE))","v":""},null,null,null,"",null,null,null,{"$f":"IF(ISERROR(VLOOKUP(B1037,database!$B$2:$D$6001,3,FALSE)),\"\",VLOOKUP(B1037,database!$B$2:$D$6001,3,FALSE))","v":""},null,null,null,null,null,null,"",null,null,0,null,1,"indip"]
["",null,{"$f":"IF(ISERROR(VLOOKUP(B1040,database!$B$2:$C$6001,2,FALSE)),\"\",VLOOKUP(B1040,database!$B$2:$C$6001,2,FALSE))","v":""},null,null,null,"",null,null,null,{"$f":"IF(ISERROR(VLOOKUP(B1040,database!$B$2:$D$6001,3,FALSE)),\"\",VLOOKUP(B1040,database!$B$2:$D$6001,3,FALSE))","v":""},null,null,null,null,null,null,"",null,null,0,null,1,"indip"]
["",null,{"$f":"IF(ISERROR(VLOOKUP(B1047,database!$B$2:$C$6001,2,FALSE)),\"\",VLOOKUP(B1047,database!$B$2:$C$6001,2,FALSE))","v":""},null,null,null,"",null,null,null,{"$f":"IF(ISERROR(VLOOKUP(B1047,database!$B$2:$D$6001,3,FALSE)),\"\",VLOOKUP(B1047,database!$B$2:$D$6001,3,FALSE))","v":""},null,null,null,null,null,null,"",null,null,0,null,1,"indip"]
["",null,{"$f":"IF(ISERROR(VLOOKUP(B1052,database!$B$2:$C$6001,2,FALSE)),\"\",VLOOKUP(B1052,database!$B$2:$C$6001,2,FALSE))","v":""},null,null,null,"",null,null,null,{"$f":"IF(ISERROR(VLOOKUP(B1052,database!$B$2:$D$6001,3,FALSE)),\"\",VLOOKUP(B1052,database!$B$2:$D$6001,3,FALSE))","v":""},null,null,null,null,null,null,"",null,null,0,null,1,"indip"]
["",null,{"$f":"IF(ISERROR(VLOOKUP(B1053,database!$B$2:$C$6001,2,FALSE)),\"\",VLOOKUP(B1053,database!$B$2:$C$6001,2,FALSE))","v":""},null,null,null,"",null,null,null,{"$f":"IF(ISERROR(VLOOKUP(B1053,database!$B$2:$D$6001,3,FALSE)),\"\",VLOOKUP(B1053,database!$B$2:$D$6001,3,FALSE))","v":""},null,null,null,null,null,null,"",null,null,0,null,1,"indip"]
["",null,{"$f":"IF(ISERROR(VLOOKUP(B1059,database!$B$2:$C$6001,2,FALSE)),\"\",VLOOKUP(B1059,database!$B$2:$C$6001,2,FALSE))","v":""},null,null,null,"",null,null,null,{"$f":"IF(ISERROR(VLOOKUP(B1059,database!$B$2:$D$6001,3,FALSE)),\"\",VLOOKUP(B1059,database!$B$2:$D$6001,3,FALSE))","v":""},null,null,null,null,null,null,"",null,null,0,null,1,"indip"]
["",null,{"$f":"IF(ISERROR(VLOOKUP(B1062,database!$B$2:$C$6001,2,FALSE)),\"\",VLOOKUP(B1062,database!$B$2:$C$6001,2,FALSE))","v":""},null,null,null,"",null,null,null,{"$f":"IF(ISERROR(VLOOKUP(B1062,database!$B$2:$D$6001,3,FALSE)),\"\",VLOOKUP(B1062,database!$B$2:$D$6001,3,FALSE))","v":""},null,null,null,null,null,null,"",null,null,0,null,1,"indip"]
["",null,{"$f":"IF(ISERROR(VLOOKUP(B1068,database!$B$2:$C$6001,2,FALSE)),\"\",VLOOKUP(B1068,database!$B$2:$C$6001,2,FALSE))","v":""},null,null,null,"",null,null,null,{"$f":"IF(ISERROR(VLOOKUP(B1068,database!$B$2:$D$6001,3,FALSE)),\"\",VLOOKUP(B1068,database!$B$2:$D$6001,3,FALSE))","v":""},null,null,null,null,null,null,"",null,null,0,null,1,"indip"]
["",null,{"$f":"IF(ISERROR(VLOOKUP(B1073,database!$B$2:$C$6001,2,FALSE)),\"\",VLOOKUP(B1073,database!$B$2:$C$6001,2,FALSE))","v":""},null,null,null,"",null,null,null,{"$f":"IF(ISERROR(VLOOKUP(B1073,database!$B$2:$D$6001,3,FALSE)),\"\",VLOOKUP(B1073,database!$B$2:$D$6001,3,FALSE))","v":""},null,null,null,null,null,null,"",null,null,0,null,1,"indip"]
["",null,{"$f":"IF(ISERROR(VLOOKUP(B1078,database!$B$2:$C$6001,2,FALSE)),\"\",VLOOKUP(B1078,database!$B$2:$C$6001,2,FALSE))","v":""},null,null,null,"",null,null,null,{"$f":"IF(ISERROR(VLOOKUP(B1078,database!$B$2:$D$6001,3,FALSE)),\"\",VLOOKUP(B1078,database!$B$2:$D$6001,3,FALSE))","v":""},null,null,null,null,null,null,"",null,null,0,null,1,"indip"]
["",null,{"$f":"IF(ISERROR(VLOOKUP(B1083,database!$B$2:$C$6001,2,FALSE)),\"\",VLOOKUP(B1083,database!$B$2:$C$6001,2,FALSE))","v":""},null,null,null,"",null,null,null,{"$f":"IF(ISERROR(VLOOKUP(B1083,database!$B$2:$D$6001,3,FALSE)),\"\",VLOOKUP(B1083,database!$B$2:$D$6001,3,FALSE))","v":""},null,null,null,null,null,null,"",null,null,0,null,1,"indip"]
["",null,{"$f":"IF(ISERROR(VLOOKUP(B1088,database!$B$2:$C$6001,2,FALSE)),\"\",VLOOKUP(B1088,database!$B$2:$C$6001,2,FALSE))","v":""},null,null,null,"",null,null,null,{"$f":"IF(ISERROR(VLOOKUP(B1088,database!$B$2:$D$6001,3,FALSE)),\"\",VLOOKUP(B1088,database!$B$2:$D$6001,3,FALSE))","v":""},null,null,null,null,null,null,"",null,null,0,null,1,"indip"]
["",null,{"$f":"IF(ISERROR(VLOOKUP(B1094,database!$B$2:$C$6001,2,FALSE)),\"\",VLOOKUP(B1094,database!$B$2:$C$6001,2,FALSE))","v":""},null,null,null,"",null,null,null,{"$f":"IF(ISERROR(VLOOKUP(B1094,database!$B$2:$D$6001,3,FALSE)),\"\",VLOOKUP(B1094,database!$B$2:$D$6001,3,FALSE))","v":""},null,null,null,null,null,null,"",null,null,0,null,1,"indip"]
["",null,{"$f":"IF(ISERROR(VLOOKUP(B1099,database!$B$2:$C$6001,2,FALSE)),\"\",VLOOKUP(B1099,database!$B$2:$C$6001,2,FALSE))","v":""},null,null,null,"",null,null,null,{"$f":"IF(ISERROR(VLOOKUP(B1099,database!$B$2:$D$6001,3,FALSE)),\"\",VLOOKUP(B1099,database!$B$2:$D$6001,3,FALSE))","v":""},null,null,null,null,null,null,"",null,null,0,null,1,"indip"]
["",null,{"$f":"IF(ISERROR(VLOOKUP(B1103,database!$B$2:$C$6001,2,FALSE)),\"\",VLOOKUP(B1103,database!$B$2:$C$6001,2,FALSE))","v":""},null,null,null,"",null,null,null,{"$f":"IF(ISERROR(VLOOKUP(B1103,database!$B$2:$D$6001,3,FALSE)),\"\",VLOOKUP(B1103,database!$B$2:$D$6001,3,FALSE))","v":""},null,null,null,null,null,null,"",null,null,0,null,1,"indip"]
["",null,{"$f":"IF(ISERROR(VLOOKUP(B1109,database!$B$2:$C$6001,2,FALSE)),\"\",VLOOKUP(B1109,database!$B$2:$C$6001,2,FALSE))","v":""},null,null,null,"",null,null,null,{"$f":"IF(ISERROR(VLOOKUP(B1109,database!$B$2:$D$6001,3,FALSE)),\"\",VLOOKUP(B1109,database!$B$2:$D$6001,3,FALSE))","v":""},null,null,null,null,null,null,"",null,null,0,null,1,"indip"]
["",null,{"$f":"IF(ISERROR(VLOOKUP(B1114,database!$B$2:$C$6001,2,FALSE)),\"\",VLOOKUP(B1114,database!$B$2:$C$6001,2,FALSE))","v":""},null,null,null,"",null,null,null,{"$f":"IF(ISERROR(VLOOKUP(B1114,database!$B$2:$D$6001,3,FALSE)),\"\",VLOOKUP(B1114,database!$B$2:$D$6001,3,FALSE))","v":""},null,null,null,null,null,null,"",null,null,0,null,1,"indip"]
["",null,{"$f":"IF(ISERROR(VLOOKUP(B1115,database!$B$2:$C$6001,2,FALSE)),\"\",VLOOKUP(B1115,database!$B$2:$C$6001,2,FALSE))","v":""},null,null,null,"",null,null,null,{"$f":"IF(ISERROR(VLOOKUP(B1115,database!$B$2:$D$6001,3,FALSE)),\"\",VLOOKUP(B1115,database!$B$2:$D$6001,3,FALSE))","v":""},null,null,null,null,null,null,"",null,null,0,null,1,"indip"]
["",null,{"$f":"IF(ISERROR(VLOOKUP(B1122,database!$B$2:$C$6001,2,FALSE)),\"\",VLOOKUP(B1122,database!$B$2:$C$6001,2,FALSE))","v":""},null,null,null,"",null,null,null,{"$f":"IF(ISERROR(VLOOKUP(B1122,database!$B$2:$D$6001,3,FALSE)),\"\",VLOOKUP(B1122,database!$B$2:$D$6001,3,FALSE))","v":""},null,null,null,null,null,null,"",null,null,0,null,1,"indip"]
["",null,{"$f":"IF(ISERROR(VLOOKUP(B1124,database!$B$2:$C$6001,2,FALSE)),\"\",VLOOKUP(B1124,database!$B$2:$C$6001,2,FALSE))","v":""},null,null,null,"",null,null,null,{"$f":"IF(ISERROR(VLOOKUP(B1124,database!$B$2:$D$6001,3,FALSE)),\"\",VLOOKUP(B1124,database!$B$2:$D$6001,3,FALSE))","v":""},null,null,null,null,null,null,"",null,null,0,null,1,"indip"]
["",null,{"$f":"IF(ISERROR(VLOOKUP(B1130,database!$B$2:$C$6001,2,FALSE)),\"\",VLOOKUP(B1130,database!$B$2:$C$6001,2,FALSE))","v":""},null,null,null,"",null,null,null,{"$f":"IF(ISERROR(VLOOKUP(B1130,database!$B$2:$D$6001,3,FALSE)),\"\",VLOOKUP(B1130,database!$B$2:$D$6001,3,FALSE))","v":""},null,null,null,null,null,null,"",null,null,0,null,1,"indip"]
["",null,{"$f":"IF(ISERROR(VLOOKUP(B1135,database!$B$2:$C$6001,2,FALSE)),\"\",VLOOKUP(B1135,database!$B$2:$C$6001,2,FALSE))","v":""},null,null,null,"",null,null,null,{"$f":"IF(ISERROR(VLOOKUP(B1135,database!$B$2:$D$6001,3,FALSE)),\"\",VLOOKUP(B1135,database!$B$2:$D$6001,3,FALSE))","v":""},null,null,null,null,null,null,"",null,null,0,null,1,"indip"]
["",null,{"$f":"IF(ISERROR(VLOOKUP(B1141,database!$B$2:$C$6001,2,FALSE)),\"\",VLOOKUP(B1141,database!$B$2:$C$6001,2,FALSE))","v":""},null,null,null,"",null,null,null,{"$f":"IF(ISERROR(VLOOKUP(B1141,database!$B$2:$D$6001,3,FALSE)),\"\",VLOOKUP(B1141,database!$B$2:$D$6001,3,FALSE))","v":""},null,null,null,null,null,null,"",null,null,0,null,1,"indip"]
["",null,{"$f":"IF(ISERROR(VLOOKUP(B1145,database!$B$2:$C$6001,2,FALSE)),\"\",VLOOKUP(B1145,database!$B$2:$C$6001,2,FALSE))","v":""},null,null,null,"",null,null,null,{"$f":"IF(ISERROR(VLOOKUP(B1145,database!$B$2:$D$6001,3,FALSE)),\"\",VLOOKUP(B1145,database!$B$2:$D$6001,3,FALSE))","v":""},null,null,null,null,null,null,"",null,null,0,null,1,"indip"]
["",null,{"$f":"IF(ISERROR(VLOOKUP(B1150,database!$B$2:$C$6001,2,FALSE)),\"\",VLOOKUP(B1150,database!$B$2:$C$6001,2,FALSE))","v":""},null,null,null,"",null,null,null,{"$f":"IF(ISERROR(VLOOKUP(B1150,database!$B$2:$D$6001,3,FALSE)),\"\",VLOOKUP(B1150,database!$B$2:$D$6001,3,FALSE))","v":""},null,null,null,null,null,null,"",null,null,0,null,1,"indip"]
["",null,{"$f":"IF(ISERROR(VLOOKUP(B1156,database!$B$2:$C$6001,2,FALSE)),\"\",VLOOKUP(B1156,database!$B$2:$C$6001,2,FALSE))","v":""},null,null,null,"",null,null,null,{"$f":"IF(ISERROR(VLOOKUP(B1156,database!$B$2:$D$6001,3,FALSE)),\"\",VLOOKUP(B1156,database!$B$2:$D$6001,3,FALSE))","v":""},null,null,null,null,null,null,"",null,null,{"$f":"IFERROR(INDEX(M$39:N$140,MATCH(B1156,M$39:M$140,0),2),0)","v":0},null,{"$f":"IF(AND(U1156=0,C1156=\"\"),1,2)","v":1},{"$f":"IF(B1156=\"-\",\"\",IF(OR(B1156=M$39,B1156=M$40,B1156=M$41,B1156=M$42,B1156=M$43,B1156=M$44,B1156=M$45,B1156=M$46,B1156=M$47,,B1156=M$50,B1156=M$51,B1156=M$52,B1156=M$53,B1156=M$54,B1156=M$55,B1156=M$56,B1156=M$57,B1156=M$70),\"\",IF(C1156=\"\",\"indip\",F1156)))","v":"indip"}]
["",null,{"$f":"IF(ISERROR(VLOOKUP(B1160,database!$B$2:$C$6001,2,FALSE)),\"\",VLOOKUP(B1160,database!$B$2:$C$6001,2,FALSE))","v":""},null,null,null,"",null,null,null,{"$f":"IF(ISERROR(VLOOKUP(B1160,database!$B$2:$D$6001,3,FALSE)),\"\",VLOOKUP(B1160,database!$B$2:$D$6001,3,FALSE))","v":""},null,null,null,null,null,null,"",null,null,0,null,1,"indip"]
["",null,{"$f":"IF(ISERROR(VLOOKUP(B1165,database!$B$2:$C$6001,2,FALSE)),\"\",VLOOKUP(B1165,database!$B$2:$C$6001,2,FALSE))","v":""},null,null,null,"",null,null,null,{"$f":"IF(ISERROR(VLOOKUP(B1165,database!$B$2:$D$6001,3,FALSE)),\"\",VLOOKUP(B1165,database!$B$2:$D$6001,3,FALSE))","v":""},null,null,null,null,null,null,"",null,null,0,null,1,"indip"]
["",null,{"$f":"IF(ISERROR(VLOOKUP(B1171,database!$B$2:$C$6001,2,FALSE)),\"\",VLOOKUP(B1171,database!$B$2:$C$6001,2,FALSE))","v":""},null,null,null,"",null,null,null,{"$f":"IF(ISERROR(VLOOKUP(B1171,database!$B$2:$D$6001,3,FALSE)),\"\",VLOOKUP(B1171,database!$B$2:$D$6001,3,FALSE))","v":""},null,null,null,null,null,null,"",null,null,0,null,1,"indip"]
["",null,{"$f":"IF(ISERROR(VLOOKUP(B1176,database!$B$2:$C$6001,2,FALSE)),\"\",VLOOKUP(B1176,database!$B$2:$C$6001,2,FALSE))","v":""},null,null,null,"",null,null,null,{"$f":"IF(ISERROR(VLOOKUP(B1176,database!$B$2:$D$6001,3,FALSE)),\"\",VLOOKUP(B1176,database!$B$2:$D$6001,3,FALSE))","v":""},null,null,null,null,null,null,"",null,null,0,null,1,"indip"]
["",null,{"$f":"IF(ISERROR(VLOOKUP(B1179,database!$B$2:$C$6001,2,FALSE)),\"\",VLOOKUP(B1179,database!$B$2:$C$6001,2,FALSE))","v":""},null,null,null,"",null,null,null,{"$f":"IF(ISERROR(VLOOKUP(B1179,database!$B$2:$D$6001,3,FALSE)),\"\",VLOOKUP(B1179,database!$B$2:$D$6001,3,FALSE))","v":""},null,null,null,null,null,null,"",null,null,0,null,1,"indip"]
["",null,{"$f":"IF(ISERROR(VLOOKUP(B1181,database!$B$2:$C$6001,2,FALSE)),\"\",VLOOKUP(B1181,database!$B$2:$C$6001,2,FALSE))","v":""},null,null,null,"",null,null,null,{"$f":"IF(ISERROR(VLOOKUP(B1181,database!$B$2:$D$6001,3,FALSE)),\"\",VLOOKUP(B1181,database!$B$2:$D$6001,3,FALSE))","v":""},null,null,null,null,null,null,"",null,null,0,null,1,"indip"]
["",null,{"$f":"IF(ISERROR(VLOOKUP(B1186,database!$B$2:$C$6001,2,FALSE)),\"\",VLOOKUP(B1186,database!$B$2:$C$6001,2,FALSE))","v":""},null,null,null,"",null,null,null,{"$f":"IF(ISERROR(VLOOKUP(B1186,database!$B$2:$D$6001,3,FALSE)),\"\",VLOOKUP(B1186,database!$B$2:$D$6001,3,FALSE))","v":""},null,null,null,null,null,null,"",null,null,0,null,1,"indip"]
["",null,{"$f":"IF(ISERROR(VLOOKUP(B1192,database!$B$2:$C$6001,2,FALSE)),\"\",VLOOKUP(B1192,database!$B$2:$C$6001,2,FALSE))","v":""},null,null,null,"",null,null,null,{"$f":"IF(ISERROR(VLOOKUP(B1192,database!$B$2:$D$6001,3,FALSE)),\"\",VLOOKUP(B1192,database!$B$2:$D$6001,3,FALSE))","v":""},null,null,null,null,null,null,"",null,null,0,null,1,"indip"]
["",null,{"$f":"IF(ISERROR(VLOOKUP(B1197,database!$B$2:$C$6001,2,FALSE)),\"\",VLOOKUP(B1197,database!$B$2:$C$6001,2,FALSE))","v":""},null,null,null,"",null,null,null,{"$f":"IF(ISERROR(VLOOKUP(B1197,database!$B$2:$D$6001,3,FALSE)),\"\",VLOOKUP(B1197,database!$B$2:$D$6001,3,FALSE))","v":""},null,null,null,null,null,null,"",null,null,0,null,1,"indip"]
["",null,{"$f":"IF(ISERROR(VLOOKUP(B1204,database!$B$2:$C$6001,2,FALSE)),\"\",VLOOKUP(B1204,database!$B$2:$C$6001,2,FALSE))","v":""},null,null,null,"",null,null,null,{"$f":"IF(ISERROR(VLOOKUP(B1204,database!$B$2:$D$6001,3,FALSE)),\"\",VLOOKUP(B1204,database!$B$2:$D$6001,3,FALSE))","v":""},null,null,null,null,null,null,"",null,null,0,null,1,"indip"]
["",null,{"$f":"IF(ISERROR(VLOOKUP(B1207,database!$B$2:$C$6001,2,FALSE)),\"\",VLOOKUP(B1207,database!$B$2:$C$6001,2,FALSE))","v":""},null,null,null,"",null,null,null,{"$f":"IF(ISERROR(VLOOKUP(B1207,database!$B$2:$D$6001,3,FALSE)),\"\",VLOOKUP(B1207,database!$B$2:$D$6001,3,FALSE))","v":""},null,null,null,null,null,null,"",null,null,0,null,1,"indip"]
["",null,{"$f":"IF(ISERROR(VLOOKUP(B1212,database!$B$2:$C$6001,2,FALSE)),\"\",VLOOKUP(B1212,database!$B$2:$C$6001,2,FALSE))","v":""},null,null,null,"",null,null,null,{"$f":"IF(ISERROR(VLOOKUP(B1212,database!$B$2:$D$6001,3,FALSE)),\"\",VLOOKUP(B1212,database!$B$2:$D$6001,3,FALSE))","v":""},null,null,null,null,null,null,"",null,null,0,null,1,"indip"]
["",null,{"$f":"IF(ISERROR(VLOOKUP(B1218,database!$B$2:$C$6001,2,FALSE)),\"\",VLOOKUP(B1218,database!$B$2:$C$6001,2,FALSE))","v":""},null,null,null,"",null,null,null,{"$f":"IF(ISERROR(VLOOKUP(B1218,database!$B$2:$D$6001,3,FALSE)),\"\",VLOOKUP(B1218,database!$B$2:$D$6001,3,FALSE))","v":""},null,null,null,null,null,null,"",null,null,0,null,1,"indip"]
["",null,{"$f":"IF(ISERROR(VLOOKUP(B1223,database!$B$2:$C$6001,2,FALSE)),\"\",VLOOKUP(B1223,database!$B$2:$C$6001,2,FALSE))","v":""},null,null,null,"",null,null,null,{"$f":"IF(ISERROR(VLOOKUP(B1223,database!$B$2:$D$6001,3,FALSE)),\"\",VLOOKUP(B1223,database!$B$2:$D$6001,3,FALSE))","v":""},null,null,null,null,null,null,"",null,null,0,null,1,"indip"]
["",null,{"$f":"IF(ISERROR(VLOOKUP(B1227,database!$B$2:$C$6001,2,FALSE)),\"\",VLOOKUP(B1227,database!$B$2:$C$6001,2,FALSE))","v":""},null,null,null,"",null,null,null,{"$f":"IF(ISERROR(VLOOKUP(B1227,database!$B$2:$D$6001,3,FALSE)),\"\",VLOOKUP(B1227,database!$B$2:$D$6001,3,FALSE))","v":""},null,null,null,null,null,null,"",null,null,0,null,1,"indip"]
["",null,{"$f":"IF(ISERROR(VLOOKUP(B1233,database!$B$2:$C$6001,2,FALSE)),\"\",VLOOKUP(B1233,database!$B$2:$C$6001,2,FALSE))","v":""},null,null,null,"",null,null,null,{"$f":"IF(ISERROR(VLOOKUP(B1233,database!$B$2:$D$6001,3,FALSE)),\"\",VLOOKUP(B1233,database!$B$2:$D$6001,3,FALSE))","v":""},null,null,null,null,null,null,"",null,null,0,null,1,"indip"]
["",null,{"$f":"IF(ISERROR(VLOOKUP(B1238,database!$B$2:$C$6001,2,FALSE)),\"\",VLOOKUP(B1238,database!$B$2:$C$6001,2,FALSE))","v":""},null,null,null,"",null,null,null,{"$f":"IF(ISERROR(VLOOKUP(B1238,database!$B$2:$D$6001,3,FALSE)),\"\",VLOOKUP(B1238,database!$B$2:$D$6001,3,FALSE))","v":""},null,null,null,null,null,null,"",null,null,0,null,1,"indip"]
["",null,{"$f":"IF(ISERROR(VLOOKUP(B1242,database!$B$2:$C$6001,2,FALSE)),\"\",VLOOKUP(B1242,database!$B$2:$C$6001,2,FALSE))","v":""},null,null,null,"",null,null,null,{"$f":"IF(ISERROR(VLOOKUP(B1242,database!$B$2:$D$6001,3,FALSE)),\"\",VLOOKUP(B1242,database!$B$2:$D$6001,3,FALSE))","v":""},null,null,null,null,null,null,"",null,null,0,null,1,"indip"]
["",null,{"$f":"IF(ISERROR(VLOOKUP(B1243,database!$B$2:$C$6001,2,FALSE)),\"\",VLOOKUP(B1243,database!$B$2:$C$6001,2,FALSE))","v":""},null,null,null,"",null,null,null,{"$f":"IF(ISERROR(VLOOKUP(B1243,database!$B$2:$D$6001,3,FALSE)),\"\",VLOOKUP(B1243,database!$B$2:$D$6001,3,FALSE))","v":""},null,null,null,null,null,null,"",null,null,0,null,1,"indip"]
["",null,{"$f":"IF(ISERROR(VLOOKUP(B1248,database!$B$2:$C$6001,2,FALSE)),\"\",VLOOKUP(B1248,database!$B$2:$C$6001,2,FALSE))","v":""},null,null,null,"",null,null,null,{"$f":"IF(ISERROR(VLOOKUP(B1248,database!$B$2:$D$6001,3,FALSE)),\"\",VLOOKUP(B1248,database!$B$2:$D$6001,3,FALSE))","v":""},null,null,null,null,null,null,"",null,null,0,null,1,"indip"]
["",null,{"$f":"IF(ISERROR(VLOOKUP(B1254,database!$B$2:$C$6001,2,FALSE)),\"\",VLOOKUP(B1254,database!$B$2:$C$6001,2,FALSE))","v":""},null,null,null,"",null,null,null,{"$f":"IF(ISERROR(VLOOKUP(B1254,database!$B$2:$D$6001,3,FALSE)),\"\",VLOOKUP(B1254,database!$B$2:$D$6001,3,FALSE))","v":""},null,null,null,null,null,null,"",null,null,0,null,1,"indip"]
["",null,{"$f":"IF(ISERROR(VLOOKUP(B1261,database!$B$2:$C$6001,2,FALSE)),\"\",VLOOKUP(B1261,database!$B$2:$C$6001,2,FALSE))","v":""},null,null,null,"",null,null,null,{"$f":"IF(ISERROR(VLOOKUP(B1261,database!$B$2:$D$6001,3,FALSE)),\"\",VLOOKUP(B1261,database!$B$2:$D$6001,3,FALSE))","v":""},null,null,null,null,null,null,"",null,null,0,null,1,"indip"]
["",null,{"$f":"IF(ISERROR(VLOOKUP(B1264,database!$B$2:$C$6001,2,FALSE)),\"\",VLOOKUP(B1264,database!$B$2:$C$6001,2,FALSE))","v":""},null,null,null,"",null,null,null,{"$f":"IF(ISERROR(VLOOKUP(B1264,database!$B$2:$D$6001,3,FALSE)),\"\",VLOOKUP(B1264,database!$B$2:$D$6001,3,FALSE))","v":""},null,null,null,null,null,null,"",null,null,0,null,1,"indip"]
["",null,{"$f":"IF(ISERROR(VLOOKUP(B1269,database!$B$2:$C$6001,2,FALSE)),\"\",VLOOKUP(B1269,database!$B$2:$C$6001,2,FALSE))","v":""},null,null,null,"",null,null,null,{"$f":"IF(ISERROR(VLOOKUP(B1269,database!$B$2:$D$6001,3,FALSE)),\"\",VLOOKUP(B1269,database!$B$2:$D$6001,3,FALSE))","v":""},null,null,null,null,null,null,"",null,null,0,null,1,"indip"]
["",null,{"$f":"IF(ISERROR(VLOOKUP(B1274,database!$B$2:$C$6001,2,FALSE)),\"\",VLOOKUP(B1274,database!$B$2:$C$6001,2,FALSE))","v":""},null,null,null,"",null,null,null,{"$f":"IF(ISERROR(VLOOKUP(B1274,database!$B$2:$D$6001,3,FALSE)),\"\",VLOOKUP(B1274,database!$B$2:$D$6001,3,FALSE))","v":""},null,null,null,null,null,null,"",null,null,0,null,1,"indip"]
["",null,{"$f":"IF(ISERROR(VLOOKUP(B1280,database!$B$2:$C$6001,2,FALSE)),\"\",VLOOKUP(B1280,database!$B$2:$C$6001,2,FALSE))","v":""},null,null,null,"",null,null,null,{"$f":"IF(ISERROR(VLOOKUP(B1280,database!$B$2:$D$6001,3,FALSE)),\"\",VLOOKUP(B1280,database!$B$2:$D$6001,3,FALSE))","v":""},null,null,null,null,null,null,"",null,null,0,null,1,"indip"]
["",null,{"$f":"IF(ISERROR(VLOOKUP(B1282,database!$B$2:$C$6001,2,FALSE)),\"\",VLOOKUP(B1282,database!$B$2:$C$6001,2,FALSE))","v":""},null,null,null,"",null,null,null,{"$f":"IF(ISERROR(VLOOKUP(B1282,database!$B$2:$D$6001,3,FALSE)),\"\",VLOOKUP(B1282,database!$B$2:$D$6001,3,FALSE))","v":""},null,null,null,null,null,null,"",null,null,0,null,1,"indip"]
["",null,{"$f":"IF(ISERROR(VLOOKUP(B1289,database!$B$2:$C$6001,2,FALSE)),\"\",VLOOKUP(B1289,database!$B$2:$C$6001,2,FALSE))","v":""},null,null,null,"",null,null,null,{"$f":"IF(ISERROR(VLOOKUP(B1289,database!$B$2:$D$6001,3,FALSE)),\"\",VLOOKUP(B1289,database!$B$2:$D$6001,3,FALSE))","v":""},null,null,null,null,null,null,"",null,null,0,null,1,"indip"]
["",null,{"$f":"IF(ISERROR(VLOOKUP(B1295,database!$B$2:$C$6001,2,FALSE)),\"\",VLOOKUP(B1295,database!$B$2:$C$6001,2,FALSE))","v":""},null,null,null,"",null,null,null,{"$f":"IF(ISERROR(VLOOKUP(B1295,database!$B$2:$D$6001,3,FALSE)),\"\",VLOOKUP(B1295,database!$B$2:$D$6001,3,FALSE))","v":""},null,null,null,null,null,null,"",null,null,0,null,1,"indip"]
["",null,{"$f":"IF(ISERROR(VLOOKUP(B1300,database!$B$2:$C$6001,2,FALSE)),\"\",VLOOKUP(B1300,database!$B$2:$C$6001,2,FALSE))","v":""},null,null,null,"",null,null,null,{"$f":"IF(ISERROR(VLOOKUP(B1300,database!$B$2:$D$6001,3,FALSE)),\"\",VLOOKUP(B1300,database!$B$2:$D$6001,3,FALSE))","v":""},null,null,null,null,null,null,"",null,null,0,null,1,"indip"]
["",null,{"$f":"IF(ISERROR(VLOOKUP(B1301,database!$B$2:$C$6001,2,FALSE)),\"\",VLOOKUP(B1301,database!$B$2:$C$6001,2,FALSE))","v":""},null,null,null,"",null,null,null,{"$f":"IF(ISERROR(VLOOKUP(B1301,database!$B$2:$D$6001,3,FALSE)),\"\",VLOOKUP(B1301,database!$B$2:$D$6001,3,FALSE))","v":""},null,null,null,null,null,null,"",null,null,0,null,1,"indip"]
["",null,{"$f":"IF(ISERROR(VLOOKUP(B1305,database!$B$2:$C$6001,2,FALSE)),\"\",VLOOKUP(B1305,database!$B$2:$C$6001,2,FALSE))","v":""},null,null,null,"",null,null,null,{"$f":"IF(ISERROR(VLOOKUP(B1305,database!$B$2:$D$6001,3,FALSE)),\"\",VLOOKUP(B1305,database!$B$2:$D$6001,3,FALSE))","v":""},null,null,null,null,null,null,"",null,null,0,null,1,"indip"]
["",null,{"$f":"IF(ISERROR(VLOOKUP(B1310,database!$B$2:$C$6001,2,FALSE)),\"\",VLOOKUP(B1310,database!$B$2:$C$6001,2,FALSE))","v":""},null,null,null,"",null,null,null,{"$f":"IF(ISERROR(VLOOKUP(B1310,database!$B$2:$D$6001,3,FALSE)),\"\",VLOOKUP(B1310,database!$B$2:$D$6001,3,FALSE))","v":""},null,null,null,null,null,null,"",null,null,0,null,1,"indip"]
["",null,{"$f":"IF(ISERROR(VLOOKUP(B1316,database!$B$2:$C$6001,2,FALSE)),\"\",VLOOKUP(B1316,database!$B$2:$C$6001,2,FALSE))","v":""},null,null,null,"",null,null,null,{"$f":"IF(ISERROR(VLOOKUP(B1316,database!$B$2:$D$6001,3,FALSE)),\"\",VLOOKUP(B1316,database!$B$2:$D$6001,3,FALSE))","v":""},null,null,null,null,null,null,"",null,null,0,null,1,"indip"]
["",null,{"$f":"IF(ISERROR(VLOOKUP(B1320,database!$B$2:$C$6001,2,FALSE)),\"\",VLOOKUP(B1320,database!$B$2:$C$6001,2,FALSE))","v":""},null,null,null,"",null,null,null,{"$f":"IF(ISERROR(VLOOKUP(B1320,database!$B$2:$D$6001,3,FALSE)),\"\",VLOOKUP(B1320,database!$B$2:$D$6001,3,FALSE))","v":""},null,null,null,null,null,null,"",null,null,0,null,1,"indip"]
["",null,{"$f":"IF(ISERROR(VLOOKUP(B1325,database!$B$2:$C$6001,2,FALSE)),\"\",VLOOKUP(B1325,database!$B$2:$C$6001,2,FALSE))","v":""},null,null,null,"",null,null,null,{"$f":"IF(ISERROR(VLOOKUP(B1325,database!$B$2:$D$6001,3,FALSE)),\"\",VLOOKUP(B1325,database!$B$2:$D$6001,3,FALSE))","v":""},null,null,null,null,null,null,"",null,null,0,null,1,"indip"]
["",null,{"$f":"IF(ISERROR(VLOOKUP(B1331,database!$B$2:$C$6001,2,FALSE)),\"\",VLOOKUP(B1331,database!$B$2:$C$6001,2,FALSE))","v":""},null,null,null,"",null,null,null,{"$f":"IF(ISERROR(VLOOKUP(B1331,database!$B$2:$D$6001,3,FALSE)),\"\",VLOOKUP(B1331,database!$B$2:$D$6001,3,FALSE))","v":""},null,null,null,null,null,null,"",null,null,0,null,1,"indip"]
["",null,{"$f":"IF(ISERROR(VLOOKUP(B1336,database!$B$2:$C$6001,2,FALSE)),\"\",VLOOKUP(B1336,database!$B$2:$C$6001,2,FALSE))","v":""},null,null,null,"",null,null,null,{"$f":"IF(ISERROR(VLOOKUP(B1336,database!$B$2:$D$6001,3,FALSE)),\"\",VLOOKUP(B1336,database!$B$2:$D$6001,3,FALSE))","v":""},null,null,null,null,null,null,"",null,null,0,null,1,"indip"]
["",null,{"$f":"IF(ISERROR(VLOOKUP(B1339,database!$B$2:$C$6001,2,FALSE)),\"\",VLOOKUP(B1339,database!$B$2:$C$6001,2,FALSE))","v":""},null,null,null,"",null,null,null,{"$f":"IF(ISERROR(VLOOKUP(B1339,database!$B$2:$D$6001,3,FALSE)),\"\",VLOOKUP(B1339,database!$B$2:$D$6001,3,FALSE))","v":""},null,null,null,null,null,null,"",null,null,0,null,1,"indip"]
["",null,{"$f":"IF(ISERROR(VLOOKUP(B1346,database!$B$2:$C$6001,2,FALSE)),\"\",VLOOKUP(B1346,database!$B$2:$C$6001,2,FALSE))","v":""},null,null,null,"",null,null,null,{"$f":"IF(ISERROR(VLOOKUP(B1346,database!$B$2:$D$6001,3,FALSE)),\"\",VLOOKUP(B1346,database!$B$2:$D$6001,3,FALSE))","v":""},null,null,null,null,null,null,"",null,null,0,null,1,"indip"]
["",null,{"$f":"IF(ISERROR(VLOOKUP(B1351,database!$B$2:$C$6001,2,FALSE)),\"\",VLOOKUP(B1351,database!$B$2:$C$6001,2,FALSE))","v":""},null,null,null,"",null,null,null,{"$f":"IF(ISERROR(VLOOKUP(B1351,database!$B$2:$D$6001,3,FALSE)),\"\",VLOOKUP(B1351,database!$B$2:$D$6001,3,FALSE))","v":""},null,null,null,null,null,null,"",null,null,0,null,1,"indip"]
["",null,{"$f":"IF(ISERROR(VLOOKUP(B1357,database!$B$2:$C$6001,2,FALSE)),\"\",VLOOKUP(B1357,database!$B$2:$C$6001,2,FALSE))","v":""},null,null,null,"",null,null,null,{"$f":"IF(ISERROR(VLOOKUP(B1357,database!$B$2:$D$6001,3,FALSE)),\"\",VLOOKUP(B1357,database!$B$2:$D$6001,3,FALSE))","v":""},null,null,null,null,null,null,"",null,null,0,null,1,"indip"]
["",null,{"$f":"IF(ISERROR(VLOOKUP(B1358,database!$B$2:$C$6001,2,FALSE)),\"\",VLOOKUP(B1358,database!$B$2:$C$6001,2,FALSE))","v":""},null,null,null,"",null,null,null,{"$f":"IF(ISERROR(VLOOKUP(B1358,database!$B$2:$D$6001,3,FALSE)),\"\",VLOOKUP(B1358,database!$B$2:$D$6001,3,FALSE))","v":""},null,null,null,null,null,null,"",null,null,0,null,1,"indip"]
["",null,{"$f":"IF(ISERROR(VLOOKUP(B1362,database!$B$2:$C$6001,2,FALSE)),\"\",VLOOKUP(B1362,database!$B$2:$C$6001,2,FALSE))","v":""},null,null,null,"",null,null,null,{"$f":"IF(ISERROR(VLOOKUP(B1362,database!$B$2:$D$6001,3,FALSE)),\"\",VLOOKUP(B1362,database!$B$2:$D$6001,3,FALSE))","v":""},null,null,null,null,null,null,"",null,null,0,null,1,"indip"]
["",null,{"$f":"IF(ISERROR(VLOOKUP(B1367,database!$B$2:$C$6001,2,FALSE)),\"\",VLOOKUP(B1367,database!$B$2:$C$6001,2,FALSE))","v":""},null,null,null,"",null,null,null,{"$f":"IF(ISERROR(VLOOKUP(B1367,database!$B$2:$D$6001,3,FALSE)),\"\",VLOOKUP(B1367,database!$B$2:$D$6001,3,FALSE))","v":""},null,null,null,null,null,null,"",null,null,0,null,1,"indip"]
["",null,{"$f":"IF(ISERROR(VLOOKUP(B1372,database!$B$2:$C$6001,2,FALSE)),\"\",VLOOKUP(B1372,database!$B$2:$C$6001,2,FALSE))","v":""},null,null,null,"",null,null,null,{"$f":"IF(ISERROR(VLOOKUP(B1372,database!$B$2:$D$6001,3,FALSE)),\"\",VLOOKUP(B1372,database!$B$2:$D$6001,3,FALSE))","v":""},null,null,null,null,null,null,"",null,null,0,null,1,"indip"]
["",null,{"$f":"IF(ISERROR(VLOOKUP(B1378,database!$B$2:$C$6001,2,FALSE)),\"\",VLOOKUP(B1378,database!$B$2:$C$6001,2,FALSE))","v":""},null,null,null,"",null,null,null,{"$f":"IF(ISERROR(VLOOKUP(B1378,database!$B$2:$D$6001,3,FALSE)),\"\",VLOOKUP(B1378,database!$B$2:$D$6001,3,FALSE))","v":""},null,null,null,null,null,null,"",null,null,0,null,1,"indip"]
["",null,{"$f":"IF(ISERROR(VLOOKUP(B1383,database!$B$2:$C$6001,2,FALSE)),\"\",VLOOKUP(B1383,database!$B$2:$C$6001,2,FALSE))","v":""},null,null,null,"",null,null,null,{"$f":"IF(ISERROR(VLOOKUP(B1383,database!$B$2:$D$6001,3,FALSE)),\"\",VLOOKUP(B1383,database!$B$2:$D$6001,3,FALSE))","v":""},null,null,null,null,null,null,"",null,null,0,null,1,"indip"]
["",null,{"$f":"IF(ISERROR(VLOOKUP(B1387,database!$B$2:$C$6001,2,FALSE)),\"\",VLOOKUP(B1387,database!$B$2:$C$6001,2,FALSE))","v":""},null,null,null,"",null,null,null,{"$f":"IF(ISERROR(VLOOKUP(B1387,database!$B$2:$D$6001,3,FALSE)),\"\",VLOOKUP(B1387,database!$B$2:$D$6001,3,FALSE))","v":""},null,null,null,null,null,null,"",null,null,0,null,1,"indip"]
["",null,{"$f":"IF(ISERROR(VLOOKUP(B1393,database!$B$2:$C$6001,2,FALSE)),\"\",VLOOKUP(B1393,database!$B$2:$C$6001,2,FALSE))","v":""},null,null,null,"",null,null,null,{"$f":"IF(ISERROR(VLOOKUP(B1393,database!$B$2:$D$6001,3,FALSE)),\"\",VLOOKUP(B1393,database!$B$2:$D$6001,3,FALSE))","v":""},null,null,null,null,null,null,"",null,null,0,null,1,"indip"]
["",null,{"$f":"IF(ISERROR(VLOOKUP(B1398,database!$B$2:$C$6001,2,FALSE)),\"\",VLOOKUP(B1398,database!$B$2:$C$6001,2,FALSE))","v":""},null,null,null,"",null,null,null,{"$f":"IF(ISERROR(VLOOKUP(B1398,database!$B$2:$D$6001,3,FALSE)),\"\",VLOOKUP(B1398,database!$B$2:$D$6001,3,FALSE))","v":""},null,null,null,null,null,null,"",null,null,0,null,1,"indip"]
["",null,{"$f":"IF(ISERROR(VLOOKUP(B1402,database!$B$2:$C$6001,2,FALSE)),\"\",VLOOKUP(B1402,database!$B$2:$C$6001,2,FALSE))","v":""},null,null,null,"",null,null,null,{"$f":"IF(ISERROR(VLOOKUP(B1402,database!$B$2:$D$6001,3,FALSE)),\"\",VLOOKUP(B1402,database!$B$2:$D$6001,3,FALSE))","v":""},null,null,null,null,null,null,"",null,null,0,null,1,"indip"]
["",null,{"$f":"IF(ISERROR(VLOOKUP(B1408,database!$B$2:$C$6001,2,FALSE)),\"\",VLOOKUP(B1408,database!$B$2:$C$6001,2,FALSE))","v":""},null,null,null,"",null,null,null,{"$f":"IF(ISERROR(VLOOKUP(B1408,database!$B$2:$D$6001,3,FALSE)),\"\",VLOOKUP(B1408,database!$B$2:$D$6001,3,FALSE))","v":""},null,null,null,null,null,null,"",null,null,0,null,1,"indip"]
[{"$f":"IF(B1413=\"\",\"\",ROW(A1410))","v":""},null,{"$f":"IF(ISERROR(VLOOKUP(B1413,database!$B$2:$C$6001,2,FALSE)),\"\",VLOOKUP(B1413,database!$B$2:$C$6001,2,FALSE))","v":""},null,null,null,{"$f":"IF(B1413=\"\",\"\",IF(B1413=\"-\",0,IF(W1413=1,1,IF(AND(U1413=0,F1413=\"SSB\"),2,IF(AND(U1413=0,F1413=\"DIGI\"),3,IF(AND(U1413=0,F1413=\"CW\"),5,U1413))))))","v":""},null,null,null,{"$f":"IF(ISERROR(VLOOKUP(B1413,database!$B$2:$D$6001,3,FALSE)),\"\",VLOOKUP(B1413,database!$B$2:$D$6001,3,FALSE))","v":""},null,null,null,null,null,null,{"$f":"LEFT(C1413,2)","v":""},null,null,0,null,1,"indip"]
["",null,{"$f":"IF(ISERROR(VLOOKUP(B1419,database!$B$2:$C$6001,2,FALSE)),\"\",VLOOKUP(B1419,database!$B$2:$C$6001,2,FALSE))","v":""},null,null,null,"",null,null,null,{"$f":"IF(ISERROR(VLOOKUP(B1419,database!$B$2:$D$6001,3,FALSE)),\"\",VLOOKUP(B1419,database!$B$2:$D$6001,3,FALSE))","v":""},null,null,null,null,null,null,"",null,null,0,null,1,"indip"]
["",null,{"$f":"IF(ISERROR(VLOOKUP(B1421,database!$B$2:$C$6001,2,FALSE)),\"\",VLOOKUP(B1421,database!$B$2:$C$6001,2,FALSE))","v":""},null,null,null,"",null,null,null,{"$f":"IF(ISERROR(VLOOKUP(B1421,database!$B$2:$D$6001,3,FALSE)),\"\",VLOOKUP(B1421,database!$B$2:$D$6001,3,FALSE))","v":""},null,null,null,null,null,null,"",null,null,0,null,1,"indip"]
["",null,{"$f":"IF(ISERROR(VLOOKUP(B1428,database!$B$2:$C$6001,2,FALSE)),\"\",VLOOKUP(B1428,database!$B$2:$C$6001,2,FALSE))","v":""},null,null,null,"",null,null,null,{"$f":"IF(ISERROR(VLOOKUP(B1428,database!$B$2:$D$6001,3,FALSE)),\"\",VLOOKUP(B1428,database!$B$2:$D$6001,3,FALSE))","v":""},null,null,null,null,null,null,"",null,null,0,null,1,"indip"]
["",null,{"$f":"IF(ISERROR(VLOOKUP(B1429,database!$B$2:$C$6001,2,FALSE)),\"\",VLOOKUP(B1429,database!$B$2:$C$6001,2,FALSE))","v":""},null,null,null,"",null,null,null,{"$f":"IF(ISERROR(VLOOKUP(B1429,database!$B$2:$D$6001,3,FALSE)),\"\",VLOOKUP(B1429,database!$B$2:$D$6001,3,FALSE))","v":""},null,null,null,null,null,null,"",null,null,0,null,1,"indip"]
["",null,{"$f":"IF(ISERROR(VLOOKUP(B1434,database!$B$2:$C$6001,2,FALSE)),\"\",VLOOKUP(B1434,database!$B$2:$C$6001,2,FALSE))","v":""},null,null,null,"",null,null,null,{"$f":"IF(ISERROR(VLOOKUP(B1434,database!$B$2:$D$6001,3,FALSE)),\"\",VLOOKUP(B1434,database!$B$2:$D$6001,3,FALSE))","v":""},null,null,null,null,null,null,"",null,null,0,null,1,"indip"]
["",null,{"$f":"IF(ISERROR(VLOOKUP(B1440,database!$B$2:$C$6001,2,FALSE)),\"\",VLOOKUP(B1440,database!$B$2:$C$6001,2,FALSE))","v":""},null,null,null,"",null,null,null,{"$f":"IF(ISERROR(VLOOKUP(B1440,database!$B$2:$D$6001,3,FALSE)),\"\",VLOOKUP(B1440,database!$B$2:$D$6001,3,FALSE))","v":""},null,null,null,null,null,null,"",null,null,0,null,1,"indip"]
["",null,{"$f":"IF(ISERROR(VLOOKUP(B1444,database!$B$2:$C$6001,2,FALSE)),\"\",VLOOKUP(B1444,database!$B$2:$C$6001,2,FALSE))","v":""},null,null,null,"",null,null,null,{"$f":"IF(ISERROR(VLOOKUP(B1444,database!$B$2:$D$6001,3,FALSE)),\"\",VLOOKUP(B1444,database!$B$2:$D$6001,3,FALSE))","v":""},null,null,null,null,null,null,"",null,null,0,null,1,"indip"]
["",null,{"$f":"IF(ISERROR(VLOOKUP(B1449,database!$B$2:$C$6001,2,FALSE)),\"\",VLOOKUP(B1449,database!$B$2:$C$6001,2,FALSE))","v":""},null,null,null,"",null,null,null,{"$f":"IF(ISERROR(VLOOKUP(B1449,database!$B$2:$D$6001,3,FALSE)),\"\",VLOOKUP(B1449,database!$B$2:$D$6001,3,FALSE))","v":""},null,null,null,null,null,null,"",null,null,0,null,1,"indip"]
["",null,{"$f":"IF(ISERROR(VLOOKUP(B1455,database!$B$2:$C$6001,2,FALSE)),\"\",VLOOKUP(B1455,database!$B$2:$C$6001,2,FALSE))","v":""},null,null,null,"",null,null,null,{"$f":"IF(ISERROR(VLOOKUP(B1455,database!$B$2:$D$6001,3,FALSE)),\"\",VLOOKUP(B1455,database!$B$2:$D$6001,3,FALSE))","v":""},null,null,null,null,null,null,"",null,null,0,null,1,"indip"]
["",null,{"$f":"IF(ISERROR(VLOOKUP(B1460,database!$B$2:$C$6001,2,FALSE)),\"\",VLOOKUP(B1460,database!$B$2:$C$6001,2,FALSE))","v":""},null,null,null,"",null,null,null,{"$f":"IF(ISERROR(VLOOKUP(B1460,database!$B$2:$D$6001,3,FALSE)),\"\",VLOOKUP(B1460,database!$B$2:$D$6001,3,FALSE))","v":""},null,null,null,null,null,null,"",null,null,0,null,1,"indip"]
["",null,{"$f":"IF(ISERROR(VLOOKUP(B1465,database!$B$2:$C$6001,2,FALSE)),\"\",VLOOKUP(B1465,database!$B$2:$C$6001,2,FALSE))","v":""},null,null,null,"",null,null,null,{"$f":"IF(ISERROR(VLOOKUP(B1465,database!$B$2:$D$6001,3,FALSE)),\"\",VLOOKUP(B1465,database!$B$2:$D$6001,3,FALSE))","v":""},null,null,null,null,null,null,"",null,null,0,null,1,"indip"]
["",null,{"$f":"IF(ISERROR(VLOOKUP(B1470,database!$B$2:$C$6001,2,FALSE)),\"\",VLOOKUP(B1470,database!$B$2:$C$6001,2,FALSE))","v":""},null,null,null,"",null,null,null,{"$f":"IF(ISERROR(VLOOKUP(B1470,database!$B$2:$D$6001,3,FALSE)),\"\",VLOOKUP(B1470,database!$B$2:$D$6001,3,FALSE))","v":""},null,null,null,null,null,null,"",null,null,0,null,1,"indip"]
["",null,{"$f":"IF(ISERROR(VLOOKUP(B1475,database!$B$2:$C$6001,2,FALSE)),\"\",VLOOKUP(B1475,database!$B$2:$C$6001,2,FALSE))","v":""},null,null,null,"",null,null,null,{"$f":"IF(ISERROR(VLOOKUP(B1475,database!$B$2:$D$6001,3,FALSE)),\"\",VLOOKUP(B1475,database!$B$2:$D$6001,3,FALSE))","v":""},null,null,null,null,null,null,"",null,null,0,null,1,"indip"]
["",null,{"$f":"IF(ISERROR(VLOOKUP(B1481,database!$B$2:$C$6001,2,FALSE)),\"\",VLOOKUP(B1481,database!$B$2:$C$6001,2,FALSE))","v":""},null,null,null,"",null,null,null,{"$f":"IF(ISERROR(VLOOKUP(B1481,database!$B$2:$D$6001,3,FALSE)),\"\",VLOOKUP(B1481,database!$B$2:$D$6001,3,FALSE))","v":""},null,null,null,null,null,null,"",null,null,0,null,1,"indip"]
["",null,{"$f":"IF(ISERROR(VLOOKUP(B1484,database!$B$2:$C$6001,2,FALSE)),\"\",VLOOKUP(B1484,database!$B$2:$C$6001,2,FALSE))","v":""},null,null,null,"",null,null,null,{"$f":"IF(ISERROR(VLOOKUP(B1484,database!$B$2:$D$6001,3,FALSE)),\"\",VLOOKUP(B1484,database!$B$2:$D$6001,3,FALSE))","v":""},null,null,null,null,null,null,"",null,null,0,null,1,"indip"]
["",null,{"$f":"IF(ISERROR(VLOOKUP(B1490,database!$B$2:$C$6001,2,FALSE)),\"\",VLOOKUP(B1490,database!$B$2:$C$6001,2,FALSE))","v":""},null,null,null,"",null,null,null,{"$f":"IF(ISERROR(VLOOKUP(B1490,database!$B$2:$D$6001,3,FALSE)),\"\",VLOOKUP(B1490,database!$B$2:$D$6001,3,FALSE))","v":""},null,null,null,null,null,null,"",null,null,0,null,1,"indip"]
["",null,{"$f":"IF(ISERROR(VLOOKUP(B1491,database!$B$2:$C$6001,2,FALSE)),\"\",VLOOKUP(B1491,database!$B$2:$C$6001,2,FALSE))","v":""},null,null,null,"",null,null,null,{"$f":"IF(ISERROR(VLOOKUP(B1491,database!$B$2:$D$6001,3,FALSE)),\"\",VLOOKUP(B1491,database!$B$2:$D$6001,3,FALSE))","v":""},null,null,null,null,null,null,"",null,null,0,null,1,"indip"]
["",null,{"$f":"IF(ISERROR(VLOOKUP(B1496,database!$B$2:$C$6001,2,FALSE)),\"\",VLOOKUP(B1496,database!$B$2:$C$6001,2,FALSE))","v":""},null,null,null,"",null,null,null,{"$f":"IF(ISERROR(VLOOKUP(B1496,database!$B$2:$D$6001,3,FALSE)),\"\",VLOOKUP(B1496,database!$B$2:$D$6001,3,FALSE))","v":""},null,null,null,null,null,null,"",null,null,0,null,1,"indip"]
["",null,{"$f":"IF(ISERROR(VLOOKUP(B1503,database!$B$2:$C$6001,2,FALSE)),\"\",VLOOKUP(B1503,database!$B$2:$C$6001,2,FALSE))","v":""},null,null,null,"",null,null,null,{"$f":"IF(ISERROR(VLOOKUP(B1503,database!$B$2:$D$6001,3,FALSE)),\"\",VLOOKUP(B1503,database!$B$2:$D$6001,3,FALSE))","v":""},null,null,null,null,null,null,"",null,null,0,null,1,"indip"]
["",null,{"$f":"IF(ISERROR(VLOOKUP(B1506,database!$B$2:$C$6001,2,FALSE)),\"\",VLOOKUP(B1506,database!$B$2:$C$6001,2,FALSE))","v":""},null,null,null,"",null,null,null,{"$f":"IF(ISERROR(VLOOKUP(B1506,database!$B$2:$D$6001,3,FALSE)),\"\",VLOOKUP(B1506,database!$B$2:$D$6001,3,FALSE))","v":""},null,null,null,null,null,null,"",null,null,0,null,1,"indip"]
["",null,{"$f":"IF(ISERROR(VLOOKUP(B1511,database!$B$2:$C$6001,2,FALSE)),\"\",VLOOKUP(B1511,database!$B$2:$C$6001,2,FALSE))","v":""},null,null,null,"",null,null,null,{"$f":"IF(ISERROR(VLOOKUP(B1511,database!$B$2:$D$6001,3,FALSE)),\"\",VLOOKUP(B1511,database!$B$2:$D$6001,3,FALSE))","v":""},null,null,null,null,null,null,"",null,null,0,null,1,"indip"]
["",null,{"$f":"IF(ISERROR(VLOOKUP(B1517,database!$B$2:$C$6001,2,FALSE)),\"\",VLOOKUP(B1517,database!$B$2:$C$6001,2,FALSE))","v":""},null,null,null,"",null,null,null,{"$f":"IF(ISERROR(VLOOKUP(B1517,database!$B$2:$D$6001,3,FALSE)),\"\",VLOOKUP(B1517,database!$B$2:$D$6001,3,FALSE))","v":""},null,null,null,null,null,null,"",null,null,0,null,1,"indip"]
["",null,{"$f":"IF(ISERROR(VLOOKUP(B1522,database!$B$2:$C$6001,2,FALSE)),\"\",VLOOKUP(B1522,database!$B$2:$C$6001,2,FALSE))","v":""},null,null,null,"",null,null,null,{"$f":"IF(ISERROR(VLOOKUP(B1522,database!$B$2:$D$6001,3,FALSE)),\"\",VLOOKUP(B1522,database!$B$2:$D$6001,3,FALSE))","v":""},null,null,null,null,null,null,"",null,null,0,null,1,"indip"]
["",null,{"$f":"IF(ISERROR(VLOOKUP(B1527,database!$B$2:$C$6001,2,FALSE)),\"\",VLOOKUP(B1527,database!$B$2:$C$6001,2,FALSE))","v":""},null,null,null,"",null,null,null,{"$f":"IF(ISERROR(VLOOKUP(B1527,database!$B$2:$D$6001,3,FALSE)),\"\",VLOOKUP(B1527,database!$B$2:$D$6001,3,FALSE))","v":""},null,null,null,null,null,null,"",null,null,0,null,1,"indip"]
["",null,{"$f":"IF(ISERROR(VLOOKUP(B1532,database!$B$2:$C$6001,2,FALSE)),\"\",VLOOKUP(B1532,database!$B$2:$C$6001,2,FALSE))","v":""},null,null,null,"",null,null,null,{"$f":"IF(ISERROR(VLOOKUP(B1532,database!$B$2:$D$6001,3,FALSE)),\"\",VLOOKUP(B1532,database!$B$2:$D$6001,3,FALSE))","v":""},null,null,null,null,null,null,"",null,null,0,null,1,"indip"]
["",null,{"$f":"IF(ISERROR(VLOOKUP(B1537,database!$B$2:$C$6001,2,FALSE)),\"\",VLOOKUP(B1537,database!$B$2:$C$6001,2,FALSE))","v":""},null,null,null,"",null,null,null,{"$f":"IF(ISERROR(VLOOKUP(B1537,database!$B$2:$D$6001,3,FALSE)),\"\",VLOOKUP(B1537,database!$B$2:$D$6001,3,FALSE))","v":""},null,null,null,null,null,null,"",null,null,0,null,1,"indip"]
[{"$f":"IF(B1541=\"\",\"\",ROW(A1538))","v":""},null,{"$f":"IF(ISERROR(VLOOKUP(B1541,database!$B$2:$C$6001,2,FALSE)),\"\",VLOOKUP(B1541,database!$B$2:$C$6001,2,FALSE))","v":""},null,null,null,{"$f":"IF(B1541=\"\",\"\",IF(B1541=\"-\",0,IF(W1541=1,1,IF(AND(U1541=0,F1541=\"SSB\"),2,IF(AND(U1541=0,F1541=\"DIGI\"),3,IF(AND(U1541=0,F1541=\"CW\"),5,U1541))))))","v":""},null,null,null,{"$f":"IF(ISERROR(VLOOKUP(B1541,database!$B$2:$D$6001,3,FALSE)),\"\",VLOOKUP(B1541,database!$B$2:$D$6001,3,FALSE))","v":""},null,null,null,null,null,null,{"$f":"LEFT(C1541,2)","v":""},null,null,0,null,1,"indip"]
["",null,{"$f":"IF(ISERROR(VLOOKUP(B1547,database!$B$2:$C$6001,2,FALSE)),\"\",VLOOKUP(B1547,database!$B$2:$C$6001,2,FALSE))","v":""},null,null,null,"",null,null,null,{"$f":"IF(ISERROR(VLOOKUP(B1547,database!$B$2:$D$6001,3,FALSE)),\"\",VLOOKUP(B1547,database!$B$2:$D$6001,3,FALSE))","v":""},null,null,null,null,null,null,"",null,null,0,null,1,"indip"]
["",null,{"$f":"IF(ISERROR(VLOOKUP(B1552,database!$B$2:$C$6001,2,FALSE)),\"\",VLOOKUP(B1552,database!$B$2:$C$6001,2,FALSE))","v":""},null,null,null,"",null,null,null,{"$f":"IF(ISERROR(VLOOKUP(B1552,database!$B$2:$D$6001,3,FALSE)),\"\",VLOOKUP(B1552,database!$B$2:$D$6001,3,FALSE))","v":""},null,null,null,null,null,null,"",null,null,0,null,1,"indip"]
["",null,{"$f":"IF(ISERROR(VLOOKUP(B1553,database!$B$2:$C$6001,2,FALSE)),\"\",VLOOKUP(B1553,database!$B$2:$C$6001,2,FALSE))","v":""},null,null,null,"",null,null,null,{"$f":"IF(ISERROR(VLOOKUP(B1553,database!$B$2:$D$6001,3,FALSE)),\"\",VLOOKUP(B1553,database!$B$2:$D$6001,3,FALSE))","v":""},null,null,null,null,null,null,"",null,null,0,null,1,"indip"]
["",null,{"$f":"IF(ISERROR(VLOOKUP(B1558,database!$B$2:$C$6001,2,FALSE)),\"\",VLOOKUP(B1558,database!$B$2:$C$6001,2,FALSE))","v":""},null,null,null,"",null,null,null,{"$f":"IF(ISERROR(VLOOKUP(B1558,database!$B$2:$D$6001,3,FALSE)),\"\",VLOOKUP(B1558,database!$B$2:$D$6001,3,FALSE))","v":""},null,null,null,null,null,null,"",null,null,0,null,1,"indip"]
["",null,{"$f":"IF(ISERROR(VLOOKUP(B1566,database!$B$2:$C$6001,2,FALSE)),\"\",VLOOKUP(B1566,database!$B$2:$C$6001,2,FALSE))","v":""},null,null,null,"",null,null,null,{"$f":"IF(ISERROR(VLOOKUP(B1566,database!$B$2:$D$6001,3,FALSE)),\"\",VLOOKUP(B1566,database!$B$2:$D$6001,3,FALSE))","v":""},null,null,null,null,null,null,"",null,null,0,null,1,"indip"]
["",null,{"$f":"IF(ISERROR(VLOOKUP(B1568,database!$B$2:$C$6001,2,FALSE)),\"\",VLOOKUP(B1568,database!$B$2:$C$6001,2,FALSE))","v":""},null,null,null,"",null,null,null,{"$f":"IF(ISERROR(VLOOKUP(B1568,database!$B$2:$D$6001,3,FALSE)),\"\",VLOOKUP(B1568,database!$B$2:$D$6001,3,FALSE))","v":""},null,null,null,null,null,null,"",null,null,0,null,1,"indip"]
["",null,{"$f":"IF(ISERROR(VLOOKUP(B1573,database!$B$2:$C$6001,2,FALSE)),\"\",VLOOKUP(B1573,database!$B$2:$C$6001,2,FALSE))","v":""},null,null,null,"",null,null,null,{"$f":"IF(ISERROR(VLOOKUP(B1573,database!$B$2:$D$6001,3,FALSE)),\"\",VLOOKUP(B1573,database!$B$2:$D$6001,3,FALSE))","v":""},null,null,null,null,null,null,"",null,null,0,null,1,"indip"]
["",null,{"$f":"IF(ISERROR(VLOOKUP(B1579,database!$B$2:$C$6001,2,FALSE)),\"\",VLOOKUP(B1579,database!$B$2:$C$6001,2,FALSE))","v":""},null,null,null,"",null,null,null,{"$f":"IF(ISERROR(VLOOKUP(B1579,database!$B$2:$D$6001,3,FALSE)),\"\",VLOOKUP(B1579,database!$B$2:$D$6001,3,FALSE))","v":""},null,null,null,null,null,null,"",null,null,0,null,1,"indip"]
["",null,{"$f":"IF(ISERROR(VLOOKUP(B1585,database!$B$2:$C$6001,2,FALSE)),\"\",VLOOKUP(B1585,database!$B$2:$C$6001,2,FALSE))","v":""},null,null,null,"",null,null,null,{"$f":"IF(ISERROR(VLOOKUP(B1585,database!$B$2:$D$6001,3,FALSE)),\"\",VLOOKUP(B1585,database!$B$2:$D$6001,3,FALSE))","v":""},null,null,null,null,null,null,"",null,null,0,null,1,"indip"]
["",null,{"$f":"IF(ISERROR(VLOOKUP(B1588,database!$B$2:$C$6001,2,FALSE)),\"\",VLOOKUP(B1588,database!$B$2:$C$6001,2,FALSE))","v":""},null,null,null,"",null,null,null,{"$f":"IF(ISERROR(VLOOKUP(B1588,database!$B$2:$D$6001,3,FALSE)),\"\",VLOOKUP(B1588,database!$B$2:$D$6001,3,FALSE))","v":""},null,null,null,null,null,null,"",null,null,0,null,1,"indip"]
["",null,{"$f":"IF(ISERROR(VLOOKUP(B1594,database!$B$2:$C$6001,2,FALSE)),\"\",VLOOKUP(B1594,database!$B$2:$C$6001,2,FALSE))","v":""},null,null,null,"",null,null,null,{"$f":"IF(ISERROR(VLOOKUP(B1594,database!$B$2:$D$6001,3,FALSE)),\"\",VLOOKUP(B1594,database!$B$2:$D$6001,3,FALSE))","v":""},null,null,null,null,null,null,"",null,null,0,null,1,"indip"]
["",null,{"$f":"IF(ISERROR(VLOOKUP(B1599,database!$B$2:$C$6001,2,FALSE)),\"\",VLOOKUP(B1599,database!$B$2:$C$6001,2,FALSE))","v":""},null,null,null,"",null,null,null,{"$f":"IF(ISERROR(VLOOKUP(B1599,database!$B$2:$D$6001,3,FALSE)),\"\",VLOOKUP(B1599,database!$B$2:$D$6001,3,FALSE))","v":""},null,null,null,null,null,null,"",null,null,0,null,1,"indip"]
["",null,{"$f":"IF(ISERROR(VLOOKUP(B1604,database!$B$2:$C$6001,2,FALSE)),\"\",VLOOKUP(B1604,database!$B$2:$C$6001,2,FALSE))","v":""},null,null,null,"",null,null,null,{"$f":"IF(ISERROR(VLOOKUP(B1604,database!$B$2:$D$6001,3,FALSE)),\"\",VLOOKUP(B1604,database!$B$2:$D$6001,3,FALSE))","v":""},null,null,null,null,null,null,"",null,null,{"$f":"IFERROR(INDEX(M$39:N$140,MATCH(B1604,M$39:M$140,0),2),0)","v":0},null,{"$f":"IF(AND(U1604=0,C1604=\"\"),1,2)","v":1},{"$f":"IF(B1604=\"-\",\"\",IF(OR(B1604=M$39,B1604=M$40,B1604=M$41,B1604=M$42,B1604=M$43,B1604=M$44,B1604=M$45,B1604=M$46,B1604=M$47,,B1604=M$50,B1604=M$51,B1604=M$52,B1604=M$53,B1604=M$54,B1604=M$55,B1604=M$56,B1604=M$57,B1604=M$70),\"\",IF(C1604=\"\",\"indip\",F1604)))","v":"indip"}]
["",null,{"$f":"IF(ISERROR(VLOOKUP(B1609,database!$B$2:$C$6001,2,FALSE)),\"\",VLOOKUP(B1609,database!$B$2:$C$6001,2,FALSE))","v":""},null,null,null,"",null,null,null,{"$f":"IF(ISERROR(VLOOKUP(B1609,database!$B$2:$D$6001,3,FALSE)),\"\",VLOOKUP(B1609,database!$B$2:$D$6001,3,FALSE))","v":""},null,null,null,null,null,null,"",null,null,0,null,1,"indip"]
["",null,{"$f":"IF(ISERROR(VLOOKUP(B1614,database!$B$2:$C$6001,2,FALSE)),\"\",VLOOKUP(B1614,database!$B$2:$C$6001,2,FALSE))","v":""},null,null,null,"",null,null,null,{"$f":"IF(ISERROR(VLOOKUP(B1614,database!$B$2:$D$6001,3,FALSE)),\"\",VLOOKUP(B1614,database!$B$2:$D$6001,3,FALSE))","v":""},null,null,null,null,null,null,"",null,null,0,null,1,"indip"]
["",null,{"$f":"IF(ISERROR(VLOOKUP(B1615,database!$B$2:$C$6001,2,FALSE)),\"\",VLOOKUP(B1615,database!$B$2:$C$6001,2,FALSE))","v":""},null,null,null,"",null,null,null,{"$f":"IF(ISERROR(VLOOKUP(B1615,database!$B$2:$D$6001,3,FALSE)),\"\",VLOOKUP(B1615,database!$B$2:$D$6001,3,FALSE))","v":""},null,null,null,null,null,null,"",null,null,0,null,1,"indip"]
["",null,{"$f":"IF(ISERROR(VLOOKUP(B1623,database!$B$2:$C$6001,2,FALSE)),\"\",VLOOKUP(B1623,database!$B$2:$C$6001,2,FALSE))","v":""},null,null,null,"",null,null,null,{"$f":"IF(ISERROR(VLOOKUP(B1623,database!$B$2:$D$6001,3,FALSE)),\"\",VLOOKUP(B1623,database!$B$2:$D$6001,3,FALSE))","v":""},null,null,null,null,null,null,"",null,null,0,null,1,"indip"]
["",null,{"$f":"IF(ISERROR(VLOOKUP(B1625,database!$B$2:$C$6001,2,FALSE)),\"\",VLOOKUP(B1625,database!$B$2:$C$6001,2,FALSE))","v":""},null,null,null,"",null,null,null,{"$f":"IF(ISERROR(VLOOKUP(B1625,database!$B$2:$D$6001,3,FALSE)),\"\",VLOOKUP(B1625,database!$B$2:$D$6001,3,FALSE))","v":""},null,null,null,null,null,null,"",null,null,0,null,1,"indip"]
["",null,{"$f":"IF(ISERROR(VLOOKUP(B1630,database!$B$2:$C$6001,2,FALSE)),\"\",VLOOKUP(B1630,database!$B$2:$C$6001,2,FALSE))","v":""},null,null,null,"",null,null,null,{"$f":"IF(ISERROR(VLOOKUP(B1630,database!$B$2:$D$6001,3,FALSE)),\"\",VLOOKUP(B1630,database!$B$2:$D$6001,3,FALSE))","v":""},null,null,null,null,null,null,"",null,null,0,null,1,"indip"]
["",null,{"$f":"IF(ISERROR(VLOOKUP(B1635,database!$B$2:$C$6001,2,FALSE)),\"\",VLOOKUP(B1635,database!$B$2:$C$6001,2,FALSE))","v":""},null,null,null,"",null,null,null,{"$f":"IF(ISERROR(VLOOKUP(B1635,database!$B$2:$D$6001,3,FALSE)),\"\",VLOOKUP(B1635,database!$B$2:$D$6001,3,FALSE))","v":""},null,null,null,null,null,null,"",null,null,0,null,1,"indip"]
["",null,{"$f":"IF(ISERROR(VLOOKUP(B1641,database!$B$2:$C$6001,2,FALSE)),\"\",VLOOKUP(B1641,database!$B$2:$C$6001,2,FALSE))","v":""},null,null,null,"",null,null,null,{"$f":"IF(ISERROR(VLOOKUP(B1641,database!$B$2:$D$6001,3,FALSE)),\"\",VLOOKUP(B1641,database!$B$2:$D$6001,3,FALSE))","v":""},null,null,null,null,null,null,"",null,null,0,null,1,"indip"]
["",null,{"$f":"IF(ISERROR(VLOOKUP(B1644,database!$B$2:$C$6001,2,FALSE)),\"\",VLOOKUP(B1644,database!$B$2:$C$6001,2,FALSE))","v":""},null,null,null,"",null,null,null,{"$f":"IF(ISERROR(VLOOKUP(B1644,database!$B$2:$D$6001,3,FALSE)),\"\",VLOOKUP(B1644,database!$B$2:$D$6001,3,FALSE))","v":""},null,null,null,null,null,null,"",null,null,0,null,1,"indip"]
["",null,{"$f":"IF(ISERROR(VLOOKUP(B1650,database!$B$2:$C$6001,2,FALSE)),\"\",VLOOKUP(B1650,database!$B$2:$C$6001,2,FALSE))","v":""},null,null,null,"",null,null,null,{"$f":"IF(ISERROR(VLOOKUP(B1650,database!$B$2:$D$6001,3,FALSE)),\"\",VLOOKUP(B1650,database!$B$2:$D$6001,3,FALSE))","v":""},null,null,null,null,null,null,"",null,null,0,null,1,"indip"]
["",null,{"$f":"IF(ISERROR(VLOOKUP(B1656,database!$B$2:$C$6001,2,FALSE)),\"\",VLOOKUP(B1656,database!$B$2:$C$6001,2,FALSE))","v":""},null,null,null,"",null,null,null,{"$f":"IF(ISERROR(VLOOKUP(B1656,database!$B$2:$D$6001,3,FALSE)),\"\",VLOOKUP(B1656,database!$B$2:$D$6001,3,FALSE))","v":""},null,null,null,null,null,null,"",null,null,0,null,1,"indip"]
["",null,{"$f":"IF(ISERROR(VLOOKUP(B1661,database!$B$2:$C$6001,2,FALSE)),\"\",VLOOKUP(B1661,database!$B$2:$C$6001,2,FALSE))","v":""},null,null,null,"",null,null,null,{"$f":"IF(ISERROR(VLOOKUP(B1661,database!$B$2:$D$6001,3,FALSE)),\"\",VLOOKUP(B1661,database!$B$2:$D$6001,3,FALSE))","v":""},null,null,null,null,null,null,"",null,null,0,null,1,"indip"]
["",null,{"$f":"IF(ISERROR(VLOOKUP(B1663,database!$B$2:$C$6001,2,FALSE)),\"\",VLOOKUP(B1663,database!$B$2:$C$6001,2,FALSE))","v":""},null,null,null,"",null,null,null,{"$f":"IF(ISERROR(VLOOKUP(B1663,database!$B$2:$D$6001,3,FALSE)),\"\",VLOOKUP(B1663,database!$B$2:$D$6001,3,FALSE))","v":""},null,null,null,null,null,null,"",null,null,0,null,1,"indip"]
["",null,{"$f":"IF(ISERROR(VLOOKUP(B1671,database!$B$2:$C$6001,2,FALSE)),\"\",VLOOKUP(B1671,database!$B$2:$C$6001,2,FALSE))","v":""},null,null,null,"",null,null,null,{"$f":"IF(ISERROR(VLOOKUP(B1671,database!$B$2:$D$6001,3,FALSE)),\"\",VLOOKUP(B1671,database!$B$2:$D$6001,3,FALSE))","v":""},null,null,null,null,null,null,"",null,null,0,null,1,"indip"]
["",null,{"$f":"IF(ISERROR(VLOOKUP(B1676,database!$B$2:$C$6001,2,FALSE)),\"\",VLOOKUP(B1676,database!$B$2:$C$6001,2,FALSE))","v":""},null,null,null,"",null,null,null,{"$f":"IF(ISERROR(VLOOKUP(B1676,database!$B$2:$D$6001,3,FALSE)),\"\",VLOOKUP(B1676,database!$B$2:$D$6001,3,FALSE))","v":""},null,null,null,null,null,null,"",null,null,0,null,1,"indip"]
["",null,{"$f":"IF(ISERROR(VLOOKUP(B1677,database!$B$2:$C$6001,2,FALSE)),\"\",VLOOKUP(B1677,database!$B$2:$C$6001,2,FALSE))","v":""},null,null,null,"",null,null,null,{"$f":"IF(ISERROR(VLOOKUP(B1677,database!$B$2:$D$6001,3,FALSE)),\"\",VLOOKUP(B1677,database!$B$2:$D$6001,3,FALSE))","v":""},null,null,null,null,null,null,"",null,null,0,null,1,"indip"]
["",null,{"$f":"IF(ISERROR(VLOOKUP(B1682,database!$B$2:$C$6001,2,FALSE)),\"\",VLOOKUP(B1682,database!$B$2:$C$6001,2,FALSE))","v":""},null,null,null,"",null,null,null,{"$f":"IF(ISERROR(VLOOKUP(B1682,database!$B$2:$D$6001,3,FALSE)),\"\",VLOOKUP(B1682,database!$B$2:$D$6001,3,FALSE))","v":""},null,null,null,null,null,null,"",null,null,0,null,1,"indip"]
["",null,{"$f":"IF(ISERROR(VLOOKUP(B1687,database!$B$2:$C$6001,2,FALSE)),\"\",VLOOKUP(B1687,database!$B$2:$C$6001,2,FALSE))","v":""},null,null,null,"",null,null,null,{"$f":"IF(ISERROR(VLOOKUP(B1687,database!$B$2:$D$6001,3,FALSE)),\"\",VLOOKUP(B1687,database!$B$2:$D$6001,3,FALSE))","v":""},null,null,null,null,null,null,"",null,null,0,null,1,"indip"]
["",null,{"$f":"IF(ISERROR(VLOOKUP(B1692,database!$B$2:$C$6001,2,FALSE)),\"\",VLOOKUP(B1692,database!$B$2:$C$6001,2,FALSE))","v":""},null,null,null,"",null,null,null,{"$f":"IF(ISERROR(VLOOKUP(B1692,database!$B$2:$D$6001,3,FALSE)),\"\",VLOOKUP(B1692,database!$B$2:$D$6001,3,FALSE))","v":""},null,null,null,null,null,null,"",null,null,0,null,1,"indip"]
["",null,{"$f":"IF(ISERROR(VLOOKUP(B1697,database!$B$2:$C$6001,2,FALSE)),\"\",VLOOKUP(B1697,database!$B$2:$C$6001,2,FALSE))","v":""},null,null,null,"",null,null,null,{"$f":"IF(ISERROR(VLOOKUP(B1697,database!$B$2:$D$6001,3,FALSE)),\"\",VLOOKUP(B1697,database!$B$2:$D$6001,3,FALSE))","v":""},null,null,null,null,null,null,"",null,null,0,null,1,"indip"]
["",null,{"$f":"IF(ISERROR(VLOOKUP(B1701,database!$B$2:$C$6001,2,FALSE)),\"\",VLOOKUP(B1701,database!$B$2:$C$6001,2,FALSE))","v":""},null,null,null,"",null,null,null,{"$f":"IF(ISERROR(VLOOKUP(B1701,database!$B$2:$D$6001,3,FALSE)),\"\",VLOOKUP(B1701,database!$B$2:$D$6001,3,FALSE))","v":""},null,null,null,null,null,null,"",null,null,0,null,1,"indip"]
["",null,{"$f":"IF(ISERROR(VLOOKUP(B1707,database!$B$2:$C$6001,2,FALSE)),\"\",VLOOKUP(B1707,database!$B$2:$C$6001,2,FALSE))","v":""},null,null,null,"",null,null,null,{"$f":"IF(ISERROR(VLOOKUP(B1707,database!$B$2:$D$6001,3,FALSE)),\"\",VLOOKUP(B1707,database!$B$2:$D$6001,3,FALSE))","v":""},null,null,null,null,null,null,"",null,null,0,null,1,"indip"]
["",null,{"$f":"IF(ISERROR(VLOOKUP(B1712,database!$B$2:$C$6001,2,FALSE)),\"\",VLOOKUP(B1712,database!$B$2:$C$6001,2,FALSE))","v":""},null,null,null,"",null,null,null,{"$f":"IF(ISERROR(VLOOKUP(B1712,database!$B$2:$D$6001,3,FALSE)),\"\",VLOOKUP(B1712,database!$B$2:$D$6001,3,FALSE))","v":""},null,null,null,null,null,null,"",null,null,0,null,1,"indip"]
["",null,{"$f":"IF(ISERROR(VLOOKUP(B1718,database!$B$2:$C$6001,2,FALSE)),\"\",VLOOKUP(B1718,database!$B$2:$C$6001,2,FALSE))","v":""},null,null,null,"",null,null,null,{"$f":"IF(ISERROR(VLOOKUP(B1718,database!$B$2:$D$6001,3,FALSE)),\"\",VLOOKUP(B1718,database!$B$2:$D$6001,3,FALSE))","v":""},null,null,null,null,null,null,"",null,null,0,null,1,"indip"]
["",null,{"$f":"IF(ISERROR(VLOOKUP(B1720,database!$B$2:$C$6001,2,FALSE)),\"\",VLOOKUP(B1720,database!$B$2:$C$6001,2,FALSE))","v":""},null,null,null,"",null,null,null,{"$f":"IF(ISERROR(VLOOKUP(B1720,database!$B$2:$D$6001,3,FALSE)),\"\",VLOOKUP(B1720,database!$B$2:$D$6001,3,FALSE))","v":""},null,null,null,null,null,null,"",null,null,0,null,1,"indip"]
["",null,{"$f":"IF(ISERROR(VLOOKUP(B1728,database!$B$2:$C$6001,2,FALSE)),\"\",VLOOKUP(B1728,database!$B$2:$C$6001,2,FALSE))","v":""},null,null,null,"",null,null,null,{"$f":"IF(ISERROR(VLOOKUP(B1728,database!$B$2:$D$6001,3,FALSE)),\"\",VLOOKUP(B1728,database!$B$2:$D$6001,3,FALSE))","v":""},null,null,null,null,null,null,"",null,null,0,null,1,"indip"]
[{"$f":"IF(B1733=\"\",\"\",ROW(A1730))","v":""},null,{"$f":"IF(ISERROR(VLOOKUP(B1733,database!$B$2:$C$6001,2,FALSE)),\"\",VLOOKUP(B1733,database!$B$2:$C$6001,2,FALSE))","v":""},null,null,null,{"$f":"IF(B1733=\"\",\"\",IF(B1733=\"-\",0,IF(W1733=1,1,IF(AND(U1733=0,F1733=\"SSB\"),2,IF(AND(U1733=0,F1733=\"DIGI\"),3,IF(AND(U1733=0,F1733=\"CW\"),5,U1733))))))","v":""},null,null,null,{"$f":"IF(ISERROR(VLOOKUP(B1733,database!$B$2:$D$6001,3,FALSE)),\"\",VLOOKUP(B1733,database!$B$2:$D$6001,3,FALSE))","v":""},null,null,null,null,null,null,{"$f":"LEFT(C1733,2)","v":""},null,null,0,null,1,"indip"]
["",null,{"$f":"IF(ISERROR(VLOOKUP(B1738,database!$B$2:$C$6001,2,FALSE)),\"\",VLOOKUP(B1738,database!$B$2:$C$6001,2,FALSE))","v":""},null,null,null,"",null,null,null,{"$f":"IF(ISERROR(VLOOKUP(B1738,database!$B$2:$D$6001,3,FALSE)),\"\",VLOOKUP(B1738,database!$B$2:$D$6001,3,FALSE))","v":""},null,null,null,null,null,null,"",null,null,0,null,1,"indip"]
["",null,{"$f":"IF(ISERROR(VLOOKUP(B1739,database!$B$2:$C$6001,2,FALSE)),\"\",VLOOKUP(B1739,database!$B$2:$C$6001,2,FALSE))","v":""},null,null,null,"",null,null,null,{"$f":"IF(ISERROR(VLOOKUP(B1739,database!$B$2:$D$6001,3,FALSE)),\"\",VLOOKUP(B1739,database!$B$2:$D$6001,3,FALSE))","v":""},null,null,null,null,null,null,"",null,null,0,null,1,"indip"]
["",null,{"$f":"IF(ISERROR(VLOOKUP(B1745,database!$B$2:$C$6001,2,FALSE)),\"\",VLOOKUP(B1745,database!$B$2:$C$6001,2,FALSE))","v":""},null,null,null,"",null,null,null,{"$f":"IF(ISERROR(VLOOKUP(B1745,database!$B$2:$D$6001,3,FALSE)),\"\",VLOOKUP(B1745,database!$B$2:$D$6001,3,FALSE))","v":""},null,null,null,null,null,null,"",null,null,0,null,1,"indip"]
["",null,{"$f":"IF(ISERROR(VLOOKUP(B1748,database!$B$2:$C$6001,2,FALSE)),\"\",VLOOKUP(B1748,database!$B$2:$C$6001,2,FALSE))","v":""},null,null,null,"",null,null,null,{"$f":"IF(ISERROR(VLOOKUP(B1748,database!$B$2:$D$6001,3,FALSE)),\"\",VLOOKUP(B1748,database!$B$2:$D$6001,3,FALSE))","v":""},null,null,null,null,null,null,"",null,null,0,null,1,"indip"]
["",null,{"$f":"IF(ISERROR(VLOOKUP(B1754,database!$B$2:$C$6001,2,FALSE)),\"\",VLOOKUP(B1754,database!$B$2:$C$6001,2,FALSE))","v":""},null,null,null,"",null,null,null,{"$f":"IF(ISERROR(VLOOKUP(B1754,database!$B$2:$D$6001,3,FALSE)),\"\",VLOOKUP(B1754,database!$B$2:$D$6001,3,FALSE))","v":""},null,null,null,null,null,null,"",null,null,0,null,1,"indip"]
["",null,{"$f":"IF(ISERROR(VLOOKUP(B1759,database!$B$2:$C$6001,2,FALSE)),\"\",VLOOKUP(B1759,database!$B$2:$C$6001,2,FALSE))","v":""},null,null,null,"",null,null,null,{"$f":"IF(ISERROR(VLOOKUP(B1759,database!$B$2:$D$6001,3,FALSE)),\"\",VLOOKUP(B1759,database!$B$2:$D$6001,3,FALSE))","v":""},null,null,null,null,null,null,"",null,null,0,null,1,"indip"]
["",null,{"$f":"IF(ISERROR(VLOOKUP(B1764,database!$B$2:$C$6001,2,FALSE)),\"\",VLOOKUP(B1764,database!$B$2:$C$6001,2,FALSE))","v":""},null,null,null,"",null,null,null,{"$f":"IF(ISERROR(VLOOKUP(B1764,database!$B$2:$D$6001,3,FALSE)),\"\",VLOOKUP(B1764,database!$B$2:$D$6001,3,FALSE))","v":""},null,null,null,null,null,null,"",null,null,0,null,1,"indip"]
["",null,{"$f":"IF(ISERROR(VLOOKUP(B1769,database!$B$2:$C$6001,2,FALSE)),\"\",VLOOKUP(B1769,database!$B$2:$C$6001,2,FALSE))","v":""},null,null,null,"",null,null,null,{"$f":"IF(ISERROR(VLOOKUP(B1769,database!$B$2:$D$6001,3,FALSE)),\"\",VLOOKUP(B1769,database!$B$2:$D$6001,3,FALSE))","v":""},null,null,null,null,null,null,"",null,null,0,null,1,"indip"]
["",null,{"$f":"IF(ISERROR(VLOOKUP(B1774,database!$B$2:$C$6001,2,FALSE)),\"\",VLOOKUP(B1774,database!$B$2:$C$6001,2,FALSE))","v":""},null,null,null,"",null,null,null,{"$f":"IF(ISERROR(VLOOKUP(B1774,database!$B$2:$D$6001,3,FALSE)),\"\",VLOOKUP(B1774,database!$B$2:$D$6001,3,FALSE))","v":""},null,null,null,null,null,null,"",null,null,0,null,1,"indip"]
["",null,{"$f":"IF(ISERROR(VLOOKUP(B1780,database!$B$2:$C$6001,2,FALSE)),\"\",VLOOKUP(B1780,database!$B$2:$C$6001,2,FALSE))","v":""},null,null,null,"",null,null,null,{"$f":"IF(ISERROR(VLOOKUP(B1780,database!$B$2:$D$6001,3,FALSE)),\"\",VLOOKUP(B1780,database!$B$2:$D$6001,3,FALSE))","v":""},null,null,null,null,null,null,"",null,null,0,null,1,"indip"]
["",null,{"$f":"IF(ISERROR(VLOOKUP(B1783,database!$B$2:$C$6001,2,FALSE)),\"\",VLOOKUP(B1783,database!$B$2:$C$6001,2,FALSE))","v":""},null,null,null,"",null,null,null,{"$f":"IF(ISERROR(VLOOKUP(B1783,database!$B$2:$D$6001,3,FALSE)),\"\",VLOOKUP(B1783,database!$B$2:$D$6001,3,FALSE))","v":""},null,null,null,null,null,null,"",null,null,0,null,1,"indip"]
["",null,{"$f":"IF(ISERROR(VLOOKUP(B1790,database!$B$2:$C$6001,2,FALSE)),\"\",VLOOKUP(B1790,database!$B$2:$C$6001,2,FALSE))","v":""},null,null,null,"",null,null,null,{"$f":"IF(ISERROR(VLOOKUP(B1790,database!$B$2:$D$6001,3,FALSE)),\"\",VLOOKUP(B1790,database!$B$2:$D$6001,3,FALSE))","v":""},null,null,null,null,null,null,"",null,null,0,null,1,"indip"]
["",null,{"$f":"IF(ISERROR(VLOOKUP(B1795,database!$B$2:$C$6001,2,FALSE)),\"\",VLOOKUP(B1795,database!$B$2:$C$6001,2,FALSE))","v":""},null,null,null,"",null,null,null,{"$f":"IF(ISERROR(VLOOKUP(B1795,database!$B$2:$D$6001,3,FALSE)),\"\",VLOOKUP(B1795,database!$B$2:$D$6001,3,FALSE))","v":""},null,null,null,null,null,null,"",null,null,0,null,1,"indip"]
["",null,{"$f":"IF(ISERROR(VLOOKUP(B1800,database!$B$2:$C$6001,2,FALSE)),\"\",VLOOKUP(B1800,database!$B$2:$C$6001,2,FALSE))","v":""},null,null,null,"",null,null,null,{"$f":"IF(ISERROR(VLOOKUP(B1800,database!$B$2:$D$6001,3,FALSE)),\"\",VLOOKUP(B1800,database!$B$2:$D$6001,3,FALSE))","v":""},null,null,null,null,null,null,"",null,null,0,null,1,"indip"]
["",null,{"$f":"IF(ISERROR(VLOOKUP(B1802,database!$B$2:$C$6001,2,FALSE)),\"\",VLOOKUP(B1802,database!$B$2:$C$6001,2,FALSE))","v":""},null,null,null,"",null,null,null,{"$f":"IF(ISERROR(VLOOKUP(B1802,database!$B$2:$D$6001,3,FALSE)),\"\",VLOOKUP(B1802,database!$B$2:$D$6001,3,FALSE))","v":""},null,null,null,null,null,null,"",null,null,0,null,1,"indip"]
["",null,{"$f":"IF(ISERROR(VLOOKUP(B1805,database!$B$2:$C$6001,2,FALSE)),\"\",VLOOKUP(B1805,database!$B$2:$C$6001,2,FALSE))","v":""},null,null,null,"",null,null,null,{"$f":"IF(ISERROR(VLOOKUP(B1805,database!$B$2:$D$6001,3,FALSE)),\"\",VLOOKUP(B1805,database!$B$2:$D$6001,3,FALSE))","v":""},null,null,null,null,null,null,"",null,null,0,null,1,"indip"]
["",null,{"$f":"IF(ISERROR(VLOOKUP(B1810,database!$B$2:$C$6001,2,FALSE)),\"\",VLOOKUP(B1810,database!$B$2:$C$6001,2,FALSE))","v":""},null,null,null,"",null,null,null,{"$f":"IF(ISERROR(VLOOKUP(B1810,database!$B$2:$D$6001,3,FALSE)),\"\",VLOOKUP(B1810,database!$B$2:$D$6001,3,FALSE))","v":""},null,null,null,null,null,null,"",null,null,0,null,1,"indip"]
["",null,{"$f":"IF(ISERROR(VLOOKUP(B1816,database!$B$2:$C$6001,2,FALSE)),\"\",VLOOKUP(B1816,database!$B$2:$C$6001,2,FALSE))","v":""},null,null,null,"",null,null,null,{"$f":"IF(ISERROR(VLOOKUP(B1816,database!$B$2:$D$6001,3,FALSE)),\"\",VLOOKUP(B1816,database!$B$2:$D$6001,3,FALSE))","v":""},null,null,null,null,null,null,"",null,null,0,null,1,"indip"]
["",null,{"$f":"IF(ISERROR(VLOOKUP(B1821,database!$B$2:$C$6001,2,FALSE)),\"\",VLOOKUP(B1821,database!$B$2:$C$6001,2,FALSE))","v":""},null,null,null,"",null,null,null,{"$f":"IF(ISERROR(VLOOKUP(B1821,database!$B$2:$D$6001,3,FALSE)),\"\",VLOOKUP(B1821,database!$B$2:$D$6001,3,FALSE))","v":""},null,null,null,null,null,null,"",null,null,0,null,1,"indip"]
["",null,{"$f":"IF(ISERROR(VLOOKUP(B1826,database!$B$2:$C$6001,2,FALSE)),\"\",VLOOKUP(B1826,database!$B$2:$C$6001,2,FALSE))","v":""},null,null,null,"",null,null,null,{"$f":"IF(ISERROR(VLOOKUP(B1826,database!$B$2:$D$6001,3,FALSE)),\"\",VLOOKUP(B1826,database!$B$2:$D$6001,3,FALSE))","v":""},null,null,null,null,null,null,"",null,null,0,null,1,"indip"]
["",null,{"$f":"IF(ISERROR(VLOOKUP(B1831,database!$B$2:$C$6001,2,FALSE)),\"\",VLOOKUP(B1831,database!$B$2:$C$6001,2,FALSE))","v":""},null,null,null,"",null,null,null,{"$f":"IF(ISERROR(VLOOKUP(B1831,database!$B$2:$D$6001,3,FALSE)),\"\",VLOOKUP(B1831,database!$B$2:$D$6001,3,FALSE))","v":""},null,null,null,null,null,null,"",null,null,0,null,1,"indip"]
["",null,{"$f":"IF(ISERROR(VLOOKUP(B1836,database!$B$2:$C$6001,2,FALSE)),\"\",VLOOKUP(B1836,database!$B$2:$C$6001,2,FALSE))","v":""},null,null,null,"",null,null,null,{"$f":"IF(ISERROR(VLOOKUP(B1836,database!$B$2:$D$6001,3,FALSE)),\"\",VLOOKUP(B1836,database!$B$2:$D$6001,3,FALSE))","v":""},null,null,null,null,null,null,"",null,null,0,null,1,"indip"]
["",null,{"$f":"IF(ISERROR(VLOOKUP(B1842,database!$B$2:$C$6001,2,FALSE)),\"\",VLOOKUP(B1842,database!$B$2:$C$6001,2,FALSE))","v":""},null,null,null,"",null,null,null,{"$f":"IF(ISERROR(VLOOKUP(B1842,database!$B$2:$D$6001,3,FALSE)),\"\",VLOOKUP(B1842,database!$B$2:$D$6001,3,FALSE))","v":""},null,null,null,null,null,null,"",null,null,0,null,1,"indip"]
["",null,{"$f":"IF(ISERROR(VLOOKUP(B1846,database!$B$2:$C$6001,2,FALSE)),\"\",VLOOKUP(B1846,database!$B$2:$C$6001,2,FALSE))","v":""},null,null,null,"",null,null,null,{"$f":"IF(ISERROR(VLOOKUP(B1846,database!$B$2:$D$6001,3,FALSE)),\"\",VLOOKUP(B1846,database!$B$2:$D$6001,3,FALSE))","v":""},null,null,null,null,null,null,"",null,null,0,null,1,"indip"]
["",null,{"$f":"IF(ISERROR(VLOOKUP(B1851,database!$B$2:$C$6001,2,FALSE)),\"\",VLOOKUP(B1851,database!$B$2:$C$6001,2,FALSE))","v":""},null,null,null,"",null,null,null,{"$f":"IF(ISERROR(VLOOKUP(B1851,database!$B$2:$D$6001,3,FALSE)),\"\",VLOOKUP(B1851,database!$B$2:$D$6001,3,FALSE))","v":""},null,null,null,null,null,null,"",null,null,0,null,1,"indip"]
["",null,{"$f":"IF(ISERROR(VLOOKUP(B1857,database!$B$2:$C$6001,2,FALSE)),\"\",VLOOKUP(B1857,database!$B$2:$C$6001,2,FALSE))","v":""},null,null,null,"",null,null,null,{"$f":"IF(ISERROR(VLOOKUP(B1857,database!$B$2:$D$6001,3,FALSE)),\"\",VLOOKUP(B1857,database!$B$2:$D$6001,3,FALSE))","v":""},null,null,null,null,null,null,"",null,null,0,null,1,"indip"]
["",null,{"$f":"IF(ISERROR(VLOOKUP(B1862,database!$B$2:$C$6001,2,FALSE)),\"\",VLOOKUP(B1862,database!$B$2:$C$6001,2,FALSE))","v":""},null,null,null,"",null,null,null,{"$f":"IF(ISERROR(VLOOKUP(B1862,database!$B$2:$D$6001,3,FALSE)),\"\",VLOOKUP(B1862,database!$B$2:$D$6001,3,FALSE))","v":""},null,null,null,null,null,null,"",null,null,0,null,1,"indip"]
["",null,{"$f":"IF(ISERROR(VLOOKUP(B1865,database!$B$2:$C$6001,2,FALSE)),\"\",VLOOKUP(B1865,database!$B$2:$C$6001,2,FALSE))","v":""},null,null,null,"",null,null,null,{"$f":"IF(ISERROR(VLOOKUP(B1865,database!$B$2:$D$6001,3,FALSE)),\"\",VLOOKUP(B1865,database!$B$2:$D$6001,3,FALSE))","v":""},null,null,null,null,null,null,"",null,null,0,null,1,"indip"]
["",null,{"$f":"IF(ISERROR(VLOOKUP(B1867,database!$B$2:$C$6001,2,FALSE)),\"\",VLOOKUP(B1867,database!$B$2:$C$6001,2,FALSE))","v":""},null,null,null,"",null,null,null,{"$f":"IF(ISERROR(VLOOKUP(B1867,database!$B$2:$D$6001,3,FALSE)),\"\",VLOOKUP(B1867,database!$B$2:$D$6001,3,FALSE))","v":""},null,null,null,null,null,null,"",null,null,0,null,1,"indip"]
["",null,{"$f":"IF(ISERROR(VLOOKUP(B1872,database!$B$2:$C$6001,2,FALSE)),\"\",VLOOKUP(B1872,database!$B$2:$C$6001,2,FALSE))","v":""},null,null,null,"",null,null,null,{"$f":"IF(ISERROR(VLOOKUP(B1872,database!$B$2:$D$6001,3,FALSE)),\"\",VLOOKUP(B1872,database!$B$2:$D$6001,3,FALSE))","v":""},null,null,null,null,null,null,"",null,null,0,null,1,"indip"]
["",null,{"$f":"IF(ISERROR(VLOOKUP(B1878,database!$B$2:$C$6001,2,FALSE)),\"\",VLOOKUP(B1878,database!$B$2:$C$6001,2,FALSE))","v":""},null,null,null,"",null,null,null,{"$f":"IF(ISERROR(VLOOKUP(B1878,database!$B$2:$D$6001,3,FALSE)),\"\",VLOOKUP(B1878,database!$B$2:$D$6001,3,FALSE))","v":""},null,null,null,null,null,null,"",null,null,0,null,1,"indip"]
["",null,{"$f":"IF(ISERROR(VLOOKUP(B1884,database!$B$2:$C$6001,2,FALSE)),\"\",VLOOKUP(B1884,database!$B$2:$C$6001,2,FALSE))","v":""},null,null,null,"",null,null,null,{"$f":"IF(ISERROR(VLOOKUP(B1884,database!$B$2:$D$6001,3,FALSE)),\"\",VLOOKUP(B1884,database!$B$2:$D$6001,3,FALSE))","v":""},null,null,null,null,null,null,"",null,null,0,null,1,"indip"]
["",null,{"$f":"IF(ISERROR(VLOOKUP(B1888,database!$B$2:$C$6001,2,FALSE)),\"\",VLOOKUP(B1888,database!$B$2:$C$6001,2,FALSE))","v":""},null,null,null,"",null,null,null,{"$f":"IF(ISERROR(VLOOKUP(B1888,database!$B$2:$D$6001,3,FALSE)),\"\",VLOOKUP(B1888,database!$B$2:$D$6001,3,FALSE))","v":""},null,null,null,null,null,null,"",null,null,0,null,1,"indip"]
["",null,{"$f":"IF(ISERROR(VLOOKUP(B1893,database!$B$2:$C$6001,2,FALSE)),\"\",VLOOKUP(B1893,database!$B$2:$C$6001,2,FALSE))","v":""},null,null,null,"",null,null,null,{"$f":"IF(ISERROR(VLOOKUP(B1893,database!$B$2:$D$6001,3,FALSE)),\"\",VLOOKUP(B1893,database!$B$2:$D$6001,3,FALSE))","v":""},null,null,null,null,null,null,"",null,null,0,null,1,"indip"]
["",null,{"$f":"IF(ISERROR(VLOOKUP(B1898,database!$B$2:$C$6001,2,FALSE)),\"\",VLOOKUP(B1898,database!$B$2:$C$6001,2,FALSE))","v":""},null,null,null,"",null,null,null,{"$f":"IF(ISERROR(VLOOKUP(B1898,database!$B$2:$D$6001,3,FALSE)),\"\",VLOOKUP(B1898,database!$B$2:$D$6001,3,FALSE))","v":""},null,null,null,null,null,null,"",null,null,0,null,1,"indip"]
["",null,{"$f":"IF(ISERROR(VLOOKUP(B1903,database!$B$2:$C$6001,2,FALSE)),\"\",VLOOKUP(B1903,database!$B$2:$C$6001,2,FALSE))","v":""},null,null,null,"",null,null,null,{"$f":"IF(ISERROR(VLOOKUP(B1903,database!$B$2:$D$6001,3,FALSE)),\"\",VLOOKUP(B1903,database!$B$2:$D$6001,3,FALSE))","v":""},null,null,null,null,null,null,"",null,null,0,null,1,"indip"]
["",null,{"$f":"IF(ISERROR(VLOOKUP(B1908,database!$B$2:$C$6001,2,FALSE)),\"\",VLOOKUP(B1908,database!$B$2:$C$6001,2,FALSE))","v":""},null,null,null,"",null,null,null,{"$f":"IF(ISERROR(VLOOKUP(B1908,database!$B$2:$D$6001,3,FALSE)),\"\",VLOOKUP(B1908,database!$B$2:$D$6001,3,FALSE))","v":""},null,null,null,null,null,null,"",null,null,0,null,1,"indip"]
["",null,{"$f":"IF(ISERROR(VLOOKUP(B1913,database!$B$2:$C$6001,2,FALSE)),\"\",VLOOKUP(B1913,database!$B$2:$C$6001,2,FALSE))","v":""},null,null,null,"",null,null,null,{"$f":"IF(ISERROR(VLOOKUP(B1913,database!$B$2:$D$6001,3,FALSE)),\"\",VLOOKUP(B1913,database!$B$2:$D$6001,3,FALSE))","v":""},null,null,null,null,null,null,"",null,null,0,null,1,"indip"]
["",null,{"$f":"IF(ISERROR(VLOOKUP(B1919,database!$B$2:$C$6001,2,FALSE)),\"\",VLOOKUP(B1919,database!$B$2:$C$6001,2,FALSE))","v":""},null,null,null,"",null,null,null,{"$f":"IF(ISERROR(VLOOKUP(B1919,database!$B$2:$D$6001,3,FALSE)),\"\",VLOOKUP(B1919,database!$B$2:$D$6001,3,FALSE))","v":""},null,null,null,null,null,null,"",null,null,0,null,1,"indip"]
["",null,{"$f":"IF(ISERROR(VLOOKUP(B1924,database!$B$2:$C$6001,2,FALSE)),\"\",VLOOKUP(B1924,database!$B$2:$C$6001,2,FALSE))","v":""},null,null,null,"",null,null,null,{"$f":"IF(ISERROR(VLOOKUP(B1924,database!$B$2:$D$6001,3,FALSE)),\"\",VLOOKUP(B1924,database!$B$2:$D$6001,3,FALSE))","v":""},null,null,null,null,null,null,"",null,null,{"$f":"IFERROR(INDEX(M$39:N$140,MATCH(B1924,M$39:M$140,0),2),0)","v":0},null,{"$f":"IF(AND(U1924=0,C1924=\"\"),1,2)","v":1},{"$f":"IF(B1924=\"-\",\"\",IF(OR(B1924=M$39,B1924=M$40,B1924=M$41,B1924=M$42,B1924=M$43,B1924=M$44,B1924=M$45,B1924=M$46,B1924=M$47,,B1924=M$50,B1924=M$51,B1924=M$52,B1924=M$53,B1924=M$54,B1924=M$55,B1924=M$56,B1924=M$57,B1924=M$70),\"\",IF(C1924=\"\",\"indip\",F1924)))","v":"indip"}]
["",null,{"$f":"IF(ISERROR(VLOOKUP(B1928,database!$B$2:$C$6001,2,FALSE)),\"\",VLOOKUP(B1928,database!$B$2:$C$6001,2,FALSE))","v":""},null,null,null,"",null,null,null,{"$f":"IF(ISERROR(VLOOKUP(B1928,database!$B$2:$D$6001,3,FALSE)),\"\",VLOOKUP(B1928,database!$B$2:$D$6001,3,FALSE))","v":""},null,null,null,null,null,null,"",null,null,0,null,1,"indip"]
["",null,{"$f":"IF(ISERROR(VLOOKUP(B1929,database!$B$2:$C$6001,2,FALSE)),\"\",VLOOKUP(B1929,database!$B$2:$C$6001,2,FALSE))","v":""},null,null,null,"",null,null,null,{"$f":"IF(ISERROR(VLOOKUP(B1929,database!$B$2:$D$6001,3,FALSE)),\"\",VLOOKUP(B1929,database!$B$2:$D$6001,3,FALSE))","v":""},null,null,null,null,null,null,"",null,null,0,null,1,"indip"]
["",null,{"$f":"IF(ISERROR(VLOOKUP(B1934,database!$B$2:$C$6001,2,FALSE)),\"\",VLOOKUP(B1934,database!$B$2:$C$6001,2,FALSE))","v":""},null,null,null,"",null,null,null,{"$f":"IF(ISERROR(VLOOKUP(B1934,database!$B$2:$D$6001,3,FALSE)),\"\",VLOOKUP(B1934,database!$B$2:$D$6001,3,FALSE))","v":""},null,null,null,null,null,null,"",null,null,0,null,1,"indip"]
["",null,{"$f":"IF(ISERROR(VLOOKUP(B1940,database!$B$2:$C$6001,2,FALSE)),\"\",VLOOKUP(B1940,database!$B$2:$C$6001,2,FALSE))","v":""},null,null,null,"",null,null,null,{"$f":"IF(ISERROR(VLOOKUP(B1940,database!$B$2:$D$6001,3,FALSE)),\"\",VLOOKUP(B1940,database!$B$2:$D$6001,3,FALSE))","v":""},null,null,null,null,null,null,"",null,null,0,null,1,"indip"]
["",null,{"$f":"IF(ISERROR(VLOOKUP(B1947,database!$B$2:$C$6001,2,FALSE)),\"\",VLOOKUP(B1947,database!$B$2:$C$6001,2,FALSE))","v":""},null,null,null,"",null,null,null,{"$f":"IF(ISERROR(VLOOKUP(B1947,database!$B$2:$D$6001,3,FALSE)),\"\",VLOOKUP(B1947,database!$B$2:$D$6001,3,FALSE))","v":""},null,null,null,null,null,null,"",null,null,0,null,1,"indip"]
["",null,{"$f":"IF(ISERROR(VLOOKUP(B1950,database!$B$2:$C$6001,2,FALSE)),\"\",VLOOKUP(B1950,database!$B$2:$C$6001,2,FALSE))","v":""},null,null,null,"",null,null,null,{"$f":"IF(ISERROR(VLOOKUP(B1950,database!$B$2:$D$6001,3,FALSE)),\"\",VLOOKUP(B1950,database!$B$2:$D$6001,3,FALSE))","v":""},null,null,null,null,null,null,"",null,null,0,null,1,"indip"]
["",null,{"$f":"IF(ISERROR(VLOOKUP(B1955,database!$B$2:$C$6001,2,FALSE)),\"\",VLOOKUP(B1955,database!$B$2:$C$6001,2,FALSE))","v":""},null,null,null,"",null,null,null,{"$f":"IF(ISERROR(VLOOKUP(B1955,database!$B$2:$D$6001,3,FALSE)),\"\",VLOOKUP(B1955,database!$B$2:$D$6001,3,FALSE))","v":""},null,null,null,null,null,null,"",null,null,0,null,1,"indip"]
["",null,{"$f":"IF(ISERROR(VLOOKUP(B1960,database!$B$2:$C$6001,2,FALSE)),\"\",VLOOKUP(B1960,database!$B$2:$C$6001,2,FALSE))","v":""},null,null,null,"",null,null,null,{"$f":"IF(ISERROR(VLOOKUP(B1960,database!$B$2:$D$6001,3,FALSE)),\"\",VLOOKUP(B1960,database!$B$2:$D$6001,3,FALSE))","v":""},null,null,null,null,null,null,"",null,null,0,null,1,"indip"]
["",null,{"$f":"IF(ISERROR(VLOOKUP(B1966,database!$B$2:$C$6001,2,FALSE)),\"\",VLOOKUP(B1966,database!$B$2:$C$6001,2,FALSE))","v":""},null,null,null,"",null,null,null,{"$f":"IF(ISERROR(VLOOKUP(B1966,database!$B$2:$D$6001,3,FALSE)),\"\",VLOOKUP(B1966,database!$B$2:$D$6001,3,FALSE))","v":""},null,null,null,null,null,null,"",null,null,0,null,1,"indip"]
["",null,{"$f":"IF(ISERROR(VLOOKUP(B1970,database!$B$2:$C$6001,2,FALSE)),\"\",VLOOKUP(B1970,database!$B$2:$C$6001,2,FALSE))","v":""},null,null,null,"",null,null,null,{"$f":"IF(ISERROR(VLOOKUP(B1970,database!$B$2:$D$6001,3,FALSE)),\"\",VLOOKUP(B1970,database!$B$2:$D$6001,3,FALSE))","v":""},null,null,null,null,null,null,"",null,null,0,null,1,"indip"]
["",null,{"$f":"IF(ISERROR(VLOOKUP(B1975,database!$B$2:$C$6001,2,FALSE)),\"\",VLOOKUP(B1975,database!$B$2:$C$6001,2,FALSE))","v":""},null,null,null,"",null,null,null,{"$f":"IF(ISERROR(VLOOKUP(B1975,database!$B$2:$D$6001,3,FALSE)),\"\",VLOOKUP(B1975,database!$B$2:$D$6001,3,FALSE))","v":""},null,null,null,null,null,null,"",null,null,0,null,1,"indip"]
["",null,{"$f":"IF(ISERROR(VLOOKUP(B1981,database!$B$2:$C$6001,2,FALSE)),\"\",VLOOKUP(B1981,database!$B$2:$C$6001,2,FALSE))","v":""},null,null,null,"",null,null,null,{"$f":"IF(ISERROR(VLOOKUP(B1981,database!$B$2:$D$6001,3,FALSE)),\"\",VLOOKUP(B1981,database!$B$2:$D$6001,3,FALSE))","v":""},null,null,null,null,null,null,"",null,null,0,null,1,"indip"]
["",null,{"$f":"IF(ISERROR(VLOOKUP(B1985,database!$B$2:$C$6001,2,FALSE)),\"\",VLOOKUP(B1985,database!$B$2:$C$6001,2,FALSE))","v":""},null,null,null,"",null,null,null,{"$f":"IF(ISERROR(VLOOKUP(B1985,database!$B$2:$D$6001,3,FALSE)),\"\",VLOOKUP(B1985,database!$B$2:$D$6001,3,FALSE))","v":""},null,null,null,null,null,null,"",null,null,0,null,1,"indip"]
["",null,{"$f":"IF(ISERROR(VLOOKUP(B1986,database!$B$2:$C$6001,2,FALSE)),\"\",VLOOKUP(B1986,database!$B$2:$C$6001,2,FALSE))","v":""},null,null,null,"",null,null,null,{"$f":"IF(ISERROR(VLOOKUP(B1986,database!$B$2:$D$6001,3,FALSE)),\"\",VLOOKUP(B1986,database!$B$2:$D$6001,3,FALSE))","v":""},null,null,null,null,null,null,"",null,null,0,null,1,"indip"]
["",null,{"$f":"IF(ISERROR(VLOOKUP(B1991,database!$B$2:$C$6001,2,FALSE)),\"\",VLOOKUP(B1991,database!$B$2:$C$6001,2,FALSE))","v":""},null,null,null,"",null,null,null,{"$f":"IF(ISERROR(VLOOKUP(B1991,database!$B$2:$D$6001,3,FALSE)),\"\",VLOOKUP(B1991,database!$B$2:$D$6001,3,FALSE))","v":""},null,null,null,null,null,null,"",null,null,0,null,1,"indip"]
["",null,{"$f":"IF(ISERROR(VLOOKUP(B1996,database!$B$2:$C$6001,2,FALSE)),\"\",VLOOKUP(B1996,database!$B$2:$C$6001,2,FALSE))","v":""},null,null,null,"",null,null,null,{"$f":"IF(ISERROR(VLOOKUP(B1996,database!$B$2:$D$6001,3,FALSE)),\"\",VLOOKUP(B1996,database!$B$2:$D$6001,3,FALSE))","v":""},null,null,null,null,null,null,"",null,null,0,null,1,"indip"]
["",null,{"$f":"IF(ISERROR(VLOOKUP(B2004,database!$B$2:$C$6001,2,FALSE)),\"\",VLOOKUP(B2004,database!$B$2:$C$6001,2,FALSE))","v":""},null,null,null,"",null,null,null,{"$f":"IF(ISERROR(VLOOKUP(B2004,database!$B$2:$D$6001,3,FALSE)),\"\",VLOOKUP(B2004,database!$B$2:$D$6001,3,FALSE))","v":""},null,null,null,null,null,null,"",null,null,0,null,1,"indip"]
["",null,{"$f":"IF(ISERROR(VLOOKUP(B2006,database!$B$2:$C$6001,2,FALSE)),\"\",VLOOKUP(B2006,database!$B$2:$C$6001,2,FALSE))","v":""},null,null,null,"",null,null,null,{"$f":"IF(ISERROR(VLOOKUP(B2006,database!$B$2:$D$6001,3,FALSE)),\"\",VLOOKUP(B2006,database!$B$2:$D$6001,3,FALSE))","v":""},null,null,null,null,null,null,"",null,null,0,null,1,"indip"]
["",null,{"$f":"IF(ISERROR(VLOOKUP(B2011,database!$B$2:$C$6001,2,FALSE)),\"\",VLOOKUP(B2011,database!$B$2:$C$6001,2,FALSE))","v":""},null,null,null,"",null,null,null,{"$f":"IF(ISERROR(VLOOKUP(B2011,database!$B$2:$D$6001,3,FALSE)),\"\",VLOOKUP(B2011,database!$B$2:$D$6001,3,FALSE))","v":""},null,null,null,null,null,null,"",null,null,0,null,1,"indip"]
["",null,{"$f":"IF(ISERROR(VLOOKUP(B2017,database!$B$2:$C$6001,2,FALSE)),\"\",VLOOKUP(B2017,database!$B$2:$C$6001,2,FALSE))","v":""},null,null,null,"",null,null,null,{"$f":"IF(ISERROR(VLOOKUP(B2017,database!$B$2:$D$6001,3,FALSE)),\"\",VLOOKUP(B2017,database!$B$2:$D$6001,3,FALSE))","v":""},null,null,null,null,null,null,"",null,null,0,null,1,"indip"]
["",null,{"$f":"IF(ISERROR(VLOOKUP(B2022,database!$B$2:$C$6001,2,FALSE)),\"\",VLOOKUP(B2022,database!$B$2:$C$6001,2,FALSE))","v":""},null,null,null,"",null,null,null,{"$f":"IF(ISERROR(VLOOKUP(B2022,database!$B$2:$D$6001,3,FALSE)),\"\",VLOOKUP(B2022,database!$B$2:$D$6001,3,FALSE))","v":""},null,null,null,null,null,null,"",null,null,0,null,1,"indip"]
["",null,{"$f":"IF(ISERROR(VLOOKUP(B2025,database!$B$2:$C$6001,2,FALSE)),\"\",VLOOKUP(B2025,database!$B$2:$C$6001,2,FALSE))","v":""},null,null,null,"",null,null,null,{"$f":"IF(ISERROR(VLOOKUP(B2025,database!$B$2:$D$6001,3,FALSE)),\"\",VLOOKUP(B2025,database!$B$2:$D$6001,3,FALSE))","v":""},null,null,null,null,null,null,"",null,null,0,null,1,"indip"]
["",null,{"$f":"IF(ISERROR(VLOOKUP(B2032,database!$B$2:$C$6001,2,FALSE)),\"\",VLOOKUP(B2032,database!$B$2:$C$6001,2,FALSE))","v":""},null,null,null,"",null,null,null,{"$f":"IF(ISERROR(VLOOKUP(B2032,database!$B$2:$D$6001,3,FALSE)),\"\",VLOOKUP(B2032,database!$B$2:$D$6001,3,FALSE))","v":""},null,null,null,null,null,null,"",null,null,0,null,1,"indip"]
["",null,{"$f":"IF(ISERROR(VLOOKUP(B2037,database!$B$2:$C$6001,2,FALSE)),\"\",VLOOKUP(B2037,database!$B$2:$C$6001,2,FALSE))","v":""},null,null,null,"",null,null,null,{"$f":"IF(ISERROR(VLOOKUP(B2037,database!$B$2:$D$6001,3,FALSE)),\"\",VLOOKUP(B2037,database!$B$2:$D$6001,3,FALSE))","v":""},null,null,null,null,null,null,"",null,null,0,null,1,"indip"]
["",null,{"$f":"IF(ISERROR(VLOOKUP(B2043,database!$B$2:$C$6001,2,FALSE)),\"\",VLOOKUP(B2043,database!$B$2:$C$6001,2,FALSE))","v":""},null,null,null,"",null,null,null,{"$f":"IF(ISERROR(VLOOKUP(B2043,database!$B$2:$D$6001,3,FALSE)),\"\",VLOOKUP(B2043,database!$B$2:$D$6001,3,FALSE))","v":""},null,null,null,null,null,null,"",null,null,0,null,1,"indip"]
["",null,{"$f":"IF(ISERROR(VLOOKUP(B2044,database!$B$2:$C$6001,2,FALSE)),\"\",VLOOKUP(B2044,database!$B$2:$C$6001,2,FALSE))","v":""},null,null,null,"",null,null,null,{"$f":"IF(ISERROR(VLOOKUP(B2044,database!$B$2:$D$6001,3,FALSE)),\"\",VLOOKUP(B2044,database!$B$2:$D$6001,3,FALSE))","v":""},null,null,null,null,null,null,"",null,null,0,null,1,"indip"]
["",null,{"$f":"IF(ISERROR(VLOOKUP(B2048,database!$B$2:$C$6001,2,FALSE)),\"\",VLOOKUP(B2048,database!$B$2:$C$6001,2,FALSE))","v":""},null,null,null,"",null,null,null,{"$f":"IF(ISERROR(VLOOKUP(B2048,database!$B$2:$D$6001,3,FALSE)),\"\",VLOOKUP(B2048,database!$B$2:$D$6001,3,FALSE))","v":""},null,null,null,null,null,null,"",null,null,0,null,1,"indip"]
[{"$f":"IF(B2053=\"\",\"\",ROW(A2050))","v":""},null,{"$f":"IF(ISERROR(VLOOKUP(B2053,database!$B$2:$C$6001,2,FALSE)),\"\",VLOOKUP(B2053,database!$B$2:$C$6001,2,FALSE))","v":""},null,null,null,{"$f":"IF(B2053=\"\",\"\",IF(B2053=\"-\",0,IF(W2053=1,1,IF(AND(U2053=0,F2053=\"SSB\"),2,IF(AND(U2053=0,F2053=\"DIGI\"),3,IF(AND(U2053=0,F2053=\"CW\"),5,U2053))))))","v":""},null,null,null,{"$f":"IF(ISERROR(VLOOKUP(B2053,database!$B$2:$D$6001,3,FALSE)),\"\",VLOOKUP(B2053,database!$B$2:$D$6001,3,FALSE))","v":""},null,null,null,null,null,null,{"$f":"LEFT(C2053,2)","v":""},null,null,0,null,1,"indip"]
["",null,{"$f":"IF(ISERROR(VLOOKUP(B2058,database!$B$2:$C$6001,2,FALSE)),\"\",VLOOKUP(B2058,database!$B$2:$C$6001,2,FALSE))","v":""},null,null,null,"",null,null,null,{"$f":"IF(ISERROR(VLOOKUP(B2058,database!$B$2:$D$6001,3,FALSE)),\"\",VLOOKUP(B2058,database!$B$2:$D$6001,3,FALSE))","v":""},null,null,null,null,null,null,"",null,null,0,null,1,"indip"]
["",null,{"$f":"IF(ISERROR(VLOOKUP(B2063,database!$B$2:$C$6001,2,FALSE)),\"\",VLOOKUP(B2063,database!$B$2:$C$6001,2,FALSE))","v":""},null,null,null,"",null,null,null,{"$f":"IF(ISERROR(VLOOKUP(B2063,database!$B$2:$D$6001,3,FALSE)),\"\",VLOOKUP(B2063,database!$B$2:$D$6001,3,FALSE))","v":""},null,null,null,null,null,null,"",null,null,0,null,1,"indip"]
["",null,{"$f":"IF(ISERROR(VLOOKUP(B2068,database!$B$2:$C$6001,2,FALSE)),\"\",VLOOKUP(B2068,database!$B$2:$C$6001,2,FALSE))","v":""},null,null,null,"",null,null,null,{"$f":"IF(ISERROR(VLOOKUP(B2068,database!$B$2:$D$6001,3,FALSE)),\"\",VLOOKUP(B2068,database!$B$2:$D$6001,3,FALSE))","v":""},null,null,null,null,null,null,"",null,null,0,null,1,"indip"]
["",null,{"$f":"IF(ISERROR(VLOOKUP(B2073,database!$B$2:$C$6001,2,FALSE)),\"\",VLOOKUP(B2073,database!$B$2:$C$6001,2,FALSE))","v":""},null,null,null,"",null,null,null,{"$f":"IF(ISERROR(VLOOKUP(B2073,database!$B$2:$D$6001,3,FALSE)),\"\",VLOOKUP(B2073,database!$B$2:$D$6001,3,FALSE))","v":""},null,null,null,null,null,null,"",null,null,0,null,1,"indip"]
["",null,{"$f":"IF(ISERROR(VLOOKUP(B2079,database!$B$2:$C$6001,2,FALSE)),\"\",VLOOKUP(B2079,database!$B$2:$C$6001,2,FALSE))","v":""},null,null,null,"",null,null,null,{"$f":"IF(ISERROR(VLOOKUP(B2079,database!$B$2:$D$6001,3,FALSE)),\"\",VLOOKUP(B2079,database!$B$2:$D$6001,3,FALSE))","v":""},null,null,null,null,null,null,"",null,null,0,null,1,"indip"]
["",null,{"$f":"IF(ISERROR(VLOOKUP(B2082,database!$B$2:$C$6001,2,FALSE)),\"\",VLOOKUP(B2082,database!$B$2:$C$6001,2,FALSE))","v":""},null,null,null,"",null,null,null,{"$f":"IF(ISERROR(VLOOKUP(B2082,database!$B$2:$D$6001,3,FALSE)),\"\",VLOOKUP(B2082,database!$B$2:$D$6001,3,FALSE))","v":""},null,null,null,null,null,null,"",null,null,0,null,1,"indip"]
["",null,{"$f":"IF(ISERROR(VLOOKUP(B2089,database!$B$2:$C$6001,2,FALSE)),\"\",VLOOKUP(B2089,database!$B$2:$C$6001,2,FALSE))","v":""},null,null,null,"",null,null,null,{"$f":"IF(ISERROR(VLOOKUP(B2089,database!$B$2:$D$6001,3,FALSE)),\"\",VLOOKUP(B2089,database!$B$2:$D$6001,3,FALSE))","v":""},null,null,null,null,null,null,"",null,null,0,null,1,"indip"]
["",null,{"$f":"IF(ISERROR(VLOOKUP(B2094,database!$B$2:$C$6001,2,FALSE)),\"\",VLOOKUP(B2094,database!$B$2:$C$6001,2,FALSE))","v":""},null,null,null,"",null,null,null,{"$f":"IF(ISERROR(VLOOKUP(B2094,database!$B$2:$D$6001,3,FALSE)),\"\",VLOOKUP(B2094,database!$B$2:$D$6001,3,FALSE))","v":""},null,null,null,null,null,null,"",null,null,0,null,1,"indip"]
["",null,{"$f":"IF(ISERROR(VLOOKUP(B2099,database!$B$2:$C$6001,2,FALSE)),\"\",VLOOKUP(B2099,database!$B$2:$C$6001,2,FALSE))","v":""},null,null,null,"",null,null,null,{"$f":"IF(ISERROR(VLOOKUP(B2099,database!$B$2:$D$6001,3,FALSE)),\"\",VLOOKUP(B2099,database!$B$2:$D$6001,3,FALSE))","v":""},null,null,null,null,null,null,"",null,null,0,null,1,"indip"]
["",null,{"$f":"IF(ISERROR(VLOOKUP(B2105,database!$B$2:$C$6001,2,FALSE)),\"\",VLOOKUP(B2105,database!$B$2:$C$6001,2,FALSE))","v":""},null,null,null,"",null,null,null,{"$f":"IF(ISERROR(VLOOKUP(B2105,database!$B$2:$D$6001,3,FALSE)),\"\",VLOOKUP(B2105,database!$B$2:$D$6001,3,FALSE))","v":""},null,null,null,null,null,null,"",null,null,0,null,1,"indip"]
["",null,{"$f":"IF(ISERROR(VLOOKUP(B2107,database!$B$2:$C$6001,2,FALSE)),\"\",VLOOKUP(B2107,database!$B$2:$C$6001,2,FALSE))","v":""},null,null,null,"",null,null,null,{"$f":"IF(ISERROR(VLOOKUP(B2107,database!$B$2:$D$6001,3,FALSE)),\"\",VLOOKUP(B2107,database!$B$2:$D$6001,3,FALSE))","v":""},null,null,null,null,null,null,"",null,null,0,null,1,"indip"]
["",null,{"$f":"IF(ISERROR(VLOOKUP(B2114,database!$B$2:$C$6001,2,FALSE)),\"\",VLOOKUP(B2114,database!$B$2:$C$6001,2,FALSE))","v":""},null,null,null,"",null,null,null,{"$f":"IF(ISERROR(VLOOKUP(B2114,database!$B$2:$D$6001,3,FALSE)),\"\",VLOOKUP(B2114,database!$B$2:$D$6001,3,FALSE))","v":""},null,null,null,null,null,null,"",null,null,0,null,1,"indip"]
["",null,{"$f":"IF(ISERROR(VLOOKUP(B2115,database!$B$2:$C$6001,2,FALSE)),\"\",VLOOKUP(B2115,database!$B$2:$C$6001,2,FALSE))","v":""},null,null,null,"",null,null,null,{"$f":"IF(ISERROR(VLOOKUP(B2115,database!$B$2:$D$6001,3,FALSE)),\"\",VLOOKUP(B2115,database!$B$2:$D$6001,3,FALSE))","v":""},null,null,null,null,null,null,"",null,null,0,null,1,"indip"]
["",null,{"$f":"IF(ISERROR(VLOOKUP(B2120,database!$B$2:$C$6001,2,FALSE)),\"\",VLOOKUP(B2120,database!$B$2:$C$6001,2,FALSE))","v":""},null,null,null,"",null,null,null,{"$f":"IF(ISERROR(VLOOKUP(B2120,database!$B$2:$D$6001,3,FALSE)),\"\",VLOOKUP(B2120,database!$B$2:$D$6001,3,FALSE))","v":""},null,null,null,null,null,null,"",null,null,0,null,1,"indip"]
["",null,{"$f":"IF(ISERROR(VLOOKUP(B2126,database!$B$2:$C$6001,2,FALSE)),\"\",VLOOKUP(B2126,database!$B$2:$C$6001,2,FALSE))","v":""},null,null,null,"",null,null,null,{"$f":"IF(ISERROR(VLOOKUP(B2126,database!$B$2:$D$6001,3,FALSE)),\"\",VLOOKUP(B2126,database!$B$2:$D$6001,3,FALSE))","v":""},null,null,null,null,null,null,"",null,null,0,null,1,"indip"]
["",null,{"$f":"IF(ISERROR(VLOOKUP(B2130,database!$B$2:$C$6001,2,FALSE)),\"\",VLOOKUP(B2130,database!$B$2:$C$6001,2,FALSE))","v":""},null,null,null,"",null,null,null,{"$f":"IF(ISERROR(VLOOKUP(B2130,database!$B$2:$D$6001,3,FALSE)),\"\",VLOOKUP(B2130,database!$B$2:$D$6001,3,FALSE))","v":""},null,null,null,null,null,null,"",null,null,0,null,1,"indip"]
["",null,{"$f":"IF(ISERROR(VLOOKUP(B2135,database!$B$2:$C$6001,2,FALSE)),\"\",VLOOKUP(B2135,database!$B$2:$C$6001,2,FALSE))","v":""},null,null,null,"",null,null,null,{"$f":"IF(ISERROR(VLOOKUP(B2135,database!$B$2:$D$6001,3,FALSE)),\"\",VLOOKUP(B2135,database!$B$2:$D$6001,3,FALSE))","v":""},null,null,null,null,null,null,"",null,null,0,null,1,"indip"]
["",null,{"$f":"IF(ISERROR(VLOOKUP(B2141,database!$B$2:$C$6001,2,FALSE)),\"\",VLOOKUP(B2141,database!$B$2:$C$6001,2,FALSE))","v":""},null,null,null,"",null,null,null,{"$f":"IF(ISERROR(VLOOKUP(B2141,database!$B$2:$D$6001,3,FALSE)),\"\",VLOOKUP(B2141,database!$B$2:$D$6001,3,FALSE))","v":""},null,null,null,null,null,null,"",null,null,0,null,1,"indip"]
["",null,{"$f":"IF(ISERROR(VLOOKUP(B2145,database!$B$2:$C$6001,2,FALSE)),\"\",VLOOKUP(B2145,database!$B$2:$C$6001,2,FALSE))","v":""},null,null,null,"",null,null,null,{"$f":"IF(ISERROR(VLOOKUP(B2145,database!$B$2:$D$6001,3,FALSE)),\"\",VLOOKUP(B2145,database!$B$2:$D$6001,3,FALSE))","v":""},null,null,null,null,null,null,"",null,null,0,null,1,"indip"]
["",null,{"$f":"IF(ISERROR(VLOOKUP(B2151,database!$B$2:$C$6001,2,FALSE)),\"\",VLOOKUP(B2151,database!$B$2:$C$6001,2,FALSE))","v":""},null,null,null,"",null,null,null,{"$f":"IF(ISERROR(VLOOKUP(B2151,database!$B$2:$D$6001,3,FALSE)),\"\",VLOOKUP(B2151,database!$B$2:$D$6001,3,FALSE))","v":""},null,null,null,null,null,null,"",null,null,0,null,1,"indip"]
["",null,{"$f":"IF(ISERROR(VLOOKUP(B2156,database!$B$2:$C$6001,2,FALSE)),\"\",VLOOKUP(B2156,database!$B$2:$C$6001,2,FALSE))","v":""},null,null,null,"",null,null,null,{"$f":"IF(ISERROR(VLOOKUP(B2156,database!$B$2:$D$6001,3,FALSE)),\"\",VLOOKUP(B2156,database!$B$2:$D$6001,3,FALSE))","v":""},null,null,null,null,null,null,"",null,null,0,null,1,"indip"]
["",null,{"$f":"IF(ISERROR(VLOOKUP(B2161,database!$B$2:$C$6001,2,FALSE)),\"\",VLOOKUP(B2161,database!$B$2:$C$6001,2,FALSE))","v":""},null,null,null,"",null,null,null,{"$f":"IF(ISERROR(VLOOKUP(B2161,database!$B$2:$D$6001,3,FALSE)),\"\",VLOOKUP(B2161,database!$B$2:$D$6001,3,FALSE))","v":""},null,null,null,null,null,null,"",null,null,0,null,1,"indip"]
["",null,{"$f":"IF(ISERROR(VLOOKUP(B2164,database!$B$2:$C$6001,2,FALSE)),\"\",VLOOKUP(B2164,database!$B$2:$C$6001,2,FALSE))","v":""},null,null,null,"",null,null,null,{"$f":"IF(ISERROR(VLOOKUP(B2164,database!$B$2:$D$6001,3,FALSE)),\"\",VLOOKUP(B2164,database!$B$2:$D$6001,3,FALSE))","v":""},null,null,null,null,null,null,"",null,null,0,null,1,"indip"]
["",null,{"$f":"IF(ISERROR(VLOOKUP(B2171,database!$B$2:$C$6001,2,FALSE)),\"\",VLOOKUP(B2171,database!$B$2:$C$6001,2,FALSE))","v":""},null,null,null,"",null,null,null,{"$f":"IF(ISERROR(VLOOKUP(B2171,database!$B$2:$D$6001,3,FALSE)),\"\",VLOOKUP(B2171,database!$B$2:$D$6001,3,FALSE))","v":""},null,null,null,null,null,null,"",null,null,0,null,1,"indip"]
["",null,{"$f":"IF(ISERROR(VLOOKUP(B2176,database!$B$2:$C$6001,2,FALSE)),\"\",VLOOKUP(B2176,database!$B$2:$C$6001,2,FALSE))","v":""},null,null,null,"",null,null,null,{"$f":"IF(ISERROR(VLOOKUP(B2176,database!$B$2:$D$6001,3,FALSE)),\"\",VLOOKUP(B2176,database!$B$2:$D$6001,3,FALSE))","v":""},null,null,null,null,null,null,"",null,null,0,null,1,"indip"]
["",null,{"$f":"IF(ISERROR(VLOOKUP(B2177,database!$B$2:$C$6001,2,FALSE)),\"\",VLOOKUP(B2177,database!$B$2:$C$6001,2,FALSE))","v":""},null,null,null,"",null,null,null,{"$f":"IF(ISERROR(VLOOKUP(B2177,database!$B$2:$D$6001,3,FALSE)),\"\",VLOOKUP(B2177,database!$B$2:$D$6001,3,FALSE))","v":""},null,null,null,null,null,null,"",null,null,0,null,1,"indip"]
["",null,{"$f":"IF(ISERROR(VLOOKUP(B2183,database!$B$2:$C$6001,2,FALSE)),\"\",VLOOKUP(B2183,database!$B$2:$C$6001,2,FALSE))","v":""},null,null,null,"",null,null,null,{"$f":"IF(ISERROR(VLOOKUP(B2183,database!$B$2:$D$6001,3,FALSE)),\"\",VLOOKUP(B2183,database!$B$2:$D$6001,3,FALSE))","v":""},null,null,null,null,null,null,"",null,null,0,null,1,"indip"]
["",null,{"$f":"IF(ISERROR(VLOOKUP(B2187,database!$B$2:$C$6001,2,FALSE)),\"\",VLOOKUP(B2187,database!$B$2:$C$6001,2,FALSE))","v":""},null,null,null,"",null,null,null,{"$f":"IF(ISERROR(VLOOKUP(B2187,database!$B$2:$D$6001,3,FALSE)),\"\",VLOOKUP(B2187,database!$B$2:$D$6001,3,FALSE))","v":""},null,null,null,null,null,null,"",null,null,0,null,1,"indip"]
["",null,{"$f":"IF(ISERROR(VLOOKUP(B2192,database!$B$2:$C$6001,2,FALSE)),\"\",VLOOKUP(B2192,database!$B$2:$C$6001,2,FALSE))","v":""},null,null,null,"",null,null,null,{"$f":"IF(ISERROR(VLOOKUP(B2192,database!$B$2:$D$6001,3,FALSE)),\"\",VLOOKUP(B2192,database!$B$2:$D$6001,3,FALSE))","v":""},null,null,null,null,null,null,"",null,null,0,null,1,"indip"]
["",null,{"$f":"IF(ISERROR(VLOOKUP(B2197,database!$B$2:$C$6001,2,FALSE)),\"\",VLOOKUP(B2197,database!$B$2:$C$6001,2,FALSE))","v":""},null,null,null,"",null,null,null,{"$f":"IF(ISERROR(VLOOKUP(B2197,database!$B$2:$D$6001,3,FALSE)),\"\",VLOOKUP(B2197,database!$B$2:$D$6001,3,FALSE))","v":""},null,null,null,null,null,null,"",null,null,0,null,1,"indip"]
["",null,{"$f":"IF(ISERROR(VLOOKUP(B2203,database!$B$2:$C$6001,2,FALSE)),\"\",VLOOKUP(B2203,database!$B$2:$C$6001,2,FALSE))","v":""},null,null,null,"",null,null,null,{"$f":"IF(ISERROR(VLOOKUP(B2203,database!$B$2:$D$6001,3,FALSE)),\"\",VLOOKUP(B2203,database!$B$2:$D$6001,3,FALSE))","v":""},null,null,null,null,null,null,"",null,null,0,null,1,"indip"]
["",null,{"$f":"IF(ISERROR(VLOOKUP(B2208,database!$B$2:$C$6001,2,FALSE)),\"\",VLOOKUP(B2208,database!$B$2:$C$6001,2,FALSE))","v":""},null,null,null,"",null,null,null,{"$f":"IF(ISERROR(VLOOKUP(B2208,database!$B$2:$D$6001,3,FALSE)),\"\",VLOOKUP(B2208,database!$B$2:$D$6001,3,FALSE))","v":""},null,null,null,null,null,null,"",null,null,0,null,1,"indip"]
["",null,{"$f":"IF(ISERROR(VLOOKUP(B2213,database!$B$2:$C$6001,2,FALSE)),\"\",VLOOKUP(B2213,database!$B$2:$C$6001,2,FALSE))","v":""},null,null,null,"",null,null,null,{"$f":"IF(ISERROR(VLOOKUP(B2213,database!$B$2:$D$6001,3,FALSE)),\"\",VLOOKUP(B2213,database!$B$2:$D$6001,3,FALSE))","v":""},null,null,null,null,null,null,"",null,null,0,null,1,"indip"]
["",null,{"$f":"IF(ISERROR(VLOOKUP(B2218,database!$B$2:$C$6001,2,FALSE)),\"\",VLOOKUP(B2218,database!$B$2:$C$6001,2,FALSE))","v":""},null,null,null,"",null,null,null,{"$f":"IF(ISERROR(VLOOKUP(B2218,database!$B$2:$D$6001,3,FALSE)),\"\",VLOOKUP(B2218,database!$B$2:$D$6001,3,FALSE))","v":""},null,null,null,null,null,null,"",null,null,0,null,1,"indip"]
["",null,{"$f":"IF(ISERROR(VLOOKUP(B2223,database!$B$2:$C$6001,2,FALSE)),\"\",VLOOKUP(B2223,database!$B$2:$C$6001,2,FALSE))","v":""},null,null,null,"",null,null,null,{"$f":"IF(ISERROR(VLOOKUP(B2223,database!$B$2:$D$6001,3,FALSE)),\"\",VLOOKUP(B2223,database!$B$2:$D$6001,3,FALSE))","v":""},null,null,null,null,null,null,"",null,null,0,null,1,"indip"]
["",null,{"$f":"IF(ISERROR(VLOOKUP(B2227,database!$B$2:$C$6001,2,FALSE)),\"\",VLOOKUP(B2227,database!$B$2:$C$6001,2,FALSE))","v":""},null,null,null,"",null,null,null,{"$f":"IF(ISERROR(VLOOKUP(B2227,database!$B$2:$D$6001,3,FALSE)),\"\",VLOOKUP(B2227,database!$B$2:$D$6001,3,FALSE))","v":""},null,null,null,null,null,null,"",null,null,0,null,1,"indip"]
["",null,{"$f":"IF(ISERROR(VLOOKUP(B2233,database!$B$2:$C$6001,2,FALSE)),\"\",VLOOKUP(B2233,database!$B$2:$C$6001,2,FALSE))","v":""},null,null,null,"",null,null,null,{"$f":"IF(ISERROR(VLOOKUP(B2233,database!$B$2:$D$6001,3,FALSE)),\"\",VLOOKUP(B2233,database!$B$2:$D$6001,3,FALSE))","v":""},null,null,null,null,null,null,"",null,null,0,null,1,"indip"]
["",null,{"$f":"IF(ISERROR(VLOOKUP(B2238,database!$B$2:$C$6001,2,FALSE)),\"\",VLOOKUP(B2238,database!$B$2:$C$6001,2,FALSE))","v":""},null,null,null,"",null,null,null,{"$f":"IF(ISERROR(VLOOKUP(B2238,database!$B$2:$D$6001,3,FALSE)),\"\",VLOOKUP(B2238,database!$B$2:$D$6001,3,FALSE))","v":""},null,null,null,null,null,null,"",null,null,0,null,1,"indip"]
["",null,{"$f":"IF(ISERROR(VLOOKUP(B2239,database!$B$2:$C$6001,2,FALSE)),\"\",VLOOKUP(B2239,database!$B$2:$C$6001,2,FALSE))","v":""},null,null,null,"",null,null,null,{"$f":"IF(ISERROR(VLOOKUP(B2239,database!$B$2:$D$6001,3,FALSE)),\"\",VLOOKUP(B2239,database!$B$2:$D$6001,3,FALSE))","v":""},null,null,null,null,null,null,"",null,null,0,null,1,"indip"]
["",null,{"$f":"IF(ISERROR(VLOOKUP(B2246,database!$B$2:$C$6001,2,FALSE)),\"\",VLOOKUP(B2246,database!$B$2:$C$6001,2,FALSE))","v":""},null,null,null,"",null,null,null,{"$f":"IF(ISERROR(VLOOKUP(B2246,database!$B$2:$D$6001,3,FALSE)),\"\",VLOOKUP(B2246,database!$B$2:$D$6001,3,FALSE))","v":""},null,null,null,null,null,null,"",null,null,0,null,1,"indip"]
["",null,{"$f":"IF(ISERROR(VLOOKUP(B2249,database!$B$2:$C$6001,2,FALSE)),\"\",VLOOKUP(B2249,database!$B$2:$C$6001,2,FALSE))","v":""},null,null,null,"",null,null,null,{"$f":"IF(ISERROR(VLOOKUP(B2249,database!$B$2:$D$6001,3,FALSE)),\"\",VLOOKUP(B2249,database!$B$2:$D$6001,3,FALSE))","v":""},null,null,null,null,null,null,"",null,null,0,null,1,"indip"]
["",null,{"$f":"IF(ISERROR(VLOOKUP(B2254,database!$B$2:$C$6001,2,FALSE)),\"\",VLOOKUP(B2254,database!$B$2:$C$6001,2,FALSE))","v":""},null,null,null,"",null,null,null,{"$f":"IF(ISERROR(VLOOKUP(B2254,database!$B$2:$D$6001,3,FALSE)),\"\",VLOOKUP(B2254,database!$B$2:$D$6001,3,FALSE))","v":""},null,null,null,null,null,null,"",null,null,0,null,1,"indip"]
["",null,{"$f":"IF(ISERROR(VLOOKUP(B2259,database!$B$2:$C$6001,2,FALSE)),\"\",VLOOKUP(B2259,database!$B$2:$C$6001,2,FALSE))","v":""},null,null,null,"",null,null,null,{"$f":"IF(ISERROR(VLOOKUP(B2259,database!$B$2:$D$6001,3,FALSE)),\"\",VLOOKUP(B2259,database!$B$2:$D$6001,3,FALSE))","v":""},null,null,null,null,null,null,"",null,null,0,null,1,"indip"]
["",null,{"$f":"IF(ISERROR(VLOOKUP(B2265,database!$B$2:$C$6001,2,FALSE)),\"\",VLOOKUP(B2265,database!$B$2:$C$6001,2,FALSE))","v":""},null,null,null,"",null,null,null,{"$f":"IF(ISERROR(VLOOKUP(B2265,database!$B$2:$D$6001,3,FALSE)),\"\",VLOOKUP(B2265,database!$B$2:$D$6001,3,FALSE))","v":""},null,null,null,null,null,null,"",null,null,0,null,1,"indip"]
["",null,{"$f":"IF(ISERROR(VLOOKUP(B2269,database!$B$2:$C$6001,2,FALSE)),\"\",VLOOKUP(B2269,database!$B$2:$C$6001,2,FALSE))","v":""},null,null,null,"",null,null,null,{"$f":"IF(ISERROR(VLOOKUP(B2269,database!$B$2:$D$6001,3,FALSE)),\"\",VLOOKUP(B2269,database!$B$2:$D$6001,3,FALSE))","v":""},null,null,null,null,null,null,"",null,null,0,null,1,"indip"]
["",null,{"$f":"IF(ISERROR(VLOOKUP(B2274,database!$B$2:$C$6001,2,FALSE)),\"\",VLOOKUP(B2274,database!$B$2:$C$6001,2,FALSE))","v":""},null,null,null,"",null,null,null,{"$f":"IF(ISERROR(VLOOKUP(B2274,database!$B$2:$D$6001,3,FALSE)),\"\",VLOOKUP(B2274,database!$B$2:$D$6001,3,FALSE))","v":""},null,null,null,null,null,null,"",null,null,0,null,1,"indip"]
["",null,{"$f":"IF(ISERROR(VLOOKUP(B2280,database!$B$2:$C$6001,2,FALSE)),\"\",VLOOKUP(B2280,database!$B$2:$C$6001,2,FALSE))","v":""},null,null,null,"",null,null,null,{"$f":"IF(ISERROR(VLOOKUP(B2280,database!$B$2:$D$6001,3,FALSE)),\"\",VLOOKUP(B2280,database!$B$2:$D$6001,3,FALSE))","v":""},null,null,null,null,null,null,"",null,null,0,null,1,"indip"]
["",null,{"$f":"IF(ISERROR(VLOOKUP(B2285,database!$B$2:$C$6001,2,FALSE)),\"\",VLOOKUP(B2285,database!$B$2:$C$6001,2,FALSE))","v":""},null,null,null,"",null,null,null,{"$f":"IF(ISERROR(VLOOKUP(B2285,database!$B$2:$D$6001,3,FALSE)),\"\",VLOOKUP(B2285,database!$B$2:$D$6001,3,FALSE))","v":""},null,null,null,null,null,null,"",null,null,0,null,1,"indip"]
["",null,{"$f":"IF(ISERROR(VLOOKUP(B2290,database!$B$2:$C$6001,2,FALSE)),\"\",VLOOKUP(B2290,database!$B$2:$C$6001,2,FALSE))","v":""},null,null,null,"",null,null,null,{"$f":"IF(ISERROR(VLOOKUP(B2290,database!$B$2:$D$6001,3,FALSE)),\"\",VLOOKUP(B2290,database!$B$2:$D$6001,3,FALSE))","v":""},null,null,null,null,null,null,"",null,null,0,null,1,"indip"]
["",null,{"$f":"IF(ISERROR(VLOOKUP(B2295,database!$B$2:$C$6001,2,FALSE)),\"\",VLOOKUP(B2295,database!$B$2:$C$6001,2,FALSE))","v":""},null,null,null,"",null,null,null,{"$f":"IF(ISERROR(VLOOKUP(B2295,database!$B$2:$D$6001,3,FALSE)),\"\",VLOOKUP(B2295,database!$B$2:$D$6001,3,FALSE))","v":""},null,null,null,null,null,null,"",null,null,0,null,1,"indip"]
["",null,{"$f":"IF(ISERROR(VLOOKUP(B2300,database!$B$2:$C$6001,2,FALSE)),\"\",VLOOKUP(B2300,database!$B$2:$C$6001,2,FALSE))","v":""},null,null,null,"",null,null,null,{"$f":"IF(ISERROR(VLOOKUP(B2300,database!$B$2:$D$6001,3,FALSE)),\"\",VLOOKUP(B2300,database!$B$2:$D$6001,3,FALSE))","v":""},null,null,null,null,null,null,"",null,null,0,null,1,"indip"]
["",null,{"$f":"IF(ISERROR(VLOOKUP(B2301,database!$B$2:$C$6001,2,FALSE)),\"\",VLOOKUP(B2301,database!$B$2:$C$6001,2,FALSE))","v":""},null,null,null,"",null,null,null,{"$f":"IF(ISERROR(VLOOKUP(B2301,database!$B$2:$D$6001,3,FALSE)),\"\",VLOOKUP(B2301,database!$B$2:$D$6001,3,FALSE))","v":""},null,null,null,null,null,null,"",null,null,0,null,1,"indip"]
[{"$f":"IF(B2309=\"\",\"\",ROW(A2306))","v":""},null,{"$f":"IF(ISERROR(VLOOKUP(B2309,database!$B$2:$C$6001,2,FALSE)),\"\",VLOOKUP(B2309,database!$B$2:$C$6001,2,FALSE))","v":""},null,null,null,{"$f":"IF(B2309=\"\",\"\",IF(B2309=\"-\",0,IF(W2309=1,1,IF(AND(U2309=0,F2309=\"SSB\"),2,IF(AND(U2309=0,F2309=\"DIGI\"),3,IF(AND(U2309=0,F2309=\"CW\"),5,U2309))))))","v":""},null,null,null,{"$f":"IF(ISERROR(VLOOKUP(B2309,database!$B$2:$D$6001,3,FALSE)),\"\",VLOOKUP(B2309,database!$B$2:$D$6001,3,FALSE))","v":""},null,null,null,null,null,null,{"$f":"LEFT(C2309,2)","v":""},null,null,0,null,1,"indip"]
["",null,{"$f":"IF(ISERROR(VLOOKUP(B2311,database!$B$2:$C$6001,2,FALSE)),\"\",VLOOKUP(B2311,database!$B$2:$C$6001,2,FALSE))","v":""},null,null,null,"",null,null,null,{"$f":"IF(ISERROR(VLOOKUP(B2311,database!$B$2:$D$6001,3,FALSE)),\"\",VLOOKUP(B2311,database!$B$2:$D$6001,3,FALSE))","v":""},null,null,null,null,null,null,"",null,null,0,null,1,"indip"]
["",null,{"$f":"IF(ISERROR(VLOOKUP(B2316,database!$B$2:$C$6001,2,FALSE)),\"\",VLOOKUP(B2316,database!$B$2:$C$6001,2,FALSE))","v":""},null,null,null,"",null,null,null,{"$f":"IF(ISERROR(VLOOKUP(B2316,database!$B$2:$D$6001,3,FALSE)),\"\",VLOOKUP(B2316,database!$B$2:$D$6001,3,FALSE))","v":""},null,null,null,null,null,null,"",null,null,0,null,1,"indip"]
["",null,{"$f":"IF(ISERROR(VLOOKUP(B2321,database!$B$2:$C$6001,2,FALSE)),\"\",VLOOKUP(B2321,database!$B$2:$C$6001,2,FALSE))","v":""},null,null,null,"",null,null,null,{"$f":"IF(ISERROR(VLOOKUP(B2321,database!$B$2:$D$6001,3,FALSE)),\"\",VLOOKUP(B2321,database!$B$2:$D$6001,3,FALSE))","v":""},null,null,null,null,null,null,"",null,null,0,null,1,"indip"]
["",null,{"$f":"IF(ISERROR(VLOOKUP(B2328,database!$B$2:$C$6001,2,FALSE)),\"\",VLOOKUP(B2328,database!$B$2:$C$6001,2,FALSE))","v":""},null,null,null,"",null,null,null,{"$f":"IF(ISERROR(VLOOKUP(B2328,database!$B$2:$D$6001,3,FALSE)),\"\",VLOOKUP(B2328,database!$B$2:$D$6001,3,FALSE))","v":""},null,null,null,null,null,null,"",null,null,0,null,1,"indip"]
["",null,{"$f":"IF(ISERROR(VLOOKUP(B2331,database!$B$2:$C$6001,2,FALSE)),\"\",VLOOKUP(B2331,database!$B$2:$C$6001,2,FALSE))","v":""},null,null,null,"",null,null,null,{"$f":"IF(ISERROR(VLOOKUP(B2331,database!$B$2:$D$6001,3,FALSE)),\"\",VLOOKUP(B2331,database!$B$2:$D$6001,3,FALSE))","v":""},null,null,null,null,null,null,"",null,null,0,null,1,"indip"]
["",null,{"$f":"IF(ISERROR(VLOOKUP(B2336,database!$B$2:$C$6001,2,FALSE)),\"\",VLOOKUP(B2336,database!$B$2:$C$6001,2,FALSE))","v":""},null,null,null,"",null,null,null,{"$f":"IF(ISERROR(VLOOKUP(B2336,database!$B$2:$D$6001,3,FALSE)),\"\",VLOOKUP(B2336,database!$B$2:$D$6001,3,FALSE))","v":""},null,null,null,null,null,null,"",null,null,0,null,1,"indip"]
["",null,{"$f":"IF(ISERROR(VLOOKUP(B2342,database!$B$2:$C$6001,2,FALSE)),\"\",VLOOKUP(B2342,database!$B$2:$C$6001,2,FALSE))","v":""},null,null,null,"",null,null,null,{"$f":"IF(ISERROR(VLOOKUP(B2342,database!$B$2:$D$6001,3,FALSE)),\"\",VLOOKUP(B2342,database!$B$2:$D$6001,3,FALSE))","v":""},null,null,null,null,null,null,"",null,null,0,null,1,"indip"]
["",null,{"$f":"IF(ISERROR(VLOOKUP(B2347,database!$B$2:$C$6001,2,FALSE)),\"\",VLOOKUP(B2347,database!$B$2:$C$6001,2,FALSE))","v":""},null,null,null,"",null,null,null,{"$f":"IF(ISERROR(VLOOKUP(B2347,database!$B$2:$D$6001,3,FALSE)),\"\",VLOOKUP(B2347,database!$B$2:$D$6001,3,FALSE))","v":""},null,null,null,null,null,null,"",null,null,0,null,1,"indip"]
["",null,{"$f":"IF(ISERROR(VLOOKUP(B2352,database!$B$2:$C$6001,2,FALSE)),\"\",VLOOKUP(B2352,database!$B$2:$C$6001,2,FALSE))","v":""},null,null,null,"",null,null,null,{"$f":"IF(ISERROR(VLOOKUP(B2352,database!$B$2:$D$6001,3,FALSE)),\"\",VLOOKUP(B2352,database!$B$2:$D$6001,3,FALSE))","v":""},null,null,null,null,null,null,"",null,null,0,null,1,"indip"]
["",null,{"$f":"IF(ISERROR(VLOOKUP(B2357,database!$B$2:$C$6001,2,FALSE)),\"\",VLOOKUP(B2357,database!$B$2:$C$6001,2,FALSE))","v":""},null,null,null,"",null,null,null,{"$f":"IF(ISERROR(VLOOKUP(B2357,database!$B$2:$D$6001,3,FALSE)),\"\",VLOOKUP(B2357,database!$B$2:$D$6001,3,FALSE))","v":""},null,null,null,null,null,null,"",null,null,0,null,1,"indip"]
["",null,{"$f":"IF(ISERROR(VLOOKUP(B2362,database!$B$2:$C$6001,2,FALSE)),\"\",VLOOKUP(B2362,database!$B$2:$C$6001,2,FALSE))","v":""},null,null,null,"",null,null,null,{"$f":"IF(ISERROR(VLOOKUP(B2362,database!$B$2:$D$6001,3,FALSE)),\"\",VLOOKUP(B2362,database!$B$2:$D$6001,3,FALSE))","v":""},null,null,null,null,null,null,"",null,null,0,null,1,"indip"]
["",null,{"$f":"IF(ISERROR(VLOOKUP(B2366,database!$B$2:$C$6001,2,FALSE)),\"\",VLOOKUP(B2366,database!$B$2:$C$6001,2,FALSE))","v":""},null,null,null,"",null,null,null,{"$f":"IF(ISERROR(VLOOKUP(B2366,database!$B$2:$D$6001,3,FALSE)),\"\",VLOOKUP(B2366,database!$B$2:$D$6001,3,FALSE))","v":""},null,null,null,null,null,null,"",null,null,0,null,1,"indip"]
["",null,{"$f":"IF(ISERROR(VLOOKUP(B2367,database!$B$2:$C$6001,2,FALSE)),\"\",VLOOKUP(B2367,database!$B$2:$C$6001,2,FALSE))","v":""},null,null,null,"",null,null,null,{"$f":"IF(ISERROR(VLOOKUP(B2367,database!$B$2:$D$6001,3,FALSE)),\"\",VLOOKUP(B2367,database!$B$2:$D$6001,3,FALSE))","v":""},null,null,null,null,null,null,"",null,null,0,null,1,"indip"]
[{"$f":"IF(B2373=\"\",\"\",ROW(A2370))","v":""},null,{"$f":"IF(ISERROR(VLOOKUP(B2373,database!$B$2:$C$6001,2,FALSE)),\"\",VLOOKUP(B2373,database!$B$2:$C$6001,2,FALSE))","v":""},null,null,null,{"$f":"IF(B2373=\"\",\"\",IF(B2373=\"-\",0,IF(W2373=1,1,IF(AND(U2373=0,F2373=\"SSB\"),2,IF(AND(U2373=0,F2373=\"DIGI\"),3,IF(AND(U2373=0,F2373=\"CW\"),5,U2373))))))","v":""},null,null,null,{"$f":"IF(ISERROR(VLOOKUP(B2373,database!$B$2:$D$6001,3,FALSE)),\"\",VLOOKUP(B2373,database!$B$2:$D$6001,3,FALSE))","v":""},null,null,null,null,null,null,{"$f":"LEFT(C2373,2)","v":""},null,null,0,null,1,"indip"]
["",null,{"$f":"IF(ISERROR(VLOOKUP(B2378,database!$B$2:$C$6001,2,FALSE)),\"\",VLOOKUP(B2378,database!$B$2:$C$6001,2,FALSE))","v":""},null,null,null,"",null,null,null,{"$f":"IF(ISERROR(VLOOKUP(B2378,database!$B$2:$D$6001,3,FALSE)),\"\",VLOOKUP(B2378,database!$B$2:$D$6001,3,FALSE))","v":""},null,null,null,null,null,null,"",null,null,0,null,1,"indip"]
["",null,{"$f":"IF(ISERROR(VLOOKUP(B2383,database!$B$2:$C$6001,2,FALSE)),\"\",VLOOKUP(B2383,database!$B$2:$C$6001,2,FALSE))","v":""},null,null,null,"",null,null,null,{"$f":"IF(ISERROR(VLOOKUP(B2383,database!$B$2:$D$6001,3,FALSE)),\"\",VLOOKUP(B2383,database!$B$2:$D$6001,3,FALSE))","v":""},null,null,null,null,null,null,"",null,null,0,null,1,"indip"]
["",null,{"$f":"IF(ISERROR(VLOOKUP(B2387,database!$B$2:$C$6001,2,FALSE)),\"\",VLOOKUP(B2387,database!$B$2:$C$6001,2,FALSE))","v":""},null,null,null,"",null,null,null,{"$f":"IF(ISERROR(VLOOKUP(B2387,database!$B$2:$D$6001,3,FALSE)),\"\",VLOOKUP(B2387,database!$B$2:$D$6001,3,FALSE))","v":""},null,null,null,null,null,null,"",null,null,0,null,1,"indip"]
["",null,{"$f":"IF(ISERROR(VLOOKUP(B2393,database!$B$2:$C$6001,2,FALSE)),\"\",VLOOKUP(B2393,database!$B$2:$C$6001,2,FALSE))","v":""},null,null,null,"",null,null,null,{"$f":"IF(ISERROR(VLOOKUP(B2393,database!$B$2:$D$6001,3,FALSE)),\"\",VLOOKUP(B2393,database!$B$2:$D$6001,3,FALSE))","v":""},null,null,null,null,null,null,"",null,null,0,null,1,"indip"]
["",null,{"$f":"IF(ISERROR(VLOOKUP(B2398,database!$B$2:$C$6001,2,FALSE)),\"\",VLOOKUP(B2398,database!$B$2:$C$6001,2,FALSE))","v":""},null,null,null,"",null,null,null,{"$f":"IF(ISERROR(VLOOKUP(B2398,database!$B$2:$D$6001,3,FALSE)),\"\",VLOOKUP(B2398,database!$B$2:$D$6001,3,FALSE))","v":""},null,null,null,null,null,null,"",null,null,0,null,1,"indip"]
["",null,{"$f":"IF(ISERROR(VLOOKUP(B2404,database!$B$2:$C$6001,2,FALSE)),\"\",VLOOKUP(B2404,database!$B$2:$C$6001,2,FALSE))","v":""},null,null,null,"",null,null,null,{"$f":"IF(ISERROR(VLOOKUP(B2404,database!$B$2:$D$6001,3,FALSE)),\"\",VLOOKUP(B2404,database!$B$2:$D$6001,3,FALSE))","v":""},null,null,null,null,null,null,"",null,null,0,null,1,"indip"]
["",null,{"$f":"IF(ISERROR(VLOOKUP(B2406,database!$B$2:$C$6001,2,FALSE)),\"\",VLOOKUP(B2406,database!$B$2:$C$6001,2,FALSE))","v":""},null,null,null,"",null,null,null,{"$f":"IF(ISERROR(VLOOKUP(B2406,database!$B$2:$D$6001,3,FALSE)),\"\",VLOOKUP(B2406,database!$B$2:$D$6001,3,FALSE))","v":""},null,null,null,null,null,null,"",null,null,0,null,1,"indip"]
["",null,{"$f":"IF(ISERROR(VLOOKUP(B2414,database!$B$2:$C$6001,2,FALSE)),\"\",VLOOKUP(B2414,database!$B$2:$C$6001,2,FALSE))","v":""},null,null,null,"",null,null,null,{"$f":"IF(ISERROR(VLOOKUP(B2414,database!$B$2:$D$6001,3,FALSE)),\"\",VLOOKUP(B2414,database!$B$2:$D$6001,3,FALSE))","v":""},null,null,null,null,null,null,"",null,null,0,null,1,"indip"]
["",null,{"$f":"IF(ISERROR(VLOOKUP(B2419,database!$B$2:$C$6001,2,FALSE)),\"\",VLOOKUP(B2419,database!$B$2:$C$6001,2,FALSE))","v":""},null,null,null,"",null,null,null,{"$f":"IF(ISERROR(VLOOKUP(B2419,database!$B$2:$D$6001,3,FALSE)),\"\",VLOOKUP(B2419,database!$B$2:$D$6001,3,FALSE))","v":""},null,null,null,null,null,null,"",null,null,0,null,1,"indip"]
["",null,{"$f":"IF(ISERROR(VLOOKUP(B2424,database!$B$2:$C$6001,2,FALSE)),\"\",VLOOKUP(B2424,database!$B$2:$C$6001,2,FALSE))","v":""},null,null,null,"",null,null,null,{"$f":"IF(ISERROR(VLOOKUP(B2424,database!$B$2:$D$6001,3,FALSE)),\"\",VLOOKUP(B2424,database!$B$2:$D$6001,3,FALSE))","v":""},null,null,null,null,null,null,"",null,null,0,null,1,"indip"]
["",null,{"$f":"IF(ISERROR(VLOOKUP(B2425,database!$B$2:$C$6001,2,FALSE)),\"\",VLOOKUP(B2425,database!$B$2:$C$6001,2,FALSE))","v":""},null,null,null,"",null,null,null,{"$f":"IF(ISERROR(VLOOKUP(B2425,database!$B$2:$D$6001,3,FALSE)),\"\",VLOOKUP(B2425,database!$B$2:$D$6001,3,FALSE))","v":""},null,null,null,null,null,null,"",null,null,0,null,1,"indip"]
["",null,{"$f":"IF(ISERROR(VLOOKUP(B2429,database!$B$2:$C$6001,2,FALSE)),\"\",VLOOKUP(B2429,database!$B$2:$C$6001,2,FALSE))","v":""},null,null,null,"",null,null,null,{"$f":"IF(ISERROR(VLOOKUP(B2429,database!$B$2:$D$6001,3,FALSE)),\"\",VLOOKUP(B2429,database!$B$2:$D$6001,3,FALSE))","v":""},null,null,null,null,null,null,"",null,null,0,null,1,"indip"]
["",null,{"$f":"IF(ISERROR(VLOOKUP(B2434,database!$B$2:$C$6001,2,FALSE)),\"\",VLOOKUP(B2434,database!$B$2:$C$6001,2,FALSE))","v":""},null,null,null,"",null,null,null,{"$f":"IF(ISERROR(VLOOKUP(B2434,database!$B$2:$D$6001,3,FALSE)),\"\",VLOOKUP(B2434,database!$B$2:$D$6001,3,FALSE))","v":""},null,null,null,null,null,null,"",null,null,0,null,1,"indip"]
["",null,{"$f":"IF(ISERROR(VLOOKUP(B2440,database!$B$2:$C$6001,2,FALSE)),\"\",VLOOKUP(B2440,database!$B$2:$C$6001,2,FALSE))","v":""},null,null,null,"",null,null,null,{"$f":"IF(ISERROR(VLOOKUP(B2440,database!$B$2:$D$6001,3,FALSE)),\"\",VLOOKUP(B2440,database!$B$2:$D$6001,3,FALSE))","v":""},null,null,null,null,null,null,"",null,null,0,null,1,"indip"]
["",null,{"$f":"IF(ISERROR(VLOOKUP(B2444,database!$B$2:$C$6001,2,FALSE)),\"\",VLOOKUP(B2444,database!$B$2:$C$6001,2,FALSE))","v":""},null,null,null,"",null,null,null,{"$f":"IF(ISERROR(VLOOKUP(B2444,database!$B$2:$D$6001,3,FALSE)),\"\",VLOOKUP(B2444,database!$B$2:$D$6001,3,FALSE))","v":""},null,null,null,null,null,null,"",null,null,0,null,1,"indip"]
["",null,{"$f":"IF(ISERROR(VLOOKUP(B2450,database!$B$2:$C$6001,2,FALSE)),\"\",VLOOKUP(B2450,database!$B$2:$C$6001,2,FALSE))","v":""},null,null,null,"",null,null,null,{"$f":"IF(ISERROR(VLOOKUP(B2450,database!$B$2:$D$6001,3,FALSE)),\"\",VLOOKUP(B2450,database!$B$2:$D$6001,3,FALSE))","v":""},null,null,null,null,null,null,"",null,null,0,null,1,"indip"]
["",null,{"$f":"IF(ISERROR(VLOOKUP(B2455,database!$B$2:$C$6001,2,FALSE)),\"\",VLOOKUP(B2455,database!$B$2:$C$6001,2,FALSE))","v":""},null,null,null,"",null,null,null,{"$f":"IF(ISERROR(VLOOKUP(B2455,database!$B$2:$D$6001,3,FALSE)),\"\",VLOOKUP(B2455,database!$B$2:$D$6001,3,FALSE))","v":""},null,null,null,null,null,null,"",null,null,0,null,1,"indip"]
["",null,{"$f":"IF(ISERROR(VLOOKUP(B2460,database!$B$2:$C$6001,2,FALSE)),\"\",VLOOKUP(B2460,database!$B$2:$C$6001,2,FALSE))","v":""},null,null,null,"",null,null,null,{"$f":"IF(ISERROR(VLOOKUP(B2460,database!$B$2:$D$6001,3,FALSE)),\"\",VLOOKUP(B2460,database!$B$2:$D$6001,3,FALSE))","v":""},null,null,null,null,null,null,"",null,null,0,null,1,"indip"]
["",null,{"$f":"IF(ISERROR(VLOOKUP(B2466,database!$B$2:$C$6001,2,FALSE)),\"\",VLOOKUP(B2466,database!$B$2:$C$6001,2,FALSE))","v":""},null,null,null,"",null,null,null,{"$f":"IF(ISERROR(VLOOKUP(B2466,database!$B$2:$D$6001,3,FALSE)),\"\",VLOOKUP(B2466,database!$B$2:$D$6001,3,FALSE))","v":""},null,null,null,null,null,null,"",null,null,0,null,1,"indip"]
["",null,{"$f":"IF(ISERROR(VLOOKUP(B2469,database!$B$2:$C$6001,2,FALSE)),\"\",VLOOKUP(B2469,database!$B$2:$C$6001,2,FALSE))","v":""},null,null,null,"",null,null,null,{"$f":"IF(ISERROR(VLOOKUP(B2469,database!$B$2:$D$6001,3,FALSE)),\"\",VLOOKUP(B2469,database!$B$2:$D$6001,3,FALSE))","v":""},null,null,null,null,null,null,"",null,null,0,null,1,"indip"]
["",null,{"$f":"IF(ISERROR(VLOOKUP(B2476,database!$B$2:$C$6001,2,FALSE)),\"\",VLOOKUP(B2476,database!$B$2:$C$6001,2,FALSE))","v":""},null,null,null,"",null,null,null,{"$f":"IF(ISERROR(VLOOKUP(B2476,database!$B$2:$D$6001,3,FALSE)),\"\",VLOOKUP(B2476,database!$B$2:$D$6001,3,FALSE))","v":""},null,null,null,null,null,null,"",null,null,0,null,1,"indip"]
["",null,{"$f":"IF(ISERROR(VLOOKUP(B2481,database!$B$2:$C$6001,2,FALSE)),\"\",VLOOKUP(B2481,database!$B$2:$C$6001,2,FALSE))","v":""},null,null,null,"",null,null,null,{"$f":"IF(ISERROR(VLOOKUP(B2481,database!$B$2:$D$6001,3,FALSE)),\"\",VLOOKUP(B2481,database!$B$2:$D$6001,3,FALSE))","v":""},null,null,null,null,null,null,"",null,null,0,null,1,"indip"]
["",null,{"$f":"IF(ISERROR(VLOOKUP(B2486,database!$B$2:$C$6001,2,FALSE)),\"\",VLOOKUP(B2486,database!$B$2:$C$6001,2,FALSE))","v":""},null,null,null,"",null,null,null,{"$f":"IF(ISERROR(VLOOKUP(B2486,database!$B$2:$D$6001,3,FALSE)),\"\",VLOOKUP(B2486,database!$B$2:$D$6001,3,FALSE))","v":""},null,null,null,null,null,null,"",null,null,0,null,1,"indip"]
["",null,{"$f":"IF(ISERROR(VLOOKUP(B2488,database!$B$2:$C$6001,2,FALSE)),\"\",VLOOKUP(B2488,database!$B$2:$C$6001,2,FALSE))","v":""},null,null,null,"",null,null,null,{"$f":"IF(ISERROR(VLOOKUP(B2488,database!$B$2:$D$6001,3,FALSE)),\"\",VLOOKUP(B2488,database!$B$2:$D$6001,3,FALSE))","v":""},null,null,null,null,null,null,"",null,null,0,null,1,"indip"]
["",null,{"$f":"IF(ISERROR(VLOOKUP(B2491,database!$B$2:$C$6001,2,FALSE)),\"\",VLOOKUP(B2491,database!$B$2:$C$6001,2,FALSE))","v":""},null,null,null,"",null,null,null,{"$f":"IF(ISERROR(VLOOKUP(B2491,database!$B$2:$D$6001,3,FALSE)),\"\",VLOOKUP(B2491,database!$B$2:$D$6001,3,FALSE))","v":""},null,null,null,null,null,null,"",null,null,0,null,1,"indip"]
["",null,{"$f":"IF(ISERROR(VLOOKUP(B2496,database!$B$2:$C$6001,2,FALSE)),\"\",VLOOKUP(B2496,database!$B$2:$C$6001,2,FALSE))","v":""},null,null,null,"",null,null,null,{"$f":"IF(ISERROR(VLOOKUP(B2496,database!$B$2:$D$6001,3,FALSE)),\"\",VLOOKUP(B2496,database!$B$2:$D$6001,3,FALSE))","v":""},null,null,null,null,null,null,"",null,null,0,null,1,"indip"]
["",null,{"$f":"IF(ISERROR(VLOOKUP(B2502,database!$B$2:$C$6001,2,FALSE)),\"\",VLOOKUP(B2502,database!$B$2:$C$6001,2,FALSE))","v":""},null,null,null,"",null,null,null,{"$f":"IF(ISERROR(VLOOKUP(B2502,database!$B$2:$D$6001,3,FALSE)),\"\",VLOOKUP(B2502,database!$B$2:$D$6001,3,FALSE))","v":""},null,null,null,null,null,null,"",null,null,0,null,1,"indip"]
["",null,{"$f":"IF(ISERROR(VLOOKUP(B2507,database!$B$2:$C$6001,2,FALSE)),\"\",VLOOKUP(B2507,database!$B$2:$C$6001,2,FALSE))","v":""},null,null,null,"",null,null,null,{"$f":"IF(ISERROR(VLOOKUP(B2507,database!$B$2:$D$6001,3,FALSE)),\"\",VLOOKUP(B2507,database!$B$2:$D$6001,3,FALSE))","v":""},null,null,null,null,null,null,"",null,null,0,null,1,"indip"]
["",null,{"$f":"IF(ISERROR(VLOOKUP(B2512,database!$B$2:$C$6001,2,FALSE)),\"\",VLOOKUP(B2512,database!$B$2:$C$6001,2,FALSE))","v":""},null,null,null,"",null,null,null,{"$f":"IF(ISERROR(VLOOKUP(B2512,database!$B$2:$D$6001,3,FALSE)),\"\",VLOOKUP(B2512,database!$B$2:$D$6001,3,FALSE))","v":""},null,null,null,null,null,null,"",null,null,0,null,1,"indip"]
["",null,{"$f":"IF(ISERROR(VLOOKUP(B2517,database!$B$2:$C$6001,2,FALSE)),\"\",VLOOKUP(B2517,database!$B$2:$C$6001,2,FALSE))","v":""},null,null,null,"",null,null,null,{"$f":"IF(ISERROR(VLOOKUP(B2517,database!$B$2:$D$6001,3,FALSE)),\"\",VLOOKUP(B2517,database!$B$2:$D$6001,3,FALSE))","v":""},null,null,null,null,null,null,"",null,null,0,null,1,"indip"]
["",null,{"$f":"IF(ISERROR(VLOOKUP(B2522,database!$B$2:$C$6001,2,FALSE)),\"\",VLOOKUP(B2522,database!$B$2:$C$6001,2,FALSE))","v":""},null,null,null,"",null,null,null,{"$f":"IF(ISERROR(VLOOKUP(B2522,database!$B$2:$D$6001,3,FALSE)),\"\",VLOOKUP(B2522,database!$B$2:$D$6001,3,FALSE))","v":""},null,null,null,null,null,null,"",null,null,0,null,1,"indip"]
["",null,{"$f":"IF(ISERROR(VLOOKUP(B2526,database!$B$2:$C$6001,2,FALSE)),\"\",VLOOKUP(B2526,database!$B$2:$C$6001,2,FALSE))","v":""},null,null,null,"",null,null,null,{"$f":"IF(ISERROR(VLOOKUP(B2526,database!$B$2:$D$6001,3,FALSE)),\"\",VLOOKUP(B2526,database!$B$2:$D$6001,3,FALSE))","v":""},null,null,null,null,null,null,"",null,null,0,null,1,"indip"]
["",null,{"$f":"IF(ISERROR(VLOOKUP(B2532,database!$B$2:$C$6001,2,FALSE)),\"\",VLOOKUP(B2532,database!$B$2:$C$6001,2,FALSE))","v":""},null,null,null,"",null,null,null,{"$f":"IF(ISERROR(VLOOKUP(B2532,database!$B$2:$D$6001,3,FALSE)),\"\",VLOOKUP(B2532,database!$B$2:$D$6001,3,FALSE))","v":""},null,null,null,null,null,null,"",null,null,0,null,1,"indip"]
["",null,{"$f":"IF(ISERROR(VLOOKUP(B2537,database!$B$2:$C$6001,2,FALSE)),\"\",VLOOKUP(B2537,database!$B$2:$C$6001,2,FALSE))","v":""},null,null,null,"",null,null,null,{"$f":"IF(ISERROR(VLOOKUP(B2537,database!$B$2:$D$6001,3,FALSE)),\"\",VLOOKUP(B2537,database!$B$2:$D$6001,3,FALSE))","v":""},null,null,null,null,null,null,"",null,null,0,null,1,"indip"]
["",null,{"$f":"IF(ISERROR(VLOOKUP(B2543,database!$B$2:$C$6001,2,FALSE)),\"\",VLOOKUP(B2543,database!$B$2:$C$6001,2,FALSE))","v":""},null,null,null,"",null,null,null,{"$f":"IF(ISERROR(VLOOKUP(B2543,database!$B$2:$D$6001,3,FALSE)),\"\",VLOOKUP(B2543,database!$B$2:$D$6001,3,FALSE))","v":""},null,null,null,null,null,null,"",null,null,0,null,1,"indip"]
["",null,{"$f":"IF(ISERROR(VLOOKUP(B2545,database!$B$2:$C$6001,2,FALSE)),\"\",VLOOKUP(B2545,database!$B$2:$C$6001,2,FALSE))","v":""},null,null,null,"",null,null,null,{"$f":"IF(ISERROR(VLOOKUP(B2545,database!$B$2:$D$6001,3,FALSE)),\"\",VLOOKUP(B2545,database!$B$2:$D$6001,3,FALSE))","v":""},null,null,null,null,null,null,"",null,null,0,null,1,"indip"]
["",null,{"$f":"IF(ISERROR(VLOOKUP(B2548,database!$B$2:$C$6001,2,FALSE)),\"\",VLOOKUP(B2548,database!$B$2:$C$6001,2,FALSE))","v":""},null,null,null,"",null,null,null,{"$f":"IF(ISERROR(VLOOKUP(B2548,database!$B$2:$D$6001,3,FALSE)),\"\",VLOOKUP(B2548,database!$B$2:$D$6001,3,FALSE))","v":""},null,null,null,null,null,null,"",null,null,0,null,1,"indip"]
["",null,{"$f":"IF(ISERROR(VLOOKUP(B2553,database!$B$2:$C$6001,2,FALSE)),\"\",VLOOKUP(B2553,database!$B$2:$C$6001,2,FALSE))","v":""},null,null,null,"",null,null,null,{"$f":"IF(ISERROR(VLOOKUP(B2553,database!$B$2:$D$6001,3,FALSE)),\"\",VLOOKUP(B2553,database!$B$2:$D$6001,3,FALSE))","v":""},null,null,null,null,null,null,"",null,null,0,null,1,"indip"]
["",null,{"$f":"IF(ISERROR(VLOOKUP(B2558,database!$B$2:$C$6001,2,FALSE)),\"\",VLOOKUP(B2558,database!$B$2:$C$6001,2,FALSE))","v":""},null,null,null,"",null,null,null,{"$f":"IF(ISERROR(VLOOKUP(B2558,database!$B$2:$D$6001,3,FALSE)),\"\",VLOOKUP(B2558,database!$B$2:$D$6001,3,FALSE))","v":""},null,null,null,null,null,null,"",null,null,0,null,1,"indip"]
["",null,{"$f":"IF(ISERROR(VLOOKUP(B2564,database!$B$2:$C$6001,2,FALSE)),\"\",VLOOKUP(B2564,database!$B$2:$C$6001,2,FALSE))","v":""},null,null,null,"",null,null,null,{"$f":"IF(ISERROR(VLOOKUP(B2564,database!$B$2:$D$6001,3,FALSE)),\"\",VLOOKUP(B2564,database!$B$2:$D$6001,3,FALSE))","v":""},null,null,null,null,null,null,"",null,null,{"$f":"IFERROR(INDEX(M$39:N$140,MATCH(B2564,M$39:M$140,0),2),0)","v":0},null,{"$f":"IF(AND(U2564=0,C2564=\"\"),1,2)","v":1},{"$f":"IF(B2564=\"-\",\"\",IF(OR(B2564=M$39,B2564=M$40,B2564=M$41,B2564=M$42,B2564=M$43,B2564=M$44,B2564=M$45,B2564=M$46,B2564=M$47,,B2564=M$50,B2564=M$51,B2564=M$52,B2564=M$53,B2564=M$54,B2564=M$55,B2564=M$56,B2564=M$57,B2564=M$70),\"\",IF(C2564=\"\",\"indip\",F2564)))","v":"indip"}]
["",null,{"$f":"IF(ISERROR(VLOOKUP(B2570,database!$B$2:$C$6001,2,FALSE)),\"\",VLOOKUP(B2570,database!$B$2:$C$6001,2,FALSE))","v":""},null,null,null,"",null,null,null,{"$f":"IF(ISERROR(VLOOKUP(B2570,database!$B$2:$D$6001,3,FALSE)),\"\",VLOOKUP(B2570,database!$B$2:$D$6001,3,FALSE))","v":""},null,null,null,null,null,null,"",null,null,0,null,1,"indip"]
["",null,{"$f":"IF(ISERROR(VLOOKUP(B2574,database!$B$2:$C$6001,2,FALSE)),\"\",VLOOKUP(B2574,database!$B$2:$C$6001,2,FALSE))","v":""},null,null,null,"",null,null,null,{"$f":"IF(ISERROR(VLOOKUP(B2574,database!$B$2:$D$6001,3,FALSE)),\"\",VLOOKUP(B2574,database!$B$2:$D$6001,3,FALSE))","v":""},null,null,null,null,null,null,"",null,null,0,null,1,"indip"]
["",null,{"$f":"IF(ISERROR(VLOOKUP(B2579,database!$B$2:$C$6001,2,FALSE)),\"\",VLOOKUP(B2579,database!$B$2:$C$6001,2,FALSE))","v":""},null,null,null,"",null,null,null,{"$f":"IF(ISERROR(VLOOKUP(B2579,database!$B$2:$D$6001,3,FALSE)),\"\",VLOOKUP(B2579,database!$B$2:$D$6001,3,FALSE))","v":""},null,null,null,null,null,null,"",null,null,0,null,1,"indip"]
["",null,{"$f":"IF(ISERROR(VLOOKUP(B2584,database!$B$2:$C$6001,2,FALSE)),\"\",VLOOKUP(B2584,database!$B$2:$C$6001,2,FALSE))","v":""},null,null,null,"",null,null,null,{"$f":"IF(ISERROR(VLOOKUP(B2584,database!$B$2:$D$6001,3,FALSE)),\"\",VLOOKUP(B2584,database!$B$2:$D$6001,3,FALSE))","v":""},null,null,null,null,null,null,"",null,null,0,null,1,"indip"]
["",null,{"$f":"IF(ISERROR(VLOOKUP(B2589,database!$B$2:$C$6001,2,FALSE)),\"\",VLOOKUP(B2589,database!$B$2:$C$6001,2,FALSE))","v":""},null,null,null,"",null,null,null,{"$f":"IF(ISERROR(VLOOKUP(B2589,database!$B$2:$D$6001,3,FALSE)),\"\",VLOOKUP(B2589,database!$B$2:$D$6001,3,FALSE))","v":""},null,null,null,null,null,null,"",null,null,0,null,1,"indip"]
["",null,{"$f":"IF(ISERROR(VLOOKUP(B2594,database!$B$2:$C$6001,2,FALSE)),\"\",VLOOKUP(B2594,database!$B$2:$C$6001,2,FALSE))","v":""},null,null,null,"",null,null,null,{"$f":"IF(ISERROR(VLOOKUP(B2594,database!$B$2:$D$6001,3,FALSE)),\"\",VLOOKUP(B2594,database!$B$2:$D$6001,3,FALSE))","v":""},null,null,null,null,null,null,"",null,null,0,null,1,"indip"]
["",null,{"$f":"IF(ISERROR(VLOOKUP(B2599,database!$B$2:$C$6001,2,FALSE)),\"\",VLOOKUP(B2599,database!$B$2:$C$6001,2,FALSE))","v":""},null,null,null,"",null,null,null,{"$f":"IF(ISERROR(VLOOKUP(B2599,database!$B$2:$D$6001,3,FALSE)),\"\",VLOOKUP(B2599,database!$B$2:$D$6001,3,FALSE))","v":""},null,null,null,null,null,null,"",null,null,0,null,1,"indip"]
["",null,{"$f":"IF(ISERROR(VLOOKUP(B2605,database!$B$2:$C$6001,2,FALSE)),\"\",VLOOKUP(B2605,database!$B$2:$C$6001,2,FALSE))","v":""},null,null,null,"",null,null,null,{"$f":"IF(ISERROR(VLOOKUP(B2605,database!$B$2:$D$6001,3,FALSE)),\"\",VLOOKUP(B2605,database!$B$2:$D$6001,3,FALSE))","v":""},null,null,null,null,null,null,"",null,null,0,null,1,"indip"]
["",null,{"$f":"IF(ISERROR(VLOOKUP(B2608,database!$B$2:$C$6001,2,FALSE)),\"\",VLOOKUP(B2608,database!$B$2:$C$6001,2,FALSE))","v":""},null,null,null,"",null,null,null,{"$f":"IF(ISERROR(VLOOKUP(B2608,database!$B$2:$D$6001,3,FALSE)),\"\",VLOOKUP(B2608,database!$B$2:$D$6001,3,FALSE))","v":""},null,null,null,null,null,null,"",null,null,0,null,1,"indip"]
["",null,{"$f":"IF(ISERROR(VLOOKUP(B2610,database!$B$2:$C$6001,2,FALSE)),\"\",VLOOKUP(B2610,database!$B$2:$C$6001,2,FALSE))","v":""},null,null,null,"",null,null,null,{"$f":"IF(ISERROR(VLOOKUP(B2610,database!$B$2:$D$6001,3,FALSE)),\"\",VLOOKUP(B2610,database!$B$2:$D$6001,3,FALSE))","v":""},null,null,null,null,null,null,"",null,null,0,null,1,"indip"]
["",null,{"$f":"IF(ISERROR(VLOOKUP(B2615,database!$B$2:$C$6001,2,FALSE)),\"\",VLOOKUP(B2615,database!$B$2:$C$6001,2,FALSE))","v":""},null,null,null,"",null,null,null,{"$f":"IF(ISERROR(VLOOKUP(B2615,database!$B$2:$D$6001,3,FALSE)),\"\",VLOOKUP(B2615,database!$B$2:$D$6001,3,FALSE))","v":""},null,null,null,null,null,null,"",null,null,0,null,1,"indip"]
["",null,{"$f":"IF(ISERROR(VLOOKUP(B2620,database!$B$2:$C$6001,2,FALSE)),\"\",VLOOKUP(B2620,database!$B$2:$C$6001,2,FALSE))","v":""},null,null,null,"",null,null,null,{"$f":"IF(ISERROR(VLOOKUP(B2620,database!$B$2:$D$6001,3,FALSE)),\"\",VLOOKUP(B2620,database!$B$2:$D$6001,3,FALSE))","v":""},null,null,null,null,null,null,"",null,null,0,null,1,"indip"]
["",null,{"$f":"IF(ISERROR(VLOOKUP(B2627,database!$B$2:$C$6001,2,FALSE)),\"\",VLOOKUP(B2627,database!$B$2:$C$6001,2,FALSE))","v":""},null,null,null,"",null,null,null,{"$f":"IF(ISERROR(VLOOKUP(B2627,database!$B$2:$D$6001,3,FALSE)),\"\",VLOOKUP(B2627,database!$B$2:$D$6001,3,FALSE))","v":""},null,null,null,null,null,null,"",null,null,0,null,1,"indip"]
["",null,{"$f":"IF(ISERROR(VLOOKUP(B2630,database!$B$2:$C$6001,2,FALSE)),\"\",VLOOKUP(B2630,database!$B$2:$C$6001,2,FALSE))","v":""},null,null,null,"",null,null,null,{"$f":"IF(ISERROR(VLOOKUP(B2630,database!$B$2:$D$6001,3,FALSE)),\"\",VLOOKUP(B2630,database!$B$2:$D$6001,3,FALSE))","v":""},null,null,null,null,null,null,"",null,null,0,null,1,"indip"]
["",null,{"$f":"IF(ISERROR(VLOOKUP(B2636,database!$B$2:$C$6001,2,FALSE)),\"\",VLOOKUP(B2636,database!$B$2:$C$6001,2,FALSE))","v":""},null,null,null,"",null,null,null,{"$f":"IF(ISERROR(VLOOKUP(B2636,database!$B$2:$D$6001,3,FALSE)),\"\",VLOOKUP(B2636,database!$B$2:$D$6001,3,FALSE))","v":""},null,null,null,null,null,null,"",null,null,0,null,1,"indip"]
["",null,{"$f":"IF(ISERROR(VLOOKUP(B2641,database!$B$2:$C$6001,2,FALSE)),\"\",VLOOKUP(B2641,database!$B$2:$C$6001,2,FALSE))","v":""},null,null,null,"",null,null,null,{"$f":"IF(ISERROR(VLOOKUP(B2641,database!$B$2:$D$6001,3,FALSE)),\"\",VLOOKUP(B2641,database!$B$2:$D$6001,3,FALSE))","v":""},null,null,null,null,null,null,"",null,null,0,null,1,"indip"]
["",null,{"$f":"IF(ISERROR(VLOOKUP(B2646,database!$B$2:$C$6001,2,FALSE)),\"\",VLOOKUP(B2646,database!$B$2:$C$6001,2,FALSE))","v":""},null,null,null,"",null,null,null,{"$f":"IF(ISERROR(VLOOKUP(B2646,database!$B$2:$D$6001,3,FALSE)),\"\",VLOOKUP(B2646,database!$B$2:$D$6001,3,FALSE))","v":""},null,null,null,null,null,null,"",null,null,0,null,1,"indip"]
["",null,{"$f":"IF(ISERROR(VLOOKUP(B2651,database!$B$2:$C$6001,2,FALSE)),\"\",VLOOKUP(B2651,database!$B$2:$C$6001,2,FALSE))","v":""},null,null,null,"",null,null,null,{"$f":"IF(ISERROR(VLOOKUP(B2651,database!$B$2:$D$6001,3,FALSE)),\"\",VLOOKUP(B2651,database!$B$2:$D$6001,3,FALSE))","v":""},null,null,null,null,null,null,"",null,null,0,null,1,"indip"]
["",null,{"$f":"IF(ISERROR(VLOOKUP(B2656,database!$B$2:$C$6001,2,FALSE)),\"\",VLOOKUP(B2656,database!$B$2:$C$6001,2,FALSE))","v":""},null,null,null,"",null,null,null,{"$f":"IF(ISERROR(VLOOKUP(B2656,database!$B$2:$D$6001,3,FALSE)),\"\",VLOOKUP(B2656,database!$B$2:$D$6001,3,FALSE))","v":""},null,null,null,null,null,null,"",null,null,0,null,1,"indip"]
["",null,{"$f":"IF(ISERROR(VLOOKUP(B2661,database!$B$2:$C$6001,2,FALSE)),\"\",VLOOKUP(B2661,database!$B$2:$C$6001,2,FALSE))","v":""},null,null,null,"",null,null,null,{"$f":"IF(ISERROR(VLOOKUP(B2661,database!$B$2:$D$6001,3,FALSE)),\"\",VLOOKUP(B2661,database!$B$2:$D$6001,3,FALSE))","v":""},null,null,null,null,null,null,"",null,null,0,null,1,"indip"]
["",null,{"$f":"IF(ISERROR(VLOOKUP(B2667,database!$B$2:$C$6001,2,FALSE)),\"\",VLOOKUP(B2667,database!$B$2:$C$6001,2,FALSE))","v":""},null,null,null,"",null,null,null,{"$f":"IF(ISERROR(VLOOKUP(B2667,database!$B$2:$D$6001,3,FALSE)),\"\",VLOOKUP(B2667,database!$B$2:$D$6001,3,FALSE))","v":""},null,null,null,null,null,null,"",null,null,0,null,1,"indip"]
["",null,{"$f":"IF(ISERROR(VLOOKUP(B2671,database!$B$2:$C$6001,2,FALSE)),\"\",VLOOKUP(B2671,database!$B$2:$C$6001,2,FALSE))","v":""},null,null,null,"",null,null,null,{"$f":"IF(ISERROR(VLOOKUP(B2671,database!$B$2:$D$6001,3,FALSE)),\"\",VLOOKUP(B2671,database!$B$2:$D$6001,3,FALSE))","v":""},null,null,null,null,null,null,"",null,null,0,null,1,"indip"]
["",null,{"$f":"IF(ISERROR(VLOOKUP(B2672,database!$B$2:$C$6001,2,FALSE)),\"\",VLOOKUP(B2672,database!$B$2:$C$6001,2,FALSE))","v":""},null,null,null,"",null,null,null,{"$f":"IF(ISERROR(VLOOKUP(B2672,database!$B$2:$D$6001,3,FALSE)),\"\",VLOOKUP(B2672,database!$B$2:$D$6001,3,FALSE))","v":""},null,null,null,null,null,null,"",null,null,0,null,1,"indip"]
["",null,{"$f":"IF(ISERROR(VLOOKUP(B2677,database!$B$2:$C$6001,2,FALSE)),\"\",VLOOKUP(B2677,database!$B$2:$C$6001,2,FALSE))","v":""},null,null,null,"",null,null,null,{"$f":"IF(ISERROR(VLOOKUP(B2677,database!$B$2:$D$6001,3,FALSE)),\"\",VLOOKUP(B2677,database!$B$2:$D$6001,3,FALSE))","v":""},null,null,null,null,null,null,"",null,null,0,null,1,"indip"]
["",null,{"$f":"IF(ISERROR(VLOOKUP(B2682,database!$B$2:$C$6001,2,FALSE)),\"\",VLOOKUP(B2682,database!$B$2:$C$6001,2,FALSE))","v":""},null,null,null,"",null,null,null,{"$f":"IF(ISERROR(VLOOKUP(B2682,database!$B$2:$D$6001,3,FALSE)),\"\",VLOOKUP(B2682,database!$B$2:$D$6001,3,FALSE))","v":""},null,null,null,null,null,null,"",null,null,0,null,1,"indip"]
["",null,{"$f":"IF(ISERROR(VLOOKUP(B2690,database!$B$2:$C$6001,2,FALSE)),\"\",VLOOKUP(B2690,database!$B$2:$C$6001,2,FALSE))","v":""},null,null,null,"",null,null,null,{"$f":"IF(ISERROR(VLOOKUP(B2690,database!$B$2:$D$6001,3,FALSE)),\"\",VLOOKUP(B2690,database!$B$2:$D$6001,3,FALSE))","v":""},null,null,null,null,null,null,"",null,null,0,null,1,"indip"]
["",null,{"$f":"IF(ISERROR(VLOOKUP(B2692,database!$B$2:$C$6001,2,FALSE)),\"\",VLOOKUP(B2692,database!$B$2:$C$6001,2,FALSE))","v":""},null,null,null,"",null,null,null,{"$f":"IF(ISERROR(VLOOKUP(B2692,database!$B$2:$D$6001,3,FALSE)),\"\",VLOOKUP(B2692,database!$B$2:$D$6001,3,FALSE))","v":""},null,null,null,null,null,null,"",null,null,{"$f":"IFERROR(INDEX(M$39:N$140,MATCH(B2692,M$39:M$140,0),2),0)","v":0},null,{"$f":"IF(AND(U2692=0,C2692=\"\"),1,2)","v":1},{"$f":"IF(B2692=\"-\",\"\",IF(OR(B2692=M$39,B2692=M$40,B2692=M$41,B2692=M$42,B2692=M$43,B2692=M$44,B2692=M$45,B2692=M$46,B2692=M$47,,B2692=M$50,B2692=M$51,B2692=M$52,B2692=M$53,B2692=M$54,B2692=M$55,B2692=M$56,B2692=M$57,B2692=M$70),\"\",IF(C2692=\"\",\"indip\",F2692)))","v":"indip"}]
["",null,{"$f":"IF(ISERROR(VLOOKUP(B2697,database!$B$2:$C$6001,2,FALSE)),\"\",VLOOKUP(B2697,database!$B$2:$C$6001,2,FALSE))","v":""},null,null,null,"",null,null,null,{"$f":"IF(ISERROR(VLOOKUP(B2697,database!$B$2:$D$6001,3,FALSE)),\"\",VLOOKUP(B2697,database!$B$2:$D$6001,3,FALSE))","v":""},null,null,null,null,null,null,"",null,null,0,null,1,"indip"]
["",null,{"$f":"IF(ISERROR(VLOOKUP(B2703,database!$B$2:$C$6001,2,FALSE)),\"\",VLOOKUP(B2703,database!$B$2:$C$6001,2,FALSE))","v":""},null,null,null,"",null,null,null,{"$f":"IF(ISERROR(VLOOKUP(B2703,database!$B$2:$D$6001,3,FALSE)),\"\",VLOOKUP(B2703,database!$B$2:$D$6001,3,FALSE))","v":""},null,null,null,null,null,null,"",null,null,0,null,1,"indip"]
["",null,{"$f":"IF(ISERROR(VLOOKUP(B2709,database!$B$2:$C$6001,2,FALSE)),\"\",VLOOKUP(B2709,database!$B$2:$C$6001,2,FALSE))","v":""},null,null,null,"",null,null,null,{"$f":"IF(ISERROR(VLOOKUP(B2709,database!$B$2:$D$6001,3,FALSE)),\"\",VLOOKUP(B2709,database!$B$2:$D$6001,3,FALSE))","v":""},null,null,null,null,null,null,"",null,null,0,null,1,"indip"]
["",null,{"$f":"IF(ISERROR(VLOOKUP(B2713,database!$B$2:$C$6001,2,FALSE)),\"\",VLOOKUP(B2713,database!$B$2:$C$6001,2,FALSE))","v":""},null,null,null,"",null,null,null,{"$f":"IF(ISERROR(VLOOKUP(B2713,database!$B$2:$D$6001,3,FALSE)),\"\",VLOOKUP(B2713,database!$B$2:$D$6001,3,FALSE))","v":""},null,null,null,null,null,null,"",null,null,0,null,1,"indip"]
["",null,{"$f":"IF(ISERROR(VLOOKUP(B2718,database!$B$2:$C$6001,2,FALSE)),\"\",VLOOKUP(B2718,database!$B$2:$C$6001,2,FALSE))","v":""},null,null,null,"",null,null,null,{"$f":"IF(ISERROR(VLOOKUP(B2718,database!$B$2:$D$6001,3,FALSE)),\"\",VLOOKUP(B2718,database!$B$2:$D$6001,3,FALSE))","v":""},null,null,null,null,null,null,"",null,null,0,null,1,"indip"]
["",null,{"$f":"IF(ISERROR(VLOOKUP(B2723,database!$B$2:$C$6001,2,FALSE)),\"\",VLOOKUP(B2723,database!$B$2:$C$6001,2,FALSE))","v":""},null,null,null,"",null,null,null,{"$f":"IF(ISERROR(VLOOKUP(B2723,database!$B$2:$D$6001,3,FALSE)),\"\",VLOOKUP(B2723,database!$B$2:$D$6001,3,FALSE))","v":""},null,null,null,null,null,null,"",null,null,0,null,1,"indip"]
["",null,{"$f":"IF(ISERROR(VLOOKUP(B2728,database!$B$2:$C$6001,2,FALSE)),\"\",VLOOKUP(B2728,database!$B$2:$C$6001,2,FALSE))","v":""},null,null,null,"",null,null,null,{"$f":"IF(ISERROR(VLOOKUP(B2728,database!$B$2:$D$6001,3,FALSE)),\"\",VLOOKUP(B2728,database!$B$2:$D$6001,3,FALSE))","v":""},null,null,null,null,null,null,"",null,null,0,null,1,"indip"]
["",null,{"$f":"IF(ISERROR(VLOOKUP(B2733,database!$B$2:$C$6001,2,FALSE)),\"\",VLOOKUP(B2733,database!$B$2:$C$6001,2,FALSE))","v":""},null,null,null,"",null,null,null,{"$f":"IF(ISERROR(VLOOKUP(B2733,database!$B$2:$D$6001,3,FALSE)),\"\",VLOOKUP(B2733,database!$B$2:$D$6001,3,FALSE))","v":""},null,null,null,null,null,null,"",null,null,0,null,1,"indip"]
["",null,{"$f":"IF(ISERROR(VLOOKUP(B2734,database!$B$2:$C$6001,2,FALSE)),\"\",VLOOKUP(B2734,database!$B$2:$C$6001,2,FALSE))","v":""},null,null,null,"",null,null,null,{"$f":"IF(ISERROR(VLOOKUP(B2734,database!$B$2:$D$6001,3,FALSE)),\"\",VLOOKUP(B2734,database!$B$2:$D$6001,3,FALSE))","v":""},null,null,null,null,null,null,"",null,null,0,null,1,"indip"]
["",null,{"$f":"IF(ISERROR(VLOOKUP(B2739,database!$B$2:$C$6001,2,FALSE)),\"\",VLOOKUP(B2739,database!$B$2:$C$6001,2,FALSE))","v":""},null,null,null,"",null,null,null,{"$f":"IF(ISERROR(VLOOKUP(B2739,database!$B$2:$D$6001,3,FALSE)),\"\",VLOOKUP(B2739,database!$B$2:$D$6001,3,FALSE))","v":""},null,null,null,null,null,null,"",null,null,0,null,1,"indip"]
["",null,{"$f":"IF(ISERROR(VLOOKUP(B2744,database!$B$2:$C$6001,2,FALSE)),\"\",VLOOKUP(B2744,database!$B$2:$C$6001,2,FALSE))","v":""},null,null,null,"",null,null,null,{"$f":"IF(ISERROR(VLOOKUP(B2744,database!$B$2:$D$6001,3,FALSE)),\"\",VLOOKUP(B2744,database!$B$2:$D$6001,3,FALSE))","v":""},null,null,null,null,null,null,"",null,null,0,null,1,"indip"]
["",null,{"$f":"IF(ISERROR(VLOOKUP(B2749,database!$B$2:$C$6001,2,FALSE)),\"\",VLOOKUP(B2749,database!$B$2:$C$6001,2,FALSE))","v":""},null,null,null,"",null,null,null,{"$f":"IF(ISERROR(VLOOKUP(B2749,database!$B$2:$D$6001,3,FALSE)),\"\",VLOOKUP(B2749,database!$B$2:$D$6001,3,FALSE))","v":""},null,null,null,null,null,null,"",null,null,0,null,1,"indip"]
["",null,{"$f":"IF(ISERROR(VLOOKUP(B2754,database!$B$2:$C$6001,2,FALSE)),\"\",VLOOKUP(B2754,database!$B$2:$C$6001,2,FALSE))","v":""},null,null,null,"",null,null,null,{"$f":"IF(ISERROR(VLOOKUP(B2754,database!$B$2:$D$6001,3,FALSE)),\"\",VLOOKUP(B2754,database!$B$2:$D$6001,3,FALSE))","v":""},null,null,null,null,null,null,"",null,null,0,null,1,"indip"]
["",null,{"$f":"IF(ISERROR(VLOOKUP(B2759,database!$B$2:$C$6001,2,FALSE)),\"\",VLOOKUP(B2759,database!$B$2:$C$6001,2,FALSE))","v":""},null,null,null,"",null,null,null,{"$f":"IF(ISERROR(VLOOKUP(B2759,database!$B$2:$D$6001,3,FALSE)),\"\",VLOOKUP(B2759,database!$B$2:$D$6001,3,FALSE))","v":""},null,null,null,null,null,null,"",null,null,0,null,1,"indip"]
["",null,{"$f":"IF(ISERROR(VLOOKUP(B2765,database!$B$2:$C$6001,2,FALSE)),\"\",VLOOKUP(B2765,database!$B$2:$C$6001,2,FALSE))","v":""},null,null,null,"",null,null,null,{"$f":"IF(ISERROR(VLOOKUP(B2765,database!$B$2:$D$6001,3,FALSE)),\"\",VLOOKUP(B2765,database!$B$2:$D$6001,3,FALSE))","v":""},null,null,null,null,null,null,"",null,null,0,null,1,"indip"]
["",null,{"$f":"IF(ISERROR(VLOOKUP(B2768,database!$B$2:$C$6001,2,FALSE)),\"\",VLOOKUP(B2768,database!$B$2:$C$6001,2,FALSE))","v":""},null,null,null,"",null,null,null,{"$f":"IF(ISERROR(VLOOKUP(B2768,database!$B$2:$D$6001,3,FALSE)),\"\",VLOOKUP(B2768,database!$B$2:$D$6001,3,FALSE))","v":""},null,null,null,null,null,null,"",null,null,0,null,1,"indip"]
["",null,{"$f":"IF(ISERROR(VLOOKUP(B2775,database!$B$2:$C$6001,2,FALSE)),\"\",VLOOKUP(B2775,database!$B$2:$C$6001,2,FALSE))","v":""},null,null,null,"",null,null,null,{"$f":"IF(ISERROR(VLOOKUP(B2775,database!$B$2:$D$6001,3,FALSE)),\"\",VLOOKUP(B2775,database!$B$2:$D$6001,3,FALSE))","v":""},null,null,null,null,null,null,"",null,null,0,null,1,"indip"]
["",null,{"$f":"IF(ISERROR(VLOOKUP(B2780,database!$B$2:$C$6001,2,FALSE)),\"\",VLOOKUP(B2780,database!$B$2:$C$6001,2,FALSE))","v":""},null,null,null,"",null,null,null,{"$f":"IF(ISERROR(VLOOKUP(B2780,database!$B$2:$D$6001,3,FALSE)),\"\",VLOOKUP(B2780,database!$B$2:$D$6001,3,FALSE))","v":""},null,null,null,null,null,null,"",null,null,0,null,1,"indip"]
["",null,{"$f":"IF(ISERROR(VLOOKUP(B2785,database!$B$2:$C$6001,2,FALSE)),\"\",VLOOKUP(B2785,database!$B$2:$C$6001,2,FALSE))","v":""},null,null,null,"",null,null,null,{"$f":"IF(ISERROR(VLOOKUP(B2785,database!$B$2:$D$6001,3,FALSE)),\"\",VLOOKUP(B2785,database!$B$2:$D$6001,3,FALSE))","v":""},null,null,null,null,null,null,"",null,null,0,null,1,"indip"]
["",null,{"$f":"IF(ISERROR(VLOOKUP(B2787,database!$B$2:$C$6001,2,FALSE)),\"\",VLOOKUP(B2787,database!$B$2:$C$6001,2,FALSE))","v":""},null,null,null,"",null,null,null,{"$f":"IF(ISERROR(VLOOKUP(B2787,database!$B$2:$D$6001,3,FALSE)),\"\",VLOOKUP(B2787,database!$B$2:$D$6001,3,FALSE))","v":""},null,null,null,null,null,null,"",null,null,0,null,1,"indip"]
["",null,{"$f":"IF(ISERROR(VLOOKUP(B2795,database!$B$2:$C$6001,2,FALSE)),\"\",VLOOKUP(B2795,database!$B$2:$C$6001,2,FALSE))","v":""},null,null,null,"",null,null,null,{"$f":"IF(ISERROR(VLOOKUP(B2795,database!$B$2:$D$6001,3,FALSE)),\"\",VLOOKUP(B2795,database!$B$2:$D$6001,3,FALSE))","v":""},null,null,null,null,null,null,"",null,null,0,null,1,"indip"]
["",null,{"$f":"IF(ISERROR(VLOOKUP(B2796,database!$B$2:$C$6001,2,FALSE)),\"\",VLOOKUP(B2796,database!$B$2:$C$6001,2,FALSE))","v":""},null,null,null,"",null,null,null,{"$f":"IF(ISERROR(VLOOKUP(B2796,database!$B$2:$D$6001,3,FALSE)),\"\",VLOOKUP(B2796,database!$B$2:$D$6001,3,FALSE))","v":""},null,null,null,null,null,null,"",null,null,0,null,1,"indip"]
["",null,{"$f":"IF(ISERROR(VLOOKUP(B2801,database!$B$2:$C$6001,2,FALSE)),\"\",VLOOKUP(B2801,database!$B$2:$C$6001,2,FALSE))","v":""},null,null,null,"",null,null,null,{"$f":"IF(ISERROR(VLOOKUP(B2801,database!$B$2:$D$6001,3,FALSE)),\"\",VLOOKUP(B2801,database!$B$2:$D$6001,3,FALSE))","v":""},null,null,null,null,null,null,"",null,null,0,null,1,"indip"]
["",null,{"$f":"IF(ISERROR(VLOOKUP(B2806,database!$B$2:$C$6001,2,FALSE)),\"\",VLOOKUP(B2806,database!$B$2:$C$6001,2,FALSE))","v":""},null,null,null,"",null,null,null,{"$f":"IF(ISERROR(VLOOKUP(B2806,database!$B$2:$D$6001,3,FALSE)),\"\",VLOOKUP(B2806,database!$B$2:$D$6001,3,FALSE))","v":""},null,null,null,null,null,null,"",null,null,0,null,1,"indip"]
["",null,{"$f":"IF(ISERROR(VLOOKUP(B2811,database!$B$2:$C$6001,2,FALSE)),\"\",VLOOKUP(B2811,database!$B$2:$C$6001,2,FALSE))","v":""},null,null,null,"",null,null,null,{"$f":"IF(ISERROR(VLOOKUP(B2811,database!$B$2:$D$6001,3,FALSE)),\"\",VLOOKUP(B2811,database!$B$2:$D$6001,3,FALSE))","v":""},null,null,null,null,null,null,"",null,null,0,null,1,"indip"]
["",null,{"$f":"IF(ISERROR(VLOOKUP(B2816,database!$B$2:$C$6001,2,FALSE)),\"\",VLOOKUP(B2816,database!$B$2:$C$6001,2,FALSE))","v":""},null,null,null,"",null,null,null,{"$f":"IF(ISERROR(VLOOKUP(B2816,database!$B$2:$D$6001,3,FALSE)),\"\",VLOOKUP(B2816,database!$B$2:$D$6001,3,FALSE))","v":""},null,null,null,null,null,null,"",null,null,0,null,1,"indip"]
[{"$f":"IF(B2821=\"\",\"\",ROW(A2818))","v":""},null,{"$f":"IF(ISERROR(VLOOKUP(B2821,database!$B$2:$C$6001,2,FALSE)),\"\",VLOOKUP(B2821,database!$B$2:$C$6001,2,FALSE))","v":""},null,null,null,{"$f":"IF(B2821=\"\",\"\",IF(B2821=\"-\",0,IF(W2821=1,1,IF(AND(U2821=0,F2821=\"SSB\"),2,IF(AND(U2821=0,F2821=\"DIGI\"),3,IF(AND(U2821=0,F2821=\"CW\"),5,U2821))))))","v":""},null,null,null,{"$f":"IF(ISERROR(VLOOKUP(B2821,database!$B$2:$D$6001,3,FALSE)),\"\",VLOOKUP(B2821,database!$B$2:$D$6001,3,FALSE))","v":""},null,null,null,null,null,null,{"$f":"LEFT(C2821,2)","v":""},null,null,0,null,1,"indip"]
["",null,{"$f":"IF(ISERROR(VLOOKUP(B2825,database!$B$2:$C$6001,2,FALSE)),\"\",VLOOKUP(B2825,database!$B$2:$C$6001,2,FALSE))","v":""},null,null,null,"",null,null,null,{"$f":"IF(ISERROR(VLOOKUP(B2825,database!$B$2:$D$6001,3,FALSE)),\"\",VLOOKUP(B2825,database!$B$2:$D$6001,3,FALSE))","v":""},null,null,null,null,null,null,"",null,null,0,null,1,"indip"]
["",null,{"$f":"IF(ISERROR(VLOOKUP(B2831,database!$B$2:$C$6001,2,FALSE)),\"\",VLOOKUP(B2831,database!$B$2:$C$6001,2,FALSE))","v":""},null,null,null,"",null,null,null,{"$f":"IF(ISERROR(VLOOKUP(B2831,database!$B$2:$D$6001,3,FALSE)),\"\",VLOOKUP(B2831,database!$B$2:$D$6001,3,FALSE))","v":""},null,null,null,null,null,null,"",null,null,0,null,1,"indip"]
["",null,{"$f":"IF(ISERROR(VLOOKUP(B2837,database!$B$2:$C$6001,2,FALSE)),\"\",VLOOKUP(B2837,database!$B$2:$C$6001,2,FALSE))","v":""},null,null,null,"",null,null,null,{"$f":"IF(ISERROR(VLOOKUP(B2837,database!$B$2:$D$6001,3,FALSE)),\"\",VLOOKUP(B2837,database!$B$2:$D$6001,3,FALSE))","v":""},null,null,null,null,null,null,"",null,null,0,null,1,"indip"]
["",null,{"$f":"IF(ISERROR(VLOOKUP(B2842,database!$B$2:$C$6001,2,FALSE)),\"\",VLOOKUP(B2842,database!$B$2:$C$6001,2,FALSE))","v":""},null,null,null,"",null,null,null,{"$f":"IF(ISERROR(VLOOKUP(B2842,database!$B$2:$D$6001,3,FALSE)),\"\",VLOOKUP(B2842,database!$B$2:$D$6001,3,FALSE))","v":""},null,null,null,null,null,null,"",null,null,0,null,1,"indip"]
["",null,{"$f":"IF(ISERROR(VLOOKUP(B2847,database!$B$2:$C$6001,2,FALSE)),\"\",VLOOKUP(B2847,database!$B$2:$C$6001,2,FALSE))","v":""},null,null,null,"",null,null,null,{"$f":"IF(ISERROR(VLOOKUP(B2847,database!$B$2:$D$6001,3,FALSE)),\"\",VLOOKUP(B2847,database!$B$2:$D$6001,3,FALSE))","v":""},null,null,null,null,null,null,"",null,null,0,null,1,"indip"]
["",null,{"$f":"IF(ISERROR(VLOOKUP(B2850,database!$B$2:$C$6001,2,FALSE)),\"\",VLOOKUP(B2850,database!$B$2:$C$6001,2,FALSE))","v":""},null,null,null,"",null,null,null,{"$f":"IF(ISERROR(VLOOKUP(B2850,database!$B$2:$D$6001,3,FALSE)),\"\",VLOOKUP(B2850,database!$B$2:$D$6001,3,FALSE))","v":""},null,null,null,null,null,null,"",null,null,0,null,1,"indip"]
["",null,{"$f":"IF(ISERROR(VLOOKUP(B2857,database!$B$2:$C$6001,2,FALSE)),\"\",VLOOKUP(B2857,database!$B$2:$C$6001,2,FALSE))","v":""},null,null,null,"",null,null,null,{"$f":"IF(ISERROR(VLOOKUP(B2857,database!$B$2:$D$6001,3,FALSE)),\"\",VLOOKUP(B2857,database!$B$2:$D$6001,3,FALSE))","v":""},null,null,null,null,null,null,"",null,null,0,null,1,"indip"]
["",null,{"$f":"IF(ISERROR(VLOOKUP(B2862,database!$B$2:$C$6001,2,FALSE)),\"\",VLOOKUP(B2862,database!$B$2:$C$6001,2,FALSE))","v":""},null,null,null,"",null,null,null,{"$f":"IF(ISERROR(VLOOKUP(B2862,database!$B$2:$D$6001,3,FALSE)),\"\",VLOOKUP(B2862,database!$B$2:$D$6001,3,FALSE))","v":""},null,null,null,null,null,null,"",null,null,0,null,1,"indip"]
["",null,{"$f":"IF(ISERROR(VLOOKUP(B2863,database!$B$2:$C$6001,2,FALSE)),\"\",VLOOKUP(B2863,database!$B$2:$C$6001,2,FALSE))","v":""},null,null,null,"",null,null,null,{"$f":"IF(ISERROR(VLOOKUP(B2863,database!$B$2:$D$6001,3,FALSE)),\"\",VLOOKUP(B2863,database!$B$2:$D$6001,3,FALSE))","v":""},null,null,null,null,null,null,"",null,null,0,null,1,"indip"]
["",null,{"$f":"IF(ISERROR(VLOOKUP(B2869,database!$B$2:$C$6001,2,FALSE)),\"\",VLOOKUP(B2869,database!$B$2:$C$6001,2,FALSE))","v":""},null,null,null,"",null,null,null,{"$f":"IF(ISERROR(VLOOKUP(B2869,database!$B$2:$D$6001,3,FALSE)),\"\",VLOOKUP(B2869,database!$B$2:$D$6001,3,FALSE))","v":""},null,null,null,null,null,null,"",null,null,0,null,1,"indip"]
["",null,{"$f":"IF(ISERROR(VLOOKUP(B2873,database!$B$2:$C$6001,2,FALSE)),\"\",VLOOKUP(B2873,database!$B$2:$C$6001,2,FALSE))","v":""},null,null,null,"",null,null,null,{"$f":"IF(ISERROR(VLOOKUP(B2873,database!$B$2:$D$6001,3,FALSE)),\"\",VLOOKUP(B2873,database!$B$2:$D$6001,3,FALSE))","v":""},null,null,null,null,null,null,"",null,null,0,null,1,"indip"]
["",null,{"$f":"IF(ISERROR(VLOOKUP(B2878,database!$B$2:$C$6001,2,FALSE)),\"\",VLOOKUP(B2878,database!$B$2:$C$6001,2,FALSE))","v":""},null,null,null,"",null,null,null,{"$f":"IF(ISERROR(VLOOKUP(B2878,database!$B$2:$D$6001,3,FALSE)),\"\",VLOOKUP(B2878,database!$B$2:$D$6001,3,FALSE))","v":""},null,null,null,null,null,null,"",null,null,0,null,1,"indip"]
["",null,{"$f":"IF(ISERROR(VLOOKUP(B2883,database!$B$2:$C$6001,2,FALSE)),\"\",VLOOKUP(B2883,database!$B$2:$C$6001,2,FALSE))","v":""},null,null,null,"",null,null,null,{"$f":"IF(ISERROR(VLOOKUP(B2883,database!$B$2:$D$6001,3,FALSE)),\"\",VLOOKUP(B2883,database!$B$2:$D$6001,3,FALSE))","v":""},null,null,null,null,null,null,"",null,null,0,null,1,"indip"]
["",null,{"$f":"IF(ISERROR(VLOOKUP(B2888,database!$B$2:$C$6001,2,FALSE)),\"\",VLOOKUP(B2888,database!$B$2:$C$6001,2,FALSE))","v":""},null,null,null,"",null,null,null,{"$f":"IF(ISERROR(VLOOKUP(B2888,database!$B$2:$D$6001,3,FALSE)),\"\",VLOOKUP(B2888,database!$B$2:$D$6001,3,FALSE))","v":""},null,null,null,null,null,null,"",null,null,0,null,1,"indip"]
["",null,{"$f":"IF(ISERROR(VLOOKUP(B2893,database!$B$2:$C$6001,2,FALSE)),\"\",VLOOKUP(B2893,database!$B$2:$C$6001,2,FALSE))","v":""},null,null,null,"",null,null,null,{"$f":"IF(ISERROR(VLOOKUP(B2893,database!$B$2:$D$6001,3,FALSE)),\"\",VLOOKUP(B2893,database!$B$2:$D$6001,3,FALSE))","v":""},null,null,null,null,null,null,"",null,null,0,null,1,"indip"]
["",null,{"$f":"IF(ISERROR(VLOOKUP(B2899,database!$B$2:$C$6001,2,FALSE)),\"\",VLOOKUP(B2899,database!$B$2:$C$6001,2,FALSE))","v":""},null,null,null,"",null,null,null,{"$f":"IF(ISERROR(VLOOKUP(B2899,database!$B$2:$D$6001,3,FALSE)),\"\",VLOOKUP(B2899,database!$B$2:$D$6001,3,FALSE))","v":""},null,null,null,null,null,null,"",null,null,0,null,1,"indip"]
["",null,{"$f":"IF(ISERROR(VLOOKUP(B2904,database!$B$2:$C$6001,2,FALSE)),\"\",VLOOKUP(B2904,database!$B$2:$C$6001,2,FALSE))","v":""},null,null,null,"",null,null,null,{"$f":"IF(ISERROR(VLOOKUP(B2904,database!$B$2:$D$6001,3,FALSE)),\"\",VLOOKUP(B2904,database!$B$2:$D$6001,3,FALSE))","v":""},null,null,null,null,null,null,"",null,null,0,null,1,"indip"]
["",null,{"$f":"IF(ISERROR(VLOOKUP(B2907,database!$B$2:$C$6001,2,FALSE)),\"\",VLOOKUP(B2907,database!$B$2:$C$6001,2,FALSE))","v":""},null,null,null,"",null,null,null,{"$f":"IF(ISERROR(VLOOKUP(B2907,database!$B$2:$D$6001,3,FALSE)),\"\",VLOOKUP(B2907,database!$B$2:$D$6001,3,FALSE))","v":""},null,null,null,null,null,null,"",null,null,0,null,1,"indip"]
["",null,{"$f":"IF(ISERROR(VLOOKUP(B2914,database!$B$2:$C$6001,2,FALSE)),\"\",VLOOKUP(B2914,database!$B$2:$C$6001,2,FALSE))","v":""},null,null,null,"",null,null,null,{"$f":"IF(ISERROR(VLOOKUP(B2914,database!$B$2:$D$6001,3,FALSE)),\"\",VLOOKUP(B2914,database!$B$2:$D$6001,3,FALSE))","v":""},null,null,null,null,null,null,"",null,null,0,null,1,"indip"]
["",null,{"$f":"IF(ISERROR(VLOOKUP(B2919,database!$B$2:$C$6001,2,FALSE)),\"\",VLOOKUP(B2919,database!$B$2:$C$6001,2,FALSE))","v":""},null,null,null,"",null,null,null,{"$f":"IF(ISERROR(VLOOKUP(B2919,database!$B$2:$D$6001,3,FALSE)),\"\",VLOOKUP(B2919,database!$B$2:$D$6001,3,FALSE))","v":""},null,null,null,null,null,null,"",null,null,0,null,1,"indip"]
["",null,{"$f":"IF(ISERROR(VLOOKUP(B2924,database!$B$2:$C$6001,2,FALSE)),\"\",VLOOKUP(B2924,database!$B$2:$C$6001,2,FALSE))","v":""},null,null,null,"",null,null,null,{"$f":"IF(ISERROR(VLOOKUP(B2924,database!$B$2:$D$6001,3,FALSE)),\"\",VLOOKUP(B2924,database!$B$2:$D$6001,3,FALSE))","v":""},null,null,null,null,null,null,"",null,null,0,null,1,"indip"]
["",null,{"$f":"IF(ISERROR(VLOOKUP(B2925,database!$B$2:$C$6001,2,FALSE)),\"\",VLOOKUP(B2925,database!$B$2:$C$6001,2,FALSE))","v":""},null,null,null,"",null,null,null,{"$f":"IF(ISERROR(VLOOKUP(B2925,database!$B$2:$D$6001,3,FALSE)),\"\",VLOOKUP(B2925,database!$B$2:$D$6001,3,FALSE))","v":""},null,null,null,null,null,null,"",null,null,0,null,1,"indip"]
["",null,{"$f":"IF(ISERROR(VLOOKUP(B2932,database!$B$2:$C$6001,2,FALSE)),\"\",VLOOKUP(B2932,database!$B$2:$C$6001,2,FALSE))","v":""},null,null,null,"",null,null,null,{"$f":"IF(ISERROR(VLOOKUP(B2932,database!$B$2:$D$6001,3,FALSE)),\"\",VLOOKUP(B2932,database!$B$2:$D$6001,3,FALSE))","v":""},null,null,null,null,null,null,"",null,null,0,null,1,"indip"]
["",null,{"$f":"IF(ISERROR(VLOOKUP(B2935,database!$B$2:$C$6001,2,FALSE)),\"\",VLOOKUP(B2935,database!$B$2:$C$6001,2,FALSE))","v":""},null,null,null,"",null,null,null,{"$f":"IF(ISERROR(VLOOKUP(B2935,database!$B$2:$D$6001,3,FALSE)),\"\",VLOOKUP(B2935,database!$B$2:$D$6001,3,FALSE))","v":""},null,null,null,null,null,null,"",null,null,0,null,1,"indip"]
["",null,{"$f":"IF(ISERROR(VLOOKUP(B2940,database!$B$2:$C$6001,2,FALSE)),\"\",VLOOKUP(B2940,database!$B$2:$C$6001,2,FALSE))","v":""},null,null,null,"",null,null,null,{"$f":"IF(ISERROR(VLOOKUP(B2940,database!$B$2:$D$6001,3,FALSE)),\"\",VLOOKUP(B2940,database!$B$2:$D$6001,3,FALSE))","v":""},null,null,null,null,null,null,"",null,null,0,null,1,"indip"]
["",null,{"$f":"IF(ISERROR(VLOOKUP(B2945,database!$B$2:$C$6001,2,FALSE)),\"\",VLOOKUP(B2945,database!$B$2:$C$6001,2,FALSE))","v":""},null,null,null,"",null,null,null,{"$f":"IF(ISERROR(VLOOKUP(B2945,database!$B$2:$D$6001,3,FALSE)),\"\",VLOOKUP(B2945,database!$B$2:$D$6001,3,FALSE))","v":""},null,null,null,null,null,null,"",null,null,0,null,1,"indip"]
["",null,{"$f":"IF(ISERROR(VLOOKUP(B2951,database!$B$2:$C$6001,2,FALSE)),\"\",VLOOKUP(B2951,database!$B$2:$C$6001,2,FALSE))","v":""},null,null,null,"",null,null,null,{"$f":"IF(ISERROR(VLOOKUP(B2951,database!$B$2:$D$6001,3,FALSE)),\"\",VLOOKUP(B2951,database!$B$2:$D$6001,3,FALSE))","v":""},null,null,null,null,null,null,"",null,null,0,null,1,"indip"]
["",null,{"$f":"IF(ISERROR(VLOOKUP(B2955,database!$B$2:$C$6001,2,FALSE)),\"\",VLOOKUP(B2955,database!$B$2:$C$6001,2,FALSE))","v":""},null,null,null,"",null,null,null,{"$f":"IF(ISERROR(VLOOKUP(B2955,database!$B$2:$D$6001,3,FALSE)),\"\",VLOOKUP(B2955,database!$B$2:$D$6001,3,FALSE))","v":""},null,null,null,null,null,null,"",null,null,0,null,1,"indip"]
["",null,{"$f":"IF(ISERROR(VLOOKUP(B2960,database!$B$2:$C$6001,2,FALSE)),\"\",VLOOKUP(B2960,database!$B$2:$C$6001,2,FALSE))","v":""},null,null,null,"",null,null,null,{"$f":"IF(ISERROR(VLOOKUP(B2960,database!$B$2:$D$6001,3,FALSE)),\"\",VLOOKUP(B2960,database!$B$2:$D$6001,3,FALSE))","v":""},null,null,null,null,null,null,"",null,null,0,null,1,"indip"]
["",null,{"$f":"IF(ISERROR(VLOOKUP(B2966,database!$B$2:$C$6001,2,FALSE)),\"\",VLOOKUP(B2966,database!$B$2:$C$6001,2,FALSE))","v":""},null,null,null,"",null,null,null,{"$f":"IF(ISERROR(VLOOKUP(B2966,database!$B$2:$D$6001,3,FALSE)),\"\",VLOOKUP(B2966,database!$B$2:$D$6001,3,FALSE))","v":""},null,null,null,null,null,null,"",null,null,0,null,1,"indip"]
["",null,{"$f":"IF(ISERROR(VLOOKUP(B2970,database!$B$2:$C$6001,2,FALSE)),\"\",VLOOKUP(B2970,database!$B$2:$C$6001,2,FALSE))","v":""},null,null,null,"",null,null,null,{"$f":"IF(ISERROR(VLOOKUP(B2970,database!$B$2:$D$6001,3,FALSE)),\"\",VLOOKUP(B2970,database!$B$2:$D$6001,3,FALSE))","v":""},null,null,null,null,null,null,"",null,null,0,null,1,"indip"]
["",null,{"$f":"IF(ISERROR(VLOOKUP(B2976,database!$B$2:$C$6001,2,FALSE)),\"\",VLOOKUP(B2976,database!$B$2:$C$6001,2,FALSE))","v":""},null,null,null,"",null,null,null,{"$f":"IF(ISERROR(VLOOKUP(B2976,database!$B$2:$D$6001,3,FALSE)),\"\",VLOOKUP(B2976,database!$B$2:$D$6001,3,FALSE))","v":""},null,null,null,null,null,null,"",null,null,0,null,1,"indip"]
["",null,{"$f":"IF(ISERROR(VLOOKUP(B2981,database!$B$2:$C$6001,2,FALSE)),\"\",VLOOKUP(B2981,database!$B$2:$C$6001,2,FALSE))","v":""},null,null,null,"",null,null,null,{"$f":"IF(ISERROR(VLOOKUP(B2981,database!$B$2:$D$6001,3,FALSE)),\"\",VLOOKUP(B2981,database!$B$2:$D$6001,3,FALSE))","v":""},null,null,null,null,null,null,"",null,null,0,null,1,"indip"]
["",null,{"$f":"IF(ISERROR(VLOOKUP(B2986,database!$B$2:$C$6001,2,FALSE)),\"\",VLOOKUP(B2986,database!$B$2:$C$6001,2,FALSE))","v":""},null,null,null,"",null,null,null,{"$f":"IF(ISERROR(VLOOKUP(B2986,database!$B$2:$D$6001,3,FALSE)),\"\",VLOOKUP(B2986,database!$B$2:$D$6001,3,FALSE))","v":""},null,null,null,null,null,null,"",null,null,0,null,1,"indip"]
["",null,{"$f":"IF(ISERROR(VLOOKUP(B2989,database!$B$2:$C$6001,2,FALSE)),\"\",VLOOKUP(B2989,database!$B$2:$C$6001,2,FALSE))","v":""},null,null,null,"",null,null,null,{"$f":"IF(ISERROR(VLOOKUP(B2989,database!$B$2:$D$6001,3,FALSE)),\"\",VLOOKUP(B2989,database!$B$2:$D$6001,3,FALSE))","v":""},null,null,null,null,null,null,"",null,null,0,null,1,"indip"]
["",null,{"$f":"IF(ISERROR(VLOOKUP(B2991,database!$B$2:$C$6001,2,FALSE)),\"\",VLOOKUP(B2991,database!$B$2:$C$6001,2,FALSE))","v":""},null,null,null,"",null,null,null,{"$f":"IF(ISERROR(VLOOKUP(B2991,database!$B$2:$D$6001,3,FALSE)),\"\",VLOOKUP(B2991,database!$B$2:$D$6001,3,FALSE))","v":""},null,null,null,null,null,null,"",null,null,0,null,1,"indip"]
["",null,{"$f":"IF(ISERROR(VLOOKUP(B2997,database!$B$2:$C$6001,2,FALSE)),\"\",VLOOKUP(B2997,database!$B$2:$C$6001,2,FALSE))","v":""},null,null,null,"",null,null,null,{"$f":"IF(ISERROR(VLOOKUP(B2997,database!$B$2:$D$6001,3,FALSE)),\"\",VLOOKUP(B2997,database!$B$2:$D$6001,3,FALSE))","v":""},null,null,null,null,null,null,"",null,null,0,null,1,"indip"]
["",null,{"$f":"IF(ISERROR(VLOOKUP(B3002,database!$B$2:$C$6001,2,FALSE)),\"\",VLOOKUP(B3002,database!$B$2:$C$6001,2,FALSE))","v":""},null,null,null,"",null,null,null,{"$f":"IF(ISERROR(VLOOKUP(B3002,database!$B$2:$D$6001,3,FALSE)),\"\",VLOOKUP(B3002,database!$B$2:$D$6001,3,FALSE))","v":""},null,null,null,null,null,null,"",null,null,0,null,1,"indip"]
["",null,{"$f":"IF(ISERROR(VLOOKUP(B3008,database!$B$2:$C$6001,2,FALSE)),\"\",VLOOKUP(B3008,database!$B$2:$C$6001,2,FALSE))","v":""},null,null,null,"",null,null,null,{"$f":"IF(ISERROR(VLOOKUP(B3008,database!$B$2:$D$6001,3,FALSE)),\"\",VLOOKUP(B3008,database!$B$2:$D$6001,3,FALSE))","v":""},null,null,null,null,null,null,"",null,null,0,null,1,"indip"]
["",null,{"$f":"IF(ISERROR(VLOOKUP(B3012,database!$B$2:$C$6001,2,FALSE)),\"\",VLOOKUP(B3012,database!$B$2:$C$6001,2,FALSE))","v":""},null,null,null,"",null,null,null,{"$f":"IF(ISERROR(VLOOKUP(B3012,database!$B$2:$D$6001,3,FALSE)),\"\",VLOOKUP(B3012,database!$B$2:$D$6001,3,FALSE))","v":""},null,null,null,null,null,null,"",null,null,{"$f":"IFERROR(INDEX(M$39:N$140,MATCH(B3012,M$39:M$140,0),2),0)","v":0},null,{"$f":"IF(AND(U3012=0,C3012=\"\"),1,2)","v":1},{"$f":"IF(B3012=\"-\",\"\",IF(OR(B3012=M$39,B3012=M$40,B3012=M$41,B3012=M$42,B3012=M$43,B3012=M$44,B3012=M$45,B3012=M$46,B3012=M$47,,B3012=M$50,B3012=M$51,B3012=M$52,B3012=M$53,B3012=M$54,B3012=M$55,B3012=M$56,B3012=M$57,B3012=M$70),\"\",IF(C3012=\"\",\"indip\",F3012)))","v":"indip"}]
["",null,{"$f":"IF(ISERROR(VLOOKUP(B3017,database!$B$2:$C$6001,2,FALSE)),\"\",VLOOKUP(B3017,database!$B$2:$C$6001,2,FALSE))","v":""},null,null,null,"",null,null,null,{"$f":"IF(ISERROR(VLOOKUP(B3017,database!$B$2:$D$6001,3,FALSE)),\"\",VLOOKUP(B3017,database!$B$2:$D$6001,3,FALSE))","v":""},null,null,null,null,null,null,"",null,null,0,null,1,"indip"]
["",null,{"$f":"IF(ISERROR(VLOOKUP(B3022,database!$B$2:$C$6001,2,FALSE)),\"\",VLOOKUP(B3022,database!$B$2:$C$6001,2,FALSE))","v":""},null,null,null,"",null,null,null,{"$f":"IF(ISERROR(VLOOKUP(B3022,database!$B$2:$D$6001,3,FALSE)),\"\",VLOOKUP(B3022,database!$B$2:$D$6001,3,FALSE))","v":""},null,null,null,null,null,null,"",null,null,0,null,1,"indip"]
["",null,{"$f":"IF(ISERROR(VLOOKUP(B3028,database!$B$2:$C$6001,2,FALSE)),\"\",VLOOKUP(B3028,database!$B$2:$C$6001,2,FALSE))","v":""},null,null,null,"",null,null,null,{"$f":"IF(ISERROR(VLOOKUP(B3028,database!$B$2:$D$6001,3,FALSE)),\"\",VLOOKUP(B3028,database!$B$2:$D$6001,3,FALSE))","v":""},null,null,null,null,null,null,"",null,null,0,null,1,"indip"]
["",null,{"$f":"IF(ISERROR(VLOOKUP(B3033,database!$B$2:$C$6001,2,FALSE)),\"\",VLOOKUP(B3033,database!$B$2:$C$6001,2,FALSE))","v":""},null,null,null,"",null,null,null,{"$f":"IF(ISERROR(VLOOKUP(B3033,database!$B$2:$D$6001,3,FALSE)),\"\",VLOOKUP(B3033,database!$B$2:$D$6001,3,FALSE))","v":""},null,null,null,null,null,null,"",null,null,0,null,1,"indip"]
["",null,{"$f":"IF(ISERROR(VLOOKUP(B3038,database!$B$2:$C$6001,2,FALSE)),\"\",VLOOKUP(B3038,database!$B$2:$C$6001,2,FALSE))","v":""},null,null,null,"",null,null,null,{"$f":"IF(ISERROR(VLOOKUP(B3038,database!$B$2:$D$6001,3,FALSE)),\"\",VLOOKUP(B3038,database!$B$2:$D$6001,3,FALSE))","v":""},null,null,null,null,null,null,"",null,null,0,null,1,"indip"]
["",null,{"$f":"IF(ISERROR(VLOOKUP(B3043,database!$B$2:$C$6001,2,FALSE)),\"\",VLOOKUP(B3043,database!$B$2:$C$6001,2,FALSE))","v":""},null,null,null,"",null,null,null,{"$f":"IF(ISERROR(VLOOKUP(B3043,database!$B$2:$D$6001,3,FALSE)),\"\",VLOOKUP(B3043,database!$B$2:$D$6001,3,FALSE))","v":""},null,null,null,null,null,null,"",null,null,0,null,1,"indip"]
["",null,{"$f":"IF(ISERROR(VLOOKUP(B3048,database!$B$2:$C$6001,2,FALSE)),\"\",VLOOKUP(B3048,database!$B$2:$C$6001,2,FALSE))","v":""},null,null,null,"",null,null,null,{"$f":"IF(ISERROR(VLOOKUP(B3048,database!$B$2:$D$6001,3,FALSE)),\"\",VLOOKUP(B3048,database!$B$2:$D$6001,3,FALSE))","v":""},null,null,null,null,null,null,"",null,null,0,null,1,"indip"]
["",null,{"$f":"IF(ISERROR(VLOOKUP(B3052,database!$B$2:$C$6001,2,FALSE)),\"\",VLOOKUP(B3052,database!$B$2:$C$6001,2,FALSE))","v":""},null,null,null,"",null,null,null,{"$f":"IF(ISERROR(VLOOKUP(B3052,database!$B$2:$D$6001,3,FALSE)),\"\",VLOOKUP(B3052,database!$B$2:$D$6001,3,FALSE))","v":""},null,null,null,null,null,null,"",null,null,0,null,1,"indip"]
["",null,{"$f":"IF(ISERROR(VLOOKUP(B3053,database!$B$2:$C$6001,2,FALSE)),\"\",VLOOKUP(B3053,database!$B$2:$C$6001,2,FALSE))","v":""},null,null,null,"",null,null,null,{"$f":"IF(ISERROR(VLOOKUP(B3053,database!$B$2:$D$6001,3,FALSE)),\"\",VLOOKUP(B3053,database!$B$2:$D$6001,3,FALSE))","v":""},null,null,null,null,null,null,"",null,null,0,null,1,"indip"]
["",null,{"$f":"IF(ISERROR(VLOOKUP(B3059,database!$B$2:$C$6001,2,FALSE)),\"\",VLOOKUP(B3059,database!$B$2:$C$6001,2,FALSE))","v":""},null,null,null,"",null,null,null,{"$f":"IF(ISERROR(VLOOKUP(B3059,database!$B$2:$D$6001,3,FALSE)),\"\",VLOOKUP(B3059,database!$B$2:$D$6001,3,FALSE))","v":""},null,null,null,null,null,null,"",null,null,0,null,1,"indip"]
["",null,{"$f":"IF(ISERROR(VLOOKUP(B3064,database!$B$2:$C$6001,2,FALSE)),\"\",VLOOKUP(B3064,database!$B$2:$C$6001,2,FALSE))","v":""},null,null,null,"",null,null,null,{"$f":"IF(ISERROR(VLOOKUP(B3064,database!$B$2:$D$6001,3,FALSE)),\"\",VLOOKUP(B3064,database!$B$2:$D$6001,3,FALSE))","v":""},null,null,null,null,null,null,"",null,null,0,null,1,"indip"]
["",null,{"$f":"IF(ISERROR(VLOOKUP(B3071,database!$B$2:$C$6001,2,FALSE)),\"\",VLOOKUP(B3071,database!$B$2:$C$6001,2,FALSE))","v":""},null,null,null,"",null,null,null,{"$f":"IF(ISERROR(VLOOKUP(B3071,database!$B$2:$D$6001,3,FALSE)),\"\",VLOOKUP(B3071,database!$B$2:$D$6001,3,FALSE))","v":""},null,null,null,null,null,null,"",null,null,0,null,1,"indip"]
["",null,{"$f":"IF(ISERROR(VLOOKUP(B3074,database!$B$2:$C$6001,2,FALSE)),\"\",VLOOKUP(B3074,database!$B$2:$C$6001,2,FALSE))","v":""},null,null,null,"",null,null,null,{"$f":"IF(ISERROR(VLOOKUP(B3074,database!$B$2:$D$6001,3,FALSE)),\"\",VLOOKUP(B3074,database!$B$2:$D$6001,3,FALSE))","v":""},null,null,null,null,null,null,"",null,null,0,null,1,"indip"]
["",null,{"$f":"IF(ISERROR(VLOOKUP(B3079,database!$B$2:$C$6001,2,FALSE)),\"\",VLOOKUP(B3079,database!$B$2:$C$6001,2,FALSE))","v":""},null,null,null,"",null,null,null,{"$f":"IF(ISERROR(VLOOKUP(B3079,database!$B$2:$D$6001,3,FALSE)),\"\",VLOOKUP(B3079,database!$B$2:$D$6001,3,FALSE))","v":""},null,null,null,null,null,null,"",null,null,0,null,1,"indip"]
["",null,{"$f":"IF(ISERROR(VLOOKUP(B3084,database!$B$2:$C$6001,2,FALSE)),\"\",VLOOKUP(B3084,database!$B$2:$C$6001,2,FALSE))","v":""},null,null,null,"",null,null,null,{"$f":"IF(ISERROR(VLOOKUP(B3084,database!$B$2:$D$6001,3,FALSE)),\"\",VLOOKUP(B3084,database!$B$2:$D$6001,3,FALSE))","v":""},null,null,null,null,null,null,"",null,null,0,null,1,"indip"]
["",null,{"$f":"IF(ISERROR(VLOOKUP(B3090,database!$B$2:$C$6001,2,FALSE)),\"\",VLOOKUP(B3090,database!$B$2:$C$6001,2,FALSE))","v":""},null,null,null,"",null,null,null,{"$f":"IF(ISERROR(VLOOKUP(B3090,database!$B$2:$D$6001,3,FALSE)),\"\",VLOOKUP(B3090,database!$B$2:$D$6001,3,FALSE))","v":""},null,null,null,null,null,null,"",null,null,0,null,1,"indip"]
["",null,{"$f":"IF(ISERROR(VLOOKUP(B3094,database!$B$2:$C$6001,2,FALSE)),\"\",VLOOKUP(B3094,database!$B$2:$C$6001,2,FALSE))","v":""},null,null,null,"",null,null,null,{"$f":"IF(ISERROR(VLOOKUP(B3094,database!$B$2:$D$6001,3,FALSE)),\"\",VLOOKUP(B3094,database!$B$2:$D$6001,3,FALSE))","v":""},null,null,null,null,null,null,"",null,null,0,null,1,"indip"]
["",null,{"$f":"IF(ISERROR(VLOOKUP(B3100,database!$B$2:$C$6001,2,FALSE)),\"\",VLOOKUP(B3100,database!$B$2:$C$6001,2,FALSE))","v":""},null,null,null,"",null,null,null,{"$f":"IF(ISERROR(VLOOKUP(B3100,database!$B$2:$D$6001,3,FALSE)),\"\",VLOOKUP(B3100,database!$B$2:$D$6001,3,FALSE))","v":""},null,null,null,null,null,null,"",null,null,0,null,1,"indip"]
["",null,{"$f":"IF(ISERROR(VLOOKUP(B3105,database!$B$2:$C$6001,2,FALSE)),\"\",VLOOKUP(B3105,database!$B$2:$C$6001,2,FALSE))","v":""},null,null,null,"",null,null,null,{"$f":"IF(ISERROR(VLOOKUP(B3105,database!$B$2:$D$6001,3,FALSE)),\"\",VLOOKUP(B3105,database!$B$2:$D$6001,3,FALSE))","v":""},null,null,null,null,null,null,"",null,null,0,null,1,"indip"]
["",null,{"$f":"IF(ISERROR(VLOOKUP(B3110,database!$B$2:$C$6001,2,FALSE)),\"\",VLOOKUP(B3110,database!$B$2:$C$6001,2,FALSE))","v":""},null,null,null,"",null,null,null,{"$f":"IF(ISERROR(VLOOKUP(B3110,database!$B$2:$D$6001,3,FALSE)),\"\",VLOOKUP(B3110,database!$B$2:$D$6001,3,FALSE))","v":""},null,null,null,null,null,null,"",null,null,0,null,1,"indip"]
["",null,{"$f":"IF(ISERROR(VLOOKUP(B3111,database!$B$2:$C$6001,2,FALSE)),\"\",VLOOKUP(B3111,database!$B$2:$C$6001,2,FALSE))","v":""},null,null,null,"",null,null,null,{"$f":"IF(ISERROR(VLOOKUP(B3111,database!$B$2:$D$6001,3,FALSE)),\"\",VLOOKUP(B3111,database!$B$2:$D$6001,3,FALSE))","v":""},null,null,null,null,null,null,"",null,null,0,null,1,"indip"]
["",null,{"$f":"IF(ISERROR(VLOOKUP(B3115,database!$B$2:$C$6001,2,FALSE)),\"\",VLOOKUP(B3115,database!$B$2:$C$6001,2,FALSE))","v":""},null,null,null,"",null,null,null,{"$f":"IF(ISERROR(VLOOKUP(B3115,database!$B$2:$D$6001,3,FALSE)),\"\",VLOOKUP(B3115,database!$B$2:$D$6001,3,FALSE))","v":""},null,null,null,null,null,null,"",null,null,0,null,1,"indip"]
["",null,{"$f":"IF(ISERROR(VLOOKUP(B3120,database!$B$2:$C$6001,2,FALSE)),\"\",VLOOKUP(B3120,database!$B$2:$C$6001,2,FALSE))","v":""},null,null,null,"",null,null,null,{"$f":"IF(ISERROR(VLOOKUP(B3120,database!$B$2:$D$6001,3,FALSE)),\"\",VLOOKUP(B3120,database!$B$2:$D$6001,3,FALSE))","v":""},null,null,null,null,null,null,"",null,null,0,null,1,"indip"]
["",null,{"$f":"IF(ISERROR(VLOOKUP(B3126,database!$B$2:$C$6001,2,FALSE)),\"\",VLOOKUP(B3126,database!$B$2:$C$6001,2,FALSE))","v":""},null,null,null,"",null,null,null,{"$f":"IF(ISERROR(VLOOKUP(B3126,database!$B$2:$D$6001,3,FALSE)),\"\",VLOOKUP(B3126,database!$B$2:$D$6001,3,FALSE))","v":""},null,null,null,null,null,null,"",null,null,0,null,1,"indip"]
["",null,{"$f":"IF(ISERROR(VLOOKUP(B3130,database!$B$2:$C$6001,2,FALSE)),\"\",VLOOKUP(B3130,database!$B$2:$C$6001,2,FALSE))","v":""},null,null,null,"",null,null,null,{"$f":"IF(ISERROR(VLOOKUP(B3130,database!$B$2:$D$6001,3,FALSE)),\"\",VLOOKUP(B3130,database!$B$2:$D$6001,3,FALSE))","v":""},null,null,null,null,null,null,"",null,null,0,null,1,"indip"]
["",null,{"$f":"IF(ISERROR(VLOOKUP(B3136,database!$B$2:$C$6001,2,FALSE)),\"\",VLOOKUP(B3136,database!$B$2:$C$6001,2,FALSE))","v":""},null,null,null,"",null,null,null,{"$f":"IF(ISERROR(VLOOKUP(B3136,database!$B$2:$D$6001,3,FALSE)),\"\",VLOOKUP(B3136,database!$B$2:$D$6001,3,FALSE))","v":""},null,null,null,null,null,null,"",null,null,0,null,1,"indip"]
[{"$f":"IF(B3141=\"\",\"\",ROW(A3138))","v":""},null,{"$f":"IF(ISERROR(VLOOKUP(B3141,database!$B$2:$C$6001,2,FALSE)),\"\",VLOOKUP(B3141,database!$B$2:$C$6001,2,FALSE))","v":""},null,null,null,{"$f":"IF(B3141=\"\",\"\",IF(B3141=\"-\",0,IF(W3141=1,1,IF(AND(U3141=0,F3141=\"SSB\"),2,IF(AND(U3141=0,F3141=\"DIGI\"),3,IF(AND(U3141=0,F3141=\"CW\"),5,U3141))))))","v":""},null,null,null,{"$f":"IF(ISERROR(VLOOKUP(B3141,database!$B$2:$D$6001,3,FALSE)),\"\",VLOOKUP(B3141,database!$B$2:$D$6001,3,FALSE))","v":""},null,null,null,null,null,null,{"$f":"LEFT(C3141,2)","v":""},null,null,0,null,1,"indip"]
["",null,{"$f":"IF(ISERROR(VLOOKUP(B3146,database!$B$2:$C$6001,2,FALSE)),\"\",VLOOKUP(B3146,database!$B$2:$C$6001,2,FALSE))","v":""},null,null,null,"",null,null,null,{"$f":"IF(ISERROR(VLOOKUP(B3146,database!$B$2:$D$6001,3,FALSE)),\"\",VLOOKUP(B3146,database!$B$2:$D$6001,3,FALSE))","v":""},null,null,null,null,null,null,"",null,null,0,null,1,"indip"]
["",null,{"$f":"IF(ISERROR(VLOOKUP(B3149,database!$B$2:$C$6001,2,FALSE)),\"\",VLOOKUP(B3149,database!$B$2:$C$6001,2,FALSE))","v":""},null,null,null,"",null,null,null,{"$f":"IF(ISERROR(VLOOKUP(B3149,database!$B$2:$D$6001,3,FALSE)),\"\",VLOOKUP(B3149,database!$B$2:$D$6001,3,FALSE))","v":""},null,null,null,null,null,null,"",null,null,0,null,1,"indip"]
["",null,{"$f":"IF(ISERROR(VLOOKUP(B3156,database!$B$2:$C$6001,2,FALSE)),\"\",VLOOKUP(B3156,database!$B$2:$C$6001,2,FALSE))","v":""},null,null,null,"",null,null,null,{"$f":"IF(ISERROR(VLOOKUP(B3156,database!$B$2:$D$6001,3,FALSE)),\"\",VLOOKUP(B3156,database!$B$2:$D$6001,3,FALSE))","v":""},null,null,null,null,null,null,"",null,null,0,null,1,"indip"]
["",null,{"$f":"IF(ISERROR(VLOOKUP(B3162,database!$B$2:$C$6001,2,FALSE)),\"\",VLOOKUP(B3162,database!$B$2:$C$6001,2,FALSE))","v":""},null,null,null,"",null,null,null,{"$f":"IF(ISERROR(VLOOKUP(B3162,database!$B$2:$D$6001,3,FALSE)),\"\",VLOOKUP(B3162,database!$B$2:$D$6001,3,FALSE))","v":""},null,null,null,null,null,null,"",null,null,0,null,1,"indip"]
["",null,{"$f":"IF(ISERROR(VLOOKUP(B3167,database!$B$2:$C$6001,2,FALSE)),\"\",VLOOKUP(B3167,database!$B$2:$C$6001,2,FALSE))","v":""},null,null,null,"",null,null,null,{"$f":"IF(ISERROR(VLOOKUP(B3167,database!$B$2:$D$6001,3,FALSE)),\"\",VLOOKUP(B3167,database!$B$2:$D$6001,3,FALSE))","v":""},null,null,null,null,null,null,"",null,null,0,null,1,"indip"]
["",null,{"$f":"IF(ISERROR(VLOOKUP(B3168,database!$B$2:$C$6001,2,FALSE)),\"\",VLOOKUP(B3168,database!$B$2:$C$6001,2,FALSE))","v":""},null,null,null,"",null,null,null,{"$f":"IF(ISERROR(VLOOKUP(B3168,database!$B$2:$D$6001,3,FALSE)),\"\",VLOOKUP(B3168,database!$B$2:$D$6001,3,FALSE))","v":""},null,null,null,null,null,null,"",null,null,0,null,1,"indip"]
["",null,{"$f":"IF(ISERROR(VLOOKUP(B3172,database!$B$2:$C$6001,2,FALSE)),\"\",VLOOKUP(B3172,database!$B$2:$C$6001,2,FALSE))","v":""},null,null,null,"",null,null,null,{"$f":"IF(ISERROR(VLOOKUP(B3172,database!$B$2:$D$6001,3,FALSE)),\"\",VLOOKUP(B3172,database!$B$2:$D$6001,3,FALSE))","v":""},null,null,null,null,null,null,"",null,null,0,null,1,"indip"]
["",null,{"$f":"IF(ISERROR(VLOOKUP(B3177,database!$B$2:$C$6001,2,FALSE)),\"\",VLOOKUP(B3177,database!$B$2:$C$6001,2,FALSE))","v":""},null,null,null,"",null,null,null,{"$f":"IF(ISERROR(VLOOKUP(B3177,database!$B$2:$D$6001,3,FALSE)),\"\",VLOOKUP(B3177,database!$B$2:$D$6001,3,FALSE))","v":""},null,null,null,null,null,null,"",null,null,0,null,1,"indip"]
["",null,{"$f":"IF(ISERROR(VLOOKUP(B3182,database!$B$2:$C$6001,2,FALSE)),\"\",VLOOKUP(B3182,database!$B$2:$C$6001,2,FALSE))","v":""},null,null,null,"",null,null,null,{"$f":"IF(ISERROR(VLOOKUP(B3182,database!$B$2:$D$6001,3,FALSE)),\"\",VLOOKUP(B3182,database!$B$2:$D$6001,3,FALSE))","v":""},null,null,null,null,null,null,"",null,null,0,null,1,"indip"]
["",null,{"$f":"IF(ISERROR(VLOOKUP(B3187,database!$B$2:$C$6001,2,FALSE)),\"\",VLOOKUP(B3187,database!$B$2:$C$6001,2,FALSE))","v":""},null,null,null,"",null,null,null,{"$f":"IF(ISERROR(VLOOKUP(B3187,database!$B$2:$D$6001,3,FALSE)),\"\",VLOOKUP(B3187,database!$B$2:$D$6001,3,FALSE))","v":""},null,null,null,null,null,null,"",null,null,0,null,1,"indip"]
["",null,{"$f":"IF(ISERROR(VLOOKUP(B3192,database!$B$2:$C$6001,2,FALSE)),\"\",VLOOKUP(B3192,database!$B$2:$C$6001,2,FALSE))","v":""},null,null,null,"",null,null,null,{"$f":"IF(ISERROR(VLOOKUP(B3192,database!$B$2:$D$6001,3,FALSE)),\"\",VLOOKUP(B3192,database!$B$2:$D$6001,3,FALSE))","v":""},null,null,null,null,null,null,"",null,null,0,null,1,"indip"]
["",null,{"$f":"IF(ISERROR(VLOOKUP(B3198,database!$B$2:$C$6001,2,FALSE)),\"\",VLOOKUP(B3198,database!$B$2:$C$6001,2,FALSE))","v":""},null,null,null,"",null,null,null,{"$f":"IF(ISERROR(VLOOKUP(B3198,database!$B$2:$D$6001,3,FALSE)),\"\",VLOOKUP(B3198,database!$B$2:$D$6001,3,FALSE))","v":""},null,null,null,null,null,null,"",null,null,0,null,1,"indip"]
["",null,{"$f":"IF(ISERROR(VLOOKUP(B3203,database!$B$2:$C$6001,2,FALSE)),\"\",VLOOKUP(B3203,database!$B$2:$C$6001,2,FALSE))","v":""},null,null,null,"",null,null,null,{"$f":"IF(ISERROR(VLOOKUP(B3203,database!$B$2:$D$6001,3,FALSE)),\"\",VLOOKUP(B3203,database!$B$2:$D$6001,3,FALSE))","v":""},null,null,null,null,null,null,"",null,null,0,null,1,"indip"]
["",null,{"$f":"IF(ISERROR(VLOOKUP(B3208,database!$B$2:$C$6001,2,FALSE)),\"\",VLOOKUP(B3208,database!$B$2:$C$6001,2,FALSE))","v":""},null,null,null,"",null,null,null,{"$f":"IF(ISERROR(VLOOKUP(B3208,database!$B$2:$D$6001,3,FALSE)),\"\",VLOOKUP(B3208,database!$B$2:$D$6001,3,FALSE))","v":""},null,null,null,null,null,null,"",null,null,0,null,1,"indip"]
["",null,{"$f":"IF(ISERROR(VLOOKUP(B3212,database!$B$2:$C$6001,2,FALSE)),\"\",VLOOKUP(B3212,database!$B$2:$C$6001,2,FALSE))","v":""},null,null,null,"",null,null,null,{"$f":"IF(ISERROR(VLOOKUP(B3212,database!$B$2:$D$6001,3,FALSE)),\"\",VLOOKUP(B3212,database!$B$2:$D$6001,3,FALSE))","v":""},null,null,null,null,null,null,"",null,null,0,null,1,"indip"]
["",null,{"$f":"IF(ISERROR(VLOOKUP(B3218,database!$B$2:$C$6001,2,FALSE)),\"\",VLOOKUP(B3218,database!$B$2:$C$6001,2,FALSE))","v":""},null,null,null,"",null,null,null,{"$f":"IF(ISERROR(VLOOKUP(B3218,database!$B$2:$D$6001,3,FALSE)),\"\",VLOOKUP(B3218,database!$B$2:$D$6001,3,FALSE))","v":""},null,null,null,null,null,null,"",null,null,0,null,1,"indip"]
["",null,{"$f":"IF(ISERROR(VLOOKUP(B3223,database!$B$2:$C$6001,2,FALSE)),\"\",VLOOKUP(B3223,database!$B$2:$C$6001,2,FALSE))","v":""},null,null,null,"",null,null,null,{"$f":"IF(ISERROR(VLOOKUP(B3223,database!$B$2:$D$6001,3,FALSE)),\"\",VLOOKUP(B3223,database!$B$2:$D$6001,3,FALSE))","v":""},null,null,null,null,null,null,"",null,null,0,null,1,"indip"]
["",null,{"$f":"IF(ISERROR(VLOOKUP(B3229,database!$B$2:$C$6001,2,FALSE)),\"\",VLOOKUP(B3229,database!$B$2:$C$6001,2,FALSE))","v":""},null,null,null,"",null,null,null,{"$f":"IF(ISERROR(VLOOKUP(B3229,database!$B$2:$D$6001,3,FALSE)),\"\",VLOOKUP(B3229,database!$B$2:$D$6001,3,FALSE))","v":""},null,null,null,null,null,null,"",null,null,0,null,1,"indip"]
["",null,{"$f":"IF(ISERROR(VLOOKUP(B3231,database!$B$2:$C$6001,2,FALSE)),\"\",VLOOKUP(B3231,database!$B$2:$C$6001,2,FALSE))","v":""},null,null,null,"",null,null,null,{"$f":"IF(ISERROR(VLOOKUP(B3231,database!$B$2:$D$6001,3,FALSE)),\"\",VLOOKUP(B3231,database!$B$2:$D$6001,3,FALSE))","v":""},null,null,null,null,null,null,"",null,null,0,null,1,"indip"]
["",null,{"$f":"IF(ISERROR(VLOOKUP(B3234,database!$B$2:$C$6001,2,FALSE)),\"\",VLOOKUP(B3234,database!$B$2:$C$6001,2,FALSE))","v":""},null,null,null,"",null,null,null,{"$f":"IF(ISERROR(VLOOKUP(B3234,database!$B$2:$D$6001,3,FALSE)),\"\",VLOOKUP(B3234,database!$B$2:$D$6001,3,FALSE))","v":""},null,null,null,null,null,null,"",null,null,0,null,1,"indip"]
["",null,{"$f":"IF(ISERROR(VLOOKUP(B3239,database!$B$2:$C$6001,2,FALSE)),\"\",VLOOKUP(B3239,database!$B$2:$C$6001,2,FALSE))","v":""},null,null,null,"",null,null,null,{"$f":"IF(ISERROR(VLOOKUP(B3239,database!$B$2:$D$6001,3,FALSE)),\"\",VLOOKUP(B3239,database!$B$2:$D$6001,3,FALSE))","v":""},null,null,null,null,null,null,"",null,null,0,null,1,"indip"]
["",null,{"$f":"IF(ISERROR(VLOOKUP(B3244,database!$B$2:$C$6001,2,FALSE)),\"\",VLOOKUP(B3244,database!$B$2:$C$6001,2,FALSE))","v":""},null,null,null,"",null,null,null,{"$f":"IF(ISERROR(VLOOKUP(B3244,database!$B$2:$D$6001,3,FALSE)),\"\",VLOOKUP(B3244,database!$B$2:$D$6001,3,FALSE))","v":""},null,null,null,null,null,null,"",null,null,0,null,1,"indip"]
["",null,{"$f":"IF(ISERROR(VLOOKUP(B3250,database!$B$2:$C$6001,2,FALSE)),\"\",VLOOKUP(B3250,database!$B$2:$C$6001,2,FALSE))","v":""},null,null,null,"",null,null,null,{"$f":"IF(ISERROR(VLOOKUP(B3250,database!$B$2:$D$6001,3,FALSE)),\"\",VLOOKUP(B3250,database!$B$2:$D$6001,3,FALSE))","v":""},null,null,null,null,null,null,"",null,null,0,null,1,"indip"]
["",null,{"$f":"IF(ISERROR(VLOOKUP(B3254,database!$B$2:$C$6001,2,FALSE)),\"\",VLOOKUP(B3254,database!$B$2:$C$6001,2,FALSE))","v":""},null,null,null,"",null,null,null,{"$f":"IF(ISERROR(VLOOKUP(B3254,database!$B$2:$D$6001,3,FALSE)),\"\",VLOOKUP(B3254,database!$B$2:$D$6001,3,FALSE))","v":""},null,null,null,null,null,null,"",null,null,0,null,1,"indip"]
["",null,{"$f":"IF(ISERROR(VLOOKUP(B3260,database!$B$2:$C$6001,2,FALSE)),\"\",VLOOKUP(B3260,database!$B$2:$C$6001,2,FALSE))","v":""},null,null,null,"",null,null,null,{"$f":"IF(ISERROR(VLOOKUP(B3260,database!$B$2:$D$6001,3,FALSE)),\"\",VLOOKUP(B3260,database!$B$2:$D$6001,3,FALSE))","v":""},null,null,null,null,null,null,"",null,null,0,null,1,"indip"]
["",null,{"$f":"IF(ISERROR(VLOOKUP(B3265,database!$B$2:$C$6001,2,FALSE)),\"\",VLOOKUP(B3265,database!$B$2:$C$6001,2,FALSE))","v":""},null,null,null,"",null,null,null,{"$f":"IF(ISERROR(VLOOKUP(B3265,database!$B$2:$D$6001,3,FALSE)),\"\",VLOOKUP(B3265,database!$B$2:$D$6001,3,FALSE))","v":""},null,null,null,null,null,null,"",null,null,0,null,1,"indip"]
[{"$f":"IF(B3269=\"\",\"\",ROW(A3266))","v":""},null,{"$f":"IF(ISERROR(VLOOKUP(B3269,database!$B$2:$C$6001,2,FALSE)),\"\",VLOOKUP(B3269,database!$B$2:$C$6001,2,FALSE))","v":""},null,null,null,{"$f":"IF(B3269=\"\",\"\",IF(B3269=\"-\",0,IF(W3269=1,1,IF(AND(U3269=0,F3269=\"SSB\"),2,IF(AND(U3269=0,F3269=\"DIGI\"),3,IF(AND(U3269=0,F3269=\"CW\"),5,U3269))))))","v":""},null,null,null,{"$f":"IF(ISERROR(VLOOKUP(B3269,database!$B$2:$D$6001,3,FALSE)),\"\",VLOOKUP(B3269,database!$B$2:$D$6001,3,FALSE))","v":""},null,null,null,null,null,null,{"$f":"LEFT(C3269,2)","v":""},null,null,0,null,1,"indip"]
["",null,{"$f":"IF(ISERROR(VLOOKUP(B3275,database!$B$2:$C$6001,2,FALSE)),\"\",VLOOKUP(B3275,database!$B$2:$C$6001,2,FALSE))","v":""},null,null,null,"",null,null,null,{"$f":"IF(ISERROR(VLOOKUP(B3275,database!$B$2:$D$6001,3,FALSE)),\"\",VLOOKUP(B3275,database!$B$2:$D$6001,3,FALSE))","v":""},null,null,null,null,null,null,"",null,null,0,null,1,"indip"]
["",null,{"$f":"IF(ISERROR(VLOOKUP(B3280,database!$B$2:$C$6001,2,FALSE)),\"\",VLOOKUP(B3280,database!$B$2:$C$6001,2,FALSE))","v":""},null,null,null,"",null,null,null,{"$f":"IF(ISERROR(VLOOKUP(B3280,database!$B$2:$D$6001,3,FALSE)),\"\",VLOOKUP(B3280,database!$B$2:$D$6001,3,FALSE))","v":""},null,null,null,null,null,null,"",null,null,0,null,1,"indip"]
["",null,{"$f":"IF(ISERROR(VLOOKUP(B3285,database!$B$2:$C$6001,2,FALSE)),\"\",VLOOKUP(B3285,database!$B$2:$C$6001,2,FALSE))","v":""},null,null,null,"",null,null,null,{"$f":"IF(ISERROR(VLOOKUP(B3285,database!$B$2:$D$6001,3,FALSE)),\"\",VLOOKUP(B3285,database!$B$2:$D$6001,3,FALSE))","v":""},null,null,null,null,null,null,"",null,null,0,null,1,"indip"]
["",null,{"$f":"IF(ISERROR(VLOOKUP(B3291,database!$B$2:$C$6001,2,FALSE)),\"\",VLOOKUP(B3291,database!$B$2:$C$6001,2,FALSE))","v":""},null,null,null,"",null,null,null,{"$f":"IF(ISERROR(VLOOKUP(B3291,database!$B$2:$D$6001,3,FALSE)),\"\",VLOOKUP(B3291,database!$B$2:$D$6001,3,FALSE))","v":""},null,null,null,null,null,null,"",null,null,0,null,1,"indip"]
["",null,{"$f":"IF(ISERROR(VLOOKUP(B3294,database!$B$2:$C$6001,2,FALSE)),\"\",VLOOKUP(B3294,database!$B$2:$C$6001,2,FALSE))","v":""},null,null,null,"",null,null,null,{"$f":"IF(ISERROR(VLOOKUP(B3294,database!$B$2:$D$6001,3,FALSE)),\"\",VLOOKUP(B3294,database!$B$2:$D$6001,3,FALSE))","v":""},null,null,null,null,null,null,"",null,null,0,null,1,"indip"]
["",null,{"$f":"IF(ISERROR(VLOOKUP(B3296,database!$B$2:$C$6001,2,FALSE)),\"\",VLOOKUP(B3296,database!$B$2:$C$6001,2,FALSE))","v":""},null,null,null,"",null,null,null,{"$f":"IF(ISERROR(VLOOKUP(B3296,database!$B$2:$D$6001,3,FALSE)),\"\",VLOOKUP(B3296,database!$B$2:$D$6001,3,FALSE))","v":""},null,null,null,null,null,null,"",null,null,0,null,1,"indip"]
["",null,{"$f":"IF(ISERROR(VLOOKUP(B3301,database!$B$2:$C$6001,2,FALSE)),\"\",VLOOKUP(B3301,database!$B$2:$C$6001,2,FALSE))","v":""},null,null,null,"",null,null,null,{"$f":"IF(ISERROR(VLOOKUP(B3301,database!$B$2:$D$6001,3,FALSE)),\"\",VLOOKUP(B3301,database!$B$2:$D$6001,3,FALSE))","v":""},null,null,null,null,null,null,"",null,null,0,null,1,"indip"]
["",null,{"$f":"IF(ISERROR(VLOOKUP(B3306,database!$B$2:$C$6001,2,FALSE)),\"\",VLOOKUP(B3306,database!$B$2:$C$6001,2,FALSE))","v":""},null,null,null,"",null,null,null,{"$f":"IF(ISERROR(VLOOKUP(B3306,database!$B$2:$D$6001,3,FALSE)),\"\",VLOOKUP(B3306,database!$B$2:$D$6001,3,FALSE))","v":""},null,null,null,null,null,null,"",null,null,0,null,1,"indip"]
["",null,{"$f":"IF(ISERROR(VLOOKUP(B3313,database!$B$2:$C$6001,2,FALSE)),\"\",VLOOKUP(B3313,database!$B$2:$C$6001,2,FALSE))","v":""},null,null,null,"",null,null,null,{"$f":"IF(ISERROR(VLOOKUP(B3313,database!$B$2:$D$6001,3,FALSE)),\"\",VLOOKUP(B3313,database!$B$2:$D$6001,3,FALSE))","v":""},null,null,null,null,null,null,"",null,null,0,null,1,"indip"]
["",null,{"$f":"IF(ISERROR(VLOOKUP(B3316,database!$B$2:$C$6001,2,FALSE)),\"\",VLOOKUP(B3316,database!$B$2:$C$6001,2,FALSE))","v":""},null,null,null,"",null,null,null,{"$f":"IF(ISERROR(VLOOKUP(B3316,database!$B$2:$D$6001,3,FALSE)),\"\",VLOOKUP(B3316,database!$B$2:$D$6001,3,FALSE))","v":""},null,null,null,null,null,null,"",null,null,0,null,1,"indip"]
["",null,{"$f":"IF(ISERROR(VLOOKUP(B3322,database!$B$2:$C$6001,2,FALSE)),\"\",VLOOKUP(B3322,database!$B$2:$C$6001,2,FALSE))","v":""},null,null,null,"",null,null,null,{"$f":"IF(ISERROR(VLOOKUP(B3322,database!$B$2:$D$6001,3,FALSE)),\"\",VLOOKUP(B3322,database!$B$2:$D$6001,3,FALSE))","v":""},null,null,null,null,null,null,"",null,null,0,null,1,"indip"]
["",null,{"$f":"IF(ISERROR(VLOOKUP(B3327,database!$B$2:$C$6001,2,FALSE)),\"\",VLOOKUP(B3327,database!$B$2:$C$6001,2,FALSE))","v":""},null,null,null,"",null,null,null,{"$f":"IF(ISERROR(VLOOKUP(B3327,database!$B$2:$D$6001,3,FALSE)),\"\",VLOOKUP(B3327,database!$B$2:$D$6001,3,FALSE))","v":""},null,null,null,null,null,null,"",null,null,0,null,1,"indip"]
["",null,{"$f":"IF(ISERROR(VLOOKUP(B3332,database!$B$2:$C$6001,2,FALSE)),\"\",VLOOKUP(B3332,database!$B$2:$C$6001,2,FALSE))","v":""},null,null,null,"",null,null,null,{"$f":"IF(ISERROR(VLOOKUP(B3332,database!$B$2:$D$6001,3,FALSE)),\"\",VLOOKUP(B3332,database!$B$2:$D$6001,3,FALSE))","v":""},null,null,null,null,null,null,"",null,null,{"$f":"IFERROR(INDEX(M$39:N$140,MATCH(B3332,M$39:M$140,0),2),0)","v":0},null,{"$f":"IF(AND(U3332=0,C3332=\"\"),1,2)","v":1},{"$f":"IF(B3332=\"-\",\"\",IF(OR(B3332=M$39,B3332=M$40,B3332=M$41,B3332=M$42,B3332=M$43,B3332=M$44,B3332=M$45,B3332=M$46,B3332=M$47,,B3332=M$50,B3332=M$51,B3332=M$52,B3332=M$53,B3332=M$54,B3332=M$55,B3332=M$56,B3332=M$57,B3332=M$70),\"\",IF(C3332=\"\",\"indip\",F3332)))","v":"indip"}]
["",null,{"$f":"IF(ISERROR(VLOOKUP(B3337,database!$B$2:$C$6001,2,FALSE)),\"\",VLOOKUP(B3337,database!$B$2:$C$6001,2,FALSE))","v":""},null,null,null,"",null,null,null,{"$f":"IF(ISERROR(VLOOKUP(B3337,database!$B$2:$D$6001,3,FALSE)),\"\",VLOOKUP(B3337,database!$B$2:$D$6001,3,FALSE))","v":""},null,null,null,null,null,null,"",null,null,0,null,1,"indip"]
["",null,{"$f":"IF(ISERROR(VLOOKUP(B3342,database!$B$2:$C$6001,2,FALSE)),\"\",VLOOKUP(B3342,database!$B$2:$C$6001,2,FALSE))","v":""},null,null,null,"",null,null,null,{"$f":"IF(ISERROR(VLOOKUP(B3342,database!$B$2:$D$6001,3,FALSE)),\"\",VLOOKUP(B3342,database!$B$2:$D$6001,3,FALSE))","v":""},null,null,null,null,null,null,"",null,null,0,null,1,"indip"]
["",null,{"$f":"IF(ISERROR(VLOOKUP(B3347,database!$B$2:$C$6001,2,FALSE)),\"\",VLOOKUP(B3347,database!$B$2:$C$6001,2,FALSE))","v":""},null,null,null,"",null,null,null,{"$f":"IF(ISERROR(VLOOKUP(B3347,database!$B$2:$D$6001,3,FALSE)),\"\",VLOOKUP(B3347,database!$B$2:$D$6001,3,FALSE))","v":""},null,null,null,null,null,null,"",null,null,0,null,1,"indip"]
["",null,{"$f":"IF(ISERROR(VLOOKUP(B3351,database!$B$2:$C$6001,2,FALSE)),\"\",VLOOKUP(B3351,database!$B$2:$C$6001,2,FALSE))","v":""},null,null,null,"",null,null,null,{"$f":"IF(ISERROR(VLOOKUP(B3351,database!$B$2:$D$6001,3,FALSE)),\"\",VLOOKUP(B3351,database!$B$2:$D$6001,3,FALSE))","v":""},null,null,null,null,null,null,"",null,null,0,null,1,"indip"]
["",null,{"$f":"IF(ISERROR(VLOOKUP(B3357,database!$B$2:$C$6001,2,FALSE)),\"\",VLOOKUP(B3357,database!$B$2:$C$6001,2,FALSE))","v":""},null,null,null,"",null,null,null,{"$f":"IF(ISERROR(VLOOKUP(B3357,database!$B$2:$D$6001,3,FALSE)),\"\",VLOOKUP(B3357,database!$B$2:$D$6001,3,FALSE))","v":""},null,null,null,null,null,null,"",null,null,0,null,1,"indip"]
["",null,{"$f":"IF(ISERROR(VLOOKUP(B3358,database!$B$2:$C$6001,2,FALSE)),\"\",VLOOKUP(B3358,database!$B$2:$C$6001,2,FALSE))","v":""},null,null,null,"",null,null,null,{"$f":"IF(ISERROR(VLOOKUP(B3358,database!$B$2:$D$6001,3,FALSE)),\"\",VLOOKUP(B3358,database!$B$2:$D$6001,3,FALSE))","v":""},null,null,null,null,null,null,"",null,null,0,null,1,"indip"]
["",null,{"$f":"IF(ISERROR(VLOOKUP(B3363,database!$B$2:$C$6001,2,FALSE)),\"\",VLOOKUP(B3363,database!$B$2:$C$6001,2,FALSE))","v":""},null,null,null,"",null,null,null,{"$f":"IF(ISERROR(VLOOKUP(B3363,database!$B$2:$D$6001,3,FALSE)),\"\",VLOOKUP(B3363,database!$B$2:$D$6001,3,FALSE))","v":""},null,null,null,null,null,null,"",null,null,0,null,1,"indip"]
["",null,{"$f":"IF(ISERROR(VLOOKUP(B3370,database!$B$2:$C$6001,2,FALSE)),\"\",VLOOKUP(B3370,database!$B$2:$C$6001,2,FALSE))","v":""},null,null,null,"",null,null,null,{"$f":"IF(ISERROR(VLOOKUP(B3370,database!$B$2:$D$6001,3,FALSE)),\"\",VLOOKUP(B3370,database!$B$2:$D$6001,3,FALSE))","v":""},null,null,null,null,null,null,"",null,null,0,null,1,"indip"]
["",null,{"$f":"IF(ISERROR(VLOOKUP(B3373,database!$B$2:$C$6001,2,FALSE)),\"\",VLOOKUP(B3373,database!$B$2:$C$6001,2,FALSE))","v":""},null,null,null,"",null,null,null,{"$f":"IF(ISERROR(VLOOKUP(B3373,database!$B$2:$D$6001,3,FALSE)),\"\",VLOOKUP(B3373,database!$B$2:$D$6001,3,FALSE))","v":""},null,null,null,null,null,null,"",null,null,0,null,1,"indip"]
["",null,{"$f":"IF(ISERROR(VLOOKUP(B3378,database!$B$2:$C$6001,2,FALSE)),\"\",VLOOKUP(B3378,database!$B$2:$C$6001,2,FALSE))","v":""},null,null,null,"",null,null,null,{"$f":"IF(ISERROR(VLOOKUP(B3378,database!$B$2:$D$6001,3,FALSE)),\"\",VLOOKUP(B3378,database!$B$2:$D$6001,3,FALSE))","v":""},null,null,null,null,null,null,"",null,null,0,null,1,"indip"]
["",null,{"$f":"IF(ISERROR(VLOOKUP(B3383,database!$B$2:$C$6001,2,FALSE)),\"\",VLOOKUP(B3383,database!$B$2:$C$6001,2,FALSE))","v":""},null,null,null,"",null,null,null,{"$f":"IF(ISERROR(VLOOKUP(B3383,database!$B$2:$D$6001,3,FALSE)),\"\",VLOOKUP(B3383,database!$B$2:$D$6001,3,FALSE))","v":""},null,null,null,null,null,null,"",null,null,0,null,1,"indip"]
["",null,{"$f":"IF(ISERROR(VLOOKUP(B3389,database!$B$2:$C$6001,2,FALSE)),\"\",VLOOKUP(B3389,database!$B$2:$C$6001,2,FALSE))","v":""},null,null,null,"",null,null,null,{"$f":"IF(ISERROR(VLOOKUP(B3389,database!$B$2:$D$6001,3,FALSE)),\"\",VLOOKUP(B3389,database!$B$2:$D$6001,3,FALSE))","v":""},null,null,null,null,null,null,"",null,null,0,null,1,"indip"]
["",null,{"$f":"IF(ISERROR(VLOOKUP(B3395,database!$B$2:$C$6001,2,FALSE)),\"\",VLOOKUP(B3395,database!$B$2:$C$6001,2,FALSE))","v":""},null,null,null,"",null,null,null,{"$f":"IF(ISERROR(VLOOKUP(B3395,database!$B$2:$D$6001,3,FALSE)),\"\",VLOOKUP(B3395,database!$B$2:$D$6001,3,FALSE))","v":""},null,null,null,null,null,null,"",null,null,0,null,1,"indip"]
["",null,{"$f":"IF(ISERROR(VLOOKUP(B3399,database!$B$2:$C$6001,2,FALSE)),\"\",VLOOKUP(B3399,database!$B$2:$C$6001,2,FALSE))","v":""},null,null,null,"",null,null,null,{"$f":"IF(ISERROR(VLOOKUP(B3399,database!$B$2:$D$6001,3,FALSE)),\"\",VLOOKUP(B3399,database!$B$2:$D$6001,3,FALSE))","v":""},null,null,null,null,null,null,"",null,null,0,null,1,"indip"]
["",null,{"$f":"IF(ISERROR(VLOOKUP(B3404,database!$B$2:$C$6001,2,FALSE)),\"\",VLOOKUP(B3404,database!$B$2:$C$6001,2,FALSE))","v":""},null,null,null,"",null,null,null,{"$f":"IF(ISERROR(VLOOKUP(B3404,database!$B$2:$D$6001,3,FALSE)),\"\",VLOOKUP(B3404,database!$B$2:$D$6001,3,FALSE))","v":""},null,null,null,null,null,null,"",null,null,0,null,1,"indip"]
["",null,{"$f":"IF(ISERROR(VLOOKUP(B3409,database!$B$2:$C$6001,2,FALSE)),\"\",VLOOKUP(B3409,database!$B$2:$C$6001,2,FALSE))","v":""},null,null,null,"",null,null,null,{"$f":"IF(ISERROR(VLOOKUP(B3409,database!$B$2:$D$6001,3,FALSE)),\"\",VLOOKUP(B3409,database!$B$2:$D$6001,3,FALSE))","v":""},null,null,null,null,null,null,"",null,null,0,null,1,"indip"]
["",null,{"$f":"IF(ISERROR(VLOOKUP(B3414,database!$B$2:$C$6001,2,FALSE)),\"\",VLOOKUP(B3414,database!$B$2:$C$6001,2,FALSE))","v":""},null,null,null,"",null,null,null,{"$f":"IF(ISERROR(VLOOKUP(B3414,database!$B$2:$D$6001,3,FALSE)),\"\",VLOOKUP(B3414,database!$B$2:$D$6001,3,FALSE))","v":""},null,null,null,null,null,null,"",null,null,0,null,1,"indip"]
["",null,{"$f":"IF(ISERROR(VLOOKUP(B3419,database!$B$2:$C$6001,2,FALSE)),\"\",VLOOKUP(B3419,database!$B$2:$C$6001,2,FALSE))","v":""},null,null,null,"",null,null,null,{"$f":"IF(ISERROR(VLOOKUP(B3419,database!$B$2:$D$6001,3,FALSE)),\"\",VLOOKUP(B3419,database!$B$2:$D$6001,3,FALSE))","v":""},null,null,null,null,null,null,"",null,null,0,null,1,"indip"]
["",null,{"$f":"IF(ISERROR(VLOOKUP(B3420,database!$B$2:$C$6001,2,FALSE)),\"\",VLOOKUP(B3420,database!$B$2:$C$6001,2,FALSE))","v":""},null,null,null,"",null,null,null,{"$f":"IF(ISERROR(VLOOKUP(B3420,database!$B$2:$D$6001,3,FALSE)),\"\",VLOOKUP(B3420,database!$B$2:$D$6001,3,FALSE))","v":""},null,null,null,null,null,null,"",null,null,0,null,1,"indip"]
["",null,{"$f":"IF(ISERROR(VLOOKUP(B3425,database!$B$2:$C$6001,2,FALSE)),\"\",VLOOKUP(B3425,database!$B$2:$C$6001,2,FALSE))","v":""},null,null,null,"",null,null,null,{"$f":"IF(ISERROR(VLOOKUP(B3425,database!$B$2:$D$6001,3,FALSE)),\"\",VLOOKUP(B3425,database!$B$2:$D$6001,3,FALSE))","v":""},null,null,null,null,null,null,"",null,null,0,null,1,"indip"]
["",null,{"$f":"IF(ISERROR(VLOOKUP(B3433,database!$B$2:$C$6001,2,FALSE)),\"\",VLOOKUP(B3433,database!$B$2:$C$6001,2,FALSE))","v":""},null,null,null,"",null,null,null,{"$f":"IF(ISERROR(VLOOKUP(B3433,database!$B$2:$D$6001,3,FALSE)),\"\",VLOOKUP(B3433,database!$B$2:$D$6001,3,FALSE))","v":""},null,null,null,null,null,null,"",null,null,0,null,1,"indip"]
["",null,{"$f":"IF(ISERROR(VLOOKUP(B3435,database!$B$2:$C$6001,2,FALSE)),\"\",VLOOKUP(B3435,database!$B$2:$C$6001,2,FALSE))","v":""},null,null,null,"",null,null,null,{"$f":"IF(ISERROR(VLOOKUP(B3435,database!$B$2:$D$6001,3,FALSE)),\"\",VLOOKUP(B3435,database!$B$2:$D$6001,3,FALSE))","v":""},null,null,null,null,null,null,"",null,null,0,null,1,"indip"]
["",null,{"$f":"IF(ISERROR(VLOOKUP(B3440,database!$B$2:$C$6001,2,FALSE)),\"\",VLOOKUP(B3440,database!$B$2:$C$6001,2,FALSE))","v":""},null,null,null,"",null,null,null,{"$f":"IF(ISERROR(VLOOKUP(B3440,database!$B$2:$D$6001,3,FALSE)),\"\",VLOOKUP(B3440,database!$B$2:$D$6001,3,FALSE))","v":""},null,null,null,null,null,null,"",null,null,0,null,1,"indip"]
["",null,{"$f":"IF(ISERROR(VLOOKUP(B3445,database!$B$2:$C$6001,2,FALSE)),\"\",VLOOKUP(B3445,database!$B$2:$C$6001,2,FALSE))","v":""},null,null,null,"",null,null,null,{"$f":"IF(ISERROR(VLOOKUP(B3445,database!$B$2:$D$6001,3,FALSE)),\"\",VLOOKUP(B3445,database!$B$2:$D$6001,3,FALSE))","v":""},null,null,null,null,null,null,"",null,null,0,null,1,"indip"]
["",null,{"$f":"IF(ISERROR(VLOOKUP(B3452,database!$B$2:$C$6001,2,FALSE)),\"\",VLOOKUP(B3452,database!$B$2:$C$6001,2,FALSE))","v":""},null,null,null,"",null,null,null,{"$f":"IF(ISERROR(VLOOKUP(B3452,database!$B$2:$D$6001,3,FALSE)),\"\",VLOOKUP(B3452,database!$B$2:$D$6001,3,FALSE))","v":""},null,null,null,null,null,null,"",null,null,0,null,1,"indip"]
["",null,{"$f":"IF(ISERROR(VLOOKUP(B3455,database!$B$2:$C$6001,2,FALSE)),\"\",VLOOKUP(B3455,database!$B$2:$C$6001,2,FALSE))","v":""},null,null,null,"",null,null,null,{"$f":"IF(ISERROR(VLOOKUP(B3455,database!$B$2:$D$6001,3,FALSE)),\"\",VLOOKUP(B3455,database!$B$2:$D$6001,3,FALSE))","v":""},null,null,null,null,null,null,"",null,null,0,null,1,"indip"]
[{"$f":"IF(B3461=\"\",\"\",ROW(A3458))","v":""},null,{"$f":"IF(ISERROR(VLOOKUP(B3461,database!$B$2:$C$6001,2,FALSE)),\"\",VLOOKUP(B3461,database!$B$2:$C$6001,2,FALSE))","v":""},null,null,null,{"$f":"IF(B3461=\"\",\"\",IF(B3461=\"-\",0,IF(W3461=1,1,IF(AND(U3461=0,F3461=\"SSB\"),2,IF(AND(U3461=0,F3461=\"DIGI\"),3,IF(AND(U3461=0,F3461=\"CW\"),5,U3461))))))","v":""},null,null,null,{"$f":"IF(ISERROR(VLOOKUP(B3461,database!$B$2:$D$6001,3,FALSE)),\"\",VLOOKUP(B3461,database!$B$2:$D$6001,3,FALSE))","v":""},null,null,null,null,null,null,{"$f":"LEFT(C3461,2)","v":""},null,null,0,null,1,"indip"]
["",null,{"$f":"IF(ISERROR(VLOOKUP(B3466,database!$B$2:$C$6001,2,FALSE)),\"\",VLOOKUP(B3466,database!$B$2:$C$6001,2,FALSE))","v":""},null,null,null,"",null,null,null,{"$f":"IF(ISERROR(VLOOKUP(B3466,database!$B$2:$D$6001,3,FALSE)),\"\",VLOOKUP(B3466,database!$B$2:$D$6001,3,FALSE))","v":""},null,null,null,null,null,null,"",null,null,0,null,1,"indip"]
["",null,{"$f":"IF(ISERROR(VLOOKUP(B3471,database!$B$2:$C$6001,2,FALSE)),\"\",VLOOKUP(B3471,database!$B$2:$C$6001,2,FALSE))","v":""},null,null,null,"",null,null,null,{"$f":"IF(ISERROR(VLOOKUP(B3471,database!$B$2:$D$6001,3,FALSE)),\"\",VLOOKUP(B3471,database!$B$2:$D$6001,3,FALSE))","v":""},null,null,null,null,null,null,"",null,null,0,null,1,"indip"]
["",null,{"$f":"IF(ISERROR(VLOOKUP(B3476,database!$B$2:$C$6001,2,FALSE)),\"\",VLOOKUP(B3476,database!$B$2:$C$6001,2,FALSE))","v":""},null,null,null,"",null,null,null,{"$f":"IF(ISERROR(VLOOKUP(B3476,database!$B$2:$D$6001,3,FALSE)),\"\",VLOOKUP(B3476,database!$B$2:$D$6001,3,FALSE))","v":""},null,null,null,null,null,null,"",null,null,0,null,1,"indip"]
["",null,{"$f":"IF(ISERROR(VLOOKUP(B3481,database!$B$2:$C$6001,2,FALSE)),\"\",VLOOKUP(B3481,database!$B$2:$C$6001,2,FALSE))","v":""},null,null,null,"",null,null,null,{"$f":"IF(ISERROR(VLOOKUP(B3481,database!$B$2:$D$6001,3,FALSE)),\"\",VLOOKUP(B3481,database!$B$2:$D$6001,3,FALSE))","v":""},null,null,null,null,null,null,"",null,null,0,null,1,"indip"]
["",null,{"$f":"IF(ISERROR(VLOOKUP(B3482,database!$B$2:$C$6001,2,FALSE)),\"\",VLOOKUP(B3482,database!$B$2:$C$6001,2,FALSE))","v":""},null,null,null,"",null,null,null,{"$f":"IF(ISERROR(VLOOKUP(B3482,database!$B$2:$D$6001,3,FALSE)),\"\",VLOOKUP(B3482,database!$B$2:$D$6001,3,FALSE))","v":""},null,null,null,null,null,null,"",null,null,0,null,1,"indip"]
["",null,{"$f":"IF(ISERROR(VLOOKUP(B3487,database!$B$2:$C$6001,2,FALSE)),\"\",VLOOKUP(B3487,database!$B$2:$C$6001,2,FALSE))","v":""},null,null,null,"",null,null,null,{"$f":"IF(ISERROR(VLOOKUP(B3487,database!$B$2:$D$6001,3,FALSE)),\"\",VLOOKUP(B3487,database!$B$2:$D$6001,3,FALSE))","v":""},null,null,null,null,null,null,"",null,null,0,null,1,"indip"]
["",null,{"$f":"IF(ISERROR(VLOOKUP(B3492,database!$B$2:$C$6001,2,FALSE)),\"\",VLOOKUP(B3492,database!$B$2:$C$6001,2,FALSE))","v":""},null,null,null,"",null,null,null,{"$f":"IF(ISERROR(VLOOKUP(B3492,database!$B$2:$D$6001,3,FALSE)),\"\",VLOOKUP(B3492,database!$B$2:$D$6001,3,FALSE))","v":""},null,null,null,null,null,null,"",null,null,0,null,1,"indip"]
["",null,{"$f":"IF(ISERROR(VLOOKUP(B3497,database!$B$2:$C$6001,2,FALSE)),\"\",VLOOKUP(B3497,database!$B$2:$C$6001,2,FALSE))","v":""},null,null,null,"",null,null,null,{"$f":"IF(ISERROR(VLOOKUP(B3497,database!$B$2:$D$6001,3,FALSE)),\"\",VLOOKUP(B3497,database!$B$2:$D$6001,3,FALSE))","v":""},null,null,null,null,null,null,"",null,null,0,null,1,"indip"]
["",null,{"$f":"IF(ISERROR(VLOOKUP(B3502,database!$B$2:$C$6001,2,FALSE)),\"\",VLOOKUP(B3502,database!$B$2:$C$6001,2,FALSE))","v":""},null,null,null,"",null,null,null,{"$f":"IF(ISERROR(VLOOKUP(B3502,database!$B$2:$D$6001,3,FALSE)),\"\",VLOOKUP(B3502,database!$B$2:$D$6001,3,FALSE))","v":""},null,null,null,null,null,null,"",null,null,0,null,1,"indip"]
["",null,{"$f":"IF(ISERROR(VLOOKUP(B3507,database!$B$2:$C$6001,2,FALSE)),\"\",VLOOKUP(B3507,database!$B$2:$C$6001,2,FALSE))","v":""},null,null,null,"",null,null,null,{"$f":"IF(ISERROR(VLOOKUP(B3507,database!$B$2:$D$6001,3,FALSE)),\"\",VLOOKUP(B3507,database!$B$2:$D$6001,3,FALSE))","v":""},null,null,null,null,null,null,"",null,null,0,null,1,"indip"]
["",null,{"$f":"IF(ISERROR(VLOOKUP(B3511,database!$B$2:$C$6001,2,FALSE)),\"\",VLOOKUP(B3511,database!$B$2:$C$6001,2,FALSE))","v":""},null,null,null,"",null,null,null,{"$f":"IF(ISERROR(VLOOKUP(B3511,database!$B$2:$D$6001,3,FALSE)),\"\",VLOOKUP(B3511,database!$B$2:$D$6001,3,FALSE))","v":""},null,null,null,null,null,null,"",null,null,0,null,1,"indip"]
["",null,{"$f":"IF(ISERROR(VLOOKUP(B3517,database!$B$2:$C$6001,2,FALSE)),\"\",VLOOKUP(B3517,database!$B$2:$C$6001,2,FALSE))","v":""},null,null,null,"",null,null,null,{"$f":"IF(ISERROR(VLOOKUP(B3517,database!$B$2:$D$6001,3,FALSE)),\"\",VLOOKUP(B3517,database!$B$2:$D$6001,3,FALSE))","v":""},null,null,null,null,null,null,"",null,null,0,null,1,"indip"]
["",null,{"$f":"IF(ISERROR(VLOOKUP(B3523,database!$B$2:$C$6001,2,FALSE)),\"\",VLOOKUP(B3523,database!$B$2:$C$6001,2,FALSE))","v":""},null,null,null,"",null,null,null,{"$f":"IF(ISERROR(VLOOKUP(B3523,database!$B$2:$D$6001,3,FALSE)),\"\",VLOOKUP(B3523,database!$B$2:$D$6001,3,FALSE))","v":""},null,null,null,null,null,null,"",null,null,0,null,1,"indip"]
["",null,{"$f":"IF(ISERROR(VLOOKUP(B3528,database!$B$2:$C$6001,2,FALSE)),\"\",VLOOKUP(B3528,database!$B$2:$C$6001,2,FALSE))","v":""},null,null,null,"",null,null,null,{"$f":"IF(ISERROR(VLOOKUP(B3528,database!$B$2:$D$6001,3,FALSE)),\"\",VLOOKUP(B3528,database!$B$2:$D$6001,3,FALSE))","v":""},null,null,null,null,null,null,"",null,null,0,null,1,"indip"]
["",null,{"$f":"IF(ISERROR(VLOOKUP(B3530,database!$B$2:$C$6001,2,FALSE)),\"\",VLOOKUP(B3530,database!$B$2:$C$6001,2,FALSE))","v":""},null,null,null,"",null,null,null,{"$f":"IF(ISERROR(VLOOKUP(B3530,database!$B$2:$D$6001,3,FALSE)),\"\",VLOOKUP(B3530,database!$B$2:$D$6001,3,FALSE))","v":""},null,null,null,null,null,null,"",null,null,0,null,1,"indip"]
["",null,{"$f":"IF(ISERROR(VLOOKUP(B3538,database!$B$2:$C$6001,2,FALSE)),\"\",VLOOKUP(B3538,database!$B$2:$C$6001,2,FALSE))","v":""},null,null,null,"",null,null,null,{"$f":"IF(ISERROR(VLOOKUP(B3538,database!$B$2:$D$6001,3,FALSE)),\"\",VLOOKUP(B3538,database!$B$2:$D$6001,3,FALSE))","v":""},null,null,null,null,null,null,"",null,null,0,null,1,"indip"]
["",null,{"$f":"IF(ISERROR(VLOOKUP(B3543,database!$B$2:$C$6001,2,FALSE)),\"\",VLOOKUP(B3543,database!$B$2:$C$6001,2,FALSE))","v":""},null,null,null,"",null,null,null,{"$f":"IF(ISERROR(VLOOKUP(B3543,database!$B$2:$D$6001,3,FALSE)),\"\",VLOOKUP(B3543,database!$B$2:$D$6001,3,FALSE))","v":""},null,null,null,null,null,null,"",null,null,0,null,1,"indip"]
["",null,{"$f":"IF(ISERROR(VLOOKUP(B3548,database!$B$2:$C$6001,2,FALSE)),\"\",VLOOKUP(B3548,database!$B$2:$C$6001,2,FALSE))","v":""},null,null,null,"",null,null,null,{"$f":"IF(ISERROR(VLOOKUP(B3548,database!$B$2:$D$6001,3,FALSE)),\"\",VLOOKUP(B3548,database!$B$2:$D$6001,3,FALSE))","v":""},null,null,null,null,null,null,"",null,null,0,null,1,"indip"]
["",null,{"$f":"IF(ISERROR(VLOOKUP(B3549,database!$B$2:$C$6001,2,FALSE)),\"\",VLOOKUP(B3549,database!$B$2:$C$6001,2,FALSE))","v":""},null,null,null,"",null,null,null,{"$f":"IF(ISERROR(VLOOKUP(B3549,database!$B$2:$D$6001,3,FALSE)),\"\",VLOOKUP(B3549,database!$B$2:$D$6001,3,FALSE))","v":""},null,null,null,null,null,null,"",null,null,0,null,1,"indip"]
["",null,{"$f":"IF(ISERROR(VLOOKUP(B3553,database!$B$2:$C$6001,2,FALSE)),\"\",VLOOKUP(B3553,database!$B$2:$C$6001,2,FALSE))","v":""},null,null,null,"",null,null,null,{"$f":"IF(ISERROR(VLOOKUP(B3553,database!$B$2:$D$6001,3,FALSE)),\"\",VLOOKUP(B3553,database!$B$2:$D$6001,3,FALSE))","v":""},null,null,null,null,null,null,"",null,null,0,null,1,"indip"]
["",null,{"$f":"IF(ISERROR(VLOOKUP(B3559,database!$B$2:$C$6001,2,FALSE)),\"\",VLOOKUP(B3559,database!$B$2:$C$6001,2,FALSE))","v":""},null,null,null,"",null,null,null,{"$f":"IF(ISERROR(VLOOKUP(B3559,database!$B$2:$D$6001,3,FALSE)),\"\",VLOOKUP(B3559,database!$B$2:$D$6001,3,FALSE))","v":""},null,null,null,null,null,null,"",null,null,0,null,1,"indip"]
["",null,{"$f":"IF(ISERROR(VLOOKUP(B3564,database!$B$2:$C$6001,2,FALSE)),\"\",VLOOKUP(B3564,database!$B$2:$C$6001,2,FALSE))","v":""},null,null,null,"",null,null,null,{"$f":"IF(ISERROR(VLOOKUP(B3564,database!$B$2:$D$6001,3,FALSE)),\"\",VLOOKUP(B3564,database!$B$2:$D$6001,3,FALSE))","v":""},null,null,null,null,null,null,"",null,null,0,null,1,"indip"]
["",null,{"$f":"IF(ISERROR(VLOOKUP(B3569,database!$B$2:$C$6001,2,FALSE)),\"\",VLOOKUP(B3569,database!$B$2:$C$6001,2,FALSE))","v":""},null,null,null,"",null,null,null,{"$f":"IF(ISERROR(VLOOKUP(B3569,database!$B$2:$D$6001,3,FALSE)),\"\",VLOOKUP(B3569,database!$B$2:$D$6001,3,FALSE))","v":""},null,null,null,null,null,null,"",null,null,0,null,1,"indip"]
["",null,{"$f":"IF(ISERROR(VLOOKUP(B3574,database!$B$2:$C$6001,2,FALSE)),\"\",VLOOKUP(B3574,database!$B$2:$C$6001,2,FALSE))","v":""},null,null,null,"",null,null,null,{"$f":"IF(ISERROR(VLOOKUP(B3574,database!$B$2:$D$6001,3,FALSE)),\"\",VLOOKUP(B3574,database!$B$2:$D$6001,3,FALSE))","v":""},null,null,null,null,null,null,"",null,null,0,null,1,"indip"]
["",null,{"$f":"IF(ISERROR(VLOOKUP(B3579,database!$B$2:$C$6001,2,FALSE)),\"\",VLOOKUP(B3579,database!$B$2:$C$6001,2,FALSE))","v":""},null,null,null,"",null,null,null,{"$f":"IF(ISERROR(VLOOKUP(B3579,database!$B$2:$D$6001,3,FALSE)),\"\",VLOOKUP(B3579,database!$B$2:$D$6001,3,FALSE))","v":""},null,null,null,null,null,null,"",null,null,0,null,1,"indip"]
["",null,{"$f":"IF(ISERROR(VLOOKUP(B3585,database!$B$2:$C$6001,2,FALSE)),\"\",VLOOKUP(B3585,database!$B$2:$C$6001,2,FALSE))","v":""},null,null,null,"",null,null,null,{"$f":"IF(ISERROR(VLOOKUP(B3585,database!$B$2:$D$6001,3,FALSE)),\"\",VLOOKUP(B3585,database!$B$2:$D$6001,3,FALSE))","v":""},null,null,null,null,null,null,"",null,null,0,null,1,"indip"]
["",null,{"$f":"IF(ISERROR(VLOOKUP(B3590,database!$B$2:$C$6001,2,FALSE)),\"\",VLOOKUP(B3590,database!$B$2:$C$6001,2,FALSE))","v":""},null,null,null,"",null,null,null,{"$f":"IF(ISERROR(VLOOKUP(B3590,database!$B$2:$D$6001,3,FALSE)),\"\",VLOOKUP(B3590,database!$B$2:$D$6001,3,FALSE))","v":""},null,null,null,null,null,null,"",null,null,0,null,1,"indip"]
["",null,{"$f":"IF(ISERROR(VLOOKUP(B3593,database!$B$2:$C$6001,2,FALSE)),\"\",VLOOKUP(B3593,database!$B$2:$C$6001,2,FALSE))","v":""},null,null,null,"",null,null,null,{"$f":"IF(ISERROR(VLOOKUP(B3593,database!$B$2:$D$6001,3,FALSE)),\"\",VLOOKUP(B3593,database!$B$2:$D$6001,3,FALSE))","v":""},null,null,null,null,null,null,"",null,null,0,null,1,"indip"]
["",null,{"$f":"IF(ISERROR(VLOOKUP(B3600,database!$B$2:$C$6001,2,FALSE)),\"\",VLOOKUP(B3600,database!$B$2:$C$6001,2,FALSE))","v":""},null,null,null,"",null,null,null,{"$f":"IF(ISERROR(VLOOKUP(B3600,database!$B$2:$D$6001,3,FALSE)),\"\",VLOOKUP(B3600,database!$B$2:$D$6001,3,FALSE))","v":""},null,null,null,null,null,null,"",null,null,0,null,1,"indip"]
["",null,{"$f":"IF(ISERROR(VLOOKUP(B3605,database!$B$2:$C$6001,2,FALSE)),\"\",VLOOKUP(B3605,database!$B$2:$C$6001,2,FALSE))","v":""},null,null,null,"",null,null,null,{"$f":"IF(ISERROR(VLOOKUP(B3605,database!$B$2:$D$6001,3,FALSE)),\"\",VLOOKUP(B3605,database!$B$2:$D$6001,3,FALSE))","v":""},null,null,null,null,null,null,"",null,null,0,null,1,"indip"]
["",null,{"$f":"IF(ISERROR(VLOOKUP(B3610,database!$B$2:$C$6001,2,FALSE)),\"\",VLOOKUP(B3610,database!$B$2:$C$6001,2,FALSE))","v":""},null,null,null,"",null,null,null,{"$f":"IF(ISERROR(VLOOKUP(B3610,database!$B$2:$D$6001,3,FALSE)),\"\",VLOOKUP(B3610,database!$B$2:$D$6001,3,FALSE))","v":""},null,null,null,null,null,null,"",null,null,0,null,1,"indip"]
["",null,{"$f":"IF(ISERROR(VLOOKUP(B3612,database!$B$2:$C$6001,2,FALSE)),\"\",VLOOKUP(B3612,database!$B$2:$C$6001,2,FALSE))","v":""},null,null,null,"",null,null,null,{"$f":"IF(ISERROR(VLOOKUP(B3612,database!$B$2:$D$6001,3,FALSE)),\"\",VLOOKUP(B3612,database!$B$2:$D$6001,3,FALSE))","v":""},null,null,null,null,null,null,"",null,null,0,null,1,"indip"]
["",null,{"$f":"IF(ISERROR(VLOOKUP(B3615,database!$B$2:$C$6001,2,FALSE)),\"\",VLOOKUP(B3615,database!$B$2:$C$6001,2,FALSE))","v":""},null,null,null,"",null,null,null,{"$f":"IF(ISERROR(VLOOKUP(B3615,database!$B$2:$D$6001,3,FALSE)),\"\",VLOOKUP(B3615,database!$B$2:$D$6001,3,FALSE))","v":""},null,null,null,null,null,null,"",null,null,0,null,1,"indip"]
["",null,{"$f":"IF(ISERROR(VLOOKUP(B3621,database!$B$2:$C$6001,2,FALSE)),\"\",VLOOKUP(B3621,database!$B$2:$C$6001,2,FALSE))","v":""},null,null,null,"",null,null,null,{"$f":"IF(ISERROR(VLOOKUP(B3621,database!$B$2:$D$6001,3,FALSE)),\"\",VLOOKUP(B3621,database!$B$2:$D$6001,3,FALSE))","v":""},null,null,null,null,null,null,"",null,null,0,null,1,"indip"]
["",null,{"$f":"IF(ISERROR(VLOOKUP(B3626,database!$B$2:$C$6001,2,FALSE)),\"\",VLOOKUP(B3626,database!$B$2:$C$6001,2,FALSE))","v":""},null,null,null,"",null,null,null,{"$f":"IF(ISERROR(VLOOKUP(B3626,database!$B$2:$D$6001,3,FALSE)),\"\",VLOOKUP(B3626,database!$B$2:$D$6001,3,FALSE))","v":""},null,null,null,null,null,null,"",null,null,0,null,1,"indip"]
["",null,{"$f":"IF(ISERROR(VLOOKUP(B3631,database!$B$2:$C$6001,2,FALSE)),\"\",VLOOKUP(B3631,database!$B$2:$C$6001,2,FALSE))","v":""},null,null,null,"",null,null,null,{"$f":"IF(ISERROR(VLOOKUP(B3631,database!$B$2:$D$6001,3,FALSE)),\"\",VLOOKUP(B3631,database!$B$2:$D$6001,3,FALSE))","v":""},null,null,null,null,null,null,"",null,null,0,null,1,"indip"]
["",null,{"$f":"IF(ISERROR(VLOOKUP(B3636,database!$B$2:$C$6001,2,FALSE)),\"\",VLOOKUP(B3636,database!$B$2:$C$6001,2,FALSE))","v":""},null,null,null,"",null,null,null,{"$f":"IF(ISERROR(VLOOKUP(B3636,database!$B$2:$D$6001,3,FALSE)),\"\",VLOOKUP(B3636,database!$B$2:$D$6001,3,FALSE))","v":""},null,null,null,null,null,null,"",null,null,0,null,1,"indip"]
["",null,{"$f":"IF(ISERROR(VLOOKUP(B3641,database!$B$2:$C$6001,2,FALSE)),\"\",VLOOKUP(B3641,database!$B$2:$C$6001,2,FALSE))","v":""},null,null,null,"",null,null,null,{"$f":"IF(ISERROR(VLOOKUP(B3641,database!$B$2:$D$6001,3,FALSE)),\"\",VLOOKUP(B3641,database!$B$2:$D$6001,3,FALSE))","v":""},null,null,null,null,null,null,"",null,null,0,null,1,"indip"]
["",null,{"$f":"IF(ISERROR(VLOOKUP(B3646,database!$B$2:$C$6001,2,FALSE)),\"\",VLOOKUP(B3646,database!$B$2:$C$6001,2,FALSE))","v":""},null,null,null,"",null,null,null,{"$f":"IF(ISERROR(VLOOKUP(B3646,database!$B$2:$D$6001,3,FALSE)),\"\",VLOOKUP(B3646,database!$B$2:$D$6001,3,FALSE))","v":""},null,null,null,null,null,null,"",null,null,0,null,1,"indip"]
["",null,{"$f":"IF(ISERROR(VLOOKUP(B3650,database!$B$2:$C$6001,2,FALSE)),\"\",VLOOKUP(B3650,database!$B$2:$C$6001,2,FALSE))","v":""},null,null,null,"",null,null,null,{"$f":"IF(ISERROR(VLOOKUP(B3650,database!$B$2:$D$6001,3,FALSE)),\"\",VLOOKUP(B3650,database!$B$2:$D$6001,3,FALSE))","v":""},null,null,null,null,null,null,"",null,null,0,null,1,"indip"]
["",null,{"$f":"IF(ISERROR(VLOOKUP(B3656,database!$B$2:$C$6001,2,FALSE)),\"\",VLOOKUP(B3656,database!$B$2:$C$6001,2,FALSE))","v":""},null,null,null,"",null,null,null,{"$f":"IF(ISERROR(VLOOKUP(B3656,database!$B$2:$D$6001,3,FALSE)),\"\",VLOOKUP(B3656,database!$B$2:$D$6001,3,FALSE))","v":""},null,null,null,null,null,null,"",null,null,0,null,1,"indip"]
["",null,{"$f":"IF(ISERROR(VLOOKUP(B3662,database!$B$2:$C$6001,2,FALSE)),\"\",VLOOKUP(B3662,database!$B$2:$C$6001,2,FALSE))","v":""},null,null,null,"",null,null,null,{"$f":"IF(ISERROR(VLOOKUP(B3662,database!$B$2:$D$6001,3,FALSE)),\"\",VLOOKUP(B3662,database!$B$2:$D$6001,3,FALSE))","v":""},null,null,null,null,null,null,"",null,null,0,null,1,"indip"]
["",null,{"$f":"IF(ISERROR(VLOOKUP(B3667,database!$B$2:$C$6001,2,FALSE)),\"\",VLOOKUP(B3667,database!$B$2:$C$6001,2,FALSE))","v":""},null,null,null,"",null,null,null,{"$f":"IF(ISERROR(VLOOKUP(B3667,database!$B$2:$D$6001,3,FALSE)),\"\",VLOOKUP(B3667,database!$B$2:$D$6001,3,FALSE))","v":""},null,null,null,null,null,null,"",null,null,0,null,1,"indip"]
["",null,{"$f":"IF(ISERROR(VLOOKUP(B3672,database!$B$2:$C$6001,2,FALSE)),\"\",VLOOKUP(B3672,database!$B$2:$C$6001,2,FALSE))","v":""},null,null,null,"",null,null,null,{"$f":"IF(ISERROR(VLOOKUP(B3672,database!$B$2:$D$6001,3,FALSE)),\"\",VLOOKUP(B3672,database!$B$2:$D$6001,3,FALSE))","v":""},null,null,null,null,null,null,"",null,null,0,null,1,"indip"]
["",null,{"$f":"IF(ISERROR(VLOOKUP(B3675,database!$B$2:$C$6001,2,FALSE)),\"\",VLOOKUP(B3675,database!$B$2:$C$6001,2,FALSE))","v":""},null,null,null,"",null,null,null,{"$f":"IF(ISERROR(VLOOKUP(B3675,database!$B$2:$D$6001,3,FALSE)),\"\",VLOOKUP(B3675,database!$B$2:$D$6001,3,FALSE))","v":""},null,null,null,null,null,null,"",null,null,0,null,1,"indip"]
["",null,{"$f":"IF(ISERROR(VLOOKUP(B3677,database!$B$2:$C$6001,2,FALSE)),\"\",VLOOKUP(B3677,database!$B$2:$C$6001,2,FALSE))","v":""},null,null,null,"",null,null,null,{"$f":"IF(ISERROR(VLOOKUP(B3677,database!$B$2:$D$6001,3,FALSE)),\"\",VLOOKUP(B3677,database!$B$2:$D$6001,3,FALSE))","v":""},null,null,null,null,null,null,"",null,null,0,null,1,"indip"]
["",null,{"$f":"IF(ISERROR(VLOOKUP(B3683,database!$B$2:$C$6001,2,FALSE)),\"\",VLOOKUP(B3683,database!$B$2:$C$6001,2,FALSE))","v":""},null,null,null,"",null,null,null,{"$f":"IF(ISERROR(VLOOKUP(B3683,database!$B$2:$D$6001,3,FALSE)),\"\",VLOOKUP(B3683,database!$B$2:$D$6001,3,FALSE))","v":""},null,null,null,null,null,null,"",null,null,0,null,1,"indip"]
["",null,{"$f":"IF(ISERROR(VLOOKUP(B3688,database!$B$2:$C$6001,2,FALSE)),\"\",VLOOKUP(B3688,database!$B$2:$C$6001,2,FALSE))","v":""},null,null,null,"",null,null,null,{"$f":"IF(ISERROR(VLOOKUP(B3688,database!$B$2:$D$6001,3,FALSE)),\"\",VLOOKUP(B3688,database!$B$2:$D$6001,3,FALSE))","v":""},null,null,null,null,null,null,"",null,null,0,null,1,"indip"]
["",null,{"$f":"IF(ISERROR(VLOOKUP(B3694,database!$B$2:$C$6001,2,FALSE)),\"\",VLOOKUP(B3694,database!$B$2:$C$6001,2,FALSE))","v":""},null,null,null,"",null,null,null,{"$f":"IF(ISERROR(VLOOKUP(B3694,database!$B$2:$D$6001,3,FALSE)),\"\",VLOOKUP(B3694,database!$B$2:$D$6001,3,FALSE))","v":""},null,null,null,null,null,null,"",null,null,0,null,1,"indip"]
["",null,{"$f":"IF(ISERROR(VLOOKUP(B3698,database!$B$2:$C$6001,2,FALSE)),\"\",VLOOKUP(B3698,database!$B$2:$C$6001,2,FALSE))","v":""},null,null,null,"",null,null,null,{"$f":"IF(ISERROR(VLOOKUP(B3698,database!$B$2:$D$6001,3,FALSE)),\"\",VLOOKUP(B3698,database!$B$2:$D$6001,3,FALSE))","v":""},null,null,null,null,null,null,"",null,null,0,null,1,"indip"]
["",null,{"$f":"IF(ISERROR(VLOOKUP(B3703,database!$B$2:$C$6001,2,FALSE)),\"\",VLOOKUP(B3703,database!$B$2:$C$6001,2,FALSE))","v":""},null,null,null,"",null,null,null,{"$f":"IF(ISERROR(VLOOKUP(B3703,database!$B$2:$D$6001,3,FALSE)),\"\",VLOOKUP(B3703,database!$B$2:$D$6001,3,FALSE))","v":""},null,null,null,null,null,null,"",null,null,0,null,1,"indip"]
["",null,{"$f":"IF(ISERROR(VLOOKUP(B3708,database!$B$2:$C$6001,2,FALSE)),\"\",VLOOKUP(B3708,database!$B$2:$C$6001,2,FALSE))","v":""},null,null,null,"",null,null,null,{"$f":"IF(ISERROR(VLOOKUP(B3708,database!$B$2:$D$6001,3,FALSE)),\"\",VLOOKUP(B3708,database!$B$2:$D$6001,3,FALSE))","v":""},null,null,null,null,null,null,"",null,null,0,null,1,"indip"]
["",null,{"$f":"IF(ISERROR(VLOOKUP(B3713,database!$B$2:$C$6001,2,FALSE)),\"\",VLOOKUP(B3713,database!$B$2:$C$6001,2,FALSE))","v":""},null,null,null,"",null,null,null,{"$f":"IF(ISERROR(VLOOKUP(B3713,database!$B$2:$D$6001,3,FALSE)),\"\",VLOOKUP(B3713,database!$B$2:$D$6001,3,FALSE))","v":""},null,null,null,null,null,null,"",null,null,0,null,1,"indip"]
["",null,{"$f":"IF(ISERROR(VLOOKUP(B3718,database!$B$2:$C$6001,2,FALSE)),\"\",VLOOKUP(B3718,database!$B$2:$C$6001,2,FALSE))","v":""},null,null,null,"",null,null,null,{"$f":"IF(ISERROR(VLOOKUP(B3718,database!$B$2:$D$6001,3,FALSE)),\"\",VLOOKUP(B3718,database!$B$2:$D$6001,3,FALSE))","v":""},null,null,null,null,null,null,"",null,null,0,null,1,"indip"]
["",null,{"$f":"IF(ISERROR(VLOOKUP(B3724,database!$B$2:$C$6001,2,FALSE)),\"\",VLOOKUP(B3724,database!$B$2:$C$6001,2,FALSE))","v":""},null,null,null,"",null,null,null,{"$f":"IF(ISERROR(VLOOKUP(B3724,database!$B$2:$D$6001,3,FALSE)),\"\",VLOOKUP(B3724,database!$B$2:$D$6001,3,FALSE))","v":""},null,null,null,null,null,null,"",null,null,0,null,1,"indip"]
["",null,{"$f":"IF(ISERROR(VLOOKUP(B3729,database!$B$2:$C$6001,2,FALSE)),\"\",VLOOKUP(B3729,database!$B$2:$C$6001,2,FALSE))","v":""},null,null,null,"",null,null,null,{"$f":"IF(ISERROR(VLOOKUP(B3729,database!$B$2:$D$6001,3,FALSE)),\"\",VLOOKUP(B3729,database!$B$2:$D$6001,3,FALSE))","v":""},null,null,null,null,null,null,"",null,null,0,null,1,"indip"]
["",null,{"$f":"IF(ISERROR(VLOOKUP(B3732,database!$B$2:$C$6001,2,FALSE)),\"\",VLOOKUP(B3732,database!$B$2:$C$6001,2,FALSE))","v":""},null,null,null,"",null,null,null,{"$f":"IF(ISERROR(VLOOKUP(B3732,database!$B$2:$D$6001,3,FALSE)),\"\",VLOOKUP(B3732,database!$B$2:$D$6001,3,FALSE))","v":""},null,null,null,null,null,null,"",null,null,0,null,1,"indip"]
["",null,{"$f":"IF(ISERROR(VLOOKUP(B3734,database!$B$2:$C$6001,2,FALSE)),\"\",VLOOKUP(B3734,database!$B$2:$C$6001,2,FALSE))","v":""},null,null,null,"",null,null,null,{"$f":"IF(ISERROR(VLOOKUP(B3734,database!$B$2:$D$6001,3,FALSE)),\"\",VLOOKUP(B3734,database!$B$2:$D$6001,3,FALSE))","v":""},null,null,null,null,null,null,"",null,null,0,null,1,"indip"]
["",null,{"$f":"IF(ISERROR(VLOOKUP(B3739,database!$B$2:$C$6001,2,FALSE)),\"\",VLOOKUP(B3739,database!$B$2:$C$6001,2,FALSE))","v":""},null,null,null,"",null,null,null,{"$f":"IF(ISERROR(VLOOKUP(B3739,database!$B$2:$D$6001,3,FALSE)),\"\",VLOOKUP(B3739,database!$B$2:$D$6001,3,FALSE))","v":""},null,null,null,null,null,null,"",null,null,0,null,1,"indip"]
["",null,{"$f":"IF(ISERROR(VLOOKUP(B3745,database!$B$2:$C$6001,2,FALSE)),\"\",VLOOKUP(B3745,database!$B$2:$C$6001,2,FALSE))","v":""},null,null,null,"",null,null,null,{"$f":"IF(ISERROR(VLOOKUP(B3745,database!$B$2:$D$6001,3,FALSE)),\"\",VLOOKUP(B3745,database!$B$2:$D$6001,3,FALSE))","v":""},null,null,null,null,null,null,"",null,null,0,null,1,"indip"]
["",null,{"$f":"IF(ISERROR(VLOOKUP(B3750,database!$B$2:$C$6001,2,FALSE)),\"\",VLOOKUP(B3750,database!$B$2:$C$6001,2,FALSE))","v":""},null,null,null,"",null,null,null,{"$f":"IF(ISERROR(VLOOKUP(B3750,database!$B$2:$D$6001,3,FALSE)),\"\",VLOOKUP(B3750,database!$B$2:$D$6001,3,FALSE))","v":""},null,null,null,null,null,null,"",null,null,0,null,1,"indip"]
["",null,{"$f":"IF(ISERROR(VLOOKUP(B3757,database!$B$2:$C$6001,2,FALSE)),\"\",VLOOKUP(B3757,database!$B$2:$C$6001,2,FALSE))","v":""},null,null,null,"",null,null,null,{"$f":"IF(ISERROR(VLOOKUP(B3757,database!$B$2:$D$6001,3,FALSE)),\"\",VLOOKUP(B3757,database!$B$2:$D$6001,3,FALSE))","v":""},null,null,null,null,null,null,"",null,null,0,null,1,"indip"]
["",null,{"$f":"IF(ISERROR(VLOOKUP(B3760,database!$B$2:$C$6001,2,FALSE)),\"\",VLOOKUP(B3760,database!$B$2:$C$6001,2,FALSE))","v":""},null,null,null,"",null,null,null,{"$f":"IF(ISERROR(VLOOKUP(B3760,database!$B$2:$D$6001,3,FALSE)),\"\",VLOOKUP(B3760,database!$B$2:$D$6001,3,FALSE))","v":""},null,null,null,null,null,null,"",null,null,0,null,1,"indip"]
["",null,{"$f":"IF(ISERROR(VLOOKUP(B3765,database!$B$2:$C$6001,2,FALSE)),\"\",VLOOKUP(B3765,database!$B$2:$C$6001,2,FALSE))","v":""},null,null,null,"",null,null,null,{"$f":"IF(ISERROR(VLOOKUP(B3765,database!$B$2:$D$6001,3,FALSE)),\"\",VLOOKUP(B3765,database!$B$2:$D$6001,3,FALSE))","v":""},null,null,null,null,null,null,"",null,null,0,null,1,"indip"]
["",null,{"$f":"IF(ISERROR(VLOOKUP(B3770,database!$B$2:$C$6001,2,FALSE)),\"\",VLOOKUP(B3770,database!$B$2:$C$6001,2,FALSE))","v":""},null,null,null,"",null,null,null,{"$f":"IF(ISERROR(VLOOKUP(B3770,database!$B$2:$D$6001,3,FALSE)),\"\",VLOOKUP(B3770,database!$B$2:$D$6001,3,FALSE))","v":""},null,null,null,null,null,null,"",null,null,0,null,1,"indip"]
["",null,{"$f":"IF(ISERROR(VLOOKUP(B3776,database!$B$2:$C$6001,2,FALSE)),\"\",VLOOKUP(B3776,database!$B$2:$C$6001,2,FALSE))","v":""},null,null,null,"",null,null,null,{"$f":"IF(ISERROR(VLOOKUP(B3776,database!$B$2:$D$6001,3,FALSE)),\"\",VLOOKUP(B3776,database!$B$2:$D$6001,3,FALSE))","v":""},null,null,null,null,null,null,"",null,null,0,null,1,"indip"]
["",null,{"$f":"IF(ISERROR(VLOOKUP(B3780,database!$B$2:$C$6001,2,FALSE)),\"\",VLOOKUP(B3780,database!$B$2:$C$6001,2,FALSE))","v":""},null,null,null,"",null,null,null,{"$f":"IF(ISERROR(VLOOKUP(B3780,database!$B$2:$D$6001,3,FALSE)),\"\",VLOOKUP(B3780,database!$B$2:$D$6001,3,FALSE))","v":""},null,null,null,null,null,null,"",null,null,{"$f":"IFERROR(INDEX(M$39:N$140,MATCH(B3780,M$39:M$140,0),2),0)","v":0},null,{"$f":"IF(AND(U3780=0,C3780=\"\"),1,2)","v":1},{"$f":"IF(B3780=\"-\",\"\",IF(OR(B3780=M$39,B3780=M$40,B3780=M$41,B3780=M$42,B3780=M$43,B3780=M$44,B3780=M$45,B3780=M$46,B3780=M$47,,B3780=M$50,B3780=M$51,B3780=M$52,B3780=M$53,B3780=M$54,B3780=M$55,B3780=M$56,B3780=M$57,B3780=M$70),\"\",IF(C3780=\"\",\"indip\",F3780)))","v":"indip"}]
["",null,{"$f":"IF(ISERROR(VLOOKUP(B3786,database!$B$2:$C$6001,2,FALSE)),\"\",VLOOKUP(B3786,database!$B$2:$C$6001,2,FALSE))","v":""},null,null,null,"",null,null,null,{"$f":"IF(ISERROR(VLOOKUP(B3786,database!$B$2:$D$6001,3,FALSE)),\"\",VLOOKUP(B3786,database!$B$2:$D$6001,3,FALSE))","v":""},null,null,null,null,null,null,"",null,null,0,null,1,"indip"]
["",null,{"$f":"IF(ISERROR(VLOOKUP(B3791,database!$B$2:$C$6001,2,FALSE)),\"\",VLOOKUP(B3791,database!$B$2:$C$6001,2,FALSE))","v":""},null,null,null,"",null,null,null,{"$f":"IF(ISERROR(VLOOKUP(B3791,database!$B$2:$D$6001,3,FALSE)),\"\",VLOOKUP(B3791,database!$B$2:$D$6001,3,FALSE))","v":""},null,null,null,null,null,null,"",null,null,0,null,1,"indip"]
["",null,{"$f":"IF(ISERROR(VLOOKUP(B3795,database!$B$2:$C$6001,2,FALSE)),\"\",VLOOKUP(B3795,database!$B$2:$C$6001,2,FALSE))","v":""},null,null,null,"",null,null,null,{"$f":"IF(ISERROR(VLOOKUP(B3795,database!$B$2:$D$6001,3,FALSE)),\"\",VLOOKUP(B3795,database!$B$2:$D$6001,3,FALSE))","v":""},null,null,null,null,null,null,"",null,null,0,null,1,"indip"]
["",null,{"$f":"IF(ISERROR(VLOOKUP(B3796,database!$B$2:$C$6001,2,FALSE)),\"\",VLOOKUP(B3796,database!$B$2:$C$6001,2,FALSE))","v":""},null,null,null,"",null,null,null,{"$f":"IF(ISERROR(VLOOKUP(B3796,database!$B$2:$D$6001,3,FALSE)),\"\",VLOOKUP(B3796,database!$B$2:$D$6001,3,FALSE))","v":""},null,null,null,null,null,null,"",null,null,0,null,1,"indip"]
["",null,{"$f":"IF(ISERROR(VLOOKUP(B3801,database!$B$2:$C$6001,2,FALSE)),\"\",VLOOKUP(B3801,database!$B$2:$C$6001,2,FALSE))","v":""},null,null,null,"",null,null,null,{"$f":"IF(ISERROR(VLOOKUP(B3801,database!$B$2:$D$6001,3,FALSE)),\"\",VLOOKUP(B3801,database!$B$2:$D$6001,3,FALSE))","v":""},null,null,null,null,null,null,"",null,null,0,null,1,"indip"]
["",null,{"$f":"IF(ISERROR(VLOOKUP(B3806,database!$B$2:$C$6001,2,FALSE)),\"\",VLOOKUP(B3806,database!$B$2:$C$6001,2,FALSE))","v":""},null,null,null,"",null,null,null,{"$f":"IF(ISERROR(VLOOKUP(B3806,database!$B$2:$D$6001,3,FALSE)),\"\",VLOOKUP(B3806,database!$B$2:$D$6001,3,FALSE))","v":""},null,null,null,null,null,null,"",null,null,0,null,1,"indip"]
["",null,{"$f":"IF(ISERROR(VLOOKUP(B3814,database!$B$2:$C$6001,2,FALSE)),\"\",VLOOKUP(B3814,database!$B$2:$C$6001,2,FALSE))","v":""},null,null,null,"",null,null,null,{"$f":"IF(ISERROR(VLOOKUP(B3814,database!$B$2:$D$6001,3,FALSE)),\"\",VLOOKUP(B3814,database!$B$2:$D$6001,3,FALSE))","v":""},null,null,null,null,null,null,"",null,null,0,null,1,"indip"]
["",null,{"$f":"IF(ISERROR(VLOOKUP(B3816,database!$B$2:$C$6001,2,FALSE)),\"\",VLOOKUP(B3816,database!$B$2:$C$6001,2,FALSE))","v":""},null,null,null,"",null,null,null,{"$f":"IF(ISERROR(VLOOKUP(B3816,database!$B$2:$D$6001,3,FALSE)),\"\",VLOOKUP(B3816,database!$B$2:$D$6001,3,FALSE))","v":""},null,null,null,null,null,null,"",null,null,0,null,1,"indip"]
["",null,{"$f":"IF(ISERROR(VLOOKUP(B3822,database!$B$2:$C$6001,2,FALSE)),\"\",VLOOKUP(B3822,database!$B$2:$C$6001,2,FALSE))","v":""},null,null,null,"",null,null,null,{"$f":"IF(ISERROR(VLOOKUP(B3822,database!$B$2:$D$6001,3,FALSE)),\"\",VLOOKUP(B3822,database!$B$2:$D$6001,3,FALSE))","v":""},null,null,null,null,null,null,"",null,null,0,null,1,"indip"]
["",null,{"$f":"IF(ISERROR(VLOOKUP(B3827,database!$B$2:$C$6001,2,FALSE)),\"\",VLOOKUP(B3827,database!$B$2:$C$6001,2,FALSE))","v":""},null,null,null,"",null,null,null,{"$f":"IF(ISERROR(VLOOKUP(B3827,database!$B$2:$D$6001,3,FALSE)),\"\",VLOOKUP(B3827,database!$B$2:$D$6001,3,FALSE))","v":""},null,null,null,null,null,null,"",null,null,0,null,1,"indip"]
["",null,{"$f":"IF(ISERROR(VLOOKUP(B3833,database!$B$2:$C$6001,2,FALSE)),\"\",VLOOKUP(B3833,database!$B$2:$C$6001,2,FALSE))","v":""},null,null,null,"",null,null,null,{"$f":"IF(ISERROR(VLOOKUP(B3833,database!$B$2:$D$6001,3,FALSE)),\"\",VLOOKUP(B3833,database!$B$2:$D$6001,3,FALSE))","v":""},null,null,null,null,null,null,"",null,null,0,null,1,"indip"]
["",null,{"$f":"IF(ISERROR(VLOOKUP(B3837,database!$B$2:$C$6001,2,FALSE)),\"\",VLOOKUP(B3837,database!$B$2:$C$6001,2,FALSE))","v":""},null,null,null,"",null,null,null,{"$f":"IF(ISERROR(VLOOKUP(B3837,database!$B$2:$D$6001,3,FALSE)),\"\",VLOOKUP(B3837,database!$B$2:$D$6001,3,FALSE))","v":""},null,null,null,null,null,null,"",null,null,0,null,1,"indip"]
["",null,{"$f":"IF(ISERROR(VLOOKUP(B3842,database!$B$2:$C$6001,2,FALSE)),\"\",VLOOKUP(B3842,database!$B$2:$C$6001,2,FALSE))","v":""},null,null,null,"",null,null,null,{"$f":"IF(ISERROR(VLOOKUP(B3842,database!$B$2:$D$6001,3,FALSE)),\"\",VLOOKUP(B3842,database!$B$2:$D$6001,3,FALSE))","v":""},null,null,null,null,null,null,"",null,null,0,null,1,"indip"]
["",null,{"$f":"IF(ISERROR(VLOOKUP(B3848,database!$B$2:$C$6001,2,FALSE)),\"\",VLOOKUP(B3848,database!$B$2:$C$6001,2,FALSE))","v":""},null,null,null,"",null,null,null,{"$f":"IF(ISERROR(VLOOKUP(B3848,database!$B$2:$D$6001,3,FALSE)),\"\",VLOOKUP(B3848,database!$B$2:$D$6001,3,FALSE))","v":""},null,null,null,null,null,null,"",null,null,0,null,1,"indip"]
["",null,{"$f":"IF(ISERROR(VLOOKUP(B3853,database!$B$2:$C$6001,2,FALSE)),\"\",VLOOKUP(B3853,database!$B$2:$C$6001,2,FALSE))","v":""},null,null,null,"",null,null,null,{"$f":"IF(ISERROR(VLOOKUP(B3853,database!$B$2:$D$6001,3,FALSE)),\"\",VLOOKUP(B3853,database!$B$2:$D$6001,3,FALSE))","v":""},null,null,null,null,null,null,"",null,null,0,null,1,"indip"]
["",null,{"$f":"IF(ISERROR(VLOOKUP(B3854,database!$B$2:$C$6001,2,FALSE)),\"\",VLOOKUP(B3854,database!$B$2:$C$6001,2,FALSE))","v":""},null,null,null,"",null,null,null,{"$f":"IF(ISERROR(VLOOKUP(B3854,database!$B$2:$D$6001,3,FALSE)),\"\",VLOOKUP(B3854,database!$B$2:$D$6001,3,FALSE))","v":""},null,null,null,null,null,null,"",null,null,0,null,1,"indip"]
["",null,{"$f":"IF(ISERROR(VLOOKUP(B3858,database!$B$2:$C$6001,2,FALSE)),\"\",VLOOKUP(B3858,database!$B$2:$C$6001,2,FALSE))","v":""},null,null,null,"",null,null,null,{"$f":"IF(ISERROR(VLOOKUP(B3858,database!$B$2:$D$6001,3,FALSE)),\"\",VLOOKUP(B3858,database!$B$2:$D$6001,3,FALSE))","v":""},null,null,null,null,null,null,"",null,null,0,null,1,"indip"]
["",null,{"$f":"IF(ISERROR(VLOOKUP(B3863,database!$B$2:$C$6001,2,FALSE)),\"\",VLOOKUP(B3863,database!$B$2:$C$6001,2,FALSE))","v":""},null,null,null,"",null,null,null,{"$f":"IF(ISERROR(VLOOKUP(B3863,database!$B$2:$D$6001,3,FALSE)),\"\",VLOOKUP(B3863,database!$B$2:$D$6001,3,FALSE))","v":""},null,null,null,null,null,null,"",null,null,0,null,1,"indip"]
["",null,{"$f":"IF(ISERROR(VLOOKUP(B3868,database!$B$2:$C$6001,2,FALSE)),\"\",VLOOKUP(B3868,database!$B$2:$C$6001,2,FALSE))","v":""},null,null,null,"",null,null,null,{"$f":"IF(ISERROR(VLOOKUP(B3868,database!$B$2:$D$6001,3,FALSE)),\"\",VLOOKUP(B3868,database!$B$2:$D$6001,3,FALSE))","v":""},null,null,null,null,null,null,"",null,null,0,null,1,"indip"]
["",null,{"$f":"IF(ISERROR(VLOOKUP(B3873,database!$B$2:$C$6001,2,FALSE)),\"\",VLOOKUP(B3873,database!$B$2:$C$6001,2,FALSE))","v":""},null,null,null,"",null,null,null,{"$f":"IF(ISERROR(VLOOKUP(B3873,database!$B$2:$D$6001,3,FALSE)),\"\",VLOOKUP(B3873,database!$B$2:$D$6001,3,FALSE))","v":""},null,null,null,null,null,null,"",null,null,0,null,1,"indip"]
["",null,{"$f":"IF(ISERROR(VLOOKUP(B3878,database!$B$2:$C$6001,2,FALSE)),\"\",VLOOKUP(B3878,database!$B$2:$C$6001,2,FALSE))","v":""},null,null,null,"",null,null,null,{"$f":"IF(ISERROR(VLOOKUP(B3878,database!$B$2:$D$6001,3,FALSE)),\"\",VLOOKUP(B3878,database!$B$2:$D$6001,3,FALSE))","v":""},null,null,null,null,null,null,"",null,null,0,null,1,"indip"]
["",null,{"$f":"IF(ISERROR(VLOOKUP(B3884,database!$B$2:$C$6001,2,FALSE)),\"\",VLOOKUP(B3884,database!$B$2:$C$6001,2,FALSE))","v":""},null,null,null,"",null,null,null,{"$f":"IF(ISERROR(VLOOKUP(B3884,database!$B$2:$D$6001,3,FALSE)),\"\",VLOOKUP(B3884,database!$B$2:$D$6001,3,FALSE))","v":""},null,null,null,null,null,null,"",null,null,0,null,1,"indip"]
["",null,{"$f":"IF(ISERROR(VLOOKUP(B3889,database!$B$2:$C$6001,2,FALSE)),\"\",VLOOKUP(B3889,database!$B$2:$C$6001,2,FALSE))","v":""},null,null,null,"",null,null,null,{"$f":"IF(ISERROR(VLOOKUP(B3889,database!$B$2:$D$6001,3,FALSE)),\"\",VLOOKUP(B3889,database!$B$2:$D$6001,3,FALSE))","v":""},null,null,null,null,null,null,"",null,null,0,null,1,"indip"]
["",null,{"$f":"IF(ISERROR(VLOOKUP(B3892,database!$B$2:$C$6001,2,FALSE)),\"\",VLOOKUP(B3892,database!$B$2:$C$6001,2,FALSE))","v":""},null,null,null,"",null,null,null,{"$f":"IF(ISERROR(VLOOKUP(B3892,database!$B$2:$D$6001,3,FALSE)),\"\",VLOOKUP(B3892,database!$B$2:$D$6001,3,FALSE))","v":""},null,null,null,null,null,null,"",null,null,0,null,1,"indip"]
["",null,{"$f":"IF(ISERROR(VLOOKUP(B3899,database!$B$2:$C$6001,2,FALSE)),\"\",VLOOKUP(B3899,database!$B$2:$C$6001,2,FALSE))","v":""},null,null,null,"",null,null,null,{"$f":"IF(ISERROR(VLOOKUP(B3899,database!$B$2:$D$6001,3,FALSE)),\"\",VLOOKUP(B3899,database!$B$2:$D$6001,3,FALSE))","v":""},null,null,null,null,null,null,"",null,null,0,null,1,"indip"]
["",null,{"$f":"IF(ISERROR(VLOOKUP(B3904,database!$B$2:$C$6001,2,FALSE)),\"\",VLOOKUP(B3904,database!$B$2:$C$6001,2,FALSE))","v":""},null,null,null,"",null,null,null,{"$f":"IF(ISERROR(VLOOKUP(B3904,database!$B$2:$D$6001,3,FALSE)),\"\",VLOOKUP(B3904,database!$B$2:$D$6001,3,FALSE))","v":""},null,null,null,null,null,null,"",null,null,0,null,1,"indip"]
[{"$f":"IF(B3909=\"\",\"\",ROW(A3906))","v":""},null,{"$f":"IF(ISERROR(VLOOKUP(B3909,database!$B$2:$C$6001,2,FALSE)),\"\",VLOOKUP(B3909,database!$B$2:$C$6001,2,FALSE))","v":""},null,null,null,{"$f":"IF(B3909=\"\",\"\",IF(B3909=\"-\",0,IF(W3909=1,1,IF(AND(U3909=0,F3909=\"SSB\"),2,IF(AND(U3909=0,F3909=\"DIGI\"),3,IF(AND(U3909=0,F3909=\"CW\"),5,U3909))))))","v":""},null,null,null,{"$f":"IF(ISERROR(VLOOKUP(B3909,database!$B$2:$D$6001,3,FALSE)),\"\",VLOOKUP(B3909,database!$B$2:$D$6001,3,FALSE))","v":""},null,null,null,null,null,null,{"$f":"LEFT(C3909,2)","v":""},null,null,0,null,1,"indip"]
["",null,{"$f":"IF(ISERROR(VLOOKUP(B3911,database!$B$2:$C$6001,2,FALSE)),\"\",VLOOKUP(B3911,database!$B$2:$C$6001,2,FALSE))","v":""},null,null,null,"",null,null,null,{"$f":"IF(ISERROR(VLOOKUP(B3911,database!$B$2:$D$6001,3,FALSE)),\"\",VLOOKUP(B3911,database!$B$2:$D$6001,3,FALSE))","v":""},null,null,null,null,null,null,"",null,null,0,null,1,"indip"]
["",null,{"$f":"IF(ISERROR(VLOOKUP(B3919,database!$B$2:$C$6001,2,FALSE)),\"\",VLOOKUP(B3919,database!$B$2:$C$6001,2,FALSE))","v":""},null,null,null,"",null,null,null,{"$f":"IF(ISERROR(VLOOKUP(B3919,database!$B$2:$D$6001,3,FALSE)),\"\",VLOOKUP(B3919,database!$B$2:$D$6001,3,FALSE))","v":""},null,null,null,null,null,null,"",null,null,0,null,1,"indip"]
["",null,{"$f":"IF(ISERROR(VLOOKUP(B3920,database!$B$2:$C$6001,2,FALSE)),\"\",VLOOKUP(B3920,database!$B$2:$C$6001,2,FALSE))","v":""},null,null,null,"",null,null,null,{"$f":"IF(ISERROR(VLOOKUP(B3920,database!$B$2:$D$6001,3,FALSE)),\"\",VLOOKUP(B3920,database!$B$2:$D$6001,3,FALSE))","v":""},null,null,null,null,null,null,"",null,null,0,null,1,"indip"]
["",null,{"$f":"IF(ISERROR(VLOOKUP(B3925,database!$B$2:$C$6001,2,FALSE)),\"\",VLOOKUP(B3925,database!$B$2:$C$6001,2,FALSE))","v":""},null,null,null,"",null,null,null,{"$f":"IF(ISERROR(VLOOKUP(B3925,database!$B$2:$D$6001,3,FALSE)),\"\",VLOOKUP(B3925,database!$B$2:$D$6001,3,FALSE))","v":""},null,null,null,null,null,null,"",null,null,0,null,1,"indip"]
["",null,{"$f":"IF(ISERROR(VLOOKUP(B3930,database!$B$2:$C$6001,2,FALSE)),\"\",VLOOKUP(B3930,database!$B$2:$C$6001,2,FALSE))","v":""},null,null,null,"",null,null,null,{"$f":"IF(ISERROR(VLOOKUP(B3930,database!$B$2:$D$6001,3,FALSE)),\"\",VLOOKUP(B3930,database!$B$2:$D$6001,3,FALSE))","v":""},null,null,null,null,null,null,"",null,null,0,null,1,"indip"]
["",null,{"$f":"IF(ISERROR(VLOOKUP(B3936,database!$B$2:$C$6001,2,FALSE)),\"\",VLOOKUP(B3936,database!$B$2:$C$6001,2,FALSE))","v":""},null,null,null,"",null,null,null,{"$f":"IF(ISERROR(VLOOKUP(B3936,database!$B$2:$D$6001,3,FALSE)),\"\",VLOOKUP(B3936,database!$B$2:$D$6001,3,FALSE))","v":""},null,null,null,null,null,null,"",null,null,0,null,1,"indip"]
["",null,{"$f":"IF(ISERROR(VLOOKUP(B3940,database!$B$2:$C$6001,2,FALSE)),\"\",VLOOKUP(B3940,database!$B$2:$C$6001,2,FALSE))","v":""},null,null,null,"",null,null,null,{"$f":"IF(ISERROR(VLOOKUP(B3940,database!$B$2:$D$6001,3,FALSE)),\"\",VLOOKUP(B3940,database!$B$2:$D$6001,3,FALSE))","v":""},null,null,null,null,null,null,"",null,null,0,null,1,"indip"]
["",null,{"$f":"IF(ISERROR(VLOOKUP(B3946,database!$B$2:$C$6001,2,FALSE)),\"\",VLOOKUP(B3946,database!$B$2:$C$6001,2,FALSE))","v":""},null,null,null,"",null,null,null,{"$f":"IF(ISERROR(VLOOKUP(B3946,database!$B$2:$D$6001,3,FALSE)),\"\",VLOOKUP(B3946,database!$B$2:$D$6001,3,FALSE))","v":""},null,null,null,null,null,null,"",null,null,0,null,1,"indip"]
["",null,{"$f":"IF(ISERROR(VLOOKUP(B3951,database!$B$2:$C$6001,2,FALSE)),\"\",VLOOKUP(B3951,database!$B$2:$C$6001,2,FALSE))","v":""},null,null,null,"",null,null,null,{"$f":"IF(ISERROR(VLOOKUP(B3951,database!$B$2:$D$6001,3,FALSE)),\"\",VLOOKUP(B3951,database!$B$2:$D$6001,3,FALSE))","v":""},null,null,null,null,null,null,"",null,null,0,null,1,"indip"]
["",null,{"$f":"IF(ISERROR(VLOOKUP(B3955,database!$B$2:$C$6001,2,FALSE)),\"\",VLOOKUP(B3955,database!$B$2:$C$6001,2,FALSE))","v":""},null,null,null,"",null,null,null,{"$f":"IF(ISERROR(VLOOKUP(B3955,database!$B$2:$D$6001,3,FALSE)),\"\",VLOOKUP(B3955,database!$B$2:$D$6001,3,FALSE))","v":""},null,null,null,null,null,null,"",null,null,0,null,1,"indip"]
["",null,{"$f":"IF(ISERROR(VLOOKUP(B3961,database!$B$2:$C$6001,2,FALSE)),\"\",VLOOKUP(B3961,database!$B$2:$C$6001,2,FALSE))","v":""},null,null,null,"",null,null,null,{"$f":"IF(ISERROR(VLOOKUP(B3961,database!$B$2:$D$6001,3,FALSE)),\"\",VLOOKUP(B3961,database!$B$2:$D$6001,3,FALSE))","v":""},null,null,null,null,null,null,"",null,null,0,null,1,"indip"]
["",null,{"$f":"IF(ISERROR(VLOOKUP(B3966,database!$B$2:$C$6001,2,FALSE)),\"\",VLOOKUP(B3966,database!$B$2:$C$6001,2,FALSE))","v":""},null,null,null,"",null,null,null,{"$f":"IF(ISERROR(VLOOKUP(B3966,database!$B$2:$D$6001,3,FALSE)),\"\",VLOOKUP(B3966,database!$B$2:$D$6001,3,FALSE))","v":""},null,null,null,null,null,null,"",null,null,0,null,1,"indip"]
["",null,{"$f":"IF(ISERROR(VLOOKUP(B3971,database!$B$2:$C$6001,2,FALSE)),\"\",VLOOKUP(B3971,database!$B$2:$C$6001,2,FALSE))","v":""},null,null,null,"",null,null,null,{"$f":"IF(ISERROR(VLOOKUP(B3971,database!$B$2:$D$6001,3,FALSE)),\"\",VLOOKUP(B3971,database!$B$2:$D$6001,3,FALSE))","v":""},null,null,null,null,null,null,"",null,null,0,null,1,"indip"]
["",null,{"$f":"IF(ISERROR(VLOOKUP(B3974,database!$B$2:$C$6001,2,FALSE)),\"\",VLOOKUP(B3974,database!$B$2:$C$6001,2,FALSE))","v":""},null,null,null,"",null,null,null,{"$f":"IF(ISERROR(VLOOKUP(B3974,database!$B$2:$D$6001,3,FALSE)),\"\",VLOOKUP(B3974,database!$B$2:$D$6001,3,FALSE))","v":""},null,null,null,null,null,null,"",null,null,0,null,1,"indip"]
["",null,{"$f":"IF(ISERROR(VLOOKUP(B3981,database!$B$2:$C$6001,2,FALSE)),\"\",VLOOKUP(B3981,database!$B$2:$C$6001,2,FALSE))","v":""},null,null,null,"",null,null,null,{"$f":"IF(ISERROR(VLOOKUP(B3981,database!$B$2:$D$6001,3,FALSE)),\"\",VLOOKUP(B3981,database!$B$2:$D$6001,3,FALSE))","v":""},null,null,null,null,null,null,"",null,null,0,null,1,"indip"]
["",null,{"$f":"IF(ISERROR(VLOOKUP(B3982,database!$B$2:$C$6001,2,FALSE)),\"\",VLOOKUP(B3982,database!$B$2:$C$6001,2,FALSE))","v":""},null,null,null,"",null,null,null,{"$f":"IF(ISERROR(VLOOKUP(B3982,database!$B$2:$D$6001,3,FALSE)),\"\",VLOOKUP(B3982,database!$B$2:$D$6001,3,FALSE))","v":""},null,null,null,null,null,null,"",null,null,0,null,1,"indip"]
["",null,{"$f":"IF(ISERROR(VLOOKUP(B3987,database!$B$2:$C$6001,2,FALSE)),\"\",VLOOKUP(B3987,database!$B$2:$C$6001,2,FALSE))","v":""},null,null,null,"",null,null,null,{"$f":"IF(ISERROR(VLOOKUP(B3987,database!$B$2:$D$6001,3,FALSE)),\"\",VLOOKUP(B3987,database!$B$2:$D$6001,3,FALSE))","v":""},null,null,null,null,null,null,"",null,null,0,null,1,"indip"]
["",null,{"$f":"IF(ISERROR(VLOOKUP(B3993,database!$B$2:$C$6001,2,FALSE)),\"\",VLOOKUP(B3993,database!$B$2:$C$6001,2,FALSE))","v":""},null,null,null,"",null,null,null,{"$f":"IF(ISERROR(VLOOKUP(B3993,database!$B$2:$D$6001,3,FALSE)),\"\",VLOOKUP(B3993,database!$B$2:$D$6001,3,FALSE))","v":""},null,null,null,null,null,null,"",null,null,0,null,1,"indip"]
["",null,{"$f":"IF(ISERROR(VLOOKUP(B3997,database!$B$2:$C$6001,2,FALSE)),\"\",VLOOKUP(B3997,database!$B$2:$C$6001,2,FALSE))","v":""},null,null,null,"",null,null,null,{"$f":"IF(ISERROR(VLOOKUP(B3997,database!$B$2:$D$6001,3,FALSE)),\"\",VLOOKUP(B3997,database!$B$2:$D$6001,3,FALSE))","v":""},null,null,null,null,null,null,"",null,null,0,null,1,"indip"]
["",null,{"$f":"IF(ISERROR(VLOOKUP(B4002,database!$B$2:$C$6001,2,FALSE)),\"\",VLOOKUP(B4002,database!$B$2:$C$6001,2,FALSE))","v":""},null,null,null,"",null,null,null,{"$f":"IF(ISERROR(VLOOKUP(B4002,database!$B$2:$D$6001,3,FALSE)),\"\",VLOOKUP(B4002,database!$B$2:$D$6001,3,FALSE))","v":""},null,null,null,null,null,null,"",null,null,0,null,1,"indip"]
["",null,{"$f":"IF(ISERROR(VLOOKUP(B4008,database!$B$2:$C$6001,2,FALSE)),\"\",VLOOKUP(B4008,database!$B$2:$C$6001,2,FALSE))","v":""},null,null,null,"",null,null,null,{"$f":"IF(ISERROR(VLOOKUP(B4008,database!$B$2:$D$6001,3,FALSE)),\"\",VLOOKUP(B4008,database!$B$2:$D$6001,3,FALSE))","v":""},null,null,null,null,null,null,"",null,null,0,null,1,"indip"]
["",null,{"$f":"IF(ISERROR(VLOOKUP(B4012,database!$B$2:$C$6001,2,FALSE)),\"\",VLOOKUP(B4012,database!$B$2:$C$6001,2,FALSE))","v":""},null,null,null,"",null,null,null,{"$f":"IF(ISERROR(VLOOKUP(B4012,database!$B$2:$D$6001,3,FALSE)),\"\",VLOOKUP(B4012,database!$B$2:$D$6001,3,FALSE))","v":""},null,null,null,null,null,null,"",null,null,0,null,1,"indip"]
["",null,{"$f":"IF(ISERROR(VLOOKUP(B4017,database!$B$2:$C$6001,2,FALSE)),\"\",VLOOKUP(B4017,database!$B$2:$C$6001,2,FALSE))","v":""},null,null,null,"",null,null,null,{"$f":"IF(ISERROR(VLOOKUP(B4017,database!$B$2:$D$6001,3,FALSE)),\"\",VLOOKUP(B4017,database!$B$2:$D$6001,3,FALSE))","v":""},null,null,null,null,null,null,"",null,null,0,null,1,"indip"]
["",null,{"$f":"IF(ISERROR(VLOOKUP(B4023,database!$B$2:$C$6001,2,FALSE)),\"\",VLOOKUP(B4023,database!$B$2:$C$6001,2,FALSE))","v":""},null,null,null,"",null,null,null,{"$f":"IF(ISERROR(VLOOKUP(B4023,database!$B$2:$D$6001,3,FALSE)),\"\",VLOOKUP(B4023,database!$B$2:$D$6001,3,FALSE))","v":""},null,null,null,null,null,null,"",null,null,0,null,1,"indip"]
["",null,{"$f":"IF(ISERROR(VLOOKUP(B4028,database!$B$2:$C$6001,2,FALSE)),\"\",VLOOKUP(B4028,database!$B$2:$C$6001,2,FALSE))","v":""},null,null,null,"",null,null,null,{"$f":"IF(ISERROR(VLOOKUP(B4028,database!$B$2:$D$6001,3,FALSE)),\"\",VLOOKUP(B4028,database!$B$2:$D$6001,3,FALSE))","v":""},null,null,null,null,null,null,"",null,null,0,null,1,"indip"]
["",null,{"$f":"IF(ISERROR(VLOOKUP(B4033,database!$B$2:$C$6001,2,FALSE)),\"\",VLOOKUP(B4033,database!$B$2:$C$6001,2,FALSE))","v":""},null,null,null,"",null,null,null,{"$f":"IF(ISERROR(VLOOKUP(B4033,database!$B$2:$D$6001,3,FALSE)),\"\",VLOOKUP(B4033,database!$B$2:$D$6001,3,FALSE))","v":""},null,null,null,null,null,null,"",null,null,0,null,1,"indip"]
[{"$f":"IF(B4037=\"\",\"\",ROW(A4034))","v":""},null,{"$f":"IF(ISERROR(VLOOKUP(B4037,database!$B$2:$C$6001,2,FALSE)),\"\",VLOOKUP(B4037,database!$B$2:$C$6001,2,FALSE))","v":""},null,null,null,{"$f":"IF(B4037=\"\",\"\",IF(B4037=\"-\",0,IF(W4037=1,1,IF(AND(U4037=0,F4037=\"SSB\"),2,IF(AND(U4037=0,F4037=\"DIGI\"),3,IF(AND(U4037=0,F4037=\"CW\"),5,U4037))))))","v":""},null,null,null,{"$f":"IF(ISERROR(VLOOKUP(B4037,database!$B$2:$D$6001,3,FALSE)),\"\",VLOOKUP(B4037,database!$B$2:$D$6001,3,FALSE))","v":""},null,null,null,null,null,null,{"$f":"LEFT(C4037,2)","v":""},null,null,0,null,1,"indip"]
["",null,{"$f":"IF(ISERROR(VLOOKUP(B4043,database!$B$2:$C$6001,2,FALSE)),\"\",VLOOKUP(B4043,database!$B$2:$C$6001,2,FALSE))","v":""},null,null,null,"",null,null,null,{"$f":"IF(ISERROR(VLOOKUP(B4043,database!$B$2:$D$6001,3,FALSE)),\"\",VLOOKUP(B4043,database!$B$2:$D$6001,3,FALSE))","v":""},null,null,null,null,null,null,"",null,null,0,null,1,"indip"]
["",null,{"$f":"IF(ISERROR(VLOOKUP(B4044,database!$B$2:$C$6001,2,FALSE)),\"\",VLOOKUP(B4044,database!$B$2:$C$6001,2,FALSE))","v":""},null,null,null,"",null,null,null,{"$f":"IF(ISERROR(VLOOKUP(B4044,database!$B$2:$D$6001,3,FALSE)),\"\",VLOOKUP(B4044,database!$B$2:$D$6001,3,FALSE))","v":""},null,null,null,null,null,null,"",null,null,0,null,1,"indip"]
["",null,{"$f":"IF(ISERROR(VLOOKUP(B4049,database!$B$2:$C$6001,2,FALSE)),\"\",VLOOKUP(B4049,database!$B$2:$C$6001,2,FALSE))","v":""},null,null,null,"",null,null,null,{"$f":"IF(ISERROR(VLOOKUP(B4049,database!$B$2:$D$6001,3,FALSE)),\"\",VLOOKUP(B4049,database!$B$2:$D$6001,3,FALSE))","v":""},null,null,null,null,null,null,"",null,null,0,null,1,"indip"]
["",null,{"$f":"IF(ISERROR(VLOOKUP(B4056,database!$B$2:$C$6001,2,FALSE)),\"\",VLOOKUP(B4056,database!$B$2:$C$6001,2,FALSE))","v":""},null,null,null,"",null,null,null,{"$f":"IF(ISERROR(VLOOKUP(B4056,database!$B$2:$D$6001,3,FALSE)),\"\",VLOOKUP(B4056,database!$B$2:$D$6001,3,FALSE))","v":""},null,null,null,null,null,null,"",null,null,0,null,1,"indip"]
["",null,{"$f":"IF(ISERROR(VLOOKUP(B4059,database!$B$2:$C$6001,2,FALSE)),\"\",VLOOKUP(B4059,database!$B$2:$C$6001,2,FALSE))","v":""},null,null,null,"",null,null,null,{"$f":"IF(ISERROR(VLOOKUP(B4059,database!$B$2:$D$6001,3,FALSE)),\"\",VLOOKUP(B4059,database!$B$2:$D$6001,3,FALSE))","v":""},null,null,null,null,null,null,"",null,null,0,null,1,"indip"]
["",null,{"$f":"IF(ISERROR(VLOOKUP(B4064,database!$B$2:$C$6001,2,FALSE)),\"\",VLOOKUP(B4064,database!$B$2:$C$6001,2,FALSE))","v":""},null,null,null,"",null,null,null,{"$f":"IF(ISERROR(VLOOKUP(B4064,database!$B$2:$D$6001,3,FALSE)),\"\",VLOOKUP(B4064,database!$B$2:$D$6001,3,FALSE))","v":""},null,null,null,null,null,null,"",null,null,0,null,1,"indip"]
["",null,{"$f":"IF(ISERROR(VLOOKUP(B4069,database!$B$2:$C$6001,2,FALSE)),\"\",VLOOKUP(B4069,database!$B$2:$C$6001,2,FALSE))","v":""},null,null,null,"",null,null,null,{"$f":"IF(ISERROR(VLOOKUP(B4069,database!$B$2:$D$6001,3,FALSE)),\"\",VLOOKUP(B4069,database!$B$2:$D$6001,3,FALSE))","v":""},null,null,null,null,null,null,"",null,null,0,null,1,"indip"]
["",null,{"$f":"IF(ISERROR(VLOOKUP(B4075,database!$B$2:$C$6001,2,FALSE)),\"\",VLOOKUP(B4075,database!$B$2:$C$6001,2,FALSE))","v":""},null,null,null,"",null,null,null,{"$f":"IF(ISERROR(VLOOKUP(B4075,database!$B$2:$D$6001,3,FALSE)),\"\",VLOOKUP(B4075,database!$B$2:$D$6001,3,FALSE))","v":""},null,null,null,null,null,null,"",null,null,0,null,1,"indip"]
["",null,{"$f":"IF(ISERROR(VLOOKUP(B4079,database!$B$2:$C$6001,2,FALSE)),\"\",VLOOKUP(B4079,database!$B$2:$C$6001,2,FALSE))","v":""},null,null,null,"",null,null,null,{"$f":"IF(ISERROR(VLOOKUP(B4079,database!$B$2:$D$6001,3,FALSE)),\"\",VLOOKUP(B4079,database!$B$2:$D$6001,3,FALSE))","v":""},null,null,null,null,null,null,"",null,null,0,null,1,"indip"]
["",null,{"$f":"IF(ISERROR(VLOOKUP(B4085,database!$B$2:$C$6001,2,FALSE)),\"\",VLOOKUP(B4085,database!$B$2:$C$6001,2,FALSE))","v":""},null,null,null,"",null,null,null,{"$f":"IF(ISERROR(VLOOKUP(B4085,database!$B$2:$D$6001,3,FALSE)),\"\",VLOOKUP(B4085,database!$B$2:$D$6001,3,FALSE))","v":""},null,null,null,null,null,null,"",null,null,0,null,1,"indip"]
["",null,{"$f":"IF(ISERROR(VLOOKUP(B4090,database!$B$2:$C$6001,2,FALSE)),\"\",VLOOKUP(B4090,database!$B$2:$C$6001,2,FALSE))","v":""},null,null,null,"",null,null,null,{"$f":"IF(ISERROR(VLOOKUP(B4090,database!$B$2:$D$6001,3,FALSE)),\"\",VLOOKUP(B4090,database!$B$2:$D$6001,3,FALSE))","v":""},null,null,null,null,null,null,"",null,null,0,null,1,"indip"]
["",null,{"$f":"IF(ISERROR(VLOOKUP(B4094,database!$B$2:$C$6001,2,FALSE)),\"\",VLOOKUP(B4094,database!$B$2:$C$6001,2,FALSE))","v":""},null,null,null,"",null,null,null,{"$f":"IF(ISERROR(VLOOKUP(B4094,database!$B$2:$D$6001,3,FALSE)),\"\",VLOOKUP(B4094,database!$B$2:$D$6001,3,FALSE))","v":""},null,null,null,null,null,null,"",null,null,0,null,1,"indip"]
["",null,{"$f":"IF(ISERROR(VLOOKUP(B4100,database!$B$2:$C$6001,2,FALSE)),\"\",VLOOKUP(B4100,database!$B$2:$C$6001,2,FALSE))","v":""},null,null,null,"",null,null,null,{"$f":"IF(ISERROR(VLOOKUP(B4100,database!$B$2:$D$6001,3,FALSE)),\"\",VLOOKUP(B4100,database!$B$2:$D$6001,3,FALSE))","v":""},null,null,null,null,null,null,"",null,null,{"$f":"IFERROR(INDEX(M$39:N$140,MATCH(B4100,M$39:M$140,0),2),0)","v":0},null,{"$f":"IF(AND(U4100=0,C4100=\"\"),1,2)","v":1},{"$f":"IF(B4100=\"-\",\"\",IF(OR(B4100=M$39,B4100=M$40,B4100=M$41,B4100=M$42,B4100=M$43,B4100=M$44,B4100=M$45,B4100=M$46,B4100=M$47,,B4100=M$50,B4100=M$51,B4100=M$52,B4100=M$53,B4100=M$54,B4100=M$55,B4100=M$56,B4100=M$57,B4100=M$70),\"\",IF(C4100=\"\",\"indip\",F4100)))","v":"indip"}]
["",null,{"$f":"IF(ISERROR(VLOOKUP(B4105,database!$B$2:$C$6001,2,FALSE)),\"\",VLOOKUP(B4105,database!$B$2:$C$6001,2,FALSE))","v":""},null,null,null,"",null,null,null,{"$f":"IF(ISERROR(VLOOKUP(B4105,database!$B$2:$D$6001,3,FALSE)),\"\",VLOOKUP(B4105,database!$B$2:$D$6001,3,FALSE))","v":""},null,null,null,null,null,null,"",null,null,0,null,1,"indip"]
["",null,{"$f":"IF(ISERROR(VLOOKUP(B4106,database!$B$2:$C$6001,2,FALSE)),\"\",VLOOKUP(B4106,database!$B$2:$C$6001,2,FALSE))","v":""},null,null,null,"",null,null,null,{"$f":"IF(ISERROR(VLOOKUP(B4106,database!$B$2:$D$6001,3,FALSE)),\"\",VLOOKUP(B4106,database!$B$2:$D$6001,3,FALSE))","v":""},null,null,null,null,null,null,"",null,null,0,null,1,"indip"]
["",null,{"$f":"IF(ISERROR(VLOOKUP(B4111,database!$B$2:$C$6001,2,FALSE)),\"\",VLOOKUP(B4111,database!$B$2:$C$6001,2,FALSE))","v":""},null,null,null,"",null,null,null,{"$f":"IF(ISERROR(VLOOKUP(B4111,database!$B$2:$D$6001,3,FALSE)),\"\",VLOOKUP(B4111,database!$B$2:$D$6001,3,FALSE))","v":""},null,null,null,null,null,null,"",null,null,0,null,1,"indip"]
["",null,{"$f":"IF(ISERROR(VLOOKUP(B4119,database!$B$2:$C$6001,2,FALSE)),\"\",VLOOKUP(B4119,database!$B$2:$C$6001,2,FALSE))","v":""},null,null,null,"",null,null,null,{"$f":"IF(ISERROR(VLOOKUP(B4119,database!$B$2:$D$6001,3,FALSE)),\"\",VLOOKUP(B4119,database!$B$2:$D$6001,3,FALSE))","v":""},null,null,null,null,null,null,"",null,null,0,null,1,"indip"]
["",null,{"$f":"IF(ISERROR(VLOOKUP(B4121,database!$B$2:$C$6001,2,FALSE)),\"\",VLOOKUP(B4121,database!$B$2:$C$6001,2,FALSE))","v":""},null,null,null,"",null,null,null,{"$f":"IF(ISERROR(VLOOKUP(B4121,database!$B$2:$D$6001,3,FALSE)),\"\",VLOOKUP(B4121,database!$B$2:$D$6001,3,FALSE))","v":""},null,null,null,null,null,null,"",null,null,0,null,1,"indip"]
["",null,{"$f":"IF(ISERROR(VLOOKUP(B4126,database!$B$2:$C$6001,2,FALSE)),\"\",VLOOKUP(B4126,database!$B$2:$C$6001,2,FALSE))","v":""},null,null,null,"",null,null,null,{"$f":"IF(ISERROR(VLOOKUP(B4126,database!$B$2:$D$6001,3,FALSE)),\"\",VLOOKUP(B4126,database!$B$2:$D$6001,3,FALSE))","v":""},null,null,null,null,null,null,"",null,null,0,null,1,"indip"]
["",null,{"$f":"IF(ISERROR(VLOOKUP(B4131,database!$B$2:$C$6001,2,FALSE)),\"\",VLOOKUP(B4131,database!$B$2:$C$6001,2,FALSE))","v":""},null,null,null,"",null,null,null,{"$f":"IF(ISERROR(VLOOKUP(B4131,database!$B$2:$D$6001,3,FALSE)),\"\",VLOOKUP(B4131,database!$B$2:$D$6001,3,FALSE))","v":""},null,null,null,null,null,null,"",null,null,0,null,1,"indip"]
["",null,{"$f":"IF(ISERROR(VLOOKUP(B4138,database!$B$2:$C$6001,2,FALSE)),\"\",VLOOKUP(B4138,database!$B$2:$C$6001,2,FALSE))","v":""},null,null,null,"",null,null,null,{"$f":"IF(ISERROR(VLOOKUP(B4138,database!$B$2:$D$6001,3,FALSE)),\"\",VLOOKUP(B4138,database!$B$2:$D$6001,3,FALSE))","v":""},null,null,null,null,null,null,"",null,null,0,null,1,"indip"]
["",null,{"$f":"IF(ISERROR(VLOOKUP(B4141,database!$B$2:$C$6001,2,FALSE)),\"\",VLOOKUP(B4141,database!$B$2:$C$6001,2,FALSE))","v":""},null,null,null,"",null,null,null,{"$f":"IF(ISERROR(VLOOKUP(B4141,database!$B$2:$D$6001,3,FALSE)),\"\",VLOOKUP(B4141,database!$B$2:$D$6001,3,FALSE))","v":""},null,null,null,null,null,null,"",null,null,0,null,1,"indip"]
["",null,{"$f":"IF(ISERROR(VLOOKUP(B4147,database!$B$2:$C$6001,2,FALSE)),\"\",VLOOKUP(B4147,database!$B$2:$C$6001,2,FALSE))","v":""},null,null,null,"",null,null,null,{"$f":"IF(ISERROR(VLOOKUP(B4147,database!$B$2:$D$6001,3,FALSE)),\"\",VLOOKUP(B4147,database!$B$2:$D$6001,3,FALSE))","v":""},null,null,null,null,null,null,"",null,null,0,null,1,"indip"]
["",null,{"$f":"IF(ISERROR(VLOOKUP(B4152,database!$B$2:$C$6001,2,FALSE)),\"\",VLOOKUP(B4152,database!$B$2:$C$6001,2,FALSE))","v":""},null,null,null,"",null,null,null,{"$f":"IF(ISERROR(VLOOKUP(B4152,database!$B$2:$D$6001,3,FALSE)),\"\",VLOOKUP(B4152,database!$B$2:$D$6001,3,FALSE))","v":""},null,null,null,null,null,null,"",null,null,0,null,1,"indip"]
["",null,{"$f":"IF(ISERROR(VLOOKUP(B4157,database!$B$2:$C$6001,2,FALSE)),\"\",VLOOKUP(B4157,database!$B$2:$C$6001,2,FALSE))","v":""},null,null,null,"",null,null,null,{"$f":"IF(ISERROR(VLOOKUP(B4157,database!$B$2:$D$6001,3,FALSE)),\"\",VLOOKUP(B4157,database!$B$2:$D$6001,3,FALSE))","v":""},null,null,null,null,null,null,"",null,null,0,null,1,"indip"]
["",null,{"$f":"IF(ISERROR(VLOOKUP(B4162,database!$B$2:$C$6001,2,FALSE)),\"\",VLOOKUP(B4162,database!$B$2:$C$6001,2,FALSE))","v":""},null,null,null,"",null,null,null,{"$f":"IF(ISERROR(VLOOKUP(B4162,database!$B$2:$D$6001,3,FALSE)),\"\",VLOOKUP(B4162,database!$B$2:$D$6001,3,FALSE))","v":""},null,null,null,null,null,null,"",null,null,0,null,1,"indip"]
["",null,{"$f":"IF(ISERROR(VLOOKUP(B4167,database!$B$2:$C$6001,2,FALSE)),\"\",VLOOKUP(B4167,database!$B$2:$C$6001,2,FALSE))","v":""},null,null,null,"",null,null,null,{"$f":"IF(ISERROR(VLOOKUP(B4167,database!$B$2:$D$6001,3,FALSE)),\"\",VLOOKUP(B4167,database!$B$2:$D$6001,3,FALSE))","v":""},null,null,null,null,null,null,"",null,null,0,null,1,"indip"]
["",null,{"$f":"IF(ISERROR(VLOOKUP(B4168,database!$B$2:$C$6001,2,FALSE)),\"\",VLOOKUP(B4168,database!$B$2:$C$6001,2,FALSE))","v":""},null,null,null,"",null,null,null,{"$f":"IF(ISERROR(VLOOKUP(B4168,database!$B$2:$D$6001,3,FALSE)),\"\",VLOOKUP(B4168,database!$B$2:$D$6001,3,FALSE))","v":""},null,null,null,null,null,null,"",null,null,0,null,1,"indip"]
["",null,{"$f":"IF(ISERROR(VLOOKUP(B4176,database!$B$2:$C$6001,2,FALSE)),\"\",VLOOKUP(B4176,database!$B$2:$C$6001,2,FALSE))","v":""},null,null,null,"",null,null,null,{"$f":"IF(ISERROR(VLOOKUP(B4176,database!$B$2:$D$6001,3,FALSE)),\"\",VLOOKUP(B4176,database!$B$2:$D$6001,3,FALSE))","v":""},null,null,null,null,null,null,"",null,null,0,null,1,"indip"]
["",null,{"$f":"IF(ISERROR(VLOOKUP(B4177,database!$B$2:$C$6001,2,FALSE)),\"\",VLOOKUP(B4177,database!$B$2:$C$6001,2,FALSE))","v":""},null,null,null,"",null,null,null,{"$f":"IF(ISERROR(VLOOKUP(B4177,database!$B$2:$D$6001,3,FALSE)),\"\",VLOOKUP(B4177,database!$B$2:$D$6001,3,FALSE))","v":""},null,null,null,null,null,null,"",null,null,0,null,1,"indip"]
["",null,{"$f":"IF(ISERROR(VLOOKUP(B4183,database!$B$2:$C$6001,2,FALSE)),\"\",VLOOKUP(B4183,database!$B$2:$C$6001,2,FALSE))","v":""},null,null,null,"",null,null,null,{"$f":"IF(ISERROR(VLOOKUP(B4183,database!$B$2:$D$6001,3,FALSE)),\"\",VLOOKUP(B4183,database!$B$2:$D$6001,3,FALSE))","v":""},null,null,null,null,null,null,"",null,null,0,null,1,"indip"]
["",null,{"$f":"IF(ISERROR(VLOOKUP(B4188,database!$B$2:$C$6001,2,FALSE)),\"\",VLOOKUP(B4188,database!$B$2:$C$6001,2,FALSE))","v":""},null,null,null,"",null,null,null,{"$f":"IF(ISERROR(VLOOKUP(B4188,database!$B$2:$D$6001,3,FALSE)),\"\",VLOOKUP(B4188,database!$B$2:$D$6001,3,FALSE))","v":""},null,null,null,null,null,null,"",null,null,0,null,1,"indip"]
["",null,{"$f":"IF(ISERROR(VLOOKUP(B4195,database!$B$2:$C$6001,2,FALSE)),\"\",VLOOKUP(B4195,database!$B$2:$C$6001,2,FALSE))","v":""},null,null,null,"",null,null,null,{"$f":"IF(ISERROR(VLOOKUP(B4195,database!$B$2:$D$6001,3,FALSE)),\"\",VLOOKUP(B4195,database!$B$2:$D$6001,3,FALSE))","v":""},null,null,null,null,null,null,"",null,null,0,null,1,"indip"]
["",null,{"$f":"IF(ISERROR(VLOOKUP(B4198,database!$B$2:$C$6001,2,FALSE)),\"\",VLOOKUP(B4198,database!$B$2:$C$6001,2,FALSE))","v":""},null,null,null,"",null,null,null,{"$f":"IF(ISERROR(VLOOKUP(B4198,database!$B$2:$D$6001,3,FALSE)),\"\",VLOOKUP(B4198,database!$B$2:$D$6001,3,FALSE))","v":""},null,null,null,null,null,null,"",null,null,0,null,1,"indip"]
["",null,{"$f":"IF(ISERROR(VLOOKUP(B4203,database!$B$2:$C$6001,2,FALSE)),\"\",VLOOKUP(B4203,database!$B$2:$C$6001,2,FALSE))","v":""},null,null,null,"",null,null,null,{"$f":"IF(ISERROR(VLOOKUP(B4203,database!$B$2:$D$6001,3,FALSE)),\"\",VLOOKUP(B4203,database!$B$2:$D$6001,3,FALSE))","v":""},null,null,null,null,null,null,"",null,null,0,null,1,"indip"]
["",null,{"$f":"IF(ISERROR(VLOOKUP(B4209,database!$B$2:$C$6001,2,FALSE)),\"\",VLOOKUP(B4209,database!$B$2:$C$6001,2,FALSE))","v":""},null,null,null,"",null,null,null,{"$f":"IF(ISERROR(VLOOKUP(B4209,database!$B$2:$D$6001,3,FALSE)),\"\",VLOOKUP(B4209,database!$B$2:$D$6001,3,FALSE))","v":""},null,null,null,null,null,null,"",null,null,0,null,1,"indip"]
["",null,{"$f":"IF(ISERROR(VLOOKUP(B4214,database!$B$2:$C$6001,2,FALSE)),\"\",VLOOKUP(B4214,database!$B$2:$C$6001,2,FALSE))","v":""},null,null,null,"",null,null,null,{"$f":"IF(ISERROR(VLOOKUP(B4214,database!$B$2:$D$6001,3,FALSE)),\"\",VLOOKUP(B4214,database!$B$2:$D$6001,3,FALSE))","v":""},null,null,null,null,null,null,"",null,null,0,null,1,"indip"]
["",null,{"$f":"IF(ISERROR(VLOOKUP(B4216,database!$B$2:$C$6001,2,FALSE)),\"\",VLOOKUP(B4216,database!$B$2:$C$6001,2,FALSE))","v":""},null,null,null,"",null,null,null,{"$f":"IF(ISERROR(VLOOKUP(B4216,database!$B$2:$D$6001,3,FALSE)),\"\",VLOOKUP(B4216,database!$B$2:$D$6001,3,FALSE))","v":""},null,null,null,null,null,null,"",null,null,0,null,1,"indip"]
["",null,{"$f":"IF(ISERROR(VLOOKUP(B4224,database!$B$2:$C$6001,2,FALSE)),\"\",VLOOKUP(B4224,database!$B$2:$C$6001,2,FALSE))","v":""},null,null,null,"",null,null,null,{"$f":"IF(ISERROR(VLOOKUP(B4224,database!$B$2:$D$6001,3,FALSE)),\"\",VLOOKUP(B4224,database!$B$2:$D$6001,3,FALSE))","v":""},null,null,null,null,null,null,"",null,null,0,null,1,"indip"]
[{"$f":"IF(B4229=\"\",\"\",ROW(A4226))","v":""},null,{"$f":"IF(ISERROR(VLOOKUP(B4229,database!$B$2:$C$6001,2,FALSE)),\"\",VLOOKUP(B4229,database!$B$2:$C$6001,2,FALSE))","v":""},null,null,null,{"$f":"IF(B4229=\"\",\"\",IF(B4229=\"-\",0,IF(W4229=1,1,IF(AND(U4229=0,F4229=\"SSB\"),2,IF(AND(U4229=0,F4229=\"DIGI\"),3,IF(AND(U4229=0,F4229=\"CW\"),5,U4229))))))","v":""},null,null,null,{"$f":"IF(ISERROR(VLOOKUP(B4229,database!$B$2:$D$6001,3,FALSE)),\"\",VLOOKUP(B4229,database!$B$2:$D$6001,3,FALSE))","v":""},null,null,null,null,null,null,{"$f":"LEFT(C4229,2)","v":""},null,null,0,null,1,"indip"]
["",null,{"$f":"IF(ISERROR(VLOOKUP(B4234,database!$B$2:$C$6001,2,FALSE)),\"\",VLOOKUP(B4234,database!$B$2:$C$6001,2,FALSE))","v":""},null,null,null,"",null,null,null,{"$f":"IF(ISERROR(VLOOKUP(B4234,database!$B$2:$D$6001,3,FALSE)),\"\",VLOOKUP(B4234,database!$B$2:$D$6001,3,FALSE))","v":""},null,null,null,null,null,null,"",null,null,0,null,1,"indip"]
["",null,{"$f":"IF(ISERROR(VLOOKUP(B4235,database!$B$2:$C$6001,2,FALSE)),\"\",VLOOKUP(B4235,database!$B$2:$C$6001,2,FALSE))","v":""},null,null,null,"",null,null,null,{"$f":"IF(ISERROR(VLOOKUP(B4235,database!$B$2:$D$6001,3,FALSE)),\"\",VLOOKUP(B4235,database!$B$2:$D$6001,3,FALSE))","v":""},null,null,null,null,null,null,"",null,null,0,null,1,"indip"]
["",null,{"$f":"IF(ISERROR(VLOOKUP(B4239,database!$B$2:$C$6001,2,FALSE)),\"\",VLOOKUP(B4239,database!$B$2:$C$6001,2,FALSE))","v":""},null,null,null,"",null,null,null,{"$f":"IF(ISERROR(VLOOKUP(B4239,database!$B$2:$D$6001,3,FALSE)),\"\",VLOOKUP(B4239,database!$B$2:$D$6001,3,FALSE))","v":""},null,null,null,null,null,null,"",null,null,0,null,1,"indip"]
["",null,{"$f":"IF(ISERROR(VLOOKUP(B4245,database!$B$2:$C$6001,2,FALSE)),\"\",VLOOKUP(B4245,database!$B$2:$C$6001,2,FALSE))","v":""},null,null,null,"",null,null,null,{"$f":"IF(ISERROR(VLOOKUP(B4245,database!$B$2:$D$6001,3,FALSE)),\"\",VLOOKUP(B4245,database!$B$2:$D$6001,3,FALSE))","v":""},null,null,null,null,null,null,"",null,null,0,null,1,"indip"]
["",null,{"$f":"IF(ISERROR(VLOOKUP(B4250,database!$B$2:$C$6001,2,FALSE)),\"\",VLOOKUP(B4250,database!$B$2:$C$6001,2,FALSE))","v":""},null,null,null,"",null,null,null,{"$f":"IF(ISERROR(VLOOKUP(B4250,database!$B$2:$D$6001,3,FALSE)),\"\",VLOOKUP(B4250,database!$B$2:$D$6001,3,FALSE))","v":""},null,null,null,null,null,null,"",null,null,0,null,1,"indip"]
["",null,{"$f":"IF(ISERROR(VLOOKUP(B4254,database!$B$2:$C$6001,2,FALSE)),\"\",VLOOKUP(B4254,database!$B$2:$C$6001,2,FALSE))","v":""},null,null,null,"",null,null,null,{"$f":"IF(ISERROR(VLOOKUP(B4254,database!$B$2:$D$6001,3,FALSE)),\"\",VLOOKUP(B4254,database!$B$2:$D$6001,3,FALSE))","v":""},null,null,null,null,null,null,"",null,null,0,null,1,"indip"]
["",null,{"$f":"IF(ISERROR(VLOOKUP(B4260,database!$B$2:$C$6001,2,FALSE)),\"\",VLOOKUP(B4260,database!$B$2:$C$6001,2,FALSE))","v":""},null,null,null,"",null,null,null,{"$f":"IF(ISERROR(VLOOKUP(B4260,database!$B$2:$D$6001,3,FALSE)),\"\",VLOOKUP(B4260,database!$B$2:$D$6001,3,FALSE))","v":""},null,null,null,null,null,null,"",null,null,0,null,1,"indip"]
["",null,{"$f":"IF(ISERROR(VLOOKUP(B4265,database!$B$2:$C$6001,2,FALSE)),\"\",VLOOKUP(B4265,database!$B$2:$C$6001,2,FALSE))","v":""},null,null,null,"",null,null,null,{"$f":"IF(ISERROR(VLOOKUP(B4265,database!$B$2:$D$6001,3,FALSE)),\"\",VLOOKUP(B4265,database!$B$2:$D$6001,3,FALSE))","v":""},null,null,null,null,null,null,"",null,null,0,null,1,"indip"]
["",null,{"$f":"IF(ISERROR(VLOOKUP(B4271,database!$B$2:$C$6001,2,FALSE)),\"\",VLOOKUP(B4271,database!$B$2:$C$6001,2,FALSE))","v":""},null,null,null,"",null,null,null,{"$f":"IF(ISERROR(VLOOKUP(B4271,database!$B$2:$D$6001,3,FALSE)),\"\",VLOOKUP(B4271,database!$B$2:$D$6001,3,FALSE))","v":""},null,null,null,null,null,null,"",null,null,0,null,1,"indip"]
["",null,{"$f":"IF(ISERROR(VLOOKUP(B4273,database!$B$2:$C$6001,2,FALSE)),\"\",VLOOKUP(B4273,database!$B$2:$C$6001,2,FALSE))","v":""},null,null,null,"",null,null,null,{"$f":"IF(ISERROR(VLOOKUP(B4273,database!$B$2:$D$6001,3,FALSE)),\"\",VLOOKUP(B4273,database!$B$2:$D$6001,3,FALSE))","v":""},null,null,null,null,null,null,"",null,null,0,null,1,"indip"]
["",null,{"$f":"IF(ISERROR(VLOOKUP(B4280,database!$B$2:$C$6001,2,FALSE)),\"\",VLOOKUP(B4280,database!$B$2:$C$6001,2,FALSE))","v":""},null,null,null,"",null,null,null,{"$f":"IF(ISERROR(VLOOKUP(B4280,database!$B$2:$D$6001,3,FALSE)),\"\",VLOOKUP(B4280,database!$B$2:$D$6001,3,FALSE))","v":""},null,null,null,null,null,null,"",null,null,0,null,1,"indip"]
["",null,{"$f":"IF(ISERROR(VLOOKUP(B4286,database!$B$2:$C$6001,2,FALSE)),\"\",VLOOKUP(B4286,database!$B$2:$C$6001,2,FALSE))","v":""},null,null,null,"",null,null,null,{"$f":"IF(ISERROR(VLOOKUP(B4286,database!$B$2:$D$6001,3,FALSE)),\"\",VLOOKUP(B4286,database!$B$2:$D$6001,3,FALSE))","v":""},null,null,null,null,null,null,"",null,null,0,null,1,"indip"]
["",null,{"$f":"IF(ISERROR(VLOOKUP(B4291,database!$B$2:$C$6001,2,FALSE)),\"\",VLOOKUP(B4291,database!$B$2:$C$6001,2,FALSE))","v":""},null,null,null,"",null,null,null,{"$f":"IF(ISERROR(VLOOKUP(B4291,database!$B$2:$D$6001,3,FALSE)),\"\",VLOOKUP(B4291,database!$B$2:$D$6001,3,FALSE))","v":""},null,null,null,null,null,null,"",null,null,0,null,1,"indip"]
["",null,{"$f":"IF(ISERROR(VLOOKUP(B4292,database!$B$2:$C$6001,2,FALSE)),\"\",VLOOKUP(B4292,database!$B$2:$C$6001,2,FALSE))","v":""},null,null,null,"",null,null,null,{"$f":"IF(ISERROR(VLOOKUP(B4292,database!$B$2:$D$6001,3,FALSE)),\"\",VLOOKUP(B4292,database!$B$2:$D$6001,3,FALSE))","v":""},null,null,null,null,null,null,"",null,null,{"$f":"IFERROR(INDEX(M$39:N$140,MATCH(B4292,M$39:M$140,0),2),0)","v":0},null,{"$f":"IF(AND(U4292=0,C4292=\"\"),1,2)","v":1},{"$f":"IF(B4292=\"-\",\"\",IF(OR(B4292=M$39,B4292=M$40,B4292=M$41,B4292=M$42,B4292=M$43,B4292=M$44,B4292=M$45,B4292=M$46,B4292=M$47,,B4292=M$50,B4292=M$51,B4292=M$52,B4292=M$53,B4292=M$54,B4292=M$55,B4292=M$56,B4292=M$57,B4292=M$70),\"\",IF(C4292=\"\",\"indip\",F4292)))","v":"indip"}]
["",null,{"$f":"IF(ISERROR(VLOOKUP(B4296,database!$B$2:$C$6001,2,FALSE)),\"\",VLOOKUP(B4296,database!$B$2:$C$6001,2,FALSE))","v":""},null,null,null,"",null,null,null,{"$f":"IF(ISERROR(VLOOKUP(B4296,database!$B$2:$D$6001,3,FALSE)),\"\",VLOOKUP(B4296,database!$B$2:$D$6001,3,FALSE))","v":""},null,null,null,null,null,null,"",null,null,0,null,1,"indip"]
["",null,{"$f":"IF(ISERROR(VLOOKUP(B4301,database!$B$2:$C$6001,2,FALSE)),\"\",VLOOKUP(B4301,database!$B$2:$C$6001,2,FALSE))","v":""},null,null,null,"",null,null,null,{"$f":"IF(ISERROR(VLOOKUP(B4301,database!$B$2:$D$6001,3,FALSE)),\"\",VLOOKUP(B4301,database!$B$2:$D$6001,3,FALSE))","v":""},null,null,null,null,null,null,"",null,null,0,null,1,"indip"]
["",null,{"$f":"IF(ISERROR(VLOOKUP(B4307,database!$B$2:$C$6001,2,FALSE)),\"\",VLOOKUP(B4307,database!$B$2:$C$6001,2,FALSE))","v":""},null,null,null,"",null,null,null,{"$f":"IF(ISERROR(VLOOKUP(B4307,database!$B$2:$D$6001,3,FALSE)),\"\",VLOOKUP(B4307,database!$B$2:$D$6001,3,FALSE))","v":""},null,null,null,null,null,null,"",null,null,0,null,1,"indip"]
["",null,{"$f":"IF(ISERROR(VLOOKUP(B4312,database!$B$2:$C$6001,2,FALSE)),\"\",VLOOKUP(B4312,database!$B$2:$C$6001,2,FALSE))","v":""},null,null,null,"",null,null,null,{"$f":"IF(ISERROR(VLOOKUP(B4312,database!$B$2:$D$6001,3,FALSE)),\"\",VLOOKUP(B4312,database!$B$2:$D$6001,3,FALSE))","v":""},null,null,null,null,null,null,"",null,null,0,null,1,"indip"]
["",null,{"$f":"IF(ISERROR(VLOOKUP(B4317,database!$B$2:$C$6001,2,FALSE)),\"\",VLOOKUP(B4317,database!$B$2:$C$6001,2,FALSE))","v":""},null,null,null,"",null,null,null,{"$f":"IF(ISERROR(VLOOKUP(B4317,database!$B$2:$D$6001,3,FALSE)),\"\",VLOOKUP(B4317,database!$B$2:$D$6001,3,FALSE))","v":""},null,null,null,null,null,null,"",null,null,0,null,1,"indip"]
["",null,{"$f":"IF(ISERROR(VLOOKUP(B4322,database!$B$2:$C$6001,2,FALSE)),\"\",VLOOKUP(B4322,database!$B$2:$C$6001,2,FALSE))","v":""},null,null,null,"",null,null,null,{"$f":"IF(ISERROR(VLOOKUP(B4322,database!$B$2:$D$6001,3,FALSE)),\"\",VLOOKUP(B4322,database!$B$2:$D$6001,3,FALSE))","v":""},null,null,null,null,null,null,"",null,null,0,null,1,"indip"]
["",null,{"$f":"IF(ISERROR(VLOOKUP(B4327,database!$B$2:$C$6001,2,FALSE)),\"\",VLOOKUP(B4327,database!$B$2:$C$6001,2,FALSE))","v":""},null,null,null,"",null,null,null,{"$f":"IF(ISERROR(VLOOKUP(B4327,database!$B$2:$D$6001,3,FALSE)),\"\",VLOOKUP(B4327,database!$B$2:$D$6001,3,FALSE))","v":""},null,null,null,null,null,null,"",null,null,0,null,1,"indip"]
["",null,{"$f":"IF(ISERROR(VLOOKUP(B4332,database!$B$2:$C$6001,2,FALSE)),\"\",VLOOKUP(B4332,database!$B$2:$C$6001,2,FALSE))","v":""},null,null,null,"",null,null,null,{"$f":"IF(ISERROR(VLOOKUP(B4332,database!$B$2:$D$6001,3,FALSE)),\"\",VLOOKUP(B4332,database!$B$2:$D$6001,3,FALSE))","v":""},null,null,null,null,null,null,"",null,null,0,null,1,"indip"]
["",null,{"$f":"IF(ISERROR(VLOOKUP(B4336,database!$B$2:$C$6001,2,FALSE)),\"\",VLOOKUP(B4336,database!$B$2:$C$6001,2,FALSE))","v":""},null,null,null,"",null,null,null,{"$f":"IF(ISERROR(VLOOKUP(B4336,database!$B$2:$D$6001,3,FALSE)),\"\",VLOOKUP(B4336,database!$B$2:$D$6001,3,FALSE))","v":""},null,null,null,null,null,null,"",null,null,0,null,1,"indip"]
["",null,{"$f":"IF(ISERROR(VLOOKUP(B4342,database!$B$2:$C$6001,2,FALSE)),\"\",VLOOKUP(B4342,database!$B$2:$C$6001,2,FALSE))","v":""},null,null,null,"",null,null,null,{"$f":"IF(ISERROR(VLOOKUP(B4342,database!$B$2:$D$6001,3,FALSE)),\"\",VLOOKUP(B4342,database!$B$2:$D$6001,3,FALSE))","v":""},null,null,null,null,null,null,"",null,null,0,null,1,"indip"]
["",null,{"$f":"IF(ISERROR(VLOOKUP(B4348,database!$B$2:$C$6001,2,FALSE)),\"\",VLOOKUP(B4348,database!$B$2:$C$6001,2,FALSE))","v":""},null,null,null,"",null,null,null,{"$f":"IF(ISERROR(VLOOKUP(B4348,database!$B$2:$D$6001,3,FALSE)),\"\",VLOOKUP(B4348,database!$B$2:$D$6001,3,FALSE))","v":""},null,null,null,null,null,null,"",null,null,0,null,1,"indip"]
["",null,{"$f":"IF(ISERROR(VLOOKUP(B4353,database!$B$2:$C$6001,2,FALSE)),\"\",VLOOKUP(B4353,database!$B$2:$C$6001,2,FALSE))","v":""},null,null,null,"",null,null,null,{"$f":"IF(ISERROR(VLOOKUP(B4353,database!$B$2:$D$6001,3,FALSE)),\"\",VLOOKUP(B4353,database!$B$2:$D$6001,3,FALSE))","v":""},null,null,null,null,null,null,"",null,null,0,null,1,"indip"]
["",null,{"$f":"IF(ISERROR(VLOOKUP(B4355,database!$B$2:$C$6001,2,FALSE)),\"\",VLOOKUP(B4355,database!$B$2:$C$6001,2,FALSE))","v":""},null,null,null,"",null,null,null,{"$f":"IF(ISERROR(VLOOKUP(B4355,database!$B$2:$D$6001,3,FALSE)),\"\",VLOOKUP(B4355,database!$B$2:$D$6001,3,FALSE))","v":""},null,null,null,null,null,null,"",null,null,0,null,1,"indip"]
["",null,{"$f":"IF(ISERROR(VLOOKUP(B4358,database!$B$2:$C$6001,2,FALSE)),\"\",VLOOKUP(B4358,database!$B$2:$C$6001,2,FALSE))","v":""},null,null,null,"",null,null,null,{"$f":"IF(ISERROR(VLOOKUP(B4358,database!$B$2:$D$6001,3,FALSE)),\"\",VLOOKUP(B4358,database!$B$2:$D$6001,3,FALSE))","v":""},null,null,null,null,null,null,"",null,null,0,null,1,"indip"]
["",null,{"$f":"IF(ISERROR(VLOOKUP(B4363,database!$B$2:$C$6001,2,FALSE)),\"\",VLOOKUP(B4363,database!$B$2:$C$6001,2,FALSE))","v":""},null,null,null,"",null,null,null,{"$f":"IF(ISERROR(VLOOKUP(B4363,database!$B$2:$D$6001,3,FALSE)),\"\",VLOOKUP(B4363,database!$B$2:$D$6001,3,FALSE))","v":""},null,null,null,null,null,null,"",null,null,0,null,1,"indip"]
["",null,{"$f":"IF(ISERROR(VLOOKUP(B4369,database!$B$2:$C$6001,2,FALSE)),\"\",VLOOKUP(B4369,database!$B$2:$C$6001,2,FALSE))","v":""},null,null,null,"",null,null,null,{"$f":"IF(ISERROR(VLOOKUP(B4369,database!$B$2:$D$6001,3,FALSE)),\"\",VLOOKUP(B4369,database!$B$2:$D$6001,3,FALSE))","v":""},null,null,null,null,null,null,"",null,null,0,null,1,"indip"]
["",null,{"$f":"IF(ISERROR(VLOOKUP(B4374,database!$B$2:$C$6001,2,FALSE)),\"\",VLOOKUP(B4374,database!$B$2:$C$6001,2,FALSE))","v":""},null,null,null,"",null,null,null,{"$f":"IF(ISERROR(VLOOKUP(B4374,database!$B$2:$D$6001,3,FALSE)),\"\",VLOOKUP(B4374,database!$B$2:$D$6001,3,FALSE))","v":""},null,null,null,null,null,null,"",null,null,0,null,1,"indip"]
["",null,{"$f":"IF(ISERROR(VLOOKUP(B4378,database!$B$2:$C$6001,2,FALSE)),\"\",VLOOKUP(B4378,database!$B$2:$C$6001,2,FALSE))","v":""},null,null,null,"",null,null,null,{"$f":"IF(ISERROR(VLOOKUP(B4378,database!$B$2:$D$6001,3,FALSE)),\"\",VLOOKUP(B4378,database!$B$2:$D$6001,3,FALSE))","v":""},null,null,null,null,null,null,"",null,null,0,null,1,"indip"]
["",null,{"$f":"IF(ISERROR(VLOOKUP(B4384,database!$B$2:$C$6001,2,FALSE)),\"\",VLOOKUP(B4384,database!$B$2:$C$6001,2,FALSE))","v":""},null,null,null,"",null,null,null,{"$f":"IF(ISERROR(VLOOKUP(B4384,database!$B$2:$D$6001,3,FALSE)),\"\",VLOOKUP(B4384,database!$B$2:$D$6001,3,FALSE))","v":""},null,null,null,null,null,null,"",null,null,0,null,1,"indip"]
["",null,{"$f":"IF(ISERROR(VLOOKUP(B4389,database!$B$2:$C$6001,2,FALSE)),\"\",VLOOKUP(B4389,database!$B$2:$C$6001,2,FALSE))","v":""},null,null,null,"",null,null,null,{"$f":"IF(ISERROR(VLOOKUP(B4389,database!$B$2:$D$6001,3,FALSE)),\"\",VLOOKUP(B4389,database!$B$2:$D$6001,3,FALSE))","v":""},null,null,null,null,null,null,"",null,null,0,null,1,"indip"]
["",null,{"$f":"IF(ISERROR(VLOOKUP(B4394,database!$B$2:$C$6001,2,FALSE)),\"\",VLOOKUP(B4394,database!$B$2:$C$6001,2,FALSE))","v":""},null,null,null,"",null,null,null,{"$f":"IF(ISERROR(VLOOKUP(B4394,database!$B$2:$D$6001,3,FALSE)),\"\",VLOOKUP(B4394,database!$B$2:$D$6001,3,FALSE))","v":""},null,null,null,null,null,null,"",null,null,0,null,1,"indip"]
["",null,{"$f":"IF(ISERROR(VLOOKUP(B4399,database!$B$2:$C$6001,2,FALSE)),\"\",VLOOKUP(B4399,database!$B$2:$C$6001,2,FALSE))","v":""},null,null,null,"",null,null,null,{"$f":"IF(ISERROR(VLOOKUP(B4399,database!$B$2:$D$6001,3,FALSE)),\"\",VLOOKUP(B4399,database!$B$2:$D$6001,3,FALSE))","v":""},null,null,null,null,null,null,"",null,null,0,null,1,"indip"]
["",null,{"$f":"IF(ISERROR(VLOOKUP(B4404,database!$B$2:$C$6001,2,FALSE)),\"\",VLOOKUP(B4404,database!$B$2:$C$6001,2,FALSE))","v":""},null,null,null,"",null,null,null,{"$f":"IF(ISERROR(VLOOKUP(B4404,database!$B$2:$D$6001,3,FALSE)),\"\",VLOOKUP(B4404,database!$B$2:$D$6001,3,FALSE))","v":""},null,null,null,null,null,null,"",null,null,0,null,1,"indip"]
["",null,{"$f":"IF(ISERROR(VLOOKUP(B4410,database!$B$2:$C$6001,2,FALSE)),\"\",VLOOKUP(B4410,database!$B$2:$C$6001,2,FALSE))","v":""},null,null,null,"",null,null,null,{"$f":"IF(ISERROR(VLOOKUP(B4410,database!$B$2:$D$6001,3,FALSE)),\"\",VLOOKUP(B4410,database!$B$2:$D$6001,3,FALSE))","v":""},null,null,null,null,null,null,"",null,null,0,null,1,"indip"]
["",null,{"$f":"IF(ISERROR(VLOOKUP(B4415,database!$B$2:$C$6001,2,FALSE)),\"\",VLOOKUP(B4415,database!$B$2:$C$6001,2,FALSE))","v":""},null,null,null,"",null,null,null,{"$f":"IF(ISERROR(VLOOKUP(B4415,database!$B$2:$D$6001,3,FALSE)),\"\",VLOOKUP(B4415,database!$B$2:$D$6001,3,FALSE))","v":""},null,null,null,null,null,null,"",null,null,0,null,1,"indip"]
["",null,{"$f":"IF(ISERROR(VLOOKUP(B4418,database!$B$2:$C$6001,2,FALSE)),\"\",VLOOKUP(B4418,database!$B$2:$C$6001,2,FALSE))","v":""},null,null,null,"",null,null,null,{"$f":"IF(ISERROR(VLOOKUP(B4418,database!$B$2:$D$6001,3,FALSE)),\"\",VLOOKUP(B4418,database!$B$2:$D$6001,3,FALSE))","v":""},null,null,null,null,null,null,"",null,null,0,null,1,"indip"]
["",null,{"$f":"IF(ISERROR(VLOOKUP(B4420,database!$B$2:$C$6001,2,FALSE)),\"\",VLOOKUP(B4420,database!$B$2:$C$6001,2,FALSE))","v":""},null,null,null,"",null,null,null,{"$f":"IF(ISERROR(VLOOKUP(B4420,database!$B$2:$D$6001,3,FALSE)),\"\",VLOOKUP(B4420,database!$B$2:$D$6001,3,FALSE))","v":""},null,null,null,null,null,null,"",null,null,{"$f":"IFERROR(INDEX(M$39:N$140,MATCH(B4420,M$39:M$140,0),2),0)","v":0},null,{"$f":"IF(AND(U4420=0,C4420=\"\"),1,2)","v":1},{"$f":"IF(B4420=\"-\",\"\",IF(OR(B4420=M$39,B4420=M$40,B4420=M$41,B4420=M$42,B4420=M$43,B4420=M$44,B4420=M$45,B4420=M$46,B4420=M$47,,B4420=M$50,B4420=M$51,B4420=M$52,B4420=M$53,B4420=M$54,B4420=M$55,B4420=M$56,B4420=M$57,B4420=M$70),\"\",IF(C4420=\"\",\"indip\",F4420)))","v":"indip"}]
["",null,{"$f":"IF(ISERROR(VLOOKUP(B4425,database!$B$2:$C$6001,2,FALSE)),\"\",VLOOKUP(B4425,database!$B$2:$C$6001,2,FALSE))","v":""},null,null,null,"",null,null,null,{"$f":"IF(ISERROR(VLOOKUP(B4425,database!$B$2:$D$6001,3,FALSE)),\"\",VLOOKUP(B4425,database!$B$2:$D$6001,3,FALSE))","v":""},null,null,null,null,null,null,"",null,null,0,null,1,"indip"]
["",null,{"$f":"IF(ISERROR(VLOOKUP(B4431,database!$B$2:$C$6001,2,FALSE)),\"\",VLOOKUP(B4431,database!$B$2:$C$6001,2,FALSE))","v":""},null,null,null,"",null,null,null,{"$f":"IF(ISERROR(VLOOKUP(B4431,database!$B$2:$D$6001,3,FALSE)),\"\",VLOOKUP(B4431,database!$B$2:$D$6001,3,FALSE))","v":""},null,null,null,null,null,null,"",null,null,0,null,1,"indip"]
["",null,{"$f":"IF(ISERROR(VLOOKUP(B4437,database!$B$2:$C$6001,2,FALSE)),\"\",VLOOKUP(B4437,database!$B$2:$C$6001,2,FALSE))","v":""},null,null,null,"",null,null,null,{"$f":"IF(ISERROR(VLOOKUP(B4437,database!$B$2:$D$6001,3,FALSE)),\"\",VLOOKUP(B4437,database!$B$2:$D$6001,3,FALSE))","v":""},null,null,null,null,null,null,"",null,null,0,null,1,"indip"]
["",null,{"$f":"IF(ISERROR(VLOOKUP(B4440,database!$B$2:$C$6001,2,FALSE)),\"\",VLOOKUP(B4440,database!$B$2:$C$6001,2,FALSE))","v":""},null,null,null,"",null,null,null,{"$f":"IF(ISERROR(VLOOKUP(B4440,database!$B$2:$D$6001,3,FALSE)),\"\",VLOOKUP(B4440,database!$B$2:$D$6001,3,FALSE))","v":""},null,null,null,null,null,null,"",null,null,0,null,1,"indip"]
["",null,{"$f":"IF(ISERROR(VLOOKUP(B4446,database!$B$2:$C$6001,2,FALSE)),\"\",VLOOKUP(B4446,database!$B$2:$C$6001,2,FALSE))","v":""},null,null,null,"",null,null,null,{"$f":"IF(ISERROR(VLOOKUP(B4446,database!$B$2:$D$6001,3,FALSE)),\"\",VLOOKUP(B4446,database!$B$2:$D$6001,3,FALSE))","v":""},null,null,null,null,null,null,"",null,null,0,null,1,"indip"]
["",null,{"$f":"IF(ISERROR(VLOOKUP(B4451,database!$B$2:$C$6001,2,FALSE)),\"\",VLOOKUP(B4451,database!$B$2:$C$6001,2,FALSE))","v":""},null,null,null,"",null,null,null,{"$f":"IF(ISERROR(VLOOKUP(B4451,database!$B$2:$D$6001,3,FALSE)),\"\",VLOOKUP(B4451,database!$B$2:$D$6001,3,FALSE))","v":""},null,null,null,null,null,null,"",null,null,0,null,1,"indip"]
["",null,{"$f":"IF(ISERROR(VLOOKUP(B4456,database!$B$2:$C$6001,2,FALSE)),\"\",VLOOKUP(B4456,database!$B$2:$C$6001,2,FALSE))","v":""},null,null,null,"",null,null,null,{"$f":"IF(ISERROR(VLOOKUP(B4456,database!$B$2:$D$6001,3,FALSE)),\"\",VLOOKUP(B4456,database!$B$2:$D$6001,3,FALSE))","v":""},null,null,null,null,null,null,"",null,null,0,null,1,"indip"]
["",null,{"$f":"IF(ISERROR(VLOOKUP(B4461,database!$B$2:$C$6001,2,FALSE)),\"\",VLOOKUP(B4461,database!$B$2:$C$6001,2,FALSE))","v":""},null,null,null,"",null,null,null,{"$f":"IF(ISERROR(VLOOKUP(B4461,database!$B$2:$D$6001,3,FALSE)),\"\",VLOOKUP(B4461,database!$B$2:$D$6001,3,FALSE))","v":""},null,null,null,null,null,null,"",null,null,0,null,1,"indip"]
["",null,{"$f":"IF(ISERROR(VLOOKUP(B4466,database!$B$2:$C$6001,2,FALSE)),\"\",VLOOKUP(B4466,database!$B$2:$C$6001,2,FALSE))","v":""},null,null,null,"",null,null,null,{"$f":"IF(ISERROR(VLOOKUP(B4466,database!$B$2:$D$6001,3,FALSE)),\"\",VLOOKUP(B4466,database!$B$2:$D$6001,3,FALSE))","v":""},null,null,null,null,null,null,"",null,null,0,null,1,"indip"]
["",null,{"$f":"IF(ISERROR(VLOOKUP(B4472,database!$B$2:$C$6001,2,FALSE)),\"\",VLOOKUP(B4472,database!$B$2:$C$6001,2,FALSE))","v":""},null,null,null,"",null,null,null,{"$f":"IF(ISERROR(VLOOKUP(B4472,database!$B$2:$D$6001,3,FALSE)),\"\",VLOOKUP(B4472,database!$B$2:$D$6001,3,FALSE))","v":""},null,null,null,null,null,null,"",null,null,0,null,1,"indip"]
["",null,{"$f":"IF(ISERROR(VLOOKUP(B4475,database!$B$2:$C$6001,2,FALSE)),\"\",VLOOKUP(B4475,database!$B$2:$C$6001,2,FALSE))","v":""},null,null,null,"",null,null,null,{"$f":"IF(ISERROR(VLOOKUP(B4475,database!$B$2:$D$6001,3,FALSE)),\"\",VLOOKUP(B4475,database!$B$2:$D$6001,3,FALSE))","v":""},null,null,null,null,null,null,"",null,null,0,null,1,"indip"]
["",null,{"$f":"IF(ISERROR(VLOOKUP(B4481,database!$B$2:$C$6001,2,FALSE)),\"\",VLOOKUP(B4481,database!$B$2:$C$6001,2,FALSE))","v":""},null,null,null,"",null,null,null,{"$f":"IF(ISERROR(VLOOKUP(B4481,database!$B$2:$D$6001,3,FALSE)),\"\",VLOOKUP(B4481,database!$B$2:$D$6001,3,FALSE))","v":""},null,null,null,null,null,null,"",null,null,0,null,1,"indip"]
["",null,{"$f":"IF(ISERROR(VLOOKUP(B4482,database!$B$2:$C$6001,2,FALSE)),\"\",VLOOKUP(B4482,database!$B$2:$C$6001,2,FALSE))","v":""},null,null,null,"",null,null,null,{"$f":"IF(ISERROR(VLOOKUP(B4482,database!$B$2:$D$6001,3,FALSE)),\"\",VLOOKUP(B4482,database!$B$2:$D$6001,3,FALSE))","v":""},null,null,null,null,null,null,"",null,null,0,null,1,"indip"]
["",null,{"$f":"IF(ISERROR(VLOOKUP(B4487,database!$B$2:$C$6001,2,FALSE)),\"\",VLOOKUP(B4487,database!$B$2:$C$6001,2,FALSE))","v":""},null,null,null,"",null,null,null,{"$f":"IF(ISERROR(VLOOKUP(B4487,database!$B$2:$D$6001,3,FALSE)),\"\",VLOOKUP(B4487,database!$B$2:$D$6001,3,FALSE))","v":""},null,null,null,null,null,null,"",null,null,0,null,1,"indip"]
["",null,{"$f":"IF(ISERROR(VLOOKUP(B4492,database!$B$2:$C$6001,2,FALSE)),\"\",VLOOKUP(B4492,database!$B$2:$C$6001,2,FALSE))","v":""},null,null,null,"",null,null,null,{"$f":"IF(ISERROR(VLOOKUP(B4492,database!$B$2:$D$6001,3,FALSE)),\"\",VLOOKUP(B4492,database!$B$2:$D$6001,3,FALSE))","v":""},null,null,null,null,null,null,"",null,null,0,null,1,"indip"]
["",null,{"$f":"IF(ISERROR(VLOOKUP(B4500,database!$B$2:$C$6001,2,FALSE)),\"\",VLOOKUP(B4500,database!$B$2:$C$6001,2,FALSE))","v":""},null,null,null,"",null,null,null,{"$f":"IF(ISERROR(VLOOKUP(B4500,database!$B$2:$D$6001,3,FALSE)),\"\",VLOOKUP(B4500,database!$B$2:$D$6001,3,FALSE))","v":""},null,null,null,null,null,null,"",null,null,0,null,1,"indip"]
["",null,{"$f":"IF(ISERROR(VLOOKUP(B4502,database!$B$2:$C$6001,2,FALSE)),\"\",VLOOKUP(B4502,database!$B$2:$C$6001,2,FALSE))","v":""},null,null,null,"",null,null,null,{"$f":"IF(ISERROR(VLOOKUP(B4502,database!$B$2:$D$6001,3,FALSE)),\"\",VLOOKUP(B4502,database!$B$2:$D$6001,3,FALSE))","v":""},null,null,null,null,null,null,"",null,null,0,null,1,"indip"]
["",null,{"$f":"IF(ISERROR(VLOOKUP(B4508,database!$B$2:$C$6001,2,FALSE)),\"\",VLOOKUP(B4508,database!$B$2:$C$6001,2,FALSE))","v":""},null,null,null,"",null,null,null,{"$f":"IF(ISERROR(VLOOKUP(B4508,database!$B$2:$D$6001,3,FALSE)),\"\",VLOOKUP(B4508,database!$B$2:$D$6001,3,FALSE))","v":""},null,null,null,null,null,null,"",null,null,0,null,1,"indip"]
["",null,{"$f":"IF(ISERROR(VLOOKUP(B4513,database!$B$2:$C$6001,2,FALSE)),\"\",VLOOKUP(B4513,database!$B$2:$C$6001,2,FALSE))","v":""},null,null,null,"",null,null,null,{"$f":"IF(ISERROR(VLOOKUP(B4513,database!$B$2:$D$6001,3,FALSE)),\"\",VLOOKUP(B4513,database!$B$2:$D$6001,3,FALSE))","v":""},null,null,null,null,null,null,"",null,null,0,null,1,"indip"]
["",null,{"$f":"IF(ISERROR(VLOOKUP(B4519,database!$B$2:$C$6001,2,FALSE)),\"\",VLOOKUP(B4519,database!$B$2:$C$6001,2,FALSE))","v":""},null,null,null,"",null,null,null,{"$f":"IF(ISERROR(VLOOKUP(B4519,database!$B$2:$D$6001,3,FALSE)),\"\",VLOOKUP(B4519,database!$B$2:$D$6001,3,FALSE))","v":""},null,null,null,null,null,null,"",null,null,0,null,1,"indip"]
["",null,{"$f":"IF(ISERROR(VLOOKUP(B4523,database!$B$2:$C$6001,2,FALSE)),\"\",VLOOKUP(B4523,database!$B$2:$C$6001,2,FALSE))","v":""},null,null,null,"",null,null,null,{"$f":"IF(ISERROR(VLOOKUP(B4523,database!$B$2:$D$6001,3,FALSE)),\"\",VLOOKUP(B4523,database!$B$2:$D$6001,3,FALSE))","v":""},null,null,null,null,null,null,"",null,null,0,null,1,"indip"]
["",null,{"$f":"IF(ISERROR(VLOOKUP(B4528,database!$B$2:$C$6001,2,FALSE)),\"\",VLOOKUP(B4528,database!$B$2:$C$6001,2,FALSE))","v":""},null,null,null,"",null,null,null,{"$f":"IF(ISERROR(VLOOKUP(B4528,database!$B$2:$D$6001,3,FALSE)),\"\",VLOOKUP(B4528,database!$B$2:$D$6001,3,FALSE))","v":""},null,null,null,null,null,null,"",null,null,0,null,1,"indip"]
["",null,{"$f":"IF(ISERROR(VLOOKUP(B4534,database!$B$2:$C$6001,2,FALSE)),\"\",VLOOKUP(B4534,database!$B$2:$C$6001,2,FALSE))","v":""},null,null,null,"",null,null,null,{"$f":"IF(ISERROR(VLOOKUP(B4534,database!$B$2:$D$6001,3,FALSE)),\"\",VLOOKUP(B4534,database!$B$2:$D$6001,3,FALSE))","v":""},null,null,null,null,null,null,"",null,null,0,null,1,"indip"]
["",null,{"$f":"IF(ISERROR(VLOOKUP(B4538,database!$B$2:$C$6001,2,FALSE)),\"\",VLOOKUP(B4538,database!$B$2:$C$6001,2,FALSE))","v":""},null,null,null,"",null,null,null,{"$f":"IF(ISERROR(VLOOKUP(B4538,database!$B$2:$D$6001,3,FALSE)),\"\",VLOOKUP(B4538,database!$B$2:$D$6001,3,FALSE))","v":""},null,null,null,null,null,null,"",null,null,0,null,1,"indip"]
["",null,{"$f":"IF(ISERROR(VLOOKUP(B4543,database!$B$2:$C$6001,2,FALSE)),\"\",VLOOKUP(B4543,database!$B$2:$C$6001,2,FALSE))","v":""},null,null,null,"",null,null,null,{"$f":"IF(ISERROR(VLOOKUP(B4543,database!$B$2:$D$6001,3,FALSE)),\"\",VLOOKUP(B4543,database!$B$2:$D$6001,3,FALSE))","v":""},null,null,null,null,null,null,"",null,null,0,null,1,"indip"]
["",null,{"$f":"IF(ISERROR(VLOOKUP(B4544,database!$B$2:$C$6001,2,FALSE)),\"\",VLOOKUP(B4544,database!$B$2:$C$6001,2,FALSE))","v":""},null,null,null,"",null,null,null,{"$f":"IF(ISERROR(VLOOKUP(B4544,database!$B$2:$D$6001,3,FALSE)),\"\",VLOOKUP(B4544,database!$B$2:$D$6001,3,FALSE))","v":""},null,null,null,null,null,null,"",null,null,0,null,1,"indip"]
[{"$f":"IF(B4549=\"\",\"\",ROW(A4546))","v":""},null,{"$f":"IF(ISERROR(VLOOKUP(B4549,database!$B$2:$C$6001,2,FALSE)),\"\",VLOOKUP(B4549,database!$B$2:$C$6001,2,FALSE))","v":""},null,null,null,{"$f":"IF(B4549=\"\",\"\",IF(B4549=\"-\",0,IF(W4549=1,1,IF(AND(U4549=0,F4549=\"SSB\"),2,IF(AND(U4549=0,F4549=\"DIGI\"),3,IF(AND(U4549=0,F4549=\"CW\"),5,U4549))))))","v":""},null,null,null,{"$f":"IF(ISERROR(VLOOKUP(B4549,database!$B$2:$D$6001,3,FALSE)),\"\",VLOOKUP(B4549,database!$B$2:$D$6001,3,FALSE))","v":""},null,null,null,null,null,null,{"$f":"LEFT(C4549,2)","v":""},null,null,0,null,1,"indip"]
["",null,{"$f":"IF(ISERROR(VLOOKUP(B4557,database!$B$2:$C$6001,2,FALSE)),\"\",VLOOKUP(B4557,database!$B$2:$C$6001,2,FALSE))","v":""},null,null,null,"",null,null,null,{"$f":"IF(ISERROR(VLOOKUP(B4557,database!$B$2:$D$6001,3,FALSE)),\"\",VLOOKUP(B4557,database!$B$2:$D$6001,3,FALSE))","v":""},null,null,null,null,null,null,"",null,null,0,null,1,"indip"]
["",null,{"$f":"IF(ISERROR(VLOOKUP(B4559,database!$B$2:$C$6001,2,FALSE)),\"\",VLOOKUP(B4559,database!$B$2:$C$6001,2,FALSE))","v":""},null,null,null,"",null,null,null,{"$f":"IF(ISERROR(VLOOKUP(B4559,database!$B$2:$D$6001,3,FALSE)),\"\",VLOOKUP(B4559,database!$B$2:$D$6001,3,FALSE))","v":""},null,null,null,null,null,null,"",null,null,0,null,1,"indip"]
["",null,{"$f":"IF(ISERROR(VLOOKUP(B4564,database!$B$2:$C$6001,2,FALSE)),\"\",VLOOKUP(B4564,database!$B$2:$C$6001,2,FALSE))","v":""},null,null,null,"",null,null,null,{"$f":"IF(ISERROR(VLOOKUP(B4564,database!$B$2:$D$6001,3,FALSE)),\"\",VLOOKUP(B4564,database!$B$2:$D$6001,3,FALSE))","v":""},null,null,null,null,null,null,"",null,null,0,null,1,"indip"]
["",null,{"$f":"IF(ISERROR(VLOOKUP(B4570,database!$B$2:$C$6001,2,FALSE)),\"\",VLOOKUP(B4570,database!$B$2:$C$6001,2,FALSE))","v":""},null,null,null,"",null,null,null,{"$f":"IF(ISERROR(VLOOKUP(B4570,database!$B$2:$D$6001,3,FALSE)),\"\",VLOOKUP(B4570,database!$B$2:$D$6001,3,FALSE))","v":""},null,null,null,null,null,null,"",null,null,0,null,1,"indip"]
["",null,{"$f":"IF(ISERROR(VLOOKUP(B4575,database!$B$2:$C$6001,2,FALSE)),\"\",VLOOKUP(B4575,database!$B$2:$C$6001,2,FALSE))","v":""},null,null,null,"",null,null,null,{"$f":"IF(ISERROR(VLOOKUP(B4575,database!$B$2:$D$6001,3,FALSE)),\"\",VLOOKUP(B4575,database!$B$2:$D$6001,3,FALSE))","v":""},null,null,null,null,null,null,"",null,null,0,null,1,"indip"]
["",null,{"$f":"IF(ISERROR(VLOOKUP(B4578,database!$B$2:$C$6001,2,FALSE)),\"\",VLOOKUP(B4578,database!$B$2:$C$6001,2,FALSE))","v":""},null,null,null,"",null,null,null,{"$f":"IF(ISERROR(VLOOKUP(B4578,database!$B$2:$D$6001,3,FALSE)),\"\",VLOOKUP(B4578,database!$B$2:$D$6001,3,FALSE))","v":""},null,null,null,null,null,null,"",null,null,0,null,1,"indip"]
["",null,{"$f":"IF(ISERROR(VLOOKUP(B4585,database!$B$2:$C$6001,2,FALSE)),\"\",VLOOKUP(B4585,database!$B$2:$C$6001,2,FALSE))","v":""},null,null,null,"",null,null,null,{"$f":"IF(ISERROR(VLOOKUP(B4585,database!$B$2:$D$6001,3,FALSE)),\"\",VLOOKUP(B4585,database!$B$2:$D$6001,3,FALSE))","v":""},null,null,null,null,null,null,"",null,null,0,null,1,"indip"]
["",null,{"$f":"IF(ISERROR(VLOOKUP(B4590,database!$B$2:$C$6001,2,FALSE)),\"\",VLOOKUP(B4590,database!$B$2:$C$6001,2,FALSE))","v":""},null,null,null,"",null,null,null,{"$f":"IF(ISERROR(VLOOKUP(B4590,database!$B$2:$D$6001,3,FALSE)),\"\",VLOOKUP(B4590,database!$B$2:$D$6001,3,FALSE))","v":""},null,null,null,null,null,null,"",null,null,0,null,1,"indip"]
["",null,{"$f":"IF(ISERROR(VLOOKUP(B4596,database!$B$2:$C$6001,2,FALSE)),\"\",VLOOKUP(B4596,database!$B$2:$C$6001,2,FALSE))","v":""},null,null,null,"",null,null,null,{"$f":"IF(ISERROR(VLOOKUP(B4596,database!$B$2:$D$6001,3,FALSE)),\"\",VLOOKUP(B4596,database!$B$2:$D$6001,3,FALSE))","v":""},null,null,null,null,null,null,"",null,null,0,null,1,"indip"]
["",null,{"$f":"IF(ISERROR(VLOOKUP(B4597,database!$B$2:$C$6001,2,FALSE)),\"\",VLOOKUP(B4597,database!$B$2:$C$6001,2,FALSE))","v":""},null,null,null,"",null,null,null,{"$f":"IF(ISERROR(VLOOKUP(B4597,database!$B$2:$D$6001,3,FALSE)),\"\",VLOOKUP(B4597,database!$B$2:$D$6001,3,FALSE))","v":""},null,null,null,null,null,null,"",null,null,0,null,1,"indip"]
["",null,{"$f":"IF(ISERROR(VLOOKUP(B4605,database!$B$2:$C$6001,2,FALSE)),\"\",VLOOKUP(B4605,database!$B$2:$C$6001,2,FALSE))","v":""},null,null,null,"",null,null,null,{"$f":"IF(ISERROR(VLOOKUP(B4605,database!$B$2:$D$6001,3,FALSE)),\"\",VLOOKUP(B4605,database!$B$2:$D$6001,3,FALSE))","v":""},null,null,null,null,null,null,"",null,null,0,null,1,"indip"]
["",null,{"$f":"IF(ISERROR(VLOOKUP(B4606,database!$B$2:$C$6001,2,FALSE)),\"\",VLOOKUP(B4606,database!$B$2:$C$6001,2,FALSE))","v":""},null,null,null,"",null,null,null,{"$f":"IF(ISERROR(VLOOKUP(B4606,database!$B$2:$D$6001,3,FALSE)),\"\",VLOOKUP(B4606,database!$B$2:$D$6001,3,FALSE))","v":""},null,null,null,null,null,null,"",null,null,0,null,1,"indip"]
["",null,{"$f":"IF(ISERROR(VLOOKUP(B4611,database!$B$2:$C$6001,2,FALSE)),\"\",VLOOKUP(B4611,database!$B$2:$C$6001,2,FALSE))","v":""},null,null,null,"",null,null,null,{"$f":"IF(ISERROR(VLOOKUP(B4611,database!$B$2:$D$6001,3,FALSE)),\"\",VLOOKUP(B4611,database!$B$2:$D$6001,3,FALSE))","v":""},null,null,null,null,null,null,"",null,null,0,null,1,"indip"]
["",null,{"$f":"IF(ISERROR(VLOOKUP(B4616,database!$B$2:$C$6001,2,FALSE)),\"\",VLOOKUP(B4616,database!$B$2:$C$6001,2,FALSE))","v":""},null,null,null,"",null,null,null,{"$f":"IF(ISERROR(VLOOKUP(B4616,database!$B$2:$D$6001,3,FALSE)),\"\",VLOOKUP(B4616,database!$B$2:$D$6001,3,FALSE))","v":""},null,null,null,null,null,null,"",null,null,0,null,1,"indip"]
["",null,{"$f":"IF(ISERROR(VLOOKUP(B4621,database!$B$2:$C$6001,2,FALSE)),\"\",VLOOKUP(B4621,database!$B$2:$C$6001,2,FALSE))","v":""},null,null,null,"",null,null,null,{"$f":"IF(ISERROR(VLOOKUP(B4621,database!$B$2:$D$6001,3,FALSE)),\"\",VLOOKUP(B4621,database!$B$2:$D$6001,3,FALSE))","v":""},null,null,null,null,null,null,"",null,null,0,null,1,"indip"]
["",null,{"$f":"IF(ISERROR(VLOOKUP(B4626,database!$B$2:$C$6001,2,FALSE)),\"\",VLOOKUP(B4626,database!$B$2:$C$6001,2,FALSE))","v":""},null,null,null,"",null,null,null,{"$f":"IF(ISERROR(VLOOKUP(B4626,database!$B$2:$D$6001,3,FALSE)),\"\",VLOOKUP(B4626,database!$B$2:$D$6001,3,FALSE))","v":""},null,null,null,null,null,null,"",null,null,0,null,1,"indip"]
["",null,{"$f":"IF(ISERROR(VLOOKUP(B4632,database!$B$2:$C$6001,2,FALSE)),\"\",VLOOKUP(B4632,database!$B$2:$C$6001,2,FALSE))","v":""},null,null,null,"",null,null,null,{"$f":"IF(ISERROR(VLOOKUP(B4632,database!$B$2:$D$6001,3,FALSE)),\"\",VLOOKUP(B4632,database!$B$2:$D$6001,3,FALSE))","v":""},null,null,null,null,null,null,"",null,null,0,null,1,"indip"]
["",null,{"$f":"IF(ISERROR(VLOOKUP(B4635,database!$B$2:$C$6001,2,FALSE)),\"\",VLOOKUP(B4635,database!$B$2:$C$6001,2,FALSE))","v":""},null,null,null,"",null,null,null,{"$f":"IF(ISERROR(VLOOKUP(B4635,database!$B$2:$D$6001,3,FALSE)),\"\",VLOOKUP(B4635,database!$B$2:$D$6001,3,FALSE))","v":""},null,null,null,null,null,null,"",null,null,0,null,1,"indip"]
["",null,{"$f":"IF(ISERROR(VLOOKUP(B4641,database!$B$2:$C$6001,2,FALSE)),\"\",VLOOKUP(B4641,database!$B$2:$C$6001,2,FALSE))","v":""},null,null,null,"",null,null,null,{"$f":"IF(ISERROR(VLOOKUP(B4641,database!$B$2:$D$6001,3,FALSE)),\"\",VLOOKUP(B4641,database!$B$2:$D$6001,3,FALSE))","v":""},null,null,null,null,null,null,"",null,null,0,null,1,"indip"]
["",null,{"$f":"IF(ISERROR(VLOOKUP(B4647,database!$B$2:$C$6001,2,FALSE)),\"\",VLOOKUP(B4647,database!$B$2:$C$6001,2,FALSE))","v":""},null,null,null,"",null,null,null,{"$f":"IF(ISERROR(VLOOKUP(B4647,database!$B$2:$D$6001,3,FALSE)),\"\",VLOOKUP(B4647,database!$B$2:$D$6001,3,FALSE))","v":""},null,null,null,null,null,null,"",null,null,0,null,1,"indip"]
["",null,{"$f":"IF(ISERROR(VLOOKUP(B4652,database!$B$2:$C$6001,2,FALSE)),\"\",VLOOKUP(B4652,database!$B$2:$C$6001,2,FALSE))","v":""},null,null,null,"",null,null,null,{"$f":"IF(ISERROR(VLOOKUP(B4652,database!$B$2:$D$6001,3,FALSE)),\"\",VLOOKUP(B4652,database!$B$2:$D$6001,3,FALSE))","v":""},null,null,null,null,null,null,"",null,null,0,null,1,"indip"]
["",null,{"$f":"IF(ISERROR(VLOOKUP(B4654,database!$B$2:$C$6001,2,FALSE)),\"\",VLOOKUP(B4654,database!$B$2:$C$6001,2,FALSE))","v":""},null,null,null,"",null,null,null,{"$f":"IF(ISERROR(VLOOKUP(B4654,database!$B$2:$D$6001,3,FALSE)),\"\",VLOOKUP(B4654,database!$B$2:$D$6001,3,FALSE))","v":""},null,null,null,null,null,null,"",null,null,0,null,1,"indip"]
["",null,{"$f":"IF(ISERROR(VLOOKUP(B4662,database!$B$2:$C$6001,2,FALSE)),\"\",VLOOKUP(B4662,database!$B$2:$C$6001,2,FALSE))","v":""},null,null,null,"",null,null,null,{"$f":"IF(ISERROR(VLOOKUP(B4662,database!$B$2:$D$6001,3,FALSE)),\"\",VLOOKUP(B4662,database!$B$2:$D$6001,3,FALSE))","v":""},null,null,null,null,null,null,"",null,null,0,null,1,"indip"]
["",null,{"$f":"IF(ISERROR(VLOOKUP(B4667,database!$B$2:$C$6001,2,FALSE)),\"\",VLOOKUP(B4667,database!$B$2:$C$6001,2,FALSE))","v":""},null,null,null,"",null,null,null,{"$f":"IF(ISERROR(VLOOKUP(B4667,database!$B$2:$D$6001,3,FALSE)),\"\",VLOOKUP(B4667,database!$B$2:$D$6001,3,FALSE))","v":""},null,null,null,null,null,null,"",null,null,0,null,1,"indip"]
["",null,{"$f":"IF(ISERROR(VLOOKUP(B4668,database!$B$2:$C$6001,2,FALSE)),\"\",VLOOKUP(B4668,database!$B$2:$C$6001,2,FALSE))","v":""},null,null,null,"",null,null,null,{"$f":"IF(ISERROR(VLOOKUP(B4668,database!$B$2:$D$6001,3,FALSE)),\"\",VLOOKUP(B4668,database!$B$2:$D$6001,3,FALSE))","v":""},null,null,null,null,null,null,"",null,null,0,null,1,"indip"]
["",null,{"$f":"IF(ISERROR(VLOOKUP(B4673,database!$B$2:$C$6001,2,FALSE)),\"\",VLOOKUP(B4673,database!$B$2:$C$6001,2,FALSE))","v":""},null,null,null,"",null,null,null,{"$f":"IF(ISERROR(VLOOKUP(B4673,database!$B$2:$D$6001,3,FALSE)),\"\",VLOOKUP(B4673,database!$B$2:$D$6001,3,FALSE))","v":""},null,null,null,null,null,null,"",null,null,0,null,1,"indip"]
["",null,{"$f":"IF(ISERROR(VLOOKUP(B4679,database!$B$2:$C$6001,2,FALSE)),\"\",VLOOKUP(B4679,database!$B$2:$C$6001,2,FALSE))","v":""},null,null,null,"",null,null,null,{"$f":"IF(ISERROR(VLOOKUP(B4679,database!$B$2:$D$6001,3,FALSE)),\"\",VLOOKUP(B4679,database!$B$2:$D$6001,3,FALSE))","v":""},null,null,null,null,null,null,"",null,null,0,null,1,"indip"]
["",null,{"$f":"IF(ISERROR(VLOOKUP(B4683,database!$B$2:$C$6001,2,FALSE)),\"\",VLOOKUP(B4683,database!$B$2:$C$6001,2,FALSE))","v":""},null,null,null,"",null,null,null,{"$f":"IF(ISERROR(VLOOKUP(B4683,database!$B$2:$D$6001,3,FALSE)),\"\",VLOOKUP(B4683,database!$B$2:$D$6001,3,FALSE))","v":""},null,null,null,null,null,null,"",null,null,0,null,1,"indip"]
["",null,{"$f":"IF(ISERROR(VLOOKUP(B4688,database!$B$2:$C$6001,2,FALSE)),\"\",VLOOKUP(B4688,database!$B$2:$C$6001,2,FALSE))","v":""},null,null,null,"",null,null,null,{"$f":"IF(ISERROR(VLOOKUP(B4688,database!$B$2:$D$6001,3,FALSE)),\"\",VLOOKUP(B4688,database!$B$2:$D$6001,3,FALSE))","v":""},null,null,null,null,null,null,"",null,null,0,null,1,"indip"]
["",null,{"$f":"IF(ISERROR(VLOOKUP(B4694,database!$B$2:$C$6001,2,FALSE)),\"\",VLOOKUP(B4694,database!$B$2:$C$6001,2,FALSE))","v":""},null,null,null,"",null,null,null,{"$f":"IF(ISERROR(VLOOKUP(B4694,database!$B$2:$D$6001,3,FALSE)),\"\",VLOOKUP(B4694,database!$B$2:$D$6001,3,FALSE))","v":""},null,null,null,null,null,null,"",null,null,0,null,1,"indip"]
["",null,{"$f":"IF(ISERROR(VLOOKUP(B4698,database!$B$2:$C$6001,2,FALSE)),\"\",VLOOKUP(B4698,database!$B$2:$C$6001,2,FALSE))","v":""},null,null,null,"",null,null,null,{"$f":"IF(ISERROR(VLOOKUP(B4698,database!$B$2:$D$6001,3,FALSE)),\"\",VLOOKUP(B4698,database!$B$2:$D$6001,3,FALSE))","v":""},null,null,null,null,null,null,"",null,null,0,null,1,"indip"]
["",null,{"$f":"IF(ISERROR(VLOOKUP(B4703,database!$B$2:$C$6001,2,FALSE)),\"\",VLOOKUP(B4703,database!$B$2:$C$6001,2,FALSE))","v":""},null,null,null,"",null,null,null,{"$f":"IF(ISERROR(VLOOKUP(B4703,database!$B$2:$D$6001,3,FALSE)),\"\",VLOOKUP(B4703,database!$B$2:$D$6001,3,FALSE))","v":""},null,null,null,null,null,null,"",null,null,0,null,1,"indip"]
["",null,{"$f":"IF(ISERROR(VLOOKUP(B4709,database!$B$2:$C$6001,2,FALSE)),\"\",VLOOKUP(B4709,database!$B$2:$C$6001,2,FALSE))","v":""},null,null,null,"",null,null,null,{"$f":"IF(ISERROR(VLOOKUP(B4709,database!$B$2:$D$6001,3,FALSE)),\"\",VLOOKUP(B4709,database!$B$2:$D$6001,3,FALSE))","v":""},null,null,null,null,null,null,"",null,null,0,null,1,"indip"]
["",null,{"$f":"IF(ISERROR(VLOOKUP(B4714,database!$B$2:$C$6001,2,FALSE)),\"\",VLOOKUP(B4714,database!$B$2:$C$6001,2,FALSE))","v":""},null,null,null,"",null,null,null,{"$f":"IF(ISERROR(VLOOKUP(B4714,database!$B$2:$D$6001,3,FALSE)),\"\",VLOOKUP(B4714,database!$B$2:$D$6001,3,FALSE))","v":""},null,null,null,null,null,null,"",null,null,0,null,1,"indip"]
["",null,{"$f":"IF(ISERROR(VLOOKUP(B4717,database!$B$2:$C$6001,2,FALSE)),\"\",VLOOKUP(B4717,database!$B$2:$C$6001,2,FALSE))","v":""},null,null,null,"",null,null,null,{"$f":"IF(ISERROR(VLOOKUP(B4717,database!$B$2:$D$6001,3,FALSE)),\"\",VLOOKUP(B4717,database!$B$2:$D$6001,3,FALSE))","v":""},null,null,null,null,null,null,"",null,null,0,null,1,"indip"]
["",null,{"$f":"IF(ISERROR(VLOOKUP(B4724,database!$B$2:$C$6001,2,FALSE)),\"\",VLOOKUP(B4724,database!$B$2:$C$6001,2,FALSE))","v":""},null,null,null,"",null,null,null,{"$f":"IF(ISERROR(VLOOKUP(B4724,database!$B$2:$D$6001,3,FALSE)),\"\",VLOOKUP(B4724,database!$B$2:$D$6001,3,FALSE))","v":""},null,null,null,null,null,null,"",null,null,0,null,1,"indip"]
["",null,{"$f":"IF(ISERROR(VLOOKUP(B4729,database!$B$2:$C$6001,2,FALSE)),\"\",VLOOKUP(B4729,database!$B$2:$C$6001,2,FALSE))","v":""},null,null,null,"",null,null,null,{"$f":"IF(ISERROR(VLOOKUP(B4729,database!$B$2:$D$6001,3,FALSE)),\"\",VLOOKUP(B4729,database!$B$2:$D$6001,3,FALSE))","v":""},null,null,null,null,null,null,"",null,null,0,null,1,"indip"]
["",null,{"$f":"IF(ISERROR(VLOOKUP(B4730,database!$B$2:$C$6001,2,FALSE)),\"\",VLOOKUP(B4730,database!$B$2:$C$6001,2,FALSE))","v":""},null,null,null,"",null,null,null,{"$f":"IF(ISERROR(VLOOKUP(B4730,database!$B$2:$D$6001,3,FALSE)),\"\",VLOOKUP(B4730,database!$B$2:$D$6001,3,FALSE))","v":""},null,null,null,null,null,null,"",null,null,0,null,1,"indip"]
["",null,{"$f":"IF(ISERROR(VLOOKUP(B4736,database!$B$2:$C$6001,2,FALSE)),\"\",VLOOKUP(B4736,database!$B$2:$C$6001,2,FALSE))","v":""},null,null,null,"",null,null,null,{"$f":"IF(ISERROR(VLOOKUP(B4736,database!$B$2:$D$6001,3,FALSE)),\"\",VLOOKUP(B4736,database!$B$2:$D$6001,3,FALSE))","v":""},null,null,null,null,null,null,"",null,null,0,null,1,"indip"]
["",null,{"$f":"IF(ISERROR(VLOOKUP(B4739,database!$B$2:$C$6001,2,FALSE)),\"\",VLOOKUP(B4739,database!$B$2:$C$6001,2,FALSE))","v":""},null,null,null,"",null,null,null,{"$f":"IF(ISERROR(VLOOKUP(B4739,database!$B$2:$D$6001,3,FALSE)),\"\",VLOOKUP(B4739,database!$B$2:$D$6001,3,FALSE))","v":""},null,null,null,null,null,null,"",null,null,0,null,1,"indip"]
["",null,{"$f":"IF(ISERROR(VLOOKUP(B4745,database!$B$2:$C$6001,2,FALSE)),\"\",VLOOKUP(B4745,database!$B$2:$C$6001,2,FALSE))","v":""},null,null,null,"",null,null,null,{"$f":"IF(ISERROR(VLOOKUP(B4745,database!$B$2:$D$6001,3,FALSE)),\"\",VLOOKUP(B4745,database!$B$2:$D$6001,3,FALSE))","v":""},null,null,null,null,null,null,"",null,null,0,null,1,"indip"]
["",null,{"$f":"IF(ISERROR(VLOOKUP(B4750,database!$B$2:$C$6001,2,FALSE)),\"\",VLOOKUP(B4750,database!$B$2:$C$6001,2,FALSE))","v":""},null,null,null,"",null,null,null,{"$f":"IF(ISERROR(VLOOKUP(B4750,database!$B$2:$D$6001,3,FALSE)),\"\",VLOOKUP(B4750,database!$B$2:$D$6001,3,FALSE))","v":""},null,null,null,null,null,null,"",null,null,0,null,1,"indip"]
["",null,{"$f":"IF(ISERROR(VLOOKUP(B4755,database!$B$2:$C$6001,2,FALSE)),\"\",VLOOKUP(B4755,database!$B$2:$C$6001,2,FALSE))","v":""},null,null,null,"",null,null,null,{"$f":"IF(ISERROR(VLOOKUP(B4755,database!$B$2:$D$6001,3,FALSE)),\"\",VLOOKUP(B4755,database!$B$2:$D$6001,3,FALSE))","v":""},null,null,null,null,null,null,"",null,null,0,null,1,"indip"]
["",null,{"$f":"IF(ISERROR(VLOOKUP(B4761,database!$B$2:$C$6001,2,FALSE)),\"\",VLOOKUP(B4761,database!$B$2:$C$6001,2,FALSE))","v":""},null,null,null,"",null,null,null,{"$f":"IF(ISERROR(VLOOKUP(B4761,database!$B$2:$D$6001,3,FALSE)),\"\",VLOOKUP(B4761,database!$B$2:$D$6001,3,FALSE))","v":""},null,null,null,null,null,null,"",null,null,0,null,1,"indip"]
["",null,{"$f":"IF(ISERROR(VLOOKUP(B4765,database!$B$2:$C$6001,2,FALSE)),\"\",VLOOKUP(B4765,database!$B$2:$C$6001,2,FALSE))","v":""},null,null,null,"",null,null,null,{"$f":"IF(ISERROR(VLOOKUP(B4765,database!$B$2:$D$6001,3,FALSE)),\"\",VLOOKUP(B4765,database!$B$2:$D$6001,3,FALSE))","v":""},null,null,null,null,null,null,"",null,null,0,null,1,"indip"]
["",null,{"$f":"IF(ISERROR(VLOOKUP(B4771,database!$B$2:$C$6001,2,FALSE)),\"\",VLOOKUP(B4771,database!$B$2:$C$6001,2,FALSE))","v":""},null,null,null,"",null,null,null,{"$f":"IF(ISERROR(VLOOKUP(B4771,database!$B$2:$D$6001,3,FALSE)),\"\",VLOOKUP(B4771,database!$B$2:$D$6001,3,FALSE))","v":""},null,null,null,null,null,null,"",null,null,0,null,1,"indip"]
["",null,{"$f":"IF(ISERROR(VLOOKUP(B4776,database!$B$2:$C$6001,2,FALSE)),\"\",VLOOKUP(B4776,database!$B$2:$C$6001,2,FALSE))","v":""},null,null,null,"",null,null,null,{"$f":"IF(ISERROR(VLOOKUP(B4776,database!$B$2:$D$6001,3,FALSE)),\"\",VLOOKUP(B4776,database!$B$2:$D$6001,3,FALSE))","v":""},null,null,null,null,null,null,"",null,null,0,null,1,"indip"]
["",null,{"$f":"IF(ISERROR(VLOOKUP(B4780,database!$B$2:$C$6001,2,FALSE)),\"\",VLOOKUP(B4780,database!$B$2:$C$6001,2,FALSE))","v":""},null,null,null,"",null,null,null,{"$f":"IF(ISERROR(VLOOKUP(B4780,database!$B$2:$D$6001,3,FALSE)),\"\",VLOOKUP(B4780,database!$B$2:$D$6001,3,FALSE))","v":""},null,null,null,null,null,null,"",null,null,0,null,1,"indip"]
["",null,{"$f":"IF(ISERROR(VLOOKUP(B4786,database!$B$2:$C$6001,2,FALSE)),\"\",VLOOKUP(B4786,database!$B$2:$C$6001,2,FALSE))","v":""},null,null,null,"",null,null,null,{"$f":"IF(ISERROR(VLOOKUP(B4786,database!$B$2:$D$6001,3,FALSE)),\"\",VLOOKUP(B4786,database!$B$2:$D$6001,3,FALSE))","v":""},null,null,null,null,null,null,"",null,null,0,null,1,"indip"]
["",null,{"$f":"IF(ISERROR(VLOOKUP(B4791,database!$B$2:$C$6001,2,FALSE)),\"\",VLOOKUP(B4791,database!$B$2:$C$6001,2,FALSE))","v":""},null,null,null,"",null,null,null,{"$f":"IF(ISERROR(VLOOKUP(B4791,database!$B$2:$D$6001,3,FALSE)),\"\",VLOOKUP(B4791,database!$B$2:$D$6001,3,FALSE))","v":""},null,null,null,null,null,null,"",null,null,0,null,1,"indip"]
["",null,{"$f":"IF(ISERROR(VLOOKUP(B4792,database!$B$2:$C$6001,2,FALSE)),\"\",VLOOKUP(B4792,database!$B$2:$C$6001,2,FALSE))","v":""},null,null,null,"",null,null,null,{"$f":"IF(ISERROR(VLOOKUP(B4792,database!$B$2:$D$6001,3,FALSE)),\"\",VLOOKUP(B4792,database!$B$2:$D$6001,3,FALSE))","v":""},null,null,null,null,null,null,"",null,null,0,null,1,"indip"]
["",null,{"$f":"IF(ISERROR(VLOOKUP(B4799,database!$B$2:$C$6001,2,FALSE)),\"\",VLOOKUP(B4799,database!$B$2:$C$6001,2,FALSE))","v":""},null,null,null,"",null,null,null,{"$f":"IF(ISERROR(VLOOKUP(B4799,database!$B$2:$D$6001,3,FALSE)),\"\",VLOOKUP(B4799,database!$B$2:$D$6001,3,FALSE))","v":""},null,null,null,null,null,null,"",null,null,0,null,1,"indip"]
["",null,{"$f":"IF(ISERROR(VLOOKUP(B4801,database!$B$2:$C$6001,2,FALSE)),\"\",VLOOKUP(B4801,database!$B$2:$C$6001,2,FALSE))","v":""},null,null,null,"",null,null,null,{"$f":"IF(ISERROR(VLOOKUP(B4801,database!$B$2:$D$6001,3,FALSE)),\"\",VLOOKUP(B4801,database!$B$2:$D$6001,3,FALSE))","v":""},null,null,null,null,null,null,"",null,null,0,null,1,"indip"]
["",null,{"$f":"IF(ISERROR(VLOOKUP(B4807,database!$B$2:$C$6001,2,FALSE)),\"\",VLOOKUP(B4807,database!$B$2:$C$6001,2,FALSE))","v":""},null,null,null,"",null,null,null,{"$f":"IF(ISERROR(VLOOKUP(B4807,database!$B$2:$D$6001,3,FALSE)),\"\",VLOOKUP(B4807,database!$B$2:$D$6001,3,FALSE))","v":""},null,null,null,null,null,null,"",null,null,0,null,1,"indip"]
["",null,{"$f":"IF(ISERROR(VLOOKUP(B4812,database!$B$2:$C$6001,2,FALSE)),\"\",VLOOKUP(B4812,database!$B$2:$C$6001,2,FALSE))","v":""},null,null,null,"",null,null,null,{"$f":"IF(ISERROR(VLOOKUP(B4812,database!$B$2:$D$6001,3,FALSE)),\"\",VLOOKUP(B4812,database!$B$2:$D$6001,3,FALSE))","v":""},null,null,null,null,null,null,"",null,null,0,null,1,"indip"]
["",null,{"$f":"IF(ISERROR(VLOOKUP(B4818,database!$B$2:$C$6001,2,FALSE)),\"\",VLOOKUP(B4818,database!$B$2:$C$6001,2,FALSE))","v":""},null,null,null,"",null,null,null,{"$f":"IF(ISERROR(VLOOKUP(B4818,database!$B$2:$D$6001,3,FALSE)),\"\",VLOOKUP(B4818,database!$B$2:$D$6001,3,FALSE))","v":""},null,null,null,null,null,null,"",null,null,0,null,1,"indip"]
["",null,{"$f":"IF(ISERROR(VLOOKUP(B4822,database!$B$2:$C$6001,2,FALSE)),\"\",VLOOKUP(B4822,database!$B$2:$C$6001,2,FALSE))","v":""},null,null,null,"",null,null,null,{"$f":"IF(ISERROR(VLOOKUP(B4822,database!$B$2:$D$6001,3,FALSE)),\"\",VLOOKUP(B4822,database!$B$2:$D$6001,3,FALSE))","v":""},null,null,null,null,null,null,"",null,null,0,null,1,"indip"]
["",null,{"$f":"IF(ISERROR(VLOOKUP(B4827,database!$B$2:$C$6001,2,FALSE)),\"\",VLOOKUP(B4827,database!$B$2:$C$6001,2,FALSE))","v":""},null,null,null,"",null,null,null,{"$f":"IF(ISERROR(VLOOKUP(B4827,database!$B$2:$D$6001,3,FALSE)),\"\",VLOOKUP(B4827,database!$B$2:$D$6001,3,FALSE))","v":""},null,null,null,null,null,null,"",null,null,0,null,1,"indip"]
["",null,{"$f":"IF(ISERROR(VLOOKUP(B4833,database!$B$2:$C$6001,2,FALSE)),\"\",VLOOKUP(B4833,database!$B$2:$C$6001,2,FALSE))","v":""},null,null,null,"",null,null,null,{"$f":"IF(ISERROR(VLOOKUP(B4833,database!$B$2:$D$6001,3,FALSE)),\"\",VLOOKUP(B4833,database!$B$2:$D$6001,3,FALSE))","v":""},null,null,null,null,null,null,"",null,null,0,null,1,"indip"]
["",null,{"$f":"IF(ISERROR(VLOOKUP(B4837,database!$B$2:$C$6001,2,FALSE)),\"\",VLOOKUP(B4837,database!$B$2:$C$6001,2,FALSE))","v":""},null,null,null,"",null,null,null,{"$f":"IF(ISERROR(VLOOKUP(B4837,database!$B$2:$D$6001,3,FALSE)),\"\",VLOOKUP(B4837,database!$B$2:$D$6001,3,FALSE))","v":""},null,null,null,null,null,null,"",null,null,0,null,1,"indip"]
["",null,{"$f":"IF(ISERROR(VLOOKUP(B4842,database!$B$2:$C$6001,2,FALSE)),\"\",VLOOKUP(B4842,database!$B$2:$C$6001,2,FALSE))","v":""},null,null,null,"",null,null,null,{"$f":"IF(ISERROR(VLOOKUP(B4842,database!$B$2:$D$6001,3,FALSE)),\"\",VLOOKUP(B4842,database!$B$2:$D$6001,3,FALSE))","v":""},null,null,null,null,null,null,"",null,null,0,null,1,"indip"]
["",null,{"$f":"IF(ISERROR(VLOOKUP(B4848,database!$B$2:$C$6001,2,FALSE)),\"\",VLOOKUP(B4848,database!$B$2:$C$6001,2,FALSE))","v":""},null,null,null,"",null,null,null,{"$f":"IF(ISERROR(VLOOKUP(B4848,database!$B$2:$D$6001,3,FALSE)),\"\",VLOOKUP(B4848,database!$B$2:$D$6001,3,FALSE))","v":""},null,null,null,null,null,null,"",null,null,0,null,1,"indip"]
["",null,{"$f":"IF(ISERROR(VLOOKUP(B4853,database!$B$2:$C$6001,2,FALSE)),\"\",VLOOKUP(B4853,database!$B$2:$C$6001,2,FALSE))","v":""},null,null,null,"",null,null,null,{"$f":"IF(ISERROR(VLOOKUP(B4853,database!$B$2:$D$6001,3,FALSE)),\"\",VLOOKUP(B4853,database!$B$2:$D$6001,3,FALSE))","v":""},null,null,null,null,null,null,"",null,null,0,null,1,"indip"]
["",null,{"$f":"IF(ISERROR(VLOOKUP(B4854,database!$B$2:$C$6001,2,FALSE)),\"\",VLOOKUP(B4854,database!$B$2:$C$6001,2,FALSE))","v":""},null,null,null,"",null,null,null,{"$f":"IF(ISERROR(VLOOKUP(B4854,database!$B$2:$D$6001,3,FALSE)),\"\",VLOOKUP(B4854,database!$B$2:$D$6001,3,FALSE))","v":""},null,null,null,null,null,null,"",null,null,0,null,1,"indip"]
["",null,{"$f":"IF(ISERROR(VLOOKUP(B4862,database!$B$2:$C$6001,2,FALSE)),\"\",VLOOKUP(B4862,database!$B$2:$C$6001,2,FALSE))","v":""},null,null,null,"",null,null,null,{"$f":"IF(ISERROR(VLOOKUP(B4862,database!$B$2:$D$6001,3,FALSE)),\"\",VLOOKUP(B4862,database!$B$2:$D$6001,3,FALSE))","v":""},null,null,null,null,null,null,"",null,null,0,null,1,"indip"]
["",null,{"$f":"IF(ISERROR(VLOOKUP(B4863,database!$B$2:$C$6001,2,FALSE)),\"\",VLOOKUP(B4863,database!$B$2:$C$6001,2,FALSE))","v":""},null,null,null,"",null,null,null,{"$f":"IF(ISERROR(VLOOKUP(B4863,database!$B$2:$D$6001,3,FALSE)),\"\",VLOOKUP(B4863,database!$B$2:$D$6001,3,FALSE))","v":""},null,null,null,null,null,null,"",null,null,0,null,1,"indip"]
[{"$f":"IF(B4869=\"\",\"\",ROW(A4866))","v":""},null,{"$f":"IF(ISERROR(VLOOKUP(B4869,database!$B$2:$C$6001,2,FALSE)),\"\",VLOOKUP(B4869,database!$B$2:$C$6001,2,FALSE))","v":""},null,null,null,{"$f":"IF(B4869=\"\",\"\",IF(B4869=\"-\",0,IF(W4869=1,1,IF(AND(U4869=0,F4869=\"SSB\"),2,IF(AND(U4869=0,F4869=\"DIGI\"),3,IF(AND(U4869=0,F4869=\"CW\"),5,U4869))))))","v":""},null,null,null,{"$f":"IF(ISERROR(VLOOKUP(B4869,database!$B$2:$D$6001,3,FALSE)),\"\",VLOOKUP(B4869,database!$B$2:$D$6001,3,FALSE))","v":""},null,null,null,null,null,null,{"$f":"LEFT(C4869,2)","v":""},null,null,0,null,1,"indip"]
["",null,{"$f":"IF(ISERROR(VLOOKUP(B4874,database!$B$2:$C$6001,2,FALSE)),\"\",VLOOKUP(B4874,database!$B$2:$C$6001,2,FALSE))","v":""},null,null,null,"",null,null,null,{"$f":"IF(ISERROR(VLOOKUP(B4874,database!$B$2:$D$6001,3,FALSE)),\"\",VLOOKUP(B4874,database!$B$2:$D$6001,3,FALSE))","v":""},null,null,null,null,null,null,"",null,null,0,null,1,"indip"]
["",null,{"$f":"IF(ISERROR(VLOOKUP(B4881,database!$B$2:$C$6001,2,FALSE)),\"\",VLOOKUP(B4881,database!$B$2:$C$6001,2,FALSE))","v":""},null,null,null,"",null,null,null,{"$f":"IF(ISERROR(VLOOKUP(B4881,database!$B$2:$D$6001,3,FALSE)),\"\",VLOOKUP(B4881,database!$B$2:$D$6001,3,FALSE))","v":""},null,null,null,null,null,null,"",null,null,0,null,1,"indip"]
["",null,{"$f":"IF(ISERROR(VLOOKUP(B4884,database!$B$2:$C$6001,2,FALSE)),\"\",VLOOKUP(B4884,database!$B$2:$C$6001,2,FALSE))","v":""},null,null,null,"",null,null,null,{"$f":"IF(ISERROR(VLOOKUP(B4884,database!$B$2:$D$6001,3,FALSE)),\"\",VLOOKUP(B4884,database!$B$2:$D$6001,3,FALSE))","v":""},null,null,null,null,null,null,"",null,null,0,null,1,"indip"]
["",null,{"$f":"IF(ISERROR(VLOOKUP(B4889,database!$B$2:$C$6001,2,FALSE)),\"\",VLOOKUP(B4889,database!$B$2:$C$6001,2,FALSE))","v":""},null,null,null,"",null,null,null,{"$f":"IF(ISERROR(VLOOKUP(B4889,database!$B$2:$D$6001,3,FALSE)),\"\",VLOOKUP(B4889,database!$B$2:$D$6001,3,FALSE))","v":""},null,null,null,null,null,null,"",null,null,0,null,1,"indip"]
["",null,{"$f":"IF(ISERROR(VLOOKUP(B4895,database!$B$2:$C$6001,2,FALSE)),\"\",VLOOKUP(B4895,database!$B$2:$C$6001,2,FALSE))","v":""},null,null,null,"",null,null,null,{"$f":"IF(ISERROR(VLOOKUP(B4895,database!$B$2:$D$6001,3,FALSE)),\"\",VLOOKUP(B4895,database!$B$2:$D$6001,3,FALSE))","v":""},null,null,null,null,null,null,"",null,null,0,null,1,"indip"]
["",null,{"$f":"IF(ISERROR(VLOOKUP(B4900,database!$B$2:$C$6001,2,FALSE)),\"\",VLOOKUP(B4900,database!$B$2:$C$6001,2,FALSE))","v":""},null,null,null,"",null,null,null,{"$f":"IF(ISERROR(VLOOKUP(B4900,database!$B$2:$D$6001,3,FALSE)),\"\",VLOOKUP(B4900,database!$B$2:$D$6001,3,FALSE))","v":""},null,null,null,null,null,null,"",null,null,0,null,1,"indip"]
["",null,{"$f":"IF(ISERROR(VLOOKUP(B4904,database!$B$2:$C$6001,2,FALSE)),\"\",VLOOKUP(B4904,database!$B$2:$C$6001,2,FALSE))","v":""},null,null,null,"",null,null,null,{"$f":"IF(ISERROR(VLOOKUP(B4904,database!$B$2:$D$6001,3,FALSE)),\"\",VLOOKUP(B4904,database!$B$2:$D$6001,3,FALSE))","v":""},null,null,null,null,null,null,"",null,null,0,null,1,"indip"]
["",null,{"$f":"IF(ISERROR(VLOOKUP(B4910,database!$B$2:$C$6001,2,FALSE)),\"\",VLOOKUP(B4910,database!$B$2:$C$6001,2,FALSE))","v":""},null,null,null,"",null,null,null,{"$f":"IF(ISERROR(VLOOKUP(B4910,database!$B$2:$D$6001,3,FALSE)),\"\",VLOOKUP(B4910,database!$B$2:$D$6001,3,FALSE))","v":""},null,null,null,null,null,null,"",null,null,0,null,1,"indip"]
["",null,{"$f":"IF(ISERROR(VLOOKUP(B4915,database!$B$2:$C$6001,2,FALSE)),\"\",VLOOKUP(B4915,database!$B$2:$C$6001,2,FALSE))","v":""},null,null,null,"",null,null,null,{"$f":"IF(ISERROR(VLOOKUP(B4915,database!$B$2:$D$6001,3,FALSE)),\"\",VLOOKUP(B4915,database!$B$2:$D$6001,3,FALSE))","v":""},null,null,null,null,null,null,"",null,null,0,null,1,"indip"]
["",null,{"$f":"IF(ISERROR(VLOOKUP(B4919,database!$B$2:$C$6001,2,FALSE)),\"\",VLOOKUP(B4919,database!$B$2:$C$6001,2,FALSE))","v":""},null,null,null,"",null,null,null,{"$f":"IF(ISERROR(VLOOKUP(B4919,database!$B$2:$D$6001,3,FALSE)),\"\",VLOOKUP(B4919,database!$B$2:$D$6001,3,FALSE))","v":""},null,null,null,null,null,null,"",null,null,0,null,1,"indip"]
["",null,{"$f":"IF(ISERROR(VLOOKUP(B4920,database!$B$2:$C$6001,2,FALSE)),\"\",VLOOKUP(B4920,database!$B$2:$C$6001,2,FALSE))","v":""},null,null,null,"",null,null,null,{"$f":"IF(ISERROR(VLOOKUP(B4920,database!$B$2:$D$6001,3,FALSE)),\"\",VLOOKUP(B4920,database!$B$2:$D$6001,3,FALSE))","v":""},null,null,null,null,null,null,"",null,null,0,null,1,"indip"]
["",null,{"$f":"IF(ISERROR(VLOOKUP(B4925,database!$B$2:$C$6001,2,FALSE)),\"\",VLOOKUP(B4925,database!$B$2:$C$6001,2,FALSE))","v":""},null,null,null,"",null,null,null,{"$f":"IF(ISERROR(VLOOKUP(B4925,database!$B$2:$D$6001,3,FALSE)),\"\",VLOOKUP(B4925,database!$B$2:$D$6001,3,FALSE))","v":""},null,null,null,null,null,null,"",null,null,0,null,1,"indip"]
["",null,{"$f":"IF(ISERROR(VLOOKUP(B4931,database!$B$2:$C$6001,2,FALSE)),\"\",VLOOKUP(B4931,database!$B$2:$C$6001,2,FALSE))","v":""},null,null,null,"",null,null,null,{"$f":"IF(ISERROR(VLOOKUP(B4931,database!$B$2:$D$6001,3,FALSE)),\"\",VLOOKUP(B4931,database!$B$2:$D$6001,3,FALSE))","v":""},null,null,null,null,null,null,"",null,null,0,null,1,"indip"]
["",null,{"$f":"IF(ISERROR(VLOOKUP(B4936,database!$B$2:$C$6001,2,FALSE)),\"\",VLOOKUP(B4936,database!$B$2:$C$6001,2,FALSE))","v":""},null,null,null,"",null,null,null,{"$f":"IF(ISERROR(VLOOKUP(B4936,database!$B$2:$D$6001,3,FALSE)),\"\",VLOOKUP(B4936,database!$B$2:$D$6001,3,FALSE))","v":""},null,null,null,null,null,null,"",null,null,0,null,1,"indip"]
["",null,{"$f":"IF(ISERROR(VLOOKUP(B4940,database!$B$2:$C$6001,2,FALSE)),\"\",VLOOKUP(B4940,database!$B$2:$C$6001,2,FALSE))","v":""},null,null,null,"",null,null,null,{"$f":"IF(ISERROR(VLOOKUP(B4940,database!$B$2:$D$6001,3,FALSE)),\"\",VLOOKUP(B4940,database!$B$2:$D$6001,3,FALSE))","v":""},null,null,null,null,null,null,"",null,null,0,null,1,"indip"]
["",null,{"$f":"IF(ISERROR(VLOOKUP(B4946,database!$B$2:$C$6001,2,FALSE)),\"\",VLOOKUP(B4946,database!$B$2:$C$6001,2,FALSE))","v":""},null,null,null,"",null,null,null,{"$f":"IF(ISERROR(VLOOKUP(B4946,database!$B$2:$D$6001,3,FALSE)),\"\",VLOOKUP(B4946,database!$B$2:$D$6001,3,FALSE))","v":""},null,null,null,null,null,null,"",null,null,0,null,1,"indip"]
["",null,{"$f":"IF(ISERROR(VLOOKUP(B4951,database!$B$2:$C$6001,2,FALSE)),\"\",VLOOKUP(B4951,database!$B$2:$C$6001,2,FALSE))","v":""},null,null,null,"",null,null,null,{"$f":"IF(ISERROR(VLOOKUP(B4951,database!$B$2:$D$6001,3,FALSE)),\"\",VLOOKUP(B4951,database!$B$2:$D$6001,3,FALSE))","v":""},null,null,null,null,null,null,"",null,null,0,null,1,"indip"]
["",null,{"$f":"IF(ISERROR(VLOOKUP(B4957,database!$B$2:$C$6001,2,FALSE)),\"\",VLOOKUP(B4957,database!$B$2:$C$6001,2,FALSE))","v":""},null,null,null,"",null,null,null,{"$f":"IF(ISERROR(VLOOKUP(B4957,database!$B$2:$D$6001,3,FALSE)),\"\",VLOOKUP(B4957,database!$B$2:$D$6001,3,FALSE))","v":""},null,null,null,null,null,null,"",null,null,0,null,1,"indip"]
["",null,{"$f":"IF(ISERROR(VLOOKUP(B4959,database!$B$2:$C$6001,2,FALSE)),\"\",VLOOKUP(B4959,database!$B$2:$C$6001,2,FALSE))","v":""},null,null,null,"",null,null,null,{"$f":"IF(ISERROR(VLOOKUP(B4959,database!$B$2:$D$6001,3,FALSE)),\"\",VLOOKUP(B4959,database!$B$2:$D$6001,3,FALSE))","v":""},null,null,null,null,null,null,"",null,null,0,null,1,"indip"]
["",null,{"$f":"IF(ISERROR(VLOOKUP(B4966,database!$B$2:$C$6001,2,FALSE)),\"\",VLOOKUP(B4966,database!$B$2:$C$6001,2,FALSE))","v":""},null,null,null,"",null,null,null,{"$f":"IF(ISERROR(VLOOKUP(B4966,database!$B$2:$D$6001,3,FALSE)),\"\",VLOOKUP(B4966,database!$B$2:$D$6001,3,FALSE))","v":""},null,null,null,null,null,null,"",null,null,0,null,1,"indip"]
["",null,{"$f":"IF(ISERROR(VLOOKUP(B4972,database!$B$2:$C$6001,2,FALSE)),\"\",VLOOKUP(B4972,database!$B$2:$C$6001,2,FALSE))","v":""},null,null,null,"",null,null,null,{"$f":"IF(ISERROR(VLOOKUP(B4972,database!$B$2:$D$6001,3,FALSE)),\"\",VLOOKUP(B4972,database!$B$2:$D$6001,3,FALSE))","v":""},null,null,null,null,null,null,"",null,null,0,null,1,"indip"]
["",null,{"$f":"IF(ISERROR(VLOOKUP(B4977,database!$B$2:$C$6001,2,FALSE)),\"\",VLOOKUP(B4977,database!$B$2:$C$6001,2,FALSE))","v":""},null,null,null,"",null,null,null,{"$f":"IF(ISERROR(VLOOKUP(B4977,database!$B$2:$D$6001,3,FALSE)),\"\",VLOOKUP(B4977,database!$B$2:$D$6001,3,FALSE))","v":""},null,null,null,null,null,null,"",null,null,0,null,1,"indip"]
["",null,{"$f":"IF(ISERROR(VLOOKUP(B4978,database!$B$2:$C$6001,2,FALSE)),\"\",VLOOKUP(B4978,database!$B$2:$C$6001,2,FALSE))","v":""},null,null,null,"",null,null,null,{"$f":"IF(ISERROR(VLOOKUP(B4978,database!$B$2:$D$6001,3,FALSE)),\"\",VLOOKUP(B4978,database!$B$2:$D$6001,3,FALSE))","v":""},null,null,null,null,null,null,"",null,null,0,null,1,"indip"]
["",null,{"$f":"IF(ISERROR(VLOOKUP(B4982,database!$B$2:$C$6001,2,FALSE)),\"\",VLOOKUP(B4982,database!$B$2:$C$6001,2,FALSE))","v":""},null,null,null,"",null,null,null,{"$f":"IF(ISERROR(VLOOKUP(B4982,database!$B$2:$D$6001,3,FALSE)),\"\",VLOOKUP(B4982,database!$B$2:$D$6001,3,FALSE))","v":""},null,null,null,null,null,null,"",null,null,0,null,1,"indip"]
["",null,{"$f":"IF(ISERROR(VLOOKUP(B4987,database!$B$2:$C$6001,2,FALSE)),\"\",VLOOKUP(B4987,database!$B$2:$C$6001,2,FALSE))","v":""},null,null,null,"",null,null,null,{"$f":"IF(ISERROR(VLOOKUP(B4987,database!$B$2:$D$6001,3,FALSE)),\"\",VLOOKUP(B4987,database!$B$2:$D$6001,3,FALSE))","v":""},null,null,null,null,null,null,"",null,null,0,null,1,"indip"]
["",null,{"$f":"IF(ISERROR(VLOOKUP(B4993,database!$B$2:$C$6001,2,FALSE)),\"\",VLOOKUP(B4993,database!$B$2:$C$6001,2,FALSE))","v":""},null,null,null,"",null,null,null,{"$f":"IF(ISERROR(VLOOKUP(B4993,database!$B$2:$D$6001,3,FALSE)),\"\",VLOOKUP(B4993,database!$B$2:$D$6001,3,FALSE))","v":""},null,null,null,null,null,null,"",null,null,0,null,1,"indip"]
[{"$f":"IF(B4997=\"\",\"\",ROW(A4994))","v":""},null,{"$f":"IF(ISERROR(VLOOKUP(B4997,database!$B$2:$C$6001,2,FALSE)),\"\",VLOOKUP(B4997,database!$B$2:$C$6001,2,FALSE))","v":""},null,null,null,{"$f":"IF(B4997=\"\",\"\",IF(B4997=\"-\",0,IF(W4997=1,1,IF(AND(U4997=0,F4997=\"SSB\"),2,IF(AND(U4997=0,F4997=\"DIGI\"),3,IF(AND(U4997=0,F4997=\"CW\"),5,U4997))))))","v":""},null,null,null,{"$f":"IF(ISERROR(VLOOKUP(B4997,database!$B$2:$D$6001,3,FALSE)),\"\",VLOOKUP(B4997,database!$B$2:$D$6001,3,FALSE))","v":""},null,null,null,null,null,null,{"$f":"LEFT(C4997,2)","v":""},null,null,0,null,1,"indip"]
["",null,{"$f":"IF(ISERROR(VLOOKUP(B5002,database!$B$2:$C$6001,2,FALSE)),\"\",VLOOKUP(B5002,database!$B$2:$C$6001,2,FALSE))","v":""},null,null,null,"",null,null,null,{"$f":"IF(ISERROR(VLOOKUP(B5002,database!$B$2:$D$6001,3,FALSE)),\"\",VLOOKUP(B5002,database!$B$2:$D$6001,3,FALSE))","v":""},null,null,null,null,null,null,"",null,null,0,null,1,"indip"]
["",null,{"$f":"IF(ISERROR(VLOOKUP(B5008,database!$B$2:$C$6001,2,FALSE)),\"\",VLOOKUP(B5008,database!$B$2:$C$6001,2,FALSE))","v":""},null,null,null,"",null,null,null,{"$f":"IF(ISERROR(VLOOKUP(B5008,database!$B$2:$D$6001,3,FALSE)),\"\",VLOOKUP(B5008,database!$B$2:$D$6001,3,FALSE))","v":""},null,null,null,null,null,null,"",null,null,0,null,1,"indip"]
["",null,{"$f":"IF(ISERROR(VLOOKUP(B5013,database!$B$2:$C$6001,2,FALSE)),\"\",VLOOKUP(B5013,database!$B$2:$C$6001,2,FALSE))","v":""},null,null,null,"",null,null,null,{"$f":"IF(ISERROR(VLOOKUP(B5013,database!$B$2:$D$6001,3,FALSE)),\"\",VLOOKUP(B5013,database!$B$2:$D$6001,3,FALSE))","v":""},null,null,null,null,null,null,"",null,null,0,null,1,"indip"]
["",null,{"$f":"IF(ISERROR(VLOOKUP(B5016,database!$B$2:$C$6001,2,FALSE)),\"\",VLOOKUP(B5016,database!$B$2:$C$6001,2,FALSE))","v":""},null,null,null,"",null,null,null,{"$f":"IF(ISERROR(VLOOKUP(B5016,database!$B$2:$D$6001,3,FALSE)),\"\",VLOOKUP(B5016,database!$B$2:$D$6001,3,FALSE))","v":""},null,null,null,null,null,null,"",null,null,0,null,1,"indip"]
["",null,{"$f":"IF(ISERROR(VLOOKUP(B5023,database!$B$2:$C$6001,2,FALSE)),\"\",VLOOKUP(B5023,database!$B$2:$C$6001,2,FALSE))","v":""},null,null,null,"",null,null,null,{"$f":"IF(ISERROR(VLOOKUP(B5023,database!$B$2:$D$6001,3,FALSE)),\"\",VLOOKUP(B5023,database!$B$2:$D$6001,3,FALSE))","v":""},null,null,null,null,null,null,"",null,null,0,null,1,"indip"]
["",null,{"$f":"IF(ISERROR(VLOOKUP(B5028,database!$B$2:$C$6001,2,FALSE)),\"\",VLOOKUP(B5028,database!$B$2:$C$6001,2,FALSE))","v":""},null,null,null,"",null,null,null,{"$f":"IF(ISERROR(VLOOKUP(B5028,database!$B$2:$D$6001,3,FALSE)),\"\",VLOOKUP(B5028,database!$B$2:$D$6001,3,FALSE))","v":""},null,null,null,null,null,null,"",null,null,0,null,1,"indip"]
["",null,{"$f":"IF(ISERROR(VLOOKUP(B5034,database!$B$2:$C$6001,2,FALSE)),\"\",VLOOKUP(B5034,database!$B$2:$C$6001,2,FALSE))","v":""},null,null,null,"",null,null,null,{"$f":"IF(ISERROR(VLOOKUP(B5034,database!$B$2:$D$6001,3,FALSE)),\"\",VLOOKUP(B5034,database!$B$2:$D$6001,3,FALSE))","v":""},null,null,null,null,null,null,"",null,null,0,null,1,"indip"]
["",null,{"$f":"IF(ISERROR(VLOOKUP(B5039,database!$B$2:$C$6001,2,FALSE)),\"\",VLOOKUP(B5039,database!$B$2:$C$6001,2,FALSE))","v":""},null,null,null,"",null,null,null,{"$f":"IF(ISERROR(VLOOKUP(B5039,database!$B$2:$D$6001,3,FALSE)),\"\",VLOOKUP(B5039,database!$B$2:$D$6001,3,FALSE))","v":""},null,null,null,null,null,null,"",null,null,0,null,1,"indip"]
["",null,{"$f":"IF(ISERROR(VLOOKUP(B5041,database!$B$2:$C$6001,2,FALSE)),\"\",VLOOKUP(B5041,database!$B$2:$C$6001,2,FALSE))","v":""},null,null,null,"",null,null,null,{"$f":"IF(ISERROR(VLOOKUP(B5041,database!$B$2:$D$6001,3,FALSE)),\"\",VLOOKUP(B5041,database!$B$2:$D$6001,3,FALSE))","v":""},null,null,null,null,null,null,"",null,null,0,null,1,"indip"]
["",null,{"$f":"IF(ISERROR(VLOOKUP(B5044,database!$B$2:$C$6001,2,FALSE)),\"\",VLOOKUP(B5044,database!$B$2:$C$6001,2,FALSE))","v":""},null,null,null,"",null,null,null,{"$f":"IF(ISERROR(VLOOKUP(B5044,database!$B$2:$D$6001,3,FALSE)),\"\",VLOOKUP(B5044,database!$B$2:$D$6001,3,FALSE))","v":""},null,null,null,null,null,null,"",null,null,0,null,1,"indip"]
["",null,{"$f":"IF(ISERROR(VLOOKUP(B5049,database!$B$2:$C$6001,2,FALSE)),\"\",VLOOKUP(B5049,database!$B$2:$C$6001,2,FALSE))","v":""},null,null,null,"",null,null,null,{"$f":"IF(ISERROR(VLOOKUP(B5049,database!$B$2:$D$6001,3,FALSE)),\"\",VLOOKUP(B5049,database!$B$2:$D$6001,3,FALSE))","v":""},null,null,null,null,null,null,"",null,null,0,null,1,"indip"]
["",null,{"$f":"IF(ISERROR(VLOOKUP(B5055,database!$B$2:$C$6001,2,FALSE)),\"\",VLOOKUP(B5055,database!$B$2:$C$6001,2,FALSE))","v":""},null,null,null,"",null,null,null,{"$f":"IF(ISERROR(VLOOKUP(B5055,database!$B$2:$D$6001,3,FALSE)),\"\",VLOOKUP(B5055,database!$B$2:$D$6001,3,FALSE))","v":""},null,null,null,null,null,null,"",null,null,0,null,1,"indip"]
["",null,{"$f":"IF(ISERROR(VLOOKUP(B5060,database!$B$2:$C$6001,2,FALSE)),\"\",VLOOKUP(B5060,database!$B$2:$C$6001,2,FALSE))","v":""},null,null,null,"",null,null,null,{"$f":"IF(ISERROR(VLOOKUP(B5060,database!$B$2:$D$6001,3,FALSE)),\"\",VLOOKUP(B5060,database!$B$2:$D$6001,3,FALSE))","v":""},null,null,null,null,null,null,"",null,null,{"$f":"IFERROR(INDEX(M$39:N$140,MATCH(B5060,M$39:M$140,0),2),0)","v":0},null,{"$f":"IF(AND(U5060=0,C5060=\"\"),1,2)","v":1},{"$f":"IF(B5060=\"-\",\"\",IF(OR(B5060=M$39,B5060=M$40,B5060=M$41,B5060=M$42,B5060=M$43,B5060=M$44,B5060=M$45,B5060=M$46,B5060=M$47,,B5060=M$50,B5060=M$51,B5060=M$52,B5060=M$53,B5060=M$54,B5060=M$55,B5060=M$56,B5060=M$57,B5060=M$70),\"\",IF(C5060=\"\",\"indip\",F5060)))","v":"indip"}]
["",null,{"$f":"IF(ISERROR(VLOOKUP(B5064,database!$B$2:$C$6001,2,FALSE)),\"\",VLOOKUP(B5064,database!$B$2:$C$6001,2,FALSE))","v":""},null,null,null,"",null,null,null,{"$f":"IF(ISERROR(VLOOKUP(B5064,database!$B$2:$D$6001,3,FALSE)),\"\",VLOOKUP(B5064,database!$B$2:$D$6001,3,FALSE))","v":""},null,null,null,null,null,null,"",null,null,0,null,1,"indip"]
["",null,{"$f":"IF(ISERROR(VLOOKUP(B5070,database!$B$2:$C$6001,2,FALSE)),\"\",VLOOKUP(B5070,database!$B$2:$C$6001,2,FALSE))","v":""},null,null,null,"",null,null,null,{"$f":"IF(ISERROR(VLOOKUP(B5070,database!$B$2:$D$6001,3,FALSE)),\"\",VLOOKUP(B5070,database!$B$2:$D$6001,3,FALSE))","v":""},null,null,null,null,null,null,"",null,null,0,null,1,"indip"]
["",null,{"$f":"IF(ISERROR(VLOOKUP(B5075,database!$B$2:$C$6001,2,FALSE)),\"\",VLOOKUP(B5075,database!$B$2:$C$6001,2,FALSE))","v":""},null,null,null,"",null,null,null,{"$f":"IF(ISERROR(VLOOKUP(B5075,database!$B$2:$D$6001,3,FALSE)),\"\",VLOOKUP(B5075,database!$B$2:$D$6001,3,FALSE))","v":""},null,null,null,null,null,null,"",null,null,0,null,1,"indip"]
["",null,{"$f":"IF(ISERROR(VLOOKUP(B5079,database!$B$2:$C$6001,2,FALSE)),\"\",VLOOKUP(B5079,database!$B$2:$C$6001,2,FALSE))","v":""},null,null,null,"",null,null,null,{"$f":"IF(ISERROR(VLOOKUP(B5079,database!$B$2:$D$6001,3,FALSE)),\"\",VLOOKUP(B5079,database!$B$2:$D$6001,3,FALSE))","v":""},null,null,null,null,null,null,"",null,null,0,null,1,"indip"]
["",null,{"$f":"IF(ISERROR(VLOOKUP(B5085,database!$B$2:$C$6001,2,FALSE)),\"\",VLOOKUP(B5085,database!$B$2:$C$6001,2,FALSE))","v":""},null,null,null,"",null,null,null,{"$f":"IF(ISERROR(VLOOKUP(B5085,database!$B$2:$D$6001,3,FALSE)),\"\",VLOOKUP(B5085,database!$B$2:$D$6001,3,FALSE))","v":""},null,null,null,null,null,null,"",null,null,0,null,1,"indip"]
["",null,{"$f":"IF(ISERROR(VLOOKUP(B5090,database!$B$2:$C$6001,2,FALSE)),\"\",VLOOKUP(B5090,database!$B$2:$C$6001,2,FALSE))","v":""},null,null,null,"",null,null,null,{"$f":"IF(ISERROR(VLOOKUP(B5090,database!$B$2:$D$6001,3,FALSE)),\"\",VLOOKUP(B5090,database!$B$2:$D$6001,3,FALSE))","v":""},null,null,null,null,null,null,"",null,null,0,null,1,"indip"]
["",null,{"$f":"IF(ISERROR(VLOOKUP(B5096,database!$B$2:$C$6001,2,FALSE)),\"\",VLOOKUP(B5096,database!$B$2:$C$6001,2,FALSE))","v":""},null,null,null,"",null,null,null,{"$f":"IF(ISERROR(VLOOKUP(B5096,database!$B$2:$D$6001,3,FALSE)),\"\",VLOOKUP(B5096,database!$B$2:$D$6001,3,FALSE))","v":""},null,null,null,null,null,null,"",null,null,0,null,1,"indip"]
["",null,{"$f":"IF(ISERROR(VLOOKUP(B5098,database!$B$2:$C$6001,2,FALSE)),\"\",VLOOKUP(B5098,database!$B$2:$C$6001,2,FALSE))","v":""},null,null,null,"",null,null,null,{"$f":"IF(ISERROR(VLOOKUP(B5098,database!$B$2:$D$6001,3,FALSE)),\"\",VLOOKUP(B5098,database!$B$2:$D$6001,3,FALSE))","v":""},null,null,null,null,null,null,"",null,null,0,null,1,"indip"]
["",null,{"$f":"IF(ISERROR(VLOOKUP(B5105,database!$B$2:$C$6001,2,FALSE)),\"\",VLOOKUP(B5105,database!$B$2:$C$6001,2,FALSE))","v":""},null,null,null,"",null,null,null,{"$f":"IF(ISERROR(VLOOKUP(B5105,database!$B$2:$D$6001,3,FALSE)),\"\",VLOOKUP(B5105,database!$B$2:$D$6001,3,FALSE))","v":""},null,null,null,null,null,null,"",null,null,0,null,1,"indip"]
["",null,{"$f":"IF(ISERROR(VLOOKUP(B5106,database!$B$2:$C$6001,2,FALSE)),\"\",VLOOKUP(B5106,database!$B$2:$C$6001,2,FALSE))","v":""},null,null,null,"",null,null,null,{"$f":"IF(ISERROR(VLOOKUP(B5106,database!$B$2:$D$6001,3,FALSE)),\"\",VLOOKUP(B5106,database!$B$2:$D$6001,3,FALSE))","v":""},null,null,null,null,null,null,"",null,null,0,null,1,"indip"]
["",null,{"$f":"IF(ISERROR(VLOOKUP(B5111,database!$B$2:$C$6001,2,FALSE)),\"\",VLOOKUP(B5111,database!$B$2:$C$6001,2,FALSE))","v":""},null,null,null,"",null,null,null,{"$f":"IF(ISERROR(VLOOKUP(B5111,database!$B$2:$D$6001,3,FALSE)),\"\",VLOOKUP(B5111,database!$B$2:$D$6001,3,FALSE))","v":""},null,null,null,null,null,null,"",null,null,0,null,1,"indip"]
["",null,{"$f":"IF(ISERROR(VLOOKUP(B5117,database!$B$2:$C$6001,2,FALSE)),\"\",VLOOKUP(B5117,database!$B$2:$C$6001,2,FALSE))","v":""},null,null,null,"",null,null,null,{"$f":"IF(ISERROR(VLOOKUP(B5117,database!$B$2:$D$6001,3,FALSE)),\"\",VLOOKUP(B5117,database!$B$2:$D$6001,3,FALSE))","v":""},null,null,null,null,null,null,"",null,null,0,null,1,"indip"]
["",null,{"$f":"IF(ISERROR(VLOOKUP(B5121,database!$B$2:$C$6001,2,FALSE)),\"\",VLOOKUP(B5121,database!$B$2:$C$6001,2,FALSE))","v":""},null,null,null,"",null,null,null,{"$f":"IF(ISERROR(VLOOKUP(B5121,database!$B$2:$D$6001,3,FALSE)),\"\",VLOOKUP(B5121,database!$B$2:$D$6001,3,FALSE))","v":""},null,null,null,null,null,null,"",null,null,0,null,1,"indip"]
["",null,{"$f":"IF(ISERROR(VLOOKUP(B5126,database!$B$2:$C$6001,2,FALSE)),\"\",VLOOKUP(B5126,database!$B$2:$C$6001,2,FALSE))","v":""},null,null,null,"",null,null,null,{"$f":"IF(ISERROR(VLOOKUP(B5126,database!$B$2:$D$6001,3,FALSE)),\"\",VLOOKUP(B5126,database!$B$2:$D$6001,3,FALSE))","v":""},null,null,null,null,null,null,"",null,null,0,null,1,"indip"]
["",null,{"$f":"IF(ISERROR(VLOOKUP(B5132,database!$B$2:$C$6001,2,FALSE)),\"\",VLOOKUP(B5132,database!$B$2:$C$6001,2,FALSE))","v":""},null,null,null,"",null,null,null,{"$f":"IF(ISERROR(VLOOKUP(B5132,database!$B$2:$D$6001,3,FALSE)),\"\",VLOOKUP(B5132,database!$B$2:$D$6001,3,FALSE))","v":""},null,null,null,null,null,null,"",null,null,0,null,1,"indip"]
["",null,{"$f":"IF(ISERROR(VLOOKUP(B5137,database!$B$2:$C$6001,2,FALSE)),\"\",VLOOKUP(B5137,database!$B$2:$C$6001,2,FALSE))","v":""},null,null,null,"",null,null,null,{"$f":"IF(ISERROR(VLOOKUP(B5137,database!$B$2:$D$6001,3,FALSE)),\"\",VLOOKUP(B5137,database!$B$2:$D$6001,3,FALSE))","v":""},null,null,null,null,null,null,"",null,null,0,null,1,"indip"]
["",null,{"$f":"IF(ISERROR(VLOOKUP(B5142,database!$B$2:$C$6001,2,FALSE)),\"\",VLOOKUP(B5142,database!$B$2:$C$6001,2,FALSE))","v":""},null,null,null,"",null,null,null,{"$f":"IF(ISERROR(VLOOKUP(B5142,database!$B$2:$D$6001,3,FALSE)),\"\",VLOOKUP(B5142,database!$B$2:$D$6001,3,FALSE))","v":""},null,null,null,null,null,null,"",null,null,0,null,1,"indip"]
["",null,{"$f":"IF(ISERROR(VLOOKUP(B5147,database!$B$2:$C$6001,2,FALSE)),\"\",VLOOKUP(B5147,database!$B$2:$C$6001,2,FALSE))","v":""},null,null,null,"",null,null,null,{"$f":"IF(ISERROR(VLOOKUP(B5147,database!$B$2:$D$6001,3,FALSE)),\"\",VLOOKUP(B5147,database!$B$2:$D$6001,3,FALSE))","v":""},null,null,null,null,null,null,"",null,null,0,null,1,"indip"]
["",null,{"$f":"IF(ISERROR(VLOOKUP(B5152,database!$B$2:$C$6001,2,FALSE)),\"\",VLOOKUP(B5152,database!$B$2:$C$6001,2,FALSE))","v":""},null,null,null,"",null,null,null,{"$f":"IF(ISERROR(VLOOKUP(B5152,database!$B$2:$D$6001,3,FALSE)),\"\",VLOOKUP(B5152,database!$B$2:$D$6001,3,FALSE))","v":""},null,null,null,null,null,null,"",null,null,0,null,1,"indip"]
["",null,{"$f":"IF(ISERROR(VLOOKUP(B5158,database!$B$2:$C$6001,2,FALSE)),\"\",VLOOKUP(B5158,database!$B$2:$C$6001,2,FALSE))","v":""},null,null,null,"",null,null,null,{"$f":"IF(ISERROR(VLOOKUP(B5158,database!$B$2:$D$6001,3,FALSE)),\"\",VLOOKUP(B5158,database!$B$2:$D$6001,3,FALSE))","v":""},null,null,null,null,null,null,"",null,null,0,null,1,"indip"]
["",null,{"$f":"IF(ISERROR(VLOOKUP(B5161,database!$B$2:$C$6001,2,FALSE)),\"\",VLOOKUP(B5161,database!$B$2:$C$6001,2,FALSE))","v":""},null,null,null,"",null,null,null,{"$f":"IF(ISERROR(VLOOKUP(B5161,database!$B$2:$D$6001,3,FALSE)),\"\",VLOOKUP(B5161,database!$B$2:$D$6001,3,FALSE))","v":""},null,null,null,null,null,null,"",null,null,0,null,1,"indip"]
["",null,{"$f":"IF(ISERROR(VLOOKUP(B5167,database!$B$2:$C$6001,2,FALSE)),\"\",VLOOKUP(B5167,database!$B$2:$C$6001,2,FALSE))","v":""},null,null,null,"",null,null,null,{"$f":"IF(ISERROR(VLOOKUP(B5167,database!$B$2:$D$6001,3,FALSE)),\"\",VLOOKUP(B5167,database!$B$2:$D$6001,3,FALSE))","v":""},null,null,null,null,null,null,"",null,null,0,null,1,"indip"]
["",null,{"$f":"IF(ISERROR(VLOOKUP(B5168,database!$B$2:$C$6001,2,FALSE)),\"\",VLOOKUP(B5168,database!$B$2:$C$6001,2,FALSE))","v":""},null,null,null,"",null,null,null,{"$f":"IF(ISERROR(VLOOKUP(B5168,database!$B$2:$D$6001,3,FALSE)),\"\",VLOOKUP(B5168,database!$B$2:$D$6001,3,FALSE))","v":""},null,null,null,null,null,null,"",null,null,0,null,1,"indip"]
["",null,{"$f":"IF(ISERROR(VLOOKUP(B5173,database!$B$2:$C$6001,2,FALSE)),\"\",VLOOKUP(B5173,database!$B$2:$C$6001,2,FALSE))","v":""},null,null,null,"",null,null,null,{"$f":"IF(ISERROR(VLOOKUP(B5173,database!$B$2:$D$6001,3,FALSE)),\"\",VLOOKUP(B5173,database!$B$2:$D$6001,3,FALSE))","v":""},null,null,null,null,null,null,"",null,null,0,null,1,"indip"]
["",null,{"$f":"IF(ISERROR(VLOOKUP(B5180,database!$B$2:$C$6001,2,FALSE)),\"\",VLOOKUP(B5180,database!$B$2:$C$6001,2,FALSE))","v":""},null,null,null,"",null,null,null,{"$f":"IF(ISERROR(VLOOKUP(B5180,database!$B$2:$D$6001,3,FALSE)),\"\",VLOOKUP(B5180,database!$B$2:$D$6001,3,FALSE))","v":""},null,null,null,null,null,null,"",null,null,0,null,1,"indip"]
["",null,{"$f":"IF(ISERROR(VLOOKUP(B5183,database!$B$2:$C$6001,2,FALSE)),\"\",VLOOKUP(B5183,database!$B$2:$C$6001,2,FALSE))","v":""},null,null,null,"",null,null,null,{"$f":"IF(ISERROR(VLOOKUP(B5183,database!$B$2:$D$6001,3,FALSE)),\"\",VLOOKUP(B5183,database!$B$2:$D$6001,3,FALSE))","v":""},null,null,null,null,null,null,"",null,null,0,null,1,"indip"]
["",null,{"$f":"IF(ISERROR(VLOOKUP(B5188,database!$B$2:$C$6001,2,FALSE)),\"\",VLOOKUP(B5188,database!$B$2:$C$6001,2,FALSE))","v":""},null,null,null,"",null,null,null,{"$f":"IF(ISERROR(VLOOKUP(B5188,database!$B$2:$D$6001,3,FALSE)),\"\",VLOOKUP(B5188,database!$B$2:$D$6001,3,FALSE))","v":""},null,null,null,null,null,null,"",null,null,{"$f":"IFERROR(INDEX(M$39:N$140,MATCH(B5188,M$39:M$140,0),2),0)","v":0},null,{"$f":"IF(AND(U5188=0,C5188=\"\"),1,2)","v":1},{"$f":"IF(B5188=\"-\",\"\",IF(OR(B5188=M$39,B5188=M$40,B5188=M$41,B5188=M$42,B5188=M$43,B5188=M$44,B5188=M$45,B5188=M$46,B5188=M$47,,B5188=M$50,B5188=M$51,B5188=M$52,B5188=M$53,B5188=M$54,B5188=M$55,B5188=M$56,B5188=M$57,B5188=M$70),\"\",IF(C5188=\"\",\"indip\",F5188)))","v":"indip"}]
["",null,{"$f":"IF(ISERROR(VLOOKUP(B5194,database!$B$2:$C$6001,2,FALSE)),\"\",VLOOKUP(B5194,database!$B$2:$C$6001,2,FALSE))","v":""},null,null,null,"",null,null,null,{"$f":"IF(ISERROR(VLOOKUP(B5194,database!$B$2:$D$6001,3,FALSE)),\"\",VLOOKUP(B5194,database!$B$2:$D$6001,3,FALSE))","v":""},null,null,null,null,null,null,"",null,null,0,null,1,"indip"]
["",null,{"$f":"IF(ISERROR(VLOOKUP(B5199,database!$B$2:$C$6001,2,FALSE)),\"\",VLOOKUP(B5199,database!$B$2:$C$6001,2,FALSE))","v":""},null,null,null,"",null,null,null,{"$f":"IF(ISERROR(VLOOKUP(B5199,database!$B$2:$D$6001,3,FALSE)),\"\",VLOOKUP(B5199,database!$B$2:$D$6001,3,FALSE))","v":""},null,null,null,null,null,null,"",null,null,0,null,1,"indip"]
["",null,{"$f":"IF(ISERROR(VLOOKUP(B5203,database!$B$2:$C$6001,2,FALSE)),\"\",VLOOKUP(B5203,database!$B$2:$C$6001,2,FALSE))","v":""},null,null,null,"",null,null,null,{"$f":"IF(ISERROR(VLOOKUP(B5203,database!$B$2:$D$6001,3,FALSE)),\"\",VLOOKUP(B5203,database!$B$2:$D$6001,3,FALSE))","v":""},null,null,null,null,null,null,"",null,null,0,null,1,"indip"]
["",null,{"$f":"IF(ISERROR(VLOOKUP(B5209,database!$B$2:$C$6001,2,FALSE)),\"\",VLOOKUP(B5209,database!$B$2:$C$6001,2,FALSE))","v":""},null,null,null,"",null,null,null,{"$f":"IF(ISERROR(VLOOKUP(B5209,database!$B$2:$D$6001,3,FALSE)),\"\",VLOOKUP(B5209,database!$B$2:$D$6001,3,FALSE))","v":""},null,null,null,null,null,null,"",null,null,0,null,1,"indip"]
["",null,{"$f":"IF(ISERROR(VLOOKUP(B5214,database!$B$2:$C$6001,2,FALSE)),\"\",VLOOKUP(B5214,database!$B$2:$C$6001,2,FALSE))","v":""},null,null,null,"",null,null,null,{"$f":"IF(ISERROR(VLOOKUP(B5214,database!$B$2:$D$6001,3,FALSE)),\"\",VLOOKUP(B5214,database!$B$2:$D$6001,3,FALSE))","v":""},null,null,null,null,null,null,"",null,null,0,null,1,"indip"]
["",null,{"$f":"IF(ISERROR(VLOOKUP(B5220,database!$B$2:$C$6001,2,FALSE)),\"\",VLOOKUP(B5220,database!$B$2:$C$6001,2,FALSE))","v":""},null,null,null,"",null,null,null,{"$f":"IF(ISERROR(VLOOKUP(B5220,database!$B$2:$D$6001,3,FALSE)),\"\",VLOOKUP(B5220,database!$B$2:$D$6001,3,FALSE))","v":""},null,null,null,null,null,null,"",null,null,0,null,1,"indip"]
["",null,{"$f":"IF(ISERROR(VLOOKUP(B5224,database!$B$2:$C$6001,2,FALSE)),\"\",VLOOKUP(B5224,database!$B$2:$C$6001,2,FALSE))","v":""},null,null,null,"",null,null,null,{"$f":"IF(ISERROR(VLOOKUP(B5224,database!$B$2:$D$6001,3,FALSE)),\"\",VLOOKUP(B5224,database!$B$2:$D$6001,3,FALSE))","v":""},null,null,null,null,null,null,"",null,null,0,null,1,"indip"]
["",null,{"$f":"IF(ISERROR(VLOOKUP(B5229,database!$B$2:$C$6001,2,FALSE)),\"\",VLOOKUP(B5229,database!$B$2:$C$6001,2,FALSE))","v":""},null,null,null,"",null,null,null,{"$f":"IF(ISERROR(VLOOKUP(B5229,database!$B$2:$D$6001,3,FALSE)),\"\",VLOOKUP(B5229,database!$B$2:$D$6001,3,FALSE))","v":""},null,null,null,null,null,null,"",null,null,0,null,1,"indip"]
["",null,{"$f":"IF(ISERROR(VLOOKUP(B5230,database!$B$2:$C$6001,2,FALSE)),\"\",VLOOKUP(B5230,database!$B$2:$C$6001,2,FALSE))","v":""},null,null,null,"",null,null,null,{"$f":"IF(ISERROR(VLOOKUP(B5230,database!$B$2:$D$6001,3,FALSE)),\"\",VLOOKUP(B5230,database!$B$2:$D$6001,3,FALSE))","v":""},null,null,null,null,null,null,"",null,null,0,null,1,"indip"]
["",null,{"$f":"IF(ISERROR(VLOOKUP(B5235,database!$B$2:$C$6001,2,FALSE)),\"\",VLOOKUP(B5235,database!$B$2:$C$6001,2,FALSE))","v":""},null,null,null,"",null,null,null,{"$f":"IF(ISERROR(VLOOKUP(B5235,database!$B$2:$D$6001,3,FALSE)),\"\",VLOOKUP(B5235,database!$B$2:$D$6001,3,FALSE))","v":""},null,null,null,null,null,null,"",null,null,0,null,1,"indip"]
["",null,{"$f":"IF(ISERROR(VLOOKUP(B5243,database!$B$2:$C$6001,2,FALSE)),\"\",VLOOKUP(B5243,database!$B$2:$C$6001,2,FALSE))","v":""},null,null,null,"",null,null,null,{"$f":"IF(ISERROR(VLOOKUP(B5243,database!$B$2:$D$6001,3,FALSE)),\"\",VLOOKUP(B5243,database!$B$2:$D$6001,3,FALSE))","v":""},null,null,null,null,null,null,"",null,null,0,null,1,"indip"]
["",null,{"$f":"IF(ISERROR(VLOOKUP(B5245,database!$B$2:$C$6001,2,FALSE)),\"\",VLOOKUP(B5245,database!$B$2:$C$6001,2,FALSE))","v":""},null,null,null,"",null,null,null,{"$f":"IF(ISERROR(VLOOKUP(B5245,database!$B$2:$D$6001,3,FALSE)),\"\",VLOOKUP(B5245,database!$B$2:$D$6001,3,FALSE))","v":""},null,null,null,null,null,null,"",null,null,0,null,1,"indip"]
["",null,{"$f":"IF(ISERROR(VLOOKUP(B5250,database!$B$2:$C$6001,2,FALSE)),\"\",VLOOKUP(B5250,database!$B$2:$C$6001,2,FALSE))","v":""},null,null,null,"",null,null,null,{"$f":"IF(ISERROR(VLOOKUP(B5250,database!$B$2:$D$6001,3,FALSE)),\"\",VLOOKUP(B5250,database!$B$2:$D$6001,3,FALSE))","v":""},null,null,null,null,null,null,"",null,null,0,null,1,"indip"]
["",null,{"$f":"IF(ISERROR(VLOOKUP(B5256,database!$B$2:$C$6001,2,FALSE)),\"\",VLOOKUP(B5256,database!$B$2:$C$6001,2,FALSE))","v":""},null,null,null,"",null,null,null,{"$f":"IF(ISERROR(VLOOKUP(B5256,database!$B$2:$D$6001,3,FALSE)),\"\",VLOOKUP(B5256,database!$B$2:$D$6001,3,FALSE))","v":""},null,null,null,null,null,null,"",null,null,0,null,1,"indip"]
["",null,{"$f":"IF(ISERROR(VLOOKUP(B5262,database!$B$2:$C$6001,2,FALSE)),\"\",VLOOKUP(B5262,database!$B$2:$C$6001,2,FALSE))","v":""},null,null,null,"",null,null,null,{"$f":"IF(ISERROR(VLOOKUP(B5262,database!$B$2:$D$6001,3,FALSE)),\"\",VLOOKUP(B5262,database!$B$2:$D$6001,3,FALSE))","v":""},null,null,null,null,null,null,"",null,null,0,null,1,"indip"]
["",null,{"$f":"IF(ISERROR(VLOOKUP(B5265,database!$B$2:$C$6001,2,FALSE)),\"\",VLOOKUP(B5265,database!$B$2:$C$6001,2,FALSE))","v":""},null,null,null,"",null,null,null,{"$f":"IF(ISERROR(VLOOKUP(B5265,database!$B$2:$D$6001,3,FALSE)),\"\",VLOOKUP(B5265,database!$B$2:$D$6001,3,FALSE))","v":""},null,null,null,null,null,null,"",null,null,0,null,1,"indip"]
["",null,{"$f":"IF(ISERROR(VLOOKUP(B5271,database!$B$2:$C$6001,2,FALSE)),\"\",VLOOKUP(B5271,database!$B$2:$C$6001,2,FALSE))","v":""},null,null,null,"",null,null,null,{"$f":"IF(ISERROR(VLOOKUP(B5271,database!$B$2:$D$6001,3,FALSE)),\"\",VLOOKUP(B5271,database!$B$2:$D$6001,3,FALSE))","v":""},null,null,null,null,null,null,"",null,null,0,null,1,"indip"]
["",null,{"$f":"IF(ISERROR(VLOOKUP(B5276,database!$B$2:$C$6001,2,FALSE)),\"\",VLOOKUP(B5276,database!$B$2:$C$6001,2,FALSE))","v":""},null,null,null,"",null,null,null,{"$f":"IF(ISERROR(VLOOKUP(B5276,database!$B$2:$D$6001,3,FALSE)),\"\",VLOOKUP(B5276,database!$B$2:$D$6001,3,FALSE))","v":""},null,null,null,null,null,null,"",null,null,0,null,1,"indip"]
["",null,{"$f":"IF(ISERROR(VLOOKUP(B5281,database!$B$2:$C$6001,2,FALSE)),\"\",VLOOKUP(B5281,database!$B$2:$C$6001,2,FALSE))","v":""},null,null,null,"",null,null,null,{"$f":"IF(ISERROR(VLOOKUP(B5281,database!$B$2:$D$6001,3,FALSE)),\"\",VLOOKUP(B5281,database!$B$2:$D$6001,3,FALSE))","v":""},null,null,null,null,null,null,"",null,null,0,null,1,"indip"]
["",null,{"$f":"IF(ISERROR(VLOOKUP(B5286,database!$B$2:$C$6001,2,FALSE)),\"\",VLOOKUP(B5286,database!$B$2:$C$6001,2,FALSE))","v":""},null,null,null,"",null,null,null,{"$f":"IF(ISERROR(VLOOKUP(B5286,database!$B$2:$D$6001,3,FALSE)),\"\",VLOOKUP(B5286,database!$B$2:$D$6001,3,FALSE))","v":""},null,null,null,null,null,null,"",null,null,0,null,1,"indip"]
["",null,{"$f":"IF(ISERROR(VLOOKUP(B5291,database!$B$2:$C$6001,2,FALSE)),\"\",VLOOKUP(B5291,database!$B$2:$C$6001,2,FALSE))","v":""},null,null,null,"",null,null,null,{"$f":"IF(ISERROR(VLOOKUP(B5291,database!$B$2:$D$6001,3,FALSE)),\"\",VLOOKUP(B5291,database!$B$2:$D$6001,3,FALSE))","v":""},null,null,null,null,null,null,"",null,null,0,null,1,"indip"]
["",null,{"$f":"IF(ISERROR(VLOOKUP(B5292,database!$B$2:$C$6001,2,FALSE)),\"\",VLOOKUP(B5292,database!$B$2:$C$6001,2,FALSE))","v":""},null,null,null,"",null,null,null,{"$f":"IF(ISERROR(VLOOKUP(B5292,database!$B$2:$D$6001,3,FALSE)),\"\",VLOOKUP(B5292,database!$B$2:$D$6001,3,FALSE))","v":""},null,null,null,null,null,null,"",null,null,0,null,1,"indip"]
["",null,{"$f":"IF(ISERROR(VLOOKUP(B5300,database!$B$2:$C$6001,2,FALSE)),\"\",VLOOKUP(B5300,database!$B$2:$C$6001,2,FALSE))","v":""},null,null,null,"",null,null,null,{"$f":"IF(ISERROR(VLOOKUP(B5300,database!$B$2:$D$6001,3,FALSE)),\"\",VLOOKUP(B5300,database!$B$2:$D$6001,3,FALSE))","v":""},null,null,null,null,null,null,"",null,null,0,null,1,"indip"]
["",null,{"$f":"IF(ISERROR(VLOOKUP(B5301,database!$B$2:$C$6001,2,FALSE)),\"\",VLOOKUP(B5301,database!$B$2:$C$6001,2,FALSE))","v":""},null,null,null,"",null,null,null,{"$f":"IF(ISERROR(VLOOKUP(B5301,database!$B$2:$D$6001,3,FALSE)),\"\",VLOOKUP(B5301,database!$B$2:$D$6001,3,FALSE))","v":""},null,null,null,null,null,null,"",null,null,0,null,1,"indip"]
["",null,{"$f":"IF(ISERROR(VLOOKUP(B5307,database!$B$2:$C$6001,2,FALSE)),\"\",VLOOKUP(B5307,database!$B$2:$C$6001,2,FALSE))","v":""},null,null,null,"",null,null,null,{"$f":"IF(ISERROR(VLOOKUP(B5307,database!$B$2:$D$6001,3,FALSE)),\"\",VLOOKUP(B5307,database!$B$2:$D$6001,3,FALSE))","v":""},null,null,null,null,null,null,"",null,null,0,null,1,"indip"]
["",null,{"$f":"IF(ISERROR(VLOOKUP(B5312,database!$B$2:$C$6001,2,FALSE)),\"\",VLOOKUP(B5312,database!$B$2:$C$6001,2,FALSE))","v":""},null,null,null,"",null,null,null,{"$f":"IF(ISERROR(VLOOKUP(B5312,database!$B$2:$D$6001,3,FALSE)),\"\",VLOOKUP(B5312,database!$B$2:$D$6001,3,FALSE))","v":""},null,null,null,null,null,null,"",null,null,0,null,1,"indip"]
["",null,{"$f":"IF(ISERROR(VLOOKUP(B5318,database!$B$2:$C$6001,2,FALSE)),\"\",VLOOKUP(B5318,database!$B$2:$C$6001,2,FALSE))","v":""},null,null,null,"",null,null,null,{"$f":"IF(ISERROR(VLOOKUP(B5318,database!$B$2:$D$6001,3,FALSE)),\"\",VLOOKUP(B5318,database!$B$2:$D$6001,3,FALSE))","v":""},null,null,null,null,null,null,"",null,null,0,null,1,"indip"]
["",null,{"$f":"IF(ISERROR(VLOOKUP(B5321,database!$B$2:$C$6001,2,FALSE)),\"\",VLOOKUP(B5321,database!$B$2:$C$6001,2,FALSE))","v":""},null,null,null,"",null,null,null,{"$f":"IF(ISERROR(VLOOKUP(B5321,database!$B$2:$D$6001,3,FALSE)),\"\",VLOOKUP(B5321,database!$B$2:$D$6001,3,FALSE))","v":""},null,null,null,null,null,null,"",null,null,0,null,1,"indip"]
["",null,{"$f":"IF(ISERROR(VLOOKUP(B5327,database!$B$2:$C$6001,2,FALSE)),\"\",VLOOKUP(B5327,database!$B$2:$C$6001,2,FALSE))","v":""},null,null,null,"",null,null,null,{"$f":"IF(ISERROR(VLOOKUP(B5327,database!$B$2:$D$6001,3,FALSE)),\"\",VLOOKUP(B5327,database!$B$2:$D$6001,3,FALSE))","v":""},null,null,null,null,null,null,"",null,null,0,null,1,"indip"]
["",null,{"$f":"IF(ISERROR(VLOOKUP(B5333,database!$B$2:$C$6001,2,FALSE)),\"\",VLOOKUP(B5333,database!$B$2:$C$6001,2,FALSE))","v":""},null,null,null,"",null,null,null,{"$f":"IF(ISERROR(VLOOKUP(B5333,database!$B$2:$D$6001,3,FALSE)),\"\",VLOOKUP(B5333,database!$B$2:$D$6001,3,FALSE))","v":""},null,null,null,null,null,null,"",null,null,0,null,1,"indip"]
["",null,{"$f":"IF(ISERROR(VLOOKUP(B5338,database!$B$2:$C$6001,2,FALSE)),\"\",VLOOKUP(B5338,database!$B$2:$C$6001,2,FALSE))","v":""},null,null,null,"",null,null,null,{"$f":"IF(ISERROR(VLOOKUP(B5338,database!$B$2:$D$6001,3,FALSE)),\"\",VLOOKUP(B5338,database!$B$2:$D$6001,3,FALSE))","v":""},null,null,null,null,null,null,"",null,null,0,null,1,"indip"]
["",null,{"$f":"IF(ISERROR(VLOOKUP(B5340,database!$B$2:$C$6001,2,FALSE)),\"\",VLOOKUP(B5340,database!$B$2:$C$6001,2,FALSE))","v":""},null,null,null,"",null,null,null,{"$f":"IF(ISERROR(VLOOKUP(B5340,database!$B$2:$D$6001,3,FALSE)),\"\",VLOOKUP(B5340,database!$B$2:$D$6001,3,FALSE))","v":""},null,null,null,null,null,null,"",null,null,0,null,1,"indip"]
["",null,{"$f":"IF(ISERROR(VLOOKUP(B5348,database!$B$2:$C$6001,2,FALSE)),\"\",VLOOKUP(B5348,database!$B$2:$C$6001,2,FALSE))","v":""},null,null,null,"",null,null,null,{"$f":"IF(ISERROR(VLOOKUP(B5348,database!$B$2:$D$6001,3,FALSE)),\"\",VLOOKUP(B5348,database!$B$2:$D$6001,3,FALSE))","v":""},null,null,null,null,null,null,"",null,null,0,null,1,"indip"]
["",null,{"$f":"IF(ISERROR(VLOOKUP(B5353,database!$B$2:$C$6001,2,FALSE)),\"\",VLOOKUP(B5353,database!$B$2:$C$6001,2,FALSE))","v":""},null,null,null,"",null,null,null,{"$f":"IF(ISERROR(VLOOKUP(B5353,database!$B$2:$D$6001,3,FALSE)),\"\",VLOOKUP(B5353,database!$B$2:$D$6001,3,FALSE))","v":""},null,null,null,null,null,null,"",null,null,0,null,1,"indip"]
["",null,{"$f":"IF(ISERROR(VLOOKUP(B5354,database!$B$2:$C$6001,2,FALSE)),\"\",VLOOKUP(B5354,database!$B$2:$C$6001,2,FALSE))","v":""},null,null,null,"",null,null,null,{"$f":"IF(ISERROR(VLOOKUP(B5354,database!$B$2:$D$6001,3,FALSE)),\"\",VLOOKUP(B5354,database!$B$2:$D$6001,3,FALSE))","v":""},null,null,null,null,null,null,"",null,null,0,null,1,"indip"]
["",null,{"$f":"IF(ISERROR(VLOOKUP(B5359,database!$B$2:$C$6001,2,FALSE)),\"\",VLOOKUP(B5359,database!$B$2:$C$6001,2,FALSE))","v":""},null,null,null,"",null,null,null,{"$f":"IF(ISERROR(VLOOKUP(B5359,database!$B$2:$D$6001,3,FALSE)),\"\",VLOOKUP(B5359,database!$B$2:$D$6001,3,FALSE))","v":""},null,null,null,null,null,null,"",null,null,0,null,1,"indip"]
["",null,{"$f":"IF(ISERROR(VLOOKUP(B5363,database!$B$2:$C$6001,2,FALSE)),\"\",VLOOKUP(B5363,database!$B$2:$C$6001,2,FALSE))","v":""},null,null,null,"",null,null,null,{"$f":"IF(ISERROR(VLOOKUP(B5363,database!$B$2:$D$6001,3,FALSE)),\"\",VLOOKUP(B5363,database!$B$2:$D$6001,3,FALSE))","v":""},null,null,null,null,null,null,"",null,null,0,null,1,"indip"]
["",null,{"$f":"IF(ISERROR(VLOOKUP(B5369,database!$B$2:$C$6001,2,FALSE)),\"\",VLOOKUP(B5369,database!$B$2:$C$6001,2,FALSE))","v":""},null,null,null,"",null,null,null,{"$f":"IF(ISERROR(VLOOKUP(B5369,database!$B$2:$D$6001,3,FALSE)),\"\",VLOOKUP(B5369,database!$B$2:$D$6001,3,FALSE))","v":""},null,null,null,null,null,null,"",null,null,0,null,1,"indip"]
["",null,{"$f":"IF(ISERROR(VLOOKUP(B5374,database!$B$2:$C$6001,2,FALSE)),\"\",VLOOKUP(B5374,database!$B$2:$C$6001,2,FALSE))","v":""},null,null,null,"",null,null,null,{"$f":"IF(ISERROR(VLOOKUP(B5374,database!$B$2:$D$6001,3,FALSE)),\"\",VLOOKUP(B5374,database!$B$2:$D$6001,3,FALSE))","v":""},null,null,null,null,null,null,"",null,null,0,null,1,"indip"]
["",null,{"$f":"IF(ISERROR(VLOOKUP(B5378,database!$B$2:$C$6001,2,FALSE)),\"\",VLOOKUP(B5378,database!$B$2:$C$6001,2,FALSE))","v":""},null,null,null,"",null,null,null,{"$f":"IF(ISERROR(VLOOKUP(B5378,database!$B$2:$D$6001,3,FALSE)),\"\",VLOOKUP(B5378,database!$B$2:$D$6001,3,FALSE))","v":""},null,null,null,null,null,null,"",null,null,0,null,1,"indip"]
["",null,{"$f":"IF(ISERROR(VLOOKUP(B5384,database!$B$2:$C$6001,2,FALSE)),\"\",VLOOKUP(B5384,database!$B$2:$C$6001,2,FALSE))","v":""},null,null,null,"",null,null,null,{"$f":"IF(ISERROR(VLOOKUP(B5384,database!$B$2:$D$6001,3,FALSE)),\"\",VLOOKUP(B5384,database!$B$2:$D$6001,3,FALSE))","v":""},null,null,null,null,null,null,"",null,null,0,null,1,"indip"]
["",null,{"$f":"IF(ISERROR(VLOOKUP(B5389,database!$B$2:$C$6001,2,FALSE)),\"\",VLOOKUP(B5389,database!$B$2:$C$6001,2,FALSE))","v":""},null,null,null,"",null,null,null,{"$f":"IF(ISERROR(VLOOKUP(B5389,database!$B$2:$D$6001,3,FALSE)),\"\",VLOOKUP(B5389,database!$B$2:$D$6001,3,FALSE))","v":""},null,null,null,null,null,null,"",null,null,0,null,1,"indip"]
["",null,{"$f":"IF(ISERROR(VLOOKUP(B5395,database!$B$2:$C$6001,2,FALSE)),\"\",VLOOKUP(B5395,database!$B$2:$C$6001,2,FALSE))","v":""},null,null,null,"",null,null,null,{"$f":"IF(ISERROR(VLOOKUP(B5395,database!$B$2:$D$6001,3,FALSE)),\"\",VLOOKUP(B5395,database!$B$2:$D$6001,3,FALSE))","v":""},null,null,null,null,null,null,"",null,null,0,null,1,"indip"]
["",null,{"$f":"IF(ISERROR(VLOOKUP(B5400,database!$B$2:$C$6001,2,FALSE)),\"\",VLOOKUP(B5400,database!$B$2:$C$6001,2,FALSE))","v":""},null,null,null,"",null,null,null,{"$f":"IF(ISERROR(VLOOKUP(B5400,database!$B$2:$D$6001,3,FALSE)),\"\",VLOOKUP(B5400,database!$B$2:$D$6001,3,FALSE))","v":""},null,null,null,null,null,null,"",null,null,0,null,1,"indip"]
["",null,{"$f":"IF(ISERROR(VLOOKUP(B5403,database!$B$2:$C$6001,2,FALSE)),\"\",VLOOKUP(B5403,database!$B$2:$C$6001,2,FALSE))","v":""},null,null,null,"",null,null,null,{"$f":"IF(ISERROR(VLOOKUP(B5403,database!$B$2:$D$6001,3,FALSE)),\"\",VLOOKUP(B5403,database!$B$2:$D$6001,3,FALSE))","v":""},null,null,null,null,null,null,"",null,null,0,null,1,"indip"]
["",null,{"$f":"IF(ISERROR(VLOOKUP(B5410,database!$B$2:$C$6001,2,FALSE)),\"\",VLOOKUP(B5410,database!$B$2:$C$6001,2,FALSE))","v":""},null,null,null,"",null,null,null,{"$f":"IF(ISERROR(VLOOKUP(B5410,database!$B$2:$D$6001,3,FALSE)),\"\",VLOOKUP(B5410,database!$B$2:$D$6001,3,FALSE))","v":""},null,null,null,null,null,null,"",null,null,0,null,1,"indip"]
["",null,{"$f":"IF(ISERROR(VLOOKUP(B5415,database!$B$2:$C$6001,2,FALSE)),\"\",VLOOKUP(B5415,database!$B$2:$C$6001,2,FALSE))","v":""},null,null,null,"",null,null,null,{"$f":"IF(ISERROR(VLOOKUP(B5415,database!$B$2:$D$6001,3,FALSE)),\"\",VLOOKUP(B5415,database!$B$2:$D$6001,3,FALSE))","v":""},null,null,null,null,null,null,"",null,null,0,null,1,"indip"]
["",null,{"$f":"IF(ISERROR(VLOOKUP(B5416,database!$B$2:$C$6001,2,FALSE)),\"\",VLOOKUP(B5416,database!$B$2:$C$6001,2,FALSE))","v":""},null,null,null,"",null,null,null,{"$f":"IF(ISERROR(VLOOKUP(B5416,database!$B$2:$D$6001,3,FALSE)),\"\",VLOOKUP(B5416,database!$B$2:$D$6001,3,FALSE))","v":""},null,null,null,null,null,null,"",null,null,0,null,1,"indip"]
["",null,{"$f":"IF(ISERROR(VLOOKUP(B5422,database!$B$2:$C$6001,2,FALSE)),\"\",VLOOKUP(B5422,database!$B$2:$C$6001,2,FALSE))","v":""},null,null,null,"",null,null,null,{"$f":"IF(ISERROR(VLOOKUP(B5422,database!$B$2:$D$6001,3,FALSE)),\"\",VLOOKUP(B5422,database!$B$2:$D$6001,3,FALSE))","v":""},null,null,null,null,null,null,"",null,null,0,null,1,"indip"]
["",null,{"$f":"IF(ISERROR(VLOOKUP(B5425,database!$B$2:$C$6001,2,FALSE)),\"\",VLOOKUP(B5425,database!$B$2:$C$6001,2,FALSE))","v":""},null,null,null,"",null,null,null,{"$f":"IF(ISERROR(VLOOKUP(B5425,database!$B$2:$D$6001,3,FALSE)),\"\",VLOOKUP(B5425,database!$B$2:$D$6001,3,FALSE))","v":""},null,null,null,null,null,null,"",null,null,0,null,1,"indip"]
["",null,{"$f":"IF(ISERROR(VLOOKUP(B5431,database!$B$2:$C$6001,2,FALSE)),\"\",VLOOKUP(B5431,database!$B$2:$C$6001,2,FALSE))","v":""},null,null,null,"",null,null,null,{"$f":"IF(ISERROR(VLOOKUP(B5431,database!$B$2:$D$6001,3,FALSE)),\"\",VLOOKUP(B5431,database!$B$2:$D$6001,3,FALSE))","v":""},null,null,null,null,null,null,"",null,null,0,null,1,"indip"]
["",null,{"$f":"IF(ISERROR(VLOOKUP(B5436,database!$B$2:$C$6001,2,FALSE)),\"\",VLOOKUP(B5436,database!$B$2:$C$6001,2,FALSE))","v":""},null,null,null,"",null,null,null,{"$f":"IF(ISERROR(VLOOKUP(B5436,database!$B$2:$D$6001,3,FALSE)),\"\",VLOOKUP(B5436,database!$B$2:$D$6001,3,FALSE))","v":""},null,null,null,null,null,null,"",null,null,0,null,1,"indip"]
["",null,{"$f":"IF(ISERROR(VLOOKUP(B5441,database!$B$2:$C$6001,2,FALSE)),\"\",VLOOKUP(B5441,database!$B$2:$C$6001,2,FALSE))","v":""},null,null,null,"",null,null,null,{"$f":"IF(ISERROR(VLOOKUP(B5441,database!$B$2:$D$6001,3,FALSE)),\"\",VLOOKUP(B5441,database!$B$2:$D$6001,3,FALSE))","v":""},null,null,null,null,null,null,"",null,null,0,null,1,"indip"]
["",null,{"$f":"IF(ISERROR(VLOOKUP(B5446,database!$B$2:$C$6001,2,FALSE)),\"\",VLOOKUP(B5446,database!$B$2:$C$6001,2,FALSE))","v":""},null,null,null,"",null,null,null,{"$f":"IF(ISERROR(VLOOKUP(B5446,database!$B$2:$D$6001,3,FALSE)),\"\",VLOOKUP(B5446,database!$B$2:$D$6001,3,FALSE))","v":""},null,null,null,null,null,null,"",null,null,0,null,1,"indip"]
["",null,{"$f":"IF(ISERROR(VLOOKUP(B5451,database!$B$2:$C$6001,2,FALSE)),\"\",VLOOKUP(B5451,database!$B$2:$C$6001,2,FALSE))","v":""},null,null,null,"",null,null,null,{"$f":"IF(ISERROR(VLOOKUP(B5451,database!$B$2:$D$6001,3,FALSE)),\"\",VLOOKUP(B5451,database!$B$2:$D$6001,3,FALSE))","v":""},null,null,null,null,null,null,"",null,null,0,null,1,"indip"]
["",null,{"$f":"IF(ISERROR(VLOOKUP(B5457,database!$B$2:$C$6001,2,FALSE)),\"\",VLOOKUP(B5457,database!$B$2:$C$6001,2,FALSE))","v":""},null,null,null,"",null,null,null,{"$f":"IF(ISERROR(VLOOKUP(B5457,database!$B$2:$D$6001,3,FALSE)),\"\",VLOOKUP(B5457,database!$B$2:$D$6001,3,FALSE))","v":""},null,null,null,null,null,null,"",null,null,0,null,1,"indip"]
["",null,{"$f":"IF(ISERROR(VLOOKUP(B5460,database!$B$2:$C$6001,2,FALSE)),\"\",VLOOKUP(B5460,database!$B$2:$C$6001,2,FALSE))","v":""},null,null,null,"",null,null,null,{"$f":"IF(ISERROR(VLOOKUP(B5460,database!$B$2:$D$6001,3,FALSE)),\"\",VLOOKUP(B5460,database!$B$2:$D$6001,3,FALSE))","v":""},null,null,null,null,null,null,"",null,null,0,null,1,"indip"]
["",null,{"$f":"IF(ISERROR(VLOOKUP(B5466,database!$B$2:$C$6001,2,FALSE)),\"\",VLOOKUP(B5466,database!$B$2:$C$6001,2,FALSE))","v":""},null,null,null,"",null,null,null,{"$f":"IF(ISERROR(VLOOKUP(B5466,database!$B$2:$D$6001,3,FALSE)),\"\",VLOOKUP(B5466,database!$B$2:$D$6001,3,FALSE))","v":""},null,null,null,null,null,null,"",null,null,0,null,1,"indip"]
["",null,{"$f":"IF(ISERROR(VLOOKUP(B5472,database!$B$2:$C$6001,2,FALSE)),\"\",VLOOKUP(B5472,database!$B$2:$C$6001,2,FALSE))","v":""},null,null,null,"",null,null,null,{"$f":"IF(ISERROR(VLOOKUP(B5472,database!$B$2:$D$6001,3,FALSE)),\"\",VLOOKUP(B5472,database!$B$2:$D$6001,3,FALSE))","v":""},null,null,null,null,null,null,"",null,null,0,null,1,"indip"]
["",null,{"$f":"IF(ISERROR(VLOOKUP(B5477,database!$B$2:$C$6001,2,FALSE)),\"\",VLOOKUP(B5477,database!$B$2:$C$6001,2,FALSE))","v":""},null,null,null,"",null,null,null,{"$f":"IF(ISERROR(VLOOKUP(B5477,database!$B$2:$D$6001,3,FALSE)),\"\",VLOOKUP(B5477,database!$B$2:$D$6001,3,FALSE))","v":""},null,null,null,null,null,null,"",null,null,0,null,1,"indip"]
["",null,{"$f":"IF(ISERROR(VLOOKUP(B5479,database!$B$2:$C$6001,2,FALSE)),\"\",VLOOKUP(B5479,database!$B$2:$C$6001,2,FALSE))","v":""},null,null,null,"",null,null,null,{"$f":"IF(ISERROR(VLOOKUP(B5479,database!$B$2:$D$6001,3,FALSE)),\"\",VLOOKUP(B5479,database!$B$2:$D$6001,3,FALSE))","v":""},null,null,null,null,null,null,"",null,null,0,null,1,"indip"]
["",null,{"$f":"IF(ISERROR(VLOOKUP(B5482,database!$B$2:$C$6001,2,FALSE)),\"\",VLOOKUP(B5482,database!$B$2:$C$6001,2,FALSE))","v":""},null,null,null,"",null,null,null,{"$f":"IF(ISERROR(VLOOKUP(B5482,database!$B$2:$D$6001,3,FALSE)),\"\",VLOOKUP(B5482,database!$B$2:$D$6001,3,FALSE))","v":""},null,null,null,null,null,null,"",null,null,0,null,1,"indip"]
["",null,{"$f":"IF(ISERROR(VLOOKUP(B5487,database!$B$2:$C$6001,2,FALSE)),\"\",VLOOKUP(B5487,database!$B$2:$C$6001,2,FALSE))","v":""},null,null,null,"",null,null,null,{"$f":"IF(ISERROR(VLOOKUP(B5487,database!$B$2:$D$6001,3,FALSE)),\"\",VLOOKUP(B5487,database!$B$2:$D$6001,3,FALSE))","v":""},null,null,null,null,null,null,"",null,null,0,null,1,"indip"]
["",null,{"$f":"IF(ISERROR(VLOOKUP(B5493,database!$B$2:$C$6001,2,FALSE)),\"\",VLOOKUP(B5493,database!$B$2:$C$6001,2,FALSE))","v":""},null,null,null,"",null,null,null,{"$f":"IF(ISERROR(VLOOKUP(B5493,database!$B$2:$D$6001,3,FALSE)),\"\",VLOOKUP(B5493,database!$B$2:$D$6001,3,FALSE))","v":""},null,null,null,null,null,null,"",null,null,0,null,1,"indip"]
["",null,{"$f":"IF(ISERROR(VLOOKUP(B5498,database!$B$2:$C$6001,2,FALSE)),\"\",VLOOKUP(B5498,database!$B$2:$C$6001,2,FALSE))","v":""},null,null,null,"",null,null,null,{"$f":"IF(ISERROR(VLOOKUP(B5498,database!$B$2:$D$6001,3,FALSE)),\"\",VLOOKUP(B5498,database!$B$2:$D$6001,3,FALSE))","v":""},null,null,null,null,null,null,"",null,null,0,null,1,"indip"]
["",null,{"$f":"IF(ISERROR(VLOOKUP(B5504,database!$B$2:$C$6001,2,FALSE)),\"\",VLOOKUP(B5504,database!$B$2:$C$6001,2,FALSE))","v":""},null,null,null,"",null,null,null,{"$f":"IF(ISERROR(VLOOKUP(B5504,database!$B$2:$D$6001,3,FALSE)),\"\",VLOOKUP(B5504,database!$B$2:$D$6001,3,FALSE))","v":""},null,null,null,null,null,null,"",null,null,0,null,1,"indip"]
["",null,{"$f":"IF(ISERROR(VLOOKUP(B5508,database!$B$2:$C$6001,2,FALSE)),\"\",VLOOKUP(B5508,database!$B$2:$C$6001,2,FALSE))","v":""},null,null,null,"",null,null,null,{"$f":"IF(ISERROR(VLOOKUP(B5508,database!$B$2:$D$6001,3,FALSE)),\"\",VLOOKUP(B5508,database!$B$2:$D$6001,3,FALSE))","v":""},null,null,null,null,null,null,"",null,null,{"$f":"IFERROR(INDEX(M$39:N$140,MATCH(B5508,M$39:M$140,0),2),0)","v":0},null,{"$f":"IF(AND(U5508=0,C5508=\"\"),1,2)","v":1},{"$f":"IF(B5508=\"-\",\"\",IF(OR(B5508=M$39,B5508=M$40,B5508=M$41,B5508=M$42,B5508=M$43,B5508=M$44,B5508=M$45,B5508=M$46,B5508=M$47,,B5508=M$50,B5508=M$51,B5508=M$52,B5508=M$53,B5508=M$54,B5508=M$55,B5508=M$56,B5508=M$57,B5508=M$70),\"\",IF(C5508=\"\",\"indip\",F5508)))","v":"indip"}]
["",null,{"$f":"IF(ISERROR(VLOOKUP(B5513,database!$B$2:$C$6001,2,FALSE)),\"\",VLOOKUP(B5513,database!$B$2:$C$6001,2,FALSE))","v":""},null,null,null,"",null,null,null,{"$f":"IF(ISERROR(VLOOKUP(B5513,database!$B$2:$D$6001,3,FALSE)),\"\",VLOOKUP(B5513,database!$B$2:$D$6001,3,FALSE))","v":""},null,null,null,null,null,null,"",null,null,0,null,1,"indip"]
["",null,{"$f":"IF(ISERROR(VLOOKUP(B5519,database!$B$2:$C$6001,2,FALSE)),\"\",VLOOKUP(B5519,database!$B$2:$C$6001,2,FALSE))","v":""},null,null,null,"",null,null,null,{"$f":"IF(ISERROR(VLOOKUP(B5519,database!$B$2:$D$6001,3,FALSE)),\"\",VLOOKUP(B5519,database!$B$2:$D$6001,3,FALSE))","v":""},null,null,null,null,null,null,"",null,null,0,null,1,"indip"]
["",null,{"$f":"IF(ISERROR(VLOOKUP(B5523,database!$B$2:$C$6001,2,FALSE)),\"\",VLOOKUP(B5523,database!$B$2:$C$6001,2,FALSE))","v":""},null,null,null,"",null,null,null,{"$f":"IF(ISERROR(VLOOKUP(B5523,database!$B$2:$D$6001,3,FALSE)),\"\",VLOOKUP(B5523,database!$B$2:$D$6001,3,FALSE))","v":""},null,null,null,null,null,null,"",null,null,0,null,1,"indip"]
["",null,{"$f":"IF(ISERROR(VLOOKUP(B5528,database!$B$2:$C$6001,2,FALSE)),\"\",VLOOKUP(B5528,database!$B$2:$C$6001,2,FALSE))","v":""},null,null,null,"",null,null,null,{"$f":"IF(ISERROR(VLOOKUP(B5528,database!$B$2:$D$6001,3,FALSE)),\"\",VLOOKUP(B5528,database!$B$2:$D$6001,3,FALSE))","v":""},null,null,null,null,null,null,"",null,null,0,null,1,"indip"]
["",null,{"$f":"IF(ISERROR(VLOOKUP(B5534,database!$B$2:$C$6001,2,FALSE)),\"\",VLOOKUP(B5534,database!$B$2:$C$6001,2,FALSE))","v":""},null,null,null,"",null,null,null,{"$f":"IF(ISERROR(VLOOKUP(B5534,database!$B$2:$D$6001,3,FALSE)),\"\",VLOOKUP(B5534,database!$B$2:$D$6001,3,FALSE))","v":""},null,null,null,null,null,null,"",null,null,0,null,1,"indip"]
["",null,{"$f":"IF(ISERROR(VLOOKUP(B5539,database!$B$2:$C$6001,2,FALSE)),\"\",VLOOKUP(B5539,database!$B$2:$C$6001,2,FALSE))","v":""},null,null,null,"",null,null,null,{"$f":"IF(ISERROR(VLOOKUP(B5539,database!$B$2:$D$6001,3,FALSE)),\"\",VLOOKUP(B5539,database!$B$2:$D$6001,3,FALSE))","v":""},null,null,null,null,null,null,"",null,null,0,null,1,"indip"]
["",null,{"$f":"IF(ISERROR(VLOOKUP(B5542,database!$B$2:$C$6001,2,FALSE)),\"\",VLOOKUP(B5542,database!$B$2:$C$6001,2,FALSE))","v":""},null,null,null,"",null,null,null,{"$f":"IF(ISERROR(VLOOKUP(B5542,database!$B$2:$D$6001,3,FALSE)),\"\",VLOOKUP(B5542,database!$B$2:$D$6001,3,FALSE))","v":""},null,null,null,null,null,null,"",null,null,0,null,1,"indip"]
["",null,{"$f":"IF(ISERROR(VLOOKUP(B5544,database!$B$2:$C$6001,2,FALSE)),\"\",VLOOKUP(B5544,database!$B$2:$C$6001,2,FALSE))","v":""},null,null,null,"",null,null,null,{"$f":"IF(ISERROR(VLOOKUP(B5544,database!$B$2:$D$6001,3,FALSE)),\"\",VLOOKUP(B5544,database!$B$2:$D$6001,3,FALSE))","v":""},null,null,null,null,null,null,"",null,null,0,null,1,"indip"]
["",null,{"$f":"IF(ISERROR(VLOOKUP(B5549,database!$B$2:$C$6001,2,FALSE)),\"\",VLOOKUP(B5549,database!$B$2:$C$6001,2,FALSE))","v":""},null,null,null,"",null,null,null,{"$f":"IF(ISERROR(VLOOKUP(B5549,database!$B$2:$D$6001,3,FALSE)),\"\",VLOOKUP(B5549,database!$B$2:$D$6001,3,FALSE))","v":""},null,null,null,null,null,null,"",null,null,0,null,1,"indip"]
["",null,{"$f":"IF(ISERROR(VLOOKUP(B5555,database!$B$2:$C$6001,2,FALSE)),\"\",VLOOKUP(B5555,database!$B$2:$C$6001,2,FALSE))","v":""},null,null,null,"",null,null,null,{"$f":"IF(ISERROR(VLOOKUP(B5555,database!$B$2:$D$6001,3,FALSE)),\"\",VLOOKUP(B5555,database!$B$2:$D$6001,3,FALSE))","v":""},null,null,null,null,null,null,"",null,null,0,null,1,"indip"]
["",null,{"$f":"IF(ISERROR(VLOOKUP(B5561,database!$B$2:$C$6001,2,FALSE)),\"\",VLOOKUP(B5561,database!$B$2:$C$6001,2,FALSE))","v":""},null,null,null,"",null,null,null,{"$f":"IF(ISERROR(VLOOKUP(B5561,database!$B$2:$D$6001,3,FALSE)),\"\",VLOOKUP(B5561,database!$B$2:$D$6001,3,FALSE))","v":""},null,null,null,null,null,null,"",null,null,0,null,1,"indip"]
["",null,{"$f":"IF(ISERROR(VLOOKUP(B5564,database!$B$2:$C$6001,2,FALSE)),\"\",VLOOKUP(B5564,database!$B$2:$C$6001,2,FALSE))","v":""},null,null,null,"",null,null,null,{"$f":"IF(ISERROR(VLOOKUP(B5564,database!$B$2:$D$6001,3,FALSE)),\"\",VLOOKUP(B5564,database!$B$2:$D$6001,3,FALSE))","v":""},null,null,null,null,null,null,"",null,null,0,null,1,"indip"]
["",null,{"$f":"IF(ISERROR(VLOOKUP(B5570,database!$B$2:$C$6001,2,FALSE)),\"\",VLOOKUP(B5570,database!$B$2:$C$6001,2,FALSE))","v":""},null,null,null,"",null,null,null,{"$f":"IF(ISERROR(VLOOKUP(B5570,database!$B$2:$D$6001,3,FALSE)),\"\",VLOOKUP(B5570,database!$B$2:$D$6001,3,FALSE))","v":""},null,null,null,null,null,null,"",null,null,0,null,1,"indip"]
["",null,{"$f":"IF(ISERROR(VLOOKUP(B5575,database!$B$2:$C$6001,2,FALSE)),\"\",VLOOKUP(B5575,database!$B$2:$C$6001,2,FALSE))","v":""},null,null,null,"",null,null,null,{"$f":"IF(ISERROR(VLOOKUP(B5575,database!$B$2:$D$6001,3,FALSE)),\"\",VLOOKUP(B5575,database!$B$2:$D$6001,3,FALSE))","v":""},null,null,null,null,null,null,"",null,null,0,null,1,"indip"]
["",null,{"$f":"IF(ISERROR(VLOOKUP(B5581,database!$B$2:$C$6001,2,FALSE)),\"\",VLOOKUP(B5581,database!$B$2:$C$6001,2,FALSE))","v":""},null,null,null,"",null,null,null,{"$f":"IF(ISERROR(VLOOKUP(B5581,database!$B$2:$D$6001,3,FALSE)),\"\",VLOOKUP(B5581,database!$B$2:$D$6001,3,FALSE))","v":""},null,null,null,null,null,null,"",null,null,0,null,1,"indip"]
["",null,{"$f":"IF(ISERROR(VLOOKUP(B5586,database!$B$2:$C$6001,2,FALSE)),\"\",VLOOKUP(B5586,database!$B$2:$C$6001,2,FALSE))","v":""},null,null,null,"",null,null,null,{"$f":"IF(ISERROR(VLOOKUP(B5586,database!$B$2:$D$6001,3,FALSE)),\"\",VLOOKUP(B5586,database!$B$2:$D$6001,3,FALSE))","v":""},null,null,null,null,null,null,"",null,null,0,null,1,"indip"]
["",null,{"$f":"IF(ISERROR(VLOOKUP(B5590,database!$B$2:$C$6001,2,FALSE)),\"\",VLOOKUP(B5590,database!$B$2:$C$6001,2,FALSE))","v":""},null,null,null,"",null,null,null,{"$f":"IF(ISERROR(VLOOKUP(B5590,database!$B$2:$D$6001,3,FALSE)),\"\",VLOOKUP(B5590,database!$B$2:$D$6001,3,FALSE))","v":""},null,null,null,null,null,null,"",null,null,0,null,1,"indip"]
["",null,{"$f":"IF(ISERROR(VLOOKUP(B5596,database!$B$2:$C$6001,2,FALSE)),\"\",VLOOKUP(B5596,database!$B$2:$C$6001,2,FALSE))","v":""},null,null,null,"",null,null,null,{"$f":"IF(ISERROR(VLOOKUP(B5596,database!$B$2:$D$6001,3,FALSE)),\"\",VLOOKUP(B5596,database!$B$2:$D$6001,3,FALSE))","v":""},null,null,null,null,null,null,"",null,null,0,null,1,"indip"]
["",null,{"$f":"IF(ISERROR(VLOOKUP(B5601,database!$B$2:$C$6001,2,FALSE)),\"\",VLOOKUP(B5601,database!$B$2:$C$6001,2,FALSE))","v":""},null,null,null,"",null,null,null,{"$f":"IF(ISERROR(VLOOKUP(B5601,database!$B$2:$D$6001,3,FALSE)),\"\",VLOOKUP(B5601,database!$B$2:$D$6001,3,FALSE))","v":""},null,null,null,null,null,null,"",null,null,0,null,1,"indip"]
["",null,{"$f":"IF(ISERROR(VLOOKUP(B5605,database!$B$2:$C$6001,2,FALSE)),\"\",VLOOKUP(B5605,database!$B$2:$C$6001,2,FALSE))","v":""},null,null,null,"",null,null,null,{"$f":"IF(ISERROR(VLOOKUP(B5605,database!$B$2:$D$6001,3,FALSE)),\"\",VLOOKUP(B5605,database!$B$2:$D$6001,3,FALSE))","v":""},null,null,null,null,null,null,"",null,null,0,null,1,"indip"]
["",null,{"$f":"IF(ISERROR(VLOOKUP(B5606,database!$B$2:$C$6001,2,FALSE)),\"\",VLOOKUP(B5606,database!$B$2:$C$6001,2,FALSE))","v":""},null,null,null,"",null,null,null,{"$f":"IF(ISERROR(VLOOKUP(B5606,database!$B$2:$D$6001,3,FALSE)),\"\",VLOOKUP(B5606,database!$B$2:$D$6001,3,FALSE))","v":""},null,null,null,null,null,null,"",null,null,0,null,1,"indip"]
["",null,{"$f":"IF(ISERROR(VLOOKUP(B5611,database!$B$2:$C$6001,2,FALSE)),\"\",VLOOKUP(B5611,database!$B$2:$C$6001,2,FALSE))","v":""},null,null,null,"",null,null,null,{"$f":"IF(ISERROR(VLOOKUP(B5611,database!$B$2:$D$6001,3,FALSE)),\"\",VLOOKUP(B5611,database!$B$2:$D$6001,3,FALSE))","v":""},null,null,null,null,null,null,"",null,null,0,null,1,"indip"]
["",null,{"$f":"IF(ISERROR(VLOOKUP(B5617,database!$B$2:$C$6001,2,FALSE)),\"\",VLOOKUP(B5617,database!$B$2:$C$6001,2,FALSE))","v":""},null,null,null,"",null,null,null,{"$f":"IF(ISERROR(VLOOKUP(B5617,database!$B$2:$D$6001,3,FALSE)),\"\",VLOOKUP(B5617,database!$B$2:$D$6001,3,FALSE))","v":""},null,null,null,null,null,null,"",null,null,0,null,1,"indip"]
["",null,{"$f":"IF(ISERROR(VLOOKUP(B5624,database!$B$2:$C$6001,2,FALSE)),\"\",VLOOKUP(B5624,database!$B$2:$C$6001,2,FALSE))","v":""},null,null,null,"",null,null,null,{"$f":"IF(ISERROR(VLOOKUP(B5624,database!$B$2:$D$6001,3,FALSE)),\"\",VLOOKUP(B5624,database!$B$2:$D$6001,3,FALSE))","v":""},null,null,null,null,null,null,"",null,null,0,null,1,"indip"]
["",null,{"$f":"IF(ISERROR(VLOOKUP(B5626,database!$B$2:$C$6001,2,FALSE)),\"\",VLOOKUP(B5626,database!$B$2:$C$6001,2,FALSE))","v":""},null,null,null,"",null,null,null,{"$f":"IF(ISERROR(VLOOKUP(B5626,database!$B$2:$D$6001,3,FALSE)),\"\",VLOOKUP(B5626,database!$B$2:$D$6001,3,FALSE))","v":""},null,null,null,null,null,null,"",null,null,0,null,1,"indip"]
["",null,{"$f":"IF(ISERROR(VLOOKUP(B5632,database!$B$2:$C$6001,2,FALSE)),\"\",VLOOKUP(B5632,database!$B$2:$C$6001,2,FALSE))","v":""},null,null,null,"",null,null,null,{"$f":"IF(ISERROR(VLOOKUP(B5632,database!$B$2:$D$6001,3,FALSE)),\"\",VLOOKUP(B5632,database!$B$2:$D$6001,3,FALSE))","v":""},null,null,null,null,null,null,"",null,null,0,null,1,"indip"]
[{"$f":"IF(B5637=\"\",\"\",ROW(A5634))","v":""},null,{"$f":"IF(ISERROR(VLOOKUP(B5637,database!$B$2:$C$6001,2,FALSE)),\"\",VLOOKUP(B5637,database!$B$2:$C$6001,2,FALSE))","v":""},null,null,null,{"$f":"IF(B5637=\"\",\"\",IF(B5637=\"-\",0,IF(W5637=1,1,IF(AND(U5637=0,F5637=\"SSB\"),2,IF(AND(U5637=0,F5637=\"DIGI\"),3,IF(AND(U5637=0,F5637=\"CW\"),5,U5637))))))","v":""},null,null,null,{"$f":"IF(ISERROR(VLOOKUP(B5637,database!$B$2:$D$6001,3,FALSE)),\"\",VLOOKUP(B5637,database!$B$2:$D$6001,3,FALSE))","v":""},null,null,null,null,null,null,{"$f":"LEFT(C5637,2)","v":""},null,null,0,null,1,"indip"]
["",null,{"$f":"IF(ISERROR(VLOOKUP(B5643,database!$B$2:$C$6001,2,FALSE)),\"\",VLOOKUP(B5643,database!$B$2:$C$6001,2,FALSE))","v":""},null,null,null,"",null,null,null,{"$f":"IF(ISERROR(VLOOKUP(B5643,database!$B$2:$D$6001,3,FALSE)),\"\",VLOOKUP(B5643,database!$B$2:$D$6001,3,FALSE))","v":""},null,null,null,null,null,null,"",null,null,0,null,1,"indip"]
["",null,{"$f":"IF(ISERROR(VLOOKUP(B5647,database!$B$2:$C$6001,2,FALSE)),\"\",VLOOKUP(B5647,database!$B$2:$C$6001,2,FALSE))","v":""},null,null,null,"",null,null,null,{"$f":"IF(ISERROR(VLOOKUP(B5647,database!$B$2:$D$6001,3,FALSE)),\"\",VLOOKUP(B5647,database!$B$2:$D$6001,3,FALSE))","v":""},null,null,null,null,null,null,"",null,null,0,null,1,"indip"]
["",null,{"$f":"IF(ISERROR(VLOOKUP(B5652,database!$B$2:$C$6001,2,FALSE)),\"\",VLOOKUP(B5652,database!$B$2:$C$6001,2,FALSE))","v":""},null,null,null,"",null,null,null,{"$f":"IF(ISERROR(VLOOKUP(B5652,database!$B$2:$D$6001,3,FALSE)),\"\",VLOOKUP(B5652,database!$B$2:$D$6001,3,FALSE))","v":""},null,null,null,null,null,null,"",null,null,0,null,1,"indip"]
["",null,{"$f":"IF(ISERROR(VLOOKUP(B5658,database!$B$2:$C$6001,2,FALSE)),\"\",VLOOKUP(B5658,database!$B$2:$C$6001,2,FALSE))","v":""},null,null,null,"",null,null,null,{"$f":"IF(ISERROR(VLOOKUP(B5658,database!$B$2:$D$6001,3,FALSE)),\"\",VLOOKUP(B5658,database!$B$2:$D$6001,3,FALSE))","v":""},null,null,null,null,null,null,"",null,null,0,null,1,"indip"]
["",null,{"$f":"IF(ISERROR(VLOOKUP(B5662,database!$B$2:$C$6001,2,FALSE)),\"\",VLOOKUP(B5662,database!$B$2:$C$6001,2,FALSE))","v":""},null,null,null,"",null,null,null,{"$f":"IF(ISERROR(VLOOKUP(B5662,database!$B$2:$D$6001,3,FALSE)),\"\",VLOOKUP(B5662,database!$B$2:$D$6001,3,FALSE))","v":""},null,null,null,null,null,null,"",null,null,0,null,1,"indip"]
["",null,{"$f":"IF(ISERROR(VLOOKUP(B5667,database!$B$2:$C$6001,2,FALSE)),\"\",VLOOKUP(B5667,database!$B$2:$C$6001,2,FALSE))","v":""},null,null,null,"",null,null,null,{"$f":"IF(ISERROR(VLOOKUP(B5667,database!$B$2:$D$6001,3,FALSE)),\"\",VLOOKUP(B5667,database!$B$2:$D$6001,3,FALSE))","v":""},null,null,null,null,null,null,"",null,null,0,null,1,"indip"]
["",null,{"$f":"IF(ISERROR(VLOOKUP(B5668,database!$B$2:$C$6001,2,FALSE)),\"\",VLOOKUP(B5668,database!$B$2:$C$6001,2,FALSE))","v":""},null,null,null,"",null,null,null,{"$f":"IF(ISERROR(VLOOKUP(B5668,database!$B$2:$D$6001,3,FALSE)),\"\",VLOOKUP(B5668,database!$B$2:$D$6001,3,FALSE))","v":""},null,null,null,null,null,null,"",null,null,0,null,1,"indip"]
["",null,{"$f":"IF(ISERROR(VLOOKUP(B5673,database!$B$2:$C$6001,2,FALSE)),\"\",VLOOKUP(B5673,database!$B$2:$C$6001,2,FALSE))","v":""},null,null,null,"",null,null,null,{"$f":"IF(ISERROR(VLOOKUP(B5673,database!$B$2:$D$6001,3,FALSE)),\"\",VLOOKUP(B5673,database!$B$2:$D$6001,3,FALSE))","v":""},null,null,null,null,null,null,"",null,null,0,null,1,"indip"]
["",null,{"$f":"IF(ISERROR(VLOOKUP(B5679,database!$B$2:$C$6001,2,FALSE)),\"\",VLOOKUP(B5679,database!$B$2:$C$6001,2,FALSE))","v":""},null,null,null,"",null,null,null,{"$f":"IF(ISERROR(VLOOKUP(B5679,database!$B$2:$D$6001,3,FALSE)),\"\",VLOOKUP(B5679,database!$B$2:$D$6001,3,FALSE))","v":""},null,null,null,null,null,null,"",null,null,0,null,1,"indip"]
["",null,{"$f":"IF(ISERROR(VLOOKUP(B5683,database!$B$2:$C$6001,2,FALSE)),\"\",VLOOKUP(B5683,database!$B$2:$C$6001,2,FALSE))","v":""},null,null,null,"",null,null,null,{"$f":"IF(ISERROR(VLOOKUP(B5683,database!$B$2:$D$6001,3,FALSE)),\"\",VLOOKUP(B5683,database!$B$2:$D$6001,3,FALSE))","v":""},null,null,null,null,null,null,"",null,null,0,null,1,"indip"]
["",null,{"$f":"IF(ISERROR(VLOOKUP(B5688,database!$B$2:$C$6001,2,FALSE)),\"\",VLOOKUP(B5688,database!$B$2:$C$6001,2,FALSE))","v":""},null,null,null,"",null,null,null,{"$f":"IF(ISERROR(VLOOKUP(B5688,database!$B$2:$D$6001,3,FALSE)),\"\",VLOOKUP(B5688,database!$B$2:$D$6001,3,FALSE))","v":""},null,null,null,null,null,null,"",null,null,0,null,1,"indip"]
["",null,{"$f":"IF(ISERROR(VLOOKUP(B5694,database!$B$2:$C$6001,2,FALSE)),\"\",VLOOKUP(B5694,database!$B$2:$C$6001,2,FALSE))","v":""},null,null,null,"",null,null,null,{"$f":"IF(ISERROR(VLOOKUP(B5694,database!$B$2:$D$6001,3,FALSE)),\"\",VLOOKUP(B5694,database!$B$2:$D$6001,3,FALSE))","v":""},null,null,null,null,null,null,"",null,null,0,null,1,"indip"]
["",null,{"$f":"IF(ISERROR(VLOOKUP(B5699,database!$B$2:$C$6001,2,FALSE)),\"\",VLOOKUP(B5699,database!$B$2:$C$6001,2,FALSE))","v":""},null,null,null,"",null,null,null,{"$f":"IF(ISERROR(VLOOKUP(B5699,database!$B$2:$D$6001,3,FALSE)),\"\",VLOOKUP(B5699,database!$B$2:$D$6001,3,FALSE))","v":""},null,null,null,null,null,null,"",null,null,0,null,1,"indip"]
["",null,{"$f":"IF(ISERROR(VLOOKUP(B5702,database!$B$2:$C$6001,2,FALSE)),\"\",VLOOKUP(B5702,database!$B$2:$C$6001,2,FALSE))","v":""},null,null,null,"",null,null,null,{"$f":"IF(ISERROR(VLOOKUP(B5702,database!$B$2:$D$6001,3,FALSE)),\"\",VLOOKUP(B5702,database!$B$2:$D$6001,3,FALSE))","v":""},null,null,null,null,null,null,"",null,null,0,null,1,"indip"]
["",null,{"$f":"IF(ISERROR(VLOOKUP(B5709,database!$B$2:$C$6001,2,FALSE)),\"\",VLOOKUP(B5709,database!$B$2:$C$6001,2,FALSE))","v":""},null,null,null,"",null,null,null,{"$f":"IF(ISERROR(VLOOKUP(B5709,database!$B$2:$D$6001,3,FALSE)),\"\",VLOOKUP(B5709,database!$B$2:$D$6001,3,FALSE))","v":""},null,null,null,null,null,null,"",null,null,0,null,1,"indip"]
["",null,{"$f":"IF(ISERROR(VLOOKUP(B5714,database!$B$2:$C$6001,2,FALSE)),\"\",VLOOKUP(B5714,database!$B$2:$C$6001,2,FALSE))","v":""},null,null,null,"",null,null,null,{"$f":"IF(ISERROR(VLOOKUP(B5714,database!$B$2:$D$6001,3,FALSE)),\"\",VLOOKUP(B5714,database!$B$2:$D$6001,3,FALSE))","v":""},null,null,null,null,null,null,"",null,null,0,null,1,"indip"]
["",null,{"$f":"IF(ISERROR(VLOOKUP(B5720,database!$B$2:$C$6001,2,FALSE)),\"\",VLOOKUP(B5720,database!$B$2:$C$6001,2,FALSE))","v":""},null,null,null,"",null,null,null,{"$f":"IF(ISERROR(VLOOKUP(B5720,database!$B$2:$D$6001,3,FALSE)),\"\",VLOOKUP(B5720,database!$B$2:$D$6001,3,FALSE))","v":""},null,null,null,null,null,null,"",null,null,0,null,1,"indip"]
["",null,{"$f":"IF(ISERROR(VLOOKUP(B5721,database!$B$2:$C$6001,2,FALSE)),\"\",VLOOKUP(B5721,database!$B$2:$C$6001,2,FALSE))","v":""},null,null,null,"",null,null,null,{"$f":"IF(ISERROR(VLOOKUP(B5721,database!$B$2:$D$6001,3,FALSE)),\"\",VLOOKUP(B5721,database!$B$2:$D$6001,3,FALSE))","v":""},null,null,null,null,null,null,"",null,null,0,null,1,"indip"]
["",null,{"$f":"IF(ISERROR(VLOOKUP(B5729,database!$B$2:$C$6001,2,FALSE)),\"\",VLOOKUP(B5729,database!$B$2:$C$6001,2,FALSE))","v":""},null,null,null,"",null,null,null,{"$f":"IF(ISERROR(VLOOKUP(B5729,database!$B$2:$D$6001,3,FALSE)),\"\",VLOOKUP(B5729,database!$B$2:$D$6001,3,FALSE))","v":""},null,null,null,null,null,null,"",null,null,0,null,1,"indip"]
["",null,{"$f":"IF(ISERROR(VLOOKUP(B5730,database!$B$2:$C$6001,2,FALSE)),\"\",VLOOKUP(B5730,database!$B$2:$C$6001,2,FALSE))","v":""},null,null,null,"",null,null,null,{"$f":"IF(ISERROR(VLOOKUP(B5730,database!$B$2:$D$6001,3,FALSE)),\"\",VLOOKUP(B5730,database!$B$2:$D$6001,3,FALSE))","v":""},null,null,null,null,null,null,"",null,null,0,null,1,"indip"]
["",null,{"$f":"IF(ISERROR(VLOOKUP(B5735,database!$B$2:$C$6001,2,FALSE)),\"\",VLOOKUP(B5735,database!$B$2:$C$6001,2,FALSE))","v":""},null,null,null,"",null,null,null,{"$f":"IF(ISERROR(VLOOKUP(B5735,database!$B$2:$D$6001,3,FALSE)),\"\",VLOOKUP(B5735,database!$B$2:$D$6001,3,FALSE))","v":""},null,null,null,null,null,null,"",null,null,0,null,1,"indip"]
["",null,{"$f":"IF(ISERROR(VLOOKUP(B5740,database!$B$2:$C$6001,2,FALSE)),\"\",VLOOKUP(B5740,database!$B$2:$C$6001,2,FALSE))","v":""},null,null,null,"",null,null,null,{"$f":"IF(ISERROR(VLOOKUP(B5740,database!$B$2:$D$6001,3,FALSE)),\"\",VLOOKUP(B5740,database!$B$2:$D$6001,3,FALSE))","v":""},null,null,null,null,null,null,"",null,null,0,null,1,"indip"]
["",null,{"$f":"IF(ISERROR(VLOOKUP(B5745,database!$B$2:$C$6001,2,FALSE)),\"\",VLOOKUP(B5745,database!$B$2:$C$6001,2,FALSE))","v":""},null,null,null,"",null,null,null,{"$f":"IF(ISERROR(VLOOKUP(B5745,database!$B$2:$D$6001,3,FALSE)),\"\",VLOOKUP(B5745,database!$B$2:$D$6001,3,FALSE))","v":""},null,null,null,null,null,null,"",null,null,0,null,1,"indip"]
["",null,{"$f":"IF(ISERROR(VLOOKUP(B5750,database!$B$2:$C$6001,2,FALSE)),\"\",VLOOKUP(B5750,database!$B$2:$C$6001,2,FALSE))","v":""},null,null,null,"",null,null,null,{"$f":"IF(ISERROR(VLOOKUP(B5750,database!$B$2:$D$6001,3,FALSE)),\"\",VLOOKUP(B5750,database!$B$2:$D$6001,3,FALSE))","v":""},null,null,null,null,null,null,"",null,null,0,null,1,"indip"]
["",null,{"$f":"IF(ISERROR(VLOOKUP(B5756,database!$B$2:$C$6001,2,FALSE)),\"\",VLOOKUP(B5756,database!$B$2:$C$6001,2,FALSE))","v":""},null,null,null,"",null,null,null,{"$f":"IF(ISERROR(VLOOKUP(B5756,database!$B$2:$D$6001,3,FALSE)),\"\",VLOOKUP(B5756,database!$B$2:$D$6001,3,FALSE))","v":""},null,null,null,null,null,null,"",null,null,0,null,1,"indip"]
["",null,{"$f":"IF(ISERROR(VLOOKUP(B5761,database!$B$2:$C$6001,2,FALSE)),\"\",VLOOKUP(B5761,database!$B$2:$C$6001,2,FALSE))","v":""},null,null,null,"",null,null,null,{"$f":"IF(ISERROR(VLOOKUP(B5761,database!$B$2:$D$6001,3,FALSE)),\"\",VLOOKUP(B5761,database!$B$2:$D$6001,3,FALSE))","v":""},null,null,null,null,null,null,"",null,null,0,null,1,"indip"]
["",null,{"$f":"IF(ISERROR(VLOOKUP(B5764,database!$B$2:$C$6001,2,FALSE)),\"\",VLOOKUP(B5764,database!$B$2:$C$6001,2,FALSE))","v":""},null,null,null,"",null,null,null,{"$f":"IF(ISERROR(VLOOKUP(B5764,database!$B$2:$D$6001,3,FALSE)),\"\",VLOOKUP(B5764,database!$B$2:$D$6001,3,FALSE))","v":""},null,null,null,null,null,null,"",null,null,{"$f":"IFERROR(INDEX(M$39:N$140,MATCH(B5764,M$39:M$140,0),2),0)","v":0},null,{"$f":"IF(AND(U5764=0,C5764=\"\"),1,2)","v":1},{"$f":"IF(B5764=\"-\",\"\",IF(OR(B5764=M$39,B5764=M$40,B5764=M$41,B5764=M$42,B5764=M$43,B5764=M$44,B5764=M$45,B5764=M$46,B5764=M$47,,B5764=M$50,B5764=M$51,B5764=M$52,B5764=M$53,B5764=M$54,B5764=M$55,B5764=M$56,B5764=M$57,B5764=M$70),\"\",IF(C5764=\"\",\"indip\",F5764)))","v":"indip"}]
[{"$f":"IF(B5765=\"\",\"\",ROW(A5762))","v":""},null,{"$f":"IF(ISERROR(VLOOKUP(B5765,database!$B$2:$C$6001,2,FALSE)),\"\",VLOOKUP(B5765,database!$B$2:$C$6001,2,FALSE))","v":""},null,null,null,{"$f":"IF(B5765=\"\",\"\",IF(B5765=\"-\",0,IF(W5765=1,1,IF(AND(U5765=0,F5765=\"SSB\"),2,IF(AND(U5765=0,F5765=\"DIGI\"),3,IF(AND(U5765=0,F5765=\"CW\"),5,U5765))))))","v":""},null,null,null,{"$f":"IF(ISERROR(VLOOKUP(B5765,database!$B$2:$D$6001,3,FALSE)),\"\",VLOOKUP(B5765,database!$B$2:$D$6001,3,FALSE))","v":""},null,null,null,null,null,null,{"$f":"LEFT(C5765,2)","v":""},null,null,0,null,1,"indip"]
["",null,{"$f":"IF(ISERROR(VLOOKUP(B5766,database!$B$2:$C$6001,2,FALSE)),\"\",VLOOKUP(B5766,database!$B$2:$C$6001,2,FALSE))","v":""},null,null,null,"",null,null,null,{"$f":"IF(ISERROR(VLOOKUP(B5766,database!$B$2:$D$6001,3,FALSE)),\"\",VLOOKUP(B5766,database!$B$2:$D$6001,3,FALSE))","v":""},null,null,null,null,null,null,"",null,null,0,null,1,"indip"]
["",null,{"$f":"IF(ISERROR(VLOOKUP(B5767,database!$B$2:$C$6001,2,FALSE)),\"\",VLOOKUP(B5767,database!$B$2:$C$6001,2,FALSE))","v":""},null,null,null,"",null,null,null,{"$f":"IF(ISERROR(VLOOKUP(B5767,database!$B$2:$D$6001,3,FALSE)),\"\",VLOOKUP(B5767,database!$B$2:$D$6001,3,FALSE))","v":""},null,null,null,null,null,null,"",null,null,0,null,1,"indip"]
["",null,{"$f":"IF(ISERROR(VLOOKUP(B5768,database!$B$2:$C$6001,2,FALSE)),\"\",VLOOKUP(B5768,database!$B$2:$C$6001,2,FALSE))","v":""},null,null,null,"",null,null,null,{"$f":"IF(ISERROR(VLOOKUP(B5768,database!$B$2:$D$6001,3,FALSE)),\"\",VLOOKUP(B5768,database!$B$2:$D$6001,3,FALSE))","v":""},null,null,null,null,null,null,"",null,null,0,null,1,"indip"]
["",null,{"$f":"IF(ISERROR(VLOOKUP(B5769,database!$B$2:$C$6001,2,FALSE)),\"\",VLOOKUP(B5769,database!$B$2:$C$6001,2,FALSE))","v":""},null,null,null,"",null,null,null,{"$f":"IF(ISERROR(VLOOKUP(B5769,database!$B$2:$D$6001,3,FALSE)),\"\",VLOOKUP(B5769,database!$B$2:$D$6001,3,FALSE))","v":""},null,null,null,null,null,null,"",null,null,0,null,1,"indip"]
["",null,{"$f":"IF(ISERROR(VLOOKUP(B5770,database!$B$2:$C$6001,2,FALSE)),\"\",VLOOKUP(B5770,database!$B$2:$C$6001,2,FALSE))","v":""},null,null,null,"",null,null,null,{"$f":"IF(ISERROR(VLOOKUP(B5770,database!$B$2:$D$6001,3,FALSE)),\"\",VLOOKUP(B5770,database!$B$2:$D$6001,3,FALSE))","v":""},null,null,null,null,null,null,"",null,null,0,null,1,"indip"]
["",null,{"$f":"IF(ISERROR(VLOOKUP(B5771,database!$B$2:$C$6001,2,FALSE)),\"\",VLOOKUP(B5771,database!$B$2:$C$6001,2,FALSE))","v":""},null,null,null,"",null,null,null,{"$f":"IF(ISERROR(VLOOKUP(B5771,database!$B$2:$D$6001,3,FALSE)),\"\",VLOOKUP(B5771,database!$B$2:$D$6001,3,FALSE))","v":""},null,null,null,null,null,null,"",null,null,0,null,1,"indip"]
["",null,{"$f":"IF(ISERROR(VLOOKUP(B5772,database!$B$2:$C$6001,2,FALSE)),\"\",VLOOKUP(B5772,database!$B$2:$C$6001,2,FALSE))","v":""},null,null,null,"",null,null,null,{"$f":"IF(ISERROR(VLOOKUP(B5772,database!$B$2:$D$6001,3,FALSE)),\"\",VLOOKUP(B5772,database!$B$2:$D$6001,3,FALSE))","v":""},null,null,null,null,null,null,"",null,null,0,null,1,"indip"]
["",null,{"$f":"IF(ISERROR(VLOOKUP(B5773,database!$B$2:$C$6001,2,FALSE)),\"\",VLOOKUP(B5773,database!$B$2:$C$6001,2,FALSE))","v":""},null,null,null,"",null,null,null,{"$f":"IF(ISERROR(VLOOKUP(B5773,database!$B$2:$D$6001,3,FALSE)),\"\",VLOOKUP(B5773,database!$B$2:$D$6001,3,FALSE))","v":""},null,null,null,null,null,null,"",null,null,0,null,1,"indip"]
["",null,{"$f":"IF(ISERROR(VLOOKUP(B5774,database!$B$2:$C$6001,2,FALSE)),\"\",VLOOKUP(B5774,database!$B$2:$C$6001,2,FALSE))","v":""},null,null,null,"",null,null,null,{"$f":"IF(ISERROR(VLOOKUP(B5774,database!$B$2:$D$6001,3,FALSE)),\"\",VLOOKUP(B5774,database!$B$2:$D$6001,3,FALSE))","v":""},null,null,null,null,null,null,"",null,null,0,null,1,"indip"]
["",null,{"$f":"IF(ISERROR(VLOOKUP(B5775,database!$B$2:$C$6001,2,FALSE)),\"\",VLOOKUP(B5775,database!$B$2:$C$6001,2,FALSE))","v":""},null,null,null,"",null,null,null,{"$f":"IF(ISERROR(VLOOKUP(B5775,database!$B$2:$D$6001,3,FALSE)),\"\",VLOOKUP(B5775,database!$B$2:$D$6001,3,FALSE))","v":""},null,null,null,null,null,null,"",null,null,0,null,1,"indip"]
["",null,{"$f":"IF(ISERROR(VLOOKUP(B5776,database!$B$2:$C$6001,2,FALSE)),\"\",VLOOKUP(B5776,database!$B$2:$C$6001,2,FALSE))","v":""},null,null,null,"",null,null,null,{"$f":"IF(ISERROR(VLOOKUP(B5776,database!$B$2:$D$6001,3,FALSE)),\"\",VLOOKUP(B5776,database!$B$2:$D$6001,3,FALSE))","v":""},null,null,null,null,null,null,"",null,null,0,null,1,"indip"]
["",null,{"$f":"IF(ISERROR(VLOOKUP(B5777,database!$B$2:$C$6001,2,FALSE)),\"\",VLOOKUP(B5777,database!$B$2:$C$6001,2,FALSE))","v":""},null,null,null,"",null,null,null,{"$f":"IF(ISERROR(VLOOKUP(B5777,database!$B$2:$D$6001,3,FALSE)),\"\",VLOOKUP(B5777,database!$B$2:$D$6001,3,FALSE))","v":""},null,null,null,null,null,null,"",null,null,0,null,1,"indip"]
["",null,{"$f":"IF(ISERROR(VLOOKUP(B5778,database!$B$2:$C$6001,2,FALSE)),\"\",VLOOKUP(B5778,database!$B$2:$C$6001,2,FALSE))","v":""},null,null,null,"",null,null,null,{"$f":"IF(ISERROR(VLOOKUP(B5778,database!$B$2:$D$6001,3,FALSE)),\"\",VLOOKUP(B5778,database!$B$2:$D$6001,3,FALSE))","v":""},null,null,null,null,null,null,"",null,null,0,null,1,"indip"]
["",null,{"$f":"IF(ISERROR(VLOOKUP(B5779,database!$B$2:$C$6001,2,FALSE)),\"\",VLOOKUP(B5779,database!$B$2:$C$6001,2,FALSE))","v":""},null,null,null,"",null,null,null,{"$f":"IF(ISERROR(VLOOKUP(B5779,database!$B$2:$D$6001,3,FALSE)),\"\",VLOOKUP(B5779,database!$B$2:$D$6001,3,FALSE))","v":""},null,null,null,null,null,null,"",null,null,0,null,1,"indip"]
["",null,{"$f":"IF(ISERROR(VLOOKUP(B5780,database!$B$2:$C$6001,2,FALSE)),\"\",VLOOKUP(B5780,database!$B$2:$C$6001,2,FALSE))","v":""},null,null,null,"",null,null,null,{"$f":"IF(ISERROR(VLOOKUP(B5780,database!$B$2:$D$6001,3,FALSE)),\"\",VLOOKUP(B5780,database!$B$2:$D$6001,3,FALSE))","v":""},null,null,null,null,null,null,"",null,null,0,null,1,"indip"]
["",null,{"$f":"IF(ISERROR(VLOOKUP(B5781,database!$B$2:$C$6001,2,FALSE)),\"\",VLOOKUP(B5781,database!$B$2:$C$6001,2,FALSE))","v":""},null,null,null,"",null,null,null,{"$f":"IF(ISERROR(VLOOKUP(B5781,database!$B$2:$D$6001,3,FALSE)),\"\",VLOOKUP(B5781,database!$B$2:$D$6001,3,FALSE))","v":""},null,null,null,null,null,null,"",null,null,0,null,1,"indip"]
["",null,{"$f":"IF(ISERROR(VLOOKUP(B5782,database!$B$2:$C$6001,2,FALSE)),\"\",VLOOKUP(B5782,database!$B$2:$C$6001,2,FALSE))","v":""},null,null,null,"",null,null,null,{"$f":"IF(ISERROR(VLOOKUP(B5782,database!$B$2:$D$6001,3,FALSE)),\"\",VLOOKUP(B5782,database!$B$2:$D$6001,3,FALSE))","v":""},null,null,null,null,null,null,"",null,null,0,null,1,"indip"]
["",null,{"$f":"IF(ISERROR(VLOOKUP(B5783,database!$B$2:$C$6001,2,FALSE)),\"\",VLOOKUP(B5783,database!$B$2:$C$6001,2,FALSE))","v":""},null,null,null,"",null,null,null,{"$f":"IF(ISERROR(VLOOKUP(B5783,database!$B$2:$D$6001,3,FALSE)),\"\",VLOOKUP(B5783,database!$B$2:$D$6001,3,FALSE))","v":""},null,null,null,null,null,null,"",null,null,0,null,1,"indip"]
["",null,{"$f":"IF(ISERROR(VLOOKUP(B5784,database!$B$2:$C$6001,2,FALSE)),\"\",VLOOKUP(B5784,database!$B$2:$C$6001,2,FALSE))","v":""},null,null,null,"",null,null,null,{"$f":"IF(ISERROR(VLOOKUP(B5784,database!$B$2:$D$6001,3,FALSE)),\"\",VLOOKUP(B5784,database!$B$2:$D$6001,3,FALSE))","v":""},null,null,null,null,null,null,"",null,null,0,null,1,"indip"]
["",null,{"$f":"IF(ISERROR(VLOOKUP(B5785,database!$B$2:$C$6001,2,FALSE)),\"\",VLOOKUP(B5785,database!$B$2:$C$6001,2,FALSE))","v":""},null,null,null,"",null,null,null,{"$f":"IF(ISERROR(VLOOKUP(B5785,database!$B$2:$D$6001,3,FALSE)),\"\",VLOOKUP(B5785,database!$B$2:$D$6001,3,FALSE))","v":""},null,null,null,null,null,null,"",null,null,0,null,1,"indip"]
["",null,{"$f":"IF(ISERROR(VLOOKUP(B5786,database!$B$2:$C$6001,2,FALSE)),\"\",VLOOKUP(B5786,database!$B$2:$C$6001,2,FALSE))","v":""},null,null,null,"",null,null,null,{"$f":"IF(ISERROR(VLOOKUP(B5786,database!$B$2:$D$6001,3,FALSE)),\"\",VLOOKUP(B5786,database!$B$2:$D$6001,3,FALSE))","v":""},null,null,null,null,null,null,"",null,null,0,null,1,"indip"]
["",null,{"$f":"IF(ISERROR(VLOOKUP(B5787,database!$B$2:$C$6001,2,FALSE)),\"\",VLOOKUP(B5787,database!$B$2:$C$6001,2,FALSE))","v":""},null,null,null,"",null,null,null,{"$f":"IF(ISERROR(VLOOKUP(B5787,database!$B$2:$D$6001,3,FALSE)),\"\",VLOOKUP(B5787,database!$B$2:$D$6001,3,FALSE))","v":""},null,null,null,null,null,null,"",null,null,0,null,1,"indip"]
["",null,{"$f":"IF(ISERROR(VLOOKUP(B5788,database!$B$2:$C$6001,2,FALSE)),\"\",VLOOKUP(B5788,database!$B$2:$C$6001,2,FALSE))","v":""},null,null,null,"",null,null,null,{"$f":"IF(ISERROR(VLOOKUP(B5788,database!$B$2:$D$6001,3,FALSE)),\"\",VLOOKUP(B5788,database!$B$2:$D$6001,3,FALSE))","v":""},null,null,null,null,null,null,"",null,null,0,null,1,"indip"]
["",null,{"$f":"IF(ISERROR(VLOOKUP(B5789,database!$B$2:$C$6001,2,FALSE)),\"\",VLOOKUP(B5789,database!$B$2:$C$6001,2,FALSE))","v":""},null,null,null,"",null,null,null,{"$f":"IF(ISERROR(VLOOKUP(B5789,database!$B$2:$D$6001,3,FALSE)),\"\",VLOOKUP(B5789,database!$B$2:$D$6001,3,FALSE))","v":""},null,null,null,null,null,null,"",null,null,0,null,1,"indip"]
["",null,{"$f":"IF(ISERROR(VLOOKUP(B5790,database!$B$2:$C$6001,2,FALSE)),\"\",VLOOKUP(B5790,database!$B$2:$C$6001,2,FALSE))","v":""},null,null,null,"",null,null,null,{"$f":"IF(ISERROR(VLOOKUP(B5790,database!$B$2:$D$6001,3,FALSE)),\"\",VLOOKUP(B5790,database!$B$2:$D$6001,3,FALSE))","v":""},null,null,null,null,null,null,"",null,null,0,null,1,"indip"]
["",null,{"$f":"IF(ISERROR(VLOOKUP(B5791,database!$B$2:$C$6001,2,FALSE)),\"\",VLOOKUP(B5791,database!$B$2:$C$6001,2,FALSE))","v":""},null,null,null,"",null,null,null,{"$f":"IF(ISERROR(VLOOKUP(B5791,database!$B$2:$D$6001,3,FALSE)),\"\",VLOOKUP(B5791,database!$B$2:$D$6001,3,FALSE))","v":""},null,null,null,null,null,null,"",null,null,0,null,1,"indip"]
["",null,{"$f":"IF(ISERROR(VLOOKUP(B5792,database!$B$2:$C$6001,2,FALSE)),\"\",VLOOKUP(B5792,database!$B$2:$C$6001,2,FALSE))","v":""},null,null,null,"",null,null,null,{"$f":"IF(ISERROR(VLOOKUP(B5792,database!$B$2:$D$6001,3,FALSE)),\"\",VLOOKUP(B5792,database!$B$2:$D$6001,3,FALSE))","v":""},null,null,null,null,null,null,"",null,null,0,null,1,"indip"]
["",null,{"$f":"IF(ISERROR(VLOOKUP(B5793,database!$B$2:$C$6001,2,FALSE)),\"\",VLOOKUP(B5793,database!$B$2:$C$6001,2,FALSE))","v":""},null,null,null,"",null,null,null,{"$f":"IF(ISERROR(VLOOKUP(B5793,database!$B$2:$D$6001,3,FALSE)),\"\",VLOOKUP(B5793,database!$B$2:$D$6001,3,FALSE))","v":""},null,null,null,null,null,null,"",null,null,0,null,1,"indip"]
["",null,{"$f":"IF(ISERROR(VLOOKUP(B5794,database!$B$2:$C$6001,2,FALSE)),\"\",VLOOKUP(B5794,database!$B$2:$C$6001,2,FALSE))","v":""},null,null,null,"",null,null,null,{"$f":"IF(ISERROR(VLOOKUP(B5794,database!$B$2:$D$6001,3,FALSE)),\"\",VLOOKUP(B5794,database!$B$2:$D$6001,3,FALSE))","v":""},null,null,null,null,null,null,"",null,null,0,null,1,"indip"]
["",null,{"$f":"IF(ISERROR(VLOOKUP(B5795,database!$B$2:$C$6001,2,FALSE)),\"\",VLOOKUP(B5795,database!$B$2:$C$6001,2,FALSE))","v":""},null,null,null,"",null,null,null,{"$f":"IF(ISERROR(VLOOKUP(B5795,database!$B$2:$D$6001,3,FALSE)),\"\",VLOOKUP(B5795,database!$B$2:$D$6001,3,FALSE))","v":""},null,null,null,null,null,null,"",null,null,0,null,1,"indip"]
["",null,{"$f":"IF(ISERROR(VLOOKUP(B5796,database!$B$2:$C$6001,2,FALSE)),\"\",VLOOKUP(B5796,database!$B$2:$C$6001,2,FALSE))","v":""},null,null,null,"",null,null,null,{"$f":"IF(ISERROR(VLOOKUP(B5796,database!$B$2:$D$6001,3,FALSE)),\"\",VLOOKUP(B5796,database!$B$2:$D$6001,3,FALSE))","v":""},null,null,null,null,null,null,"",null,null,0,null,1,"indip"]
["",null,{"$f":"IF(ISERROR(VLOOKUP(B5797,database!$B$2:$C$6001,2,FALSE)),\"\",VLOOKUP(B5797,database!$B$2:$C$6001,2,FALSE))","v":""},null,null,null,"",null,null,null,{"$f":"IF(ISERROR(VLOOKUP(B5797,database!$B$2:$D$6001,3,FALSE)),\"\",VLOOKUP(B5797,database!$B$2:$D$6001,3,FALSE))","v":""},null,null,null,null,null,null,"",null,null,0,null,1,"indip"]
["",null,{"$f":"IF(ISERROR(VLOOKUP(B5798,database!$B$2:$C$6001,2,FALSE)),\"\",VLOOKUP(B5798,database!$B$2:$C$6001,2,FALSE))","v":""},null,null,null,"",null,null,null,{"$f":"IF(ISERROR(VLOOKUP(B5798,database!$B$2:$D$6001,3,FALSE)),\"\",VLOOKUP(B5798,database!$B$2:$D$6001,3,FALSE))","v":""},null,null,null,null,null,null,"",null,null,0,null,1,"indip"]
["",null,{"$f":"IF(ISERROR(VLOOKUP(B5799,database!$B$2:$C$6001,2,FALSE)),\"\",VLOOKUP(B5799,database!$B$2:$C$6001,2,FALSE))","v":""},null,null,null,"",null,null,null,{"$f":"IF(ISERROR(VLOOKUP(B5799,database!$B$2:$D$6001,3,FALSE)),\"\",VLOOKUP(B5799,database!$B$2:$D$6001,3,FALSE))","v":""},null,null,null,null,null,null,"",null,null,0,null,1,"indip"]
["",null,{"$f":"IF(ISERROR(VLOOKUP(B5800,database!$B$2:$C$6001,2,FALSE)),\"\",VLOOKUP(B5800,database!$B$2:$C$6001,2,FALSE))","v":""},null,null,null,"",null,null,null,{"$f":"IF(ISERROR(VLOOKUP(B5800,database!$B$2:$D$6001,3,FALSE)),\"\",VLOOKUP(B5800,database!$B$2:$D$6001,3,FALSE))","v":""},null,null,null,null,null,null,"",null,null,0,null,1,"indip"]
["",null,{"$f":"IF(ISERROR(VLOOKUP(B5801,database!$B$2:$C$6001,2,FALSE)),\"\",VLOOKUP(B5801,database!$B$2:$C$6001,2,FALSE))","v":""},null,null,null,"",null,null,null,{"$f":"IF(ISERROR(VLOOKUP(B5801,database!$B$2:$D$6001,3,FALSE)),\"\",VLOOKUP(B5801,database!$B$2:$D$6001,3,FALSE))","v":""},null,null,null,null,null,null,"",null,null,0,null,1,"indip"]
["",null,{"$f":"IF(ISERROR(VLOOKUP(B5802,database!$B$2:$C$6001,2,FALSE)),\"\",VLOOKUP(B5802,database!$B$2:$C$6001,2,FALSE))","v":""},null,null,null,"",null,null,null,{"$f":"IF(ISERROR(VLOOKUP(B5802,database!$B$2:$D$6001,3,FALSE)),\"\",VLOOKUP(B5802,database!$B$2:$D$6001,3,FALSE))","v":""},null,null,null,null,null,null,"",null,null,0,null,1,"indip"]
["",null,{"$f":"IF(ISERROR(VLOOKUP(B5803,database!$B$2:$C$6001,2,FALSE)),\"\",VLOOKUP(B5803,database!$B$2:$C$6001,2,FALSE))","v":""},null,null,null,"",null,null,null,{"$f":"IF(ISERROR(VLOOKUP(B5803,database!$B$2:$D$6001,3,FALSE)),\"\",VLOOKUP(B5803,database!$B$2:$D$6001,3,FALSE))","v":""},null,null,null,null,null,null,"",null,null,0,null,1,"indip"]
["",null,{"$f":"IF(ISERROR(VLOOKUP(B5804,database!$B$2:$C$6001,2,FALSE)),\"\",VLOOKUP(B5804,database!$B$2:$C$6001,2,FALSE))","v":""},null,null,null,"",null,null,null,{"$f":"IF(ISERROR(VLOOKUP(B5804,database!$B$2:$D$6001,3,FALSE)),\"\",VLOOKUP(B5804,database!$B$2:$D$6001,3,FALSE))","v":""},null,null,null,null,null,null,"",null,null,0,null,1,"indip"]
["",null,{"$f":"IF(ISERROR(VLOOKUP(B5805,database!$B$2:$C$6001,2,FALSE)),\"\",VLOOKUP(B5805,database!$B$2:$C$6001,2,FALSE))","v":""},null,null,null,"",null,null,null,{"$f":"IF(ISERROR(VLOOKUP(B5805,database!$B$2:$D$6001,3,FALSE)),\"\",VLOOKUP(B5805,database!$B$2:$D$6001,3,FALSE))","v":""},null,null,null,null,null,null,"",null,null,0,null,1,"indip"]
["",null,{"$f":"IF(ISERROR(VLOOKUP(B5806,database!$B$2:$C$6001,2,FALSE)),\"\",VLOOKUP(B5806,database!$B$2:$C$6001,2,FALSE))","v":""},null,null,null,"",null,null,null,{"$f":"IF(ISERROR(VLOOKUP(B5806,database!$B$2:$D$6001,3,FALSE)),\"\",VLOOKUP(B5806,database!$B$2:$D$6001,3,FALSE))","v":""},null,null,null,null,null,null,"",null,null,0,null,1,"indip"]
["",null,{"$f":"IF(ISERROR(VLOOKUP(B5807,database!$B$2:$C$6001,2,FALSE)),\"\",VLOOKUP(B5807,database!$B$2:$C$6001,2,FALSE))","v":""},null,null,null,"",null,null,null,{"$f":"IF(ISERROR(VLOOKUP(B5807,database!$B$2:$D$6001,3,FALSE)),\"\",VLOOKUP(B5807,database!$B$2:$D$6001,3,FALSE))","v":""},null,null,null,null,null,null,"",null,null,0,null,1,"indip"]
["",null,{"$f":"IF(ISERROR(VLOOKUP(B5808,database!$B$2:$C$6001,2,FALSE)),\"\",VLOOKUP(B5808,database!$B$2:$C$6001,2,FALSE))","v":""},null,null,null,"",null,null,null,{"$f":"IF(ISERROR(VLOOKUP(B5808,database!$B$2:$D$6001,3,FALSE)),\"\",VLOOKUP(B5808,database!$B$2:$D$6001,3,FALSE))","v":""},null,null,null,null,null,null,"",null,null,0,null,1,"indip"]
["",null,{"$f":"IF(ISERROR(VLOOKUP(B5809,database!$B$2:$C$6001,2,FALSE)),\"\",VLOOKUP(B5809,database!$B$2:$C$6001,2,FALSE))","v":""},null,null,null,"",null,null,null,{"$f":"IF(ISERROR(VLOOKUP(B5809,database!$B$2:$D$6001,3,FALSE)),\"\",VLOOKUP(B5809,database!$B$2:$D$6001,3,FALSE))","v":""},null,null,null,null,null,null,"",null,null,0,null,1,"indip"]
["",null,{"$f":"IF(ISERROR(VLOOKUP(B5810,database!$B$2:$C$6001,2,FALSE)),\"\",VLOOKUP(B5810,database!$B$2:$C$6001,2,FALSE))","v":""},null,null,null,"",null,null,null,{"$f":"IF(ISERROR(VLOOKUP(B5810,database!$B$2:$D$6001,3,FALSE)),\"\",VLOOKUP(B5810,database!$B$2:$D$6001,3,FALSE))","v":""},null,null,null,null,null,null,"",null,null,0,null,1,"indip"]
["",null,{"$f":"IF(ISERROR(VLOOKUP(B5811,database!$B$2:$C$6001,2,FALSE)),\"\",VLOOKUP(B5811,database!$B$2:$C$6001,2,FALSE))","v":""},null,null,null,"",null,null,null,{"$f":"IF(ISERROR(VLOOKUP(B5811,database!$B$2:$D$6001,3,FALSE)),\"\",VLOOKUP(B5811,database!$B$2:$D$6001,3,FALSE))","v":""},null,null,null,null,null,null,"",null,null,0,null,1,"indip"]
["",null,{"$f":"IF(ISERROR(VLOOKUP(B5812,database!$B$2:$C$6001,2,FALSE)),\"\",VLOOKUP(B5812,database!$B$2:$C$6001,2,FALSE))","v":""},null,null,null,"",null,null,null,{"$f":"IF(ISERROR(VLOOKUP(B5812,database!$B$2:$D$6001,3,FALSE)),\"\",VLOOKUP(B5812,database!$B$2:$D$6001,3,FALSE))","v":""},null,null,null,null,null,null,"",null,null,0,null,1,"indip"]
["",null,{"$f":"IF(ISERROR(VLOOKUP(B5813,database!$B$2:$C$6001,2,FALSE)),\"\",VLOOKUP(B5813,database!$B$2:$C$6001,2,FALSE))","v":""},null,null,null,"",null,null,null,{"$f":"IF(ISERROR(VLOOKUP(B5813,database!$B$2:$D$6001,3,FALSE)),\"\",VLOOKUP(B5813,database!$B$2:$D$6001,3,FALSE))","v":""},null,null,null,null,null,null,"",null,null,0,null,1,"indip"]
["",null,{"$f":"IF(ISERROR(VLOOKUP(B5814,database!$B$2:$C$6001,2,FALSE)),\"\",VLOOKUP(B5814,database!$B$2:$C$6001,2,FALSE))","v":""},null,null,null,"",null,null,null,{"$f":"IF(ISERROR(VLOOKUP(B5814,database!$B$2:$D$6001,3,FALSE)),\"\",VLOOKUP(B5814,database!$B$2:$D$6001,3,FALSE))","v":""},null,null,null,null,null,null,"",null,null,0,null,1,"indip"]
["",null,{"$f":"IF(ISERROR(VLOOKUP(B5815,database!$B$2:$C$6001,2,FALSE)),\"\",VLOOKUP(B5815,database!$B$2:$C$6001,2,FALSE))","v":""},null,null,null,"",null,null,null,{"$f":"IF(ISERROR(VLOOKUP(B5815,database!$B$2:$D$6001,3,FALSE)),\"\",VLOOKUP(B5815,database!$B$2:$D$6001,3,FALSE))","v":""},null,null,null,null,null,null,"",null,null,0,null,1,"indip"]
["",null,{"$f":"IF(ISERROR(VLOOKUP(B5816,database!$B$2:$C$6001,2,FALSE)),\"\",VLOOKUP(B5816,database!$B$2:$C$6001,2,FALSE))","v":""},null,null,null,"",null,null,null,{"$f":"IF(ISERROR(VLOOKUP(B5816,database!$B$2:$D$6001,3,FALSE)),\"\",VLOOKUP(B5816,database!$B$2:$D$6001,3,FALSE))","v":""},null,null,null,null,null,null,"",null,null,0,null,1,"indip"]
["",null,{"$f":"IF(ISERROR(VLOOKUP(B5817,database!$B$2:$C$6001,2,FALSE)),\"\",VLOOKUP(B5817,database!$B$2:$C$6001,2,FALSE))","v":""},null,null,null,"",null,null,null,{"$f":"IF(ISERROR(VLOOKUP(B5817,database!$B$2:$D$6001,3,FALSE)),\"\",VLOOKUP(B5817,database!$B$2:$D$6001,3,FALSE))","v":""},null,null,null,null,null,null,"",null,null,0,null,1,"indip"]
["",null,{"$f":"IF(ISERROR(VLOOKUP(B5818,database!$B$2:$C$6001,2,FALSE)),\"\",VLOOKUP(B5818,database!$B$2:$C$6001,2,FALSE))","v":""},null,null,null,"",null,null,null,{"$f":"IF(ISERROR(VLOOKUP(B5818,database!$B$2:$D$6001,3,FALSE)),\"\",VLOOKUP(B5818,database!$B$2:$D$6001,3,FALSE))","v":""},null,null,null,null,null,null,"",null,null,0,null,1,"indip"]
["",null,{"$f":"IF(ISERROR(VLOOKUP(B5819,database!$B$2:$C$6001,2,FALSE)),\"\",VLOOKUP(B5819,database!$B$2:$C$6001,2,FALSE))","v":""},null,null,null,"",null,null,null,{"$f":"IF(ISERROR(VLOOKUP(B5819,database!$B$2:$D$6001,3,FALSE)),\"\",VLOOKUP(B5819,database!$B$2:$D$6001,3,FALSE))","v":""},null,null,null,null,null,null,"",null,null,0,null,1,"indip"]
["",null,{"$f":"IF(ISERROR(VLOOKUP(B5820,database!$B$2:$C$6001,2,FALSE)),\"\",VLOOKUP(B5820,database!$B$2:$C$6001,2,FALSE))","v":""},null,null,null,"",null,null,null,{"$f":"IF(ISERROR(VLOOKUP(B5820,database!$B$2:$D$6001,3,FALSE)),\"\",VLOOKUP(B5820,database!$B$2:$D$6001,3,FALSE))","v":""},null,null,null,null,null,null,"",null,null,0,null,1,"indip"]
["",null,{"$f":"IF(ISERROR(VLOOKUP(B5821,database!$B$2:$C$6001,2,FALSE)),\"\",VLOOKUP(B5821,database!$B$2:$C$6001,2,FALSE))","v":""},null,null,null,"",null,null,null,{"$f":"IF(ISERROR(VLOOKUP(B5821,database!$B$2:$D$6001,3,FALSE)),\"\",VLOOKUP(B5821,database!$B$2:$D$6001,3,FALSE))","v":""},null,null,null,null,null,null,"",null,null,0,null,1,"indip"]
["",null,{"$f":"IF(ISERROR(VLOOKUP(B5822,database!$B$2:$C$6001,2,FALSE)),\"\",VLOOKUP(B5822,database!$B$2:$C$6001,2,FALSE))","v":""},null,null,null,"",null,null,null,{"$f":"IF(ISERROR(VLOOKUP(B5822,database!$B$2:$D$6001,3,FALSE)),\"\",VLOOKUP(B5822,database!$B$2:$D$6001,3,FALSE))","v":""},null,null,null,null,null,null,"",null,null,0,null,1,"indip"]
["",null,{"$f":"IF(ISERROR(VLOOKUP(B5823,database!$B$2:$C$6001,2,FALSE)),\"\",VLOOKUP(B5823,database!$B$2:$C$6001,2,FALSE))","v":""},null,null,null,"",null,null,null,{"$f":"IF(ISERROR(VLOOKUP(B5823,database!$B$2:$D$6001,3,FALSE)),\"\",VLOOKUP(B5823,database!$B$2:$D$6001,3,FALSE))","v":""},null,null,null,null,null,null,"",null,null,0,null,1,"indip"]
["",null,{"$f":"IF(ISERROR(VLOOKUP(B5824,database!$B$2:$C$6001,2,FALSE)),\"\",VLOOKUP(B5824,database!$B$2:$C$6001,2,FALSE))","v":""},null,null,null,"",null,null,null,{"$f":"IF(ISERROR(VLOOKUP(B5824,database!$B$2:$D$6001,3,FALSE)),\"\",VLOOKUP(B5824,database!$B$2:$D$6001,3,FALSE))","v":""},null,null,null,null,null,null,"",null,null,0,null,1,"indip"]
["",null,{"$f":"IF(ISERROR(VLOOKUP(B5825,database!$B$2:$C$6001,2,FALSE)),\"\",VLOOKUP(B5825,database!$B$2:$C$6001,2,FALSE))","v":""},null,null,null,"",null,null,null,{"$f":"IF(ISERROR(VLOOKUP(B5825,database!$B$2:$D$6001,3,FALSE)),\"\",VLOOKUP(B5825,database!$B$2:$D$6001,3,FALSE))","v":""},null,null,null,null,null,null,"",null,null,0,null,1,"indip"]
["",null,{"$f":"IF(ISERROR(VLOOKUP(B5826,database!$B$2:$C$6001,2,FALSE)),\"\",VLOOKUP(B5826,database!$B$2:$C$6001,2,FALSE))","v":""},null,null,null,"",null,null,null,{"$f":"IF(ISERROR(VLOOKUP(B5826,database!$B$2:$D$6001,3,FALSE)),\"\",VLOOKUP(B5826,database!$B$2:$D$6001,3,FALSE))","v":""},null,null,null,null,null,null,"",null,null,0,null,1,"indip"]
["",null,{"$f":"IF(ISERROR(VLOOKUP(B5827,database!$B$2:$C$6001,2,FALSE)),\"\",VLOOKUP(B5827,database!$B$2:$C$6001,2,FALSE))","v":""},null,null,null,"",null,null,null,{"$f":"IF(ISERROR(VLOOKUP(B5827,database!$B$2:$D$6001,3,FALSE)),\"\",VLOOKUP(B5827,database!$B$2:$D$6001,3,FALSE))","v":""},null,null,null,null,null,null,"",null,null,0,null,1,"indip"]
["",null,{"$f":"IF(ISERROR(VLOOKUP(B5828,database!$B$2:$C$6001,2,FALSE)),\"\",VLOOKUP(B5828,database!$B$2:$C$6001,2,FALSE))","v":""},null,null,null,"",null,null,null,{"$f":"IF(ISERROR(VLOOKUP(B5828,database!$B$2:$D$6001,3,FALSE)),\"\",VLOOKUP(B5828,database!$B$2:$D$6001,3,FALSE))","v":""},null,null,null,null,null,null,"",null,null,{"$f":"IFERROR(INDEX(M$39:N$140,MATCH(B5828,M$39:M$140,0),2),0)","v":0},null,{"$f":"IF(AND(U5828=0,C5828=\"\"),1,2)","v":1},{"$f":"IF(B5828=\"-\",\"\",IF(OR(B5828=M$39,B5828=M$40,B5828=M$41,B5828=M$42,B5828=M$43,B5828=M$44,B5828=M$45,B5828=M$46,B5828=M$47,,B5828=M$50,B5828=M$51,B5828=M$52,B5828=M$53,B5828=M$54,B5828=M$55,B5828=M$56,B5828=M$57,B5828=M$70),\"\",IF(C5828=\"\",\"indip\",F5828)))","v":"indip"}]
[{"$f":"IF(B5829=\"\",\"\",ROW(A5826))","v":""},null,{"$f":"IF(ISERROR(VLOOKUP(B5829,database!$B$2:$C$6001,2,FALSE)),\"\",VLOOKUP(B5829,database!$B$2:$C$6001,2,FALSE))","v":""},null,null,null,{"$f":"IF(B5829=\"\",\"\",IF(B5829=\"-\",0,IF(W5829=1,1,IF(AND(U5829=0,F5829=\"SSB\"),2,IF(AND(U5829=0,F5829=\"DIGI\"),3,IF(AND(U5829=0,F5829=\"CW\"),5,U5829))))))","v":""},null,null,null,{"$f":"IF(ISERROR(VLOOKUP(B5829,database!$B$2:$D$6001,3,FALSE)),\"\",VLOOKUP(B5829,database!$B$2:$D$6001,3,FALSE))","v":""},null,null,null,null,null,null,{"$f":"LEFT(C5829,2)","v":""},null,null,0,null,1,"indip"]
["",null,{"$f":"IF(ISERROR(VLOOKUP(B5830,database!$B$2:$C$6001,2,FALSE)),\"\",VLOOKUP(B5830,database!$B$2:$C$6001,2,FALSE))","v":""},null,null,null,"",null,null,null,{"$f":"IF(ISERROR(VLOOKUP(B5830,database!$B$2:$D$6001,3,FALSE)),\"\",VLOOKUP(B5830,database!$B$2:$D$6001,3,FALSE))","v":""},null,null,null,null,null,null,"",null,null,0,null,1,"indip"]
["",null,{"$f":"IF(ISERROR(VLOOKUP(B5831,database!$B$2:$C$6001,2,FALSE)),\"\",VLOOKUP(B5831,database!$B$2:$C$6001,2,FALSE))","v":""},null,null,null,"",null,null,null,{"$f":"IF(ISERROR(VLOOKUP(B5831,database!$B$2:$D$6001,3,FALSE)),\"\",VLOOKUP(B5831,database!$B$2:$D$6001,3,FALSE))","v":""},null,null,null,null,null,null,"",null,null,0,null,1,"indip"]
["",null,{"$f":"IF(ISERROR(VLOOKUP(B5832,database!$B$2:$C$6001,2,FALSE)),\"\",VLOOKUP(B5832,database!$B$2:$C$6001,2,FALSE))","v":""},null,null,null,"",null,null,null,{"$f":"IF(ISERROR(VLOOKUP(B5832,database!$B$2:$D$6001,3,FALSE)),\"\",VLOOKUP(B5832,database!$B$2:$D$6001,3,FALSE))","v":""},null,null,null,null,null,null,"",null,null,0,null,1,"indip"]
["",null,{"$f":"IF(ISERROR(VLOOKUP(B5833,database!$B$2:$C$6001,2,FALSE)),\"\",VLOOKUP(B5833,database!$B$2:$C$6001,2,FALSE))","v":""},null,null,null,"",null,null,null,{"$f":"IF(ISERROR(VLOOKUP(B5833,database!$B$2:$D$6001,3,FALSE)),\"\",VLOOKUP(B5833,database!$B$2:$D$6001,3,FALSE))","v":""},null,null,null,null,null,null,"",null,null,0,null,1,"indip"]
["",null,{"$f":"IF(ISERROR(VLOOKUP(B5834,database!$B$2:$C$6001,2,FALSE)),\"\",VLOOKUP(B5834,database!$B$2:$C$6001,2,FALSE))","v":""},null,null,null,"",null,null,null,{"$f":"IF(ISERROR(VLOOKUP(B5834,database!$B$2:$D$6001,3,FALSE)),\"\",VLOOKUP(B5834,database!$B$2:$D$6001,3,FALSE))","v":""},null,null,null,null,null,null,"",null,null,0,null,1,"indip"]
["",null,{"$f":"IF(ISERROR(VLOOKUP(B5835,database!$B$2:$C$6001,2,FALSE)),\"\",VLOOKUP(B5835,database!$B$2:$C$6001,2,FALSE))","v":""},null,null,null,"",null,null,null,{"$f":"IF(ISERROR(VLOOKUP(B5835,database!$B$2:$D$6001,3,FALSE)),\"\",VLOOKUP(B5835,database!$B$2:$D$6001,3,FALSE))","v":""},null,null,null,null,null,null,"",null,null,0,null,1,"indip"]
["",null,{"$f":"IF(ISERROR(VLOOKUP(B5836,database!$B$2:$C$6001,2,FALSE)),\"\",VLOOKUP(B5836,database!$B$2:$C$6001,2,FALSE))","v":""},null,null,null,"",null,null,null,{"$f":"IF(ISERROR(VLOOKUP(B5836,database!$B$2:$D$6001,3,FALSE)),\"\",VLOOKUP(B5836,database!$B$2:$D$6001,3,FALSE))","v":""},null,null,null,null,null,null,"",null,null,0,null,1,"indip"]
["",null,{"$f":"IF(ISERROR(VLOOKUP(B5837,database!$B$2:$C$6001,2,FALSE)),\"\",VLOOKUP(B5837,database!$B$2:$C$6001,2,FALSE))","v":""},null,null,null,"",null,null,null,{"$f":"IF(ISERROR(VLOOKUP(B5837,database!$B$2:$D$6001,3,FALSE)),\"\",VLOOKUP(B5837,database!$B$2:$D$6001,3,FALSE))","v":""},null,null,null,null,null,null,"",null,null,0,null,1,"indip"]
["",null,{"$f":"IF(ISERROR(VLOOKUP(B5838,database!$B$2:$C$6001,2,FALSE)),\"\",VLOOKUP(B5838,database!$B$2:$C$6001,2,FALSE))","v":""},null,null,null,"",null,null,null,{"$f":"IF(ISERROR(VLOOKUP(B5838,database!$B$2:$D$6001,3,FALSE)),\"\",VLOOKUP(B5838,database!$B$2:$D$6001,3,FALSE))","v":""},null,null,null,null,null,null,"",null,null,0,null,1,"indip"]
["",null,{"$f":"IF(ISERROR(VLOOKUP(B5839,database!$B$2:$C$6001,2,FALSE)),\"\",VLOOKUP(B5839,database!$B$2:$C$6001,2,FALSE))","v":""},null,null,null,"",null,null,null,{"$f":"IF(ISERROR(VLOOKUP(B5839,database!$B$2:$D$6001,3,FALSE)),\"\",VLOOKUP(B5839,database!$B$2:$D$6001,3,FALSE))","v":""},null,null,null,null,null,null,"",null,null,0,null,1,"indip"]
["",null,{"$f":"IF(ISERROR(VLOOKUP(B5840,database!$B$2:$C$6001,2,FALSE)),\"\",VLOOKUP(B5840,database!$B$2:$C$6001,2,FALSE))","v":""},null,null,null,"",null,null,null,{"$f":"IF(ISERROR(VLOOKUP(B5840,database!$B$2:$D$6001,3,FALSE)),\"\",VLOOKUP(B5840,database!$B$2:$D$6001,3,FALSE))","v":""},null,null,null,null,null,null,"",null,null,0,null,1,"indip"]
["",null,{"$f":"IF(ISERROR(VLOOKUP(B5841,database!$B$2:$C$6001,2,FALSE)),\"\",VLOOKUP(B5841,database!$B$2:$C$6001,2,FALSE))","v":""},null,null,null,"",null,null,null,{"$f":"IF(ISERROR(VLOOKUP(B5841,database!$B$2:$D$6001,3,FALSE)),\"\",VLOOKUP(B5841,database!$B$2:$D$6001,3,FALSE))","v":""},null,null,null,null,null,null,"",null,null,0,null,1,"indip"]
["",null,{"$f":"IF(ISERROR(VLOOKUP(B5842,database!$B$2:$C$6001,2,FALSE)),\"\",VLOOKUP(B5842,database!$B$2:$C$6001,2,FALSE))","v":""},null,null,null,"",null,null,null,{"$f":"IF(ISERROR(VLOOKUP(B5842,database!$B$2:$D$6001,3,FALSE)),\"\",VLOOKUP(B5842,database!$B$2:$D$6001,3,FALSE))","v":""},null,null,null,null,null,null,"",null,null,0,null,1,"indip"]
["",null,{"$f":"IF(ISERROR(VLOOKUP(B5843,database!$B$2:$C$6001,2,FALSE)),\"\",VLOOKUP(B5843,database!$B$2:$C$6001,2,FALSE))","v":""},null,null,null,"",null,null,null,{"$f":"IF(ISERROR(VLOOKUP(B5843,database!$B$2:$D$6001,3,FALSE)),\"\",VLOOKUP(B5843,database!$B$2:$D$6001,3,FALSE))","v":""},null,null,null,null,null,null,"",null,null,0,null,1,"indip"]
["",null,{"$f":"IF(ISERROR(VLOOKUP(B5844,database!$B$2:$C$6001,2,FALSE)),\"\",VLOOKUP(B5844,database!$B$2:$C$6001,2,FALSE))","v":""},null,null,null,"",null,null,null,{"$f":"IF(ISERROR(VLOOKUP(B5844,database!$B$2:$D$6001,3,FALSE)),\"\",VLOOKUP(B5844,database!$B$2:$D$6001,3,FALSE))","v":""},null,null,null,null,null,null,"",null,null,0,null,1,"indip"]
["",null,{"$f":"IF(ISERROR(VLOOKUP(B5845,database!$B$2:$C$6001,2,FALSE)),\"\",VLOOKUP(B5845,database!$B$2:$C$6001,2,FALSE))","v":""},null,null,null,"",null,null,null,{"$f":"IF(ISERROR(VLOOKUP(B5845,database!$B$2:$D$6001,3,FALSE)),\"\",VLOOKUP(B5845,database!$B$2:$D$6001,3,FALSE))","v":""},null,null,null,null,null,null,"",null,null,0,null,1,"indip"]
["",null,{"$f":"IF(ISERROR(VLOOKUP(B5846,database!$B$2:$C$6001,2,FALSE)),\"\",VLOOKUP(B5846,database!$B$2:$C$6001,2,FALSE))","v":""},null,null,null,"",null,null,null,{"$f":"IF(ISERROR(VLOOKUP(B5846,database!$B$2:$D$6001,3,FALSE)),\"\",VLOOKUP(B5846,database!$B$2:$D$6001,3,FALSE))","v":""},null,null,null,null,null,null,"",null,null,0,null,1,"indip"]
["",null,{"$f":"IF(ISERROR(VLOOKUP(B5847,database!$B$2:$C$6001,2,FALSE)),\"\",VLOOKUP(B5847,database!$B$2:$C$6001,2,FALSE))","v":""},null,null,null,"",null,null,null,{"$f":"IF(ISERROR(VLOOKUP(B5847,database!$B$2:$D$6001,3,FALSE)),\"\",VLOOKUP(B5847,database!$B$2:$D$6001,3,FALSE))","v":""},null,null,null,null,null,null,"",null,null,0,null,1,"indip"]
["",null,{"$f":"IF(ISERROR(VLOOKUP(B5848,database!$B$2:$C$6001,2,FALSE)),\"\",VLOOKUP(B5848,database!$B$2:$C$6001,2,FALSE))","v":""},null,null,null,"",null,null,null,{"$f":"IF(ISERROR(VLOOKUP(B5848,database!$B$2:$D$6001,3,FALSE)),\"\",VLOOKUP(B5848,database!$B$2:$D$6001,3,FALSE))","v":""},null,null,null,null,null,null,"",null,null,0,null,1,"indip"]
["",null,{"$f":"IF(ISERROR(VLOOKUP(B5849,database!$B$2:$C$6001,2,FALSE)),\"\",VLOOKUP(B5849,database!$B$2:$C$6001,2,FALSE))","v":""},null,null,null,"",null,null,null,{"$f":"IF(ISERROR(VLOOKUP(B5849,database!$B$2:$D$6001,3,FALSE)),\"\",VLOOKUP(B5849,database!$B$2:$D$6001,3,FALSE))","v":""},null,null,null,null,null,null,"",null,null,0,null,1,"indip"]
["",null,{"$f":"IF(ISERROR(VLOOKUP(B5850,database!$B$2:$C$6001,2,FALSE)),\"\",VLOOKUP(B5850,database!$B$2:$C$6001,2,FALSE))","v":""},null,null,null,"",null,null,null,{"$f":"IF(ISERROR(VLOOKUP(B5850,database!$B$2:$D$6001,3,FALSE)),\"\",VLOOKUP(B5850,database!$B$2:$D$6001,3,FALSE))","v":""},null,null,null,null,null,null,"",null,null,0,null,1,"indip"]
["",null,{"$f":"IF(ISERROR(VLOOKUP(B5851,database!$B$2:$C$6001,2,FALSE)),\"\",VLOOKUP(B5851,database!$B$2:$C$6001,2,FALSE))","v":""},null,null,null,"",null,null,null,{"$f":"IF(ISERROR(VLOOKUP(B5851,database!$B$2:$D$6001,3,FALSE)),\"\",VLOOKUP(B5851,database!$B$2:$D$6001,3,FALSE))","v":""},null,null,null,null,null,null,"",null,null,0,null,1,"indip"]
["",null,{"$f":"IF(ISERROR(VLOOKUP(B5852,database!$B$2:$C$6001,2,FALSE)),\"\",VLOOKUP(B5852,database!$B$2:$C$6001,2,FALSE))","v":""},null,null,null,"",null,null,null,{"$f":"IF(ISERROR(VLOOKUP(B5852,database!$B$2:$D$6001,3,FALSE)),\"\",VLOOKUP(B5852,database!$B$2:$D$6001,3,FALSE))","v":""},null,null,null,null,null,null,"",null,null,0,null,1,"indip"]
["",null,{"$f":"IF(ISERROR(VLOOKUP(B5853,database!$B$2:$C$6001,2,FALSE)),\"\",VLOOKUP(B5853,database!$B$2:$C$6001,2,FALSE))","v":""},null,null,null,"",null,null,null,{"$f":"IF(ISERROR(VLOOKUP(B5853,database!$B$2:$D$6001,3,FALSE)),\"\",VLOOKUP(B5853,database!$B$2:$D$6001,3,FALSE))","v":""},null,null,null,null,null,null,"",null,null,0,null,1,"indip"]
["",null,{"$f":"IF(ISERROR(VLOOKUP(B5854,database!$B$2:$C$6001,2,FALSE)),\"\",VLOOKUP(B5854,database!$B$2:$C$6001,2,FALSE))","v":""},null,null,null,"",null,null,null,{"$f":"IF(ISERROR(VLOOKUP(B5854,database!$B$2:$D$6001,3,FALSE)),\"\",VLOOKUP(B5854,database!$B$2:$D$6001,3,FALSE))","v":""},null,null,null,null,null,null,"",null,null,0,null,1,"indip"]
["",null,{"$f":"IF(ISERROR(VLOOKUP(B5855,database!$B$2:$C$6001,2,FALSE)),\"\",VLOOKUP(B5855,database!$B$2:$C$6001,2,FALSE))","v":""},null,null,null,"",null,null,null,{"$f":"IF(ISERROR(VLOOKUP(B5855,database!$B$2:$D$6001,3,FALSE)),\"\",VLOOKUP(B5855,database!$B$2:$D$6001,3,FALSE))","v":""},null,null,null,null,null,null,"",null,null,0,null,1,"indip"]
["",null,{"$f":"IF(ISERROR(VLOOKUP(B5856,database!$B$2:$C$6001,2,FALSE)),\"\",VLOOKUP(B5856,database!$B$2:$C$6001,2,FALSE))","v":""},null,null,null,"",null,null,null,{"$f":"IF(ISERROR(VLOOKUP(B5856,database!$B$2:$D$6001,3,FALSE)),\"\",VLOOKUP(B5856,database!$B$2:$D$6001,3,FALSE))","v":""},null,null,null,null,null,null,"",null,null,0,null,1,"indip"]
["",null,{"$f":"IF(ISERROR(VLOOKUP(B5857,database!$B$2:$C$6001,2,FALSE)),\"\",VLOOKUP(B5857,database!$B$2:$C$6001,2,FALSE))","v":""},null,null,null,"",null,null,null,{"$f":"IF(ISERROR(VLOOKUP(B5857,database!$B$2:$D$6001,3,FALSE)),\"\",VLOOKUP(B5857,database!$B$2:$D$6001,3,FALSE))","v":""},null,null,null,null,null,null,"",null,null,0,null,1,"indip"]
["",null,{"$f":"IF(ISERROR(VLOOKUP(B5858,database!$B$2:$C$6001,2,FALSE)),\"\",VLOOKUP(B5858,database!$B$2:$C$6001,2,FALSE))","v":""},null,null,null,"",null,null,null,{"$f":"IF(ISERROR(VLOOKUP(B5858,database!$B$2:$D$6001,3,FALSE)),\"\",VLOOKUP(B5858,database!$B$2:$D$6001,3,FALSE))","v":""},null,null,null,null,null,null,"",null,null,0,null,1,"indip"]
["",null,{"$f":"IF(ISERROR(VLOOKUP(B5859,database!$B$2:$C$6001,2,FALSE)),\"\",VLOOKUP(B5859,database!$B$2:$C$6001,2,FALSE))","v":""},null,null,null,"",null,null,null,{"$f":"IF(ISERROR(VLOOKUP(B5859,database!$B$2:$D$6001,3,FALSE)),\"\",VLOOKUP(B5859,database!$B$2:$D$6001,3,FALSE))","v":""},null,null,null,null,null,null,"",null,null,0,null,1,"indip"]
["",null,{"$f":"IF(ISERROR(VLOOKUP(B5860,database!$B$2:$C$6001,2,FALSE)),\"\",VLOOKUP(B5860,database!$B$2:$C$6001,2,FALSE))","v":""},null,null,null,"",null,null,null,{"$f":"IF(ISERROR(VLOOKUP(B5860,database!$B$2:$D$6001,3,FALSE)),\"\",VLOOKUP(B5860,database!$B$2:$D$6001,3,FALSE))","v":""},null,null,null,null,null,null,"",null,null,0,null,1,"indip"]
["",null,{"$f":"IF(ISERROR(VLOOKUP(B5861,database!$B$2:$C$6001,2,FALSE)),\"\",VLOOKUP(B5861,database!$B$2:$C$6001,2,FALSE))","v":""},null,null,null,"",null,null,null,{"$f":"IF(ISERROR(VLOOKUP(B5861,database!$B$2:$D$6001,3,FALSE)),\"\",VLOOKUP(B5861,database!$B$2:$D$6001,3,FALSE))","v":""},null,null,null,null,null,null,"",null,null,0,null,1,"indip"]
["",null,{"$f":"IF(ISERROR(VLOOKUP(B5862,database!$B$2:$C$6001,2,FALSE)),\"\",VLOOKUP(B5862,database!$B$2:$C$6001,2,FALSE))","v":""},null,null,null,"",null,null,null,{"$f":"IF(ISERROR(VLOOKUP(B5862,database!$B$2:$D$6001,3,FALSE)),\"\",VLOOKUP(B5862,database!$B$2:$D$6001,3,FALSE))","v":""},null,null,null,null,null,null,"",null,null,0,null,1,"indip"]
["",null,{"$f":"IF(ISERROR(VLOOKUP(B5863,database!$B$2:$C$6001,2,FALSE)),\"\",VLOOKUP(B5863,database!$B$2:$C$6001,2,FALSE))","v":""},null,null,null,"",null,null,null,{"$f":"IF(ISERROR(VLOOKUP(B5863,database!$B$2:$D$6001,3,FALSE)),\"\",VLOOKUP(B5863,database!$B$2:$D$6001,3,FALSE))","v":""},null,null,null,null,null,null,"",null,null,0,null,1,"indip"]
["",null,{"$f":"IF(ISERROR(VLOOKUP(B5864,database!$B$2:$C$6001,2,FALSE)),\"\",VLOOKUP(B5864,database!$B$2:$C$6001,2,FALSE))","v":""},null,null,null,"",null,null,null,{"$f":"IF(ISERROR(VLOOKUP(B5864,database!$B$2:$D$6001,3,FALSE)),\"\",VLOOKUP(B5864,database!$B$2:$D$6001,3,FALSE))","v":""},null,null,null,null,null,null,"",null,null,0,null,1,"indip"]
["",null,{"$f":"IF(ISERROR(VLOOKUP(B5865,database!$B$2:$C$6001,2,FALSE)),\"\",VLOOKUP(B5865,database!$B$2:$C$6001,2,FALSE))","v":""},null,null,null,"",null,null,null,{"$f":"IF(ISERROR(VLOOKUP(B5865,database!$B$2:$D$6001,3,FALSE)),\"\",VLOOKUP(B5865,database!$B$2:$D$6001,3,FALSE))","v":""},null,null,null,null,null,null,"",null,null,0,null,1,"indip"]
["",null,{"$f":"IF(ISERROR(VLOOKUP(B5866,database!$B$2:$C$6001,2,FALSE)),\"\",VLOOKUP(B5866,database!$B$2:$C$6001,2,FALSE))","v":""},null,null,null,"",null,null,null,{"$f":"IF(ISERROR(VLOOKUP(B5866,database!$B$2:$D$6001,3,FALSE)),\"\",VLOOKUP(B5866,database!$B$2:$D$6001,3,FALSE))","v":""},null,null,null,null,null,null,"",null,null,0,null,1,"indip"]
["",null,{"$f":"IF(ISERROR(VLOOKUP(B5867,database!$B$2:$C$6001,2,FALSE)),\"\",VLOOKUP(B5867,database!$B$2:$C$6001,2,FALSE))","v":""},null,null,null,"",null,null,null,{"$f":"IF(ISERROR(VLOOKUP(B5867,database!$B$2:$D$6001,3,FALSE)),\"\",VLOOKUP(B5867,database!$B$2:$D$6001,3,FALSE))","v":""},null,null,null,null,null,null,"",null,null,0,null,1,"indip"]
["",null,{"$f":"IF(ISERROR(VLOOKUP(B5868,database!$B$2:$C$6001,2,FALSE)),\"\",VLOOKUP(B5868,database!$B$2:$C$6001,2,FALSE))","v":""},null,null,null,"",null,null,null,{"$f":"IF(ISERROR(VLOOKUP(B5868,database!$B$2:$D$6001,3,FALSE)),\"\",VLOOKUP(B5868,database!$B$2:$D$6001,3,FALSE))","v":""},null,null,null,null,null,null,"",null,null,0,null,1,"indip"]
["",null,{"$f":"IF(ISERROR(VLOOKUP(B5869,database!$B$2:$C$6001,2,FALSE)),\"\",VLOOKUP(B5869,database!$B$2:$C$6001,2,FALSE))","v":""},null,null,null,"",null,null,null,{"$f":"IF(ISERROR(VLOOKUP(B5869,database!$B$2:$D$6001,3,FALSE)),\"\",VLOOKUP(B5869,database!$B$2:$D$6001,3,FALSE))","v":""},null,null,null,null,null,null,"",null,null,0,null,1,"indip"]
["",null,{"$f":"IF(ISERROR(VLOOKUP(B5870,database!$B$2:$C$6001,2,FALSE)),\"\",VLOOKUP(B5870,database!$B$2:$C$6001,2,FALSE))","v":""},null,null,null,"",null,null,null,{"$f":"IF(ISERROR(VLOOKUP(B5870,database!$B$2:$D$6001,3,FALSE)),\"\",VLOOKUP(B5870,database!$B$2:$D$6001,3,FALSE))","v":""},null,null,null,null,null,null,"",null,null,0,null,1,"indip"]
["",null,{"$f":"IF(ISERROR(VLOOKUP(B5871,database!$B$2:$C$6001,2,FALSE)),\"\",VLOOKUP(B5871,database!$B$2:$C$6001,2,FALSE))","v":""},null,null,null,"",null,null,null,{"$f":"IF(ISERROR(VLOOKUP(B5871,database!$B$2:$D$6001,3,FALSE)),\"\",VLOOKUP(B5871,database!$B$2:$D$6001,3,FALSE))","v":""},null,null,null,null,null,null,"",null,null,0,null,1,"indip"]
["",null,{"$f":"IF(ISERROR(VLOOKUP(B5872,database!$B$2:$C$6001,2,FALSE)),\"\",VLOOKUP(B5872,database!$B$2:$C$6001,2,FALSE))","v":""},null,null,null,"",null,null,null,{"$f":"IF(ISERROR(VLOOKUP(B5872,database!$B$2:$D$6001,3,FALSE)),\"\",VLOOKUP(B5872,database!$B$2:$D$6001,3,FALSE))","v":""},null,null,null,null,null,null,"",null,null,0,null,1,"indip"]
["",null,{"$f":"IF(ISERROR(VLOOKUP(B5873,database!$B$2:$C$6001,2,FALSE)),\"\",VLOOKUP(B5873,database!$B$2:$C$6001,2,FALSE))","v":""},null,null,null,"",null,null,null,{"$f":"IF(ISERROR(VLOOKUP(B5873,database!$B$2:$D$6001,3,FALSE)),\"\",VLOOKUP(B5873,database!$B$2:$D$6001,3,FALSE))","v":""},null,null,null,null,null,null,"",null,null,0,null,1,"indip"]
["",null,{"$f":"IF(ISERROR(VLOOKUP(B5874,database!$B$2:$C$6001,2,FALSE)),\"\",VLOOKUP(B5874,database!$B$2:$C$6001,2,FALSE))","v":""},null,null,null,"",null,null,null,{"$f":"IF(ISERROR(VLOOKUP(B5874,database!$B$2:$D$6001,3,FALSE)),\"\",VLOOKUP(B5874,database!$B$2:$D$6001,3,FALSE))","v":""},null,null,null,null,null,null,"",null,null,0,null,1,"indip"]
["",null,{"$f":"IF(ISERROR(VLOOKUP(B5875,database!$B$2:$C$6001,2,FALSE)),\"\",VLOOKUP(B5875,database!$B$2:$C$6001,2,FALSE))","v":""},null,null,null,"",null,null,null,{"$f":"IF(ISERROR(VLOOKUP(B5875,database!$B$2:$D$6001,3,FALSE)),\"\",VLOOKUP(B5875,database!$B$2:$D$6001,3,FALSE))","v":""},null,null,null,null,null,null,"",null,null,0,null,1,"indip"]
["",null,{"$f":"IF(ISERROR(VLOOKUP(B5876,database!$B$2:$C$6001,2,FALSE)),\"\",VLOOKUP(B5876,database!$B$2:$C$6001,2,FALSE))","v":""},null,null,null,"",null,null,null,{"$f":"IF(ISERROR(VLOOKUP(B5876,database!$B$2:$D$6001,3,FALSE)),\"\",VLOOKUP(B5876,database!$B$2:$D$6001,3,FALSE))","v":""},null,null,null,null,null,null,"",null,null,0,null,1,"indip"]
["",null,{"$f":"IF(ISERROR(VLOOKUP(B5877,database!$B$2:$C$6001,2,FALSE)),\"\",VLOOKUP(B5877,database!$B$2:$C$6001,2,FALSE))","v":""},null,null,null,"",null,null,null,{"$f":"IF(ISERROR(VLOOKUP(B5877,database!$B$2:$D$6001,3,FALSE)),\"\",VLOOKUP(B5877,database!$B$2:$D$6001,3,FALSE))","v":""},null,null,null,null,null,null,"",null,null,0,null,1,"indip"]
["",null,{"$f":"IF(ISERROR(VLOOKUP(B5878,database!$B$2:$C$6001,2,FALSE)),\"\",VLOOKUP(B5878,database!$B$2:$C$6001,2,FALSE))","v":""},null,null,null,"",null,null,null,{"$f":"IF(ISERROR(VLOOKUP(B5878,database!$B$2:$D$6001,3,FALSE)),\"\",VLOOKUP(B5878,database!$B$2:$D$6001,3,FALSE))","v":""},null,null,null,null,null,null,"",null,null,0,null,1,"indip"]
["",null,{"$f":"IF(ISERROR(VLOOKUP(B5879,database!$B$2:$C$6001,2,FALSE)),\"\",VLOOKUP(B5879,database!$B$2:$C$6001,2,FALSE))","v":""},null,null,null,"",null,null,null,{"$f":"IF(ISERROR(VLOOKUP(B5879,database!$B$2:$D$6001,3,FALSE)),\"\",VLOOKUP(B5879,database!$B$2:$D$6001,3,FALSE))","v":""},null,null,null,null,null,null,"",null,null,0,null,1,"indip"]
["",null,{"$f":"IF(ISERROR(VLOOKUP(B5880,database!$B$2:$C$6001,2,FALSE)),\"\",VLOOKUP(B5880,database!$B$2:$C$6001,2,FALSE))","v":""},null,null,null,"",null,null,null,{"$f":"IF(ISERROR(VLOOKUP(B5880,database!$B$2:$D$6001,3,FALSE)),\"\",VLOOKUP(B5880,database!$B$2:$D$6001,3,FALSE))","v":""},null,null,null,null,null,null,"",null,null,0,null,1,"indip"]
["",null,{"$f":"IF(ISERROR(VLOOKUP(B5881,database!$B$2:$C$6001,2,FALSE)),\"\",VLOOKUP(B5881,database!$B$2:$C$6001,2,FALSE))","v":""},null,null,null,"",null,null,null,{"$f":"IF(ISERROR(VLOOKUP(B5881,database!$B$2:$D$6001,3,FALSE)),\"\",VLOOKUP(B5881,database!$B$2:$D$6001,3,FALSE))","v":""},null,null,null,null,null,null,"",null,null,0,null,1,"indip"]
["",null,{"$f":"IF(ISERROR(VLOOKUP(B5882,database!$B$2:$C$6001,2,FALSE)),\"\",VLOOKUP(B5882,database!$B$2:$C$6001,2,FALSE))","v":""},null,null,null,"",null,null,null,{"$f":"IF(ISERROR(VLOOKUP(B5882,database!$B$2:$D$6001,3,FALSE)),\"\",VLOOKUP(B5882,database!$B$2:$D$6001,3,FALSE))","v":""},null,null,null,null,null,null,"",null,null,0,null,1,"indip"]
["",null,{"$f":"IF(ISERROR(VLOOKUP(B5883,database!$B$2:$C$6001,2,FALSE)),\"\",VLOOKUP(B5883,database!$B$2:$C$6001,2,FALSE))","v":""},null,null,null,"",null,null,null,{"$f":"IF(ISERROR(VLOOKUP(B5883,database!$B$2:$D$6001,3,FALSE)),\"\",VLOOKUP(B5883,database!$B$2:$D$6001,3,FALSE))","v":""},null,null,null,null,null,null,"",null,null,0,null,1,"indip"]
["",null,{"$f":"IF(ISERROR(VLOOKUP(B5884,database!$B$2:$C$6001,2,FALSE)),\"\",VLOOKUP(B5884,database!$B$2:$C$6001,2,FALSE))","v":""},null,null,null,"",null,null,null,{"$f":"IF(ISERROR(VLOOKUP(B5884,database!$B$2:$D$6001,3,FALSE)),\"\",VLOOKUP(B5884,database!$B$2:$D$6001,3,FALSE))","v":""},null,null,null,null,null,null,"",null,null,0,null,1,"indip"]
["",null,{"$f":"IF(ISERROR(VLOOKUP(B5885,database!$B$2:$C$6001,2,FALSE)),\"\",VLOOKUP(B5885,database!$B$2:$C$6001,2,FALSE))","v":""},null,null,null,"",null,null,null,{"$f":"IF(ISERROR(VLOOKUP(B5885,database!$B$2:$D$6001,3,FALSE)),\"\",VLOOKUP(B5885,database!$B$2:$D$6001,3,FALSE))","v":""},null,null,null,null,null,null,"",null,null,0,null,1,"indip"]
["",null,{"$f":"IF(ISERROR(VLOOKUP(B5886,database!$B$2:$C$6001,2,FALSE)),\"\",VLOOKUP(B5886,database!$B$2:$C$6001,2,FALSE))","v":""},null,null,null,"",null,null,null,{"$f":"IF(ISERROR(VLOOKUP(B5886,database!$B$2:$D$6001,3,FALSE)),\"\",VLOOKUP(B5886,database!$B$2:$D$6001,3,FALSE))","v":""},null,null,null,null,null,null,"",null,null,0,null,1,"indip"]
["",null,{"$f":"IF(ISERROR(VLOOKUP(B5887,database!$B$2:$C$6001,2,FALSE)),\"\",VLOOKUP(B5887,database!$B$2:$C$6001,2,FALSE))","v":""},null,null,null,"",null,null,null,{"$f":"IF(ISERROR(VLOOKUP(B5887,database!$B$2:$D$6001,3,FALSE)),\"\",VLOOKUP(B5887,database!$B$2:$D$6001,3,FALSE))","v":""},null,null,null,null,null,null,"",null,null,0,null,1,"indip"]
["",null,{"$f":"IF(ISERROR(VLOOKUP(B5888,database!$B$2:$C$6001,2,FALSE)),\"\",VLOOKUP(B5888,database!$B$2:$C$6001,2,FALSE))","v":""},null,null,null,"",null,null,null,{"$f":"IF(ISERROR(VLOOKUP(B5888,database!$B$2:$D$6001,3,FALSE)),\"\",VLOOKUP(B5888,database!$B$2:$D$6001,3,FALSE))","v":""},null,null,null,null,null,null,"",null,null,0,null,1,"indip"]
["",null,{"$f":"IF(ISERROR(VLOOKUP(B5889,database!$B$2:$C$6001,2,FALSE)),\"\",VLOOKUP(B5889,database!$B$2:$C$6001,2,FALSE))","v":""},null,null,null,"",null,null,null,{"$f":"IF(ISERROR(VLOOKUP(B5889,database!$B$2:$D$6001,3,FALSE)),\"\",VLOOKUP(B5889,database!$B$2:$D$6001,3,FALSE))","v":""},null,null,null,null,null,null,"",null,null,0,null,1,"indip"]
["",null,{"$f":"IF(ISERROR(VLOOKUP(B5890,database!$B$2:$C$6001,2,FALSE)),\"\",VLOOKUP(B5890,database!$B$2:$C$6001,2,FALSE))","v":""},null,null,null,"",null,null,null,{"$f":"IF(ISERROR(VLOOKUP(B5890,database!$B$2:$D$6001,3,FALSE)),\"\",VLOOKUP(B5890,database!$B$2:$D$6001,3,FALSE))","v":""},null,null,null,null,null,null,"",null,null,0,null,1,"indip"]
["",null,{"$f":"IF(ISERROR(VLOOKUP(B5891,database!$B$2:$C$6001,2,FALSE)),\"\",VLOOKUP(B5891,database!$B$2:$C$6001,2,FALSE))","v":""},null,null,null,"",null,null,null,{"$f":"IF(ISERROR(VLOOKUP(B5891,database!$B$2:$D$6001,3,FALSE)),\"\",VLOOKUP(B5891,database!$B$2:$D$6001,3,FALSE))","v":""},null,null,null,null,null,null,"",null,null,0,null,1,"indip"]
["",null,{"$f":"IF(ISERROR(VLOOKUP(B5892,database!$B$2:$C$6001,2,FALSE)),\"\",VLOOKUP(B5892,database!$B$2:$C$6001,2,FALSE))","v":""},null,null,null,"",null,null,null,{"$f":"IF(ISERROR(VLOOKUP(B5892,database!$B$2:$D$6001,3,FALSE)),\"\",VLOOKUP(B5892,database!$B$2:$D$6001,3,FALSE))","v":""},null,null,null,null,null,null,"",null,null,{"$f":"IFERROR(INDEX(M$39:N$140,MATCH(B5892,M$39:M$140,0),2),0)","v":0},null,{"$f":"IF(AND(U5892=0,C5892=\"\"),1,2)","v":1},{"$f":"IF(B5892=\"-\",\"\",IF(OR(B5892=M$39,B5892=M$40,B5892=M$41,B5892=M$42,B5892=M$43,B5892=M$44,B5892=M$45,B5892=M$46,B5892=M$47,,B5892=M$50,B5892=M$51,B5892=M$52,B5892=M$53,B5892=M$54,B5892=M$55,B5892=M$56,B5892=M$57,B5892=M$70),\"\",IF(C5892=\"\",\"indip\",F5892)))","v":"indip"}]
[{"$f":"IF(B5893=\"\",\"\",ROW(A5890))","v":""},null,{"$f":"IF(ISERROR(VLOOKUP(B5893,database!$B$2:$C$6001,2,FALSE)),\"\",VLOOKUP(B5893,database!$B$2:$C$6001,2,FALSE))","v":""},null,null,null,{"$f":"IF(B5893=\"\",\"\",IF(B5893=\"-\",0,IF(W5893=1,1,IF(AND(U5893=0,F5893=\"SSB\"),2,IF(AND(U5893=0,F5893=\"DIGI\"),3,IF(AND(U5893=0,F5893=\"CW\"),5,U5893))))))","v":""},null,null,null,{"$f":"IF(ISERROR(VLOOKUP(B5893,database!$B$2:$D$6001,3,FALSE)),\"\",VLOOKUP(B5893,database!$B$2:$D$6001,3,FALSE))","v":""},null,null,null,null,null,null,{"$f":"LEFT(C5893,2)","v":""},null,null,0,null,1,"indip"]
["",null,{"$f":"IF(ISERROR(VLOOKUP(B5894,database!$B$2:$C$6001,2,FALSE)),\"\",VLOOKUP(B5894,database!$B$2:$C$6001,2,FALSE))","v":""},null,null,null,"",null,null,null,{"$f":"IF(ISERROR(VLOOKUP(B5894,database!$B$2:$D$6001,3,FALSE)),\"\",VLOOKUP(B5894,database!$B$2:$D$6001,3,FALSE))","v":""},null,null,null,null,null,null,"",null,null,0,null,1,"indip"]
["",null,{"$f":"IF(ISERROR(VLOOKUP(B5895,database!$B$2:$C$6001,2,FALSE)),\"\",VLOOKUP(B5895,database!$B$2:$C$6001,2,FALSE))","v":""},null,null,null,"",null,null,null,{"$f":"IF(ISERROR(VLOOKUP(B5895,database!$B$2:$D$6001,3,FALSE)),\"\",VLOOKUP(B5895,database!$B$2:$D$6001,3,FALSE))","v":""},null,null,null,null,null,null,"",null,null,0,null,1,"indip"]
["",null,{"$f":"IF(ISERROR(VLOOKUP(B5896,database!$B$2:$C$6001,2,FALSE)),\"\",VLOOKUP(B5896,database!$B$2:$C$6001,2,FALSE))","v":""},null,null,null,"",null,null,null,{"$f":"IF(ISERROR(VLOOKUP(B5896,database!$B$2:$D$6001,3,FALSE)),\"\",VLOOKUP(B5896,database!$B$2:$D$6001,3,FALSE))","v":""},null,null,null,null,null,null,"",null,null,0,null,1,"indip"]
["",null,{"$f":"IF(ISERROR(VLOOKUP(B5897,database!$B$2:$C$6001,2,FALSE)),\"\",VLOOKUP(B5897,database!$B$2:$C$6001,2,FALSE))","v":""},null,null,null,"",null,null,null,{"$f":"IF(ISERROR(VLOOKUP(B5897,database!$B$2:$D$6001,3,FALSE)),\"\",VLOOKUP(B5897,database!$B$2:$D$6001,3,FALSE))","v":""},null,null,null,null,null,null,"",null,null,0,null,1,"indip"]
["",null,{"$f":"IF(ISERROR(VLOOKUP(B5898,database!$B$2:$C$6001,2,FALSE)),\"\",VLOOKUP(B5898,database!$B$2:$C$6001,2,FALSE))","v":""},null,null,null,"",null,null,null,{"$f":"IF(ISERROR(VLOOKUP(B5898,database!$B$2:$D$6001,3,FALSE)),\"\",VLOOKUP(B5898,database!$B$2:$D$6001,3,FALSE))","v":""},null,null,null,null,null,null,"",null,null,0,null,1,"indip"]
["",null,{"$f":"IF(ISERROR(VLOOKUP(B5899,database!$B$2:$C$6001,2,FALSE)),\"\",VLOOKUP(B5899,database!$B$2:$C$6001,2,FALSE))","v":""},null,null,null,"",null,null,null,{"$f":"IF(ISERROR(VLOOKUP(B5899,database!$B$2:$D$6001,3,FALSE)),\"\",VLOOKUP(B5899,database!$B$2:$D$6001,3,FALSE))","v":""},null,null,null,null,null,null,"",null,null,0,null,1,"indip"]
["",null,{"$f":"IF(ISERROR(VLOOKUP(B5900,database!$B$2:$C$6001,2,FALSE)),\"\",VLOOKUP(B5900,database!$B$2:$C$6001,2,FALSE))","v":""},null,null,null,"",null,null,null,{"$f":"IF(ISERROR(VLOOKUP(B5900,database!$B$2:$D$6001,3,FALSE)),\"\",VLOOKUP(B5900,database!$B$2:$D$6001,3,FALSE))","v":""},null,null,null,null,null,null,"",null,null,0,null,1,"indip"]
["",null,{"$f":"IF(ISERROR(VLOOKUP(B5901,database!$B$2:$C$6001,2,FALSE)),\"\",VLOOKUP(B5901,database!$B$2:$C$6001,2,FALSE))","v":""},null,null,null,"",null,null,null,{"$f":"IF(ISERROR(VLOOKUP(B5901,database!$B$2:$D$6001,3,FALSE)),\"\",VLOOKUP(B5901,database!$B$2:$D$6001,3,FALSE))","v":""},null,null,null,null,null,null,"",null,null,0,null,1,"indip"]
["",null,{"$f":"IF(ISERROR(VLOOKUP(B5902,database!$B$2:$C$6001,2,FALSE)),\"\",VLOOKUP(B5902,database!$B$2:$C$6001,2,FALSE))","v":""},null,null,null,"",null,null,null,{"$f":"IF(ISERROR(VLOOKUP(B5902,database!$B$2:$D$6001,3,FALSE)),\"\",VLOOKUP(B5902,database!$B$2:$D$6001,3,FALSE))","v":""},null,null,null,null,null,null,"",null,null,0,null,1,"indip"]
["",null,{"$f":"IF(ISERROR(VLOOKUP(B5903,database!$B$2:$C$6001,2,FALSE)),\"\",VLOOKUP(B5903,database!$B$2:$C$6001,2,FALSE))","v":""},null,null,null,"",null,null,null,{"$f":"IF(ISERROR(VLOOKUP(B5903,database!$B$2:$D$6001,3,FALSE)),\"\",VLOOKUP(B5903,database!$B$2:$D$6001,3,FALSE))","v":""},null,null,null,null,null,null,"",null,null,0,null,1,"indip"]
["",null,{"$f":"IF(ISERROR(VLOOKUP(B5904,database!$B$2:$C$6001,2,FALSE)),\"\",VLOOKUP(B5904,database!$B$2:$C$6001,2,FALSE))","v":""},null,null,null,"",null,null,null,{"$f":"IF(ISERROR(VLOOKUP(B5904,database!$B$2:$D$6001,3,FALSE)),\"\",VLOOKUP(B5904,database!$B$2:$D$6001,3,FALSE))","v":""},null,null,null,null,null,null,"",null,null,0,null,1,"indip"]
["",null,{"$f":"IF(ISERROR(VLOOKUP(B5905,database!$B$2:$C$6001,2,FALSE)),\"\",VLOOKUP(B5905,database!$B$2:$C$6001,2,FALSE))","v":""},null,null,null,"",null,null,null,{"$f":"IF(ISERROR(VLOOKUP(B5905,database!$B$2:$D$6001,3,FALSE)),\"\",VLOOKUP(B5905,database!$B$2:$D$6001,3,FALSE))","v":""},null,null,null,null,null,null,"",null,null,0,null,1,"indip"]
["",null,{"$f":"IF(ISERROR(VLOOKUP(B5906,database!$B$2:$C$6001,2,FALSE)),\"\",VLOOKUP(B5906,database!$B$2:$C$6001,2,FALSE))","v":""},null,null,null,"",null,null,null,{"$f":"IF(ISERROR(VLOOKUP(B5906,database!$B$2:$D$6001,3,FALSE)),\"\",VLOOKUP(B5906,database!$B$2:$D$6001,3,FALSE))","v":""},null,null,null,null,null,null,"",null,null,0,null,1,"indip"]
["",null,{"$f":"IF(ISERROR(VLOOKUP(B5907,database!$B$2:$C$6001,2,FALSE)),\"\",VLOOKUP(B5907,database!$B$2:$C$6001,2,FALSE))","v":""},null,null,null,"",null,null,null,{"$f":"IF(ISERROR(VLOOKUP(B5907,database!$B$2:$D$6001,3,FALSE)),\"\",VLOOKUP(B5907,database!$B$2:$D$6001,3,FALSE))","v":""},null,null,null,null,null,null,"",null,null,0,null,1,"indip"]
["",null,{"$f":"IF(ISERROR(VLOOKUP(B5908,database!$B$2:$C$6001,2,FALSE)),\"\",VLOOKUP(B5908,database!$B$2:$C$6001,2,FALSE))","v":""},null,null,null,"",null,null,null,{"$f":"IF(ISERROR(VLOOKUP(B5908,database!$B$2:$D$6001,3,FALSE)),\"\",VLOOKUP(B5908,database!$B$2:$D$6001,3,FALSE))","v":""},null,null,null,null,null,null,"",null,null,0,null,1,"indip"]
["",null,{"$f":"IF(ISERROR(VLOOKUP(B5909,database!$B$2:$C$6001,2,FALSE)),\"\",VLOOKUP(B5909,database!$B$2:$C$6001,2,FALSE))","v":""},null,null,null,"",null,null,null,{"$f":"IF(ISERROR(VLOOKUP(B5909,database!$B$2:$D$6001,3,FALSE)),\"\",VLOOKUP(B5909,database!$B$2:$D$6001,3,FALSE))","v":""},null,null,null,null,null,null,"",null,null,0,null,1,"indip"]
["",null,{"$f":"IF(ISERROR(VLOOKUP(B5910,database!$B$2:$C$6001,2,FALSE)),\"\",VLOOKUP(B5910,database!$B$2:$C$6001,2,FALSE))","v":""},null,null,null,"",null,null,null,{"$f":"IF(ISERROR(VLOOKUP(B5910,database!$B$2:$D$6001,3,FALSE)),\"\",VLOOKUP(B5910,database!$B$2:$D$6001,3,FALSE))","v":""},null,null,null,null,null,null,"",null,null,0,null,1,"indip"]
["",null,{"$f":"IF(ISERROR(VLOOKUP(B5911,database!$B$2:$C$6001,2,FALSE)),\"\",VLOOKUP(B5911,database!$B$2:$C$6001,2,FALSE))","v":""},null,null,null,"",null,null,null,{"$f":"IF(ISERROR(VLOOKUP(B5911,database!$B$2:$D$6001,3,FALSE)),\"\",VLOOKUP(B5911,database!$B$2:$D$6001,3,FALSE))","v":""},null,null,null,null,null,null,"",null,null,0,null,1,"indip"]
["",null,{"$f":"IF(ISERROR(VLOOKUP(B5912,database!$B$2:$C$6001,2,FALSE)),\"\",VLOOKUP(B5912,database!$B$2:$C$6001,2,FALSE))","v":""},null,null,null,"",null,null,null,{"$f":"IF(ISERROR(VLOOKUP(B5912,database!$B$2:$D$6001,3,FALSE)),\"\",VLOOKUP(B5912,database!$B$2:$D$6001,3,FALSE))","v":""},null,null,null,null,null,null,"",null,null,0,null,1,"indip"]
["",null,{"$f":"IF(ISERROR(VLOOKUP(B5913,database!$B$2:$C$6001,2,FALSE)),\"\",VLOOKUP(B5913,database!$B$2:$C$6001,2,FALSE))","v":""},null,null,null,"",null,null,null,{"$f":"IF(ISERROR(VLOOKUP(B5913,database!$B$2:$D$6001,3,FALSE)),\"\",VLOOKUP(B5913,database!$B$2:$D$6001,3,FALSE))","v":""},null,null,null,null,null,null,"",null,null,0,null,1,"indip"]
["",null,{"$f":"IF(ISERROR(VLOOKUP(B5914,database!$B$2:$C$6001,2,FALSE)),\"\",VLOOKUP(B5914,database!$B$2:$C$6001,2,FALSE))","v":""},null,null,null,"",null,null,null,{"$f":"IF(ISERROR(VLOOKUP(B5914,database!$B$2:$D$6001,3,FALSE)),\"\",VLOOKUP(B5914,database!$B$2:$D$6001,3,FALSE))","v":""},null,null,null,null,null,null,"",null,null,0,null,1,"indip"]
["",null,{"$f":"IF(ISERROR(VLOOKUP(B5915,database!$B$2:$C$6001,2,FALSE)),\"\",VLOOKUP(B5915,database!$B$2:$C$6001,2,FALSE))","v":""},null,null,null,"",null,null,null,{"$f":"IF(ISERROR(VLOOKUP(B5915,database!$B$2:$D$6001,3,FALSE)),\"\",VLOOKUP(B5915,database!$B$2:$D$6001,3,FALSE))","v":""},null,null,null,null,null,null,"",null,null,0,null,1,"indip"]
["",null,{"$f":"IF(ISERROR(VLOOKUP(B5916,database!$B$2:$C$6001,2,FALSE)),\"\",VLOOKUP(B5916,database!$B$2:$C$6001,2,FALSE))","v":""},null,null,null,"",null,null,null,{"$f":"IF(ISERROR(VLOOKUP(B5916,database!$B$2:$D$6001,3,FALSE)),\"\",VLOOKUP(B5916,database!$B$2:$D$6001,3,FALSE))","v":""},null,null,null,null,null,null,"",null,null,0,null,1,"indip"]
["",null,{"$f":"IF(ISERROR(VLOOKUP(B5917,database!$B$2:$C$6001,2,FALSE)),\"\",VLOOKUP(B5917,database!$B$2:$C$6001,2,FALSE))","v":""},null,null,null,"",null,null,null,{"$f":"IF(ISERROR(VLOOKUP(B5917,database!$B$2:$D$6001,3,FALSE)),\"\",VLOOKUP(B5917,database!$B$2:$D$6001,3,FALSE))","v":""},null,null,null,null,null,null,"",null,null,0,null,1,"indip"]
["",null,{"$f":"IF(ISERROR(VLOOKUP(B5918,database!$B$2:$C$6001,2,FALSE)),\"\",VLOOKUP(B5918,database!$B$2:$C$6001,2,FALSE))","v":""},null,null,null,"",null,null,null,{"$f":"IF(ISERROR(VLOOKUP(B5918,database!$B$2:$D$6001,3,FALSE)),\"\",VLOOKUP(B5918,database!$B$2:$D$6001,3,FALSE))","v":""},null,null,null,null,null,null,"",null,null,0,null,1,"indip"]
["",null,{"$f":"IF(ISERROR(VLOOKUP(B5919,database!$B$2:$C$6001,2,FALSE)),\"\",VLOOKUP(B5919,database!$B$2:$C$6001,2,FALSE))","v":""},null,null,null,"",null,null,null,{"$f":"IF(ISERROR(VLOOKUP(B5919,database!$B$2:$D$6001,3,FALSE)),\"\",VLOOKUP(B5919,database!$B$2:$D$6001,3,FALSE))","v":""},null,null,null,null,null,null,"",null,null,0,null,1,"indip"]
["",null,{"$f":"IF(ISERROR(VLOOKUP(B5920,database!$B$2:$C$6001,2,FALSE)),\"\",VLOOKUP(B5920,database!$B$2:$C$6001,2,FALSE))","v":""},null,null,null,"",null,null,null,{"$f":"IF(ISERROR(VLOOKUP(B5920,database!$B$2:$D$6001,3,FALSE)),\"\",VLOOKUP(B5920,database!$B$2:$D$6001,3,FALSE))","v":""},null,null,null,null,null,null,"",null,null,0,null,1,"indip"]
["",null,{"$f":"IF(ISERROR(VLOOKUP(B5921,database!$B$2:$C$6001,2,FALSE)),\"\",VLOOKUP(B5921,database!$B$2:$C$6001,2,FALSE))","v":""},null,null,null,"",null,null,null,{"$f":"IF(ISERROR(VLOOKUP(B5921,database!$B$2:$D$6001,3,FALSE)),\"\",VLOOKUP(B5921,database!$B$2:$D$6001,3,FALSE))","v":""},null,null,null,null,null,null,"",null,null,0,null,1,"indip"]
["",null,{"$f":"IF(ISERROR(VLOOKUP(B5922,database!$B$2:$C$6001,2,FALSE)),\"\",VLOOKUP(B5922,database!$B$2:$C$6001,2,FALSE))","v":""},null,null,null,"",null,null,null,{"$f":"IF(ISERROR(VLOOKUP(B5922,database!$B$2:$D$6001,3,FALSE)),\"\",VLOOKUP(B5922,database!$B$2:$D$6001,3,FALSE))","v":""},null,null,null,null,null,null,"",null,null,0,null,1,"indip"]
["",null,{"$f":"IF(ISERROR(VLOOKUP(B5923,database!$B$2:$C$6001,2,FALSE)),\"\",VLOOKUP(B5923,database!$B$2:$C$6001,2,FALSE))","v":""},null,null,null,"",null,null,null,{"$f":"IF(ISERROR(VLOOKUP(B5923,database!$B$2:$D$6001,3,FALSE)),\"\",VLOOKUP(B5923,database!$B$2:$D$6001,3,FALSE))","v":""},null,null,null,null,null,null,"",null,null,0,null,1,"indip"]
["",null,{"$f":"IF(ISERROR(VLOOKUP(B5924,database!$B$2:$C$6001,2,FALSE)),\"\",VLOOKUP(B5924,database!$B$2:$C$6001,2,FALSE))","v":""},null,null,null,"",null,null,null,{"$f":"IF(ISERROR(VLOOKUP(B5924,database!$B$2:$D$6001,3,FALSE)),\"\",VLOOKUP(B5924,database!$B$2:$D$6001,3,FALSE))","v":""},null,null,null,null,null,null,"",null,null,0,null,1,"indip"]
["",null,{"$f":"IF(ISERROR(VLOOKUP(B5925,database!$B$2:$C$6001,2,FALSE)),\"\",VLOOKUP(B5925,database!$B$2:$C$6001,2,FALSE))","v":""},null,null,null,"",null,null,null,{"$f":"IF(ISERROR(VLOOKUP(B5925,database!$B$2:$D$6001,3,FALSE)),\"\",VLOOKUP(B5925,database!$B$2:$D$6001,3,FALSE))","v":""},null,null,null,null,null,null,"",null,null,0,null,1,"indip"]
["",null,{"$f":"IF(ISERROR(VLOOKUP(B5926,database!$B$2:$C$6001,2,FALSE)),\"\",VLOOKUP(B5926,database!$B$2:$C$6001,2,FALSE))","v":""},null,null,null,"",null,null,null,{"$f":"IF(ISERROR(VLOOKUP(B5926,database!$B$2:$D$6001,3,FALSE)),\"\",VLOOKUP(B5926,database!$B$2:$D$6001,3,FALSE))","v":""},null,null,null,null,null,null,"",null,null,0,null,1,"indip"]
["",null,{"$f":"IF(ISERROR(VLOOKUP(B5927,database!$B$2:$C$6001,2,FALSE)),\"\",VLOOKUP(B5927,database!$B$2:$C$6001,2,FALSE))","v":""},null,null,null,"",null,null,null,{"$f":"IF(ISERROR(VLOOKUP(B5927,database!$B$2:$D$6001,3,FALSE)),\"\",VLOOKUP(B5927,database!$B$2:$D$6001,3,FALSE))","v":""},null,null,null,null,null,null,"",null,null,0,null,1,"indip"]
["",null,{"$f":"IF(ISERROR(VLOOKUP(B5928,database!$B$2:$C$6001,2,FALSE)),\"\",VLOOKUP(B5928,database!$B$2:$C$6001,2,FALSE))","v":""},null,null,null,"",null,null,null,{"$f":"IF(ISERROR(VLOOKUP(B5928,database!$B$2:$D$6001,3,FALSE)),\"\",VLOOKUP(B5928,database!$B$2:$D$6001,3,FALSE))","v":""},null,null,null,null,null,null,"",null,null,0,null,1,"indip"]
["",null,{"$f":"IF(ISERROR(VLOOKUP(B5929,database!$B$2:$C$6001,2,FALSE)),\"\",VLOOKUP(B5929,database!$B$2:$C$6001,2,FALSE))","v":""},null,null,null,"",null,null,null,{"$f":"IF(ISERROR(VLOOKUP(B5929,database!$B$2:$D$6001,3,FALSE)),\"\",VLOOKUP(B5929,database!$B$2:$D$6001,3,FALSE))","v":""},null,null,null,null,null,null,"",null,null,0,null,1,"indip"]
["",null,{"$f":"IF(ISERROR(VLOOKUP(B5930,database!$B$2:$C$6001,2,FALSE)),\"\",VLOOKUP(B5930,database!$B$2:$C$6001,2,FALSE))","v":""},null,null,null,"",null,null,null,{"$f":"IF(ISERROR(VLOOKUP(B5930,database!$B$2:$D$6001,3,FALSE)),\"\",VLOOKUP(B5930,database!$B$2:$D$6001,3,FALSE))","v":""},null,null,null,null,null,null,"",null,null,0,null,1,"indip"]
["",null,{"$f":"IF(ISERROR(VLOOKUP(B5931,database!$B$2:$C$6001,2,FALSE)),\"\",VLOOKUP(B5931,database!$B$2:$C$6001,2,FALSE))","v":""},null,null,null,"",null,null,null,{"$f":"IF(ISERROR(VLOOKUP(B5931,database!$B$2:$D$6001,3,FALSE)),\"\",VLOOKUP(B5931,database!$B$2:$D$6001,3,FALSE))","v":""},null,null,null,null,null,null,"",null,null,0,null,1,"indip"]
["",null,{"$f":"IF(ISERROR(VLOOKUP(B5932,database!$B$2:$C$6001,2,FALSE)),\"\",VLOOKUP(B5932,database!$B$2:$C$6001,2,FALSE))","v":""},null,null,null,"",null,null,null,{"$f":"IF(ISERROR(VLOOKUP(B5932,database!$B$2:$D$6001,3,FALSE)),\"\",VLOOKUP(B5932,database!$B$2:$D$6001,3,FALSE))","v":""},null,null,null,null,null,null,"",null,null,0,null,1,"indip"]
["",null,{"$f":"IF(ISERROR(VLOOKUP(B5933,database!$B$2:$C$6001,2,FALSE)),\"\",VLOOKUP(B5933,database!$B$2:$C$6001,2,FALSE))","v":""},null,null,null,"",null,null,null,{"$f":"IF(ISERROR(VLOOKUP(B5933,database!$B$2:$D$6001,3,FALSE)),\"\",VLOOKUP(B5933,database!$B$2:$D$6001,3,FALSE))","v":""},null,null,null,null,null,null,"",null,null,0,null,1,"indip"]
["",null,{"$f":"IF(ISERROR(VLOOKUP(B5934,database!$B$2:$C$6001,2,FALSE)),\"\",VLOOKUP(B5934,database!$B$2:$C$6001,2,FALSE))","v":""},null,null,null,"",null,null,null,{"$f":"IF(ISERROR(VLOOKUP(B5934,database!$B$2:$D$6001,3,FALSE)),\"\",VLOOKUP(B5934,database!$B$2:$D$6001,3,FALSE))","v":""},null,null,null,null,null,null,"",null,null,0,null,1,"indip"]
["",null,{"$f":"IF(ISERROR(VLOOKUP(B5935,database!$B$2:$C$6001,2,FALSE)),\"\",VLOOKUP(B5935,database!$B$2:$C$6001,2,FALSE))","v":""},null,null,null,"",null,null,null,{"$f":"IF(ISERROR(VLOOKUP(B5935,database!$B$2:$D$6001,3,FALSE)),\"\",VLOOKUP(B5935,database!$B$2:$D$6001,3,FALSE))","v":""},null,null,null,null,null,null,"",null,null,0,null,1,"indip"]
["",null,{"$f":"IF(ISERROR(VLOOKUP(B5936,database!$B$2:$C$6001,2,FALSE)),\"\",VLOOKUP(B5936,database!$B$2:$C$6001,2,FALSE))","v":""},null,null,null,"",null,null,null,{"$f":"IF(ISERROR(VLOOKUP(B5936,database!$B$2:$D$6001,3,FALSE)),\"\",VLOOKUP(B5936,database!$B$2:$D$6001,3,FALSE))","v":""},null,null,null,null,null,null,"",null,null,0,null,1,"indip"]
["",null,{"$f":"IF(ISERROR(VLOOKUP(B5937,database!$B$2:$C$6001,2,FALSE)),\"\",VLOOKUP(B5937,database!$B$2:$C$6001,2,FALSE))","v":""},null,null,null,"",null,null,null,{"$f":"IF(ISERROR(VLOOKUP(B5937,database!$B$2:$D$6001,3,FALSE)),\"\",VLOOKUP(B5937,database!$B$2:$D$6001,3,FALSE))","v":""},null,null,null,null,null,null,"",null,null,0,null,1,"indip"]
["",null,{"$f":"IF(ISERROR(VLOOKUP(B5938,database!$B$2:$C$6001,2,FALSE)),\"\",VLOOKUP(B5938,database!$B$2:$C$6001,2,FALSE))","v":""},null,null,null,"",null,null,null,{"$f":"IF(ISERROR(VLOOKUP(B5938,database!$B$2:$D$6001,3,FALSE)),\"\",VLOOKUP(B5938,database!$B$2:$D$6001,3,FALSE))","v":""},null,null,null,null,null,null,"",null,null,0,null,1,"indip"]
["",null,{"$f":"IF(ISERROR(VLOOKUP(B5939,database!$B$2:$C$6001,2,FALSE)),\"\",VLOOKUP(B5939,database!$B$2:$C$6001,2,FALSE))","v":""},null,null,null,"",null,null,null,{"$f":"IF(ISERROR(VLOOKUP(B5939,database!$B$2:$D$6001,3,FALSE)),\"\",VLOOKUP(B5939,database!$B$2:$D$6001,3,FALSE))","v":""},null,null,null,null,null,null,"",null,null,0,null,1,"indip"]
["",null,{"$f":"IF(ISERROR(VLOOKUP(B5940,database!$B$2:$C$6001,2,FALSE)),\"\",VLOOKUP(B5940,database!$B$2:$C$6001,2,FALSE))","v":""},null,null,null,"",null,null,null,{"$f":"IF(ISERROR(VLOOKUP(B5940,database!$B$2:$D$6001,3,FALSE)),\"\",VLOOKUP(B5940,database!$B$2:$D$6001,3,FALSE))","v":""},null,null,null,null,null,null,"",null,null,0,null,1,"indip"]
["",null,{"$f":"IF(ISERROR(VLOOKUP(B5941,database!$B$2:$C$6001,2,FALSE)),\"\",VLOOKUP(B5941,database!$B$2:$C$6001,2,FALSE))","v":""},null,null,null,"",null,null,null,{"$f":"IF(ISERROR(VLOOKUP(B5941,database!$B$2:$D$6001,3,FALSE)),\"\",VLOOKUP(B5941,database!$B$2:$D$6001,3,FALSE))","v":""},null,null,null,null,null,null,"",null,null,0,null,1,"indip"]
["",null,{"$f":"IF(ISERROR(VLOOKUP(B5942,database!$B$2:$C$6001,2,FALSE)),\"\",VLOOKUP(B5942,database!$B$2:$C$6001,2,FALSE))","v":""},null,null,null,"",null,null,null,{"$f":"IF(ISERROR(VLOOKUP(B5942,database!$B$2:$D$6001,3,FALSE)),\"\",VLOOKUP(B5942,database!$B$2:$D$6001,3,FALSE))","v":""},null,null,null,null,null,null,"",null,null,0,null,1,"indip"]
["",null,{"$f":"IF(ISERROR(VLOOKUP(B5943,database!$B$2:$C$6001,2,FALSE)),\"\",VLOOKUP(B5943,database!$B$2:$C$6001,2,FALSE))","v":""},null,null,null,"",null,null,null,{"$f":"IF(ISERROR(VLOOKUP(B5943,database!$B$2:$D$6001,3,FALSE)),\"\",VLOOKUP(B5943,database!$B$2:$D$6001,3,FALSE))","v":""},null,null,null,null,null,null,"",null,null,0,null,1,"indip"]
["",null,{"$f":"IF(ISERROR(VLOOKUP(B5944,database!$B$2:$C$6001,2,FALSE)),\"\",VLOOKUP(B5944,database!$B$2:$C$6001,2,FALSE))","v":""},null,null,null,"",null,null,null,{"$f":"IF(ISERROR(VLOOKUP(B5944,database!$B$2:$D$6001,3,FALSE)),\"\",VLOOKUP(B5944,database!$B$2:$D$6001,3,FALSE))","v":""},null,null,null,null,null,null,"",null,null,0,null,1,"indip"]
["",null,{"$f":"IF(ISERROR(VLOOKUP(B5945,database!$B$2:$C$6001,2,FALSE)),\"\",VLOOKUP(B5945,database!$B$2:$C$6001,2,FALSE))","v":""},null,null,null,"",null,null,null,{"$f":"IF(ISERROR(VLOOKUP(B5945,database!$B$2:$D$6001,3,FALSE)),\"\",VLOOKUP(B5945,database!$B$2:$D$6001,3,FALSE))","v":""},null,null,null,null,null,null,"",null,null,0,null,1,"indip"]
["",null,{"$f":"IF(ISERROR(VLOOKUP(B5946,database!$B$2:$C$6001,2,FALSE)),\"\",VLOOKUP(B5946,database!$B$2:$C$6001,2,FALSE))","v":""},null,null,null,"",null,null,null,{"$f":"IF(ISERROR(VLOOKUP(B5946,database!$B$2:$D$6001,3,FALSE)),\"\",VLOOKUP(B5946,database!$B$2:$D$6001,3,FALSE))","v":""},null,null,null,null,null,null,"",null,null,0,null,1,"indip"]
["",null,{"$f":"IF(ISERROR(VLOOKUP(B5947,database!$B$2:$C$6001,2,FALSE)),\"\",VLOOKUP(B5947,database!$B$2:$C$6001,2,FALSE))","v":""},null,null,null,"",null,null,null,{"$f":"IF(ISERROR(VLOOKUP(B5947,database!$B$2:$D$6001,3,FALSE)),\"\",VLOOKUP(B5947,database!$B$2:$D$6001,3,FALSE))","v":""},null,null,null,null,null,null,"",null,null,0,null,1,"indip"]
["",null,{"$f":"IF(ISERROR(VLOOKUP(B5948,database!$B$2:$C$6001,2,FALSE)),\"\",VLOOKUP(B5948,database!$B$2:$C$6001,2,FALSE))","v":""},null,null,null,"",null,null,null,{"$f":"IF(ISERROR(VLOOKUP(B5948,database!$B$2:$D$6001,3,FALSE)),\"\",VLOOKUP(B5948,database!$B$2:$D$6001,3,FALSE))","v":""},null,null,null,null,null,null,"",null,null,0,null,1,"indip"]
["",null,{"$f":"IF(ISERROR(VLOOKUP(B5949,database!$B$2:$C$6001,2,FALSE)),\"\",VLOOKUP(B5949,database!$B$2:$C$6001,2,FALSE))","v":""},null,null,null,"",null,null,null,{"$f":"IF(ISERROR(VLOOKUP(B5949,database!$B$2:$D$6001,3,FALSE)),\"\",VLOOKUP(B5949,database!$B$2:$D$6001,3,FALSE))","v":""},null,null,null,null,null,null,"",null,null,0,null,1,"indip"]
["",null,{"$f":"IF(ISERROR(VLOOKUP(B5950,database!$B$2:$C$6001,2,FALSE)),\"\",VLOOKUP(B5950,database!$B$2:$C$6001,2,FALSE))","v":""},null,null,null,"",null,null,null,{"$f":"IF(ISERROR(VLOOKUP(B5950,database!$B$2:$D$6001,3,FALSE)),\"\",VLOOKUP(B5950,database!$B$2:$D$6001,3,FALSE))","v":""},null,null,null,null,null,null,"",null,null,0,null,1,"indip"]
["",null,{"$f":"IF(ISERROR(VLOOKUP(B5951,database!$B$2:$C$6001,2,FALSE)),\"\",VLOOKUP(B5951,database!$B$2:$C$6001,2,FALSE))","v":""},null,null,null,"",null,null,null,{"$f":"IF(ISERROR(VLOOKUP(B5951,database!$B$2:$D$6001,3,FALSE)),\"\",VLOOKUP(B5951,database!$B$2:$D$6001,3,FALSE))","v":""},null,null,null,null,null,null,"",null,null,0,null,1,"indip"]
["",null,{"$f":"IF(ISERROR(VLOOKUP(B5952,database!$B$2:$C$6001,2,FALSE)),\"\",VLOOKUP(B5952,database!$B$2:$C$6001,2,FALSE))","v":""},null,null,null,"",null,null,null,{"$f":"IF(ISERROR(VLOOKUP(B5952,database!$B$2:$D$6001,3,FALSE)),\"\",VLOOKUP(B5952,database!$B$2:$D$6001,3,FALSE))","v":""},null,null,null,null,null,null,"",null,null,0,null,1,"indip"]
["",null,{"$f":"IF(ISERROR(VLOOKUP(B5953,database!$B$2:$C$6001,2,FALSE)),\"\",VLOOKUP(B5953,database!$B$2:$C$6001,2,FALSE))","v":""},null,null,null,"",null,null,null,{"$f":"IF(ISERROR(VLOOKUP(B5953,database!$B$2:$D$6001,3,FALSE)),\"\",VLOOKUP(B5953,database!$B$2:$D$6001,3,FALSE))","v":""},null,null,null,null,null,null,"",null,null,0,null,1,"indip"]
["",null,{"$f":"IF(ISERROR(VLOOKUP(B5954,database!$B$2:$C$6001,2,FALSE)),\"\",VLOOKUP(B5954,database!$B$2:$C$6001,2,FALSE))","v":""},null,null,null,"",null,null,null,{"$f":"IF(ISERROR(VLOOKUP(B5954,database!$B$2:$D$6001,3,FALSE)),\"\",VLOOKUP(B5954,database!$B$2:$D$6001,3,FALSE))","v":""},null,null,null,null,null,null,"",null,null,0,null,1,"indip"]
["",null,{"$f":"IF(ISERROR(VLOOKUP(B5955,database!$B$2:$C$6001,2,FALSE)),\"\",VLOOKUP(B5955,database!$B$2:$C$6001,2,FALSE))","v":""},null,null,null,"",null,null,null,{"$f":"IF(ISERROR(VLOOKUP(B5955,database!$B$2:$D$6001,3,FALSE)),\"\",VLOOKUP(B5955,database!$B$2:$D$6001,3,FALSE))","v":""},null,null,null,null,null,null,"",null,null,0,null,1,"indip"]
["",null,{"$f":"IF(ISERROR(VLOOKUP(B5956,database!$B$2:$C$6001,2,FALSE)),\"\",VLOOKUP(B5956,database!$B$2:$C$6001,2,FALSE))","v":""},null,null,null,"",null,null,null,{"$f":"IF(ISERROR(VLOOKUP(B5956,database!$B$2:$D$6001,3,FALSE)),\"\",VLOOKUP(B5956,database!$B$2:$D$6001,3,FALSE))","v":""},null,null,null,null,null,null,"",null,null,{"$f":"IFERROR(INDEX(M$39:N$140,MATCH(B5956,M$39:M$140,0),2),0)","v":0},null,{"$f":"IF(AND(U5956=0,C5956=\"\"),1,2)","v":1},{"$f":"IF(B5956=\"-\",\"\",IF(OR(B5956=M$39,B5956=M$40,B5956=M$41,B5956=M$42,B5956=M$43,B5956=M$44,B5956=M$45,B5956=M$46,B5956=M$47,,B5956=M$50,B5956=M$51,B5956=M$52,B5956=M$53,B5956=M$54,B5956=M$55,B5956=M$56,B5956=M$57,B5956=M$70),\"\",IF(C5956=\"\",\"indip\",F5956)))","v":"indip"}]
[{"$f":"IF(B5957=\"\",\"\",ROW(A5954))","v":""},null,{"$f":"IF(ISERROR(VLOOKUP(B5957,database!$B$2:$C$6001,2,FALSE)),\"\",VLOOKUP(B5957,database!$B$2:$C$6001,2,FALSE))","v":""},null,null,null,{"$f":"IF(B5957=\"\",\"\",IF(B5957=\"-\",0,IF(W5957=1,1,IF(AND(U5957=0,F5957=\"SSB\"),2,IF(AND(U5957=0,F5957=\"DIGI\"),3,IF(AND(U5957=0,F5957=\"CW\"),5,U5957))))))","v":""},null,null,null,{"$f":"IF(ISERROR(VLOOKUP(B5957,database!$B$2:$D$6001,3,FALSE)),\"\",VLOOKUP(B5957,database!$B$2:$D$6001,3,FALSE))","v":""},null,null,null,null,null,null,{"$f":"LEFT(C5957,2)","v":""},null,null,0,null,1,"indip"]
["",null,{"$f":"IF(ISERROR(VLOOKUP(B5958,database!$B$2:$C$6001,2,FALSE)),\"\",VLOOKUP(B5958,database!$B$2:$C$6001,2,FALSE))","v":""},null,null,null,"",null,null,null,{"$f":"IF(ISERROR(VLOOKUP(B5958,database!$B$2:$D$6001,3,FALSE)),\"\",VLOOKUP(B5958,database!$B$2:$D$6001,3,FALSE))","v":""},null,null,null,null,null,null,"",null,null,0,null,1,"indip"]
["",null,{"$f":"IF(ISERROR(VLOOKUP(B5959,database!$B$2:$C$6001,2,FALSE)),\"\",VLOOKUP(B5959,database!$B$2:$C$6001,2,FALSE))","v":""},null,null,null,"",null,null,null,{"$f":"IF(ISERROR(VLOOKUP(B5959,database!$B$2:$D$6001,3,FALSE)),\"\",VLOOKUP(B5959,database!$B$2:$D$6001,3,FALSE))","v":""},null,null,null,null,null,null,"",null,null,0,null,1,"indip"]
["",null,{"$f":"IF(ISERROR(VLOOKUP(B5960,database!$B$2:$C$6001,2,FALSE)),\"\",VLOOKUP(B5960,database!$B$2:$C$6001,2,FALSE))","v":""},null,null,null,"",null,null,null,{"$f":"IF(ISERROR(VLOOKUP(B5960,database!$B$2:$D$6001,3,FALSE)),\"\",VLOOKUP(B5960,database!$B$2:$D$6001,3,FALSE))","v":""},null,null,null,null,null,null,"",null,null,0,null,1,"indip"]
["",null,{"$f":"IF(ISERROR(VLOOKUP(B5961,database!$B$2:$C$6001,2,FALSE)),\"\",VLOOKUP(B5961,database!$B$2:$C$6001,2,FALSE))","v":""},null,null,null,"",null,null,null,{"$f":"IF(ISERROR(VLOOKUP(B5961,database!$B$2:$D$6001,3,FALSE)),\"\",VLOOKUP(B5961,database!$B$2:$D$6001,3,FALSE))","v":""},null,null,null,null,null,null,"",null,null,0,null,1,"indip"]
["",null,{"$f":"IF(ISERROR(VLOOKUP(B5962,database!$B$2:$C$6001,2,FALSE)),\"\",VLOOKUP(B5962,database!$B$2:$C$6001,2,FALSE))","v":""},null,null,null,"",null,null,null,{"$f":"IF(ISERROR(VLOOKUP(B5962,database!$B$2:$D$6001,3,FALSE)),\"\",VLOOKUP(B5962,database!$B$2:$D$6001,3,FALSE))","v":""},null,null,null,null,null,null,"",null,null,0,null,1,"indip"]
["",null,{"$f":"IF(ISERROR(VLOOKUP(B5963,database!$B$2:$C$6001,2,FALSE)),\"\",VLOOKUP(B5963,database!$B$2:$C$6001,2,FALSE))","v":""},null,null,null,"",null,null,null,{"$f":"IF(ISERROR(VLOOKUP(B5963,database!$B$2:$D$6001,3,FALSE)),\"\",VLOOKUP(B5963,database!$B$2:$D$6001,3,FALSE))","v":""},null,null,null,null,null,null,"",null,null,0,null,1,"indip"]
["",null,{"$f":"IF(ISERROR(VLOOKUP(B5964,database!$B$2:$C$6001,2,FALSE)),\"\",VLOOKUP(B5964,database!$B$2:$C$6001,2,FALSE))","v":""},null,null,null,"",null,null,null,{"$f":"IF(ISERROR(VLOOKUP(B5964,database!$B$2:$D$6001,3,FALSE)),\"\",VLOOKUP(B5964,database!$B$2:$D$6001,3,FALSE))","v":""},null,null,null,null,null,null,"",null,null,0,null,1,"indip"]
["",null,{"$f":"IF(ISERROR(VLOOKUP(B5965,database!$B$2:$C$6001,2,FALSE)),\"\",VLOOKUP(B5965,database!$B$2:$C$6001,2,FALSE))","v":""},null,null,null,"",null,null,null,{"$f":"IF(ISERROR(VLOOKUP(B5965,database!$B$2:$D$6001,3,FALSE)),\"\",VLOOKUP(B5965,database!$B$2:$D$6001,3,FALSE))","v":""},null,null,null,null,null,null,"",null,null,0,null,1,"indip"]
["",null,{"$f":"IF(ISERROR(VLOOKUP(B5966,database!$B$2:$C$6001,2,FALSE)),\"\",VLOOKUP(B5966,database!$B$2:$C$6001,2,FALSE))","v":""},null,null,null,"",null,null,null,{"$f":"IF(ISERROR(VLOOKUP(B5966,database!$B$2:$D$6001,3,FALSE)),\"\",VLOOKUP(B5966,database!$B$2:$D$6001,3,FALSE))","v":""},null,null,null,null,null,null,"",null,null,0,null,1,"indip"]
["",null,{"$f":"IF(ISERROR(VLOOKUP(B5967,database!$B$2:$C$6001,2,FALSE)),\"\",VLOOKUP(B5967,database!$B$2:$C$6001,2,FALSE))","v":""},null,null,null,"",null,null,null,{"$f":"IF(ISERROR(VLOOKUP(B5967,database!$B$2:$D$6001,3,FALSE)),\"\",VLOOKUP(B5967,database!$B$2:$D$6001,3,FALSE))","v":""},null,null,null,null,null,null,"",null,null,0,null,1,"indip"]
["",null,{"$f":"IF(ISERROR(VLOOKUP(B5968,database!$B$2:$C$6001,2,FALSE)),\"\",VLOOKUP(B5968,database!$B$2:$C$6001,2,FALSE))","v":""},null,null,null,"",null,null,null,{"$f":"IF(ISERROR(VLOOKUP(B5968,database!$B$2:$D$6001,3,FALSE)),\"\",VLOOKUP(B5968,database!$B$2:$D$6001,3,FALSE))","v":""},null,null,null,null,null,null,"",null,null,0,null,1,"indip"]
["",null,{"$f":"IF(ISERROR(VLOOKUP(B5969,database!$B$2:$C$6001,2,FALSE)),\"\",VLOOKUP(B5969,database!$B$2:$C$6001,2,FALSE))","v":""},null,null,null,"",null,null,null,{"$f":"IF(ISERROR(VLOOKUP(B5969,database!$B$2:$D$6001,3,FALSE)),\"\",VLOOKUP(B5969,database!$B$2:$D$6001,3,FALSE))","v":""},null,null,null,null,null,null,"",null,null,0,null,1,"indip"]
["",null,{"$f":"IF(ISERROR(VLOOKUP(B5970,database!$B$2:$C$6001,2,FALSE)),\"\",VLOOKUP(B5970,database!$B$2:$C$6001,2,FALSE))","v":""},null,null,null,"",null,null,null,{"$f":"IF(ISERROR(VLOOKUP(B5970,database!$B$2:$D$6001,3,FALSE)),\"\",VLOOKUP(B5970,database!$B$2:$D$6001,3,FALSE))","v":""},null,null,null,null,null,null,"",null,null,0,null,1,"indip"]
["",null,{"$f":"IF(ISERROR(VLOOKUP(B5971,database!$B$2:$C$6001,2,FALSE)),\"\",VLOOKUP(B5971,database!$B$2:$C$6001,2,FALSE))","v":""},null,null,null,"",null,null,null,{"$f":"IF(ISERROR(VLOOKUP(B5971,database!$B$2:$D$6001,3,FALSE)),\"\",VLOOKUP(B5971,database!$B$2:$D$6001,3,FALSE))","v":""},null,null,null,null,null,null,"",null,null,0,null,1,"indip"]
["",null,{"$f":"IF(ISERROR(VLOOKUP(B5972,database!$B$2:$C$6001,2,FALSE)),\"\",VLOOKUP(B5972,database!$B$2:$C$6001,2,FALSE))","v":""},null,null,null,"",null,null,null,{"$f":"IF(ISERROR(VLOOKUP(B5972,database!$B$2:$D$6001,3,FALSE)),\"\",VLOOKUP(B5972,database!$B$2:$D$6001,3,FALSE))","v":""},null,null,null,null,null,null,"",null,null,0,null,1,"indip"]
["",null,{"$f":"IF(ISERROR(VLOOKUP(B5973,database!$B$2:$C$6001,2,FALSE)),\"\",VLOOKUP(B5973,database!$B$2:$C$6001,2,FALSE))","v":""},null,null,null,"",null,null,null,{"$f":"IF(ISERROR(VLOOKUP(B5973,database!$B$2:$D$6001,3,FALSE)),\"\",VLOOKUP(B5973,database!$B$2:$D$6001,3,FALSE))","v":""},null,null,null,null,null,null,"",null,null,0,null,1,"indip"]
["",null,{"$f":"IF(ISERROR(VLOOKUP(B5974,database!$B$2:$C$6001,2,FALSE)),\"\",VLOOKUP(B5974,database!$B$2:$C$6001,2,FALSE))","v":""},null,null,null,"",null,null,null,{"$f":"IF(ISERROR(VLOOKUP(B5974,database!$B$2:$D$6001,3,FALSE)),\"\",VLOOKUP(B5974,database!$B$2:$D$6001,3,FALSE))","v":""},null,null,null,null,null,null,"",null,null,0,null,1,"indip"]
["",null,{"$f":"IF(ISERROR(VLOOKUP(B5975,database!$B$2:$C$6001,2,FALSE)),\"\",VLOOKUP(B5975,database!$B$2:$C$6001,2,FALSE))","v":""},null,null,null,"",null,null,null,{"$f":"IF(ISERROR(VLOOKUP(B5975,database!$B$2:$D$6001,3,FALSE)),\"\",VLOOKUP(B5975,database!$B$2:$D$6001,3,FALSE))","v":""},null,null,null,null,null,null,"",null,null,0,null,1,"indip"]
["",null,{"$f":"IF(ISERROR(VLOOKUP(B5976,database!$B$2:$C$6001,2,FALSE)),\"\",VLOOKUP(B5976,database!$B$2:$C$6001,2,FALSE))","v":""},null,null,null,"",null,null,null,{"$f":"IF(ISERROR(VLOOKUP(B5976,database!$B$2:$D$6001,3,FALSE)),\"\",VLOOKUP(B5976,database!$B$2:$D$6001,3,FALSE))","v":""},null,null,null,null,null,null,"",null,null,0,null,1,"indip"]
["",null,{"$f":"IF(ISERROR(VLOOKUP(B5977,database!$B$2:$C$6001,2,FALSE)),\"\",VLOOKUP(B5977,database!$B$2:$C$6001,2,FALSE))","v":""},null,null,null,"",null,null,null,{"$f":"IF(ISERROR(VLOOKUP(B5977,database!$B$2:$D$6001,3,FALSE)),\"\",VLOOKUP(B5977,database!$B$2:$D$6001,3,FALSE))","v":""},null,null,null,null,null,null,"",null,null,0,null,1,"indip"]
["",null,{"$f":"IF(ISERROR(VLOOKUP(B5978,database!$B$2:$C$6001,2,FALSE)),\"\",VLOOKUP(B5978,database!$B$2:$C$6001,2,FALSE))","v":""},null,null,null,"",null,null,null,{"$f":"IF(ISERROR(VLOOKUP(B5978,database!$B$2:$D$6001,3,FALSE)),\"\",VLOOKUP(B5978,database!$B$2:$D$6001,3,FALSE))","v":""},null,null,null,null,null,null,"",null,null,0,null,1,"indip"]
["",null,{"$f":"IF(ISERROR(VLOOKUP(B5979,database!$B$2:$C$6001,2,FALSE)),\"\",VLOOKUP(B5979,database!$B$2:$C$6001,2,FALSE))","v":""},null,null,null,"",null,null,null,{"$f":"IF(ISERROR(VLOOKUP(B5979,database!$B$2:$D$6001,3,FALSE)),\"\",VLOOKUP(B5979,database!$B$2:$D$6001,3,FALSE))","v":""},null,null,null,null,null,null,"",null,null,0,null,1,"indip"]
["",null,{"$f":"IF(ISERROR(VLOOKUP(B5980,database!$B$2:$C$6001,2,FALSE)),\"\",VLOOKUP(B5980,database!$B$2:$C$6001,2,FALSE))","v":""},null,null,null,"",null,null,null,{"$f":"IF(ISERROR(VLOOKUP(B5980,database!$B$2:$D$6001,3,FALSE)),\"\",VLOOKUP(B5980,database!$B$2:$D$6001,3,FALSE))","v":""},null,null,null,null,null,null,"",null,null,0,null,1,"indip"]
["",null,{"$f":"IF(ISERROR(VLOOKUP(B5981,database!$B$2:$C$6001,2,FALSE)),\"\",VLOOKUP(B5981,database!$B$2:$C$6001,2,FALSE))","v":""},null,null,null,"",null,null,null,{"$f":"IF(ISERROR(VLOOKUP(B5981,database!$B$2:$D$6001,3,FALSE)),\"\",VLOOKUP(B5981,database!$B$2:$D$6001,3,FALSE))","v":""},null,null,null,null,null,null,"",null,null,0,null,1,"indip"]
["",null,{"$f":"IF(ISERROR(VLOOKUP(B5982,database!$B$2:$C$6001,2,FALSE)),\"\",VLOOKUP(B5982,database!$B$2:$C$6001,2,FALSE))","v":""},null,null,null,"",null,null,null,{"$f":"IF(ISERROR(VLOOKUP(B5982,database!$B$2:$D$6001,3,FALSE)),\"\",VLOOKUP(B5982,database!$B$2:$D$6001,3,FALSE))","v":""},null,null,null,null,null,null,"",null,null,0,null,1,"indip"]
["",null,{"$f":"IF(ISERROR(VLOOKUP(B5983,database!$B$2:$C$6001,2,FALSE)),\"\",VLOOKUP(B5983,database!$B$2:$C$6001,2,FALSE))","v":""},null,null,null,"",null,null,null,{"$f":"IF(ISERROR(VLOOKUP(B5983,database!$B$2:$D$6001,3,FALSE)),\"\",VLOOKUP(B5983,database!$B$2:$D$6001,3,FALSE))","v":""},null,null,null,null,null,null,"",null,null,0,null,1,"indip"]
["",null,{"$f":"IF(ISERROR(VLOOKUP(B5984,database!$B$2:$C$6001,2,FALSE)),\"\",VLOOKUP(B5984,database!$B$2:$C$6001,2,FALSE))","v":""},null,null,null,"",null,null,null,{"$f":"IF(ISERROR(VLOOKUP(B5984,database!$B$2:$D$6001,3,FALSE)),\"\",VLOOKUP(B5984,database!$B$2:$D$6001,3,FALSE))","v":""},null,null,null,null,null,null,"",null,null,0,null,1,"indip"]
["",null,{"$f":"IF(ISERROR(VLOOKUP(B5985,database!$B$2:$C$6001,2,FALSE)),\"\",VLOOKUP(B5985,database!$B$2:$C$6001,2,FALSE))","v":""},null,null,null,"",null,null,null,{"$f":"IF(ISERROR(VLOOKUP(B5985,database!$B$2:$D$6001,3,FALSE)),\"\",VLOOKUP(B5985,database!$B$2:$D$6001,3,FALSE))","v":""},null,null,null,null,null,null,"",null,null,0,null,1,"indip"]
["",null,{"$f":"IF(ISERROR(VLOOKUP(B5986,database!$B$2:$C$6001,2,FALSE)),\"\",VLOOKUP(B5986,database!$B$2:$C$6001,2,FALSE))","v":""},null,null,null,"",null,null,null,{"$f":"IF(ISERROR(VLOOKUP(B5986,database!$B$2:$D$6001,3,FALSE)),\"\",VLOOKUP(B5986,database!$B$2:$D$6001,3,FALSE))","v":""},null,null,null,null,null,null,"",null,null,0,null,1,"indip"]
["",null,{"$f":"IF(ISERROR(VLOOKUP(B5987,database!$B$2:$C$6001,2,FALSE)),\"\",VLOOKUP(B5987,database!$B$2:$C$6001,2,FALSE))","v":""},null,null,null,"",null,null,null,{"$f":"IF(ISERROR(VLOOKUP(B5987,database!$B$2:$D$6001,3,FALSE)),\"\",VLOOKUP(B5987,database!$B$2:$D$6001,3,FALSE))","v":""},null,null,null,null,null,null,"",null,null,0,null,1,"indip"]
["",null,{"$f":"IF(ISERROR(VLOOKUP(B5988,database!$B$2:$C$6001,2,FALSE)),\"\",VLOOKUP(B5988,database!$B$2:$C$6001,2,FALSE))","v":""},null,null,null,"",null,null,null,{"$f":"IF(ISERROR(VLOOKUP(B5988,database!$B$2:$D$6001,3,FALSE)),\"\",VLOOKUP(B5988,database!$B$2:$D$6001,3,FALSE))","v":""},null,null,null,null,null,null,"",null,null,0,null,1,"indip"]
["",null,{"$f":"IF(ISERROR(VLOOKUP(B5989,database!$B$2:$C$6001,2,FALSE)),\"\",VLOOKUP(B5989,database!$B$2:$C$6001,2,FALSE))","v":""},null,null,null,"",null,null,null,{"$f":"IF(ISERROR(VLOOKUP(B5989,database!$B$2:$D$6001,3,FALSE)),\"\",VLOOKUP(B5989,database!$B$2:$D$6001,3,FALSE))","v":""},null,null,null,null,null,null,"",null,null,0,null,1,"indip"]
["",null,{"$f":"IF(ISERROR(VLOOKUP(B5990,database!$B$2:$C$6001,2,FALSE)),\"\",VLOOKUP(B5990,database!$B$2:$C$6001,2,FALSE))","v":""},null,null,null,"",null,null,null,{"$f":"IF(ISERROR(VLOOKUP(B5990,database!$B$2:$D$6001,3,FALSE)),\"\",VLOOKUP(B5990,database!$B$2:$D$6001,3,FALSE))","v":""},null,null,null,null,null,null,"",null,null,0,null,1,"indip"]
["",null,{"$f":"IF(ISERROR(VLOOKUP(B5991,database!$B$2:$C$6001,2,FALSE)),\"\",VLOOKUP(B5991,database!$B$2:$C$6001,2,FALSE))","v":""},null,null,null,"",null,null,null,{"$f":"IF(ISERROR(VLOOKUP(B5991,database!$B$2:$D$6001,3,FALSE)),\"\",VLOOKUP(B5991,database!$B$2:$D$6001,3,FALSE))","v":""},null,null,null,null,null,null,"",null,null,0,null,1,"indip"]
["",null,{"$f":"IF(ISERROR(VLOOKUP(B5992,database!$B$2:$C$6001,2,FALSE)),\"\",VLOOKUP(B5992,database!$B$2:$C$6001,2,FALSE))","v":""},null,null,null,"",null,null,null,{"$f":"IF(ISERROR(VLOOKUP(B5992,database!$B$2:$D$6001,3,FALSE)),\"\",VLOOKUP(B5992,database!$B$2:$D$6001,3,FALSE))","v":""},null,null,null,null,null,null,"",null,null,0,null,1,"indip"]
["",null,{"$f":"IF(ISERROR(VLOOKUP(B5993,database!$B$2:$C$6001,2,FALSE)),\"\",VLOOKUP(B5993,database!$B$2:$C$6001,2,FALSE))","v":""},null,null,null,"",null,null,null,{"$f":"IF(ISERROR(VLOOKUP(B5993,database!$B$2:$D$6001,3,FALSE)),\"\",VLOOKUP(B5993,database!$B$2:$D$6001,3,FALSE))","v":""},null,null,null,null,null,null,"",null,null,0,null,1,"indip"]
["",null,{"$f":"IF(ISERROR(VLOOKUP(B5994,database!$B$2:$C$6001,2,FALSE)),\"\",VLOOKUP(B5994,database!$B$2:$C$6001,2,FALSE))","v":""},null,null,null,"",null,null,null,{"$f":"IF(ISERROR(VLOOKUP(B5994,database!$B$2:$D$6001,3,FALSE)),\"\",VLOOKUP(B5994,database!$B$2:$D$6001,3,FALSE))","v":""},null,null,null,null,null,null,"",null,null,0,null,1,"indip"]
["",null,{"$f":"IF(ISERROR(VLOOKUP(B5995,database!$B$2:$C$6001,2,FALSE)),\"\",VLOOKUP(B5995,database!$B$2:$C$6001,2,FALSE))","v":""},null,null,null,"",null,null,null,{"$f":"IF(ISERROR(VLOOKUP(B5995,database!$B$2:$D$6001,3,FALSE)),\"\",VLOOKUP(B5995,database!$B$2:$D$6001,3,FALSE))","v":""},null,null,null,null,null,null,"",null,null,0,null,1,"indip"]
["",null,{"$f":"IF(ISERROR(VLOOKUP(B5996,database!$B$2:$C$6001,2,FALSE)),\"\",VLOOKUP(B5996,database!$B$2:$C$6001,2,FALSE))","v":""},null,null,null,"",null,null,null,{"$f":"IF(ISERROR(VLOOKUP(B5996,database!$B$2:$D$6001,3,FALSE)),\"\",VLOOKUP(B5996,database!$B$2:$D$6001,3,FALSE))","v":""},null,null,null,null,null,null,"",null,null,0,null,1,"indip"]
["",null,{"$f":"IF(ISERROR(VLOOKUP(B5997,database!$B$2:$C$6001,2,FALSE)),\"\",VLOOKUP(B5997,database!$B$2:$C$6001,2,FALSE))","v":""},null,null,null,"",null,null,null,{"$f":"IF(ISERROR(VLOOKUP(B5997,database!$B$2:$D$6001,3,FALSE)),\"\",VLOOKUP(B5997,database!$B$2:$D$6001,3,FALSE))","v":""},null,null,null,null,null,null,"",null,null,0,null,1,"indip"]
["",null,{"$f":"IF(ISERROR(VLOOKUP(B5998,database!$B$2:$C$6001,2,FALSE)),\"\",VLOOKUP(B5998,database!$B$2:$C$6001,2,FALSE))","v":""},null,null,null,"",null,null,null,{"$f":"IF(ISERROR(VLOOKUP(B5998,database!$B$2:$D$6001,3,FALSE)),\"\",VLOOKUP(B5998,database!$B$2:$D$6001,3,FALSE))","v":""},null,null,null,null,null,null,"",null,null,0,null,1,"indip"]
["",null,{"$f":"IF(ISERROR(VLOOKUP(B5999,database!$B$2:$C$6001,2,FALSE)),\"\",VLOOKUP(B5999,database!$B$2:$C$6001,2,FALSE))","v":""},null,null,null,"",null,null,null,{"$f":"IF(ISERROR(VLOOKUP(B5999,database!$B$2:$D$6001,3,FALSE)),\"\",VLOOKUP(B5999,database!$B$2:$D$6001,3,FALSE))","v":""},null,null,null,null,null,null,"",null,null,0,null,1,"indip"]
["",null,{"$f":"IF(ISERROR(VLOOKUP(B6000,database!$B$2:$C$6001,2,FALSE)),\"\",VLOOKUP(B6000,database!$B$2:$C$6001,2,FALSE))","v":""},null,null,null,"",null,null,null,{"$f":"IF(ISERROR(VLOOKUP(B6000,database!$B$2:$D$6001,3,FALSE)),\"\",VLOOKUP(B6000,database!$B$2:$D$6001,3,FALSE))","v":""},null,null,null,null,null,null,"",null,null,0,null,1,"indip"]
["",null,{"$f":"IF(ISERROR(VLOOKUP(B6001,database!$B$2:$C$6001,2,FALSE)),\"\",VLOOKUP(B6001,database!$B$2:$C$6001,2,FALSE))","v":""},null,null,null,"",null,null,null,null,null,null,null,null,null,null,"",null,null,0,null,1,"indip"]
[null,null,{"$f":"IF(ISERROR(VLOOKUP(B6002,database!$B$2:$C$6001,2,FALSE)),\"\",VLOOKUP(B6002,database!$B$2:$C$6001,2,FALSE))","v":""},null,null,null,"",null,null,null,null,null,null,null,null,null,null,"",null,null,0,null,1,"indip"]
[null,null,{"$f":"IF(ISERROR(VLOOKUP(B6003,database!$B$2:$C$6001,2,FALSE)),\"\",VLOOKUP(B6003,database!$B$2:$C$6001,2,FALSE))","v":""},null,null,null,"",null,null,null,null,null,null,null,null,null,null,"",null,null,0,null,1,"indip"]
[null,null,{"$f":"IF(ISERROR(VLOOKUP(B6004,database!$B$2:$C$6001,2,FALSE)),\"\",VLOOKUP(B6004,database!$B$2:$C$6001,2,FALSE))","v":""},null,null,null,"",null,null,null,null,null,null,null,null,null,null,"",null,null,0,null,1,"indip"]
[null,null,{"$f":"IF(ISERROR(VLOOKUP(B6005,database!$B$2:$C$6001,2,FALSE)),\"\",VLOOKUP(B6005,database!$B$2:$C$6001,2,FALSE))","v":""},null,null,null,"",null,null,null,null,null,null,null,null,null,null,"",null,null,0,null,1,"indip"]
[null,null,{"$f":"IF(ISERROR(VLOOKUP(B6006,database!$B$2:$C$6001,2,FALSE)),\"\",VLOOKUP(B6006,database!$B$2:$C$6001,2,FALSE))","v":""},null,null,null,"",null,null,null,null,null,null,null,null,null,null,"",null,null,0,null,1,"indip"]
[null,null,{"$f":"IF(ISERROR(VLOOKUP(B6007,database!$B$2:$C$6001,2,FALSE)),\"\",VLOOKUP(B6007,database!$B$2:$C$6001,2,FALSE))","v":""},null,null,null,"",null,null,null,null,null,null,null,null,null,null,"",null,null,0,null,1,"indip"]
[null,null,{"$f":"IF(ISERROR(VLOOKUP(B6008,database!$B$2:$C$6001,2,FALSE)),\"\",VLOOKUP(B6008,database!$B$2:$C$6001,2,FALSE))","v":""},null,null,null,null,null,null,null,null,null,null,null,null,null,null,"",null,null,0,null,1,"indip"]
[null,null,null,null,null,null,null,null,null,null,null,null,null,null,null,null,null,"",null,null,0,null,1,"indip"]
[null,null,null,null,null,null,null,null,null,null,null,null,null,null,null,null,null,"",null,null,0,null,1,"indip"]
[null,null,null,null,null,null,null,null,null,null,null,null,null,null,null,null,null,"",null,null,0,null,1,"indip"]
[null,null,null,null,null,null,null,null,null,null,null,null,null,null,null,null,null,"",null,null,0,null,1,"indip"]
[null,null,null,null,null,null,null,null,null,null,null,null,null,null,null,null,null,"",null,null,0,null,1,"indip"]

{"sheet":"database","index":1,"n_rows":1360,"n_cols":14,"rows_kept":1360,"cut":false,"hidden":false,"merged":[]}
[null,"    NOMINATIVO","N° ASSOC.","NOME","n°","DATABASE AGGIORNATO","con","IK8TMF",1469,"PAOLO","ultimo rigo ",1360,"St. Accred.",{"$f":"COUNTA(E2:E5998)","v":84}]
[null,"II7WWI","WWI","S. JOLLY",0]
[null,"IK2SOE","OE","ANDREA",8]
[null,"I2AZ","AB","GIUSEPPE",60]
[null,"IZ7EDQ","DU","LEONARDO",80]
[null,"IW3IE","GR","GIACOMO",96]
[null,"IK1QLD","RO","ANGELO",100]
[null,"IZ1CCH","AC","ORAZIO",113]
[null,"IZ0JSD","SD","ALESSANDRO",114]
[null,"IK8XVA","DA","ANTONIO",117]
[null,"IK8TEO","GG","FRANCESCO",118]
[null,"IK8MFA","FA","PIER LUIGI",145]
[null,"IZ6DWH","AP","SALVATORE",185]
[null,"IW0BTN","BT","GIOVANNI",251]
[null,"IZ3CAR","SM","CESARE",257]
[null,"IZ1CLA","LA","SAURO",282]
[null,"IQ9MQ","AAA","HEADQUARTERS",300]
[null,"IZ1GJK","FP","MAURIZIO",303]
[null,"IZ0FVD","VP","GIULIO",327]
[null,"IK5TBI","TB","EMILIO",349]
[null,"IQ7TA","AER","Ari Taranto",410]
[null,"IK7FBK","NL","LUCIO",472]
[null,"IZ8NXG","SB","RENATO",484]
[null,"IZ8OGK","OT","GENNARO ",501]
[null,"IZ8QNX","NE","LUCIO",514]
[null,"IW0HOP","ON","FRANCESCO",549]
[null,"IS0BMU","MU","NICOLA ",555]
[null,"IS0JMA","MA","ROBERTO",560]
[null,"IK3ITV","SG","ANDREA",589]
[null,"IK3HMB","PC","GIORGIO",592]
[null,"IZ3ASA","MT","RODOLFO",627]
[null,"IT9DSA","ES","ANTONIO",633]
[null,"IK8RIJ","AO","MARCO",649]
[null,"I3VAD","AD","GIANCARLO",746]
[null,"IT9CKA","CC","SERAFINO",771]
[null,"IK0ZME","GN","GIANFRANCO",801]
[null,"IK1RTP","NA","ALESSANDRO",811]
[null,"IK6ARS","CO","DANIELE",832]
[null,"IZ1VNT","VE","ROBERTO",859]
[null,"IZ0EUX","EU","SALVATORE",865]
[null,"IT9CLM","FC","GIUSEPPE",876]
[null,"IZ6OYT","GA","ELIA",888]
[null,"IW1QIH","NV","GIAN PAOLO",932]
[null,"IQ7UJ","AEP","SEZ. ARMI TARANTO",990]
[null,"IZ8VNQ","ZF","DOMENICO",1008]
[null,"IZ1WTM","SO","PIERO",1017]
[null,"IZ1ZCT","DO","ROBERTO",1018]
[null,"IZ3YKV","MP","ROBERTO",1025]
[null,"I3JYL","LP","LINO",1127]
[null,"IT9EYV","EF","MARIO",1157]
[null,"IU8CEU","CR","MICHELE",1177]
[null,"I2QIL","QU","ANTONIO",1181]
[null,"IK8FIQ","ID","AGOSTINO",1199]
[null,"IK8MFJ","FF","MICHELE",1207]
[null,"IW2JJS","JA","GIORGIO",1229]
[null,"IW0DPJ","SR","GIOVANNI",1231]
[null,"IU0DZA","LV","ROBERTO",1236]
[null,"IF9ZWA","FL","MICHELE",1244]
[null,"IZ5MMQ","BS","MARIO",1254]
[null,"IU8AEY","IS","ELIO",1256]
[null,"IU8FSU","IN","PIETRO",1257]
[null,"IQ8XS","AUC","ARMI CALVI RISORTA",1270]
[null,"IZ3ZMS","PL","ANDREA",1272]
[null,"IT9ZMV","LM","SALVATORE",1295]
[null,"IU5BKR","BR","RICCARDO",1299]
[null,"IQ8NB","ACC","ERA PAOLA",1310]
[null,"IZ8IJO","AU","ANTONIO",1318]
[null,"IW0HIQ","IR","DAVID",1327]
[null,"IQ7QN","ARL","ARMI SUD SALENTO",1340]
[null,"IK8UDH","UM","NICOLA",1345]
[null,"IK1WVR","VL","MIRCO",1353]
[null,"IZ1GUP","GC","MARIO FERNANDO",1360]
[null,"IZ1CQS","CS","ELIO",1361]
[null,"IQ1YY","AGP","AIRS VALLI DI LANZO",1363]
[null,"IK2GPQ","PE","MICHELE",1392]
[null,"IZ8ITT","IP","ANTONELLO",1401]
[null,"IK1MTV","TO","VALERIO",1412]
[null,"IZ1ZJO","IT","ROBERTO",1432]
[null,"IQ9ZI","ALF","URI PEDARA",1434]
[null,"IU8ACL","CL","LUIGI",1436]
[null,"IU8DKG","DR","ALESSANDRO",1437]
[null,"IQ0RU","AET","URI PERUGIA",1442]
[null,"IZ2DLV","CA","GILBERTO",1447]
[null,"IQ3GA","AEG","ARI MARCON",1448]
[null,"IK2WSO","MD","COSTANTINO",1451]
[null,"IT9MRM",1,"ALBERTO "]
[null,"IT9QQL",2,"NICOLA"]
[null,"IT9PIY",3,"RAFFAELE "]
[null,"IK4NYY",5,"ELIO"]
[null,"IZ7ANO",7,"LEONARDO "]
[null,"IK6IJF",9,"ALFREDO"]
[null,"IT9WKX",10,"VITTORIO "]
[null,"I8XTX",12,"PASQUALE"]
[null,"IK4WLG",13,"LUIGI"]
[null,"IT9DTU",14,"NUNZIO"]
[null,"IC8GVV",15,"LUIGI"]
[null,"IK0YKK",16,"PIERPAOLO"]
[null,"IZ2CDQ",17,"GIOVANNI"]
[null,"IC8CQF",19,"PASQUALE"]
[null,"IK1MVX",21,"ANDREA"]
[null,"IK2PYX",22,"PIERLUIGI"]
[null,"IK8VKW",24,"FRANCESCO"]
[null,"IW7BWW",25,"VINCENZO"]
[null,"IT9YMX",26,"CARLO"]
[null,"IT9WDY",27,"ALFONSO"]
[null,"IK8YSV",28,"MASSIMO"]
[null,"I7TZU",29,"FERNANDO"]
[null,"IV3UHX",30,"VINICIO"]
[null,"I6HWD",31,"DOMENICO"]
[null,"IZ8AZC",32,"VINCENZO"]
[null,"IK6VHL",33,"FABIO"]
[null,"IZ1ELP",34,"EDGARDO"]
[null,"I6BQI",35,"ANGELO"]
[null,"II0IABB",36,"NAVE ELETTRA"]
[null,"IW2LRJ",37,"ZERLINO"]
[null,"IW2JQT",38,"STEFANO"]
[null,"I4JCJ",39,"GIOVANNI"]
[null,"I0DFY",40,"DOMENICO"]
[null,"IZ6EGW",41,"ERCOLE"]
[null,"IK0XFW",42,"MATTEO"]
[null,"I7WYF",43,"FRANCO"]
[null,"IK6IOK",44,"WALTER"]
[null,"IK1BES",45,"GUIDO"]
[null,"IW3FLC",47,"RAFFAELE"]
[null,"IK1DLW",48,"GIOVANNI"]
[null,"IK3ZBD",49,"ANTONIO"]
[null,"IV3ZUY",50,"GIOVANNI"]
[null,"IZ5ZBV",51,"ASPASIO"]
[null,"IZ1CDM",52,"ROBERTO"]
[null,"ON4CBM",53,"BERT"]
[null,"IZ0DGI",54,"GIANCARLO"]
[null,"IK4PNE",56,"PAOLO"]
[null,"IK0AGH",57,"VITTORIO"]
[null,"I8HXG",58,"GIUSEPPE"]
[null,"IT9RUT",62,"SEBASTIANO"]
[null,"IW9FQJ",63,"FABIO"]
[null,"KE6CVH",64,"MIKE"]
[null,"IK6UGD",65,"CLAUDIO"]
[null,"IK6PUO",66,"FILIPPO"]
[null,"IZ8EQK",67,"GIUSEPPE"]
[null,"I7OXH",68,"ALDO"]
[null,"IW2NKY",69,"GIUSEPPE"]
[null,"I0AIL",70,"GIANCARLO"]
[null,"IW2NXN",71,"CARLO"]
[null,"IZ4BYD",72,"FRANCO"]
[null,"IZ0EGC",73,"CARLO"]
[null,"IV3AJZ",74,"CLAUDIO"]
[null,"IZ8FCN",75,"ALESSANDRO"]
[null,"I5NQK",76,"ANTONIO"]
[null,"IT9EJW",77,"ALFIO"]
[null,"IW2NBV",78,"ALESSIO"]
[null,"IW2LGL",79,"RENATO"]
[null,"IT9MNW",81,"GIOVANNI"]
[null,"DL0MF",82,"MARINEFUNKER"]
[null,"I7HQS",83,"GIUSEPPE"]
[null,"IZ2NAB",84,"GIANCARLO"]
[null,"IK1MAJ",85,"BRUNO"]
[null,"IZ0AIO",86,"ANGELO"]
[null,"IZ7HNO",87,"BARTOLOMEO"]
[null,"DP1POL",88,"FELIX"]
[null,"IV3XYM",89,"ALESSANDRO"]
[null,"IK1NLZ",90,"PAOLO"]
[null,"IW8EHK",91,"ALESSANDRO"]
[null,"IK0OZB",92,"LUIGI"]
[null,"IW7CYA",93,"MASSIMILIANO"]
[null,"IV3PTU",94,"FRANCO"]
[null,"IM0SDX",95,"PIERGIORGIO"]
[null,"IZ7AUH",97,"FRANCESCO"]
[null,"IW3ICC",98,"VIVIAN"]
[null,"IW9GXT",101,"DANIELE"]
[null,"IK2QBA",102,"ENRICO"]
[null,"IW8EYM",103,"DAVIDE"]
[null,"IK6ZTK",104,"MARINO"]
[null,"IZ1GTB",105,"CLAUDIO"]
[null,"IK0JFS",106,"COSMO"]
[null,"IV3GCD",107,"STEFANO"]
[null,"IT9OTF",108,"FRANCESCO"]
[null,"SV1UG",109,"ATHANASIOU"]
[null,"IW9HCI",110,"GIACOMO"]
[null,"IK0WFZ",111,"ROLANDO"]
[null,"IZ1EGT",112,"FABIO"]
[null,"IW1RLR",116,"NICOLA"]
[null,"IW1RHG",120,"MAURO"]
[null,"IT9PPX",121,"GIOVANNI"]
[null,"IV3DVE",123,"CORRADO"]
[null,"IZ0FKO",124,"STEFANO"]
[null,"ON4CBI",125,"CHRISTIANE"]
[null,"IW9EFS",126,"ANTONINO"]
[null,"IT9YDY",127,"CARLO"]
[null,"IW9BMQ",129,"MADDALENA"]
[null,"IT9PLM",130,"GIOVANNI"]
[null,"IW8EYK",131,"SERGIO"]
[null,"I8JYK",132,"LUIGI"]
[null,"I6KIU",133,"ANTONIO"]
[null,"IW1RHR",134,"ROBERTO"]
[null,"IW2EJH",135,"MARINO"]
[null,"IW3HER",136,"LORENZO"]
[null,"IT9HTL",137,"FILIPPO"]
[null,"IZ7DOG",138,"VITO"]
[null,"IZ1FGY",139,"HERVÈ"]
[null,"IZ2GAL",140,"SILVIO"]
[null,"IS0RYD",141,"MARCO"]
[null,"IW6CZF",142,"GIOVANNI"]
[null,"IZ8FAV",143,"GIORGIO"]
[null,"IK2CGH",146,"GIOACCHINO"]
[null,"IS0IGV",147,"GIANNI"]
[null,"IZ7CDE",148,"MARCO"]
[null,"I4IZZ",149,"SANDRO"]
[null,"I4RZJ",150,"GIOVANNI"]
[null,"IZ8EDG",151,"CARMINE"]
[null,"IT9JCF",152,"GILIBERTO"]
[null,"IZ7FUL",153,"NICOLA"]
[null,"I1SAF",154,"GIULIANO"]
[null,"IZ1FCF",155,"FABRIZIO"]
[null,"IW1QQV",156,"ALESSIO"]
[null,"IK6IHK",157,"LUCA"]
[null,"IW5EH",158,"PAOLO"]
[null,"IT9DFA",159,"MASSIMILIANO"]
[null,"IZ6FHZ",160,"ROSVELDO"]
[null,"IT9STX",162,"ROBERTO"]
[null,"IT9WMB",163,"VINCENZO"]
[null,"IZ6FUR",164,"ODDONE"]
[null,"IW0FUT",165,"GIOVANNI"]
[null,"IZ6FTX",166,"GIOVANNI"]
[null,"IT9XCV",167,"SALVATORE"]
[null,"IV3TWP",168,"GIORGIO"]
[null,"IK1XHN",169,"DANILO"]
[null,"IW3IAQ",170,"STEFANO"]
[null,"IZ2FRG",171,"GIUSEPPE"]
[null,"IS0MKX",172,"GIUSEPPE"]
[null,"IT9IJI",173,"GIUSEPPE"]
[null,"IK7TAM",174,"DOMENICO"]
[null,"IZ3HPH",176,"GIANCARLO"]
[null,"IT9JDB",177,"ONOFRIO"]
[null,"IZ8GCB",178,"GAETANO"]
[null,"IK2IZY",180,"PAOLO"]
[null,"IC8PSO",181,"FABIEN"]
[null,"IZ7ETP",182,"MICHELE"]
[null,"IV3JTG",183,"MAURO"]
[null,"IK7TVE",184,"PASQUALE"]
[null,"IV3HAE",187,"FULVIO"]
[null,"IZ1HGP",188,"GIORGIO"]
[null,"IW9HMA",189,"NICOLA"]
[null,"IW9HMB",190,"DOMENICO"]
[null,"IT9KPE",191,"GIUSEPPE"]
[null,"IW9CBN",192,"BENEDETTO"]
[null,"IK0AAE",193,"DAMIANO"]
[null,"IW3ILA",194,"PAOLO"]
[null,"IW9GSP",195,"NICOLA"]
[null,"IW9GZI",196,"SAVERIO"]
[null,"IZ0GIF",197,"ERMINIO"]
[null,"I7HMP",198,"PASQUALE"]
[null,"EA8AJX",199,"LORENZO"]
[null,"ON4BRN",200,"B.M.A.R.S."]
[null,"IW3RMV",201,"MARCO"]
[null,"W1QWT",203,"BOB"]
[null,"OE6NFK",204,"WERNER"]
[null,"IW2NZR",205,"DAVIDE"]
[null,"IZ8HNC",206,"DOMENICO"]
[null,"IK2WIU",207,"CARLO"]
[null,"IW0HPH",208,"OSCAR"]
[null,"IT9RYK",209,"PIETRO"]
[null,"G3LIK",210,"MICK"]
[null,"KA2ZJE",211,"IRVING"]
[null,"IZ1DLZ",212,"RICCARDO"]
[null,"IK1FVO",213,"MASSIMO"]
[null,"ON4CKZ",214,"RYCKAERT"]
[null,"IT9BQK",215,"FABIO"]
[null,"IW9HLX",216,"MARCO"]
[null,"IT9CFS",217,"SALVATORE"]
[null,"IT9YHT",218,"GIANLUCA"]
[null,"IV3EWO",219,"STEFANO"]
[null,"IU3CYV",220,"TIZIANO"]
[null,"IZ6BYS",221,"FRANCO"]
[null,"IV3CXS",222,"ALESSIO"]
[null,"I7XUW",224,"EDOARDO"]
[null,"IZ8JPV",225,"GIOVANNI"]
[null,"IW2OHM",226,"GUIDO"]
[null,"IW0HP",227,"COSMO"]
[null,"IW9HPH",228,"GIUSEPPE"]
[null,"IT9SPA",229,"GIUSEPPE"]
[null,"IV3XPP",230,"GIULIANO"]
[null,"IZ3GVL",231,"CORRADO"]
[null,"IZ0DDD",232,"NATALE"]
[null,"IK3AWP",233,"ROBERTO"]
[null,"IW9HRL",235,"SALVATORE"]
[null,"IW9FRA",236,"SALVATORE"]
[null,"I2FB",237,"PIERLUIGI"]
[null,"IZ0GJA",238,"LUCA"]
[null,"IZ0GPN",239,"CRISTIANO"]
[null,"IW8EPX",240,"GIUSEPPE"]
[null,"IZ0GZW",241,"GIUSEPPE"]
[null,"IK0XEZ",242,"SALVATORE"]
[null,"IZ0GUS",243,"SALVATORE"]
[null,"IK4HAQ",245,"MARIO"]
[null,"KM1R",246,"MICHELE"]
[null,"IV3YFX",247,"MANUEL"]
[null,"IZ8BIE",249,"ANTONIO"]
[null,"IS0KEB",250,"MARCO"]
[null,"IZ2YAV",252,"PAOLO"]
[null,"I0MPX",255,"PIETRO"]
[null,"IW3RGT",256,"PIETRO"]
[null,"IW9HQZ",258,"SALVATORE"]
[null,"I4WJO",259,"CLARBRUNO"]
[null,"IW1PDP",260,"RUBENS"]
[null,"IZ8EZP",261,"MARIO"]
[null,"IK5ZOT",262,"MARCO"]
[null,"I1SCL",264,"OVIDIO"]
[null,"IZ5GTV",265,"PAOLO"]
[null,"IW1RFZ",266,"MASSIMILIANO"]
[null,"IZ0IJC",267,"CARLO"]
[null,"PA5UL",268,"PAUL"]
[null,"I1ANP",269,"MARIO"]
[null,"I1ZB",270,"ANTONIO"]
[null,"IK2WXO",271,"CIRO"]
[null,"IN3VHA",272,"SILVANO"]
[null,"IZ5ILX",273,"VALENTINO"]
[null,"IZ0HSE",274,"MASSIMO"]
[null,"IZ0INU",275,"ALDO"]
[null,"I4YHH",276,"CLAUDIO"]
[null,"IK1UVQ",277,"MASSIMO"]
[null,"IZ1HIE",278,"FRANCO"]
[null,"IZ0KON",279,"GIOVANNI"]
[null,"IZ5KYZ",280,"ROBERTO"]
[null,"IZ0FVJ",281,"FABRIZIO"]
[null,"I4THX",283,"CRISTOFORO"]
[null,"IZ7FLL",284,"ALESSANDRO"]
[null,"I2KAJ",287,"TOMMASO"]
[null,"IZ1JFK",288,"CLAUDIO"]
[null,"IK0TXG",290,"FRANCESCO"]
[null,"I7UOZ",291,"ALFREDO"]
[null,"IN3DQU",292,"MICHELE"]
[null,"IZ1DXP",293,"GAETANO"]
[null,"IZ8JCW",294,"FABIO"]
[null,"I7LMR",295,"LUCA"]
[null,"IK1VGK",296,"ROBERTO"]
[null,"I1YTO",297,"CARMELO"]
[null,"IS0QCV",299,"ALBINO"]
[null,"I5ES",301,"EGIDIO"]
[null,"IK6YXM",302,"MATTEO"]
[null,"DL6LAO",304,"WOLFGANG"]
[null,"IZ0DBA",306,"GIACOMO"]
[null,"IT9YEM",307,"MARIO"]
[null,"IK7WDS",308,"ANTONIO"]
[null,"IZ0KNA",309,"ENZO"]
[null,"IZ0IWL",310,"GABRIELE"]
[null,"IT9RJQ",311,"LORENZO"]
[null,"HB9EDG",313,"FRANCO"]
[null,"II1IGGA",314,"NAVE AQUILANTE"]
[null,"IK4NOW",315,"GIOVANNI"]
[null,"IZ1LEB",316,"MARIA"]
[null,"DE3MKM",317,"MICHAEL"]
[null,"IW2CMA",318,"GIOVANNI"]
[null,"I6DRF",319,"FRANCESCO"]
[null,"IZ6BUV",320,"LEO"]
[null,"IZ1LRB",321,"ANTONIO"]
[null,"IZ7CTE",322,"ANGELO"]
[null,"IK7LQE",323,"VINCENZO"]
[null,"IW5DIB",324,"ANTONELLO"]
[null,"M0HEM",325,"JOHN"]
[null,"YO6EX",326,"VASILE"]
[null,"IZ3FJJ",328,"LARRY"]
[null,"IZ1HKE",329,"ALESSANDRO"]
[null,"IZ1JJE",330,"LUCIA"]
[null,"IW1QN",331,"FEDERICO"]
[null,"IW3IKR",332,"MAURO"]
[null,"IZ2ELV",333,"EMANUELA"]
[null,"IZ2EXA",334,"FULVIO"]
[null,"IZ3LHX",335,"RAUL"]
[null,"I8URR",336,"ANTONIO"]
[null,"DL6ATM",337,"WILFRIED"]
[null,"IS0RDY",338,"MARIANO"]
[null,"DE3EAR",339,"HANS-JURGEN"]
[null,"IZ0IMU",340,"LAURO"]
[null,"IZ2BQD",341,"MARCO"]
[null,"IZ5IOX",342,"MICHELE"]
[null,"IK5DEZ",343,"MAURIZIO"]
[null,"IZ1MLV",344,"ERMANNO"]
[null,"IT9COG",345,"GIUSEPPE"]
[null,"IZ7MFF",347,"GIORGIO"]
[null,"DH2MS",348,"MANFRED"]
[null,"IZ0EIK",350,"ERICA"]
[null,"IZ5MOQ",351,"ALESSANDRO"]
[null,"IZ8IYX",352,"PASQUALE"]
[null,"IT9QPZ",353,"LEONARDO"]
[null,"IZ7LFR",354,"LEONARDO"]
[null,"IZ6ASI",355,"MARCO"]
[null,"IZ7FLP",356,"GIOVANNI"]
[null,"IK1RKN",357,"GINO"]
[null,"IW9DBE",358,"CLAUDIO"]
[null,"IW9HDM",359,"SANTI"]
[null,"IZ8IZA",360,"RAFFAELE"]
[null,"IZ7NDH",361,"MASSIMO"]
[null,"IZ6MPZ",362,"CRISTIANO"]
[null,"IZ0MXW",363,"FRANCESCO"]
[null,"I6PMV",364,"VITTORIO"]
[null,"CT1CZT",365,"ANTONIO"]
[null,"CT1EGH",366,"ANTONIO"]
[null,"IZ4AGI",367,"MAURIZIO"]
[null,"IZ6FUQ",368,"STEFANO"]
[null,"SV5DKL",369,"EFSTATHIOS"]
[null,"HE9SOL",370,"FRANZ"]
[null,"I2WEQ",371,"MARCO"]
[null,"I1UMK",372,"MARCO"]
[null,"I1NVW",373,"ANNA"]
[null,"IK1MDF",374,"LORENZO"]
[null,"IW0GBU",375,"GIOVANNI"]
[null,"IW0HOQ",377,"ALBERTO"]
[null,"IZ0IVZ",378,"ALFREDO"]
[null,"IS0YHV",379,"ANTONIO"]
[null,"IN3UFW",380,"MARCO"]
[null,"IZ8LHE",381,"MAURIZIO"]
[null,"IZ0GXD",382,"FRANCO"]
[null,"DL0ITU",383,"DARC"]
[null,"I1QOD",384,"ALBERTO"]
[null,"CS5NRA",385,"NUCLEO"]
[null,"IZ0IMR",387,"DOMENICO"]
[null,"IZ5MXZ",388,"LEONARDO"]
[null,"F6BNM",389,"STEPHANE"]
[null,"IW9ESK",390,"FRANCESCO"]
[null,"IK0QDI",392,"BENEDETTO"]
[null,"IW8RRB",394,"PAOLO"]
[null,"IK2UCF",396,"LORIS"]
[null,"2E0RPS",397,"RODRIGO"]
[null,"IZ2GIL",398,"GILBERTO"]
[null,"I2FGT",399,"GIULIO"]
[null,"IY1SP",400,"MUSEO"]
[null,"IW2NUY",401,"MARCO"]
[null,"IW7CFO",402,"IGNAZIO"]
[null,"IZ0HPX",403,"DINO"]
[null,"I1CMA",404,"MARCO"]
[null,"IZ5MMK",405,"MIRKO"]
[null,"I7IJU",406,"CARLO"]
[null,"IK3RBT",407,"ARISTIDE"]
[null,"IZ7WXI",408,"ERNESTO"]
[null,"IT9DQM",409,"GIOVANNI"]
[null,"IK7BPV",411,"RAFFAELE"]
[null,"IK7GIM",412,"EUPREMIO"]
[null,"IK1FXX",414,"MASSIMO"]
[null,"IW1FGY",415,"FRANCO"]
[null,"IW5EEC",416,"GIONNJ"]
[null,"R5GM",417,"YURI"]
[null,"IZ0EHW",418,"GAETANO"]
[null,"I0SNA",419,"ANTONIO"]
[null,"IK7MJA",421,"COSIMO"]
[null,"IK6BGJ",422,"GIUSTINO"]
[null,"DF4BV",424,"HEINZ"]
[null,"OH1NAVY",425,"CLUBSTATION"]
[null,"LY2MM",426,"ALBINAS"]
[null,"IZ4GAC",427,"STEFANO"]
[null,"SV1HEM",428,"GIORGOS"]
[null,"IZ7SGV",429,"GIOVANNI"]
[null,"IZ7NRJ",430,"RAFFAELE"]
[null,"IW3IBF",431,"STEFANO"]
[null,"IZ6FZS",432,"MIRKO"]
[null,"IK7ARK",433,"FRANCESCO"]
[null,"IW7CIV",434,"VINCENZO"]
[null,"IZ7MSJ",435,"LUIGI"]
[null,"IZ7NTJ",436,"ROCCO"]
[null,"IS0UWS",438,"FERNANDO"]
[null,"IK1AAS",439,"BRUNO"]
[null,"IZ7OJL",441,"ENZO"]
[null,"IS0MMM",442,"MARCO"]
[null,"IS0RVH",443,"PAOLO"]
[null,"IW1PRT",444,"ALBERTO"]
[null,"IK2OFR",446,"MASSIMO"]
[null,"IZ3NVC",447,"CARLO"]
[null,"IK0UAG",448,"FRANCESCO"]
[null,"IT9CPV",449,"NICOLÒ"]
[null,"II1ICS",450,"MARITELE LA SPEZIA"]
[null,"IT9HUV",451,"SALVATORE"]
[null,"IZ0DZM",452,"STEFANIA"]
[null,"I6CAD",453,"PASQUALINO"]
[null,"I1DWD",454,"DOMENICO"]
[null,"IQ2MI",455,"ARI MILANO"]
[null,"IW6PEN",457,"LORENZO"]
[null,"IT9VIH",458,"SALVATORE"]
[null,"IZ7NPH",459,"ONOFRIO"]
[null,"IS0MLS",460,"ANTONELLO"]
[null,"IS0FQK",461,"PATRIZIO"]
[null,"IT9ENJ",462,"SALVATORE"]
[null,"IS0PEV",464,"SERGIO"]
[null,"IZ0MJH",465,"MARY"]
[null,"IZ5OWZ",466,"MARIO"]
[null,"IZ1BZV",467,"GIORGIO"]
[null,"IZ1MHQ",468,"ANDREA"]
[null,"I1ULJ",469,"SALVATORE"]
[null,"IT9PBR",470,"PIERO"]
[null,"IZ1MHY",471,"ANDREA"]
[null,"IK1SLO",473,"GABRIELE"]
[null,"IK7EOT",475,"FRANCESO"]
[null,"IZ0AMM",477,"LORENZO"]
[null,"IK3OGI",478,"SALVATORE"]
[null,"IK1ZFO",479,"LUIGI"]
[null,"IZ3NYS",480,"ALESSANDRO"]
[null,"I0YQX",481,"ITALO"]
[null,"S53EO",483,"MILOS"]
[null,"IW3IMF",485,"DANIELE"]
[null,"IZ1PNY",486,"CARMELO"]
[null,"IW3GTM",487,"ROBERTO"]
[null,"IK2SON",488,"ANTONIO"]
[null,"IZ2HDJ",489,"GIANMICHELE"]
[null,"IK0IXI",490,"FABIO"]
[null,"IW9HMQ",492,"MAURO"]
[null,"IZ1PIO",493,"ANGELO"]
[null,"IT9LYF",494,"ACHILLE"]
[null,"IK1OOG",495,"GIORGIO"]
[null,"IZ8PPI",496,"LUIGI"]
[null,"I1YRL",497,"LUC"]
[null,"IK7EJT",498,"SIMPLICIO"]
[null,"I8MTQ",499,"PAOLO"]
[null,"II0IDP",500,"MARITELE CAGLIARI"]
[null,"DL5OCC",502,"KURT"]
[null,"IZ4HXT",503,"ANTONIO"]
[null,"IW0HAQ",504,"VITO"]
[null,"IQ4VU",505,"C.E.R. PIACENZA"]
[null,"IZ7AVR",506,"ALBERTO"]
[null,"IZ2QGJ",507,"CARLO"]
[null,"IT9RRU",508,"MAURIZIO"]
[null,"IW5EJP",510,"BRUNO"]
[null,"IZ0PAU",511,"MARCELLO"]
[null,"IZ2HAN",512,"FRANCO"]
[null,"IT9AWC",513,"SALVATORE"]
[null,"IZ0OVZ",516,"ANGELO"]
[null,"IZ8OFO",517,"CARLO"]
[null,"IZ3XGV",518,"EMILIO"]
[null,"IT9NVA",519,"VINCENZO"]
[null,"IT9NCO",520,"ANTONIO"]
[null,"IK8SOL",521,"FRANCESCO"]
[null,"IK0VSV",522,"MARCO"]
[null,"IT9APJ",523,"MICHELE"]
[null,"IZ7QFX",524,"ELIGIO"]
[null,"IZ0JOY",525,"ANGELO"]
[null,"IZ5QFV",526,"MARIO"]
[null,"IS0ISJ",527,"GIANCARLO"]
[null,"IS0EUJ",528,"FRANCO"]
[null,"IW9GUQ",529,"GIOVANNI"]
[null,"IZ0RGA",530,"MANUEL"]
[null,"I5OYY",531,"DANIO"]
[null,"IW5CEE",532,"STEFANO"]
[null,"CT5JZX",533,"PEDRO"]
[null,"IW2CNR",534,"GIORDANO"]
[null,"IK0PRH",535,"BIAGIO"]
[null,"IK0PHU",536,"ANTONELLO"]
[null,"IK7OFI",537,"GIUSEPPE"]
[null,"IZ1HBX",538,"LUCA"]
[null,"IN3EAV",539,"GIORGIO"]
[null,"IW8FEI",540,"ANTONIO"]
[null,"IZ0CHJ",541,"BRUNO"]
[null,"S52MZ",542,"MARIJAN"]
[null,"DL1HRN",543,"JUERGEN"]
[null,"HB9DOT",544,"DEAN"]
[null,"IZ1RNB",546,"GIOVANNI"]
[null,"IZ2KTD",547,"GIACOMO"]
[null,"IW0URG",548,"SIRO"]
[null,"II0IGU",550,"MARITELE GAETA"]
[null,"I1PIK",551,"PIETRO   "]
[null,"IK0LZR",552,"RAUL   "]
[null,"IS0UNG",553,"CASIMIRO   "]
[null,"IS0VSU",554,"FRANCO   "]
[null,"IZ3KVD",556,"GIORGIO "]
[null,"IS0SZU",557,"FRANCO "]
[null,"IZ4RTB",558,"MARIO "]
[null,"IS0AEL",559,"LUCA"]
[null,"IS0ILP",561,"MASSIMO"]
[null,"IW0UWL",562,"ENRICO"]
[null,"IS0BGL",563,"DANIELE"]
[null,"IZ0RIV",564,"FRANCESCO"]
[null,"IZ4BQV",565,"LUIGI"]
[null,"IZ1PMC",566,"MARCO"]
[null,"I5BYL",567,"FRANCO"]
[null,"IT9ECQ",568,"VINCENZO"]
[null,"IS0TOU",569,"LUISA"]
[null,"IS0UOI",570,"VALENTINA"]
[null,"IT9KKE",571,"CARLO"]
[null,"IT9JZK",572,"MARIO"]
[null,"IZ6OVE",573,"BRYAN"]
[null,"IT9GDS",574,"VITO"]
[null,"IT9JUP",575,"GIOVANNI"]
[null,"IZ3QLR",576,"GUGLIELMO"]
[null,"IW6CIE",577,"LORENZO"]
[null,"IW5ELA",579,"ALESSANDRO"]
[null,"IW8RUD",580,"GIUSEPPE"]
[null,"IZ1GZH",581,"NICOLA"]
[null,"IW1RIE",582,"FABIO"]
[null,"IW1RID",583,"ALESSANDRO"]
[null,"IZ1FGW",584,"GERMANO"]
[null,"I1RHL",585,"ANGELO"]
[null,"IZ1GZU",586,"ALBERTO"]
[null,"IK3YBX",587,"CORRADO"]
[null,"IK3RET",588,"TIZIANO"]
[null,"IQ0FM",590,"SEZIONE"]
[null,"IZ3APL",591,"GIUSEPPE"]
[null,"IW2JSX",593,"LUCA"]
[null,"IK3SSW",594,"ANTONIO"]
[null,"I5OBQ",595,"VITTORIO"]
[null,"IK1NPP",596,"PIERGIOVANNI"]
[null,"IZ5HEV",597,"MARCO"]
[null,"IW9GTD",598,"DOMENICO"]
[null,"IW1RMV",599,"FRANCESCO"]
[null,"II7ICT",600,"MARITELE TARANTO"]
[null,"IS0FDW",601,"ANGELO"]
[null,"IW4CXK",602,"ANDREA"]
[null,"IK6TOT",603,"GIORGIO"]
[null,"IK6TIL",604,"PASQUALE"]
[null,"IT9SKH",605,"AGOSTINO"]
[null,"IW9CTJ",606,"CONCETTO"]
[null,"IZ1DXV",607,"VINCENZO"]
[null,"I1FEQ",608,"FERDINANDO"]
[null,"IK1CCS",609,"FERRUCCIO"]
[null,"IZ1GWQ",610,"GIOVANNI"]
[null,"IS0UTA",611,"ANDREA"]
[null,"IT9BUW",612,"SALVATORE"]
[null,"IK2NUX",613,"FRANCESCO"]
[null,"IK6NUA",614,"CORRADO"]
[null,"IW3INQ",615,"ALESSANDRO"]
[null,"IZ1RFV",616,"PAOLO"]
[null,"IW6CJM",617,"SERAFINO"]
[null,"IT9LWP",618,"FABIO"]
[null,"IT9GQO",619,"GIUSEPPE"]
[null,"IM0GNF",621,"SALVATORE"]
[null,"IK6TOS",622,"GIOVANNI"]
[null,"IM0QMA",623,"FABRIZIO"]
[null,"IZ3QHB",624,"LUCA"]
[null,"IZ3ODB",625,"PIETRO"]
[null,"IW3IFZ",626,"BRUNO"]
[null,"IZ7QEB",628,"ANGELO"]
[null,"IW1PEL",630,"SILVIO"]
[null,"I2RGV",632,"GIOVANNI"]
[null,"IT9QQO",634,"CLAUDIO"]
[null,"IZ8SYB",635,"GERARDO"]
[null,"IV3BGV",636,"GIULIANO"]
[null,"IW1ECD",637,"GIAN"]
[null,"IW5BOI",638,"SEVERINO"]
[null,"IZ0OSI",639,"PATRIZIO"]
[null,"IZ7SID",640,"GIANFRANCO"]
[null,"IZ8IET",641,"VITTORIO"]
[null,"IK0WGD",642,"SANDRO"]
[null,"IZ8PPJ",643,"BRUNO"]
[null,"IZ1RFU",644,"ANTONIO"]
[null,"IW0GFS",645,"LEONE"]
[null,"F6FNG",646,"ALAIN"]
[null,"IZ0FUW",647,"MARCO"]
[null,"IV3IXN",648,"CLAUDIO"]
[null,"II9ICF",650,"MARITELE MESSINA"]
[null,"IT9DVZ",652,"ROBERTO"]
[null,"IT9JPL",653,"ANDREA"]
[null,"IT9RDZ",654,"DARIO"]
[null,"IZ1PLI",655,"GIAN"]
[null,"I8AWN",656,"ANTONIO"]
[null,"IZ1GDT",657,"ALBERTO"]
[null,"IK0JOS",658,"ROBERTO"]
[null,"IK1OXG",659,"UGO"]
[null,"WN6H",660,"MAURIZIO"]
[null,"IZ1RTD",661,"UGO"]
[null,"IZ8TFA",662,"GIUSEPPE"]
[null,"IK5PKF",663,"RAFFAELE"]
[null,"IV3BLS",664,"GIOVANNI"]
[null,"OH3GZ",665,"JUKKA"]
[null,"IZ0TBQ",666,"ANGELO"]
[null,"IK3JBP",668,"AMPELIO"]
[null,"IW3ILM",669,"MASSIMO"]
[null,"IV3ALF",670,"CLAUDIO"]
[null,"IZ0EUS",671,"MAURO"]
[null,"IK8CKG",672,"SALVATORE"]
[null,"IN3AEF",673,"MARIO"]
[null,"IK2AQZ",674,"OSCAR"]
[null,"I8PXT",675,"PIETRO"]
[null,"DO1TN",676,"RALF-MICHAEL"]
[null,"IV3BUC",677,"GIUSEPPE"]
[null,"IW3RUA",678,"PIETRO"]
[null,"IZ2SOB",679,"DAVIDE"]
[null,"IK5ZUJ",680,"VALTER"]
[null,"IK7IMQ",682,"FELICE"]
[null,"IZ3QCH",683,"ALBERTO"]
[null,"IZ8OGR",684,"TOMMY"]
[null,"IZ7LDC",685,"FABRIZIO"]
[null,"IZ3KJH",686,"ANGELO"]
[null,"IZ3SZQ",687,"MARINO"]
[null,"IK1GKH",688,"CARLO"]
[null,"IM0ZKX",689,"GIUSEPPE"]
[null,"IZ7UAJ",690,"PIERANTONIO"]
[null,"IW7EGJ",691,"LUCA"]
[null,"IZ8LLH",692,"LUCA"]
[null,"IK8SDA",693,"ALDO"]
[null,"IZ0CDM",694,"ROBERTO"]
[null,"IZ8PPH",695,"DANIELE"]
[null,"IK8OFW",696,"ANTONIO"]
[null,"IK7JGI",697,"ALFREDO"]
[null,"IZ8JBS",698,"NINO"]
[null,"II9IGJ",700,"MARITELE PALOMBARA"]
[null,"IW7EBB",701,"GIANLUCA "]
[null,"IZ0RFJ",703,"MAURIZIO"]
[null,"IZ1UKT",705,"IVANO"]
[null,"IW6PUY",706,"FRANCESCO"]
[null,"IZ8EYN",707,"MARIO"]
[null,"IZ8MEW",708,"PIERLUIGI"]
[null,"IK5GUO",709,"ENNIO"]
[null,"IZ7LFP",710,"VINCENZO"]
[null,"IZ0JSE",712,"ARCHIMEDE"]
[null,"IZ0CRQ",713,"NICOLA"]
[null,"IK8NFA",714,"SALVATORE"]
[null,"IK1VDQ",715,"GIANNI"]
[null,"IZ2FLX",716,"MAURO"]
[null,"IZ5AHB",717,"ALBERTO"]
[null,"IK1JFZ",718,"VINICIO"]
[null,"IZ5RID",719,"ROBERTO"]
[null,"IZ5TJB",720,"IZABELA"]
[null,"IZ5BRO",721,"ROSSELLA"]
[null,"IZ5PFQ",722,"CIRO"]
[null,"I5NIC",723,"GIANFRANCO"]
[null,"IS0ANU",724,"STEFANO"]
[null,"IZ8PRH",726,"MARIO"]
[null,"IK8WEJ",727,"FRANCESCO"]
[null,"IZ4UFG",728,"LUCA"]
[null,"IZ0AYM",729,"CARMELO"]
[null,"I1OOI",730,"CLAUDIO"]
[null,"IK7MXH",731,"MICHELE"]
[null,"IZ2QDQ",732,"GIANNI"]
[null,"IZ3JQQ",733,"GIUSEPPE"]
[null,"IW5CSJ",734,"ROBERTO"]
[null,"IZ0ROW",735,"GIANCARLO"]
[null,"IZ8QIN",736,"NICOLA"]
[null,"IK7BEF",737,"ANTONIO"]
[null,"I2MDI",738,"SILVANO"]
[null,"IZ1NFG",739,"ATTILIO"]
[null,"IT9OER",740,"GIANCARLO"]
[null,"I8YLW",741,"VINCENZO"]
[null,"IZ0IXN",742,"ANTONIO"]
[null,"IZ0ENB",743,"ANGELO"]
[null,"IV3TRK",744,"SILVIO"]
[null,"IK3GER",745,"PAOLO"]
[null,"IK1JTQ",747,"SERGIO"]
[null,"I3XMQ",748,"ADRIANO"]
[null,"IS0AFM",749,"SIMONE"]
[null,"II1IGG",750,"MARITELE GENOVA"]
[null,"IZ6ITZ",751,"FERNANDO "]
[null,"IW8EFO",752,"NUNZIO "]
[null,"IK8ACR",753,"MICHELANGELO "]
[null,"IK8URG",754,"GIUSEPPE "]
[null,"IZ5RIE",755,"MARCO "]
[null,"IZ4HVS",756,"PASQUALE "]
[null,"EB3WH",757,"JUAN"]
[null,"IK2PTB",758,"GIANLUIGI "]
[null,"IZ7UEE",760,"ASCANIO "]
[null,"IT9BNX",762,"NICOLA"]
[null,"IT9NJE",763,"EUGENIO"]
[null,"IK8CQH",764,"GIOVANNI"]
[null,"IZ5BSA",765,"ROBERTO"]
[null,"IZ8VGD",766,"ALESSIO"]
[null,"IT9UQW",767,"GIUSEPPE"]
[null,"I8IEM",768,"ALFREDO"]
[null,"I2MQP",769,"MARIO"]
[null,"IZ8EDJ",770,"ORESTE"]
[null,"IZ0BTV",772,"SIMONE"]
[null,"IZ7FMI",773,"GIOACCHINO"]
[null,"IK8VMU",774,"FRANCO"]
[null,"IK8LVZ",775,"GIOVANGIUSEPPE"]
[null,"I7LGM",776,"GELSOMINO"]
[null,"IZ7FMM",777,"ALESSANDRO"]
[null,"IZ7KDX",778,"ANTONIO"]
[null,"IW7EBA",779,"DAVIDE"]
[null,"IZ7HYA",780,"LUIGI"]
[null,"IZ7NLZ",781,"IVANO"]
[null,"IZ7FLQ",782,"FABIO"]
[null,"IW9GDC",783,"EMANUELE"]
[null,"IT9AQO",784,"JOSEPH"]
[null,"IK8OWF",785,"RAIMONDO"]
[null,"IZ0PVL",786,"LUIGI"]
[null,"IZ3VLK",787,"ONOFRIO"]
[null,"IW5CSQ",788,"STEFANO"]
[null,"IK8GDA",789,"ANDREA"]
[null,"IK6IWM",790,"WALTER"]
[null,"IV3ZXQ",794,"MAURIZIO"]
[null,"IW0GHW",795,"MASIMO"]
[null,"IZ0TTD",796,"UMBERTO"]
[null,"IK7TAB",797,"VALTER"]
[null,"I1YOD",798,"ANTONIO"]
[null,"IZ1FKB",799,"PIETRO"]
[null,"II8ICN",800,"MARITELE NAPOLI"]
[null,"IZ0NNI",802,"EMILIO"]
[null,"IW6ATQ",803,"GIANCARLO"]
[null,"IZ2OIF",804,"MICHAEL"]
[null,"IK6OCX",805,"CAMILLO"]
[null,"IZ0INX",806,"FILIPPO"]
[null,"IT9AZP",808,"ROBERTO"]
[null,"IZ2KLV",809,"GENEROSO"]
[null,"IZ0TTB",812,"DANIELA"]
[null,"IW7CRP",813,"LUIGI"]
[null,"IZ0PAW",814,"GABRIELE"]
[null,"IZ1DFE",815,"MARIO"]
[null,"IZ1VWD",816,"EMILIANO"]
[null,"IZ8IBB",817,"ANGELO"]
[null,"I5NXH",818,"FABRIZIO"]
[null,"IZ5KID",820,"MASSIMO"]
[null,"IK6VXR",821,"ANTONIO"]
[null,"I6TIH",822,"GIUSEPPE"]
[null,"IZ3VEH",823,"PAOLO"]
[null,"IZ8IQL",825,"ANTONIO"]
[null,"IZ0JGE",826,"LORENZO"]
[null,"IW3SGT",827,"ALESSANDRO"]
[null,"IW1DG",828,"GIUSEPPE"]
[null,"IK5JWQ",829,"GIUSEPPE"]
[null,"IZ0FCV",830,"FLAVIO"]
[null,"IZ0ORT",831,"FABRIZIO"]
[null,"IZ8UVQ",833,"MASSIMO"]
[null,"IW0HME",834,"MARCO "]
[null,"IZ0DIB",835,"BRUNO"]
[null,"IW0CGT",836,"CARLO"]
[null,"IZ0KBW",837,"LUIGI"]
[null,"IT9ULN",839,"ANGELO"]
[null,"IT9ING",840,"SAVERIO"]
[null,"IT9CNO",841,"GASPARE"]
[null,"IK5YZV",842,"ALBERTO"]
[null,"IZ2QPZ",843,"FULVIO"]
[null,"IT9CLY",844,"FRANCESCO"]
[null,"IZ3SEV",845,"WALTER"]
[null,"IW4ECL",846,"GIANCARLO"]
[null,"IZ3OCD",847,"MAURO"]
[null,"IZ5RKC",848,"ENRICO"]
[null,"IZ3VDA",849,"DONATO"]
[null,"II2IGTO",850,"SOMMERGIBILE TOTI"]
[null,"II3JD",851,"SOMMERGIBILE DANDOLO"]
[null,"II2EBE",852,"GOLETTA EBE"]
[null,"II1IAME",853,"NAVE MAESTRALE"]
[null,"IK1OUK",855,"BRUNO"]
[null,"IW0HPT",857,"GIUSEPPE"]
[null,"IZ2PDR",860,"PAOLO"]
[null,"IZ0VZR",861,"MAURIZIO"]
[null,"IW0GOA",862,"GABRIELE"]
[null,"IK8GYQ",863,"CARMINE"]
[null,"IZ4OUJ",864,"FERRUCCIO"]
[null,"IW5BNC",867,"RODOLFO"]
[null,"DL2HUC",868,"ERICH"]
[null,"I6ONE",869,"SERGIO"]
[null,"IZ0FKQ",870,"RENATO"]
[null,"IK0REM",871,"GIANCARLO"]
[null,"IZ3WPN",872,"ROBERTO"]
[null,"IZ1POA",873,"MICHELE"]
[null,"IK2UJF",874,"ERMANNO"]
[null,"IW2IGO",875,"FRANCESCO"]
[null,"IW9HPW",877,"MICHELE"]
[null,"IK6DIP",878,"CARLO"]
[null,"IT9JSL",879,"GIUSEPPE"]
[null,"IT9APL",880,"LETIZIA"]
[null,"OK1RO",881,"JAN"]
[null,"IW3BQK",882,"FRANCO"]
[null,"IK1FEG",883,"ROBERTO"]
[null,"IT9CLU",884,"SALVATORE"]
[null,"IT9TAP",885,"RICCARDO"]
[null,"IW2GPM",886,"STEFANO"]
[null,"IW0ELT",887,"DANILO"]
[null,"IT9JPW",889,"MARCO"]
[null,"IK6TIG",890,"NINO"]
[null,"IW3SSD",891,"ANDREA"]
[null,"IW4EPO",894,"PAOLO"]
[null,"IZ8XTO",895,"GENNARO"]
[null,"IK2YHL",896,"MARCO"]
[null,"IT9GCG",897,"VINCENZO"]
[null,"II2IBCI",898,"SS"]
[null,"II7IAJV",899,"NAVE"]
[null,"II1ADV",900,"NAVE"]
[null,"II9AS",901,"40°"]
[null,"IZ1CKN",902,"CHRISTIAN"]
[null,"IZ5RKW",903,"FULVIO"]
[null,"IZ5FXD",904,"FRANCO"]
[null,"IT9CNK",905,"GIUSEPPE"]
[null,"IW4CGR",906,"LUIGI"]
[null,"I2CZQ",907,"PIETRO"]
[null,"HB9EUY",908,"MARCO"]
[null,"IZ3KLF",909,"SILVANO"]
[null,"IK5IWU",910,"CARLO"]
[null,"IZ3KMY",911,"FERNANDO"]
[null,"IZ7VHF",913,"ROBERTO"]
[null,"IZ5HNI",915,"MAURIZIO"]
[null,"I3GHD",917,"MAURIZIO"]
[null,"I3FOM",918,"DOMENICO"]
[null,"IU7FKP",919,"GIANLUCA"]
[null,"IW1GHS",920,"ANTONIO"]
[null,"IZ5EBL",921,"RICCARDO"]
[null,"IW9FI",923,"CARMELO"]
[null,"IT9CGR",924,"ROSARIO"]
[null,"IK8YTF",925,"ALFREDO"]
[null,"IZ0TTE",926,"ANTONIO"]
[null,"IZ6WOJ",927,"CARLO"]
[null,"IZ8EGM",928,"AURELIO"]
[null,"IZ3VDU",929,"PAOLO"]
[null,"IZ3KRP",930,"IRENEO"]
[null,"IS0DZC",931,"MIRKO"]
[null,"IK2WAD",933,"GIOSUE'"]
[null,"I2XBO",934,"ADRIANO"]
[null,"IZ7XMX",935,"GIOVANNI"]
[null,"IK5AIO",936,"ILICO"]
[null,"IK1WKS",937,"CARLO"]
[null,"IZ1GVG",938,"GIACOMO"]
[null,"HB9ASZ",939,"BERNHARD"]
[null,"IK5LGM",940,"ANTONIO"]
[null,"IZ1CCF",941,"ALBERTO"]
[null,"IS0ANZ",942,"ALESANDRO"]
[null,"YO4DCF",943,"MARIN"]
[null,"IK5VLO",945,"PAOLO"]
[null,"IZ1TTR",946,"FILIPPO"]
[null,"IZ1BMI",947,"CRISTIAN"]
[null,"IK6REB",948,"SIMONE"]
[null,"I0PAB",949,"GIOVANNI"]
[null,"II0IDR",950,"MARITELE ROMA"]
[null,"II0SB",951,"SANTA BARBARA CAGLIARI"]
[null,"II3SB",952,"SANTA BARBARA VENEZIA"]
[null,"II3ICZ",953,"MARITELE VENEZIA"]
[null,"II2MM ",954,"GIORNATA DELLE FF.AA. (2010)"]
[null,"II0ICH",955,"MARITELE LA MADDALENA"]
[null,"II9IGA",956,"MARITELE TRAPANI "]
[null,"II0IASM",957,"NAVE CAVOUR (CIVITAVECCHIA)"]
[null,"II7IASM",957,"NAVE CAVOUR (TARANTO)"]
[null,"II1IALV",958,"SOMMERGIBILE L. DA VINCI"]
[null,"II1IARD",959,"NAVE ARDITO (LA SPEZIA)"]
[null,"II7IARD",959,"NAVE ARDITO (TARANTO)"]
[null,"II7IADU",960,"NAVE C. DUILIO (TARANTO)"]
[null,"II0IADU",960,"NAVE C. DUILIO (GAETA)"]
[null,"II2SB",961,"SANTA BARBARA COMO"]
[null,"II7IGPR",962,"SOMMERGIBILE G.PRINI "]
[null,"IA7MM",963,"150° ANNIVERSARIO MARINA MILITARE"]
[null,"II3MM",964,"151° ANNIVERSARIO MARINA MILITARE"]
[null,"IP1NAVY",965,"152° ANNIVERSARIO MARINA MILITARE"]
[null,"II6ICA",966,"MARITELE ANCONA"]
[null,"II7ICE",967,"MARITELE BRINDISI"]
[null,"II0ICV",968,"MARITELE TAVOLARA"]
[null,"II5IDK",969,"MARITELE LIVORNO  "]
[null,"II9IGB",970,"MARITELE PANTELLERIA"]
[null,"II1NS",971,"SOMMERGIBILE N. SAURO"]
[null,"II7IAOI",972,"NAVE BERGAMINI"]
[null,"IZ0WBO",973,"MARTINO"]
[null,"IT9YVO",974,"ANTONELLO"]
[null,"II7IADO",975,"NAVE DORIA"]
[null,"IZ3VEN",976,"DANIELE"]
[null,"II0IAFM",977,"NAVE F. MIMBELLI"]
[null,"IK1UGX",978,"ANGELO"]
[null,"IT9BLI",979,"CALOGERO"]
[null,"IZ4YEP",980,"ALEX"]
[null,"IK1PCC",981,"GIORGIO"]
[null,"IK1OXE",982,"MAURIZIO"]
[null,"IZ1RDO",983,"ANTONIO"]
[null,"IT9CAR",984,"STEFANO"]
[null,"IK5VLL",987,"ANDREA"]
[null,"IW5ABB",988,"MARCELLO"]
[null,"I5UIG",989,"GIANCARLO"]
[null,"I5VNJ",991,"GIOVANNI"]
[null,"IZ0KMC",992,"PASQUALE"]
[null,"IZ3ZMJ",994,"DARIO"]
[null,"IW5ACI",995,"FRANCO"]
[null,"HB9FGG",997,"ANTONINA"]
[null,"IZ0LKW",998,"CARLO"]
[null,"I1OGN",999,"NATALE"]
[null,"II7ARMI",1000,"10° ANNIVERSARIO ARMI - 1° RADUNO NAZIONALE A TARANTO"]
[null,"II0ELET",1001,"NAVE ELETTRA (SALARADIO) - MUSEO PT ROMA"]
[null,"IT9ASD",1002,"IVAN"]
[null,"IZ3ZFF",1004,"ANNA"]
[null,"IT9CLN",1005,"IVANO"]
[null,"IK7FPV",1006,"GIUSEPPE"]
[null,"IW1RLE",1007,"CARLO"]
[null,"IT9LOL",1009,"FRANCESCO"]
[null,"IZ4GOL",1010,"LUIGI"]
[null,"IK7FPU",1013,"ANTONIO"]
[null,"IT9BRY",1014,"AMERIGO"]
[null,"IZ5ZCC",1015,"MARCO"]
[null,"IZ7SLZ",1016,"DOMENICO"]
[null,"IW5AX",1019,"RICCARDO"]
[null,"HB9BQR",1020,"ROLAND"]
[null,"IU1AAH",1021,"ENZO"]
[null,"II7WARD",1022,"WORLD AMATEUR RADIO DAY"]
[null,"IZ0TKD",1024,"MASSIMO"]
[null,"IZ3LCK",1026,"GIULIO"]
[null,"IZ0WIG",1027,"MARCO"]
[null,"IT9OZS",1028,"SALVATORE"]
[null,"IT9ARZ",1029,"GIUSEPPE"]
[null,"IW9FNV",1030,"SALVATORE"]
[null,"II1IARU",1031,"NAVE AUDACE"]
[null,"IT9CBR",1033,"SALVATORE"]
[null,"II9IACR",1034,"NAVE PIETRO DE CRISTOFORO"]
[null,"IK6MNB",1035,"CLAUDIO"]
[null,"IU1DUK",1036,"GIOVANNI"]
[null,"AG6SH",1037,"MARK"]
[null,"II0IABJ",1038,"NAVE AMERIGO VESPUCCI"]
[null,"IV3FHS",1039,"ANTONIO"]
[null,"II9IAGM",1040,"SOMMERGIBILE MARCONI"]
[null,"IZ5GRS",1041,"ANDREA "]
[null,"IZ5ZEB",1042,"ELISA"]
[null,"IU5AJQ",1043,"MARCO"]
[null,"IZ0WPA",1044,"PAOLO"]
[null,"IZ4IPJ",1045,"ROSSANO"]
[null,"IZ0HQN",1046,"CRISTIANO"]
[null,"IW9FRB",1047,"FILIPPO"]
[null,"IT9DBF",1048,"ORAZIO"]
[null,"II9IADP",1049,"NAVE DURAND DE LA PENNE"]
[null,"II0IAML",1050,"NAVE IMPAVIDO"]
[null,"IT9NSL",1051,"PAOLO"]
[null,"IW1BCO",1052,"MARCO"]
[null,"IZ5CMG",1053,"ROBERTO"]
[null,"IZ7FMJ",1054,"LUCIANO"]
[null,"IZ1ELQ",1055,"PAOLO"]
[null,"IK8PXZ",1056,"VITTORIO"]
[null,"IZ7XVG",1058,"VITTORIO"]
[null,"IZ4WBA",1059,"DAVIDE"]
[null,"IZ7ATN",1060,"SIMON"]
[null,"IW4DXO",1061,"LORENZO"]
[null,"IW0HLE",1062,"GIANNI"]
[null,"IV3ALL",1063,"GAETANO"]
[null,"IV3AZV",1064,"MAURO"]
[null,"IV3BBZ",1065,"SERGIO"]
[null,"IV3BCA",1066,"PAOLO"]
[null,"IV3BCM",1067,"OSCAR"]
[null,"IV3CNZ",1068,"ANGELO"]
[null,"IV3DDN",1069,"STEFANO"]
[null,"IV3GFL",1070,"MARIA"]
[null,"IV3UTV",1071,"MAURIZIO"]
[null,"IZ5VVA",1072,"RICCARDO"]
[null,"IZ5XGQ",1073,"SALVATORE"]
[null,"IZ3YGA",1074,"PAOLO"]
[null,"IW0HQG",1075,"FERNANDO"]
[null,"IZ1HKK",1076,"CIRO"]
[null,"IK1NDD",1077,"CARLO"]
[null,"IZ1ASM",1078,"NICOLA"]
[null,"IU1BEL",1079,"GIANPAOLO"]
[null,"HZ1PS",1080,"PETER"]
[null,"IZ7QEN",1082,"TOMMASO"]
[null,"IZ1WJF",1083,"ROCCO"]
[null,"IZ7BRC",1084,"ANTONIO"]
[null,"RK3SWB",1085,"RYAZAN"]
[null,"IN3DQW",1086,"GIANCARLO"]
[null,"IS0DZM",1087,"STEFANO"]
[null,"DL2NAI",1088,"ISRAEL"]
[null,"OE1GTU",1089,"GERHARD"]
[null,"EA3ERD",1090,"ERNESTO"]
[null,"LZ3QC",1091,"IVAYLO"]
[null,"IZ1WEZ",1092,"GIORGIO"]
[null,"I0FTB",1093,"FRANCESCO"]
[null,"IT9DWF",1094,"DOMENICO"]
[null,"IZ8SWO",1095,"EVERALDO"]
[null,"IZ1VZG",1096,"MORENO"]
[null,"HA1XU",1097,"JANOS"]
[null,"IU5AVW",1098,"ANTONINO"]
[null,"IU1ATD",1099,"ANTONIO"]
[null,"II0ROMA",1100,"REGIA NAVE ROMA (SARDEGNA)"]
[null,"II1ROMA",1100,"REGIA NAVE ROMA (LA SPEZIA)"]
[null,"IR1OMA",1100,"REGIA NAVE ROMA (GENOVA"]
[null,"IR0MA",1100,"REGIA NAVE ROMA (ROMA)"]
[null,"II3ROMA",1100,"REGIA NAVE ROMA (MONFALCONE)"]
[null,"II7ROMA",1100,"REGIA NAVE ROMA (TARANTO)"]
[null,"II3CW",1101,"TELEGRAPHY HERITAGE HUMANITY"]
[null,"IK4YFQ",1102,"MARCELLO"]
[null,"IT9CFP",1103,"GIUSEPPE"]
[null,"IZ8GUN",1105,"GIOVANNI"]
[null,"IZ2ZPH",1106,"PAOLO"]
[null,"IT9IFI",1107,"SERGIO"]
[null,"IK1BUW",1109,"VINCENZO"]
[null,"II1IAST",1110,"NAVE TODARO"]
[null,"II7LDP",1111,"CENTENARIO DELLA NASCITA DI L.D.LA PENNE 1914-2014"]
[null,"IZ7JYG",1112,"NICOLA"]
[null,"IU2CBI",1114,"MARCO"]
[null,"IT9CEL",1116,"SANTO"]
[null,"IS0MNR",1117,"VALENTE"]
[null,"IS0HFE",1118,"SIMONE"]
[null,"IT9ZZO",1119,"DARIO"]
[null,"IU7BTO",1120,"GIUSEPPE"]
[null,"CT1ELF",1121,"FERNANDO"]
[null,"IZ8QIH",1122,"FERNANDO"]
[null,"IK0LWQ",1123,"ENRICO "]
[null,"IS0DZU",1124,"PAOLA"]
[null,"IT9DQT",1125,"ALEX "]
[null,"I1FX",1126,"FRANCESCO"]
[null,"IZ2CDR",1128,"ANGELO"]
[null,"IK7XNA",1130,"SERGIO"]
[null,"II0IAET",1131,"NAVE ETNA"]
[null,"IT9FBT",1132,"GIUSEPPE"]
[null,"IS0PAH",1133,"SALVATORE"]
[null,"IW1DSA",1134,"MARCO"]
[null,"II5IHLP",1135,"NAVE PLATANO"]
[null,"II1IBFL",1136,"MEMORIAL"]
[null,"IZ7ZKS",1138,"EMANUELE"]
[null,"IT9DGZ",1139,"PIETRO"]
[null,"II9IAOC",1140,"NAVE DANAIDE"]
[null,"II9IAIQ",1141,"NAVE GARIBALDI"]
[null,"IZ5IXJ",1142,"CARLO"]
[null,"IK3JLV",1143,"GIOVANNI"]
[null,"IZ4ZBN",1144,"URIA"]
[null,"IS0CDS",1145,"SALVATORE"]
[null,"IS0DRF",1146,"ANDREA"]
[null,"IZ2WYA",1147,"CHRISTIAN"]
[null,"IT9YBL",1148,"ANDREA"]
[null,"IZ1SCM",1149,"RODOLFO"]
[null,"IT9CVX",1150,"ROSARIO"]
[null,"I5SOD",1151,"GIANCARLO"]
[null,"IT9ELT",1152,"SALVATORE"]
[null,"IU8CEZ",1154,"GIUSEPPE"]
[null,"DK6LH",1155,"GUENTER"]
[null,"IZ0TWS",1156,"ANDREA"]
[null,"IW8ENL",1158,"FRANCESCO"]
[null,"IZ6ZFM",1159,"GILBERTO"]
[null,"IW3RWZ",1160,"GIUSEPPE"]
[null,"IS0BWM",1161,"CHRISTIAN"]
[null,"IS0FFR",1162,"LOREDANA"]
[null,"IZ1YCL",1163,"ANDREA"]
[null,"IZ7ZKC",1165,"FRANCESCO"]
[null,"IS0FEZ",1166,"MARIO"]
[null,"IS0QQA",1167,"FILIPPO"]
[null,"IU0BVT",1168,"ARMANDO"]
[null,"IU1DEI",1169,"PIETRO"]
[null,"IS0FFV",1170,"MASSIMILIANO"]
[null,"IS0DJA",1171,"LUCA"]
[null,"IS0EIR",1172,"STEFANO"]
[null,"IV3JWY",1173,"BRUNO"]
[null,"IS0AGY",1174,"AMPELIO"]
[null,"IW0CPJ",1176,"CLAUDIO"]
[null,"IZ8EZV",1179,"PIETRO"]
[null,"IS0CVH",1180,"MATTEO"]
[null,"IK0PRD",1182,"CLAUDIO"]
[null,"IZ8KZN",1183,"ANGELO"]
[null,"IZ5WSR",1184,"SALVATORE"]
[null,"PA9IGB",1185,"GIUSEPPE"]
[null,"IZ0YIM",1186,"ERMES"]
[null,"SQ5JBO",1187,"ARTUR"]
[null,"IW0GWT",1188,"PAOLO"]
[null,"IN3FOS",1189,"ALESSANDRA"]
[null,"IZ0RUS",1190,"VINCENZO"]
[null,"IZ0CUX",1191,"PAOLO"]
[null,"IZ3ZUS",1192,"ANDREA"]
[null,"II1IGJ",1193,"NAVE CITTÀ DI MILANO"]
[null,"IZ5MMB",1194,"PIER"]
[null,"IU8EDV",1196,"SALVATORE"]
[null,"IW2CTQ",1197,"MAURIZIO"]
[null,"IZ8FPF",1198,"ROBERTO"]
[null,"II0IABH",1200,"NAVE FOSCARI"]
[null,"IV3DBT",1201,"LUCIANO"]
[null,"I3SBB",1202,"GIUSEPPE"]
[null,"II1SAP",1203,"REGIO SOMMERGIBILE PROVANA"]
[null,"IZ6FCK",1204,"GIANPIERO"]
[null,"IZ5MXA",1205,"ROBERTO"]
[null,"I1PJK",1206,"MAURIZIO"]
[null,"IT9JQL",1209,"GIUSEPPE"]
[null,"II2IAOG",1210,"NAVE FENICE"]
[null,"IT9QEI",1211,"SALVATORE"]
[null,"II9IAVE",1212,"NAVE VISINTINI"]
[null,"II1IAMN",1213,"NAVE RIZZO"]
[null,"IK2ILG",1214,"FERMO"]
[null,"II1IAFC",1215,"SOMMERGIBILE DI COSSATO"]
[null,"IJ7TA",1216,"IS. SAN PIETRO DIST. M.M."]
[null,"IU7EHF",1217,"ALESSIO"]
[null,"IQ2IR",1218,"INSUBRIA RADIO CLUB"]
[null,"IS0FXJ",1219,"DAVIDE"]
[null,"II1BRT",1220,"BIAGI RED TENT"]
[null,"II0IADC",1221,"NAVE CORSARO II"]
[null,"IV3DSB",1222,"ROBERTO"]
[null,"IK7QBS",1223,"GIOVANNI"]
[null,"IV3FNR",1224,"GIANNINO"]
[null,"IK7FMQ",1225,"GABRIELE"]
[null,"OH2BFG",1226,"JARI"]
[null,"IS0FWY",1227,"SERGIO"]
[null,"IV3BSL",1228,"ALESSANDRA"]
[null,"IZ1ZYB",1230,"MARCO"]
[null,"IZ1WWX",1232,"MARCO"]
[null,"IW6CAE",1233,"SIMONE"]
[null,"IZ7XWO",1234,"FERDINANDO"]
[null,"IK3GLF",1235,"NICOLA"]
[null,"IZ3ZMC",1237,"LUIGI"]
[null,"IZ4EKI",1238,"TOMASO"]
[null,"IZ5UFM",1239,"ROBERTO"]
[null,"IS0FFQ",1240,"ELIO"]
[null,"IS0FKA",1241,"ALESSANDRO"]
[null,"IK7XTA",1242,"DOMENICO"]
[null,"IT9GCJ",1243,"FABIO"]
[null,"IS0BZR",1245,"FRANCO"]
[null,"DL1HBL",1246,"CLAUS"]
[null,"DL9LBR",1247,"REIMER"]
[null,"IN3EYM",1248,"FABIO"]
[null,"IU8ERA",1249,"ANTONIO"]
[null,"IS0XBS",1250,"BRUNO"]
[null,"IU2BYH",1251,"IVAN"]
[null,"IU4DEG",1252,"ANDREA"]
[null,"IM0DTF",1253,"AURELIO"]
[null,"IT9FTU",1255,"FRANCESCO"]
[null,"II1IYBJ",1258,"MV SAN GIUSEPPE DUE"]
[null,"II0IHMW",1259,"NAVE VIAREGGIO"]
[null,"IZ8FOM",1260,"GAETANO"]
[null,"IZ8EZU",1261,"LUIGI"]
[null,"IZ8EZL",1262,"CARMELO"]
[null,"IK8LMW",1263,"GIACOMO"]
[null,"IU0AZQ",1264,"PAOLO"]
[null,"IK8MJP",1265,"VINCENZO"]
[null,"IT9FDB",1266,"SALVATORE"]
[null,"IZ5RAQ",1267,"FABRIZIO"]
[null,"IV3DRZ",1269,"MAURO"]
[null,"IZ5JNS",1271,"MARCO"]
[null,"IU1CYA",1273,"GIUSEPPE"]
[null,"IZ1GKS",1274,"BERNARDO"]
[null,"ON8SGA",1275,"GENNARO"]
[null,"DL2AMM",1276,"MANFRED"]
[null,"I0YJT",1277,"ELIO"]
[null,"IU8CEE",1278,"FRANCESCO"]
[null,"IZ8XXE",1279,"DOMENICO"]
[null,"IZ8YAA",1281,"AURELIO"]
[null,"IK8GGD",1282,"NICOLINO"]
[null,"IU8CFX",1283,"YLENIA"]
[null,"IS0GGA",1285,"MASSIMO"]
[null,"IS0GFR",1286,"MAURIZIO"]
[null,"IU0GJB",1287,"PIETRO"]
[null,"IU8CPT",1288,"CARLO"]
[null,"IS0BYY",1289,"ROBERTO"]
[null,"IN3IJL",1290,"GIANCARLO"]
[null,"IW1RIK",1291,"MARCO"]
[null,"IT9GDY",1292,"SALVATORE"]
[null,"IT9AVP",1293,"GIUSEPPE"]
[null,"IU0AHC",1294,"FABRIZIO"]
[null,"IZ0MQV",1296,"BRUNO"]
[null,"IZ1TEJ",1297,"GIANLUCA"]
[null,"IZ1HLU",1298,"SANDRO"]
[null,"II8IHBC",1300,"NAVE VESUVIO"]
[null,"I1GEI",1301,"GIUSEPPE"]
[null,"IW5BBV",1302,"BRUNO"]
[null,"IS0DSW",1303,"STEFANO"]
[null,"IK5NTH",1304,"MAURO"]
[null,"IU8GUZ",1305,"AGOSTINO"]
[null,"IK7RVV",1306,"EMANUELE"]
[null,"IW7AZG",1307,"LORENZO"]
[null,"IK7QME",1308,"DOMENICO"]
[null,"IZ0HDB",1309,"DARIO"]
[null,"IU3GPT",1311,"CARMELO"]
[null,"YO2DGR",1312,"NICUSOR"]
[null,"IZ8VBI",1313,"GIUSEPPE"]
[null,"IU8CEC",1314,"CIRO"]
[null,"II0IATO",1315,"SMG TODARO"]
[null,"II5IACF",1316,"NAVE ALPINO"]
[null,"IU1FIV",1317,"CAMILLO"]
[null,"IK8SQQ",1319,"GIUSEPPE"]
[null,"IZ8SUI",1320,"GIANLUCA"]
[null,"IC8FJX",1321,"CAMILLO"]
[null,"IZ8XTX",1322,"ARTURO"]
[null,"IZ8GNR",1323,"CARLO"]
[null,"IU8EQF",1324,"SALVATORE"]
[null,"IZ8LFI",1325,"VINCENZO"]
[null,"IN3GIN",1329,"ROBERTO"]
[null,"II9IABA",1330,"NAVE ARETUSA"]
[null,"IU1FGO",1331,"JEAN RAUL"]
[null,"IS0UMP",1332,"ANTONELLO"]
[null,"II9IHPM",1333,"NAVE ALBATROS"]
[null,"M6GVF",1334,"GIOVANNI"]
[null,"IU4DTT",1335,"CLAUDIO"]
[null,"I3SY",1336,"SERGIO"]
[null,"IV3FYV",1337,"ERVINO"]
[null,"I6CXB",1338,"FABIO"]
[null,"IZ3LMO",1339,"BRUNO"]
[null,"I2EDZ",1341,"NADIR"]
[null,"IU2DOZ",1342,"GIUSEPPE"]
[null,"IU8BBO",1343,"CIRO"]
[null,"YU1WAT",1344,"VINKO"]
[null,"IU8FUL",1346,"RICCARDO"]
[null,"IU8FRE",1347,"LUCA"]
[null,"IU8CNF",1348,"PASQUALE"]
[null,"IU8CPQ",1349,"MARIO"]
[null,"IZ8ALA",1350,"GIANCARLO"]
[null,"IZ8IAZ",1351,"CARMELO"]
[null,"IZ8DFO",1352,"ALDO"]
[null,"IZ8LLQ",1354,"GENNARO"]
[null,"IW8ELS",1355,"MICHELE"]
[null,"IT9CLX",1356,"MIRKO"]
[null,"IK0JJX",1357,"PIETRO"]
[null,"IK8WEI",1358,"FRANCESCO"]
[null,"IU1HGN",1359,"ANGELO"]
[null,"IZ1HVD",1362,"DANILO"]
[null,"IN3GTV",1364,"ALISA"]
[null,"IU2ECV",1365,"MARCO"]
[null,"IU0CCE",1366,"LUCA"]
[null,"IS0HSL",1367,"STEFANO"]
[null,"IZ8KVW",1368,"GUGLIELMO"]
[null,"SY1BXD",1369,"CHIONIS"]
[null,"IS0CJV",1370,"ANTONIO SALVATORE"]
[null,"IT9GHW",1371,"CARMELO"]
[null,"IW5DAB",1372,"UBALDO"]
[null,"IU4HEV",1373,"STEFANO"]
[null,"IU8FRF",1374,"ANGELO"]
[null,"IK1YB",1375,"PAOLO"]
[null,"IN3SFL",1376,"LORENZO"]
[null,"IS0AIT",1377,"RALPH"]
[null,"IS0GOK",1378,"DANIELE"]
[null,"TA2DA",1379,"M. SABRI"]
[null,"SV8GGI",1380,"KONSTATINOS"]
[null,"SV1MF",1381,"MARKOS"]
[null,"IU8HYJ",1382,"ANTONIO"]
[null,"IK4FFS",1383,"GIUSEPPE"]
[null,"IU8EPK",1384,"FRANCESCO"]
[null,"IK0ZWZ",1385,"MASSIMO"]
[null,"IZ5CPK",1386,"RENATO"]
[null,"IT9BMO",1387,"CARMELO"]
[null,"IT9CSF",1388,"ANTONIO"]
[null,"IU8HVA",1389,"GIOVANNI"]
[null,"IZ8QNF",1390,"PAOLO"]
[null,"IZ8QMS",1391,"GENNARO"]
[null,"IK2ECC",1393,"CARLO"]
[null,"IZ0XZD",1394,"ANTONINO"]
[null,"IT9UDQ",1395,"NICOLO'"]
[null,"IK5ZAG",1396,"DANIELE"]
[null,"IS0HXK",1397,"GIUSEPPE"]
[null,"IT9FIP",1398,"GAETANO"]
[null,"IZ1VLS",1399,"ALESSANDRO"]
[null,"IU3CMD",1402,"FRANCO"]
[null,"HA5BI",1403,"ISTVAN"]
[null,"UR8GH",1404,"ANATOLY"]
[null,"IU2FZA",1405,"ELIO"]
[null,"IZ0KHE",1406,"DANTE"]
[null,"IZ4YGS",1407,"MATTEO"]
[null,"IZ7ATA",1408,"DAVIDE"]
[null,"PD1GB",1409,"GERRIT"]
[null,"SV1CDP",1410,"STEFANOS"]
[null,"IZ0RTT",1411,"GIOVANNI"]
[null,"IZ5VUT",1413,"GUIDO"]
[null,"IK2SYK",1414,"LUCA"]
[null,"IZ8ZAN",1415,"VITO"]
[null,"IT9GSW",1416,"CARMELO"]
[null,"IN3FXP",1417,"RENATO"]
[null,"IK4UPX",1418,"MAURIZIO"]
[null,"IK8TRJ",1419,"DOMENICO"]
[null,"IU1ITZ",1421,"PAOLO"]
[null,"IU8JCQ",1422,"MASSIMO"]
[null,"IØLYO",1423,"STEFANO"]
[null,"IK4XNB",1424,"MARCO SAVINO"]
[null,"IK1DPA",1425,"ROBERTO"]
[null,"IZ2ZQG",1426,"ANDREA"]
[null,"IWØDGQ",1427,"ROBERTO"]
[null,"IT9MZN",1428,"SALVATORE"]
[null,"IZ8DWS",1429,"ANTONIO"]
[null,"IUØJBC",1430,"ANGELO"]
[null,"IZ3PZI",1431,"GIULIANO"]
[null,"IK3RJQ",1433,"LUCIANO"]
[null,"IU6EVN",1435,"MARCO"]
[null,"IU8DIP",1438,"CARLO"]
[null,"IU1GAS",1439,"ALESSANDRO"]
[null,"IU8EOF",1440,"MAURO"]
[null,"IU5JRO",1441,"ALESSIO"]
[null,"IZ7NCT",1443,"ANTONIO"]
[null,"IU5BUY",1444,"BARTOLOMEO"]
[null,"IU0HMB",1445,"VLADISLAV"]
[null,"IU5HIV",1446,"MAURIZIO"]
[null,"IU7GSR",1449,"LUIGI"]
[null,"IZ5RKX",1450,"FILIPPO"]
[null,"IU2FGB",1452,"RICCARDO"]
[null,"IU1GQD",1453,"SABINO"]
[null,"IK7MXB",1454,"FRANCESCO"]
[null,"IS0ACU",1455,"CIRO"]
[null,"YV5OIE",1456,"ANTONIO"]
[null,"YV5JGO",1457,"FRANK"]
[null,"IW9CRG",1458,"ANTONIO A."]
[null,"IT9QAU",1459,"FERDINANDO"]
[null,"IK1VHX",1460,"BRUNO"]
[null,"YV5HNJ",1461,"RAMON"]
[null,"IK2AVH",1462,"GIANMPETRO"]
[null,"IW2EAB",1463,"ALESSANDRO"]
[null,"IU4FIS",1464,"PAOLO"]
[null,"IT9OUY",1465,"GIANFRANCESCO"]
[null,"IZ2FNH",1466,"ALBERTO"]
[null,"IQ8AY",1468,"SEZ.ARI CAMPOBASSO"]
[null,"IK8TMF",1469,"PAOLO"]

{"sheet":"info","index":2,"n_rows":1351,"n_cols":10,"rows_kept":1351,"cut":false,"hidden":false,"merged":[[106,5,106,13],[121,5,121,13],[110,5,110,13],[111,5,111,13],[112,5,112,13],[140,5,140,13],[147,5,147,13],[171,5,171,13],[168,5,168,13],[150,5,150,13],[151,5,151,13],[148,5,148,13],[128,5,128,13],[138,5,138,13],[141,5,141,13],[142,5,142,13],[164,5,164,13],[165,5,165,13],[166,5,166,13],[167,5,167,13],[137,5,137,13],[130,5,130,13],[131,5,131,13],[132,5,132,13],[133,5,133,13],[134,5,134,13],[135,5,135,13],[136,5,136,13],[188,5,188,13],[189,5,189,13],[190,5,190,13],[177,5,177,13],[178,5,178,13],[179,5,179,13],[180,5,180,13],[181,5,181,13],[182,5,182,13],[183,5,183,13],[184,5,184,13],[187,5,187,13],[69,5,69,13],[185,5,185,13],[186,5,186,13],[169,5,169,13],[158,5,158,13],[159,5,159,13],[160,5,160,13],[161,5,161,13],[162,5,162,13],[163,5,163,13],[152,5,152,13],[153,5,153,13],[154,5,154,13],[155,5,155,13],[156,5,156,13],[157,5,157,13],[118,5,118,13],[120,5,120,13],[122,5,122,13],[175,5,175,13],[176,5,176,13],[149,5,149,13],[170,5,170,13],[174,5,174,13],[44,5,44,13],[48,5,48,13],[23,5,23,13],[25,5,25,13],[27,5,27,13],[28,5,28,13],[35,5,35,13],[36,5,36,13],[38,5,38,13],[39,5,39,13],[46,5,46,13],[47,5,47,13],[20,5,20,13],[21,5,21,13],[30,5,30,13],[31,5,31,13],[32,5,32,13],[29,5,29,13],[40,5,40,13],[41,5,41,13],[42,5,42,13],[82,5,82,13],[83,5,83,13],[68,5,68,13],[74,5,74,13],[73,5,73,13],[72,5,72,13],[0,23,0,31],[1,23,1,31],[2,23,2,31],[3,23,3,31],[4,23,4,31],[5,23,5,31],[0,5,0,13],[1,5,1,13],[2,5,2,13],[3,5,3,13],[4,5,4,13],[5,5,5,13],[17,5,17,13],[14,5,14,13],[16,5,16,13],[33,5,33,13],[18,5,18,13],[19,5,19,13],[85,5,85,13],[102,5,102,13],[89,5,89,13],[107,5,107,13],[108,5,108,13],[109,5,109,13],[53,5,53,13],[54,5,54,13],[55,5,55,13],[56,5,56,13],[66,5,66,13],[67,5,67,13],[92,5,92,13],[58,5,58,13],[59,5,59,13],[60,5,60,13],[61,5,61,13],[62,5,62,13],[63,5,63,13],[57,5,57,13],[70,5,70,13],[64,5,64,13],[65,5,65,13],[81,5,81,13],[100,5,100,13],[84,5,84,13],[80,5,80,13],[143,5,143,13],[103,5,103,13],[125,5,125,13],[126,5,126,13],[127,5,127,13],[104,5,104,13],[117,5,117,13],[105,5,105,13],[123,5,123,13],[124,5,124,13],[119,5,119,13],[87,5,87,13],[88,5,88,13],[114,5,114,13],[115,5,115,13],[116,5,116,13],[95,5,95,13],[96,5,96,13],[101,5,101,13],[113,5,113,13],[86,5,86,13],[51,5,51,13],[7,9,7,11],[93,5,93,13],[15,5,15,13],[79,5,79,13],[144,5,144,13],[145,5,145,13],[146,5,146,13],[9,5,9,13],[11,5,11,13],[12,5,12,13],[49,5,49,13],[50,5,50,13],[52,5,52,13],[76,5,76,13],[78,5,78,13],[71,5,71,13],[90,5,90,13],[91,5,91,13],[75,5,75,13],[77,5,77,13],[97,5,97,13],[98,5,98,13],[99,5,99,13]]}
[null,null,null,null,null,"L I B E R A T O R I A"]
[null,null,null,null,null,"L' Autore dichiara che il file è privo di virus trojan e quant'altro a"]
[null,null,null,null,null,"carattere distruttivo, e declina ogni responsabilità per il suo uso."]
[null,null,null,null,null,"L'utilizzatore usa il file a suo rischio e pericolo e premendo il"]
[null,null,null,null,null," tasto LOG accetta,  assumendone la responsabilità, altrimenti "]
[null,null,null,null,null,"rifiuta chiudendo il file con i normali sistemi di Office o Window "]
[]
[null,null,null,null,null,null,null,null,null,"Regolamento"]
[]
[null,null,null,null,null,"REGIA MARINA NELLA GRANDE GUERRA"]
[]
[null,null,null,null,null,"Registro di Stazione"]
[null,null,null,null,null,"ISTRUZIONI"]
[]
[null,null,null,null,null,"La prima volta che viene aperto il file, essendo  il log vuoto, si aprirà il foglio con"]
[null,null,null,null,null,"la locandina della Regia Marina per poi passare direttamente a questo foglio,"]
[null,null,null,null,null,"affinchè leggiate la liberatoria e l'istruzioni per l'utilizzo del programma."]
[]
[null,null,null,null,null,"Una volta inserito il primo qso l'avviso non verrà piu' mostrato."]
[]
[null,null,null,null,null,"Prima di considerare il LOG in ogni sua colonna, vediamo cosa indicano le celle "]
[null,null,null,null,null,"e i tasti tutto intorno."]
[]
[null,null,null,null,null,"Freccia ROSSA-va direttamente alla prima cella utile del log  per inserire il qso."]
[]
[null,null,null,null,null,"Freccia VERDE-va direttamente al primo qso del log."]
[]
[null,null,null,null,null,"Lista membri ARMI - da questa cella ci si collega direttamente al sito ARMI"]
[null,null,null,null,null,"(Assoradiomarinai.it)  andando direttamente alla lista completa dei membri, in"]
[null,null,null,null,null,"questo modo si possono controllare immediatamente i dati dei nuovi soci."]
[]
[null,null,null,null,null,"Ultimo MI nel DB XXXX - in questa cella viene mostrato l'ultimo inserimento nel "]
[null,null,null,null,null,"database questo affinchè,  i soci iscritti successivamente, possono essere inseriti"]
[null,null,null,null,null,"manualmente e autonomamente con l'apposito tasto."]
[]
[null,null,null,null,null,"Totale Punti XXX - in questa cella viene mostrato il punteggio totale dei qso"]
[null,null,null,null,null,"inseriti, il quale si aggiorna automaticamente all'inserimento degli stessi."]
[]
[null,null,null,null,null,"NOMINATIVO - inserire il nominativo della stazione. Se è una stazione ARMI "]
[null,null,null,null,null,"automaticamente troveremo il relativo numero associativo  sotto a MI e se è"]
[null,null,null,null,null,"anche una stazione accreditata,  avremo la bi  o tri lettera sotto a St. Accred.ta"]
[null,null,null,null,null,"Mentre se non è una stazione ARMI troveremo le celle MI e St. Accr.ta vuote "]
[null,null,null,null,null,"e di seguito uscirà la scritta St. Indipendente o Swl (si riconosce dal Nominativo)"]
[]
[null,null,null,null,null,"OPERATORE - inserire il nome dell'operatore."]
[]
[null,null,null,null,null,"indirizzo e-mail - inserire l'indirizzo mail per ricevere il diploma in PDF."]
[]
[null,null,null,null,null,"inviare TOP HONOUR PLAQUE  a - di seguito nelle celle grigie andranno inseriti "]
[null,null,null,null,null,"i dati come richiesti dalla nota che esce attivando la cella. Quindi di seguito si avrà:"]
[null,null,null,null,null,"nome, cognome, via, città, nazione, 1note, 2note. Ricordarsi si segnare in nota1 o"]
[null,null,null,null,null,"nota2 gli estremi del versamento di € 35 per ricevere la TOP HONOUR PLAQUE."]
[]
[null,null,null,null,null,"BLOCCO (celle) - questo tasto serve a bloccare le colonne Data-Mode-Banda-"]
[null,null,null,null,null,"Frequenza che normalmente si conoscono prima di iniziare i collegamenti così, "]
[null,null,null,null,null,"inserendo il qso e spostandosi con il TAB ci si muoverà soltanto tra le celle"]
[null,null,null,null,null,"libere quale Call-Utc-Rst-Note (molto utile per gli attivatori) . "]
[null,null,null,null,null,"Quando il blocco cella è attivato , l'intestazione delle colonne sarà scritta in rosso."]
[]
[null,null,null,null,null,"SBLOCCO (celle) - questo tasto serve a sbloccare le celle delle colonne bloccate"]
[null,null,null,null,null,"con il relativo tasto."]
[null,null,null,null,null,"Quando lo sblocco cella è attivato l'intestazione delle colonne sarà scritta in bianco."]
[]
[null,null,null,null,null,"DUPLICATI - questo tasto serve ad individuare rapidamente eventuali duplicati."]
[null,null,null,null,null,"Da notare che inserendo un nominativo già a log  questo viene riconosciuto"]
[null,null,null,null,null,"come PROBABILE duplicato per cui tutte le celle saranno tratteggiate di rosso."]
[null,null,null,null,null,"Quindi si potrà fare una ricerca manuale, cercando stesso nominativo e stesso "]
[null,null,null,null,null,"modo o automaticamente con il tasto duplicati che individuarà i duplicati poiché"]
[null,null,null,null,null,"le cella si coloreranno in  rosso e verde quindi  le celle rosse saranno cancellate,"]
[null,null,null,null,null,"in quanto duplicati, mentre le celle  verdi saranno mantenute quale originale."]
[null,null,null,null,null,"Premendo il tasto duplicato uscirà l'avviso con le relative istruzioni."]
[]
[null,null,null,null,null,"INSERIRE SOCI in DB - questo tasto serve ad aggiornare il database inserendo"]
[null,null,null,null,null,"i nominativi mancante in modo tale da attribuire il punteggio in base al modo."]
[null,null,null,null,null,"Effettuando per esempio un qso con il nominativo AA1BBB, il quale non risulta"]
[null,null,null,null,null,"nel database quindi la cella a fianco resterà vuota e il punteggio sarà UNO, perché"]
[null,null,null,null,null,"la stazione viene riconosciuta come stazione INDIPENDENTE, ma il corrispondente"]
[null,null,null,null,null,"mi ha dato il suo MI e il nome quindi, non sarà una stazione Indipendente ma "]
[null,null,null,null,null,"una stazione che non è inserita nel database. Per cui o inserisco i dati nelle note"]
[null,null,null,null,null,"per poi aggiornare con calma il database ed ottenere il punteggio, oppure vado "]
[null,null,null,null,null,"subito all'inserimento. Cliccando il tasto si aprirà il database e in successione "]
[null,null,null,null,null,"tre finestre che mi diranno cosa inserire. Una volta inseriti i dati verrà riconosciuto "]
[null,null,null,null,null,"punteggio secondo il modo si aggiornerà il database con l'ultimo MI che andrà ad"]
[null,null,null,null,null,"inserirsi anche nella cella ultimo DB del LOG. ATTENZIONE: se inserendo il call"]
[null,null,null,null,null,"il bordo si tratteggia di rosso, questo indica che il call è già presente, la stessa"]
[null,null,null,null,null,"vale per il numero assoc.così da non inserire dati errati."]
[]
[null,null,null,null,null,"DATABASE - questo tasto apre il database di tutti i Soci ARMI il database sarà "]
[null,null,null,null,null,"aggiornato dalla stessa stazione come spiegato in precedente. Da notare che "]
[null,null,null,null,null,"le stazioni ARMI accreditate hanno la bi/tri lettera al posto del numero che è stato"]
[null,null,null,null,null,"spostato nella colonna n°."]
[]
[null,null,null,null,null,"INFO - questo tasto apre questo foglio che contiene tutte le istruzioni e il tasto"]
[null,null,null,null,null,"per andare al foglio Log e il collegamento al Regolamento."]
[]
[null,null,null,null,null,"INSERIMENTO DATI - qui sono inseriti tutti i nominativi delle stazioni che danno "]
[null,null,null,null,null,"punti con a fianco il relativo puntegggio presi dal sito ARMI. Le celle sono"]
[null,null,null,null,null,"bloccate ma in caso che si dovesse aggiungere una o piu' stazioni basta"]
[null,null,null,null,null,"sbloccare le celle con la password fornita inserire nominativo e punteggio e"]
[null,null,null,null,null,"rimettere la password."]
[]
[null,null,null,null,null,"Vediamo ora il \"LOG\" in ogni sua colonna:"]
[null,null,null,null,null,"QSO# : (colonna BLOCCATA). Automaticamente apparirà il numero progressivo"]
[null,null,null,null,null,"del QSO inserendo il CALL nella colonna Nominativo;"]
[null,null,null,null,null,"CALL: nominativo della stazione collegata solo e soltanto il semplice nominativo"]
[null,null,null,null,null,"senza attributi vicino tipo /P, /qrp ecc.ecc. (non verrebbero trovati nel DB)."]
[null,null,null,null,null,"ATTENZIONE : non ci devono essere celle vuote tra un call e l'altro!!!!!!!"]
[null,null,null,null,null,"Si potranno avere 3 casi:"]
[null,null,null,null,null,"1° caso il nominativo è nel database quindi nella colonna N. Ass. Bi/Tri lettere"]
[null,null,null,null,null,"avremo, se è un socio armi, il numero associativo mentre se è una stazione"]
[null,null,null,null,null,"accreditata, la bi o trilettera assegnate mentre nella colonna nome operatore il"]
[null,null,null,null,null,"relativo nome, tutto automaticamente. Logicamente anche la stazione superjolly "]
[null,null,null,null,null,"avrà la trilettera e il punteggio automaticamente assegnato."]
[null,null,null,null,null,"2° caso il nominativo non è nel database quindi le celle celle di cui sopra "]
[null,null,null,null,null,"resteranno vuote ma avremo 1pt nella colonna come stazione indipendente."]
[null,null,null,null,null,"3° caso il nominativo non è nel database quindi come il 2° caso soltanto il "]
[null,null,null,null,null,"corrispondente mi ha dato un MIXXXX e il nome quindi inserirò questi due dati"]
[null,null,null,null,null,"provvisoriamente nelle note poi prima di chiudere inseriro' i dati nel DB."]
[null,null,null,null,null,"DATA: inserirla nel formato GGMMAAAA. Alla chiusura automaticamente verranno"]
[null,null,null,null,null,"messe le barre di separazione .(si raccomanda il rispetto del formato!!!)"]
[null,null,null,null,null,"ORA:nel formato HHMM. Alla chiusura verranno inseriti i due punti in automatico."]
[null,null,null,null,null,"MODO:  finestra a discesa per scegliere il modo operativo;"]
[null,null,null,null,null,"PUNTI: (colonna BLOCCATA) assegnazione automatica del punteggio in base"]
[null,null,null,null,null,"al nominativo e al modo inserito."]
[null,null,null,null,null,"BANDA:  finestra a discesa per scegliere la banda operativa."]
[null,null,null,null,null,"FREQUENZA:  inserire la frequenza di lavoro volendo anche in decimali."]
[null,null,null,null,null,"RST: inserire il solo rapporto ."]
[null,null,null,null,null,"NOME OPERATORE (colonna BLOCCATA) in automatico inserendo il call."]
[null,null,null,null,null,"NOTE: inserimento di eventuale nota relativa al QSO effettuato."]
[]
[null,null,null,null,null,"NOTA IMPORTANTE - NOTA IMPORTANTE - NOTA IMPORTANTE"]
[null,null,null,null,null,"Tutti i collegamenti effettuati nel periodo dei contest navali COASTAL RADIO"]
[null,null,null,null,null,"STATION e SHIP RADIO STATION non valgono per cui inserendo un qso "]
[null,null,null,null,null,"nei relativi periodi sarete avvisati poiché sia il call  che la data diventeranno "]
[null,null,null,null,null,"rossi, mentre nelle note uscira la scritta \"valido solo per  Coastal Radio o"]
[null,null,null,null,null,"Ship Radio\" quindi il qso o i qso dovranno essere cancellati scrivendo"]
[null,null,null,null,null,"meno o trattino (-) al posto del call (la colonna non deve avere celle vuote)"]
[null,null,null,null,null,"IL RICONOSCIMENTO AVVERRA' SOLO "]
[null,null,null,null,null,"DOPO AVER CHIUSO E RIAPERTO IL FILE"]
[]
[null,null,null,null,null,"A T T E N Z I O N E "]
[null,null,null,null,null,"Muoversi con il tasto \"TAB\" usando solo le celle libere e saltando le bloccate."]
[]
[null,null,null,null,null,"Anche se vi è stata data la password di accesso ai fogli NON USATELA"]
[null,null,null,null,null,"potreste rovinare qualche cella sensibile per cui il file diventa inservibile."]
[]
[null,null,null,null,null,"Non vi preoccupate di scrivere maiuscolo o minuscolo poiché le colonne sono "]
[null,null,null,null,null,"state già programmate in anticipo e non potete cambiarle."]
[]
[null,null,null,null,null,"Una volta finito il diploma fatene una copia e rinominatela con il vostro nominativo"]
[null,null,null,null,null,"di stazione e il nome del diploma."]
[]
[null,null,null,null,null,"Sarà cura del Manager lavorare il \"LOG\" controllando tutti i dati e il punteggio."]
[]
[null,null,null,null,null,"Logicamente il punteggio da voi ottenuto dal vostro log sarà solo e soltando utile"]
[null,null,null,null,null,"per la vostra conoscenza, restando valido a tutti gli effetti il punteggio inserito"]
[null,null,null,null,null,"dal Manager nella relativa eventuale graduatoria."]
[]
[null,null,null,null,null,"Le stazioni italiane che lo desiderano, potranno inviare il contributo per la"]
[null,null,null,null,null,"Top Honour Plaque tramite le seguenti modalità."]
[]
[null,null,null,null,null,"- via “POSTEPAY” 4023600645946759 intestata a Mattei Alberto;"]
[]
[null,null,null,null,null,"- BONIFICO BANCARIO: IBAN IT46V0200884625000103416422 c/o UNICREDIT "]
[null,null,null,null,null,"Filiale di Augusta."]
[]
[null,null,null,null,null,"Il Diploma andrà richiesto all’Award manager nazionale :"]
[]
[null,null,null,null,null,"IT9MRM Alberto Mattei - Via E. Millo, 20 - 96011 Augusta (SR) - Italy -"]
[]
[null,null,null,null,null,"email: info@assoradiomarinai.it\nemail: info@assoradiomarinai.it\n"]
[]
[]
[]
[]
[]
[]
[]
[]
[]
[null,null,null,null,null,"Clicca per donare"]
[]
[]
[]
[]
[null,null,null,null,null,"G R A Z I E !!!!"]
[]
[]
[]
[]
[]
[]
[]
[]
[]
[]
[]
[]
[]
[]
[]
[]
[]
[]
[]
[]
[]
[]
[]
[]
[]
[]
[]
[]
[]
[]
[]
[]
[]
[]
[]
[]
[]
[]
[]
[]
[]
[]
[]
[]
[]
[]
[]
[]
[]
[]
[]
[]
[]
[]
[]
[]
[]
[]
[]
[]
[]
[]
[]
[]
[]
[]
[]
[]
[]
[]
[]
[]
[]
[]
[]
[]
[]
[]
[]
[]
[]
[]
[]
[]
[]
[]
[]
[]
[]
[]
[]
[]
[]
[]
[]
[]
[]
[]
[]
[]
[]
[]
[]
[]
[]
[]
[]
[]
[]
[]
[]
[]
[]
[]
[]
[]
[]
[]
[]
[]
[]
[]
[]
[]
[]
[]
[]
[]
[]
[]
[]
[]
[]
[]
[]
[]
[]
[]
[]
[]
[]
[]
[]
[]
[]
[]
[]
[]
[]
[]
[]
[]
[]
[]
[]
[]
[]
[]
[]
[]
[]
[]
[]
[]
[]
[]
[]
[]
[]
[]
[]
[]
[]
[]
[]
[]
[]
[]
[]
[]
[]
[]
[]
[]
[]
[]
[]
[]
[]
[]
[]
[]
[]
[]
[]
[]
[]
[]
[]
[]
[]
[]
[]
[]
[]
[]
[]
[]
[]
[]
[]
[]
[]
[]
[]
[]
[]
[]
[]
[]
[]
[]
[]
[]
[]
[]
[]
[]
[]
[]
[]
[]
[]
[]
[]
[]
[]
[]
[]
[]
[]
[]
[]
[]
[]
[]
[]
[]
[]
[]
[]
[]
[]
[]
[]
[]
[]
[]
[]
[]
[]
[]
[]
[]
[]
[]
[]
[]
[]
[]
[]
[]
[]
[]
[]
[]
[]
[]
[]
[]
[]
[]
[]
[]
[]
[]
[]
[]
[]
[]
[]
[]
[]
[]
[]
[]
[]
[]
[]
[]
[]
[]
[]
[]
[]
[]
[]
[]
[]
[]
[]
[]
[]
[]
[]
[]
[]
[]
[]
[]
[]
[]
[]
[]
[]
[]
[]
[]
[]
[]
[]
[]
[]
[]
[]
[]
[]
[]
[]
[]
[]
[]
[]
[]
[]
[]
[]
[]
[]
[]
[]
[]
[]
[]
[]
[]
[]
[]
[]
[]
[]
[]
[]
[]
[]
[]
[]
[]
[]
[]
[]
[]
[]
[]
[]
[]
[]
[]
[]
[]
[]
[]
[]
[]
[]
[]
[]
[]
[]
[]
[]
[]
[]
[]
[]
[]
[]
[]
[]
[]
[]
[]
[]
[]
[]
[]
[]
[]
[]
[]
[]
[]
[]
[]
[]
[]
[]
[]
[]
[]
[]
[]
[]
[]
[]
[]
[]
[]
[]
[]
[]
[]
[]
[]
[]
[]
[]
[]
[]
[]
[]
[]
[]
[]
[]
[]
[]
[]
[]
[]
[]
[]
[]
[]
[]
[]
[]
[]
[]
[]
[]
[]
[]
[]
[]
[]
[]
[]
[]
[]
[]
[]
[]
[]
[]
[]
[]
[]
[]
[]
[]
[]
[]
[]
[]
[]
[]
[]
[]
[]
[]
[]
[]
[]
[]
[]
[]
[]
[]
[]
[]
[]
[]
[]
[]
[]
[]
[]
[]
[]
[]
[]
[]
[]
[]
[]
[]
[]
[]
[]
[]
[]
[]
[]
[]
[]
[]
[]
[]
[]
[]
[]
[]
[]
[]
[]
[]
[]
[]
[]
[]
[]
[]
[]
[]
[]
[]
[]
[]
[]
[]
[]
[]
[]
[]
[]
[]
[]
[]
[]
[]
[]
[]
[]
[]
[]
[]
[]
[]
[]
[]
[]
[]
[]
[]
[]
[]
[]
[]
[]
[]
[]
[]
[]
[]
[]
[]
[]
[]
[]
[]
[]
[]
[]
[]
[]
[]
[]
[]
[]
[]
[]
[]
[]
[]
[]
[]
[]
[]
[]
[]
[]
[]
[]
[]
[]
[]
[]
[]
[]
[]
[]
[]
[]
[]
[]
[]
[]
[]
[]
[]
[]
[]
[]
[]
[]
[]
[]
[]
[]
[]
[]
[]
[]
[]
[]
[]
[]
[]
[]
[]
[]
[]
[]
[]
[]
[]
[]
[]
[]
[]
[]
[]
[]
[]
[]
[]
[]
[]
[]
[]
[]
[]
[]
[]
[]
[]
[]
[]
[]
[]
[]
[]
[]
[]
[]
[]
[]
[]
[]
[]
[]
[]
[]
[]
[]
[]
[]
[]
[]
[]
[]
[]
[]
[]
[]
[]
[]
[]
[]
[]
[]
[]
[]
[]
[]
[]
[]
[]
[]
[]
[]
[]
[]
[]
[]
[]
[]
[]
[]
[]
[]
[]
[]
[]
[]
[]
[]
[]
[]
[]
[]
[]
[]
[]
[]
[]
[]
[]
[]
[]
[]
[]
[]
[]
[]
[]
[]
[]
[]
[]
[]
[]
[]
[]
[]
[]
[]
[]
[]
[]
[]
[]
[]
[]
[]
[]
[]
[]
[]
[]
[]
[]
[]
[]
[]
[]
[]
[]
[]
[]
[]
[]
[]
[]
[]
[]
[]
[]
[]
[]
[]
[]
[]
[]
[]
[]
[]
[]
[]
[]
[]
[]
[]
[]
[]
[]
[]
[]
[]
[]
[]
[]
[]
[]
[]
[]
[]
[]
[]
[]
[]
[]
[]
[]
[]
[]
[]
[]
[]
[]
[]
[]
[]
[]
[]
[]
[]
[]
[]
[]
[]
[]
[]
[]
[]
[]
[]
[]
[]
[]
[]
[]
[]
[]
[]
[]
[]
[]
[]
[]
[]
[]
[]
[]
[]
[]
[]
[]
[]
[]
[]
[]
[]
[]
[]
[]
[]
[]
[]
[]
[]
[]
[]
[]
[]
[]
[]
[]
[]
[]
[]
[]
[]
[]
[]
[]
[]
[]
[]
[]
[]
[]
[]
[]
[]
[]
[]
[]
[]
[]
[]
[]
[]
[]
[]
[]
[]
[]
[]
[]
[]
[]
[]
[]
[]
[]
[]
[]
[]
[]
[]
[]
[]
[]
[]
[]
[]
[]
[]
[]
[]
[]
[]
[]
[]
[]
[]
[]
[]
[]
[]
[]
[]
[]
[]
[]
[]
[]
[]
[]
[]
[]
[]
[]
[]
[]
[]
[]
[]
[]
[]
[]
[]
[]
[]
[]
[]
[]
[]
[]
[]
[]
[]
[]
[]
[]
[]
[]
[]
[]
[]
[]
[]
[]
[]
[]
[]
[]
[]
[]
[]
[]
[]
[]
[]
[]
[]
[]
[]
[]
[]
[]
[]
[]
[]
[]
[]
[]
[]
[]
[]
[]
[]
[]
[]
[]
[]
[]
[]
[]
[]
[]
[]
[]
[]
[]
[]
[]
[]
[]
[]
[]
[]
[]
[]
[]
[]
[]
[]
[]
[]
[]
[]
[]
[]
[]
[]
[]
[]
[]
[]
[]
[]
[]
[]
[]
[]
[]
[]
[]
[]
[]
[]
[]
[]
[]
[]
[]
[]
[]
[]
[]
[]
[]
[]
[]
[]
[]
[]
[]
[]
[]
[]
[]
[]
[]
[]
[]
[]
[]
[]
[]
[]
[]
[]
[]
[]
[]
[]
[]
[]
[]
[]
[]
[]
[]
[]
[]
[]
[]
[]
[]
[]
[]
[]
[]
[]
[]
[]
[]
[]
[]
[]
[]
[]
[]
[]
[]
[]
[]
[]
[]
[]
[]
[]
[]
[]
[]
[]
[]
[]
[]
[]
[null,"YV5HNJ",1461,"RAMON"]

{"sheet":"JPG","index":3,"n_rows":0,"n_cols":0,"rows_kept":0,"cut":false,"hidden":false,"merged":[]}